{"text_format":"1","workbook":"xlsx","n_sheets":2,"sheets":["159","muni"],"not_rendered":{"charts":0,"images":0,"macros":1,"external_links":0,"defined_names":1,"comments":1,"pivot_tables":0},"unopened":[],"bounds":{"document_bytes":16777216,"sheet_cells":100000,"rows_first":2000,"rows_last":500,"rows_between":2000,"halvings":0,"cell_chars":16384,"cell_head_chars":4096},"cells_cut":0,"cells_raw":0,"read":"whole","date_system":"1900"}

{"sheet":"159","index":0,"n_rows":45,"n_cols":19,"rows_kept":45,"cut":false,"hidden":false,"merged":[[1,10,1,11],[13,11,13,15],[2,14,2,15],[14,12,14,13],[16,12,16,13],[7,13,7,16],[3,10,3,16],[4,10,4,16],[10,12,10,13],[12,12,12,13],[30,14,30,16],[18,12,18,13],[11,11,11,15],[34,10,34,14],[17,12,17,13],[22,10,22,16],[20,10,20,16],[39,10,39,13],[31,10,31,12],[25,14,25,16],[24,10,24,12],[26,10,26,12],[28,10,28,12],[27,10,27,12],[29,10,29,12],[30,10,30,12],[27,14,27,16],[29,14,29,16],[31,14,31,16],[25,10,25,12],[28,14,28,16],[26,14,26,16],[24,14,24,16]]}
[{"$f":"MID(CELL(\"filename\",A1),FIND(\"]\",CELL(\"filename\",A1))+1,256)","v":"159"},{"$f":"ROW()","v":1},{"$f":"INDEX(muni!B1:B588,L3,1)","v":"0001"},{"$f":"INDEX(muni!P1:P16,L9,1)","v":2022},159,"file","res",{"$f":"\"Attached is the 159. \nI also made sure to attach the resolution to this email. \nI, \"&O25&\" -Chief Financial Officer of \"&N8&\", Certify that all information included in this email is accurate.\"","v":"Attached is the 159. \nI also made sure to attach the resolution to this email. \nI,  -Chief Financial Officer of 0001 Select your municipality or county, Certify that all information included in this email is accurate."},{"$f":"M7","v":"00:00:00"},{"$f":"P7","v":0},null,null,"Resolution File Name:",{"$f":"L8&\"_87r_\"&TEXT(M7, \"mm-dd-yyyy\")&\"_\"&P7&\".pdf \"","v":"0001_87r_01-00-1900_.pdf "}]
[{"$f":"MID(CELL(\"filename\",A2),FIND(\"]\",CELL(\"filename\",A2))+1,256)","v":"159"},{"$f":"ROW()","v":2},{"$f":"INDEX(muni!B1:B588,L3,1)","v":"0001"},{"$f":"INDEX(muni!P1:P16,L9,1)","v":2022},159,"file","name",{"$f":"\"mailto:159_lgs@dca.nj.gov?subject=\"&Q1&\"&body= \"&O25&\" - CFO, Certifies that all information in this email is accurate.%0A%0AAttached \"&Q1&\" and \"&N1&\".\"","v":"mailto:159_lgs@dca.nj.gov?subject=&body=  - CFO, Certifies that all information in this email is accurate.%0A%0AAttached  and 0001_87r_01-00-1900_.pdf ."},{"$f":"M7","v":"00:00:00"},{"$f":"P7","v":0},{"$f":"HYPERLINK(H2,\"Email the 159 if not using Outlook\")","v":"Email the 159 if not using Outlook"},null,"159 File Name:",{"$f":"L8&\"_159_\"&TEXT(M7, \"mm-dd-yyyy\")&\"_\"&P7&\".xlsm \"","v":"0001_159_01-00-1900_.xlsm "}]
[{"$f":"MID(CELL(\"filename\",A3),FIND(\"]\",CELL(\"filename\",A3))+1,256)","v":"159"},{"$f":"ROW()","v":3},{"$f":"INDEX(muni!B1:B588,L3,1)","v":"0001"},{"$f":"INDEX(muni!P1:P16,L9,1)","v":2022},159,null,null,{"$f":"O25&\" - CFO, \n\nThe attached Chapter 159 Insertion of Special Item or Revenue and/or Chapter 85 Text & Title resolution , File \"&N1&\", has not been approved by the Director of the Division of Local Government Services.\nPlease resolve the following issues:\"","v":" - CFO, \n\nThe attached Chapter 159 Insertion of Special Item or Revenue and/or Chapter 85 Text & Title resolution , File 0001_87r_01-00-1900_.pdf , has not been approved by the Director of the Division of Local Government Services.\nPlease resolve the following issues:"},{"$f":"M7","v":"00:00:00"},{"$f":"P7","v":0},null,1,null,null,"Select your local Government unit by pressing the triangle",null,null,null," "]
["159",{"$f":"ROW()","v":4},{"$f":"INDEX(muni!B1:B588,L3,1)","v":"0001"},{"$f":"INDEX(muni!P1:P16,L9,1)","v":2022},159,null,null,{"$f":"O25&\" - CFO, \n\nThe attached Chapter 159 Insertion of Special Item or Revenue and/or Chapter 85 Text & Title resolution , File \"&N2&\", has been approved by the Director of the Division of Local Government Services.\"","v":" - CFO, \n\nThe attached Chapter 159 Insertion of Special Item or Revenue and/or Chapter 85 Text & Title resolution , File 0001_159_01-00-1900_.xlsm , has been approved by the Director of the Division of Local Government Services."},{"$f":"M7","v":"00:00:00"},{"$f":"P7","v":0},"Budget Amendment Certification Form, Appropriations Offset by Revenue"]
["159",{"$f":"ROW()","v":5},{"$f":"INDEX(muni!B1:B588,L3,1)","v":"0001"},{"$f":"INDEX(muni!P1:P16,L9,1)","v":2022},159,null,null,{"$f":"O25&\" - CFO, \nPlease be advised that you request for approval for and Insertion of an Special Item of Revenue (Chapter 159) Resolution or Change of Title and Text resolution was denied by the Director of Local Government Services for the following reason: \"","v":" - CFO, \nPlease be advised that you request for approval for and Insertion of an Special Item of Revenue (Chapter 159) Resolution or Change of Title and Text resolution was denied by the Director of Local Government Services for the following reason: "},{"$f":"M7","v":"00:00:00"},{"$f":"P7","v":0},"Counties/Municipalities (NJSA 40A:4-87) or Fire Districts (NJSA 40A:14-78.5)"]
[{"$f":"MID(CELL(\"filename\",A5),FIND(\"]\",CELL(\"filename\",A5))+1,256)","v":"159"},{"$f":"ROW()","v":6},{"$f":"INDEX(muni!B1:B588,L3,1)","v":"0001"},{"$f":"INDEX(muni!P1:P16,L9,1)","v":2022},159,null,null,{"$f":"\"\nIf you have any questions please contact Jorge F Carmona at jorge.carmona@dca.state.nj.us or (609) 913-4396\"","v":"\nIf you have any questions please contact Jorge F Carmona at jorge.carmona@dca.state.nj.us or (609) 913-4396"},{"$f":"M7","v":"00:00:00"},{"$f":"P7","v":0}]
["159",{"$f":"ROW()","v":7},{"$f":"INDEX(muni!B1:B588,L3,1)","v":"0001"},{"$f":"INDEX(muni!P1:P16,L9,1)","v":2022},159,"res","res",{"$f":"\"\nIf you have any questions please contact Jorge F Carmona at jorge.carmona@dca.state.nj.us or (609) 913-4396\"","v":"\nIf you have any questions please contact Jorge F Carmona at jorge.carmona@dca.state.nj.us or (609) 913-4396"},{"$f":"M7","v":"00:00:00"},{"$f":"P7","v":0},null," Resolution Date:",null,null,"Resolution #"]
[{"$f":"MID(CELL(\"filename\",A8),FIND(\"]\",CELL(\"filename\",A8))+1,256)","v":"159"},{"$f":"ROW()","v":8},{"$f":"INDEX(muni!B1:B588,L3,1)","v":"0001"},{"$f":"INDEX(muni!P1:P16,L9,1)","v":2022},159,"muni","code",{"$f":"\"\n__           Duplicate\n\n__           Doesn’t qualify as insertion of Special Item of Revenue\n\n__           Additional supporting documentation needed\n\"","v":"\n__           Duplicate\n\n__           Doesn’t qualify as insertion of Special Item of Revenue\n\n__           Additional supporting documentation needed\n"},{"$f":"M7","v":"00:00:00"},{"$f":"P7","v":0},"Muni Code",{"$f":"INDEX(muni!B1:B588,L3,1)","v":"0001"},"Organization Name",{"$f":"INDEX(muni!A1:A588,L3,1)","v":"0001 Select your municipality or county"}]
["159",{"$f":"ROW()","v":9},{"$f":"INDEX(muni!B1:B588,L3,1)","v":"0001"},{"$f":"INDEX(muni!P1:P16,L9,1)","v":2022},159,"year","code",{"$f":"H4&H6","v":" - CFO, \n\nThe attached Chapter 159 Insertion of Special Item or Revenue and/or Chapter 85 Text & Title resolution , File 0001_159_01-00-1900_.xlsm , has been approved by the Director of the Division of Local Government Services.\nIf you have any questions please contact Jorge F Carmona at jorge.carmona@dca.state.nj.us or (609) 913-4396"},{"$f":"M7","v":"00:00:00"},{"$f":"P7","v":0},"Fiscal Year",8,3]
["159",{"$f":"ROW()","v":10},{"$f":"INDEX(muni!B1:B588,L3,1)","v":"0001"},{"$f":"INDEX(muni!P1:P16,L9,1)","v":2022},159,"res","no",{"$f":"H4&H7","v":" - CFO, \n\nThe attached Chapter 159 Insertion of Special Item or Revenue and/or Chapter 85 Text & Title resolution , File 0001_159_01-00-1900_.xlsm , has been approved by the Director of the Division of Local Government Services.\nIf you have any questions please contact Jorge F Carmona at jorge.carmona@dca.state.nj.us or (609) 913-4396"},{"$f":"M7","v":"00:00:00"},{"$f":"P7","v":0}]
["159",{"$f":"ROW()","v":11},{"$f":"INDEX(muni!B1:B588,L3,1)","v":"0001"},{"$f":"INDEX(muni!P1:P16,L9,1)","v":2022},159,"rev",{"$f":"INDEX(muni!J1:J152,M11,1)","v":"100A"},{"$f":" H5&H8&H6","v":" - CFO, \nPlease be advised that you request for approval for and Insertion of an Special Item of Revenue (Chapter 159) Resolution or Change of Title and Text resolution was denied by the Director of Local Government Services for the following reason: \n__           Duplicate\n\n__           Doesn’t qualify as insertion of Special Item of Revenue\n\n__           Additional supporting documentation needed\n\nIf you have any questions please contact Jorge F Carmona at jorge.carmona@dca.state.nj.us or (609) 913-4396"},{"$f":"M7","v":"00:00:00"},{"$f":"P7","v":0},"Revenue","Title",1,null,"Amount"]
["159",{"$f":"ROW()","v":12},{"$f":"INDEX(muni!B1:B588,L3,1)","v":"0001"},{"$f":"INDEX(muni!P1:P16,L9,1)","v":2022},159,"rev","mdscr",{"$f":"H5&H8&H7","v":" - CFO, \nPlease be advised that you request for approval for and Insertion of an Special Item of Revenue (Chapter 159) Resolution or Change of Title and Text resolution was denied by the Director of Local Government Services for the following reason: \n__           Duplicate\n\n__           Doesn’t qualify as insertion of Special Item of Revenue\n\n__           Additional supporting documentation needed\n\nIf you have any questions please contact Jorge F Carmona at jorge.carmona@dca.state.nj.us or (609) 913-4396"},{"$f":"M7","v":"00:00:00"},{"$f":"P7","v":0},"Description"]
["159",{"$f":"ROW()","v":13},{"$f":"INDEX(muni!B1:B588,L3,1)","v":"0001"},{"$f":"INDEX(muni!P1:P16,L9,1)","v":2022},159,"app",{"$f":"INDEX(muni!J1:J152,M13,1)","v":"100A"},1,{"$f":"M7","v":"00:00:00"},{"$f":"P7","v":0},"Appropriation","Title",1,null,"Amount"]
["159",{"$f":"ROW()","v":14},{"$f":"INDEX(muni!B1:B588,L3,1)","v":"0001"},{"$f":"INDEX(muni!P1:P16,L9,1)","v":2022},159,"rev","mdsca",null,{"$f":"M7","v":"00:00:00"},{"$f":"P7","v":0},"Description"]
["159",{"$f":"ROW()","v":15},{"$f":"INDEX(muni!B1:B588,L3,1)","v":"0001"},{"$f":"INDEX(muni!P1:P16,L9,1)","v":2022},159,"locm",null,null,{"$f":"M7","v":"00:00:00"},{"$f":"P7","v":0},"Local Match",null,null,null,"Amount"]
[{"$f":"MID(CELL(\"filename\",A23),FIND(\"]\",CELL(\"filename\",A23))+1,256)","v":"159"},null,null,{"$f":"INDEX(muni!P1:P16,L9,1)","v":2022},null,null,null,null,{"$f":"M7","v":"00:00:00"},{"$f":"P7","v":0}]
["159",{"$f":"ROW()","v":17},{"$f":"INDEX(muni!B1:B588,L3,1)","v":"0001"},{"$f":"INDEX(muni!P1:P16,L9,1)","v":2022},159,"app85","amtr",null,{"$f":"M7","v":"00:00:00"},{"$f":"P7","v":0},"Municipalities and Counties only",null,"Chapter 85 - Title and Text"]
["159",{"$f":"ROW()","v":18},{"$f":"INDEX(muni!B1:B588,L3,1)","v":"0001"},{"$f":"INDEX(muni!P1:P16,L9,1)","v":2022},159,"app85","afrm",null,{"$f":"M7","v":"00:00:00"},{"$f":"P7","v":0},"Appropriation (From)","Title",null,null,"Amount"]
["159",{"$f":"ROW()","v":19},{"$f":"INDEX(muni!B1:B588,L3,1)","v":"0001"},{"$f":"INDEX(muni!P1:P16,L9,1)","v":2022},159,"app85","ato",null,{"$f":"M7","v":"00:00:00"},{"$f":"P7","v":0},"Appropriation (To)","Title",null,null,"Amount"]
[{"$f":"MID(CELL(\"filename\",A20),FIND(\"]\",CELL(\"filename\",A20))+1,256)","v":"159"},{"$f":"ROW()","v":20},{"$f":"INDEX(muni!B1:B588,L3,1)","v":"0001"},{"$f":"L9","v":8},159,null,null,null,{"$f":"M7","v":"00:00:00"},{"$f":"P7","v":0}]
[{"$f":"MID(CELL(\"filename\",A21),FIND(\"]\",CELL(\"filename\",A21))+1,256)","v":"159"},0,{"$f":"INDEX(muni!B1:B588,L3,1)","v":"0001"},{"$f":"INDEX(muni!P1:P16,L9,1)","v":2022},159,null,null,null,{"$f":"M7","v":"00:00:00"},{"$f":"P7","v":0},"By electronic transmittal of this form the County Clerk of the Board/Municipal Clerk/Fire District Executive Director certify that this resolution, reference above and included as an attachment with this form, is a true resolution and was properly adopted by the respective governing body"]
[{"$f":"MID(CELL(\"filename\",A21),FIND(\"]\",CELL(\"filename\",A21))+1,256)","v":"159"},0,null,null,null,null,null,null,{"$f":"M7","v":"00:00:00"},{"$f":"P7","v":0}]
["159",0,{"$f":"INDEX(muni!B1:B588,L3,1)","v":"0001"},{"$f":"INDEX(muni!P1:P16,L9,1)","v":2022},159,null,null,null,{"$f":"M7","v":"00:00:00"},{"$f":"P7","v":0},"By electronic transmittal of this form the County/Municipality CFO or the Fire District Accountant certifies that this revenue has been realized and/or is in receipt of written notification from the funding source cited in the resolution and included as an attachment with this form and that the revenue/appropriation identified above meets all statutory requirements and that the Annual Operating Budget has been amended to include this item of revenue/appropriation."]
[{"$f":"MID(CELL(\"filename\",A23),FIND(\"]\",CELL(\"filename\",A23))+1,256)","v":"159"},0,null,null,null,null,null,null,{"$f":"M7","v":"00:00:00"},{"$f":"P7","v":0}]
["159",{"$f":"ROW()","v":25},{"$f":"INDEX(muni!B1:B588,L3,1)","v":"0001"},{"$f":"INDEX(muni!P1:P16,L9,1)","v":2022},159,"cert","sig",null,{"$f":"M7","v":"00:00:00"},{"$f":"P7","v":0}]
["159",{"$f":"ROW()","v":26},{"$f":"INDEX(muni!B1:B588,L3,1)","v":"0001"},{"$f":"INDEX(muni!P1:P16,L9,1)","v":2022},159,null,null,null,{"$f":"M7","v":"00:00:00"},{"$f":"P7","v":0},"County Clerk of the Board, Municipal Clerk, or Fire District Director",null,null,null,"County/Municipal CFO or Fire District Accountant"]
["159",{"$f":"ROW()","v":27},{"$f":"INDEX(muni!B1:B588,L3,1)","v":"0001"},{"$f":"INDEX(muni!P1:P16,L9,1)","v":2022},159,"cert","job",null,{"$f":"M7","v":"00:00:00"},{"$f":"P7","v":0}]
["159",{"$f":"ROW()","v":28},{"$f":"INDEX(muni!B1:B588,L3,1)","v":"0001"},{"$f":"INDEX(muni!P1:P16,L9,1)","v":2022},159,null,null,null,{"$f":"M7","v":"00:00:00"},{"$f":"P7","v":0},"Title of Certifying Officer",null,null,null,"Title of Certifying Officer"]
["159",{"$f":"ROW()","v":29},{"$f":"INDEX(muni!B1:B588,L3,1)","v":"0001"},{"$f":"INDEX(muni!P1:P16,L9,1)","v":2022},159,"cert","email",null,{"$f":"M7","v":"00:00:00"},{"$f":"P7","v":0}]
["159",{"$f":"ROW()","v":30},{"$f":"INDEX(muni!B1:B588,L3,1)","v":"0001"},{"$f":"INDEX(muni!P1:P16,L9,1)","v":2022},159,null,null,null,{"$f":"M7","v":"00:00:00"},{"$f":"P7","v":0},"Email Address",null,null,null,"Email Address"]
["159",{"$f":"ROW()","v":31},{"$f":"INDEX(muni!B1:B588,L3,1)","v":"0001"},{"$f":"INDEX(muni!P1:P16,L9,1)","v":2022},159,"cert","tele",null,{"$f":"M7","v":"00:00:00"},{"$f":"P7","v":0}]
["159",{"$f":"ROW()","v":32},{"$f":"INDEX(muni!B1:B588,L3,1)","v":"0001"},{"$f":"INDEX(muni!P1:P16,L9,1)","v":2022},159,null,null,null,{"$f":"M7","v":"00:00:00"},{"$f":"P7","v":0},"Telephone Number",null,null,null,"Telephone Number"]
[{"$f":"MID(CELL(\"filename\",A32),FIND(\"]\",CELL(\"filename\",A32))+1,256)","v":"159"},{"$f":"ROW()","v":33},{"$f":"INDEX(muni!B1:B588,L3,1)","v":"0001"},{"$f":"INDEX(muni!P1:P16,L9,1)","v":2022},159,null,null,null,{"$f":"M7","v":"00:00:00"},{"$f":"P7","v":0}]
[{"$f":"MID(CELL(\"filename\",A32),FIND(\"]\",CELL(\"filename\",A32))+1,256)","v":"159"},{"$f":"ROW()","v":34},{"$f":"INDEX(muni!B1:B588,L3,1)","v":"0001"},{"$f":"INDEX(muni!P1:P16,L9,1)","v":2022},159,null,null,null,{"$f":"M7","v":"00:00:00"},{"$f":"P7","v":0}]
[{"$f":"MID(CELL(\"filename\",A32),FIND(\"]\",CELL(\"filename\",A32))+1,256)","v":"159"},{"$f":"ROW()","v":35},{"$f":"INDEX(muni!B1:B588,L3,1)","v":"0001"},{"$f":"INDEX(muni!P1:P16,L9,1)","v":2022},159,null,null,null,{"$f":"M7","v":"00:00:00"},{"$f":"P7","v":0},"Approval is hereby given to the cited resolution adopted by the governing body pursuant ",null,null,null,null," "]
[{"$f":"MID(CELL(\"filename\",A32),FIND(\"]\",CELL(\"filename\",A32))+1,256)","v":"159"},{"$f":"ROW()","v":36},{"$f":"INDEX(muni!B1:B588,L3,1)","v":"0001"},{"$f":"INDEX(muni!P1:P16,L9,1)","v":2022},159,null,null,null,{"$f":"M7","v":"00:00:00"},{"$f":"P7","v":0},"to N.J.S.A.40A: 4-87"]
[{"$f":"MID(CELL(\"filename\",A32),FIND(\"]\",CELL(\"filename\",A32))+1,256)","v":"159"},{"$f":"ROW()","v":37},{"$f":"INDEX(muni!B1:B588,L3,1)","v":"0001"},{"$f":"INDEX(muni!P1:P16,L9,1)","v":2022},159,null,null,null,{"$f":"M7","v":"00:00:00"},{"$f":"P7","v":0}]
[{"$f":"MID(CELL(\"filename\",A32),FIND(\"]\",CELL(\"filename\",A32))+1,256)","v":"159"},{"$f":"ROW()","v":38},{"$f":"INDEX(muni!B1:B588,L3,1)","v":"0001"},{"$f":"INDEX(muni!P1:P16,L9,1)","v":2022},159,"appr",{"$f":"INDEX(muni!N1:N5,P38,1)","v":"New"},null,{"$f":"M7","v":"00:00:00"},{"$f":"P7","v":0},"For Director, Division of Local Government Services by:",null,null,null,null,5]
[{"$f":"MID(CELL(\"filename\",A32),FIND(\"]\",CELL(\"filename\",A32))+1,256)","v":"159"},{"$f":"ROW()","v":39},{"$f":"INDEX(muni!B1:B588,L3,1)","v":"0001"},{"$f":"INDEX(muni!P1:P16,L9,1)","v":2022},159,null,null,null,{"$f":"M7","v":"00:00:00"},{"$f":"P7","v":0}]
[{"$f":"MID(CELL(\"filename\",A40),FIND(\"]\",CELL(\"filename\",A40))+1,256)","v":"159"},{"$f":"ROW()","v":40},{"$f":"INDEX(muni!B1:B588,L3,1)","v":"0001"},{"$f":"INDEX(muni!P1:P16,L9,1)","v":2022},159,"cert","appr",null,{"$f":"M7","v":"00:00:00"},{"$f":"P7","v":0},null,null,null,null," Approved Date:"]
[{"$f":"MID(CELL(\"filename\",A32),FIND(\"]\",CELL(\"filename\",A32))+1,256)","v":"159"},{"$f":"ROW()","v":41},{"$f":"INDEX(muni!B1:B588,L3,1)","v":"0001"},{"$f":"INDEX(muni!P1:P16,L9,1)","v":2022},159,null,null,null,{"$f":"M7","v":"00:00:00"},{"$f":"P7","v":0},"Duly Appointed Designee"]
[{"$f":"MID(CELL(\"filename\",A32),FIND(\"]\",CELL(\"filename\",A32))+1,256)","v":"159"},{"$f":"ROW()","v":42},{"$f":"INDEX(muni!B1:B588,L3,1)","v":"0001"},{"$f":"INDEX(muni!P1:P16,L9,1)","v":2022},159,null,null,null,{"$f":"M7","v":"00:00:00"},{"$f":"P7","v":0}]
[{"$f":"MID(CELL(\"filename\",A32),FIND(\"]\",CELL(\"filename\",A32))+1,256)","v":"159"},{"$f":"ROW()","v":43},{"$f":"INDEX(muni!B1:B588,L3,1)","v":"0001"},{"$f":"INDEX(muni!P1:P16,L9,1)","v":2022},159,"file","dir",null,{"$f":"M7","v":"00:00:00"},{"$f":"P7","v":0},{"$f":"\"s:\\LGS Docs\\a_1budget\\\"&N8&\"\\\"&D9&\"\\159\\\"&N2","v":"s:\\LGS Docs\\a_1budget\\0001 Select your municipality or county\\2022\\159\\0001_159_01-00-1900_.xlsm "}]
[{"$f":"MID(CELL(\"filename\",A32),FIND(\"]\",CELL(\"filename\",A32))+1,256)","v":"159"},{"$f":"ROW()","v":44},{"$f":"INDEX(muni!B1:B588,L3,1)","v":"0001"},{"$f":"INDEX(muni!P1:P16,L9,1)","v":2022},159,"file","web",null,{"$f":"M7","v":"00:00:00"},{"$f":"P7","v":0},{"$f":"\"s:\\LGS Docs\\a_1budget_files\\\"&D9&\"\\159\\\"&N2","v":"s:\\LGS Docs\\a_1budget_files\\2022\\159\\0001_159_01-00-1900_.xlsm "}]
[null,null,null," ",null,null,null,null,false]

{"sheet":"muni","index":1,"n_rows":588,"n_cols":16,"rows_kept":588,"cut":false,"hidden":true,"merged":[]}
["0001 Select your municipality or county","0001",null,null,null,null,null,null,null,"100A","0001 Select  one","A","0001 Select your appropriation","Approved",1,2015]
["0100 Atlantic County - County of Atlantic","0100","Atlantic","County","Atlantic",55095839134,50154580592,50072316462,51774245396,"110APG","Area Plan Grant",null,null,"Cancelled",2,2016]
["0101 Absecon City - County of Atlantic","0101","Absecon","City","Atlantic",980749549,950824348,939953100,957175665.66666663,"120AFG","Assistance to Firefighters Grant Program",null,null,"Denied",3,2017]
["0102 Atlantic City City - County of Atlantic","0102","Atlantic City","City","Atlantic",19880647220,16154543008,17756290971,17930493733,"130ANJE","Association of New Jersey Environmental Commissions (ANJEC)",null,null,"Duplicate",4,2018]
["0103 Brigantine City - County of Atlantic","0103","Brigantine","City","Atlantic",4379818927,4230487885,3974124968,4194810593.3333335,"140BHP","Balanced Housing Program",null,null,"New",5,2019]
["0104 Buena Borough - County of Atlantic","0104","Buena","Borough","Atlantic",305894763,294696067,295763058,298784629.33333331,"150BAF","Body Armor Fund",null,null,null,6,2020]
["0105 Buena Vista Township - County of Atlantic","0105","Buena Vista","Township","Atlantic",658467965,635533070,612648886,635549973.66666663,"160BPVF","Bulletproof Vest Partnership Grant",null,null,null,7,2021]
["0106 Corbin City City - County of Atlantic","0106","Corbin City","City","Atlantic",55364675,45814763,63610528,54929988.666666664,"170BHI","Bureau of Housing Inspection",null,null,null,8,2022]
["0107 Egg Harbor City - County of Atlantic","0107","Egg Harbor","City","Atlantic",306447379,296742041,284215374,295801598,"180BCC","Cancer Education & Early Detection Program",null,null,null,9,2023]
["0108 Egg Harbor Township - County of Atlantic","0108","Egg Harbor","Township","Atlantic",5016891304,4746028429,4442228961,4735049564.666667,"190CRDA","Casino Reinvestment Development Authority",null,null,null,10,2024]
["0109 Estell Manor City - County of Atlantic","0109","Estell Manor","City","Atlantic",212851060,190425828,184657466,195978118,"200OPP","Click It or Ticket",null,null,null,11,2025]
["0110 Folsom Borough - County of Atlantic","0110","Folsom","Borough","Atlantic",205914935,188082445,189344654,194447344.66666666,"210IFPP","Co Prosecutor Insurance Fraud Reimbursement Program",null,null,null,12,2026]
["0111 Galloway Township - County of Atlantic","0111","Galloway","Township","Atlantic",3783277126,3604637059,3397832383,3595248856,"220CDBG","Community Development Block Grant",null,null,null,13,2027]
["0112 Hamilton Township - County of Atlantic","0112","Hamilton","Township","Atlantic",2649650403,2589581340,2432735441,2557322394.6666665,"230CFMP","Community Forestry Management Plan",null,null,null,14,2028]
["0113 Hammonton Town - County of Atlantic","0113","Hammonton","Town","Atlantic",1469260961,1522788887,1411600333,1467883393.6666667,"240CAT","Comprehensive Alcoholism & Drug Abuse Grant",null,null,null,15,2029]
["0114 Linwood City - County of Atlantic","0114","Linwood","City","Atlantic",1257915632,1198611612,1139027746,1198518330,"250CCCP","Comprehensive Cancer Control Plan",null,null,null,16,2030]
["0115 Longport Borough - County of Atlantic","0115","Longport","Borough","Atlantic",2254852840,2191149074,2041746416,2162582776.6666665,"260COPS","COPS Grants",null,null,null,17,2031]
["0116 Margate City - County of Atlantic","0116","Margate","City","Atlantic",4074750000,4015015685,3914453684,4001406456.3333335,"270CIS","Cops in Shops"]
["0117 Mullica Township - County of Atlantic","0117","Mullica","Township","Atlantic",635170897,588667608,570689176,598175893.66666663,"280CEHA","County Enviromental Health Act"]
["0118 Northfield City - County of Atlantic","0118","Northfield","City","Atlantic",1103541516,1050174524,998474154,1050730064.6666666,"290CNT","County of"]
["0119 Pleasantville City - County of Atlantic","0119","Pleasantville","City","Atlantic",1243538888,1187271106,1155207751,1195339248.3333333,"300SC","DCA - Small Cities Block Grant"]
["0120 Port Republic City - County of Atlantic","0120","Port Republic","City","Atlantic",150066498,143267037,139963512,144432349,"310NPP","DCA Neighborhood Preservation Program"]
["0121 Somers Point City - County of Atlantic","0121","Somers Point","City","Atlantic",1492153419,1410655785,1301392736,1401400646.6666667,"320HR","DCA -Recreation for Individuals With Disabilities"]
["0122 Ventnor City City - County of Atlantic","0122","Ventnor City","City","Atlantic",2799403461,2739910415,2657262963,2732192279.6666665,"330CSBG","DCA-Community Service Block Grant Program"]
["0123 Weymouth Township - County of Atlantic","0123","Weymouth","Township","Atlantic",179209716,179672576,169092201,175991497.66666666,"340SFPG","DCA-Smart Future Planning Grant"]
["0200 Bergen County - County of Bergen","0200","Bergen","County","Bergen",181733543797,175246376690,169704071487,175561330658,"350VWA","DCJ - Victims Witness Advocacy"]
["0201 Allendale Borough - County of Bergen","0201","Allendale","Borough","Bergen",1815809338,1738341030,1718398979,1757516449,"360DVRP","Delaware Valley Regional Planning Commission"]
["0202 Alpine Borough - County of Bergen","0202","Alpine","Borough","Bergen",2293389310,2431489964,2281521020,2335466764.6666665,"365DDSC","Distracted Driving Statewide Crackdown Grant."]
["0203 Bergenfield Borough - County of Bergen","0203","Bergenfield","Borough","Bergen",3010601783,2889034345,2752853164,2884163097.3333335,"370DON","Donations"]
["0204 Bogota Borough - County of Bergen","0204","Bogota","Borough","Bergen",903745746,849050076,803981809,852259210.33333337,"380DSGP","Drive Sober Or Get Pulled Over"]
["0205 Carlstadt Borough - County of Bergen","0205","Carlstadt","Borough","Bergen",2718624887,2312677012,2153807569,2395036489.3333335,"390DDEF","Drunk Driving Enforcement Fund"]
["0206 Cliffside Park Borough - County of Bergen","0206","Cliffside Park","Borough","Bergen",3497051576,3247584166,3056768027,3267134589.6666665,"400EIP","Early Intervention Program - Special Child Health Case Management"]
["0207 Closter Borough - County of Bergen","0207","Closter","Borough","Bergen",2219983425,2147720819,2093184451,2153629565,"410JAG","Edward Byrne Memorial Justice Assistance Grant (JAG)"]
["0208 Cresskill Borough - County of Bergen","0208","Cresskill","Borough","Bergen",2500482005,2307486462,2188980910,2332316459,"420ESP","Environmental Services Program"]
["0209 Demarest Borough - County of Bergen","0209","Demarest","Borough","Bergen",1446556295,1394421119,1347096908,1396024774,"430FEMA","FEMA - Federal Emergency Management Agency"]
["0210 Dumont Borough - County of Bergen","0210","Dumont","Borough","Bergen",2253730420,2124397126,2033581554,2137236366.6666667,"440GAP","Green Acres Program"]
["0211 Elmwood Park Borough - County of Bergen","0211","Elmwood Park","Borough","Bergen",2484403344,2365703750,2284163687,2378090260.3333335,"450HDSR","Hazaradous Discharges Site Remedetion Fund"]
["0212 East Rutherford Borough - County of Bergen","0212","East Rutherford","Borough","Bergen",1913723180,1977693084,1982798655,1958071639.6666667,"460HCG","Historical Commission Grant"]
["0213 Edgewater Borough - County of Bergen","0213","Edgewater","Borough","Bergen",2820483777,2833941706,2978119885,2877515122.6666665,"470HIV","HIV Emergency Relief Grant"]
["0214 Emerson Borough - County of Bergen","0214","Emerson","Borough","Bergen",1372215204,1358229922,1316332163,1348925763,"480JARC","Job Access & Reverse Commute (JARC)"]
["0215 Englewood City - County of Bergen","0215","Englewood","City","Bergen",5536146111,5376876267,5039936412,5317652930,"490JIF","Joint Insurance Fund"]
["0216 Englewood Cliffs Borough - County of Bergen","0216","Englewood Cliffs","Borough","Bergen",3456942065,3326386238,3183093721,3322140674.6666665,"500JAIB","Juvenile Accountability Incentive Block Grant (JAIBG)"]
["0217 Fair Lawn Borough - County of Bergen","0217","Fair Lawn","Borough","Bergen",5133249368,5054386352,4835451449,5007695723,"510LEOT","Law Enforcement Officers Training & Equipment Fund"]
["0218 Fairview Borough - County of Bergen","0218","Fairview","Borough","Bergen",1440400046,1317277073,1154005246,1303894121.6666667,"520LEBG","Local Law Enforcement Block Grant"]
["0219 Fort Lee Borough - County of Bergen","0219","Fort Lee","Borough","Bergen",6542820769,6409192530,6260540522,6404184607,"530MISC","Miscellaneous - Entered Manually"]
["0220 Franklin Lakes Borough - County of Bergen","0220","Franklin Lakes","Borough","Bergen",4691918891,4587026974,4469166994,4582704286.333333,"540MJN","Multi-Jurisdictional Gang, Gun & Narcotics Task Force Program"]
["0221 Garfield City - County of Bergen","0221","Garfield","City","Bergen",2578898372,2342970277,2198501256,2373456635,"550AERP","Municipal Alcohol Education/Rehabilitation Program"]
["0222 Glen Rock Borough - County of Bergen","0222","Glen Rock","Borough","Bergen",2598314608,2500342689,2479627349,2526094882,"560MADA","Municipal Alliance on Alcoholism and Drug Abuse"]
["0223 Hackensack City - County of Bergen","0223","Hackensack","City","Bergen",6123139774,5902151396,5974535410,5999942193.333333,"570MUA","Municipal Utility Fund"]
["0224 Harrington Park Borough - County of Bergen","0224","Harrington Park","Borough","Bergen",1112613954,1043670279,997198004,1051160745.6666666,"580MYS","Municipal Youth Service Grant"]
["0225 Hasbrouck Heights Borough - County of Bergen","0225","Hasbrouck Heights","Borough","Bergen",1917296970,1838566333,1763106994,1839656765.6666667,"590NJHO","New Jersey Health Officers Association"]
["0226 Haworth Borough - County of Bergen","0226","Haworth","Borough","Bergen",1019825615,1044919359,1036465322,1033736765.3333334,"600DA","NJ Department of Agriculture"]
["0227 Hillsdale Borough - County of Bergen","0227","Hillsdale","Borough","Bergen",2026886476,1941548742,1890172234,1952869150.6666667,"610DCF","NJ Department of Children & Families"]
["0228 Ho-Ho-Kus Borough - County of Bergen","0228","Ho-Ho-Kus","Borough","Bergen",1399783693,1327664441,1256980325,1328142819.6666667,"620DCA","NJ Department of Community Affairs"]
["0229 Leonia Borough - County of Bergen","0229","Leonia","Borough","Bergen",1469124959,1436429406,1385025409,1430193258,"630DEP","NJ Department of Environmental Protection"]
["0230 Little Ferry Borough - County of Bergen","0230","Little Ferry","Borough","Bergen",1249677237,1328855438,1188443668,1255658781,"640HSS","NJ Department of Health & Senior Services"]
["0231 Lodi Borough - County of Bergen","0231","Lodi","Borough","Bergen",2370233854,2194377488,2053210598,2205940646.6666665,"650HS","NJ Department of Human Services"]
["0232 Lyndhurst Township - County of Bergen","0232","Lyndhurst","Township","Bergen",3496180718,3370992191,3186706112,3351293007,"660LWD","NJ Department of Labor & Workforce Development"]
["0233 Mahwah Township - County of Bergen","0233","Mahwah","Township","Bergen",6800164341,6755610305,6429433346,6661735997.333333,"670DLPS","NJ Department of Law & Public Safety"]
["0234 Maywood Borough - County of Bergen","0234","Maywood","Borough","Bergen",1365177382,1398474845,1329688285,1364446837.3333333,"680MVA","NJ Department of Military & Veterans Affairs"]
["0235 Midland Park Borough - County of Bergen","0235","Midland Park","Borough","Bergen",1301486523,1309827995,1253943289,1288419269,"690DOS","NJ Department of State"]
["0236 Montvale Borough - County of Bergen","0236","Montvale","Borough","Bergen",2215600452,2270677114,2270132664,2252136743.3333335,"700DOT","NJ Department of Transportation"]
["0237 Moonachie Borough - County of Bergen","0237","Moonachie","Borough","Bergen",799790397,721414405,837607344,786270715.33333337,"710TREA","NJ Department of Treasury"]
["0238 New Milford Borough - County of Bergen","0238","New Milford","Borough","Bergen",2041594533,1975393378,1936345481,1984444464,"720EDA","NJ Economic Development Authority"]
["0239 North Arlington Borough - County of Bergen","0239","North Arlington","Borough","Bergen",1754021888,1623325392,1583568830,1653638703.3333333,"730TPG","NJ Forest Service Community Forestry Program"]
["0240 Northvale Borough - County of Bergen","0240","Northvale","Borough","Bergen",1009121797,1005203311,962004754,992109954,"740WPPC","NJ Highlands Water Protection & Planning Council"]
["0241 Norwood Borough - County of Bergen","0241","Norwood","Borough","Bergen",1499540012,1378703469,1324942787,1401062089.3333333,"750OHS","NJ Office of Homeland Security & Preparedness"]
["0242 Oakland Borough - County of Bergen","0242","Oakland","Borough","Bergen",2658563901,2561864519,2449493457,2556640625.6666665,"760OIT","NJ Office of Information Technology"]
["0243 Old Tappan Borough - County of Bergen","0243","Old Tappan","Borough","Bergen",1895052878,1839976436,1775497999,1836842437.6666667,"770NJTC","NJ Transit Corp"]
["0244 Oradell Borough - County of Bergen","0244","Oradell","Borough","Bergen",1800258369,1753550249,1727790730,1760533116,"780TTFA","NJ Transportation Trust Fund Authority"]
["0245 Palisades Park Borough - County of Bergen","0245","Palisades Park","Borough","Bergen",2731629003,2505781605,2398992458,2545467688.6666665,"790CCP","NJDEP - Clean Communities Program"]
["0246 Paramus Borough - County of Bergen","0246","Paramus","Borough","Bergen",9223839419,8619936491,8446862533,8763546147.666666,"800RTG","NJDEP - Recycling Tonnage Grant"]
["0247 Park Ridge Borough - County of Bergen","0247","Park Ridge","Borough","Bergen",1953354390,1891123599,1813358076,1885945355,"810RTP","NJDEP-Recreation Trails Program"]
["0248 Ramsey Borough - County of Bergen","0248","Ramsey","Borough","Bergen",3780004039,3662123117,3504008659,3648711938.3333335,"820RTK","NJDHSS-Right to Know Program"]
["0249 Ridgefield Borough - County of Bergen","0249","Ridgefield","Borough","Bergen",2103464853,1832260766,1813800157,1916508592,"830HTS","NJDL&PS - Division of  Highway Traffic Safety"]
["0250 Ridgefield Park Village - County of Bergen","0250","Ridgefield Park","Village","Bergen",1473085468,1441534892,1366640345,1427086901.6666667,"840CJP","NJDL&PS-Community Justice Program"]
["0251 Ridgewood Village - County of Bergen","0251","Ridgewood","Village","Bergen",6707712613,6477189598,6369192186,6518031465.666667,"850SFP","NJDOA - Summer Food Program"]
["0252 River Edge Borough - County of Bergen","0252","River Edge","Borough","Bergen",1822925180,1834422518,1775078936,1810808878,"860NPNA","Non-Public School Nursing Aid"]
["0253 River Vale Township - County of Bergen","0253","River Vale","Township","Bergen",2165838241,2100210107,2040726221,2102258189.6666667,"870NJTP","North Jersey Transportation Planning Authority"]
["0254 Rochelle Park Township - County of Bergen","0254","Rochelle Park","Township","Bergen",1052148343,1046448305,951754910,1016783852.6666666,"880OSPF","Obey the Signs or Pay the Fines\" Speed Enforcement Grant"]
["0255 Rockleigh Borough - County of Bergen","0255","Rockleigh","Borough","Bergen",217780040,291164101,237490937,248811692.66666666,"890EMA","Office of Emergency Management - EMAA Grant"]
["0256 Rutherford Borough - County of Bergen","0256","Rutherford","Borough","Bergen",3066052308,2852751082,2700005696,2872936362,"900OLUA","Over the Limit Under Arrest"]
["0257 Saddle Brook Township - County of Bergen","0257","Saddle Brook","Township","Bergen",2386887810,2487801522,2407404195,2427364509,"910PSEE","Pedestrian Safety, Education & Enforcement Fund"]
["0258 Saddle River Borough - County of Bergen","0258","Saddle River","Borough","Bergen",2739719709,2611862457,2466878826,2606153664,"920PAP","Personal Assistance Service Program"]
["0259 South Hackensack Township - County of Bergen","0259","South Hackensack","Township","Bergen",719966159,701401249,682225888,701197765.33333337,"930PORS","Prevention Oriented Response System for Child Health (PORSCHE)"]
["0260 Teaneck Township - County of Bergen","0260","Teaneck","Township","Bergen",6102413434,5831966363,5808757236,5914379011,"940PHEP","Public Health Emergency Preparedness Program"]
["0261 Tenafly Borough - County of Bergen","0261","Tenafly","Borough","Bergen",4223342837,4150911543,4079590488,4151281622.6666665,"950RTF","Right to Farm Grant"]
["0262 Teterboro Borough - County of Bergen","0262","Teterboro","Borough","Bergen",514639125,424445367,413016762,450700418,"960SSCG","Safe & Secure Communities Grant"]
["0263 Upper Saddle River Borough - County of Bergen","0263","Upper Saddle River","Borough","Bergen",3079805696,2945563609,2907784605,2977717970,"970SHT","Safe Housing and Transportation"]
["0264 Waldwick Borough - County of Bergen","0264","Waldwick","Borough","Bergen",1688970013,1619970861,1564223394,1624388089.3333333,"980SANE","Sexual Assault Nurse Examiner/Response Team (SANE/SART) "]
["0265 Wallington Borough - County of Bergen","0265","Wallington","Borough","Bergen",1163264178,1102987117,1028680502,1098310599,"990ISA","Shared Service Agreement"]
["0266 Washington Township - County of Bergen","0266","Washington","Township","Bergen",1934794665,1828660651,1803305148,1855586821.3333333,"1000SGP","Smart Growth Planning Program"]
["0267 Westwood Borough - County of Bergen","0267","Westwood","Borough","Bergen",2023382508,2044165762,2129278176,2065608815.3333333,"1010SSH","Social Services for the Homeless"]
["0268 Woodcliff Lake Borough - County of Bergen","0268","Woodcliff Lake","Borough","Bergen",2329710418,2190570679,2080183173,2200154756.6666665,"1020SJTP","South Jersey Transportation Planning Organization"]
["0269 Wood-Ridge Borough - County of Bergen","0269","Wood-Ridge","Borough","Bergen",1289492158,1226953634,1227057058,1247834283.3333333,"1030SIT","Special Initiative and Transportation (SIT)"]
["0270 Wyckoff Township - County of Bergen","0270","Wyckoff","Township","Bergen",4684694947,4608744223,4463570150,4585669773.333333,"1040SLA","State & Local All Hazards Emergency Operation Planning Prog"]
["0300 Burlington County - County of Burlington","0300","Burlington","County","Burlington",51636819571,49874275114,48266534716,49925876467,"1050SFEA","State Facilities Education Act"]
["0301 Bass River Township - County of Burlington","0301","Bass River","Township","Burlington",203109558,189944352,188491996,193848635.33333334,"1060SHIP","State Health Insurance Assistance Program (SHIP)"]
["0302 Beverly City - County of Burlington","0302","Beverly","City","Burlington",160773835,149985344,130487960,147082379.66666666,"1070SHSG","State Health Services Grant"]
["0303 Bordentown City - County of Burlington","0303","Bordentown","City","Burlington",391869199,387990261,378032557,385964005.66666669,"1080SHS","State Homeland Security Grant Program"]
["0304 Bordentown Township - County of Burlington","0304","Bordentown","Township","Burlington",1460412101,1462902214,1398299528,1440537947.6666667,"1090VAWA","Stop Violence Against Women (VAWA) Program"]
["0305 Burlington City - County of Burlington","0305","Burlington","City","Burlington",779782116,760258059,674347879,738129351.33333337,"1100SJSG","Sustainable Jersey Small Grants Program"]
["0306 Burlington Township - County of Burlington","0306","Burlington","Township","Burlington",2727100009,2655860328,2460899801,2614620046,"1110OAA","Title III Olders Americans Act"]
["0307 Chesterfield Township - County of Burlington","0307","Chesterfield","Township","Burlington",719777142,712043963,730848852,720889985.66666663,"1120TASE","Tobacco Age-of-Sale Enforcement Program"]
["0308 Cinnaminson Township - County of Burlington","0308","Cinnaminson","Township","Burlington",1993285584,1914724966,1900408373,1936139641,"1130TCP","Tobacco Control, Prevention, Treatment Education Serv"]
["0309 Delanco Township - County of Burlington","0309","Delanco","Township","Burlington",487666438,483977648,461234948,477626344.66666669,"1140TANF","Transportation Assistance "]
["0310 Delran Township - County of Burlington","0310","Delran","Township","Burlington",1833561531,1777989999,1663025109,1758192213,"1150TBC","Tuberculosis Control Program"]
["0311 Eastampton Township - County of Burlington","0311","Eastampton","Township","Burlington",515033596,508499668,492585200,505372821.33333331,"1160UCC","Unified Child Care Delivery System"]
["0312 Edgewater Park Township - County of Burlington","0312","Edgewater Park","Township","Burlington",638374871,618363453,586740370,614492898,"1170UASI","Urban Area Security Initiative Grant"]
["0313 Evesham Township - County of Burlington","0313","Evesham","Township","Burlington",5819387314,5623746587,5470619154,5637917685,"1180HUD","US Department of Housing & Urban Development"]
["0314 Fieldsboro Borough - County of Burlington","0314","Fieldsboro","Borough","Burlington",58215324,54679485,57514018,56802942.333333336,"1190DOJ","US Department of Justice"]
["0315 Florence Township - County of Burlington","0315","Florence","Township","Burlington",1276715786,1274047569,1241974935,1264246096.6666667,"1200VC","Various Contributors"]
["0316 Hainesport Township - County of Burlington","0316","Hainesport","Township","Burlington",877699606,865077124,817696460,853491063.33333337,"1210VT","Veterans Transportation Grant"]
["0317 Lumberton Township - County of Burlington","0317","Lumberton","Township","Burlington",1515472295,1446979796,1537363350,1499938480.3333333,"1220VOCA","Victims of Crime Act"]
["0318 Mansfield Township - County of Burlington","0318","Mansfield","Township","Burlington",1334286093,1280374246,1252665372,1289108570.3333333,"1230WIC","Women, Infant, Children (WIC)"]
["0319 Maple Shade Township - County of Burlington","0319","Maple Shade","Township","Burlington",1696607634,1657398154,1614309370,1656105052.6666667,"1240WFNJ","Work First New Jersey"]
["0320 Medford Township - County of Burlington","0320","Medford","Township","Burlington",3412545228,3263899081,3184937264,3287127191,"1250WDPP","Workforce Development Partnership Program"]
["0321 Medford Lakes Borough - County of Burlington","0321","Medford Lakes","Borough","Burlington",490316309,482379062,478465956,483720442.33333331,"1260WIA","Workforce Investment Act"]
["0322 Moorestown Township - County of Burlington","0322","Moorestown","Township","Burlington",4548376154,4564886695,4404722037,4505994962]
["0323 Mount Holly Township - County of Burlington","0323","Mount Holly","Township","Burlington",657561923,653448441,618913680,643308014.66666663]
["0324 Mount Laurel Township - County of Burlington","0324","Mount Laurel","Township","Burlington",7042325520,6599063196,6450958757,6697449157.666667]
["0325 New Hanover Township - County of Burlington","0325","New Hanover","Township","Burlington",94960564,94584627,93106282,94217157.666666672]
["0326 North Hanover Township - County of Burlington","0326","North Hanover","Township","Burlington",496252258,457799019,438009994,464020423.66666669]
["0327 Palmyra Borough - County of Burlington","0327","Palmyra","Borough","Burlington",597400552,597409632,560281286,585030490]
["0328 Pemberton Borough - County of Burlington","0328","Pemberton","Borough","Burlington",123218726,120034242,120074646,121109204.66666667]
["0329 Pemberton Township - County of Burlington","0329","Pemberton","Township","Burlington",1701000746,1633454982,1568416087,1634290605]
["0330 Riverside Township - County of Burlington","0330","Riverside","Township","Burlington",538076918,512901603,497763002,516247174.33333331]
["0331 Riverton Borough - County of Burlington","0331","Riverton","Borough","Burlington",299787009,287324524,277141768,288084433.66666669]
["0332 Shamong Township - County of Burlington","0332","Shamong","Township","Burlington",792629493,756921442,736087097,761879344]
["0333 Southampton Township - County of Burlington","0333","Southampton","Township","Burlington",1351189457,1272636106,1185755767,1269860443.3333333]
["0334 Springfield Township - County of Burlington","0334","Springfield","Township","Burlington",478403135,458365200,426494708,454421014.33333331]
["0335 Tabernacle Township - County of Burlington","0335","Tabernacle","Township","Burlington",816062417,790972323,758342699,788459146.33333337]
["0336 Washington Township - County of Burlington","0336","Washington","Township","Burlington",114464106,105074206,101247345,106928552.33333333]
["0337 Westampton Township - County of Burlington","0337","Westampton","Township","Burlington",1229183973,1160040725,1145875282,1178366660]
["0338 Willingboro Township - County of Burlington","0338","Willingboro","Township","Burlington",2156136306,2028552064,1950107359,2044931909.6666667]
["0339 Woodland Township - County of Burlington","0339","Woodland","Township","Burlington",164889097,158619433,160939493,161482674.33333334]
["0340 Wrightstown Borough - County of Burlington","0340","Wrightstown","Borough","Burlington",42909648,51065295,51348975,48441306]
["0400 Camden County - County of Camden","0400","Camden","County","Camden",41302169241,40959307670,39608887296,40623454735.666664]
["0401 Audubon Borough - County of Camden","0401","Audubon","Borough","Camden",759930822,747309860,749430431,752223704.33333337]
["0402 Audubon Park Borough - County of Camden","0402","Audubon Park","Borough","Camden",16133558,19566142,21282502,18994067.333333332]
["0403 Barrington Borough - County of Camden","0403","Barrington","Borough","Camden",595888769,573921607,543456803,571089059.66666663]
["0404 Bellmawr Borough - County of Camden","0404","Bellmawr","Borough","Camden",856796600,854875986,864226801,858633129]
["0405 Berlin Borough - County of Camden","0405","Berlin","Borough","Camden",809380171,779295920,795582093,794752728]
["0406 Berlin Township - County of Camden","0406","Berlin","Township","Camden",584546247,587923564,566408060,579625957]
["0407 Brooklawn Borough - County of Camden","0407","Brooklawn","Borough","Camden",148750563,149573228,148009792,148777861]
["0408 Camden City - County of Camden","0408","Camden","City","Camden",1149294541,1099907278,1476975910,1242059243]
["0409 Cherry Hill Township - County of Camden","0409","Cherry Hill","Township","Camden",9550217003,9712905198,8962628037,9408583412.666666]
["0410 Chesilhurst Borough - County of Camden","0410","Chesilhurst","Borough","Camden",77404109,87380386,88696283,84493592.666666672]
["0411 Clementon Borough - County of Camden","0411","Clementon","Borough","Camden",295411014,289650193,277326517,287462574.66666669]
["0412 Collingswood Borough - County of Camden","0412","Collingswood","Borough","Camden",1087438258,1100590335,1094890068,1094306220.3333333]
["0413 Gibbsboro Borough - County of Camden","0413","Gibbsboro","Borough","Camden",277699536,269154341,246833780,264562552.33333334]
["0414 Gloucester City City - County of Camden","0414","Gloucester City","City","Camden",668756808,679648308,609898401,652767839]
["0415 Gloucester Township - County of Camden","0415","Gloucester","Township","Camden",4682981432,4607787177,4478244107,4589670905.333333]
["0416 Haddon Township - County of Camden","0416","Haddon","Township","Camden",1429344018,1406193701,1381001315,1405513011.3333333]
["0417 Haddonfield Borough - County of Camden","0417","Haddonfield","Borough","Camden",2223403409,2275363289,2235344205,2244703634.3333335]
["0418 Haddon Heights Borough - County of Camden","0418","Haddon Heights","Borough","Camden",805195501,799308811,797774611,800759641]
["0419 Hi-Nella Borough - County of Camden","0419","Hi-Nella","Borough","Camden",35302138,38842659,43418346,39187714.333333336]
["0420 Laurel Springs Borough - County of Camden","0420","Laurel Springs","Borough","Camden",149118654,144184753,139918634,144407347]
["0421 Lawnside Borough - County of Camden","0421","Lawnside","Borough","Camden",261684755,267865474,256344783,261965004]
["0422 Lindenwold Borough - County of Camden","0422","Lindenwold","Borough","Camden",794042792,756616624,704205505,751621640.33333337]
["0423 Magnolia Borough - County of Camden","0423","Magnolia","Borough","Camden",290612378,295971764,290333333,292305825]
["0424 Merchantville Borough - County of Camden","0424","Merchantville","Borough","Camden",288931527,269177565,253156970,270422020.66666669]
["0425 Mount Ephraim Borough - County of Camden","0425","Mount Ephraim","Borough","Camden",319123653,322162752,324861414,322049273]
["0426 Oaklyn Borough - County of Camden","0426","Oaklyn","Borough","Camden",317205702,297119287,288716691,301013893.33333331]
["0427 Pennsauken Township - County of Camden","0427","Pennsauken","Township","Camden",2777863992,2661791347,2593142570,2677599303]
["0428 Pine Hill Borough - County of Camden","0428","Pine Hill","Borough","Camden",554733882,541143991,522644693,539507522]
["0429 Pine Valley Borough - County of Camden","0429","Pine Valley","Borough","Camden",38295807,38554485,38953454,38601248.666666664]
["0430 Runnemede Borough - County of Camden","0430","Runnemede","Borough","Camden",587854170,579493366,551219934,572855823.33333337]
["0431 Somerdale Borough - County of Camden","0431","Somerdale","Borough","Camden",342654670,346978629,345905590,345179629.66666669]
["0432 Stratford Borough - County of Camden","0432","Stratford","Borough","Camden",517867450,508871772,494949948,507229723.33333331]
["0433 Tavistock Borough - County of Camden","0433","Tavistock","Borough","Camden",15760853,16157720,16355661,16091411.333333334]
["0434 Voorhees Township - County of Camden","0434","Voorhees","Township","Camden",3896400757,3810435402,3634842072,3780559410.3333335]
["0435 Waterford Township - County of Camden","0435","Waterford","Township","Camden",930356748,903210516,871310626,901625963.33333337]
["0436 Winslow Township - County of Camden","0436","Winslow","Township","Camden",3061679759,3019785905,2812568542,2964678068.6666665]
["0437 Woodlynne Borough - County of Camden","0437","Woodlynne","Borough","Camden",104107195,100588335,88028814,97574781.333333328]
["0500 Cape May County - County of Cape May","0500","Cape May","County","Cape May",53290440945,51682343548,49918285144,51630356545.666664]
["0501 Avalon Borough - County of Cape May","0501","Avalon","Borough","Cape May",8608404218,8142225182,7769486930,8173372110]
["0502 CAPE MAY City - County of Cape May","0502","CAPE MAY","City","Cape May",2766001236,2841008019,2884549504,2830519586.3333335]
["0503 Cape May Point Borough - County of Cape May","0503","Cape May Point","Borough","Cape May",497750507,504018925,518958599,506909343.66666669]
["0504 Dennis Township - County of Cape May","0504","Dennis","Township","Cape May",1013709075,966282193,920859422,966950230]
["0505 Lower Township - County of Cape May","0505","Lower","Township","Cape May",4307012089,4214074608,4011620212,4177568969.6666665]
["0506 Middle Township - County of Cape May","0506","Middle","Township","Cape May",3182854560,3031918053,2947298962,3054023858.3333335]
["0507 North Wildwood City - County of Cape May","0507","North Wildwood","City","Cape May",3119333099,2992667720,2822963582,2978321467]
["0508 Ocean City City - County of Cape May","0508","Ocean City","City","Cape May",13051331650,12759535949,12232944492,12681270697]
["0509 Sea Isle City City - County of Cape May","0509","Sea Isle City","City","Cape May",4751635144,4645341356,4470495398,4622490632.666667]
["0510 Stone Harbor Borough - County of Cape May","0510","Stone Harbor","Borough","Cape May",4611172500,4487670151,4437543796,4512128815.666667]
["0511 Upper Township - County of Cape May","0511","Upper","Township","Cape May",2223217550,2177555793,2135435468,2178736270.3333335]
["0512 West Cape May Borough - County of Cape May","0512","West Cape May","Borough","Cape May",489123256,488320133,491542343,489661910.66666669]
["0513 West Wildwood Borough - County of Cape May","0513","West Wildwood","Borough","Cape May",276140679,274022907,253995325,268052970.33333334]
["0514 Wildwood City - County of Cape May","0514","Wildwood","City","Cape May",1869753667,1691688417,1591395846,1717612643.3333333]
["0515 Wildwood Crest Borough - County of Cape May","0515","Wildwood Crest","Borough","Cape May",2345075462,2287023776,2250148022,2294082420]
["0516 Woodbine Borough - County of Cape May","0516","Woodbine","Borough","Cape May",177926253,178990366,179047243,178654620.66666666]
["0600 Cumberland County - County of Cumberland","0600","Cumberland","County","Cumberland",9377473381,8987154105,9145040450,9169889312]
["0601 Bridgeton City - County of Cumberland","0601","Bridgeton","City","Cumberland",567219532,516702313,525739284,536553709.66666669]
["0602 Commercial Township - County of Cumberland","0602","Commercial","Township","Cumberland",263177166,276149560,257604866,265643864]
["0603 Deerfield Township - County of Cumberland","0603","Deerfield","Township","Cumberland",224598089,219563258,212486010,218882452.33333334]
["0604 Downe Township - County of Cumberland","0604","Downe","Township","Cumberland",182754077,167790308,156324635,168956340]
["0605 Fairfield Township - County of Cumberland","0605","Fairfield","Township","Cumberland",314728313,300882198,324519379,313376630]
["0606 Greenwich Township - County of Cumberland","0606","Greenwich","Township","Cumberland",71504046,68208469,85295279,75002598]
["0607 Hopewell Township - County of Cumberland","0607","Hopewell","Township","Cumberland",357163891,350418446,339571799,349051378.66666669]
["0608 Lawrence Township - County of Cumberland","0608","Lawrence","Township","Cumberland",233906908,238196261,237410274,236504481]
["0609 Maurice River Township - County of Cumberland","0609","Maurice River","Township","Cumberland",302017181,324687540,339144649,321949790]
["0610 Millville City - County of Cumberland","0610","Millville","City","Cumberland",2031674716,1836139988,1809653457,1892489387]
["0611 Shiloh Borough - County of Cumberland","0611","Shiloh","Borough","Cumberland",36623136,31844109,28750280,32405841.666666668]
["0612 Stow Creek Township - County of Cumberland","0612","Stow Creek","Township","Cumberland",125449527,116599766,111970255,118006516]
["0613 Upper Deerfield Township - County of Cumberland","0613","Upper Deerfield","Township","Cumberland",682630907,670041933,623913300,658862046.66666663]
["0614 Vineland City - County of Cumberland","0614","Vineland","City","Cumberland",3984025892,3869929956,4092656983,3982204277]
["0700 Essex County - County of Essex","0700","Essex","County","Essex",95544888714,90359675287,88248300677,91384288226]
["0701 Belleville Town Township - County of Essex","0701","Belleville Town","Township","Essex",3646181742,3457332879,3038974177,3380829599.3333335]
["0702 Bloomfield Town Township - County of Essex","0702","Bloomfield Town","Township","Essex",5103226053,4875860213,4546418121,4841834795.666667]
["0703 Caldwell Borough Township - County of Essex","0703","Caldwell Borough","Township","Essex",1121561031,1108233634,1074433271,1101409312]
["0704 Cedar Grove Township - County of Essex","0704","Cedar Grove","Township","Essex",2520742081,2415709360,2333760267,2423403902.6666665]
["0705 East Orange City - County of Essex","0705","East Orange","City","Essex",3485036528,3443870718,3608835303,3512580849.6666665]
["0706 Essex Fells Borough Township - County of Essex","0706","Essex Fells Borough","Township","Essex",828256986,804508752,762281420,798349052.66666663]
["0707 Fairfield Township - County of Essex","0707","Fairfield","Township","Essex",3084367448,2983120500,2918099943,2995195963.6666665]
["0708 Glen Ridge Borough Township - County of Essex","0708","Glen Ridge Borough","Township","Essex",1568368737,1498659014,1460812397,1509280049.3333333]
["0709 Irvington Town Township - County of Essex","0709","Irvington Town","Township","Essex",3133500828,3140889235,2885478700,3053289587.6666665]
["0710 Livingston Township - County of Essex","0710","Livingston","Township","Essex",7976852583,7860738785,7642354921,7826648763]
["0711 Maplewood Township - County of Essex","0711","Maplewood","Township","Essex",3933658313,3673260362,3601182208,3736033627.6666665]
["0712 Millburn Township - County of Essex","0712","Millburn","Township","Essex",8987310375,8816586125,8703807504,8835901334.666666]
["0713 Montclair Township Township - County of Essex","0713","Montclair Township","Township","Essex",7375934340,7065577462,6839462698,7093658166.666667]
["0714 Newark City - County of Essex","0714","Newark","City","Essex",18330990613,15937429699,16178564453,16815661588.333334]
["0715 North Caldwell Borough - County of Essex","0715","North Caldwell","Borough","Essex",1807456504,1766740944,1675163999,1749787149]
["0716 Nutley Town Township - County of Essex","0716","Nutley Town","Township","Essex",4297818976,4109699890,3960830896,4122783254]
["0717 Orange City - County of Essex","0717","Orange","City","Essex",1781540980,1729901099,1508988099,1673476726]
["0718 Roseland Borough - County of Essex","0718","Roseland","Borough","Essex",1953824061,1806161208,1965922916,1908636061.6666667]
["0719 South Orange Township Village - County of Essex","0719","South Orange Township","Village","Essex",2837390914,2770776784,2656178538,2754782078.6666665]
["0720 Verona Borough Township - County of Essex","0720","Verona Borough","Township","Essex",2442867697,2394318460,2303585208,2380257121.6666665]
["0721 West Caldwell Borough Township - County of Essex","0721","West Caldwell Borough","Township","Essex",2557775707,2391622610,2339319044,2429572453.6666665]
["0722 West Orange Town Township - County of Essex","0722","West Orange Town","Township","Essex",6770226217,6308677554,6243846594,6440916788.333333]
["0800 Gloucester County - County of Gloucester","0800","Gloucester","County","Gloucester",28772707691,28407703207,27481846294,28220752397.333332]
["0801 Clayton Borough - County of Gloucester","0801","Clayton","Borough","Gloucester",518873022,518493527,509796816,515721121.66666669]
["0802 Deptford Township - County of Gloucester","0802","Deptford","Township","Gloucester",3077091144,3188925849,3009387791,3091801594.6666665]
["0803 East Greenwich Township - County of Gloucester","0803","East Greenwich","Township","Gloucester",1091663371,1103083630,1107958613,1100901871.3333333]
["0804 Elk Township - County of Gloucester","0804","Elk","Township","Gloucester",398099727,384813438,377813761,386908975.33333331]
["0805 Franklin Township - County of Gloucester","0805","Franklin","Township","Gloucester",1485142672,1459886816,1376730077,1440586521.6666667]
["0806 Glassboro Borough - County of Gloucester","0806","Glassboro","Borough","Gloucester",1228756427,1218956435,1200163561,1215958807.6666667]
["0807 Greenwich Township - County of Gloucester","0807","Greenwich","Township","Gloucester",1016126394,990860768,1051468900,1019485354]
["0808 Harrison Township - County of Gloucester","0808","Harrison","Township","Gloucester",1485104475,1434559291,1397619108,1439094291.3333333]
["0809 Logan Township - County of Gloucester","0809","Logan","Township","Gloucester",1203001130,1137826734,1135404149,1158744004.3333333]
["0810 Mantua Township - County of Gloucester","0810","Mantua","Township","Gloucester",1557772607,1508308873,1452400755,1506160745]
["0811 Monroe Township - County of Gloucester","0811","Monroe","Township","Gloucester",3000058581,2886710731,2764959461,2883909591]
["0812 National Park Borough - County of Gloucester","0812","National Park","Borough","Gloucester",185447775,180306369,182964828,182906324]
["0813 Newfield Borough - County of Gloucester","0813","Newfield","Borough","Gloucester",142042738,133866286,132712618,136207214]
["0814 Paulsboro Borough - County of Gloucester","0814","Paulsboro","Borough","Gloucester",478933711,467858096,448071756,464954521]
["0815 Pitman Borough - County of Gloucester","0815","Pitman","Borough","Gloucester",743626214,741086040,712117368,732276540.66666663]
["0816 South Harrison Township - County of Gloucester","0816","South Harrison","Township","Gloucester",362465087,379807291,366636231,369636203]
["0817 Swedesboro Borough - County of Gloucester","0817","Swedesboro","Borough","Gloucester",182734728,185677817,190840347,186417630.66666666]
["0818 Washington Township - County of Gloucester","0818","Washington","Township","Gloucester",5284974590,5166945462,4837141290,5096353780.666667]
["0819 Wenonah Borough - County of Gloucester","0819","Wenonah","Borough","Gloucester",280644065,276018243,258122406,271594904.66666669]
["0820 West Deptford Township - County of Gloucester","0820","West Deptford","Township","Gloucester",2568425926,2605458234,2670603875,2614829345]
["0821 Westville Borough - County of Gloucester","0821","Westville","Borough","Gloucester",297806339,287203819,260111291,281707149.66666669]
["0822 Woodbury City - County of Gloucester","0822","Woodbury","City","Gloucester",690991697,678817124,625491803,665100208]
["0823 Woodbury Heights Borough - County of Gloucester","0823","Woodbury Heights","Borough","Gloucester",294101467,302921735,275520492,290847898]
["0824 Woolwich Township - County of Gloucester","0824","Woolwich","Township","Gloucester",1198823804,1169310599,1137808997,1168647800]
["0900 Hudson County - County of Hudson","0900","Hudson","County","Hudson",65490681766,61277951527,57358268809,61375634034]
["0901 Bayonne City - County of Hudson","0901","Bayonne","City","Hudson",6322716781,5789043010,5543243285,5885001025.333333]
["0902 East Newark Borough - County of Hudson","0902","East Newark","Borough","Hudson",165370462,143572311,119259505,142734092.66666666]
["0903 Guttenberg Town - County of Hudson","0903","Guttenberg","Town","Hudson",1122039643,1015770475,932423269,1023411129]
["0904 Harrison Town - County of Hudson","0904","Harrison","Town","Hudson",1248899229,1183482158,1121230679,1184537355.3333333]
["0905 Hoboken City - County of Hudson","0905","Hoboken","City","Hudson",11034292710,10243080661,9703632086,10327001819]
["0906 Jersey City City - County of Hudson","0906","Jersey City","City","Hudson",22168179499,19960022650,18609326329,20245842826]
["0907 Kearny Town - County of Hudson","0907","Kearny","Town","Hudson",3875773024,3641977755,3389278275,3635676351.3333335]
["0908 North Bergen Township - County of Hudson","0908","North Bergen","Township","Hudson",5790120404,5463677713,4959112789,5404303635.333333]
["0909 Secaucus Town - County of Hudson","0909","Secaucus","Town","Hudson",5079509805,5320037039,4845036309,5081527717.666667]
["0910 Union City City - County of Hudson","0910","Union City","City","Hudson",3652274296,3457231116,3311530199,3473678537]
["0911 Weehawken Township - County of Hudson","0911","Weehawken","Township","Hudson",2241424808,2284138019,2363177498,2296246775]
["0912 West New York Town - County of Hudson","0912","West New York","Town","Hudson",2790081105,2775918620,2461018586,2675672770.3333335]
["1000 Hunterdon County - County of Hunterdon","1000","Hunterdon","County","Hunterdon",23747050376,23093137691,22140517232,22993568433]
["1001 Alexandria Township - County of Hunterdon","1001","Alexandria","Township","Hunterdon",877387506,847471740,809136045,844665097]
["1002 Bethlehem Township - County of Hunterdon","1002","Bethlehem","Township","Hunterdon",657943253,628977158,599056390,628658933.66666663]
["1003 Bloomsbury Borough - County of Hunterdon","1003","Bloomsbury","Borough","Hunterdon",115907265,115876169,110212097,113998510.33333333]
["1004 Califon Borough - County of Hunterdon","1004","Califon","Borough","Hunterdon",154682746,152563051,147337466,151527754.33333334]
["1005 Clinton Town - County of Hunterdon","1005","Clinton","Town","Hunterdon",420017469,402800654,401471596,408096573]
["1006 Clinton Township - County of Hunterdon","1006","Clinton","Township","Hunterdon",2558919364,2446419074,2347777638,2451038692]
["1007 Delaware Township - County of Hunterdon","1007","Delaware","Township","Hunterdon",1008521965,980015262,955448166,981328464.33333337]
["1008 East Amwell Township - County of Hunterdon","1008","East Amwell","Township","Hunterdon",807751756,806446766,781988223,798728915]
["1009 Flemington Borough - County of Hunterdon","1009","Flemington","Borough","Hunterdon",545507388,517404910,469373450,510761916]
["1010 Franklin Township - County of Hunterdon","1010","Franklin","Township","Hunterdon",598001188,580545191,591184019,589910132.66666663]
["1011 Frenchtown Borough - County of Hunterdon","1011","Frenchtown","Borough","Hunterdon",176364865,172023541,165704994,171364466.66666666]
["1012 Glen Gardner Borough - County of Hunterdon","1012","Glen Gardner","Borough","Hunterdon",188075959,181875426,171584379,180511921.33333334]
["1013 Hampton Borough - County of Hunterdon","1013","Hampton","Borough","Hunterdon",141626466,135988956,131047757,136221059.66666666]
["1014 High Bridge Borough - County of Hunterdon","1014","High Bridge","Borough","Hunterdon",423066353,407523074,388230904,406273443.66666669]
["1015 Holland Township - County of Hunterdon","1015","Holland","Township","Hunterdon",828332758,783585649,747142079,786353495.33333337]
["1016 Kingwood Township - County of Hunterdon","1016","Kingwood","Township","Hunterdon",695312685,656641104,639548292,663834027]
["1017 Lambertville City - County of Hunterdon","1017","Lambertville","City","Hunterdon",770572483,750346362,731517308,750812051]
["1018 Lebanon Borough - County of Hunterdon","1018","Lebanon","Borough","Hunterdon",324320761,304927450,289659285,306302498.66666669]
["1019 Lebanon Township - County of Hunterdon","1019","Lebanon","Township","Hunterdon",1026527701,975915814,937300121,979914545.33333337]
["1020 Milford Borough - County of Hunterdon","1020","Milford","Borough","Hunterdon",152676512,145824267,128284539,142261772.66666666]
["1021 Raritan Township - County of Hunterdon","1021","Raritan","Township","Hunterdon",4241087515,4188046269,4117758113,4182297299]
["1022 Readington Township - County of Hunterdon","1022","Readington","Township","Hunterdon",3634645865,3602578342,3266342805,3501189004]
["1023 Stockton Borough - County of Hunterdon","1023","Stockton","Borough","Hunterdon",95474797,94515411,92787094,94259100.666666672]
["1024 Tewksbury Township - County of Hunterdon","1024","Tewksbury","Township","Hunterdon",1817502138,1772208954,1733287416,1774332836]
["1025 Union Township - County of Hunterdon","1025","Union","Township","Hunterdon",921648450,886867803,841915490,883477247.66666663]
["1026 West Amwell Township - County of Hunterdon","1026","West Amwell","Township","Hunterdon",565175168,555749294,545421566,555448676]
["1100 Mercer County - County of Mercer","1100","Mercer","County","Mercer",47753896091,45983174631,44501484759,46079518493.666664]
["1101 East Windsor Township - County of Mercer","1101","East Windsor","Township","Mercer",3097753937,3101746635,2996308892,3065269821.3333335]
["1102 Ewing Township - County of Mercer","1102","Ewing","Township","Mercer",3550100448,3246797343,3238107402,3345001731]
["1103 Hamilton Township - County of Mercer","1103","Hamilton","Township","Mercer",10397335604,9803644360,9094338898,9765106287.333334]
["1104 Hightstown Borough - County of Mercer","1104","Hightstown","Borough","Mercer",508151948,481939062,463774978,484621996]
["1105 Hopewell Borough - County of Mercer","1105","Hopewell","Borough","Mercer",322856074,321204482,329270252,324443602.66666669]
["1106 Hopewell Township - County of Mercer","1106","Hopewell","Township","Mercer",4278955222,4204752790,4108070332,4197259448]
["1107 Lawrence Township - County of Mercer","1107","Lawrence","Township","Mercer",5505067315,5120673114,5208944797,5278228408.666667]
["1108 Pennington Borough - County of Mercer","1108","Pennington","Borough","Mercer",522779603,501439010,491076649,505098420.66666669]
["1111 Trenton City - County of Mercer","1111","Trenton","City","Mercer",2963317318,3000557732,2725563047,2896479365.6666665]
["1112 Robbinsville Township - County of Mercer","1112","Robbinsville","Township","Mercer",2602991539,2566129637,2439581232,2536234136]
["1113 West Windsor Township - County of Mercer","1113","West Windsor","Township","Mercer",6373003241,6240828729,6190987059,6268273009.666667]
["1114 Princeton - County of Mercer","1114","Princeton","Township","Mercer",6373003241,6240828729,6190987059,6268273009.666667]
["1200 Middlesex County - County of Middlesex","1200","Middlesex","County","Middlesex",111014524284,106165954106,102315132475,106498536955]
["1201 Carteret Borough - County of Middlesex","1201","Carteret","Borough","Middlesex",2723970853,2608561296,2304122147,2545551432]
["1202 Cranbury Township - County of Middlesex","1202","Cranbury","Township","Middlesex",1784680304,1715272515,1660049751,1720000856.6666667]
["1203 Dunellen Borough - County of Middlesex","1203","Dunellen","Borough","Middlesex",669380521,633875770,594712959,632656416.66666663]
["1204 East Brunswick Township - County of Middlesex","1204","East Brunswick","Township","Middlesex",8231592095,7999207870,7641016362,7957272109]
["1205 Edison Township - County of Middlesex","1205","Edison","Township","Middlesex",16107145526,15721206852,14846868366,15558406914.666666]
["1206 Helmetta Borough - County of Middlesex","1206","Helmetta","Borough","Middlesex",251849359,245357299,237253437,244820031.66666666]
["1207 Highland Park Borough - County of Middlesex","1207","Highland Park","Borough","Middlesex",1495825940,1434157231,1353042225,1427675132]
["1208 Jamesburg Borough - County of Middlesex","1208","Jamesburg","Borough","Middlesex",535516071,520533728,497542582,517864127]
["1209 Old Bridge Township - County of Middlesex","1209","Old Bridge","Township","Middlesex",7827695080,7519818363,7330596249,7559369897.333333]
["1210 Metuchen Borough - County of Middlesex","1210","Metuchen","Borough","Middlesex",2330883749,2277210934,2206352327,2271482336.6666665]
["1211 Middlesex Borough - County of Middlesex","1211","Middlesex","Borough","Middlesex",1692162940,1650272848,1573528576,1638654788]
["1212 Milltown Borough - County of Middlesex","1212","Milltown","Borough","Middlesex",1029820319,982388085,935861956,982690120]
["1213 Monroe Township - County of Middlesex","1213","Monroe","Township","Middlesex",7810906296,7076277013,7126537940,7337907083]
["1214 New Brunswick City - County of Middlesex","1214","New Brunswick","City","Middlesex",3431637861,3237152881,3137079188,3268623310]
["1215 North Brunswick Township - County of Middlesex","1215","North Brunswick","Township","Middlesex",4941534143,4803919361,4782985575,4842813026.333333]
["1216 Perth Amboy City - County of Middlesex","1216","Perth Amboy","City","Middlesex",3912832521,3720565150,3724001924,3785799865]
["1217 Piscataway Township - County of Middlesex","1217","Piscataway","Township","Middlesex",6716129329,6605442925,6150730014,6490767422.666667]
["1218 Plainsboro Township - County of Middlesex","1218","Plainsboro","Township","Middlesex",3810301669,3829457040,3867464009,3835740906]
["1219 Sayreville Borough - County of Middlesex","1219","Sayreville","Borough","Middlesex",5293808328,5187553385,4988091866,5156484526.333333]
["1220 South Amboy City - County of Middlesex","1220","South Amboy","City","Middlesex",1005028689,970434129,927008744,967490520.66666663]
["1221 South Brunswick Township - County of Middlesex","1221","South Brunswick","Township","Middlesex",8458582006,8544055666,8323648898,8442095523.333333]
["1222 South Plainfield Borough - County of Middlesex","1222","South Plainfield","Borough","Middlesex",4123574406,4063693558,3930739384,4039335782.6666665]
["1223 South River Borough - County of Middlesex","1223","South River","Borough","Middlesex",1616767248,1562365907,1441461958,1540198371]
["1224 Spotswood Borough - County of Middlesex","1224","Spotswood","Borough","Middlesex",919603927,882384304,833194357,878394196]
["1225 Woodbridge Township - County of Middlesex","1225","Woodbridge","Township","Middlesex",14293295104,12374789996,11901241681,12856442260.333334]
["1300 Monmouth County - County of Monmouth","1300","Monmouth","County","Monmouth",125225848042,120996914009,116703536625,120975432892]
["1301 Allenhurst Borough - County of Monmouth","1301","Allenhurst","Borough","Monmouth",590935773,664535965,599588048,618353262]
["1302 Allentown Borough - County of Monmouth","1302","Allentown","Borough","Monmouth",215807709,210031037,200557578,208798774.66666666]
["1303 Asbury Park City - County of Monmouth","1303","Asbury Park","City","Monmouth",1318037265,1432138012,1297080417,1349085231.3333333]
["1304 Atlantic Highlands Borough - County of Monmouth","1304","Atlantic Highlands","Borough","Monmouth",834169606,803716789,786976309,808287568]
["1305 Avon-By-The-Sea Borough - County of Monmouth","1305","Avon-By-The-Sea","Borough","Monmouth",1035825240,1002474972,1002935316,1013745176]
["1306 Belmar Borough - County of Monmouth","1306","Belmar","Borough","Monmouth",1765226781,1733274072,1663508783,1720669878.6666667]
["1307 Bradley Beach Borough - County of Monmouth","1307","Bradley Beach","Borough","Monmouth",1177639168,1163201544,1138837237,1159892649.6666667]
["1308 Brielle Borough - County of Monmouth","1308","Brielle","Borough","Monmouth",1583651912,1567605886,1503192017,1551483271.6666667]
["1309 Colts Neck Township - County of Monmouth","1309","Colts Neck","Township","Monmouth",3341020364,3198667662,3113644130,3217777385.3333335]
["1310 Deal Borough - County of Monmouth","1310","Deal","Borough","Monmouth",2909295716,2913297005,2647574231,2823388984]
["1311 Eatontown Borough - County of Monmouth","1311","Eatontown","Borough","Monmouth",2484616041,2389239716,2152904339,2342253365.3333335]
["1312 Englishtown Borough - County of Monmouth","1312","Englishtown","Borough","Monmouth",245065752,238092995,235241820,239466855.66666666]
["1313 Fair Haven Borough - County of Monmouth","1313","Fair Haven","Borough","Monmouth",1552515955,1539598213,1504719294,1532277820.6666667]
["1314 Farmingdale Borough - County of Monmouth","1314","Farmingdale","Borough","Monmouth",150702456,144625262,147023360,147450359.33333334]
["1315 Freehold Borough - County of Monmouth","1315","Freehold","Borough","Monmouth",1181821429,1194849044,1129298626,1168656366.3333333]
["1316 Freehold Township - County of Monmouth","1316","Freehold","Township","Monmouth",6579354815,6378382794,6156136446,6371291351.666667]
["1317 Highlands Borough - County of Monmouth","1317","Highlands","Borough","Monmouth",811536301,734123900,686771370,744143857]
["1318 Holmdel Township - County of Monmouth","1318","Holmdel","Township","Monmouth",4475704736,4281291602,4174761822,4310586053.333333]
["1319 Howell Township - County of Monmouth","1319","Howell","Township","Monmouth",6944095460,6749222018,6498310177,6730542551.666667]
["1320 Interlaken Borough - County of Monmouth","1320","Interlaken","Borough","Monmouth",297962321,285928735,273351107,285747387.66666669]
["1321 Keansburg Borough - County of Monmouth","1321","Keansburg","Borough","Monmouth",784087899,681658804,639228484,701658395.66666663]
["1322 Keyport Borough - County of Monmouth","1322","Keyport","Borough","Monmouth",749470822,735963325,694757284,726730477]
["1323 Little Silver Borough - County of Monmouth","1323","Little Silver","Borough","Monmouth",1658542834,1618765226,1614691473,1630666511]
["1324 Loch Arbour Village - County of Monmouth","1324","Loch Arbour","Village","Monmouth",194654703,195848915,181159825,190554481]
["1325 Long Branch City - County of Monmouth","1325","Long Branch","City","Monmouth",5219331698,4879222659,4719593448,4939382601.666667]
["1326 Manalapan Township - County of Monmouth","1326","Manalapan","Township","Monmouth",6451967145,6272438020,6162301136,6295568767]
["1327 Manasquan Borough - County of Monmouth","1327","Manasquan","Borough","Monmouth",2158132377,2169860125,2049523889,2125838797]
["1328 Marlboro Township - County of Monmouth","1328","Marlboro","Township","Monmouth",7584031317,7472289477,7257052992,7437791262]
["1329 Matawan Borough - County of Monmouth","1329","Matawan","Borough","Monmouth",1071590497,1026669088,1004284433,1034181339.3333334]
["1330 Aberdeen Township - County of Monmouth","1330","Aberdeen","Township","Monmouth",2177216947,2147847508,2157040058,2160701504.3333335]
["1331 Middletown Township - County of Monmouth","1331","Middletown","Township","Monmouth",11938581519,11365037892,10814353250,11372657553.666666]
["1332 Millstone Township - County of Monmouth","1332","Millstone","Township","Monmouth",2034325127,1957885410,1902994721,1965068419.3333333]
["1333 Monmouth Beach Borough - County of Monmouth","1333","Monmouth Beach","Borough","Monmouth",1423030809,1368246196,1336393160,1375890055]
["1334 Neptune Township - County of Monmouth","1334","Neptune","Township","Monmouth",3940560075,3789039812,3650778786,3793459557.6666665]
["1335 Neptune City Borough - County of Monmouth","1335","Neptune City","Borough","Monmouth",558686884,539064617,528435760,542062420.33333337]
["1336 Tinton Falls Borough - County of Monmouth","1336","Tinton Falls","Borough","Monmouth",3159286180,3214250429,3016250815,3129929141.3333335]
["1337 Ocean Township - County of Monmouth","1337","Ocean","Township","Monmouth",5531303739,5113211543,4799011729,5147842337]
["1338 Oceanport Borough - County of Monmouth","1338","Oceanport","Borough","Monmouth",1301571497,1211237129,1193991681,1235600102.3333333]
["1339 Hazlet Township - County of Monmouth","1339","Hazlet","Township","Monmouth",2588646511,2513583580,2437643844,2513291311.6666665]
["1340 Red Bank Borough - County of Monmouth","1340","Red Bank","Borough","Monmouth",2339711542,2213778758,2124880286,2226123528.6666665]
["1341 Roosevelt Borough - County of Monmouth","1341","Roosevelt","Borough","Monmouth",94149175,94029385,88548537,92242365.666666672]
["1342 Rumson Borough - County of Monmouth","1342","Rumson","Borough","Monmouth",3608635942,3491528013,3440384284,3513516079.6666665]
["1343 Sea Bright Borough - County of Monmouth","1343","Sea Bright","Borough","Monmouth",773204124,763698534,765974332,767625663.33333337]
["1344 Sea Girt Borough - County of Monmouth","1344","Sea Girt","Borough","Monmouth",2012890431,1938959556,1959184562,1970344849.6666667]
["1345 Shrewsbury Borough - County of Monmouth","1345","Shrewsbury","Borough","Monmouth",1179509875,1138148582,1057566381,1125074946]
["1346 Shrewsbury Township - County of Monmouth","1346","Shrewsbury","Township","Monmouth",75388179,69465875,68058708,70970920.666666672]
["1347 Lake Como (South Belmar) Borough - County of Monmouth","1347","Lake Como (South Belmar)","Borough","Monmouth",388575105,385249092,381353508,385059235]
["1348 Spring Lake Borough - County of Monmouth","1348","Spring Lake","Borough","Monmouth",3506550710,3339471953,3403557038,3416526567]
["1349 Spring Lake Heights Borough - County of Monmouth","1349","Spring Lake Heights","Borough","Monmouth",1165108914,1157428159,1109787099,1144108057.3333333]
["1350 Union Beach Borough - County of Monmouth","1350","Union Beach","Borough","Monmouth",664149842,640871672,609328399,638116637.66666663]
["1351 Upper Freehold Township - County of Monmouth","1351","Upper Freehold","Township","Monmouth",1341384631,1292455801,1252370691,1295403707.6666667]
["1352 Wall Township - County of Monmouth","1352","Wall","Township","Monmouth",6679611971,6247611102,6136398565,6354540546]
["1353 West Long Branch Borough - County of Monmouth","1353","West Long Branch","Borough","Monmouth",1376974221,1327800549,1234245040,1313006603.3333333]
["1400 Morris County - County of Morris","1400","Morris","County","Morris",101776499284,97902386347,94977748241,98218877957.333328]
["1401 Boonton Town - County of Morris","1401","Boonton","Town","Morris",1263415725,1219046981,1152784980,1211749228.6666667]
["1402 Boonton Township - County of Morris","1402","Boonton","Township","Morris",1074017866,1016294563,984072594,1024795007.6666666]
["1403 Butler Borough - County of Morris","1403","Butler","Borough","Morris",1046415419,1015514810,978268457,1013399562]
["1404 Chatham Borough - County of Morris","1404","Chatham","Borough","Morris",2357398831,2271795925,2329736842,2319643866]
["1405 Chatham Township - County of Morris","1405","Chatham","Township","Morris",3229679613,3193385088,3185247249,3202770650]
["1406 Chester Borough - County of Morris","1406","Chester","Borough","Morris",469208558,437444244,414926153,440526318.33333331]
["1407 Chester Township - County of Morris","1407","Chester","Township","Morris",2144890182,2064802264,2004946501,2071546315.6666667]
["1408 Denville Township - County of Morris","1408","Denville","Township","Morris",3393139991,3391997625,3350706876,3378614830.6666665]
["1409 Dover Town - County of Morris","1409","Dover","Town","Morris",1535204941,1515002067,1480450083,1510219030.3333333]
["1410 East Hanover Township - County of Morris","1410","East Hanover","Township","Morris",4036129222,3811144312,3678273375,3841848969.6666665]
["1411 Florham Park Borough - County of Morris","1411","Florham Park","Borough","Morris",3306029230,3360587791,3322139778,3329585599.6666665]
["1412 Hanover Township - County of Morris","1412","Hanover","Township","Morris",4117893276,4084840255,3862365559,4021699696.6666665]
["1413 Harding Twp. Township - County of Morris","1413","Harding Twp.","Township","Morris",2580056299,2648422662,2551868766,2593449242.3333335]
["1414 Jefferson Township - County of Morris","1414","Jefferson","Township","Morris",3140013215,2970326691,2872238471,2994192792.3333335]
["1415 Kinnelon Borough - County of Morris","1415","Kinnelon","Borough","Morris",2405986705,2312702820,2212699485,2310463003.3333335]
["1416 Lincoln Park Borough - County of Morris","1416","Lincoln Park","Borough","Morris",1601807160,1550707799,1475877565,1542797508]
["1417 Madison Borough - County of Morris","1417","Madison","Borough","Morris",3637451803,3583175805,3523037774,3581221794]
["1418 Mendham Borough - County of Morris","1418","Mendham","Borough","Morris",1496458786,1409626853,1375002453,1427029364]
["1419 Mendham Township - County of Morris","1419","Mendham","Township","Morris",2208978030,2079307879,2007951409,2098745772.6666667]
["1420 Mine Hill Township - County of Morris","1420","Mine Hill","Township","Morris",512974936,494424391,458539338,488646221.66666669]
["1421 Montville Township - County of Morris","1421","Montville","Township","Morris",5444043036,5163530999,5028168356,5211914130.333333]
["1422 Morris Township - County of Morris","1422","Morris","Township","Morris",5917872903,5596536108,5497815421,5670741477.333333]
["1423 Morris Plains Borough - County of Morris","1423","Morris Plains","Borough","Morris",1596113573,1572942312,1560048741,1576368208.6666667]
["1424 Morristown Town - County of Morris","1424","Morristown","Town","Morris",3188976265,2952366406,2752654090,2964665587]
["1425 Mountain Lakes Borough - County of Morris","1425","Mountain Lakes","Borough","Morris",1421784970,1352726605,1287989930,1354167168.3333333]
["1426 Mount Arlington Borough - County of Morris","1426","Mount Arlington","Borough","Morris",887475703,838688370,801124251,842429441.33333337]
["1427 Mount Olive Township - County of Morris","1427","Mount Olive","Township","Morris",3745471695,3529825576,3305375523,3526890931.3333335]
["1428 Netcong Borough - County of Morris","1428","Netcong","Borough","Morris",316782686,316244085,298395975,310474248.66666669]
["1429 Parsippany-Troy Hills Township - County of Morris","1429","Parsippany-Troy Hills","Township","Morris",9699800233,9332851651,9082278672,9371643518.666666]
["1430 Long Hill Township - County of Morris","1430","Long Hill","Township","Morris",1822788666,1782206920,1703402513,1769466033]
["1431 Pequannock Township - County of Morris","1431","Pequannock","Township","Morris",2849014992,2746144458,2742733470,2779297640]
["1432 Randolph Township - County of Morris","1432","Randolph","Township","Morris",4765562388,4576370690,4430649947,4590861008.333333]
["1433 Riverdale Borough - County of Morris","1433","Riverdale","Borough","Morris",895503169,872810055,841784410,870032544.66666663]
["1434 Rockaway Borough - County of Morris","1434","Rockaway","Borough","Morris",938179459,916030457,890725222,914978379.33333337]
["1435 Rockaway Township - County of Morris","1435","Rockaway","Township","Morris",4773119327,4294685693,4179191955,4415665658.333333]
["1436 Roxbury Township - County of Morris","1436","Roxbury","Township","Morris",3731766359,3616447018,3485397700,3611203692.3333335]
["1437 Victory Gardens Borough - County of Morris","1437","Victory Gardens","Borough","Morris",92959032,83524259,77752222,84745171]
["1438 Washington Township - County of Morris","1438","Washington","Township","Morris",3297175119,3137354206,3044913302,3159814209]
["1439 Wharton Borough - County of Morris","1439","Wharton","Borough","Morris",834959921,790549654,746212833,790574136]
["1500 Ocean County - County of Ocean","1500","Ocean","County","Ocean",106764821653,104086561025,100775907041,103875763239.66667]
["1501 Barnegat Light Borough - County of Ocean","1501","Barnegat Light","Borough","Ocean",1122317109,1095642386,1095328135,1104429210]
["1502 Bay Head Borough - County of Ocean","1502","Bay Head","Borough","Ocean",1579610747,1629395060,1576258071,1595087959.3333333]
["1503 Beach Haven Borough - County of Ocean","1503","Beach Haven","Borough","Ocean",2098028920,2040693673,1998390615,2045704402.6666667]
["1504 Beachwood Borough - County of Ocean","1504","Beachwood","Borough","Ocean",1041864450,1007779787,967244757,1005629664.6666666]
["1505 Berkeley Township - County of Ocean","1505","Berkeley","Township","Ocean",6195481382,5891333257,5578068902,5888294513.666667]
["1506 Brick Township - County of Ocean","1506","Brick","Township","Ocean",12632212715,12012545082,11858371796,12167709864.333334]
["1507 Toms River Township - County of Ocean","1507","Toms River","Township","Ocean",17219223059,16931985210,16524314155,16891840808]
["1508 Eagleswood Township - County of Ocean","1508","Eagleswood","Township","Ocean",279059782,263393680,271664336,271372599.33333331]
["1509 Harvey Cedars Borough - County of Ocean","1509","Harvey Cedars","Borough","Ocean",1449604563,1343881145,1299278595,1364254767.6666667]
["1510 Island Heights Borough - County of Ocean","1510","Island Heights","Borough","Ocean",441762867,418184136,392819317,417588773.33333331]
["1511 Jackson Township - County of Ocean","1511","Jackson","Township","Ocean",7111605604,6913834225,6800491534,6941977121]
["1512 Lacey Township - County of Ocean","1512","Lacey","Township","Ocean",4273548606,4238651174,4080471728,4197557169.3333335]
["1513 Lakehurst Borough - County of Ocean","1513","Lakehurst","Borough","Ocean",200938971,189884089,179954964,190259341.33333334]
["1514 Lakewood Township - County of Ocean","1514","Lakewood","Township","Ocean",8173034637,7964845293,7587789712,7908556547.333333]
["1515 Lavallette Borough - County of Ocean","1515","Lavallette","Borough","Ocean",2356697812,2296925817,2252360150,2301994593]
["1516 Little Egg Harbor Township - County of Ocean","1516","Little Egg Harbor","Township","Ocean",3008719939,2869781309,2749710076,2876070441.3333335]
["1517 Long Beach Township - County of Ocean","1517","Long Beach","Township","Ocean",8575441684,8619632147,8454798316,8549957382.333333]
["1518 Manchester Township - County of Ocean","1518","Manchester","Township","Ocean",4511299606,4290486159,4053837856,4285207873.6666665]
["1519 Mantoloking Borough - County of Ocean","1519","Mantoloking","Borough","Ocean",1648108165,1688234233,1623390584,1653244327.3333333]
["1520 Ocean Township - County of Ocean","1520","Ocean","Township","Ocean",1438847178,1438990959,1399393332,1425743823]
["1521 Ocean Gate Borough - County of Ocean","1521","Ocean Gate","Borough","Ocean",287529825,282107687,260722537,276786683]
["1522 Pine Beach Borough - County of Ocean","1522","Pine Beach","Borough","Ocean",317759312,320743070,307988993,315497125]
["1523 Plumsted Township - County of Ocean","1523","Plumsted","Township","Ocean",1005848910,962672851,909465535,959329098.66666663]
["1524 Point Pleasant Borough - County of Ocean","1524","Point Pleasant","Borough","Ocean",3675834473,3675284299,3509090881,3620069884.3333335]
["1525 Point Pleasant Beach Borough - County of Ocean","1525","Point Pleasant Beach","Borough","Ocean",2450017862,2363240601,2301440873,2371566445.3333335]
["1526 Seaside Heights Borough - County of Ocean","1526","Seaside Heights","Borough","Ocean",849939529,833266564,770748017,817984703.33333337]
["1527 Seaside Park Borough - County of Ocean","1527","Seaside Park","Borough","Ocean",1247137820,1286650825,1259339047,1264375897.3333333]
["1528 Ship Bottom Borough - County of Ocean","1528","Ship Bottom","Borough","Ocean",1359239894,1319405788,1296484831,1325043504.3333333]
["1529 South Toms River Borough - County of Ocean","1529","South Toms River","Borough","Ocean",294323383,278996543,261541072,278286999.33333331]
["1530 Stafford Township - County of Ocean","1530","Stafford","Township","Ocean",5002553993,4837548240,4557956989,4799353074]
["1531 Surf City Borough - County of Ocean","1531","Surf City","Borough","Ocean",1787284017,1735404299,1673345328,1732011214.6666667]
["1532 Tuckerton Borough - County of Ocean","1532","Tuckerton","Borough","Ocean",520235046,515082406,491734714,509017388.66666669]
["1533 Barnegat Township - County of Ocean","1533","Barnegat","Township","Ocean",2609709793,2530059031,2432111293,2523960039]
["1600 Passaic County - County of Passaic","1600","Passaic","County","Passaic",55368129847,53223559860,50206068290,52932585999]
["1601 Bloomingdale Borough - County of Passaic","1601","Bloomingdale","Borough","Passaic",1001539929,939248467,897229970,946006122]
["1602 Clifton City - County of Passaic","1602","Clifton","City","Passaic",10588605813,10228411175,9679380648,10165465878.666666]
["1603 Haledon Borough - County of Passaic","1603","Haledon","Borough","Passaic",681599628,649816801,617316105,649577511.33333337]
["1604 Hawthorne Borough - County of Passaic","1604","Hawthorne","Borough","Passaic",2771706514,2776120144,2495877654,2681234770.6666665]
["1605 Little Falls Township - County of Passaic","1605","Little Falls","Township","Passaic",1914337596,1895111331,1900318223,1903255716.6666667]
["1606 North Haledon Borough - County of Passaic","1606","North Haledon","Borough","Passaic",1491727968,1412594941,1386183757,1430168888.6666667]
["1607 Passaic City - County of Passaic","1607","Passaic","City","Passaic",3739507819,3472561809,3281316060,3497795229.3333335]
["1608 Paterson City - County of Passaic","1608","Paterson","City","Passaic",8856507771,8473651823,7638276081,8322811891.666667]
["1609 Pompton Lakes Borough - County of Passaic","1609","Pompton Lakes","Borough","Passaic",1469804722,1384827155,1260942073,1371857983.3333333]
["1610 Prospect Park Borough - County of Passaic","1610","Prospect Park","Borough","Passaic",392533081,347986683,311882115,350800626.33333331]
["1611 Ringwood Borough - County of Passaic","1611","Ringwood","Borough","Passaic",1853657204,1790549077,1734741041,1792982440.6666667]
["1612 Totowa Borough - County of Passaic","1612","Totowa","Borough","Passaic",2540436341,2502157619,2350057363,2464217107.6666665]
["1613 Wanaque Borough - County of Passaic","1613","Wanaque","Borough","Passaic",1372126598,1349293848,1331630538,1351016994.6666667]
["1614 Wayne Township - County of Passaic","1614","Wayne","Township","Passaic",11195361076,10703855758,10266928042,10722048292]
["1615 West Milford Township - County of Passaic","1615","West Milford","Township","Passaic",3713903851,3439139604,3299804300,3484282585]
["1616 Woodland Park Borough - County of Passaic","1616","Woodland Park","Borough","Passaic",1784773936,1858233625,1754184320,1799063960.3333333]
["1700 Salem County - County of Salem","1700","Salem","County","Salem",5705069412,5609837402,5476729445,5597212086.333333]
["1701 Alloway Township - County of Salem","1701","Alloway","Township","Salem",338929172,308507659,290790698,312742509.66666669]
["1702 Elmer Borough - County of Salem","1702","Elmer","Borough","Salem",113949403,111233828,108881136,111354789]
["1703 Elsinboro Township - County of Salem","1703","Elsinboro","Township","Salem",111768756,113584154,113841728,113064879.33333333]
["1704 Lower Alloways Creek Township - County of Salem","1704","Lower Alloways Creek","Township","Salem",262193861,294813311,273280578,276762583.33333331]
["1705 Mannington Township - County of Salem","1705","Mannington","Township","Salem",206127292,219648378,219482888,215086186]
["1706 Oldmans Township - County of Salem","1706","Oldmans","Township","Salem",216419581,219608601,208039035,214689072.33333334]
["1707 Penns Grove Borough - County of Salem","1707","Penns Grove","Borough","Salem",177148015,180134259,175671161,177651145]
["1708 Pennsville Township - County of Salem","1708","Pennsville","Township","Salem",1334384000,1255357831,1229791707,1273177846]
["1709 Pilesgrove Township - County of Salem","1709","Pilesgrove","Township","Salem",485791060,490223519,472756243,482923607.33333331]
["1710 Pittsgrove Township - County of Salem","1710","Pittsgrove","Township","Salem",702235858,669927164,653665372,675276131.33333337]
["1711 Quinton Township - County of Salem","1711","Quinton","Township","Salem",196319742,210381592,201915377,202872237]
["1712 Salem City - County of Salem","1712","Salem","City","Salem",247702871,232633062,215879661,232071864.66666666]
["1713 Carneys Point Township - County of Salem","1713","Carneys Point","Township","Salem",661543407,681002744,692385109,678310420]
["1714 Upper Pittsgrove Township - County of Salem","1714","Upper Pittsgrove","Township","Salem",355034837,325816120,328838530,336563162.33333331]
["1715 Woodstown Borough - County of Salem","1715","Woodstown","Borough","Salem",295521557,296965180,291510222,294665653]
["1800 Somerset County - County of Somerset","1800","Somerset","County","Somerset",63016424556,61016907601,59687339314,61240223823.666664]
["1801 Bedminster Township - County of Somerset","1801","Bedminster","Township","Somerset",2721340387,2679263058,2572613896,2657739113.6666665]
["1802 Bernards Township - County of Somerset","1802","Bernards","Township","Somerset",7145967376,7009122445,6863212979,7006100933.333333]
["1803 Bernardsville Borough - County of Somerset","1803","Bernardsville","Borough","Somerset",2573855715,2549201551,2453917813,2525658359.6666665]
["1804 Bound Brook Borough - County of Somerset","1804","Bound Brook","Borough","Somerset",926870090,874989180,812466557,871441942.33333337]
["1805 Branchburg Township - County of Somerset","1805","Branchburg","Township","Somerset",3225361294,3153621611,3058366753,3145783219.3333335]
["1806 Bridgewater Township - County of Somerset","1806","Bridgewater","Township","Somerset",10249956100,9602149823,9409750447,9753952123.333334]
["1807 Far Hills Borough - County of Somerset","1807","Far Hills","Borough","Somerset",500826538,465184185,469833326,478614683]
["1808 Franklin Township - County of Somerset","1808","Franklin","Township","Somerset",9575660200,9505301301,9480633337,9520531612.666666]
["1809 Green Brook Township - County of Somerset","1809","Green Brook","Township","Somerset",1570717250,1488986744,1494120147,1517941380.3333333]
["1810 Hillsborough Township - County of Somerset","1810","Hillsborough","Township","Somerset",6230414594,6063452083,5962419258,6085428645]
["1811 Manville Borough - County of Somerset","1811","Manville","Borough","Somerset",1151697151,1093588975,1097958254,1114414793.3333333]
["1812 Millstone Borough - County of Somerset","1812","Millstone","Borough","Somerset",55178069,55367010,56827227,55790768.666666664]
["1813 Montgomery Township - County of Somerset","1813","Montgomery","Township","Somerset",4843255631,4667819337,4529272030,4680115666]
["1814 North Plainfield Borough - County of Somerset","1814","North Plainfield","Borough","Somerset",1832489635,1776852786,1732365400,1780569273.6666667]
["1815 Peapack Gladstone Borough - County of Somerset","1815","Peapack Gladstone","Borough","Somerset",867368420,811128663,744890344,807795809]
["1816 Raritan Borough - County of Somerset","1816","Raritan","Borough","Somerset",1353989913,1280034727,1229083423,1287702687.6666667]
["1817 Rocky Hill Borough - County of Somerset","1817","Rocky Hill","Borough","Somerset",134808272,127970982,130550394,131109882.66666667]
["1818 Somerville Borough - County of Somerset","1818","Somerville","Borough","Somerset",1386061680,1379253270,1288865234,1351393394.6666667]
["1819 South Bound Brook Borough - County of Somerset","1819","South Bound Brook","Borough","Somerset",350433306,340921552,326414127,339256328.33333331]
["1820 Warren Township - County of Somerset","1820","Warren","Township","Somerset",4526538215,4342025405,4247370247,4371977955.666667]
["1821 Watchung Borough - County of Somerset","1821","Watchung","Borough","Somerset",1793634720,1750672913,1726408121,1756905251.3333333]
["1900 Sussex County - County of Sussex","1900","Sussex","County","Sussex",20744546597,20062637842,19152410608,19986531682.333332]
["1901 Andover Borough - County of Sussex","1901","Andover","Borough","Sussex",85362144,75982609,76521906,79288886.333333328]
["1902 Andover Township - County of Sussex","1902","Andover","Township","Sussex",882794203,841646544,788880624,837773790.33333337]
["1903 Branchville Borough - County of Sussex","1903","Branchville","Borough","Sussex",154701583,143767491,148918668,149129247.33333334]
["1904 Byram Township - County of Sussex","1904","Byram","Township","Sussex",1161453055,1134429670,1108154024,1134678916.3333333]
["1905 Frankford Township - County of Sussex","1905","Frankford","Township","Sussex",925486820,881298050,866112430,890965766.66666663]
["1906 Franklin Borough - County of Sussex","1906","Franklin","Borough","Sussex",526708153,510552913,498604818,511955294.66666669]
["1907 Fredon Township - County of Sussex","1907","Fredon","Township","Sussex",530220315,495647540,490839600,505569151.66666669]
["1908 Green Township - County of Sussex","1908","Green","Township","Sussex",565823742,542137870,508161403,538707671.66666663]
["1909 Hamburg Borough - County of Sussex","1909","Hamburg","Borough","Sussex",355809949,337769262,308535799,334038336.66666669]
["1910 Hampton Township - County of Sussex","1910","Hampton","Township","Sussex",752970195,744735755,689903894,729203281.33333337]
["1911 Hardyston Township - County of Sussex","1911","Hardyston","Township","Sussex",1294307403,1230529867,1204935842,1243257704]
["1912 Hopatcong Borough - County of Sussex","1912","Hopatcong","Borough","Sussex",1895810886,1853098389,1783788303,1844232526]
["1913 Lafayette Township - County of Sussex","1913","Lafayette","Township","Sussex",449164200,466410836,415683128,443752721.33333331]
["1914 Montague Township - County of Sussex","1914","Montague","Township","Sussex",449234940,411151263,374944507,411776903.33333331]
["1915 Newton Town - County of Sussex","1915","Newton","Town","Sussex",806065574,764856376,722107057,764343002.33333337]
["1916 Ogdensburg Borough - County of Sussex","1916","Ogdensburg","Borough","Sussex",244300424,240810426,230383652,238498167.33333334]
["1917 Sandyston Township - County of Sussex","1917","Sandyston","Township","Sussex",274210123,272323359,272536080,273023187.33333331]
["1918 Sparta Township - County of Sussex","1918","Sparta","Township","Sussex",3603693760,3603730163,3437702372,3548375431.6666665]
["1919 Stanhope Borough - County of Sussex","1919","Stanhope","Borough","Sussex",415512892,385350968,376249812,392371224]
["1920 Stillwater Township - County of Sussex","1920","Stillwater","Township","Sussex",577646392,553030357,527527050,552734599.66666663]
["1921 Sussex Borough - County of Sussex","1921","Sussex","Borough","Sussex",158089131,139849636,142350154,146762973.66666666]
["1922 Vernon Township - County of Sussex","1922","Vernon","Township","Sussex",3181007605,3060004787,2854045358,3031685916.6666665]
["1923 Walpack Township - County of Sussex","1923","Walpack","Township","Sussex",2443618,2443618,2443618,2443618]
["1924 Wantage Township - County of Sussex","1924","Wantage","Township","Sussex",1451729490,1371080093,1323080509,1381963364]
["2000 Union County - County of Union","2000","Union","County","Union",74911051683,70766864441,68834075514,71503997212.666672]
["2001 Berkeley Heights Township - County of Union","2001","Berkeley Heights","Township","Union",3454198738,3518096488,3323188518,3431827914.6666665]
["2002 Clark Township - County of Union","2002","Clark","Township","Union",2618319640,2526001040,2527841831,2557387503.6666665]
["2003 Cranford Township - County of Union","2003","Cranford","Township","Union",4247650704,4128316000,4077273449,4151080051]
["2004 Elizabeth City - County of Union","2004","Elizabeth","City","Union",8521863465,7668946610,7027656366,7739488813.666667]
["2005 Fanwood Borough - County of Union","2005","Fanwood","Borough","Union",1219761497,1152934542,1139387531,1170694523.3333333]
["2006 Garwood Borough - County of Union","2006","Garwood","Borough","Union",697370398,675594741,672118971,681694703.33333337]
["2007 Hillside Township - County of Union","2007","Hillside","Township","Union",2192299818,1970460585,1852260434,2005006945.6666667]
["2008 Kenilworth Borough - County of Union","2008","Kenilworth","Borough","Union",1816242487,1639442876,1627211294,1694298885.6666667]
["2009 Linden City - County of Union","2009","Linden","City","Union",6123110724,5770362715,5607779867,5833751102]
["2010 Mountainside Borough - County of Union","2010","Mountainside","Borough","Union",1866499046,1708905528,1726381542,1767262038.6666667]
["2011 New Providence Borough - County of Union","2011","New Providence","Borough","Union",2594827682,2534702915,2522742689,2550757762]
["2012 Plainfield City - County of Union","2012","Plainfield","City","Union",3411365145,3039311173,2773343894,3074673404]
["2013 Rahway City - County of Union","2013","Rahway","City","Union",3630030979,3412747461,3183317627,3408698689]
["2014 Roselle Borough - County of Union","2014","Roselle","Borough","Union",1801451180,1655244105,1489435765,1648710350]
["2015 Roselle Park Borough - County of Union","2015","Roselle Park","Borough","Union",1297241704,1227639386,1158598470,1227826520]
["2016 Scotch Plains Township - County of Union","2016","Scotch Plains","Township","Union",4157595397,3980726362,3995264386,4044528715]
["2017 Springfield Township - County of Union","2017","Springfield","Township","Union",3029819605,2911049232,2828141764,2923003533.6666665]
["2018 Summit City - County of Union","2018","Summit","City","Union",7274554630,6797201785,7181251785,7084336066.666667]
["2019 Union Township - County of Union","2019","Union","Township","Union",7323735600,7086114997,6814242523,7074697706.666667]
["2020 Westfield Township - County of Union","2020","Westfield","Township","Union",7616579751,7346532407,7290103315,7417738491]
["2021 Winfield Township - County of Union","2021","Winfield","Township","Union",16533493,16533493,16533493,16533493]
["2100 Warren County - County of Warren","2100","Warren","County","Warren",13331478732,12720822428,12004619434,12685640198]
["2101 Allamuchy Township - County of Warren","2101","Allamuchy","Township","Warren",704028289,651549274,610967090,655514884.33333337]
["2102 Alpha Borough - County of Warren","2102","Alpha","Borough","Warren",232083189,223193566,216059413,223778722.66666666]
["2103 Belvidere Township - County of Warren","2103","Belvidere","Township","Warren",276158857,268103781,238383773,260882137]
["2104 Blairstown Township - County of Warren","2104","Blairstown","Township","Warren",916149515,864301719,792137375,857529536.33333337]
["2105 Franklin Township - County of Warren","2105","Franklin","Township","Warren",467080340,442286349,420904443,443423710.66666669]
["2106 Frelinghuysen Township - County of Warren","2106","Frelinghuysen","Township","Warren",319083411,306932255,316797046,314270904]
["2107 Greenwich Township - County of Warren","2107","Greenwich","Township","Warren",797172349,756725010,717904699,757267352.66666663]
["2108 Hackettstown Town - County of Warren","2108","Hackettstown","Town","Warren",1124398381,1103963693,1040400395,1089587489.6666667]
["2109 Hardwick Township - County of Warren","2109","Hardwick","Township","Warren",232629969,224437554,209894825,222320782.66666666]
["2110 Harmony Township - County of Warren","2110","Harmony","Township","Warren",665145556,650613893,587308793,634356080.66666663]
["2111 Hope Township - County of Warren","2111","Hope","Township","Warren",286925076,271353710,250899656,269726147.33333331]
["2112 Independence Township - County of Warren","2112","Independence","Township","Warren",705959556,677218315,653225664,678801178.33333337]
["2113 Knowlton Township - County of Warren","2113","Knowlton","Township","Warren",393401581,367808447,353977237,371729088.33333331]
["2114 Liberty Township - County of Warren","2114","Liberty","Township","Warren",343635832,328432302,311693656,327920596.66666669]
["2115 Lopatcong Township - County of Warren","2115","Lopatcong","Township","Warren",1022382998,988447952,956490108,989107019.33333337]
["2116 Mansfield Township - County of Warren","2116","Mansfield","Township","Warren",903283393,834946275,764409760,834213142.66666663]
["2117 Oxford Township - County of Warren","2117","Oxford","Township","Warren",233215955,218652298,213401077,221756443.33333334]
["2118 Pahaquarry Township - County of Warren","2118","Pahaquarry","Township","Warren"]
["2119 Phillipsburg Town - County of Warren","2119","Phillipsburg","Town","Warren",1058096178,1039810870,986106365,1028004471]
["2120 Pohatcong Township - County of Warren","2120","Pohatcong","Township","Warren",443138679,412635549,397744268,417839498.66666669]
["2121 Washington Borough - County of Warren","2121","Washington","Borough","Warren",580740357,573904473,515823777,556822869]
["2122 Washington Township - County of Warren","2122","Washington","Township","Warren",901358782,860925712,820815079,861033191]
["2123 White Township - County of Warren","2123","White","Township","Warren",725410489,654579431,629274935,669754951.66666663]