{"text_format":"1","workbook":"xlsx","n_sheets":43,"sheets":["Instructions","Student Info","Date & Time","Calendar","Criteria","Paper Form","Data Source","Report","Raw Data","Data 1","Data 2","Data 3","Data 4","Data 5","Data 6","Data 7","Data 8","Data 9","Data 10","Data 11","Data 12","Data 13","Data 14","Data 15","Data 16","Data 17","Data 18","Data 19","Data 20","Data 21","Data 22","Data 23","Data 24","Data 25","Data 26","Data 27","Data 28","Data 29","Data 30","Data 31","Data 29 (2)","Data 30 (2)","Data 31 (2)"],"not_rendered":{"charts":15,"images":0,"macros":1,"external_links":0,"defined_names":137,"comments":0,"pivot_tables":0},"unopened":[],"bounds":{"document_bytes":16777216,"sheet_cells":100000,"rows_first":2000,"rows_last":500,"rows_between":2000,"halvings":0,"cell_chars":16384,"cell_head_chars":4096},"cells_cut":0,"cells_raw":0,"read":"whole","date_system":"1900"}

{"sheet":"Instructions","index":0,"n_rows":19,"n_cols":3,"rows_kept":19,"cut":false,"hidden":false,"merged":[[14,2,15,8],[0,0,0,10],[2,2,3,8],[5,2,6,8],[8,2,9,8],[11,2,12,8]]}
["Instructions"]
[]
[null,null,"Enter information about the student"]
[]
[]
[null,null,"Select criteria for reporting behaviors"]
[]
[]
[null,null,"Print data collection forms and begin data collection"]
[]
[]
[null,null,"Go to calendar and input data from paper forms"]
[]
[]
[null,null,"Print report"]
[]
["*CLICK on BLUE buttons to navigate to each worksheet"]
["Disclaimer: Please follow your district's internal required documentation in addition to this ABC Data Collection tool when any"]
["physical intervention or involuntary removal for safety purposes is utlized."]

{"sheet":"Student Info","index":1,"n_rows":10,"n_cols":11,"rows_kept":10,"cut":false,"hidden":false,"merged":[[7,3,7,5],[7,6,7,8],[0,0,0,12],[2,3,2,5],[2,6,2,8],[3,3,3,5],[3,6,3,8],[2,1,2,2],[4,1,4,2],[4,3,4,5],[6,1,6,2],[6,3,6,5],[6,6,6,8],[8,3,8,5],[8,6,8,8],[9,3,9,5],[9,6,9,8],[8,1,1048575,2]]}
["Student Information"]
[]
[null,"Student Name:",null,null,null,null,null,null,null,null,"Grade:"]
[null,null,null,"First Name",null,null,"Last Name"]
[null,"School Name:",null,null,null,null,null,null,null,null,"Gender:"]
[]
[null,"Teacher Name:"]
[null,null,null,"First Name/Initial",null,null,"Last Name"]
[null,"Person Responsible for Data Collection"]
[null,null,null,"First Name/Initial",null,null,"Last Name"]

{"sheet":"Date & Time","index":2,"n_rows":12,"n_cols":6,"rows_kept":12,"cut":false,"hidden":false,"merged":[[0,0,0,11]]}
["Date & Time"]
["Instructions: ",null,"Data must be collected consistently for 3-15 days depending on results."]
[null,null,"Enter the time of the school day OR observation time frame (e.g., 8:00-3:00 or 10:00-12:00)"]
[]
[null,null,"Start Time",null,"End Time"]
[null,null,null,"to",null,"Enter AM or PM"]
[]
[null,null,"Enter the date you will start data collection "]
[null,"Date:"]
[null,null,"Month","Day","Year"]
[null,null,"School Year"]
[null,null,null,"to"]

{"sheet":"Calendar","index":3,"n_rows":15,"n_cols":14,"rows_kept":15,"cut":false,"hidden":false,"merged":[[0,0,0,11]]}
["      Calendar"]
[]
[null,null,{"$f":"K8","v":"0 0"}]
[null,"Sunday","Monday","Tuesday","Wednesday","Thursday","Friday","Saturday",null,null,{"$f":"DATE(L7,VLOOKUP(K7,M4:N15,2,0),1)","v":{"$error":"#N/A"}},null,"January",1]
[null,{"$f":"Start-(WEEKDAY(Start)-1)","v":{"$error":"#N/A"}},{"$f":"IF(B5<>\"\",B5+1,$H4+1)","v":{"$error":"#N/A"}},{"$f":"IF(C5<>\"\",C5+1,$H4+1)","v":{"$error":"#N/A"}},{"$error":"#N/A"},{"$error":"#N/A"},{"$error":"#N/A"},{"$error":"#N/A"},null,null,{"$f":"WEEKDAY(Start)","v":{"$error":"#N/A"}},null,"February",2]
[null,{"$f":"IF(A6<>\"\",A6+1,$H5+1)","v":{"$error":"#N/A"}},{"$error":"#N/A"},{"$error":"#N/A"},{"$error":"#N/A"},{"$error":"#N/A"},{"$error":"#N/A"},{"$error":"#N/A"},null,null,null,null,"March",3]
[null,{"$f":"IF(A7<>\"\",A7+1,$H6+1)","v":{"$error":"#N/A"}},{"$error":"#N/A"},{"$error":"#N/A"},{"$error":"#N/A"},{"$error":"#N/A"},{"$error":"#N/A"},{"$error":"#N/A"},null,null,{"$f":"'Date & Time'!C9","v":0},{"$f":"'Date & Time'!E9","v":0},"April",4]
[null,{"$error":"#N/A"},{"$error":"#N/A"},{"$error":"#N/A"},{"$error":"#N/A"},{"$error":"#N/A"},{"$error":"#N/A"},{"$error":"#N/A"},null,null,{"$f":"K7&\" \"&L7","v":"0 0"},null,"May",5]
[null,{"$error":"#N/A"},{"$error":"#N/A"},{"$error":"#N/A"},{"$error":"#N/A"},{"$error":"#N/A"},{"$error":"#N/A"},{"$error":"#N/A"},null,null,null,null,"June",6]
[null,{"$error":"#N/A"},{"$error":"#N/A"},{"$error":"#N/A"},null,null,null,null,null,null,null,null,"July",7]
["Instructions:",null,"To input data click on the number corresponding to the day of the week.",null,null,null,null,null,null,null,null,null,"August",8]
["This will take you to the calendar day data input form for that specific date. DO NOT click on the yellow tabs individually.",null,null,null,null,null,null,null,null,null,null,null,"September",9]
["Example, if you start data collection on Tues. Oct 6 then click on 06 to begin data collection.",null,null,null,null,null,null,null,null,null,null,null,"October",10]
["*If no behaviors occurred that day, then check the box \"No Behavior\" and do not enter data. ",null,null,null,null,null,null,null,null,null,null,null,"November",11]
[null,null,null,null,null,null,null,null,null,null,null,null,"December",12]

{"sheet":"Criteria","index":4,"n_rows":24,"n_cols":9,"rows_kept":24,"cut":false,"hidden":false,"merged":[[0,0,0,11]]}
["        Criteria"]
[]
[null,null,"Setting (Context)",null,"Antecedent Events",null,"Behavior",null,"Consequences"]
[null,"A","Transition","A","Transition","A",null,"A","Choice Given"]
[null,"B","Morning Routine","B","Denied access ('No')","B",null,"B","Ignored"]
[null,"C","Group Work","C","Instruction/ Directions","C",null,"C","Redirection"]
[null,"D","Ind. Seat/Work Time","D","New Task",null,"*Label the Beh.","D","Kept the demand"]
[null,"E","Language Arts","E","Tcher attn to other",null,null,"E","Changed activity"]
[null,"F","Mathematics","F","Choice given",null,null,"F","Verbal reprimand"]
[null,"G","Physical Education","G","Redirection",null,null,"G","Told to wait"]
[null,"H","Music/Art","H","Routine Task",null,null,"H","Physical Prompt"]
[null,"I","Speech","I","Waiting",null,null,"I","Verbal prompt"]
[null,"J","OT/PT","J","Unknown",null,null,"J","Told to wait"]
[null,"K","Center","K","Ignored",null,null,"K","Unknown"]
[null,"L","Other","L","Other",null,null,"L","Other"]
[]
[]
[null,null,"Instructions:","You will change these to match your situation. Simply click on the row and type new criteria."]
[]
[]
[]
[]
[null,null,null,null,null,null,"To enter data, go to Calendar",null,"Print off paper form and give"]
[null,null,null,null,null,null,null,null,"to all staff working with student."]

{"sheet":"Paper Form","index":5,"n_rows":16,"n_cols":8,"rows_kept":16,"cut":false,"hidden":false,"merged":[[0,0,0,8],[17,0,42,8]]}
["FBA Data Collection Form"]
[]
[]
[null,"Setting (Context)",null,"Antecedent Events",null,"Behavior",null,"Consequences"]
["A",{"$f":"Criteria!C4","v":"Transition"},"A",{"$f":"Criteria!E4","v":"Transition"},"A",{"$f":"Criteria!G4","v":0},"A",{"$f":"Criteria!I4:I15","v":"Choice Given"}]
["B",{"$f":"Criteria!C5","v":"Morning Routine"},"B",{"$f":"Criteria!E5","v":"Denied access ('No')"},"B",{"$f":"Criteria!G5","v":0},"B","Ignored"]
["C",{"$f":"Criteria!C6","v":"Group Work"},"C",{"$f":"Criteria!E6","v":"Instruction/ Directions"},"C",{"$f":"Criteria!G6","v":0},"C","Redirection"]
["D",{"$f":"Criteria!C7","v":"Ind. Seat/Work Time"},"D",{"$f":"Criteria!E7","v":"New Task"},null,null,"D","Kept the demand"]
["E",{"$f":"Criteria!C8","v":"Language Arts"},"E",{"$f":"Criteria!E8","v":"Tcher attn to other"},null,"Instructions:","E","Changed activity"]
["F",{"$f":"Criteria!C9","v":"Mathematics"},"F",{"$f":"Criteria!E9","v":"Choice given"},null,"Fill in the letter","F","Verbal reprimand"]
["G",{"$f":"Criteria!C10","v":"Physical Education"},"G",{"$f":"Criteria!E10","v":"Redirection"},null,"corresponding to","G","Told to wait"]
["H",{"$f":"Criteria!C11","v":"Music/Art"},"H",{"$f":"Criteria!E11","v":"Routine Task"},null,"each event below.","H","Physical Prompt"]
["I",{"$f":"Criteria!C12","v":"Speech"},"I",{"$f":"Criteria!E12","v":"Waiting"},null,null,"I","Verbal prompt"]
["J",{"$f":"Criteria!C13","v":"OT/PT"},"J",{"$f":"Criteria!E13","v":"Unknown"},null,null,"J","Told to wait"]
["K",{"$f":"Criteria!C14","v":"Center"},"K",{"$f":"Criteria!E14","v":"Ignored"},null,null,"K","Unknown"]
["L",{"$f":"Criteria!C15","v":"Other"},"L",{"$f":"Criteria!E15","v":"Other"},null,null,"L","Other"]

{"sheet":"Data Source","index":6,"n_rows":31,"n_cols":7,"rows_kept":31,"cut":false,"hidden":true,"merged":[]}
["PreK","Male","January",2020,null,1,1]
["K","Female","February",2021,null,2,2]
[1,"Unknown","March",2022,null,3,3]
[2,"Other","April",2023,null,4,4]
[3,null,"May",2024,null,5,5]
[4,null,"June",2025,null,6,6]
[5,null,"July",2026,null,7,7]
[6,null,"August",2027,null,8,8]
[7,null,"September",2028,null,9,9]
[8,null,"October",2029,null,10,10]
[9,null,"November",2030,null,11,11]
[10,null,"December",2031,null,12,12]
[11,null,null,2032,null,null,13]
["12+",null,null,2033,null,null,14]
[null,null,null,2034,null,null,15]
[null,null,null,2035,null,null,16]
[null,null,null,2036,null,null,17]
[null,null,null,2037,null,null,18]
[null,null,null,2038,null,null,19]
[null,null,null,2039,null,null,20]
[null,null,null,2040,null,null,21]
[null,null,null,2041,null,null,22]
[null,null,null,2042,null,null,23]
[null,null,null,2043,null,null,24]
[null,null,null,2044,null,null,25]
[null,null,null,2045,null,null,26]
[null,null,null,2046,null,null,27]
[null,null,null,2047,null,null,28]
[null,null,null,2048,null,null,29]
[null,null,null,2049,null,null,30]
[null,null,null,2050,null,null,31]

{"sheet":"Report","index":7,"n_rows":134,"n_cols":9,"rows_kept":134,"cut":false,"hidden":false,"merged":[[134,0,139,10],[115,2,115,3],[116,2,116,3],[117,2,117,3],[118,2,118,3],[119,2,119,3],[120,2,120,3],[114,2,114,3],[85,2,85,3],[86,2,86,3],[87,2,87,3],[88,2,88,3],[89,2,89,3],[90,2,90,3],[109,2,109,3],[110,2,110,3],[111,2,111,3],[112,2,112,3],[113,2,113,3],[80,2,80,3],[81,2,81,3],[82,2,82,3],[83,2,83,3],[84,2,84,3],[79,2,79,3],[52,2,52,3],[53,2,53,3],[54,2,54,3],[55,2,55,3],[56,2,56,3],[57,2,57,3],[58,2,58,3],[59,2,59,3],[60,2,60,3],[61,2,61,3],[62,2,62,3],[51,2,51,3],[27,0,27,1],[25,0,25,1],[26,0,26,1],[28,0,28,1],[29,0,29,1],[34,0,34,1],[35,0,35,1],[36,0,36,1],[39,0,39,1],[40,0,40,1],[41,0,41,1],[5,0,5,1],[5,2,5,4],[5,6,5,7],[0,0,0,10],[1,1,1,3],[3,1,3,3],[1,4,1,5],[2,4,2,5],[1,6,1,7],[1,8,1,9],[3,4,3,5],[3,6,3,7]]}
["Functional Behavioral Assessment Report"]
["School:",{"$f":"'Student Info'!D5","v":0},null,null,"Student:",null,{"$f":"'Student Info'!D3","v":0},null,{"$f":"'Student Info'!G3","v":0}]
["Grade:",{"$f":"'Student Info'!L3","v":0},null,null,"Academic Year:",null,{"$f":"'Date & Time'!C12","v":0},{"$f":"'Date & Time'!E12","v":0}]
["Teacher:",{"$f":"'Student Info'!G7","v":0},null,null,"Report Prepared By:",null,{"$f":"'Student Info'!G9","v":0}]
["The purpose of this assessment was to determine the function of",null,null,null,null,null,null,{"$f":"'Raw Data'!S2","v":0},"behavior(s)."]
[{"$f":"G2","v":0},null,"was observed for a total of ",null,null,{"$f":"'Raw Data'!S4","v":0},"school days(s)."]
["School was in session from",null,null,{"$f":"'Date & Time'!C6","v":"00:00:00"},"until",{"$f":"'Date & Time'!E6","v":"00:00:00"}]
[]
[]
[]
[]
[]
[]
[]
[]
[]
[]
[]
[]
[]
[]
[]
[]
[]
[]
["Monday",null,{"$f":"'Raw Data'!S6","v":0}]
["Tuesday",null,{"$f":"'Raw Data'!S7","v":0}]
["Wednesday",null,{"$f":"'Raw Data'!S8","v":0}]
["Thursday",null,{"$f":"'Raw Data'!S9","v":0}]
["Friday",null,{"$f":"'Raw Data'!S10","v":0}]
["Behaviors were recorded for a"]
["total of",{"$f":"F6","v":0},"days."]
[]
["Overall number of instances"]
[{"$f":"Criteria!G4","v":0},null,{"$f":"'Raw Data'!A24","v":0}]
[{"$f":"Criteria!G5","v":0},null,{"$f":"'Raw Data'!G24","v":0}]
[{"$f":"Criteria!G6","v":0},null,{"$f":"'Raw Data'!M24","v":0}]
[]
[]
[{"$f":"Criteria!G4","v":0},null,{"$f":"'Raw Data'!T35","v":"00:00:00"}]
[{"$f":"Criteria!G5","v":0},null,{"$f":"'Raw Data'!T36","v":"00:00:00"}]
[{"$f":"Criteria!G6","v":0},null,{"$f":"'Raw Data'!T37","v":"00:00:00"}]
["*Time recorded as hh:mm (2:17 equals"]
["2 hours and 17 minutes)"]
[]
[]
[]
[]
["Context is the setting or activty"]
["in which the behavior occurs."]
[]
["A",{"$f":"'Raw Data'!W23","v":""},{"$f":"Criteria!C4","v":"Transition"}]
["B",{"$f":"'Raw Data'!W24","v":""},{"$f":"Criteria!C5","v":"Morning Routine"}]
["C",{"$f":"'Raw Data'!W25","v":""},{"$f":"Criteria!C6","v":"Group Work"}]
["D",{"$f":"'Raw Data'!W26","v":""},{"$f":"Criteria!C7","v":"Ind. Seat/Work Time"}]
["E",{"$f":"'Raw Data'!W27","v":""},{"$f":"Criteria!C8","v":"Language Arts"}]
["F",{"$f":"'Raw Data'!W28","v":""},{"$f":"Criteria!C9","v":"Mathematics"}]
["G",{"$f":"'Raw Data'!W29","v":""},{"$f":"Criteria!C10","v":"Physical Education"}]
["H",{"$f":"'Raw Data'!W30","v":""},{"$f":"Criteria!C11","v":"Music/Art"}]
["I",{"$f":"'Raw Data'!W31","v":""},{"$f":"Criteria!C12","v":"Speech"}]
["J",{"$f":"'Raw Data'!W32","v":""},{"$f":"Criteria!C13","v":"OT/PT"}]
["K",{"$f":"'Raw Data'!W33","v":""},{"$f":"Criteria!C14","v":"Center"}]
["L",{"$f":"'Raw Data'!W34","v":""},{"$f":"Criteria!C15","v":"Other"}]
[]
[]
[]
[]
[]
[]
[]
[]
[]
[]
[]
[]
[]
["Antecedents are the triggers, what"]
["started the behavior incident."]
[]
["A",{"$f":"'Raw Data'!Z23","v":""},{"$f":"Criteria!E4","v":"Transition"}]
["B",{"$f":"'Raw Data'!Z24","v":""},{"$f":"Criteria!E5","v":"Denied access ('No')"}]
["C",{"$f":"'Raw Data'!Z25","v":""},{"$f":"Criteria!E6","v":"Instruction/ Directions"}]
["D",{"$f":"'Raw Data'!Z26","v":""},{"$f":"Criteria!E7","v":"New Task"}]
["E",{"$f":"'Raw Data'!Z27","v":""},{"$f":"Criteria!E8","v":"Tcher attn to other"}]
["F",{"$f":"'Raw Data'!Z28","v":""},{"$f":"Criteria!E9","v":"Choice given"}]
["G",{"$f":"'Raw Data'!Z29","v":""},{"$f":"Criteria!E10","v":"Redirection"}]
["H",{"$f":"'Raw Data'!Z30","v":""},{"$f":"Criteria!E11","v":"Routine Task"}]
["I",{"$f":"'Raw Data'!Z31","v":""},{"$f":"Criteria!E12","v":"Waiting"}]
["J",{"$f":"'Raw Data'!Z32","v":""},{"$f":"Criteria!E13","v":"Unknown"}]
["K",{"$f":"'Raw Data'!Z33","v":""},{"$f":"Criteria!E14","v":"Ignored"}]
["L",{"$f":"'Raw Data'!Z34","v":""},{"$f":"Criteria!E15","v":"Other"}]
[]
[]
[]
[]
[]
[]
[]
[]
[]
[]
[]
[]
[]
[]
[]
["Consequences describe what "]
["happened as a result of the behavior."]
[]
["A",{"$f":"'Raw Data'!AD23","v":""},{"$f":"Criteria!I4","v":"Choice Given"}]
["B",{"$f":"'Raw Data'!AD24","v":""},{"$f":"Criteria!I5","v":"Ignored"}]
["C",{"$f":"'Raw Data'!AD25","v":""},{"$f":"Criteria!I6","v":"Redirection"}]
["D",{"$f":"'Raw Data'!AD26","v":""},{"$f":"Criteria!I7","v":"Kept the demand"}]
["E",{"$f":"'Raw Data'!AD27","v":""},{"$f":"Criteria!I8","v":"Changed activity"}]
["F",{"$f":"'Raw Data'!AD28","v":""},{"$f":"Criteria!I9","v":"Verbal reprimand"}]
["G",{"$f":"'Raw Data'!AD29","v":""},{"$f":"Criteria!I10","v":"Told to wait"}]
["H",{"$f":"'Raw Data'!AD30","v":""},{"$f":"Criteria!I11","v":"Physical Prompt"}]
["I",{"$f":"'Raw Data'!AD31","v":""},{"$f":"Criteria!I12","v":"Verbal prompt"}]
["J",{"$f":"'Raw Data'!AD32","v":""},{"$f":"Criteria!I13","v":"Told to wait"}]
["K",{"$f":"'Raw Data'!AD33","v":""},{"$f":"Criteria!I14","v":"Unknown"}]
["L",{"$f":"'Raw Data'!AD34","v":""},{"$f":"Criteria!I15","v":"Other"}]
[]
[]
[]
[]
[]
[]
[]
[]
[]
[]
[]
[]
["Additional Notes and/or Comments:"]

{"sheet":"Raw Data","index":8,"n_rows":384,"n_cols":36,"rows_kept":384,"cut":false,"hidden":true,"merged":[]}
["Frequency per Day of Week",null,null,null,null,null,null,"Frequency of Interval Per Day of Week",null,null,null,null,null,null,null,null,null,"Total Number of Behaviors",null,null,null,null,null,"Percent of Behavior across All days"]
["Sunday","Monday","Tuesday","Wednesday","Thursday","Friday","Saturday",null,"Monday","Tuesday","Wednesday","Thursday","Friday","Frequency by Time of Day",null,null,null,null,{"$f":"COUNTA(Criteria!G4:G6)","v":0},null,null,null,null,"A",{"$f":"IFERROR(A25,\"\")","v":""}]
[null,{"$f":"'Data 1'!X3","v":0},{"$f":"'Data 2'!X3","v":0},{"$f":"'Data 3'!X3","v":0},{"$f":"'Data 4'!X3","v":0},{"$f":"'Data 5'!X3","v":0},{"$f":"'Data 6'!X3","v":0},"Seven",null,null,null,null,null,"Seven",{"$f":"AJ375","v":0},null,null,"Number of Days data was collected",null,null,null,null,null,"B",{"$f":"(IFERROR(G25,\"\"))","v":""}]
[{"$f":"'Data 7'!X3","v":0},{"$f":"'Data 8'!X3","v":0},{"$f":"'Data 9'!X3","v":0},{"$f":"'Data 10'!X3","v":0},{"$f":"'Data 11'!X3","v":0},{"$f":"'Data 12'!X3","v":0},{"$f":"'Data 13'!X3","v":0},"Eight",null,null,null,null,null,"Eight",{"$f":"AJ376","v":0},null,null,null,{"$f":"COUNT(IF(B3:F7<>0,B3:F7))","v":0},null,null,null,null,"C",{"$f":"IFERROR(M25,\"\")","v":""}]
[{"$f":"'Data 14'!X3","v":0},{"$f":"'Data 15'!X3","v":0},{"$f":"'Data 16'!X3","v":0},{"$f":"'Data 17'!X3","v":0},{"$f":"'Data 18'!X3","v":0},{"$f":"'Data 19'!X3","v":0},{"$f":"'Data 20'!X3","v":0},"Nine",null,null,null,null,null,"Nine",0,null,null,"Data Collected per day of the week",null,null,null,null,null,null,null,null,"Duration of Behavior",null,null,"C"]
[{"$f":"'Data 21'!X3","v":0},{"$f":"'Data 22'!X3","v":0},{"$f":"'Data 23'!X3","v":0},{"$f":"'Data 24'!X3","v":0},{"$f":"'Data 25'!X3","v":0},{"$f":"'Data 26'!X3","v":0},{"$f":"'Data 27'!X3","v":0},"Ten",null,null,null,null,null,"Ten",0,null,null,"Monday",{"$f":"SUM(B3:B7)","v":0},null,null,null,null,null,null,null,"Sunday","Monday","Tuesday","Wednesday","Thursday","Friday","Saturday"]
[{"$f":"'Data 28'!X3","v":0},{"$f":"'Data 29'!X3","v":0},{"$f":"'Data 30'!X3","v":0},{"$f":"'Data 31'!X3","v":0},{"$f":"'Data 29 (2)'!X3","v":0},{"$f":"'Data 30 (2)'!X3","v":0},{"$f":"'Data 31 (2)'!X3","v":0},"Eleven",null,null,null,null,null,"Eleven",0,null,null,"Tuesday",{"$f":"SUM(C3:C9)","v":0},null,null,null,null,null,null,null,null,{"$f":"'Data 1'!Y28","v":"00:00:00"},{"$f":"'Data 2'!Y28","v":"00:00:00"},{"$f":"'Data 3'!Y28","v":"00:00:00"},{"$f":"'Data 4'!Y28","v":"00:00:00"},{"$f":"'Data 5'!Y28","v":"00:00:00"},{"$f":"'Data 6'!Y28","v":"00:00:00"}]
[null,null,null,null,null,null,null,"Twelve",null,null,null,null,null,"Twelve",0,null,null,"Wednesday",{"$f":"SUM(D3:D9)","v":0},null,null,null,null,null,null,null,{"$f":"'Data 7'!Y28","v":"00:00:00"},{"$f":"'Data 8'!Y28","v":"00:00:00"},{"$f":"'Data 9'!Y28","v":"00:00:00"},{"$f":"'Data 10'!Y28","v":"00:00:00"},{"$f":"'Data 11'!Y28","v":"00:00:00"},{"$f":"'Data 12'!Y28","v":"00:00:00"},{"$f":"'Data 13'!Y28","v":"00:00:00"}]
[null,null,null,null,null,null,null,"One",null,null,null,null,null,"One",0,null,null,"Thursday",{"$f":"SUM(E3:E9)","v":0},null,null,null,null,null,null,null,{"$f":"'Data 14'!Y28","v":"00:00:00"},{"$f":"'Data 15'!Y28","v":"00:00:00"},{"$f":"'Data 16'!Y28","v":"00:00:00"},{"$f":"'Data 17'!Y28","v":"00:00:00"},{"$f":"'Data 18'!Y28","v":"00:00:00"},{"$f":"'Data 19'!Y28","v":"00:00:00"},{"$f":"'Data 20'!Y28","v":"00:00:00"}]
[null,null,null,null,null,null,null,"Two",null,null,null,null,null,"Two",0,null,null,"Friday",{"$f":"SUM(F3:F9)","v":0},null,null,null,null,null,null,null,{"$f":"'Data 21'!Y28","v":"00:00:00"},{"$f":"'Data 22'!Y28","v":"00:00:00"},{"$f":"'Data 23'!Y28","v":"00:00:00"},{"$f":"'Data 24'!Y28","v":"00:00:00"},{"$f":"'Data 25'!Y28","v":"00:00:00"},{"$f":"'Data 26'!Y28","v":"00:00:00"},{"$f":"'Data 27'!Y28","v":"00:00:00"}]
["Sum Per Day of week",null,null,null,null,null,null,"Three",null,null,null,null,null,"Three",0,null,null,null,null,null,null,null,null,null,null,null,{"$f":"'Data 28'!Y28","v":"00:00:00"},{"$f":"'Data 29'!Y28","v":"00:00:00"},{"$f":"'Data 30'!Y28","v":"00:00:00"},{"$f":"'Data 31'!Y28","v":"00:00:00"},{"$f":"'Data 29 (2)'!Y28","v":"00:00:00"},{"$f":"'Data 30 (2)'!Y28","v":"00:00:00"},{"$f":"'Data 31 (2)'!Y28","v":"00:00:00"}]
[null,"Monday","Tuesday","Wednesday","Thursday","Friday",null,"Four",null,null,null,null,null,"Four",0]
[null,{"$f":"SUM(B3:B9)","v":0},{"$f":"SUM(C3:C8)","v":0},{"$f":"SUM(D3:D8)","v":0},{"$f":"SUM(E3:E8)","v":0},{"$f":"SUM(F3:F8)","v":0},null,null,"*Sum frequency of Monday's across all Data tabs"]
[]
["Bx per Day","A",null,null,null,null,null,null,null,null,null,null,"B",null,null,null,null,null,null,"C"]
["Sunday","Monday","Tuesday","Wednesday","Thursday","Friday","Saturday",null,null,"Sunday","Monday","Tuesday","Wednesday","Thursday","Friday","Saturday",null,null,"Sunday","Monday","Tuesday","Wednesday","Thursday","Friday","Saturday"]
[null,{"$f":"'Data 1'!Y22","v":0},{"$f":"'Data 2'!Y22","v":0},{"$f":"'Data 3'!Y22","v":0},{"$f":"'Data 4'!Y22","v":0},{"$f":"'Data 5'!Y22","v":0},{"$f":"'Data 6'!Y22","v":0},null,null,null,{"$f":"'Data 1'!Y23","v":0},{"$f":"'Data 2'!Y23","v":0},{"$f":"'Data 3'!Y23","v":0},{"$f":"'Data 4'!Y23","v":0},{"$f":"'Data 5'!Y23","v":0},{"$f":"'Data 6'!Y23","v":0},null,null,null,{"$f":"'Data 1'!Y24","v":0},{"$f":"'Data 2'!Y24","v":0},{"$f":"'Data 3'!Y24","v":0},{"$f":"'Data 4'!Y24","v":0},{"$f":"'Data 5'!Y24","v":0},{"$f":"'Data 6'!Y24","v":0}]
[{"$f":"'Data 7'!Y22","v":0},{"$f":"'Data 8'!Y22","v":0},{"$f":"'Data 9'!Y22","v":0},{"$f":"'Data 10'!Y22","v":0},{"$f":"'Data 11'!Y22","v":0},{"$f":"'Data 12'!Y22","v":0},{"$f":"'Data 13'!Y22","v":0},null,null,{"$f":"'Data 7'!Y23","v":0},{"$f":"'Data 8'!Y23","v":0},{"$f":"'Data 9'!Y23","v":0},{"$f":"'Data 10'!Y23","v":0},{"$f":"'Data 11'!Y23","v":0},{"$f":"'Data 12'!Y23","v":0},{"$f":"'Data 13'!Y23","v":0},null,null,{"$f":"'Data 7'!Y24","v":0},{"$f":"'Data 8'!Y24","v":0},{"$f":"'Data 9'!Y24","v":0},{"$f":"'Data 10'!Y24","v":0},{"$f":"'Data 11'!Y24","v":0},{"$f":"'Data 12'!Y24","v":0},{"$f":"'Data 13'!Y24","v":0}]
[{"$f":"'Data 14'!Y22","v":0},{"$f":"'Data 15'!Y22","v":0},{"$f":"'Data 16'!Y22","v":0},{"$f":"'Data 17'!Y22","v":0},{"$f":"'Data 18'!Y22","v":0},{"$f":"'Data 19'!Y22","v":0},{"$f":"'Data 20'!Y22","v":0},null,null,{"$f":"'Data 14'!Y23","v":0},{"$f":"'Data 15'!Y23","v":0},{"$f":"'Data 16'!Y23","v":0},{"$f":"'Data 17'!Y23","v":0},{"$f":"'Data 18'!Y23","v":0},{"$f":"'Data 19'!Y23","v":0},{"$f":"'Data 20'!Y23","v":0},null,null,{"$f":"'Data 14'!Y24","v":0},{"$f":"'Data 15'!Y24","v":0},{"$f":"'Data 16'!Y24","v":0},{"$f":"'Data 17'!Y24","v":0},{"$f":"'Data 18'!Y24","v":0},{"$f":"'Data 19'!Y24","v":0},{"$f":"'Data 20'!Y24","v":0}]
[{"$f":"'Data 21'!Y22","v":0},{"$f":"'Data 22'!Y22","v":0},{"$f":"'Data 23'!Y22","v":0},{"$f":"'Data 24'!Y22","v":0},{"$f":"'Data 24'!Y22","v":0},{"$f":"'Data 26'!Y22","v":0},{"$f":"'Data 27'!Y22","v":0},null,null,{"$f":"'Data 21'!Y23","v":0},{"$f":"'Data 22'!Y23","v":0},{"$f":"'Data 23'!Y23","v":0},{"$f":"'Data 24'!Y23","v":0},{"$f":"'Data 25'!Y23","v":0},{"$f":"'Data 26'!Y23","v":0},{"$f":"'Data 27'!Y23","v":0},null,null,{"$f":"'Data 21'!Y24","v":0},{"$f":"'Data 22'!Y24","v":0},{"$f":"'Data 23'!Y24","v":0},{"$f":"'Data 24'!Y24","v":0},{"$f":"'Data 25'!Y24","v":0},{"$f":"'Data 26'!Y24","v":0},{"$f":"'Data 27'!Y24","v":0}]
[{"$f":"'Data 28'!Y22","v":0},{"$f":"'Data 29'!Y22","v":0},{"$f":"'Data 30'!Y22","v":0},{"$f":"'Data 31'!Y22","v":0},{"$f":"'Data 29 (2)'!Y22","v":0},{"$f":"'Data 30 (2)'!Y22","v":0},{"$f":"'Data 31 (2)'!Y22","v":0},null,null,{"$f":"'Data 28'!Y23","v":0},{"$f":"'Data 29'!Y23","v":0},{"$f":"'Data 30'!Y23","v":0},{"$f":"'Data 31'!Y23","v":0},{"$f":"'Data 29 (2)'!Y23","v":0},{"$f":"'Data 30 (2)'!Y23","v":0},{"$f":"'Data 31 (2)'!Y23","v":0},null,null,{"$f":"'Data 28'!Y24","v":0},{"$f":"'Data 29'!Y24","v":0},{"$f":"'Data 30'!Y24","v":0},{"$f":"'Data 31'!Y24","v":0},{"$f":"'Data 29 (2)'!Y24","v":0},{"$f":"'Data 30 (2)'!Y24","v":0},{"$f":"'Data 31 (2)'!Y24","v":0}]
[null,null,null,null,null,null,null,null,null,null,null,null,null,null,null,null,null,null,null,null,null,null,null,null,null,null,"Freq. of Consequences"]
[null,null,null,null,null,null,null,null,null,null,null,null,null,null,null,null,null,null,null,null,"A",{"$f":"B45","v":0},{"$f":"IFERROR(V23/V35,\"\")","v":""},"A",{"$f":"B73","v":0},{"$f":"IFERROR(Y23/$Z$35,\"\")","v":""},"A",{"$f":"B101","v":0},"A",{"$f":"IFERROR(AB23/$AB$35,\"\")","v":""}]
[{"$f":"SUM(B24:F24)","v":0},{"$f":"SUM(B17:B23)","v":0},{"$f":"SUM(C17:C23)","v":0},0,0,0,{"$f":"SUM(H24:L24)","v":0},{"$f":"SUM(K17:K21)","v":0},{"$f":"SUM(L17:L21)","v":0},{"$f":"SUM(M17:M21)","v":0},{"$f":"SUM(N17:N21)","v":0},{"$f":"SUM(O17:O21)","v":0},{"$f":"SUM(N24:R24)","v":0},{"$f":"SUM(T17:T21)","v":0},{"$f":"SUM(U17:U21)","v":0},{"$f":"SUM(V17:V21)","v":0},{"$f":"SUM(W17:W21)","v":0},{"$f":"SUM(X17:X21)","v":0},{"$f":"SUM(B24:F24,H24,I24,J24,K24,L24,N24,O24,P24,Q24,R24)","v":0},null,"B",{"$f":"H45","v":0},{"$f":"IFERROR(V24/V35,\"\")","v":""},"B",{"$f":"H73","v":0},"","B",{"$f":"H101","v":0},"B",""]
[{"$f":"IFERROR(A24/S24,\"\")","v":""},{"$f":"IFERROR(B24/S24,\"\")","v":""},{"$f":"IFERROR(C24/S24,\"\")","v":""},{"$f":"IFERROR(D24/S24,\"\")","v":""},{"$f":"IFERROR(E24/S24,\"\")","v":""},{"$f":"IFERROR(F24/S24,\"\")","v":""},{"$f":"IFERROR(G24/S24,\"\")","v":""},{"$f":"IFERROR(H24/S24,\"\")","v":""},{"$f":"IFERROR(I24/S24,\"\")","v":""},{"$f":"IFERROR(J24/S24,\"\")","v":""},{"$f":"IFERROR(K24/S24,\"\")","v":""},{"$f":"IFERROR(L24/S24,\"\")","v":""},{"$f":"IFERROR(M24/S24,\"\")","v":""},{"$f":"IFERROR(N24/S24,\"\")","v":""},{"$f":"IFERROR(O24/S24,\"\")","v":""},{"$f":"IFERROR(P24/S24,\"\")","v":""},{"$f":"IFERROR(Q24/S24,\"\")","v":""},{"$f":"IFERROR(R24/S24,\"\")","v":""},null,null,"C",{"$f":"N45","v":0},{"$f":"IFERROR(V25/V35,\"\")","v":""},"C",{"$f":"N73","v":0},"","C",{"$f":"N101","v":0},"C",""]
["Duration of Bx per Day",null,null,"A",null,null,null,null,null,"B",null,null,null,null,null,null,null,null,null,null,"D",{"$f":"T45","v":0},{"$f":"IFERROR(V26/V35,\"\")","v":""},"D",{"$f":"T73","v":0},"","D",{"$f":"T101","v":0},"D",""]
["Sunday","Monday","Tuesday","Wednesday","Thursday","Friday","Saturday","Sunday","Monday","Tuesday","Wednesday","Thursday","Friday","Saturday",null,null,null,null,null,null,"E",{"$f":"Z45","v":0},{"$f":"IFERROR(V27/V35,\"\")","v":""},"E",{"$f":"Z73","v":0},"","E",{"$f":"Z101","v":0},"E",""]
[null,{"$f":"'Data 1'!Y26","v":"00:00:00"},{"$f":"'Data 2'!Y26","v":"00:00:00"},{"$f":"'Data 3'!Y26","v":"00:00:00"},{"$f":"'Data 4'!Y26","v":"00:00:00"},{"$f":"'Data 5'!Y26","v":"00:00:00"},{"$f":"'Data 6'!Y26","v":"00:00:00"},null,{"$f":"'Data 1'!Y27","v":"00:00:00"},{"$f":"'Data 2'!Y27","v":"00:00:00"},{"$f":"'Data 3'!Y27","v":"00:00:00"},{"$f":"'Data 4'!Y27","v":"00:00:00"},{"$f":"'Data 5'!Y27","v":"00:00:00"},{"$f":"'Data 6'!Y27","v":"00:00:00"},null,null,null,null,null,null,"F",{"$f":"B54","v":0},{"$f":"IFERROR(V28/V35,\"\")","v":""},"F",{"$f":"B82","v":0},"","F",{"$f":"B110","v":0},"F",""]
[{"$f":"'Data 7'!Y26","v":"00:00:00"},{"$f":"'Data 8'!Y26","v":"00:00:00"},{"$f":"'Data 9'!Y26","v":"00:00:00"},{"$f":"'Data 10'!Y26","v":"00:00:00"},{"$f":"'Data 11'!Y26","v":"00:00:00"},{"$f":"'Data 12'!Y26","v":"00:00:00"},{"$f":"'Data 13'!Y26","v":"00:00:00"},{"$f":"'Data 7'!Y27","v":"00:00:00"},{"$f":"'Data 8'!Y27","v":"00:00:00"},{"$f":"'Data 9'!Y27","v":"00:00:00"},{"$f":"'Data 10'!Y27","v":"00:00:00"},{"$f":"'Data 11'!Y27","v":"00:00:00"},{"$f":"'Data 12'!Y27","v":"00:00:00"},{"$f":"'Data 13'!Y27","v":"00:00:00"},null,null,null,null,null,null,"G",{"$f":"H54","v":0},{"$f":"IFERROR(V29/V35,\"\")","v":""},"G",{"$f":"H82","v":0},"","G",{"$f":"H110","v":0},"G",""]
[{"$f":"'Data 14'!Y26","v":"00:00:00"},{"$f":"'Data 15'!Y26","v":"00:00:00"},{"$f":"'Data 16'!Y26","v":"00:00:00"},{"$f":"'Data 17'!Y26","v":"00:00:00"},{"$f":"'Data 18'!Y26","v":"00:00:00"},{"$f":"'Data 19'!Y26","v":"00:00:00"},{"$f":"'Data 20'!Y26","v":"00:00:00"},{"$f":"'Data 14'!Y27","v":"00:00:00"},{"$f":"'Data 15'!Y27","v":"00:00:00"},{"$f":"'Data 16'!Y27","v":"00:00:00"},{"$f":"'Data 17'!Y27","v":"00:00:00"},{"$f":"'Data 18'!Y27","v":"00:00:00"},{"$f":"'Data 19'!Y27","v":"00:00:00"},{"$f":"'Data 20'!Y27","v":"00:00:00"},null,null,null,null,null,null,"H",{"$f":"N54","v":0},{"$f":"IFERROR(V30/V35,\"\")","v":""},"H",{"$f":"N82","v":0},"","H",{"$f":"N110","v":0},"H",""]
[{"$f":"'Data 21'!Y26","v":"00:00:00"},{"$f":"'Data 22'!Y26","v":"00:00:00"},{"$f":"'Data 23'!Y26","v":"00:00:00"},{"$f":"'Data 24'!Y26","v":"00:00:00"},{"$f":"'Data 25'!Y26","v":"00:00:00"},{"$f":"'Data 26'!Y26","v":"00:00:00"},{"$f":"'Data 27'!Y26","v":"00:00:00"},{"$f":"'Data 21'!Y27","v":"00:00:00"},{"$f":"'Data 22'!Y27","v":"00:00:00"},{"$f":"'Data 23'!Y27","v":"00:00:00"},{"$f":"'Data 24'!Y27","v":"00:00:00"},{"$f":"'Data 25'!Y27","v":"00:00:00"},{"$f":"'Data 26'!Y27","v":"00:00:00"},{"$f":"'Data 27'!Y27","v":"00:00:00"},null,null,null,null,null,null,"I",{"$f":"T54","v":0},{"$f":"IFERROR(V31/V35,\"\")","v":""},"I",{"$f":"T82","v":0},"","I",{"$f":"T110","v":0},"I",""]
[{"$f":"'Data 28'!Y26","v":"00:00:00"},{"$f":"'Data 29'!Y26","v":"00:00:00"},{"$f":"'Data 30'!Y26","v":"00:00:00"},{"$f":"'Data 31'!Y26","v":"00:00:00"},{"$f":"'Data 29 (2)'!Y26","v":"00:00:00"},{"$f":"'Data 30 (2)'!Y26","v":"00:00:00"},{"$f":"'Data 31 (2)'!Y26","v":"00:00:00"},{"$f":"'Data 28'!Y27","v":"00:00:00"},{"$f":"'Data 29'!Y27","v":"00:00:00"},{"$f":"'Data 30'!Y27","v":"00:00:00"},{"$f":"'Data 31'!Y27","v":"00:00:00"},{"$f":"'Data 29 (2)'!Y27","v":"00:00:00"},{"$f":"'Data 30 (2)'!Y27","v":"00:00:00"},{"$f":"'Data 31 (2)'!Y27","v":"00:00:00"},null,null,null,null,null,null,"J",{"$f":"Z54","v":0},{"$f":"IFERROR(V32/V35,\"\")","v":""},"J",{"$f":"Z82","v":0},"","J",{"$f":"Z110","v":0},"J",""]
[null,null,null,null,null,null,null,null,null,null,null,null,null,null,null,null,null,null,null,null,"K",{"$f":"B63","v":0},{"$f":"IFERROR(V33/V35,\"\")","v":""},"K",{"$f":"B91","v":0},"","K",{"$f":"B119","v":0},"K",""]
[null,null,null,null,null,null,null,null,null,null,null,null,null,null,null,null,null,null,null,null,"L",{"$f":"H63","v":0},{"$f":"IFERROR(V34/V35,\"\")","v":""},"L",{"$f":"H91","v":0},"","L",{"$f":"H119","v":0},"L",""]
[{"$f":"SUM(B35:F35)","v":"00:00:00"},{"$f":"SUM(B28:B34)","v":"00:00:00"},{"$f":"SUM(C28:C34)","v":"00:00:00"},"00:00:00","00:00:00","00:00:00",{"$f":"SUM(H35:L35)","v":"00:00:00"},{"$f":"SUM(I28:I32)","v":"00:00:00"},{"$f":"SUM(J28:J32)","v":"00:00:00"},{"$f":"SUM(K28:K32)","v":"00:00:00"},{"$f":"SUM(L28:L32)","v":"00:00:00"},{"$f":"SUM(M28:M32)","v":"00:00:00"},{"$f":"SUM(N35:R35)","v":"00:00:00"},{"$f":"SUM(AB7:AB11)","v":"00:00:00"},{"$f":"SUM(AC7:AC11)","v":"00:00:00"},{"$f":"SUM(AD7:AD11)","v":"00:00:00"},{"$f":"SUM(AE7:AE11)","v":"00:00:00"},{"$f":"SUM(AF7:AF11)","v":"00:00:00"},{"$f":"Criteria!G4","v":0},{"$f":"A35","v":"00:00:00"},null,{"$f":"SUM(V23:V34)","v":0},null,null,null,{"$f":"SUM(Y23:Y34)","v":0},null,{"$f":"SUM(AB23:AB34)","v":0}]
[null,null,null,null,null,null,null,null,null,null,null,null,null,null,null,null,null,null,{"$f":"Criteria!G5","v":0},{"$f":"G35","v":"00:00:00"}]
["Freq. of Context",null,null,null,null,null,null,null,null,null,null,null,null,null,null,null,null,null,{"$f":"Criteria!G6","v":0},{"$f":"M35","v":"00:00:00"}]
["A",{"$f":"'Data 1'!W36","v":0},{"$f":"'Data 2'!W36","v":0},{"$f":"'Data 3'!W36","v":0},{"$f":"'Data 4'!W36","v":0},{"$f":"'Data 5'!W36","v":0},"B",{"$f":"'Data 1'!W37","v":0},{"$f":"'Data 2'!W37","v":0},{"$f":"'Data 3'!W37","v":0},{"$f":"'Data 4'!W37","v":0},{"$f":"'Data 5'!W37","v":0},"C",{"$f":"'Data 1'!W38","v":0},{"$f":"'Data 2'!W38","v":0},{"$f":"'Data 3'!W38","v":0},{"$f":"'Data 4'!W38","v":0},{"$f":"'Data 5'!W38","v":0},"D",{"$f":"'Data 1'!W39","v":0},{"$f":"'Data 2'!W39","v":0},{"$f":"'Data 3'!W39","v":0},{"$f":"'Data 4'!W39","v":0},{"$f":"'Data 5'!W39","v":0},"E",{"$f":"'Data 1'!W40","v":0},{"$f":"'Data 2'!W40","v":0},{"$f":"'Data 3'!W40","v":0},{"$f":"'Data 4'!W40","v":0},{"$f":"'Data 5'!W40","v":0}]
[null,{"$f":"'Data 6'!W36","v":0},{"$f":"'Data 7'!W36","v":0},{"$f":"'Data 8'!W36","v":0},{"$f":"'Data 9'!W36","v":0},{"$f":"'Data 10'!W36","v":0},null,{"$f":"'Data 6'!W37","v":0},{"$f":"'Data 7'!W37","v":0},{"$f":"'Data 8'!W37","v":0},{"$f":"'Data 9'!W37","v":0},{"$f":"'Data 10'!W37","v":0},null,{"$f":"'Data 6'!W38","v":0},{"$f":"'Data 7'!W38","v":0},{"$f":"'Data 8'!W38","v":0},{"$f":"'Data 9'!W38","v":0},{"$f":"'Data 10'!W38","v":0},null,{"$f":"'Data 6'!W39","v":0},{"$f":"'Data 7'!W39","v":0},{"$f":"'Data 8'!W39","v":0},{"$f":"'Data 9'!W39","v":0},{"$f":"'Data 10'!W39","v":0},null,{"$f":"'Data 6'!W40","v":0},{"$f":"'Data 7'!W40","v":0},{"$f":"'Data 8'!W40","v":0},{"$f":"'Data 9'!W40","v":0},{"$f":"'Data 10'!W40","v":0}]
[null,{"$f":"'Data 11'!W36","v":0},{"$f":"'Data 12'!W36","v":0},{"$f":"'Data 13'!W36","v":0},{"$f":"'Data 14'!W36","v":0},{"$f":"'Data 15'!W36","v":0},null,{"$f":"'Data 11'!W37","v":0},{"$f":"'Data 12'!W37","v":0},{"$f":"'Data 13'!W37","v":0},{"$f":"'Data 14'!W37","v":0},{"$f":"'Data 15'!W37","v":0},null,{"$f":"'Data 11'!W38","v":0},{"$f":"'Data 12'!W38","v":0},{"$f":"'Data 13'!W38","v":0},{"$f":"'Data 14'!W38","v":0},{"$f":"'Data 15'!W38","v":0},null,{"$f":"'Data 11'!W39","v":0},{"$f":"'Data 12'!W39","v":0},{"$f":"'Data 13'!W39","v":0},{"$f":"'Data 14'!W39","v":0},{"$f":"'Data 15'!W39","v":0},null,{"$f":"'Data 11'!W40","v":0},{"$f":"'Data 12'!W40","v":0},{"$f":"'Data 13'!W40","v":0},{"$f":"'Data 14'!W40","v":0},{"$f":"'Data 15'!W40","v":0}]
[null,{"$f":"'Data 16'!W36","v":0},{"$f":"'Data 17'!W36","v":0},{"$f":"'Data 18'!W36","v":0},{"$f":"'Data 19'!W36","v":0},{"$f":"'Data 20'!W36","v":0},null,{"$f":"'Data 16'!W37","v":0},{"$f":"'Data 17'!W37","v":0},{"$f":"'Data 18'!W37","v":0},{"$f":"'Data 19'!W37","v":0},{"$f":"'Data 20'!W37","v":0},null,{"$f":"'Data 16'!W38","v":0},{"$f":"'Data 17'!W38","v":0},{"$f":"'Data 18'!W38","v":0},{"$f":"'Data 19'!W38","v":0},{"$f":"'Data 20'!W38","v":0},null,{"$f":"'Data 16'!W39","v":0},{"$f":"'Data 17'!W39","v":0},{"$f":"'Data 18'!W39","v":0},{"$f":"'Data 19'!W39","v":0},{"$f":"'Data 20'!W39","v":0},null,{"$f":"'Data 16'!W40","v":0},{"$f":"'Data 17'!W40","v":0},{"$f":"'Data 18'!W40","v":0},{"$f":"'Data 19'!W40","v":0},{"$f":"'Data 20'!W40","v":0}]
[null,{"$f":"'Data 21'!W36","v":0},{"$f":"'Data 22'!W36","v":0},{"$f":"'Data 23'!W36","v":0},{"$f":"'Data 24'!W36","v":0},{"$f":"'Data 25'!W36","v":0},null,{"$f":"'Data 21'!W37","v":0},{"$f":"'Data 22'!W37","v":0},{"$f":"'Data 23'!W37","v":0},{"$f":"'Data 24'!W37","v":0},{"$f":"'Data 25'!W37","v":0},null,{"$f":"'Data 21'!W38","v":0},{"$f":"'Data 22'!W38","v":0},{"$f":"'Data 23'!W38","v":0},{"$f":"'Data 24'!W38","v":0},{"$f":"'Data 25'!W38","v":0},null,{"$f":"'Data 21'!W39","v":0},{"$f":"'Data 22'!W39","v":0},{"$f":"'Data 23'!W39","v":0},{"$f":"'Data 24'!W39","v":0},{"$f":"'Data 25'!W39","v":0},null,{"$f":"'Data 21'!W40","v":0},{"$f":"'Data 22'!W40","v":0},{"$f":"'Data 23'!W40","v":0},{"$f":"'Data 24'!W40","v":0},{"$f":"'Data 25'!W40","v":0}]
[null,{"$f":"'Data 26'!W36","v":0},{"$f":"'Data 27'!W36","v":0},{"$f":"'Data 28'!W36","v":0},{"$f":"'Data 29'!W36","v":0},{"$f":"'Data 30'!W36","v":0},null,{"$f":"'Data 26'!W37","v":0},{"$f":"'Data 27'!W37","v":0},{"$f":"'Data 28'!W37","v":0},{"$f":"'Data 29'!W37","v":0},{"$f":"'Data 30'!W37","v":0},null,{"$f":"'Data 26'!W38","v":0},{"$f":"'Data 27'!W38","v":0},{"$f":"'Data 28'!W38","v":0},{"$f":"'Data 29'!W38","v":0},{"$f":"'Data 30'!W38","v":0},null,{"$f":"'Data 26'!W39","v":0},{"$f":"'Data 27'!W39","v":0},{"$f":"'Data 28'!W39","v":0},{"$f":"'Data 29'!W39","v":0},{"$f":"'Data 30'!W39","v":0},null,{"$f":"'Data 26'!W40","v":0},{"$f":"'Data 27'!W40","v":0},{"$f":"'Data 28'!W40","v":0},{"$f":"'Data 29'!W40","v":0},{"$f":"'Data 30'!W40","v":0}]
[null,{"$f":"'Data 31'!W36","v":0},{"$f":"'Data 29 (2)'!W36","v":0},{"$f":"'Data 30 (2)'!W36","v":0},{"$f":"'Data 31 (2)'!W36","v":0},null,null,{"$f":"'Data 31'!W37","v":0},{"$f":"'Data 29 (2)'!W37","v":0},{"$f":"'Data 30 (2)'!W37","v":0},{"$f":"'Data 31 (2)'!W37","v":0},null,null,{"$f":"'Data 31'!W38","v":0},{"$f":"'Data 29 (2)'!W38","v":0},{"$f":"'Data 30 (2)'!W38","v":0},{"$f":"'Data 31 (2)'!W38","v":0},null,null,{"$f":"'Data 31'!W39","v":0},{"$f":"'Data 29 (2)'!W39","v":0},{"$f":"'Data 30 (2)'!W39","v":0},{"$f":"'Data 31 (2)'!W39","v":0},null,null,{"$f":"'Data 31'!W40","v":0},{"$f":"'Data 29 (2)'!W40","v":0},{"$f":"'Data 30 (2)'!W40","v":0},{"$f":"'Data 31 (2)'!W40","v":0}]
["Sum",{"$f":"SUM(B38:F44)","v":0},null,null,null,null,null,{"$f":"SUM(H38:L44)","v":0},null,null,null,null,null,{"$f":"SUM(N38:R44)","v":0},null,null,null,null,null,{"$f":"SUM(T38:X44)","v":0},null,null,null,null,null,{"$f":"SUM(Z38:AD44)","v":0}]
[]
["F",{"$f":"'Data 1'!W41","v":0},{"$f":"'Data 2'!W41","v":0},{"$f":"'Data 3'!W41","v":0},{"$f":"'Data 4'!W41","v":0},{"$f":"'Data 5'!W41","v":0},"G",{"$f":"'Data 1'!W42","v":0},{"$f":"'Data 2'!W42","v":0},{"$f":"'Data 3'!W42","v":0},{"$f":"'Data 4'!W42","v":0},{"$f":"'Data 5'!W42","v":0},"H",{"$f":"'Data 1'!W43","v":0},{"$f":"'Data 2'!W43","v":0},{"$f":"'Data 3'!W43","v":0},{"$f":"'Data 4'!W43","v":0},{"$f":"'Data 5'!W43","v":0},"I",{"$f":"'Data 1'!W44","v":0},{"$f":"'Data 2'!W44","v":0},{"$f":"'Data 3'!W44","v":0},{"$f":"'Data 4'!W44","v":0},{"$f":"'Data 5'!W44","v":0},"J",{"$f":"'Data 1'!W45","v":0},{"$f":"'Data 2'!W45","v":0},{"$f":"'Data 3'!W45","v":0},{"$f":"'Data 4'!W45","v":0},{"$f":"'Data 5'!W45","v":0}]
[null,{"$f":"'Data 6'!W41","v":0},{"$f":"'Data 7'!W41","v":0},{"$f":"'Data 8'!W41","v":0},{"$f":"'Data 9'!W41","v":0},{"$f":"'Data 10'!W41","v":0},null,{"$f":"'Data 6'!W42","v":0},{"$f":"'Data 7'!W42","v":0},{"$f":"'Data 8'!W42","v":0},{"$f":"'Data 9'!W42","v":0},{"$f":"'Data 10'!W42","v":0},null,{"$f":"'Data 6'!W43","v":0},{"$f":"'Data 7'!W43","v":0},{"$f":"'Data 8'!W43","v":0},{"$f":"'Data 9'!W43","v":0},{"$f":"'Data 10'!W43","v":0},null,{"$f":"'Data 6'!W44","v":0},{"$f":"'Data 7'!W44","v":0},{"$f":"'Data 8'!W44","v":0},{"$f":"'Data 9'!W44","v":0},{"$f":"'Data 10'!W44","v":0},null,{"$f":"'Data 6'!W45","v":0},{"$f":"'Data 7'!W45","v":0},{"$f":"'Data 8'!W45","v":0},{"$f":"'Data 9'!W45","v":0},{"$f":"'Data 10'!W45","v":0}]
[null,{"$f":"'Data 11'!W41","v":0},{"$f":"'Data 12'!W41","v":0},{"$f":"'Data 13'!W41","v":0},{"$f":"'Data 14'!W41","v":0},{"$f":"'Data 15'!W41","v":0},null,{"$f":"'Data 11'!W42","v":0},{"$f":"'Data 12'!W42","v":0},{"$f":"'Data 13'!W42","v":0},{"$f":"'Data 14'!W42","v":0},{"$f":"'Data 15'!W42","v":0},null,{"$f":"'Data 11'!W43","v":0},{"$f":"'Data 12'!W43","v":0},{"$f":"'Data 13'!W43","v":0},{"$f":"'Data 14'!W43","v":0},{"$f":"'Data 15'!W43","v":0},null,{"$f":"'Data 11'!W44","v":0},{"$f":"'Data 12'!W44","v":0},{"$f":"'Data 13'!W44","v":0},{"$f":"'Data 14'!W44","v":0},{"$f":"'Data 15'!W44","v":0},null,{"$f":"'Data 11'!W45","v":0},{"$f":"'Data 12'!W45","v":0},{"$f":"'Data 13'!W45","v":0},{"$f":"'Data 14'!W45","v":0},{"$f":"'Data 15'!W45","v":0}]
[null,{"$f":"'Data 16'!W41","v":0},{"$f":"'Data 17'!W41","v":0},{"$f":"'Data 18'!W41","v":0},{"$f":"'Data 19'!W41","v":0},{"$f":"'Data 20'!W41","v":0},null,{"$f":"'Data 16'!W42","v":0},{"$f":"'Data 17'!W42","v":0},{"$f":"'Data 18'!W42","v":0},{"$f":"'Data 19'!W42","v":0},{"$f":"'Data 20'!W42","v":0},null,{"$f":"'Data 16'!W43","v":0},{"$f":"'Data 17'!W43","v":0},{"$f":"'Data 18'!W43","v":0},{"$f":"'Data 19'!W43","v":0},{"$f":"'Data 20'!W43","v":0},null,{"$f":"'Data 16'!W44","v":0},{"$f":"'Data 17'!W44","v":0},{"$f":"'Data 18'!W44","v":0},{"$f":"'Data 19'!W44","v":0},{"$f":"'Data 20'!W44","v":0},null,{"$f":"'Data 16'!W45","v":0},{"$f":"'Data 17'!W45","v":0},{"$f":"'Data 18'!W45","v":0},{"$f":"'Data 19'!W45","v":0},{"$f":"'Data 20'!W45","v":0}]
[null,{"$f":"'Data 21'!W41","v":0},{"$f":"'Data 22'!W41","v":0},{"$f":"'Data 23'!W41","v":0},{"$f":"'Data 24'!W41","v":0},{"$f":"'Data 25'!W41","v":0},null,{"$f":"'Data 21'!W42","v":0},{"$f":"'Data 22'!W42","v":0},{"$f":"'Data 23'!W42","v":0},{"$f":"'Data 24'!W42","v":0},{"$f":"'Data 25'!W42","v":0},null,{"$f":"'Data 21'!W43","v":0},{"$f":"'Data 22'!W43","v":0},{"$f":"'Data 23'!W43","v":0},{"$f":"'Data 24'!W43","v":0},{"$f":"'Data 25'!W43","v":0},null,{"$f":"'Data 21'!W44","v":0},{"$f":"'Data 22'!W44","v":0},{"$f":"'Data 23'!W44","v":0},{"$f":"'Data 24'!W44","v":0},{"$f":"'Data 25'!W44","v":0},null,{"$f":"'Data 21'!W45","v":0},{"$f":"'Data 22'!W45","v":0},{"$f":"'Data 23'!W45","v":0},{"$f":"'Data 24'!W45","v":0},{"$f":"'Data 25'!W45","v":0}]
[null,{"$f":"'Data 26'!W41","v":0},{"$f":"'Data 27'!W41","v":0},{"$f":"'Data 28'!W41","v":0},{"$f":"'Data 29'!W41","v":0},{"$f":"'Data 30'!W41","v":0},null,{"$f":"'Data 26'!W42","v":0},{"$f":"'Data 27'!W42","v":0},{"$f":"'Data 28'!W42","v":0},{"$f":"'Data 29'!W42","v":0},{"$f":"'Data 30'!W42","v":0},null,{"$f":"'Data 26'!W43","v":0},{"$f":"'Data 27'!W43","v":0},{"$f":"'Data 28'!W43","v":0},{"$f":"'Data 29'!W43","v":0},{"$f":"'Data 30'!W43","v":0},null,{"$f":"'Data 26'!W44","v":0},{"$f":"'Data 27'!W44","v":0},{"$f":"'Data 28'!W44","v":0},{"$f":"'Data 29'!W44","v":0},{"$f":"'Data 30'!W44","v":0},null,{"$f":"'Data 26'!W45","v":0},{"$f":"'Data 27'!W45","v":0},{"$f":"'Data 28'!W45","v":0},{"$f":"'Data 29'!W45","v":0},{"$f":"'Data 30'!W45","v":0}]
[null,{"$f":"'Data 31'!W41","v":0},{"$f":"'Data 29 (2)'!W41","v":0},{"$f":"'Data 30 (2)'!W41","v":0},{"$f":"'Data 31 (2)'!W41","v":0},null,null,{"$f":"'Data 31'!W42","v":0},{"$f":"'Data 29 (2)'!W42","v":0},{"$f":"'Data 30 (2)'!W42","v":0},{"$f":"'Data 31 (2)'!W42","v":0},null,null,{"$f":"'Data 31'!W43","v":0},{"$f":"'Data 29 (2)'!W43","v":0},{"$f":"'Data 30 (2)'!W43","v":0},{"$f":"'Data 31 (2)'!W43","v":0},null,null,{"$f":"'Data 31'!W44","v":0},{"$f":"'Data 29 (2)'!W44","v":0},{"$f":"'Data 30 (2)'!W44","v":0},{"$f":"'Data 31 (2)'!W44","v":0},null,null,{"$f":"'Data 31'!W45","v":0},{"$f":"'Data 29 (2)'!W45","v":0},{"$f":"'Data 30 (2)'!W45","v":0},{"$f":"'Data 31 (2)'!W45","v":0}]
[null,{"$f":"SUM(B47:F53)","v":0},null,null,null,null,null,{"$f":"SUM(H47:L53)","v":0},null,null,null,null,null,{"$f":"SUM(N47:R53)","v":0},null,null,null,null,null,{"$f":"SUM(T47:X53)","v":0},null,null,null,null,null,{"$f":"SUM(Z47:AD53)","v":0}]
[]
["K",{"$f":"'Data 1'!W46","v":0},{"$f":"'Data 2'!W46","v":0},{"$f":"'Data 3'!W46","v":0},{"$f":"'Data 4'!W46","v":0},{"$f":"'Data 5'!W46","v":0},"L",{"$f":"'Data 1'!W47","v":0},{"$f":"'Data 2'!W47","v":0},{"$f":"'Data 3'!W47","v":0},{"$f":"'Data 4'!W47","v":0},{"$f":"'Data 5'!W47","v":0}]
[null,{"$f":"'Data 6'!W46","v":0},{"$f":"'Data 7'!W46","v":0},{"$f":"'Data 8'!W46","v":0},{"$f":"'Data 9'!W46","v":0},{"$f":"'Data 10'!W46","v":0},null,{"$f":"'Data 6'!W47","v":0},{"$f":"'Data 7'!W47","v":0},{"$f":"'Data 8'!W47","v":0},{"$f":"'Data 9'!W47","v":0},{"$f":"'Data 10'!W47","v":0}]
[null,{"$f":"'Data 11'!W46","v":0},{"$f":"'Data 12'!W46","v":0},{"$f":"'Data 13'!W46","v":0},{"$f":"'Data 14'!W46","v":0},{"$f":"'Data 15'!W46","v":0},null,{"$f":"'Data 11'!W47","v":0},{"$f":"'Data 12'!W47","v":0},{"$f":"'Data 13'!W47","v":0},{"$f":"'Data 14'!W47","v":0},{"$f":"'Data 15'!W47","v":0}]
[null,{"$f":"'Data 16'!W46","v":0},{"$f":"'Data 17'!W46","v":0},{"$f":"'Data 18'!W46","v":0},{"$f":"'Data 19'!W46","v":0},{"$f":"'Data 20'!W46","v":0},null,{"$f":"'Data 16'!W47","v":0},{"$f":"'Data 17'!W47","v":0},{"$f":"'Data 18'!W47","v":0},{"$f":"'Data 19'!W47","v":0},{"$f":"'Data 20'!W47","v":0}]
[null,{"$f":"'Data 21'!W46","v":0},{"$f":"'Data 22'!W46","v":0},{"$f":"'Data 23'!W46","v":0},{"$f":"'Data 24'!W46","v":0},{"$f":"'Data 25'!W46","v":0},null,{"$f":"'Data 21'!W47","v":0},{"$f":"'Data 22'!W47","v":0},{"$f":"'Data 23'!W47","v":0},{"$f":"'Data 24'!W47","v":0},{"$f":"'Data 25'!W47","v":0}]
[null,{"$f":"'Data 26'!W46","v":0},{"$f":"'Data 27'!W46","v":0},{"$f":"'Data 28'!W46","v":0},{"$f":"'Data 29'!W46","v":0},{"$f":"'Data 30'!W46","v":0},null,{"$f":"'Data 26'!W47","v":0},{"$f":"'Data 27'!W47","v":0},{"$f":"'Data 28'!W47","v":0},{"$f":"'Data 29'!W47","v":0},{"$f":"'Data 30'!W47","v":0}]
[null,{"$f":"'Data 31'!W46","v":0},{"$f":"'Data 29 (2)'!W46","v":0},{"$f":"'Data 30 (2)'!W46","v":0},{"$f":"'Data 31 (2)'!W46","v":0},null,null,{"$f":"'Data 31'!W47","v":0},{"$f":"'Data 29 (2)'!W47","v":0},{"$f":"'Data 30 (2)'!W47","v":0},{"$f":"'Data 31 (2)'!W47","v":0}]
[null,{"$f":"SUM(B56:F62)","v":0},null,null,null,null,null,{"$f":"SUM(H56:L62)","v":0}]
[]
["Freq. of Antecedents"]
["A",{"$f":"'Data 1'!Y36","v":0},{"$f":"'Data 2'!Y36","v":0},{"$f":"'Data 3'!Y36","v":0},{"$f":"'Data 4'!Y36","v":0},{"$f":"'Data 5'!Y36","v":0},"B",{"$f":"'Data 1'!Y37","v":0},{"$f":"'Data 2'!Y37","v":0},{"$f":"'Data 3'!Y37","v":0},{"$f":"'Data 4'!Y37","v":0},{"$f":"'Data 5'!Y37","v":0},"C",{"$f":"'Data 1'!Y38","v":0},{"$f":"'Data 2'!Y38","v":0},{"$f":"'Data 3'!Y38","v":0},{"$f":"'Data 4'!Y38","v":0},{"$f":"'Data 5'!Y38","v":0},"D",{"$f":"'Data 1'!Y39","v":0},{"$f":"'Data 2'!Y39","v":0},{"$f":"'Data 3'!Y39","v":0},{"$f":"'Data 4'!Y39","v":0},{"$f":"'Data 5'!Y39","v":0},"E",{"$f":"'Data 1'!Y40","v":0},{"$f":"'Data 2'!Y40","v":0},{"$f":"'Data 3'!Y40","v":0},{"$f":"'Data 4'!Y40","v":0},{"$f":"'Data 5'!Y40","v":0}]
[null,{"$f":"'Data 6'!Y36","v":0},{"$f":"'Data 7'!Y36","v":0},{"$f":"'Data 8'!Y36","v":0},{"$f":"'Data 9'!Y36","v":0},{"$f":"'Data 10'!Y36","v":0},null,{"$f":"'Data 6'!Y37","v":0},{"$f":"'Data 7'!Y37","v":0},{"$f":"'Data 8'!Y37","v":0},{"$f":"'Data 9'!Y37","v":0},{"$f":"'Data 10'!Y37","v":0},null,{"$f":"'Data 6'!Y38","v":0},{"$f":"'Data 7'!Y38","v":0},{"$f":"'Data 8'!Y38","v":0},{"$f":"'Data 9'!Y38","v":0},{"$f":"'Data 10'!Y38","v":0},null,{"$f":"'Data 6'!Y39","v":0},{"$f":"'Data 7'!Y39","v":0},{"$f":"'Data 8'!Y39","v":0},{"$f":"'Data 9'!Y39","v":0},{"$f":"'Data 10'!Y39","v":0},null,{"$f":"'Data 6'!Y40","v":0},{"$f":"'Data 7'!Y40","v":0},{"$f":"'Data 8'!Y40","v":0},{"$f":"'Data 9'!Y40","v":0},{"$f":"'Data 10'!Y40","v":0}]
[null,{"$f":"'Data 11'!Y36","v":0},{"$f":"'Data 12'!Y36","v":0},{"$f":"'Data 13'!Y36","v":0},{"$f":"'Data 14'!Y36","v":0},{"$f":"'Data 15'!Y36","v":0},null,{"$f":"'Data 11'!Y37","v":0},{"$f":"'Data 12'!Y37","v":0},{"$f":"'Data 13'!Y37","v":0},{"$f":"'Data 14'!Y37","v":0},{"$f":"'Data 15'!Y37","v":0},null,{"$f":"'Data 11'!Y38","v":0},{"$f":"'Data 12'!Y38","v":0},{"$f":"'Data 13'!Y38","v":0},{"$f":"'Data 14'!Y38","v":0},{"$f":"'Data 15'!Y38","v":0},null,{"$f":"'Data 11'!Y39","v":0},{"$f":"'Data 12'!Y39","v":0},{"$f":"'Data 13'!Y39","v":0},{"$f":"'Data 14'!Y39","v":0},{"$f":"'Data 15'!Y39","v":0},null,{"$f":"'Data 11'!Y40","v":0},{"$f":"'Data 12'!Y40","v":0},{"$f":"'Data 13'!Y40","v":0},{"$f":"'Data 14'!Y40","v":0},{"$f":"'Data 15'!Y40","v":0}]
[null,{"$f":"'Data 16'!Y36","v":0},{"$f":"'Data 17'!Y36","v":0},{"$f":"'Data 18'!Y36","v":0},{"$f":"'Data 19'!Y36","v":0},{"$f":"'Data 20'!Y36","v":0},null,{"$f":"'Data 16'!Y37","v":0},{"$f":"'Data 17'!Y37","v":0},{"$f":"'Data 18'!Y37","v":0},{"$f":"'Data 19'!Y37","v":0},{"$f":"'Data 20'!Y37","v":0},null,{"$f":"'Data 16'!Y38","v":0},{"$f":"'Data 17'!Y38","v":0},{"$f":"'Data 18'!Y38","v":0},{"$f":"'Data 19'!Y38","v":0},{"$f":"'Data 20'!Y38","v":0},null,{"$f":"'Data 16'!Y39","v":0},{"$f":"'Data 17'!Y39","v":0},{"$f":"'Data 18'!Y39","v":0},{"$f":"'Data 19'!Y39","v":0},{"$f":"'Data 20'!Y39","v":0},null,{"$f":"'Data 16'!Y40","v":0},{"$f":"'Data 17'!Y40","v":0},{"$f":"'Data 18'!Y40","v":0},{"$f":"'Data 19'!Y40","v":0},{"$f":"'Data 20'!Y40","v":0}]
[null,{"$f":"'Data 21'!Y36","v":0},{"$f":"'Data 22'!Y36","v":0},{"$f":"'Data 23'!Y36","v":0},{"$f":"'Data 24'!Y36","v":0},{"$f":"'Data 25'!Y36","v":0},null,{"$f":"'Data 21'!Y37","v":0},{"$f":"'Data 22'!Y37","v":0},{"$f":"'Data 23'!Y37","v":0},{"$f":"'Data 24'!Y37","v":0},{"$f":"'Data 25'!Y37","v":0},null,{"$f":"'Data 21'!Y38","v":0},{"$f":"'Data 22'!Y38","v":0},{"$f":"'Data 23'!Y38","v":0},{"$f":"'Data 24'!Y38","v":0},{"$f":"'Data 25'!Y38","v":0},null,{"$f":"'Data 21'!Y39","v":0},{"$f":"'Data 22'!Y39","v":0},{"$f":"'Data 23'!Y39","v":0},{"$f":"'Data 24'!Y39","v":0},{"$f":"'Data 25'!Y39","v":0},null,{"$f":"'Data 21'!Y40","v":0},{"$f":"'Data 22'!Y40","v":0},{"$f":"'Data 23'!Y40","v":0},{"$f":"'Data 24'!Y40","v":0},{"$f":"'Data 25'!Y40","v":0}]
[null,{"$f":"'Data 26'!Y36","v":0},{"$f":"'Data 27'!Y36","v":0},{"$f":"'Data 28'!Y36","v":0},{"$f":"'Data 29'!Y36","v":0},{"$f":"'Data 30'!Y36","v":0},null,{"$f":"'Data 26'!Y37","v":0},{"$f":"'Data 27'!Y37","v":0},{"$f":"'Data 28'!Y37","v":0},{"$f":"'Data 29'!Y37","v":0},{"$f":"'Data 30'!Y37","v":0},null,{"$f":"'Data 26'!Y38","v":0},{"$f":"'Data 27'!Y38","v":0},{"$f":"'Data 28'!Y38","v":0},{"$f":"'Data 29'!Y38","v":0},{"$f":"'Data 30'!Y38","v":0},null,{"$f":"'Data 26'!Y39","v":0},{"$f":"'Data 27'!Y39","v":0},{"$f":"'Data 28'!Y39","v":0},{"$f":"'Data 29'!Y39","v":0},{"$f":"'Data 30'!Y39","v":0},null,{"$f":"'Data 26'!Y40","v":0},{"$f":"'Data 27'!Y40","v":0},{"$f":"'Data 28'!Y40","v":0},{"$f":"'Data 29'!Y40","v":0},{"$f":"'Data 30'!Y40","v":0}]
[null,{"$f":"'Data 31'!Y36","v":0},{"$f":"'Data 29 (2)'!Y36","v":0},{"$f":"'Data 30 (2)'!Y36","v":0},{"$f":"'Data 31 (2)'!Y36","v":0},null,null,{"$f":"'Data 31'!Y37","v":0},{"$f":"'Data 29 (2)'!Y37","v":0},{"$f":"'Data 30 (2)'!Y37","v":0},{"$f":"'Data 31 (2)'!Y37","v":0},null,null,{"$f":"'Data 31'!Y38","v":0},{"$f":"'Data 29 (2)'!Y38","v":0},{"$f":"'Data 30 (2)'!Y38","v":0},{"$f":"'Data 31 (2)'!Y38","v":0},null,null,{"$f":"'Data 31'!Y39","v":0},{"$f":"'Data 29 (2)'!Y39","v":0},{"$f":"'Data 30 (2)'!Y39","v":0},{"$f":"'Data 31 (2)'!Y39","v":0},null,null,{"$f":"'Data 31'!Y40","v":0},{"$f":"'Data 29 (2)'!Y40","v":0},{"$f":"'Data 30 (2)'!Y40","v":0},{"$f":"'Data 31 (2)'!Y40","v":0}]
["Sum",{"$f":"SUM(B66:F72)","v":0},null,null,null,null,null,{"$f":"SUM(H66:L72)","v":0},null,null,null,null,null,{"$f":"SUM(N66:R72)","v":0},null,null,null,null,null,{"$f":"SUM(T66:X72)","v":0},null,null,null,null,null,{"$f":"SUM(Z66:AD72)","v":0}]
[]
["F",{"$f":"'Data 1'!Y41","v":0},{"$f":"'Data 2'!Y41","v":0},{"$f":"'Data 3'!Y41","v":0},{"$f":"'Data 4'!Y41","v":0},{"$f":"'Data 5'!Y41","v":0},"G",{"$f":"'Data 1'!Y42","v":0},{"$f":"'Data 2'!Y42","v":0},{"$f":"'Data 3'!Y42","v":0},{"$f":"'Data 4'!Y42","v":0},{"$f":"'Data 5'!Y42","v":0},"H",{"$f":"'Data 1'!Y43","v":0},{"$f":"'Data 2'!Y43","v":0},{"$f":"'Data 3'!Y43","v":0},{"$f":"'Data 4'!Y43","v":0},{"$f":"'Data 5'!Y43","v":0},"I",{"$f":"'Data 1'!Y44","v":0},{"$f":"'Data 2'!Y44","v":0},{"$f":"'Data 3'!Y44","v":0},{"$f":"'Data 4'!Y44","v":0},{"$f":"'Data 5'!Y44","v":0},"J",{"$f":"'Data 1'!Y45","v":0},{"$f":"'Data 2'!Y45","v":0},{"$f":"'Data 3'!Y45","v":0},{"$f":"'Data 4'!Y45","v":0},{"$f":"'Data 5'!Y45","v":0}]
[null,{"$f":"'Data 6'!Y41","v":0},{"$f":"'Data 7'!Y41","v":0},{"$f":"'Data 8'!Y41","v":0},{"$f":"'Data 9'!Y41","v":0},{"$f":"'Data 10'!Y41","v":0},null,{"$f":"'Data 6'!Y42","v":0},{"$f":"'Data 7'!Y42","v":0},{"$f":"'Data 8'!Y42","v":0},{"$f":"'Data 9'!Y42","v":0},{"$f":"'Data 10'!Y42","v":0},null,{"$f":"'Data 6'!Y43","v":0},{"$f":"'Data 7'!Y43","v":0},{"$f":"'Data 8'!Y43","v":0},{"$f":"'Data 9'!Y43","v":0},{"$f":"'Data 10'!Y43","v":0},null,{"$f":"'Data 6'!Y44","v":0},{"$f":"'Data 7'!Y44","v":0},{"$f":"'Data 8'!Y44","v":0},{"$f":"'Data 9'!Y44","v":0},{"$f":"'Data 10'!Y44","v":0},null,{"$f":"'Data 6'!Y45","v":0},{"$f":"'Data 7'!Y45","v":0},{"$f":"'Data 8'!Y45","v":0},{"$f":"'Data 9'!Y45","v":0},{"$f":"'Data 10'!Y45","v":0}]
[null,{"$f":"'Data 11'!Y41","v":0},{"$f":"'Data 12'!Y41","v":0},{"$f":"'Data 13'!Y41","v":0},{"$f":"'Data 14'!Y41","v":0},{"$f":"'Data 15'!Y41","v":0},null,{"$f":"'Data 11'!Y42","v":0},{"$f":"'Data 12'!Y42","v":0},{"$f":"'Data 13'!Y42","v":0},{"$f":"'Data 14'!Y42","v":0},{"$f":"'Data 15'!Y42","v":0},null,{"$f":"'Data 11'!Y43","v":0},{"$f":"'Data 12'!Y43","v":0},{"$f":"'Data 13'!Y43","v":0},{"$f":"'Data 14'!Y43","v":0},{"$f":"'Data 15'!Y43","v":0},null,{"$f":"'Data 11'!Y44","v":0},{"$f":"'Data 12'!Y44","v":0},{"$f":"'Data 13'!Y44","v":0},{"$f":"'Data 14'!Y44","v":0},{"$f":"'Data 15'!Y44","v":0},null,{"$f":"'Data 11'!Y45","v":0},{"$f":"'Data 12'!Y45","v":0},{"$f":"'Data 13'!Y45","v":0},{"$f":"'Data 14'!Y45","v":0},{"$f":"'Data 15'!Y45","v":0}]
[null,{"$f":"'Data 16'!Y41","v":0},{"$f":"'Data 17'!Y41","v":0},{"$f":"'Data 18'!Y41","v":0},{"$f":"'Data 19'!Y41","v":0},{"$f":"'Data 20'!Y41","v":0},null,{"$f":"'Data 16'!Y42","v":0},{"$f":"'Data 17'!Y42","v":0},{"$f":"'Data 18'!Y42","v":0},{"$f":"'Data 19'!Y42","v":0},{"$f":"'Data 20'!Y42","v":0},null,{"$f":"'Data 16'!Y43","v":0},{"$f":"'Data 17'!Y43","v":0},{"$f":"'Data 18'!Y43","v":0},{"$f":"'Data 19'!Y43","v":0},{"$f":"'Data 20'!Y43","v":0},null,{"$f":"'Data 16'!Y44","v":0},{"$f":"'Data 17'!Y44","v":0},{"$f":"'Data 18'!Y44","v":0},{"$f":"'Data 19'!Y44","v":0},{"$f":"'Data 20'!Y44","v":0},null,{"$f":"'Data 16'!Y45","v":0},{"$f":"'Data 17'!Y45","v":0},{"$f":"'Data 18'!Y45","v":0},{"$f":"'Data 19'!Y45","v":0},{"$f":"'Data 20'!Y45","v":0}]
[null,{"$f":"'Data 21'!Y41","v":0},{"$f":"'Data 22'!Y41","v":0},{"$f":"'Data 23'!Y41","v":0},{"$f":"'Data 24'!Y41","v":0},{"$f":"'Data 25'!Y41","v":0},null,{"$f":"'Data 21'!Y42","v":0},{"$f":"'Data 22'!Y42","v":0},{"$f":"'Data 23'!Y42","v":0},{"$f":"'Data 24'!Y42","v":0},{"$f":"'Data 25'!Y42","v":0},null,{"$f":"'Data 21'!Y43","v":0},{"$f":"'Data 22'!Y43","v":0},{"$f":"'Data 23'!Y43","v":0},{"$f":"'Data 24'!Y43","v":0},{"$f":"'Data 25'!Y43","v":0},null,{"$f":"'Data 21'!Y44","v":0},{"$f":"'Data 22'!Y44","v":0},{"$f":"'Data 23'!Y44","v":0},{"$f":"'Data 24'!Y44","v":0},{"$f":"'Data 25'!Y44","v":0},null,{"$f":"'Data 21'!Y45","v":0},{"$f":"'Data 22'!Y45","v":0},{"$f":"'Data 23'!Y45","v":0},{"$f":"'Data 24'!Y45","v":0},{"$f":"'Data 25'!Y45","v":0}]
[null,{"$f":"'Data 26'!Y41","v":0},{"$f":"'Data 27'!Y41","v":0},{"$f":"'Data 28'!Y41","v":0},{"$f":"'Data 29'!Y41","v":0},{"$f":"'Data 30'!Y41","v":0},null,{"$f":"'Data 26'!Y42","v":0},{"$f":"'Data 27'!Y42","v":0},{"$f":"'Data 28'!Y42","v":0},{"$f":"'Data 29'!Y42","v":0},{"$f":"'Data 30'!Y42","v":0},null,{"$f":"'Data 26'!Y43","v":0},{"$f":"'Data 27'!Y43","v":0},{"$f":"'Data 28'!Y43","v":0},{"$f":"'Data 29'!Y43","v":0},{"$f":"'Data 30'!Y43","v":0},null,{"$f":"'Data 26'!Y44","v":0},{"$f":"'Data 27'!Y44","v":0},{"$f":"'Data 28'!Y44","v":0},{"$f":"'Data 29'!Y44","v":0},{"$f":"'Data 30'!Y44","v":0},null,{"$f":"'Data 26'!Y45","v":0},{"$f":"'Data 27'!Y45","v":0},{"$f":"'Data 28'!Y45","v":0},{"$f":"'Data 29'!Y45","v":0},{"$f":"'Data 30'!Y45","v":0}]
[null,{"$f":"'Data 31'!Y41","v":0},{"$f":"'Data 29 (2)'!Y41","v":0},{"$f":"'Data 30 (2)'!Y41","v":0},{"$f":"'Data 31 (2)'!Y41","v":0},null,null,{"$f":"'Data 31'!Y42","v":0},{"$f":"'Data 29 (2)'!Y42","v":0},{"$f":"'Data 30 (2)'!Y42","v":0},{"$f":"'Data 31 (2)'!Y42","v":0},null,null,{"$f":"'Data 31'!Y43","v":0},{"$f":"'Data 29 (2)'!Y43","v":0},{"$f":"'Data 30 (2)'!Y43","v":0},{"$f":"'Data 31 (2)'!Y43","v":0},null,null,{"$f":"'Data 31'!Y44","v":0},{"$f":"'Data 29 (2)'!Y44","v":0},{"$f":"'Data 30 (2)'!Y44","v":0},{"$f":"'Data 31 (2)'!Y44","v":0},null,null,{"$f":"'Data 31'!Y45","v":0},{"$f":"'Data 29 (2)'!Y45","v":0},{"$f":"'Data 30 (2)'!Y45","v":0},{"$f":"'Data 31 (2)'!Y45","v":0}]
[null,{"$f":"SUM(B75:F81)","v":0},null,null,null,null,null,{"$f":"SUM(H75:L81)","v":0},null,null,null,null,null,{"$f":"SUM(N75:R81)","v":0},null,null,null,null,null,{"$f":"SUM(T75:X81)","v":0},null,null,null,null,null,{"$f":"SUM(Z75:AD81)","v":0}]
[]
["K",{"$f":"'Data 1'!Y46","v":0},{"$f":"'Data 2'!Y46","v":0},{"$f":"'Data 3'!Y46","v":0},{"$f":"'Data 4'!Y46","v":0},{"$f":"'Data 5'!Y46","v":0},"L",{"$f":"'Data 1'!Y47","v":0},{"$f":"'Data 2'!Y47","v":0},{"$f":"'Data 3'!Y47","v":0},{"$f":"'Data 4'!Y47","v":0},{"$f":"'Data 5'!Y47","v":0}]
[null,{"$f":"'Data 6'!Y46","v":0},{"$f":"'Data 7'!Y46","v":0},{"$f":"'Data 8'!Y46","v":0},{"$f":"'Data 9'!Y46","v":0},{"$f":"'Data 10'!Y46","v":0},null,{"$f":"'Data 6'!Y47","v":0},{"$f":"'Data 7'!Y47","v":0},{"$f":"'Data 8'!Y47","v":0},{"$f":"'Data 9'!Y47","v":0},{"$f":"'Data 10'!Y47","v":0}]
[null,{"$f":"'Data 11'!Y46","v":0},{"$f":"'Data 12'!Y46","v":0},{"$f":"'Data 13'!Y46","v":0},{"$f":"'Data 14'!Y46","v":0},{"$f":"'Data 15'!Y46","v":0},null,{"$f":"'Data 11'!Y47","v":0},{"$f":"'Data 12'!Y47","v":0},{"$f":"'Data 13'!Y47","v":0},{"$f":"'Data 14'!Y47","v":0},{"$f":"'Data 15'!Y47","v":0}]
[null,{"$f":"'Data 16'!Y46","v":0},{"$f":"'Data 17'!Y46","v":0},{"$f":"'Data 18'!Y46","v":0},{"$f":"'Data 19'!Y46","v":0},{"$f":"'Data 20'!Y46","v":0},null,{"$f":"'Data 16'!Y47","v":0},{"$f":"'Data 17'!Y47","v":0},{"$f":"'Data 18'!Y47","v":0},{"$f":"'Data 19'!Y47","v":0},{"$f":"'Data 20'!Y47","v":0}]
[null,{"$f":"'Data 21'!Y46","v":0},{"$f":"'Data 22'!Y46","v":0},{"$f":"'Data 23'!Y46","v":0},{"$f":"'Data 24'!Y46","v":0},{"$f":"'Data 25'!Y46","v":0},null,{"$f":"'Data 21'!Y47","v":0},{"$f":"'Data 22'!Y47","v":0},{"$f":"'Data 23'!Y47","v":0},{"$f":"'Data 24'!Y47","v":0},{"$f":"'Data 25'!Y47","v":0}]
[null,{"$f":"'Data 26'!Y46","v":0},{"$f":"'Data 27'!Y46","v":0},{"$f":"'Data 28'!Y46","v":0},{"$f":"'Data 29'!Y46","v":0},{"$f":"'Data 30'!Y46","v":0},null,{"$f":"'Data 26'!Y47","v":0},{"$f":"'Data 27'!Y47","v":0},{"$f":"'Data 28'!Y47","v":0},{"$f":"'Data 29'!Y47","v":0},{"$f":"'Data 30'!Y47","v":0}]
[null,{"$f":"'Data 31'!Y46","v":0},{"$f":"'Data 29 (2)'!Y46","v":0},{"$f":"'Data 30 (2)'!Y46","v":0},{"$f":"'Data 31 (2)'!Y46","v":0},null,null,{"$f":"'Data 31'!Y47","v":0},{"$f":"'Data 29 (2)'!Y47","v":0},{"$f":"'Data 30 (2)'!Y47","v":0},{"$f":"'Data 31 (2)'!Y47","v":0}]
[null,{"$f":"SUM(B84:F90)","v":0},null,null,null,null,null,{"$f":"SUM(H84:L90)","v":0}]
[]
["Freq. of Consenquences"]
["A",{"$f":"'Data 1'!X36","v":0},{"$f":"'Data 2'!X36","v":0},{"$f":"'Data 3'!X36","v":0},{"$f":"'Data 4'!X36","v":0},{"$f":"'Data 5'!X36","v":0},"B",{"$f":"'Data 1'!X37","v":0},{"$f":"'Data 2'!X37","v":0},{"$f":"'Data 3'!X37","v":0},{"$f":"'Data 4'!X37","v":0},{"$f":"'Data 5'!X37","v":0},"C",{"$f":"'Data 1'!X38","v":0},{"$f":"'Data 2'!X38","v":0},{"$f":"'Data 3'!X38","v":0},{"$f":"'Data 4'!X38","v":0},{"$f":"'Data 5'!X38","v":0},"D",{"$f":"'Data 1'!X39","v":0},{"$f":"'Data 2'!X39","v":0},{"$f":"'Data 3'!X39","v":0},{"$f":"'Data 4'!X39","v":0},{"$f":"'Data 5'!X39","v":0},"E",{"$f":"'Data 1'!X40","v":0},{"$f":"'Data 2'!X40","v":0},{"$f":"'Data 3'!X40","v":0},{"$f":"'Data 4'!X40","v":0},{"$f":"'Data 5'!X40","v":0}]
[null,{"$f":"'Data 6'!X36","v":0},{"$f":"'Data 7'!X36","v":0},{"$f":"'Data 8'!X36","v":0},{"$f":"'Data 9'!X36","v":0},{"$f":"'Data 10'!X36","v":0},null,{"$f":"'Data 6'!X37","v":0},{"$f":"'Data 7'!X37","v":0},{"$f":"'Data 8'!X37","v":0},{"$f":"'Data 9'!X37","v":0},{"$f":"'Data 10'!X37","v":0},null,{"$f":"'Data 6'!X38","v":0},{"$f":"'Data 7'!X38","v":0},{"$f":"'Data 8'!X38","v":0},{"$f":"'Data 9'!X38","v":0},{"$f":"'Data 10'!X38","v":0},null,{"$f":"'Data 6'!X39","v":0},{"$f":"'Data 7'!X39","v":0},{"$f":"'Data 8'!X39","v":0},{"$f":"'Data 9'!X39","v":0},{"$f":"'Data 10'!X39","v":0},null,{"$f":"'Data 6'!X40","v":0},{"$f":"'Data 7'!X40","v":0},{"$f":"'Data 8'!X40","v":0},{"$f":"'Data 9'!X40","v":0},{"$f":"'Data 10'!X40","v":0}]
[null,{"$f":"'Data 11'!X36","v":0},{"$f":"'Data 12'!X36","v":0},{"$f":"'Data 13'!X36","v":0},{"$f":"'Data 14'!X36","v":0},{"$f":"'Data 15'!X36","v":0},null,{"$f":"'Data 11'!X37","v":0},{"$f":"'Data 12'!X37","v":0},{"$f":"'Data 13'!X37","v":0},{"$f":"'Data 14'!X37","v":0},{"$f":"'Data 15'!X37","v":0},null,{"$f":"'Data 11'!X38","v":0},{"$f":"'Data 12'!X38","v":0},{"$f":"'Data 13'!X38","v":0},{"$f":"'Data 14'!X38","v":0},{"$f":"'Data 15'!X38","v":0},null,{"$f":"'Data 11'!X39","v":0},{"$f":"'Data 12'!X39","v":0},{"$f":"'Data 13'!X39","v":0},{"$f":"'Data 14'!X39","v":0},{"$f":"'Data 15'!X39","v":0},null,{"$f":"'Data 11'!X40","v":0},{"$f":"'Data 12'!X40","v":0},{"$f":"'Data 13'!X40","v":0},{"$f":"'Data 14'!X40","v":0},{"$f":"'Data 15'!X40","v":0}]
[null,{"$f":"'Data 16'!X36","v":0},{"$f":"'Data 17'!X36","v":0},{"$f":"'Data 18'!X36","v":0},{"$f":"'Data 19'!X36","v":0},{"$f":"'Data 20'!X36","v":0},null,{"$f":"'Data 16'!X37","v":0},{"$f":"'Data 17'!X37","v":0},{"$f":"'Data 18'!X37","v":0},{"$f":"'Data 19'!X37","v":0},{"$f":"'Data 20'!X37","v":0},null,{"$f":"'Data 16'!X38","v":0},{"$f":"'Data 17'!X38","v":0},{"$f":"'Data 18'!X38","v":0},{"$f":"'Data 19'!X38","v":0},{"$f":"'Data 20'!X38","v":0},null,{"$f":"'Data 16'!X39","v":0},{"$f":"'Data 17'!X39","v":0},{"$f":"'Data 18'!X39","v":0},{"$f":"'Data 19'!X39","v":0},{"$f":"'Data 20'!X39","v":0},null,{"$f":"'Data 16'!X40","v":0},{"$f":"'Data 17'!X40","v":0},{"$f":"'Data 18'!X40","v":0},{"$f":"'Data 19'!X40","v":0},{"$f":"'Data 20'!X40","v":0}]
[null,{"$f":"'Data 21'!X36","v":0},{"$f":"'Data 22'!X36","v":0},{"$f":"'Data 23'!X36","v":0},{"$f":"'Data 24'!X36","v":0},{"$f":"'Data 25'!X36","v":0},null,{"$f":"'Data 21'!X37","v":0},{"$f":"'Data 22'!X37","v":0},{"$f":"'Data 23'!X37","v":0},{"$f":"'Data 24'!X37","v":0},{"$f":"'Data 25'!X37","v":0},null,{"$f":"'Data 21'!X38","v":0},{"$f":"'Data 22'!X38","v":0},{"$f":"'Data 23'!X38","v":0},{"$f":"'Data 24'!X38","v":0},{"$f":"'Data 25'!X38","v":0},null,{"$f":"'Data 21'!X39","v":0},{"$f":"'Data 22'!X39","v":0},{"$f":"'Data 23'!X39","v":0},{"$f":"'Data 24'!X39","v":0},{"$f":"'Data 25'!X39","v":0},null,{"$f":"'Data 21'!X40","v":0},{"$f":"'Data 22'!X40","v":0},{"$f":"'Data 23'!X40","v":0},{"$f":"'Data 24'!X40","v":0},{"$f":"'Data 25'!X40","v":0}]
[null,{"$f":"'Data 26'!X36","v":0},{"$f":"'Data 27'!X36","v":0},{"$f":"'Data 28'!X36","v":0},{"$f":"'Data 29'!X36","v":0},{"$f":"'Data 30'!X36","v":0},null,{"$f":"'Data 26'!X37","v":0},{"$f":"'Data 27'!X37","v":0},{"$f":"'Data 28'!X37","v":0},{"$f":"'Data 29'!X37","v":0},{"$f":"'Data 30'!X37","v":0},null,{"$f":"'Data 26'!X38","v":0},{"$f":"'Data 27'!X38","v":0},{"$f":"'Data 28'!X38","v":0},{"$f":"'Data 29'!X38","v":0},{"$f":"'Data 30'!X38","v":0},null,{"$f":"'Data 26'!X39","v":0},{"$f":"'Data 27'!X39","v":0},{"$f":"'Data 28'!X39","v":0},{"$f":"'Data 29'!X39","v":0},{"$f":"'Data 30'!X39","v":0},null,{"$f":"'Data 26'!X40","v":0},{"$f":"'Data 27'!X40","v":0},{"$f":"'Data 28'!X40","v":0},{"$f":"'Data 29'!X40","v":0},{"$f":"'Data 30'!X40","v":0}]
[null,{"$f":"'Data 31'!X36","v":0},{"$f":"'Data 29 (2)'!X36","v":0},{"$f":"'Data 30 (2)'!X36","v":0},{"$f":"'Data 31 (2)'!X36","v":0},null,null,{"$f":"'Data 31'!X37","v":0},{"$f":"'Data 29 (2)'!X37","v":0},{"$f":"'Data 30 (2)'!X37","v":0},{"$f":"'Data 31 (2)'!X37","v":0},null,null,{"$f":"'Data 31'!X38","v":0},{"$f":"'Data 29 (2)'!X38","v":0},{"$f":"'Data 30 (2)'!X38","v":0},{"$f":"'Data 31 (2)'!X38","v":0},null,null,{"$f":"'Data 31'!X39","v":0},{"$f":"'Data 29 (2)'!X39","v":0},{"$f":"'Data 30 (2)'!X39","v":0},{"$f":"'Data 31 (2)'!X39","v":0},null,null,{"$f":"'Data 31'!X40","v":0},{"$f":"'Data 29 (2)'!X40","v":0},{"$f":"'Data 30 (2)'!X40","v":0},{"$f":"'Data 31 (2)'!X40","v":0}]
["Sum",{"$f":"SUM(B94:F100)","v":0},null,null,null,null,null,{"$f":"SUM(H94:L100)","v":0},null,null,null,null,null,{"$f":"SUM(N94:R100)","v":0},null,null,null,null,null,{"$f":"SUM(T94:X100)","v":0},null,null,null,null,null,{"$f":"SUM(Z94:AD100)","v":0}]
[]
["F",{"$f":"'Data 1'!X41","v":0},{"$f":"'Data 2'!X41","v":0},{"$f":"'Data 3'!X41","v":0},{"$f":"'Data 4'!X41","v":0},{"$f":"'Data 5'!X41","v":0},"G",{"$f":"'Data 1'!X42","v":0},{"$f":"'Data 2'!X42","v":0},{"$f":"'Data 3'!X42","v":0},{"$f":"'Data 4'!X42","v":0},{"$f":"'Data 5'!X42","v":0},"H",{"$f":"'Data 1'!X43","v":0},{"$f":"'Data 2'!X43","v":0},{"$f":"'Data 3'!X43","v":0},{"$f":"'Data 4'!X43","v":0},{"$f":"'Data 5'!X43","v":0},"I",{"$f":"'Data 1'!X44","v":0},{"$f":"'Data 2'!X44","v":0},{"$f":"'Data 3'!X44","v":0},{"$f":"'Data 4'!X44","v":0},{"$f":"'Data 5'!X44","v":0},"J",{"$f":"'Data 1'!X45","v":0},{"$f":"'Data 2'!X45","v":0},{"$f":"'Data 3'!X45","v":0},{"$f":"'Data 4'!X45","v":0},{"$f":"'Data 5'!X45","v":0}]
[null,{"$f":"'Data 6'!X41","v":0},{"$f":"'Data 7'!X41","v":0},{"$f":"'Data 8'!X41","v":0},{"$f":"'Data 9'!X41","v":0},{"$f":"'Data 10'!X41","v":0},null,{"$f":"'Data 6'!X42","v":0},{"$f":"'Data 7'!X42","v":0},{"$f":"'Data 8'!X42","v":0},{"$f":"'Data 9'!X42","v":0},{"$f":"'Data 10'!X42","v":0},null,{"$f":"'Data 6'!X43","v":0},{"$f":"'Data 7'!X43","v":0},{"$f":"'Data 8'!X43","v":0},{"$f":"'Data 9'!X43","v":0},{"$f":"'Data 10'!X43","v":0},null,{"$f":"'Data 6'!X44","v":0},{"$f":"'Data 7'!X44","v":0},{"$f":"'Data 8'!X44","v":0},{"$f":"'Data 9'!X44","v":0},{"$f":"'Data 10'!X44","v":0},null,{"$f":"'Data 6'!X45","v":0},{"$f":"'Data 7'!X45","v":0},{"$f":"'Data 8'!X45","v":0},{"$f":"'Data 9'!X45","v":0},{"$f":"'Data 10'!X45","v":0}]
[null,{"$f":"'Data 11'!X41","v":0},{"$f":"'Data 12'!X41","v":0},{"$f":"'Data 13'!X41","v":0},{"$f":"'Data 14'!X41","v":0},{"$f":"'Data 15'!X41","v":0},null,{"$f":"'Data 11'!X42","v":0},{"$f":"'Data 12'!X42","v":0},{"$f":"'Data 13'!X42","v":0},{"$f":"'Data 14'!X42","v":0},{"$f":"'Data 15'!X42","v":0},null,{"$f":"'Data 11'!X43","v":0},{"$f":"'Data 12'!X43","v":0},{"$f":"'Data 13'!X43","v":0},{"$f":"'Data 14'!X43","v":0},{"$f":"'Data 15'!X43","v":0},null,{"$f":"'Data 11'!X44","v":0},{"$f":"'Data 12'!X44","v":0},{"$f":"'Data 13'!X44","v":0},{"$f":"'Data 14'!X44","v":0},{"$f":"'Data 15'!X44","v":0},null,{"$f":"'Data 11'!X45","v":0},{"$f":"'Data 12'!X45","v":0},{"$f":"'Data 13'!X45","v":0},{"$f":"'Data 14'!X45","v":0},{"$f":"'Data 15'!X45","v":0}]
[null,{"$f":"'Data 16'!X41","v":0},{"$f":"'Data 17'!X41","v":0},{"$f":"'Data 18'!X41","v":0},{"$f":"'Data 19'!X41","v":0},{"$f":"'Data 20'!X41","v":0},null,{"$f":"'Data 16'!X42","v":0},{"$f":"'Data 17'!X42","v":0},{"$f":"'Data 18'!X42","v":0},{"$f":"'Data 19'!X42","v":0},{"$f":"'Data 20'!X42","v":0},null,{"$f":"'Data 16'!X43","v":0},{"$f":"'Data 17'!X43","v":0},{"$f":"'Data 18'!X43","v":0},{"$f":"'Data 19'!X43","v":0},{"$f":"'Data 20'!X43","v":0},null,{"$f":"'Data 16'!X44","v":0},{"$f":"'Data 17'!X44","v":0},{"$f":"'Data 18'!X44","v":0},{"$f":"'Data 19'!X44","v":0},{"$f":"'Data 20'!X44","v":0},null,{"$f":"'Data 16'!X45","v":0},{"$f":"'Data 17'!X45","v":0},{"$f":"'Data 18'!X45","v":0},{"$f":"'Data 19'!X45","v":0},{"$f":"'Data 20'!X45","v":0}]
[null,{"$f":"'Data 21'!X41","v":0},{"$f":"'Data 22'!X41","v":0},{"$f":"'Data 23'!X41","v":0},{"$f":"'Data 24'!X41","v":0},{"$f":"'Data 25'!X41","v":0},null,{"$f":"'Data 21'!X42","v":0},{"$f":"'Data 22'!X42","v":0},{"$f":"'Data 23'!X42","v":0},{"$f":"'Data 24'!X42","v":0},{"$f":"'Data 25'!X42","v":0},null,{"$f":"'Data 21'!X43","v":0},{"$f":"'Data 22'!X43","v":0},{"$f":"'Data 23'!X43","v":0},{"$f":"'Data 24'!X43","v":0},{"$f":"'Data 25'!X43","v":0},null,{"$f":"'Data 21'!X44","v":0},{"$f":"'Data 22'!X44","v":0},{"$f":"'Data 23'!X44","v":0},{"$f":"'Data 24'!X44","v":0},{"$f":"'Data 25'!X44","v":0},null,{"$f":"'Data 21'!X45","v":0},{"$f":"'Data 22'!X45","v":0},{"$f":"'Data 23'!X45","v":0},{"$f":"'Data 24'!X45","v":0},{"$f":"'Data 25'!X45","v":0}]
[null,{"$f":"'Data 26'!X41","v":0},{"$f":"'Data 27'!X41","v":0},{"$f":"'Data 28'!X41","v":0},{"$f":"'Data 29'!X41","v":0},{"$f":"'Data 30'!X41","v":0},null,{"$f":"'Data 26'!X42","v":0},{"$f":"'Data 27'!X42","v":0},{"$f":"'Data 28'!X42","v":0},{"$f":"'Data 29'!X42","v":0},{"$f":"'Data 30'!X42","v":0},null,{"$f":"'Data 26'!X43","v":0},{"$f":"'Data 27'!X43","v":0},{"$f":"'Data 28'!X43","v":0},{"$f":"'Data 29'!X43","v":0},{"$f":"'Data 30'!X43","v":0},null,{"$f":"'Data 26'!X44","v":0},{"$f":"'Data 27'!X44","v":0},{"$f":"'Data 28'!X44","v":0},{"$f":"'Data 29'!X44","v":0},{"$f":"'Data 30'!X44","v":0},null,{"$f":"'Data 26'!X45","v":0},{"$f":"'Data 27'!X45","v":0},{"$f":"'Data 28'!X45","v":0},{"$f":"'Data 29'!X45","v":0},{"$f":"'Data 30'!X45","v":0}]
[null,{"$f":"'Data 31'!X41","v":0},{"$f":"'Data 29 (2)'!X41","v":0},{"$f":"'Data 30 (2)'!X41","v":0},{"$f":"'Data 31 (2)'!X41","v":0},null,null,{"$f":"'Data 31'!X42","v":0},{"$f":"'Data 29 (2)'!X42","v":0},{"$f":"'Data 30 (2)'!X42","v":0},{"$f":"'Data 31 (2)'!X42","v":0},null,null,{"$f":"'Data 31'!X43","v":0},{"$f":"'Data 29 (2)'!X43","v":0},{"$f":"'Data 30 (2)'!X43","v":0},{"$f":"'Data 31 (2)'!X43","v":0},null,null,{"$f":"'Data 31'!X44","v":0},{"$f":"'Data 29 (2)'!X44","v":0},{"$f":"'Data 30 (2)'!X44","v":0},{"$f":"'Data 31 (2)'!X44","v":0},null,null,{"$f":"'Data 31'!X45","v":0},{"$f":"'Data 29 (2)'!X45","v":0},{"$f":"'Data 30 (2)'!X45","v":0},{"$f":"'Data 31 (2)'!X45","v":0}]
[null,{"$f":"SUM(B103:F109)","v":0},null,null,null,null,null,{"$f":"SUM(H103:L109)","v":0},null,null,null,null,null,{"$f":"SUM(N103:R109)","v":0},null,null,null,null,null,{"$f":"SUM(T103:X109)","v":0},null,null,null,null,null,{"$f":"SUM(Z103:AD109)","v":0}]
[]
["K",{"$f":"'Data 1'!X46","v":0},{"$f":"'Data 2'!X46","v":0},{"$f":"'Data 3'!X46","v":0},{"$f":"'Data 4'!X46","v":0},{"$f":"'Data 5'!X46","v":0},"L",{"$f":"'Data 1'!X47","v":0},{"$f":"'Data 2'!X47","v":0},{"$f":"'Data 3'!X47","v":0},{"$f":"'Data 4'!X47","v":0},{"$f":"'Data 5'!X47","v":0}]
[null,{"$f":"'Data 6'!X46","v":0},{"$f":"'Data 7'!X46","v":0},{"$f":"'Data 8'!X46","v":0},{"$f":"'Data 9'!X46","v":0},{"$f":"'Data 10'!X46","v":0},null,{"$f":"'Data 6'!X47","v":0},{"$f":"'Data 7'!X47","v":0},{"$f":"'Data 8'!X47","v":0},{"$f":"'Data 9'!X47","v":0},{"$f":"'Data 10'!X47","v":0}]
[null,{"$f":"'Data 11'!X46","v":0},{"$f":"'Data 12'!X46","v":0},{"$f":"'Data 13'!X46","v":0},{"$f":"'Data 14'!X46","v":0},{"$f":"'Data 15'!X46","v":0},null,{"$f":"'Data 11'!X47","v":0},{"$f":"'Data 12'!X47","v":0},{"$f":"'Data 13'!X47","v":0},{"$f":"'Data 14'!X47","v":0},{"$f":"'Data 15'!X47","v":0}]
[null,{"$f":"'Data 16'!X46","v":0},{"$f":"'Data 17'!X46","v":0},{"$f":"'Data 18'!X46","v":0},{"$f":"'Data 19'!X46","v":0},{"$f":"'Data 20'!X46","v":0},null,{"$f":"'Data 16'!X47","v":0},{"$f":"'Data 17'!X47","v":0},{"$f":"'Data 18'!X47","v":0},{"$f":"'Data 19'!X47","v":0},{"$f":"'Data 20'!X47","v":0}]
[null,{"$f":"'Data 21'!X46","v":0},{"$f":"'Data 22'!X46","v":0},{"$f":"'Data 23'!X46","v":0},{"$f":"'Data 24'!X46","v":0},{"$f":"'Data 25'!X46","v":0},null,{"$f":"'Data 21'!X47","v":0},{"$f":"'Data 22'!X47","v":0},{"$f":"'Data 23'!X47","v":0},{"$f":"'Data 24'!X47","v":0},{"$f":"'Data 25'!X47","v":0}]
[null,{"$f":"'Data 26'!X46","v":0},{"$f":"'Data 27'!X46","v":0},{"$f":"'Data 28'!X46","v":0},{"$f":"'Data 29'!X46","v":0},{"$f":"'Data 30'!X46","v":0},null,{"$f":"'Data 26'!X47","v":0},{"$f":"'Data 27'!X47","v":0},{"$f":"'Data 28'!X47","v":0},{"$f":"'Data 29'!X47","v":0},{"$f":"'Data 30'!X47","v":0}]
[null,{"$f":"'Data 31'!X46","v":0},{"$f":"'Data 29 (2)'!X46","v":0},{"$f":"'Data 30 (2)'!X46","v":0},{"$f":"'Data 31 (2)'!X46","v":0},null,null,{"$f":"'Data 31'!X47","v":0},{"$f":"'Data 29 (2)'!X47","v":0},{"$f":"'Data 30 (2)'!X47","v":0},{"$f":"'Data 31 (2)'!X47","v":0}]
[null,{"$f":"SUM(B112:F118)","v":0},null,null,null,null,null,{"$f":"SUM(H112:L118)","v":0}]
[]
["Frequency of Setting to Behavior Correlation - Behavior A"]
["A",{"$f":"'Data 1'!W51","v":0},{"$f":"'Data 2'!W51","v":0},{"$f":"'Data 3'!W51","v":0},{"$f":"'Data 4'!W51","v":0},{"$f":"'Data 5'!W51","v":0},"B",{"$f":"'Data 1'!W52","v":0},{"$f":"'Data 2'!W52","v":0},{"$f":"'Data 3'!W52","v":0},{"$f":"'Data 4'!W52","v":0},{"$f":"'Data 5'!W52","v":0},"C",{"$f":"'Data 1'!W53","v":0},{"$f":"'Data 2'!W53","v":0},{"$f":"'Data 3'!W53","v":0},{"$f":"'Data 4'!W53","v":0},{"$f":"'Data 5'!W53","v":0},"D",{"$f":"'Data 1'!W54","v":0},{"$f":"'Data 2'!W54","v":0},{"$f":"'Data 3'!W54","v":0},{"$f":"'Data 4'!W54","v":0},{"$f":"'Data 5'!W54","v":0},"E",{"$f":"'Data 1'!W55","v":0},{"$f":"'Data 2'!W55","v":0},{"$f":"'Data 3'!W55","v":0},{"$f":"'Data 4'!W55","v":0},{"$f":"'Data 5'!W55","v":0}]
[null,{"$f":"'Data 6'!W51","v":0},{"$f":"'Data 7'!W51","v":0},{"$f":"'Data 8'!W51","v":0},{"$f":"'Data 9'!W51","v":0},{"$f":"'Data 10'!W51","v":0},null,{"$f":"'Data 6'!W52","v":0},{"$f":"'Data 7'!W52","v":0},{"$f":"'Data 8'!W52","v":0},{"$f":"'Data 9'!W52","v":0},{"$f":"'Data 10'!W52","v":0},null,{"$f":"'Data 6'!W53","v":0},{"$f":"'Data 7'!W53","v":0},{"$f":"'Data 8'!W53","v":0},{"$f":"'Data 9'!W53","v":0},{"$f":"'Data 10'!W53","v":0},null,{"$f":"'Data 6'!W54","v":0},{"$f":"'Data 7'!W54","v":0},{"$f":"'Data 8'!W54","v":0},{"$f":"'Data 9'!W54","v":0},{"$f":"'Data 10'!W54","v":0},null,{"$f":"'Data 6'!W55","v":0},{"$f":"'Data 7'!W55","v":0},{"$f":"'Data 8'!W55","v":0},{"$f":"'Data 9'!W55","v":0},{"$f":"'Data 10'!W55","v":0}]
[null,{"$f":"'Data 11'!W51","v":0},{"$f":"'Data 12'!W51","v":0},{"$f":"'Data 13'!W51","v":0},{"$f":"'Data 11'!W51","v":0},{"$f":"'Data 15'!W51","v":0},null,{"$f":"'Data 11'!W52","v":0},{"$f":"'Data 12'!W52","v":0},{"$f":"'Data 13'!W52","v":0},{"$f":"'Data 14'!W52","v":0},{"$f":"'Data 15'!W52","v":0},null,{"$f":"'Data 11'!W53","v":0},{"$f":"'Data 12'!W53","v":0},{"$f":"'Data 13'!W53","v":0},{"$f":"'Data 14'!W53","v":0},{"$f":"'Data 15'!W53","v":0},null,{"$f":"'Data 11'!W54","v":0},{"$f":"'Data 12'!W54","v":0},{"$f":"'Data 13'!W54","v":0},{"$f":"'Data 14'!W54","v":0},{"$f":"'Data 15'!W54","v":0},null,{"$f":"'Data 11'!W55","v":0},{"$f":"'Data 12'!W55","v":0},{"$f":"'Data 13'!W55","v":0},{"$f":"'Data 14'!W55","v":0},{"$f":"'Data 15'!W55","v":0}]
[null,{"$f":"'Data 16'!W51","v":0},{"$f":"'Data 17'!W51","v":0},{"$f":"'Data 18'!W51","v":0},{"$f":"'Data 19'!W51","v":0},{"$f":"'Data 20'!W51","v":0},null,{"$f":"'Data 16'!W52","v":0},{"$f":"'Data 17'!W52","v":0},{"$f":"'Data 18'!W52","v":0},{"$f":"'Data 19'!W52","v":0},{"$f":"'Data 20'!W52","v":0},null,{"$f":"'Data 16'!W53","v":0},{"$f":"'Data 17'!W53","v":0},{"$f":"'Data 18'!W53","v":0},{"$f":"'Data 19'!W53","v":0},{"$f":"'Data 20'!W53","v":0},null,{"$f":"'Data 16'!W54","v":0},{"$f":"'Data 17'!W54","v":0},{"$f":"'Data 18'!W54","v":0},{"$f":"'Data 19'!W54","v":0},{"$f":"'Data 20'!W54","v":0},null,{"$f":"'Data 16'!W55","v":0},{"$f":"'Data 17'!W55","v":0},{"$f":"'Data 18'!W55","v":0},{"$f":"'Data 19'!W55","v":0},{"$f":"'Data 20'!W55","v":0}]
[null,{"$f":"'Data 21'!W51","v":0},{"$f":"'Data 22'!W51","v":0},{"$f":"'Data 23'!W51","v":0},{"$f":"'Data 24'!W51","v":0},{"$f":"'Data 25'!W51","v":0},null,{"$f":"'Data 21'!W52","v":0},{"$f":"'Data 22'!W52","v":0},{"$f":"'Data 23'!W52","v":0},{"$f":"'Data 24'!W52","v":0},{"$f":"'Data 25'!W52","v":0},null,{"$f":"'Data 21'!W53","v":0},{"$f":"'Data 22'!W53","v":0},{"$f":"'Data 23'!W53","v":0},{"$f":"'Data 24'!W53","v":0},{"$f":"'Data 25'!W53","v":0},null,{"$f":"'Data 21'!W54","v":0},{"$f":"'Data 22'!W54","v":0},{"$f":"'Data 23'!W54","v":0},{"$f":"'Data 24'!W54","v":0},{"$f":"'Data 25'!W54","v":0},null,{"$f":"'Data 21'!W55","v":0},{"$f":"'Data 22'!W55","v":0},{"$f":"'Data 23'!W55","v":0},{"$f":"'Data 24'!W55","v":0},{"$f":"'Data 25'!W55","v":0}]
[null,{"$f":"'Data 26'!W51","v":0},{"$f":"'Data 27'!W51","v":0},{"$f":"'Data 28'!W51","v":0},{"$f":"'Data 29'!W51","v":0},{"$f":"'Data 30'!W51","v":0},null,{"$f":"'Data 26'!W52","v":0},{"$f":"'Data 27'!W52","v":0},{"$f":"'Data 28'!W52","v":0},{"$f":"'Data 29'!W52","v":0},{"$f":"'Data 30'!W52","v":0},null,{"$f":"'Data 26'!W53","v":0},{"$f":"'Data 27'!W53","v":0},{"$f":"'Data 28'!W53","v":0},{"$f":"'Data 29'!W53","v":0},{"$f":"'Data 30'!W53","v":0},null,{"$f":"'Data 26'!W54","v":0},{"$f":"'Data 27'!W54","v":0},{"$f":"'Data 28'!W54","v":0},{"$f":"'Data 29'!W54","v":0},{"$f":"'Data 30'!W54","v":0},null,{"$f":"'Data 26'!W55","v":0},{"$f":"'Data 27'!W55","v":0},{"$f":"'Data 28'!W55","v":0},{"$f":"'Data 29'!W55","v":0},{"$f":"'Data 30'!W55","v":0}]
[null,{"$f":"'Data 31'!W51","v":0},{"$f":"'Data 29 (2)'!W51","v":0},{"$f":"'Data 30 (2)'!W51","v":0},{"$f":"'Data 31 (2)'!W51","v":0},null,null,{"$f":"'Data 31'!W52","v":0},{"$f":"'Data 29 (2)'!W52","v":0},{"$f":"'Data 30 (2)'!W52","v":0},{"$f":"'Data 31 (2)'!W52","v":0},null,null,{"$f":"'Data 31'!W53","v":0},{"$f":"'Data 29 (2)'!W53","v":0},{"$f":"'Data 30 (2)'!W53","v":0},{"$f":"'Data 31 (2)'!W53","v":0},null,null,{"$f":"'Data 31'!W54","v":0},{"$f":"'Data 29 (2)'!W54","v":0},{"$f":"'Data 30 (2)'!W54","v":0},{"$f":"'Data 31 (2)'!W54","v":0},null,null,{"$f":"'Data 31'!W55","v":0},{"$f":"'Data 29 (2)'!W55","v":0},{"$f":"'Data 30 (2)'!W55","v":0},{"$f":"'Data 31 (2)'!W55","v":0}]
["Sum",{"$f":"SUM(B122:F128)","v":0},null,null,null,null,null,{"$f":"SUM(H122:L128)","v":0},null,null,null,null,null,{"$f":"SUM(N122:R128)","v":0},null,null,null,null,null,{"$f":"SUM(T122:X128)","v":0},null,null,null,null,null,{"$f":"SUM(Z122:AD128)","v":0}]
[]
["F",{"$f":"'Data 1'!W57","v":0},{"$f":"'Data 2'!W56","v":0},{"$f":"'Data 3'!W56","v":0},{"$f":"'Data 4'!W56","v":0},{"$f":"'Data 5'!W56","v":0},"G",{"$f":"'Data 1'!W57","v":0},{"$f":"'Data 2'!W57","v":0},{"$f":"'Data 3'!W57","v":0},{"$f":"'Data 4'!W57","v":0},{"$f":"'Data 5'!W57","v":0},"H",{"$f":"'Data 1'!W58","v":0},{"$f":"'Data 2'!W58","v":0},{"$f":"'Data 3'!W57","v":0},{"$f":"'Data 4'!W58","v":0},{"$f":"'Data 5'!W58","v":0},"I",{"$f":"'Data 1'!W59","v":0},{"$f":"'Data 2'!W59","v":0},{"$f":"'Data 3'!W59","v":0},{"$f":"'Data 4'!W59","v":0},{"$f":"'Data 5'!W59","v":0},"J",{"$f":"'Data 1'!W60","v":0},{"$f":"'Data 2'!W60","v":0},{"$f":"'Data 3'!W60","v":0},{"$f":"'Data 4'!W60","v":0},{"$f":"'Data 5'!W60","v":0}]
[null,{"$f":"'Data 6'!W56","v":0},{"$f":"'Data 7'!W56","v":0},{"$f":"'Data 8'!W56","v":0},{"$f":"'Data 9'!W56","v":0},{"$f":"'Data 10'!W56","v":0},null,{"$f":"'Data 6'!W57","v":0},{"$f":"'Data 7'!W57","v":0},{"$f":"'Data 8'!W57","v":0},{"$f":"'Data 9'!W57","v":0},{"$f":"'Data 10'!$W$57","v":0},null,{"$f":"'Data 6'!W58","v":0},{"$f":"'Data 7'!W58","v":0},{"$f":"'Data 8'!W58","v":0},{"$f":"'Data 9'!W58","v":0},{"$f":"'Data 10'!W58","v":0},null,{"$f":"'Data 6'!W59","v":0},{"$f":"'Data 7'!W59","v":0},{"$f":"'Data 8'!W59","v":0},{"$f":"'Data 9'!W59","v":0},{"$f":"'Data 10'!W59","v":0},null,{"$f":"'Data 6'!W60","v":0},{"$f":"'Data 7'!W60","v":0},{"$f":"'Data 8'!W60","v":0},{"$f":"'Data 9'!W60","v":0},{"$f":"'Data 10'!W60","v":0}]
[null,{"$f":"'Data 11'!W56","v":0},{"$f":"'Data 12'!W56","v":0},{"$f":"'Data 13'!W56","v":0},{"$f":"'Data 14'!W56","v":0},{"$f":"'Data 15'!W56","v":0},null,{"$f":"'Data 11'!$W$57","v":0},{"$f":"'Data 12'!$W$57","v":0},{"$f":"'Data 13'!$W$57","v":0},{"$f":"'Data 14'!$W$57","v":0},{"$f":"'Data 15'!$W$57","v":0},null,{"$f":"'Data 1'!W58","v":0},{"$f":"'Data 12'!W58","v":0},{"$f":"'Data 13'!W58","v":0},{"$f":"'Data 14'!W58","v":0},{"$f":"'Data 15'!W58","v":0},null,{"$f":"'Data 11'!W59","v":0},{"$f":"'Data 12'!W59","v":0},{"$f":"'Data 13'!W59","v":0},{"$f":"'Data 14'!W59","v":0},{"$f":"'Data 15'!W59","v":0},null,{"$f":"'Data 11'!W60","v":0},{"$f":"'Data 12'!W60","v":0},{"$f":"'Data 13'!W60","v":0},{"$f":"'Data 14'!W60","v":0},{"$f":"'Data 15'!W60","v":0}]
[null,{"$f":"'Data 16'!W56","v":0},{"$f":"'Data 17'!W56","v":0},{"$f":"'Data 18'!W56","v":0},{"$f":"'Data 19'!W56","v":0},{"$f":"'Data 20'!W56","v":0},null,{"$f":"'Data 16'!$W$57","v":0},{"$f":"'Data 17'!$W$57","v":0},{"$f":"'Data 18'!$W$57","v":0},{"$f":"'Data 19'!$W$57","v":0},{"$f":"'Data 20'!$W$57","v":0},null,{"$f":"'Data 16'!W58","v":0},{"$f":"'Data 17'!W58","v":0},{"$f":"'Data 18'!W58","v":0},{"$f":"'Data 19'!W58","v":0},{"$f":"'Data 20'!W58","v":0},null,{"$f":"'Data 16'!W59","v":0},{"$f":"'Data 17'!W59","v":0},{"$f":"'Data 18'!W59","v":0},{"$f":"'Data 19'!W59","v":0},{"$f":"'Data 20'!W59","v":0},null,{"$f":"'Data 16'!W60","v":0},{"$f":"'Data 17'!W60","v":0},{"$f":"'Data 18'!W60","v":0},{"$f":"'Data 19'!W60","v":0},{"$f":"'Data 20'!W60","v":0}]
[null,{"$f":"'Data 21'!W56","v":0},{"$f":"'Data 22'!W56","v":0},{"$f":"'Data 23'!W56","v":0},{"$f":"'Data 24'!W56","v":0},{"$f":"'Data 25'!W56","v":0},null,{"$f":"'Data 21'!$W$57","v":0},{"$f":"'Data 22'!$W$57","v":0},{"$f":"'Data 23'!$W$57","v":0},{"$f":"'Data 24'!$W$57","v":0},{"$f":"'Data 25'!$W$57","v":0},null,{"$f":"'Data 21'!W58","v":0},{"$f":"'Data 22'!W58","v":0},{"$f":"'Data 23'!W58","v":0},{"$f":"'Data 24'!W58","v":0},{"$f":"'Data 25'!W58","v":0},null,{"$f":"'Data 21'!W59","v":0},{"$f":"'Data 22'!W59","v":0},{"$f":"'Data 23'!W59","v":0},{"$f":"'Data 24'!W59","v":0},{"$f":"'Data 25'!W59","v":0},null,{"$f":"'Data 21'!W60","v":0},{"$f":"'Data 22'!W60","v":0},{"$f":"'Data 23'!W60","v":0},{"$f":"'Data 24'!W60","v":0},{"$f":"'Data 25'!W60","v":0}]
[null,{"$f":"'Data 26'!W56","v":0},{"$f":"'Data 27'!W56","v":0},{"$f":"'Data 28'!W56","v":0},{"$f":"'Data 29'!W56","v":0},{"$f":"'Data 30'!W56","v":0},null,{"$f":"'Data 26'!$W$57","v":0},{"$f":"'Data 27'!$W$57","v":0},{"$f":"'Data 28'!$W$57","v":0},{"$f":"'Data 29'!$W$57","v":0},{"$f":"'Data 30'!$W$57","v":0},null,{"$f":"'Data 26'!W58","v":0},{"$f":"'Data 27'!W58","v":0},{"$f":"'Data 28'!W58","v":0},{"$f":"'Data 29'!W58","v":0},{"$f":"'Data 30'!W58","v":0},null,{"$f":"'Data 26'!W59","v":0},{"$f":"'Data 27'!W59","v":0},{"$f":"'Data 28'!W59","v":0},{"$f":"'Data 29'!W59","v":0},{"$f":"'Data 30'!W59","v":0},null,{"$f":"'Data 26'!W60","v":0},{"$f":"'Data 27'!W60","v":0},{"$f":"'Data 28'!W60","v":0},{"$f":"'Data 29'!W60","v":0},{"$f":"'Data 30'!W60","v":0}]
[null,{"$f":"'Data 31'!W56","v":0},{"$f":"'Data 29 (2)'!W56","v":0},{"$f":"'Data 30 (2)'!W56","v":0},{"$f":"'Data 31 (2)'!W56","v":0},null,null,{"$f":"'Data 31'!$W$57","v":0},{"$f":"'Data 29 (2)'!$W$57","v":0},{"$f":"'Data 30 (2)'!$W$57","v":0},{"$f":"'Data 31 (2)'!$W$57","v":0},null,null,{"$f":"'Data 31'!W58","v":0},{"$f":"'Data 29 (2)'!W58","v":0},{"$f":"'Data 30 (2)'!W58","v":0},{"$f":"'Data 31 (2)'!W58","v":0},null,null,{"$f":"'Data 31'!W59","v":0},{"$f":"'Data 29 (2)'!W59","v":0},{"$f":"'Data 30 (2)'!W59","v":0},{"$f":"'Data 31 (2)'!W59","v":0},null,null,{"$f":"'Data 31'!W60","v":0},{"$f":"'Data 29 (2)'!W60","v":0},{"$f":"'Data 30'!W60","v":0},{"$f":"'Data 31 (2)'!W60","v":0}]
[null,{"$f":"SUM(B131:F137)","v":0},null,null,null,null,null,{"$f":"SUM(H131:L137)","v":0},null,null,null,null,null,{"$f":"SUM(N131:R137)","v":0},null,null,null,null,null,{"$f":"SUM(T131:X137)","v":0},null,null,null,null,null,{"$f":"SUM(Z131:AD137)","v":0}]
[null,null,null,null,null,null,null,null,null,null,null,null,null,null,null,null,null,"Setting to Behavior Frequency"]
["K",{"$f":"'Data 1'!W61","v":0},{"$f":"'Data 2'!W61","v":0},{"$f":"'Data 3'!W61","v":0},{"$f":"'Data 4'!W61","v":0},{"$f":"'Data 5'!W61","v":0},"L",{"$f":"'Data 1'!W62","v":0},{"$f":"'Data 2'!W62","v":0},{"$f":"'Data 3'!W62","v":0},{"$f":"'Data 4'!W62","v":0},{"$f":"'Data 5'!W62","v":0},null,null,"A","B","C","D","E","F","G","H","I","J","K","L"]
[null,{"$f":"'Data 6'!W61","v":0},{"$f":"'Data 7'!W61","v":0},{"$f":"'Data 8'!W61","v":0},{"$f":"'Data 9'!W61","v":0},{"$f":"'Data 10'!W61","v":0},null,{"$f":"'Data 6'!W62","v":0},{"$f":"'Data 7'!W62","v":0},{"$f":"'Data 8'!W62","v":0},{"$f":"'Data 9'!W62","v":0},{"$f":"'Data 10'!W62","v":0},null,{"$f":"Criteria!G4","v":0},{"$f":"B129","v":0},{"$f":"H129","v":0},{"$f":"N129","v":0},{"$f":"T129","v":0},{"$f":"Z129","v":0},{"$f":"B138","v":0},{"$f":"H138","v":0},{"$f":"N138","v":0},{"$f":"T138","v":0},{"$f":"Z166","v":0},{"$f":"B147","v":0},{"$f":"H147","v":0}]
[null,{"$f":"'Data 11'!W61","v":0},{"$f":"'Data 12'!W61","v":0},{"$f":"'Data 13'!W61","v":0},{"$f":"'Data 14'!W61","v":0},{"$f":"'Data 15'!W61","v":0},null,{"$f":"'Data 11'!W62","v":0},{"$f":"'Data 12'!W62","v":0},{"$f":"'Data 13'!W62","v":0},{"$f":"'Data 14'!W62","v":0},{"$f":"'Data 15'!W62","v":0},null,null,"A","B","C","D","E","F","G","H","I","J","K","L"]
[null,{"$f":"'Data 16'!W61","v":0},{"$f":"'Data 17'!W61","v":0},{"$f":"'Data 18'!W61","v":0},{"$f":"'Data 19'!W61","v":0},{"$f":"'Data 20'!W61","v":0},null,{"$f":"'Data 16'!W62","v":0},{"$f":"'Data 17'!W62","v":0},{"$f":"'Data 18'!W62","v":0},{"$f":"'Data 19'!W62","v":0},{"$f":"'Data 20'!W62","v":0},null,{"$f":"Criteria!G5","v":0},{"$f":"B157","v":0},{"$f":"H157","v":0},{"$f":"N157","v":0},{"$f":"T157","v":0},{"$f":"Z157","v":0},{"$f":"B166","v":0},{"$f":"H166","v":0},{"$f":"N166","v":0},{"$f":"T166","v":0},{"$f":"Z194","v":0},{"$f":"B175","v":0},{"$f":"H175","v":0}]
[null,{"$f":"'Data 21'!W61","v":0},{"$f":"'Data 22'!W61","v":0},{"$f":"'Data 23'!W61","v":0},{"$f":"'Data 24'!W61","v":0},{"$f":"'Data 25'!W61","v":0},null,{"$f":"'Data 21'!W62","v":0},{"$f":"'Data 22'!W62","v":0},{"$f":"'Data 23'!W62","v":0},{"$f":"'Data 24'!W62","v":0},{"$f":"'Data 25'!W62","v":0},null,null,"A","B","C","D","E","F","G","H","I","J","K","L"]
[null,{"$f":"'Data 26'!W61","v":0},{"$f":"'Data 27'!W61","v":0},{"$f":"'Data 28'!W61","v":0},{"$f":"'Data 29'!W61","v":0},{"$f":"'Data 30'!W61","v":0},null,{"$f":"'Data 26'!W62","v":0},{"$f":"'Data 27'!W62","v":0},{"$f":"'Data 28'!W62","v":0},{"$f":"'Data 29'!W62","v":0},{"$f":"'Data 30'!W62","v":0},null,{"$f":"Criteria!G6","v":0},{"$f":"B185","v":0},{"$f":"H185","v":0},{"$f":"N185","v":0},{"$f":"T185","v":0},{"$f":"Z185","v":0},{"$f":"B194","v":0},{"$f":"H194","v":0},{"$f":"N194","v":0},{"$f":"T194","v":0},{"$f":"Z222","v":0},{"$f":"B203","v":0},{"$f":"H203","v":0}]
[null,{"$f":"'Data 31'!W61","v":0},{"$f":"'Data 29 (2)'!W61","v":0},{"$f":"'Data 30 (2)'!W61","v":0},{"$f":"'Data 31 (2)'!W61","v":0},null,null,{"$f":"'Data 31'!W62","v":0},{"$f":"'Data 29 (2)'!W62","v":0},{"$f":"'Data 30 (2)'!W62","v":0},{"$f":"'Data 31 (2)'!W62","v":0}]
[null,{"$f":"SUM(B140:F146)","v":0},null,null,null,null,null,{"$f":"SUM(H140:L146)","v":0}]
[]
["Frequency of Setting to Behavior Correlation - Behavior B"]
["A",{"$f":"'Data 1'!X51","v":0},{"$f":"'Data 2'!X51","v":0},{"$f":"'Data 3'!X51","v":0},{"$f":"'Data 4'!X51","v":0},{"$f":"'Data 5'!X51","v":0},"B",{"$f":"'Data 1'!X52","v":0},{"$f":"'Data 2'!X52","v":0},{"$f":"'Data 3'!X52","v":0},{"$f":"'Data 4'!X52","v":0},{"$f":"'Data 5'!X52","v":0},"C",{"$f":"'Data 1'!X53","v":0},{"$f":"'Data 2'!X53","v":0},{"$f":"'Data 3'!X53","v":0},{"$f":"'Data 4'!X53","v":0},{"$f":"'Data 5'!X53","v":0},"D",{"$f":"'Data 1'!X54","v":0},{"$f":"'Data 2'!X54","v":0},{"$f":"'Data 3'!X54","v":0},{"$f":"'Data 4'!X54","v":0},{"$f":"'Data 5'!X54","v":0},"E",{"$f":"'Data 1'!X55","v":0},{"$f":"'Data 2'!X55","v":0},{"$f":"'Data 3'!X55","v":0},{"$f":"'Data 4'!X55","v":0},{"$f":"'Data 5'!X55","v":0}]
[null,{"$f":"'Data 6'!X51","v":0},{"$f":"'Data 7'!X51","v":0},{"$f":"'Data 8'!X51","v":0},{"$f":"'Data 9'!X51","v":0},{"$f":"'Data 10'!X51","v":0},null,{"$f":"'Data 6'!X52","v":0},{"$f":"'Data 7'!X52","v":0},{"$f":"'Data 8'!X52","v":0},{"$f":"'Data 9'!X52","v":0},{"$f":"'Data 10'!X52","v":0},null,{"$f":"'Data 6'!X53","v":0},{"$f":"'Data 7'!X53","v":0},{"$f":"'Data 8'!X53","v":0},{"$f":"'Data 9'!X53","v":0},{"$f":"'Data 10'!X53","v":0},null,{"$f":"'Data 6'!X54","v":0},{"$f":"'Data 7'!X54","v":0},{"$f":"'Data 8'!X54","v":0},{"$f":"'Data 9'!X54","v":0},{"$f":"'Data 10'!X54","v":0},null,{"$f":"'Data 6'!X55","v":0},{"$f":"'Data 7'!X55","v":0},{"$f":"'Data 8'!X55","v":0},{"$f":"'Data 9'!X55","v":0},{"$f":"'Data 10'!X55","v":0}]
[null,{"$f":"'Data 11'!X51","v":0},{"$f":"'Data 12'!X51","v":0},{"$f":"'Data 13'!X51","v":0},{"$f":"'Data 14'!X51","v":0},{"$f":"'Data 15'!X51","v":0},null,{"$f":"'Data 11'!X52","v":0},{"$f":"'Data 12'!X52","v":0},{"$f":"'Data 13'!X52","v":0},{"$f":"'Data 14'!X52","v":0},{"$f":"'Data 15'!X52","v":0},null,{"$f":"'Data 11'!X53","v":0},{"$f":"'Data 12'!X53","v":0},{"$f":"'Data 13'!X53","v":0},{"$f":"'Data 14'!X53","v":0},{"$f":"'Data 15'!X53","v":0},null,{"$f":"'Data 11'!X54","v":0},{"$f":"'Data 12'!X54","v":0},{"$f":"'Data 13'!X54","v":0},{"$f":"'Data 14'!X54","v":0},{"$f":"'Data 15'!X54","v":0},null,{"$f":"'Data 11'!X55","v":0},{"$f":"'Data 12'!X55","v":0},{"$f":"'Data 13'!X55","v":0},{"$f":"'Data 14'!X55","v":0},{"$f":"'Data 15'!X55","v":0}]
[null,{"$f":"'Data 16'!X51","v":0},{"$f":"'Data 17'!X51","v":0},{"$f":"'Data 18'!X51","v":0},{"$f":"'Data 19'!X51","v":0},{"$f":"'Data 20'!X51","v":0},null,{"$f":"'Data 16'!X52","v":0},{"$f":"'Data 17'!X52","v":0},{"$f":"'Data 18'!X52","v":0},{"$f":"'Data 19'!X52","v":0},{"$f":"'Data 20'!X52","v":0},null,{"$f":"'Data 16'!X53","v":0},{"$f":"'Data 17'!X53","v":0},{"$f":"'Data 18'!X53","v":0},{"$f":"'Data 19'!X53","v":0},{"$f":"'Data 20'!X53","v":0},null,{"$f":"'Data 16'!X54","v":0},{"$f":"'Data 17'!X54","v":0},{"$f":"'Data 18'!X54","v":0},{"$f":"'Data 19'!X54","v":0},{"$f":"'Data 20'!X54","v":0},null,{"$f":"'Data 16'!X55","v":0},{"$f":"'Data 17'!X55","v":0},{"$f":"'Data 18'!X55","v":0},{"$f":"'Data 19'!X55","v":0},{"$f":"'Data 20'!X55","v":0}]
[null,{"$f":"'Data 21'!X51","v":0},{"$f":"'Data 22'!X51","v":0},{"$f":"'Data 23'!X51","v":0},{"$f":"'Data 24'!X51","v":0},{"$f":"'Data 25'!X51","v":0},null,{"$f":"'Data 21'!X52","v":0},{"$f":"'Data 22'!X52","v":0},{"$f":"'Data 23'!X52","v":0},{"$f":"'Data 24'!X52","v":0},{"$f":"'Data 25'!X52","v":0},null,{"$f":"'Data 21'!X53","v":0},{"$f":"'Data 22'!X53","v":0},{"$f":"'Data 23'!X53","v":0},{"$f":"'Data 24'!X53","v":0},{"$f":"'Data 25'!X53","v":0},null,{"$f":"'Data 21'!X54","v":0},{"$f":"'Data 22'!X54","v":0},{"$f":"'Data 23'!X54","v":0},{"$f":"'Data 24'!X54","v":0},{"$f":"'Data 25'!X54","v":0},null,{"$f":"'Data 21'!X55","v":0},{"$f":"'Data 22'!X55","v":0},{"$f":"'Data 23'!X55","v":0},{"$f":"'Data 24'!X55","v":0},{"$f":"'Data 25'!X55","v":0}]
[null,{"$f":"'Data 26'!X51","v":0},{"$f":"'Data 27'!X51","v":0},{"$f":"'Data 28'!X51","v":0},{"$f":"'Data 29'!X51","v":0},{"$f":"'Data 30'!X51","v":0},null,{"$f":"'Data 26'!X52","v":0},{"$f":"'Data 27'!X52","v":0},{"$f":"'Data 28'!X52","v":0},{"$f":"'Data 29'!X52","v":0},{"$f":"'Data 30'!X52","v":0},null,{"$f":"'Data 26'!X53","v":0},{"$f":"'Data 27'!X53","v":0},{"$f":"'Data 28'!X53","v":0},{"$f":"'Data 29'!X53","v":0},{"$f":"'Data 30'!X53","v":0},null,{"$f":"'Data 26'!X54","v":0},{"$f":"'Data 27'!X54","v":0},{"$f":"'Data 28'!X54","v":0},{"$f":"'Data 29'!X54","v":0},{"$f":"'Data 30'!X54","v":0},null,{"$f":"'Data 26'!X55","v":0},{"$f":"'Data 27'!X55","v":0},{"$f":"'Data 28'!X55","v":0},{"$f":"'Data 29'!X55","v":0},{"$f":"'Data 30'!X55","v":0}]
[null,{"$f":"'Data 31'!X51","v":0},{"$f":"'Data 29 (2)'!X51","v":0},{"$f":"'Data 30 (2)'!X51","v":0},{"$f":"'Data 31 (2)'!X51","v":0},null,null,{"$f":"'Data 31'!X52","v":0},{"$f":"'Data 29 (2)'!X52","v":0},{"$f":"'Data 30 (2)'!X52","v":0},{"$f":"'Data 31 (2)'!X52","v":0},null,null,{"$f":"'Data 31'!X53","v":0},{"$f":"'Data 29 (2)'!X53","v":0},{"$f":"'Data 30 (2)'!X53","v":0},{"$f":"'Data 31 (2)'!X53","v":0},null,null,{"$f":"'Data 31'!X54","v":0},{"$f":"'Data 29 (2)'!X54","v":0},{"$f":"'Data 30 (2)'!X54","v":0},{"$f":"'Data 31 (2)'!X54","v":0},null,null,{"$f":"'Data 31'!X55","v":0},{"$f":"'Data 29 (2)'!X55","v":0},{"$f":"'Data 30 (2)'!X55","v":0},{"$f":"'Data 31 (2)'!X55","v":0}]
["Sum",{"$f":"SUM(B150:F156)","v":0},null,null,null,null,null,{"$f":"SUM(H150:L156)","v":0},null,null,null,null,null,{"$f":"SUM(N150:R156)","v":0},null,null,null,null,null,{"$f":"SUM(T150:X156)","v":0},null,null,null,null,null,{"$f":"SUM(Z150:AD156)","v":0}]
[]
["F",{"$f":"'Data 1'!X56","v":0},{"$f":"'Data 2'!X56","v":0},{"$f":"'Data 3'!X56","v":0},{"$f":"'Data 4'!X56","v":0},{"$f":"'Data 5'!X56","v":0},"G",{"$f":"'Data 1'!X57","v":0},{"$f":"'Data 2'!X57","v":0},{"$f":"'Data 3'!X57","v":0},{"$f":"'Data 4'!X57","v":0},{"$f":"'Data 5'!X57","v":0},"H",{"$f":"'Data 1'!X58","v":0},{"$f":"'Data 2'!X58","v":0},{"$f":"'Data 3'!X58","v":0},{"$f":"'Data 4'!Y58","v":0},{"$f":"'Data 5'!X58","v":0},"I",{"$f":"'Data 1'!X59","v":0},{"$f":"'Data 2'!X59","v":0},{"$f":"'Data 3'!X59","v":0},{"$f":"'Data 4'!X59","v":0},{"$f":"'Data 5'!X59","v":0},"J",{"$f":"'Data 1'!X60","v":0},{"$f":"'Data 2'!X60","v":0},{"$f":"'Data 3'!X60","v":0},{"$f":"'Data 4'!X60","v":0},{"$f":"'Data 5'!X60","v":0}]
[null,{"$f":"'Data 6'!X56","v":0},{"$f":"'Data 7'!X56","v":0},{"$f":"'Data 8'!X56","v":0},{"$f":"'Data 9'!X56","v":0},{"$f":"'Data 10'!X56","v":0},null,{"$f":"'Data 6'!X57","v":0},{"$f":"'Data 7'!X57","v":0},{"$f":"'Data 8'!X57","v":0},{"$f":"'Data 9'!X57","v":0},{"$f":"'Data 10'!X57","v":0},null,{"$f":"'Data 6'!X58","v":0},{"$f":"'Data 7'!X58","v":0},{"$f":"'Data 8'!X58","v":0},{"$f":"'Data 9'!X58","v":0},{"$f":"'Data 10'!X58","v":0},null,{"$f":"'Data 6'!X59","v":0},{"$f":"'Data 7'!X59","v":0},{"$f":"'Data 8'!X59","v":0},{"$f":"'Data 9'!X59","v":0},{"$f":"'Data 10'!X59","v":0},null,{"$f":"'Data 6'!X60","v":0},{"$f":"'Data 7'!X60","v":0},{"$f":"'Data 8'!X60","v":0},{"$f":"'Data 9'!X60","v":0},{"$f":"'Data 10'!X60","v":0}]
[null,{"$f":"'Data 11'!X56","v":0},{"$f":"'Data 12'!X56","v":0},{"$f":"'Data 13'!X56","v":0},{"$f":"'Data 14'!X56","v":0},{"$f":"'Data 15'!X56","v":0},null,{"$f":"'Data 11'!X57","v":0},{"$f":"'Data 12'!X57","v":0},{"$f":"'Data 13'!X57","v":0},{"$f":"'Data 14'!X57","v":0},{"$f":"'Data 15'!X57","v":0},null,{"$f":"'Data 11'!X58","v":0},{"$f":"'Data 12'!X58","v":0},{"$f":"'Data 13'!X58","v":0},{"$f":"'Data 14'!X58","v":0},{"$f":"'Data 15'!X58","v":0},null,{"$f":"'Data 11'!X59","v":0},{"$f":"'Data 12'!X59","v":0},{"$f":"'Data 13'!X59","v":0},{"$f":"'Data 14'!X59","v":0},{"$f":"'Data 15'!X59","v":0},null,{"$f":"'Data 11'!X60","v":0},{"$f":"'Data 12'!X60","v":0},{"$f":"'Data 13'!X60","v":0},{"$f":"'Data 14'!X60","v":0},{"$f":"'Data 15'!X60","v":0}]
[null,{"$f":"'Data 16'!X56","v":0},{"$f":"'Data 17'!X56","v":0},{"$f":"'Data 18'!X56","v":0},{"$f":"'Data 19'!X56","v":0},{"$f":"'Data 20'!X56","v":0},null,{"$f":"'Data 16'!X57","v":0},{"$f":"'Data 17'!X57","v":0},{"$f":"'Data 18'!X57","v":0},{"$f":"'Data 19'!X57","v":0},{"$f":"'Data 20'!X57","v":0},null,{"$f":"'Data 16'!X58","v":0},{"$f":"'Data 17'!X58","v":0},{"$f":"'Data 18'!X58","v":0},{"$f":"'Data 19'!X58","v":0},{"$f":"'Data 20'!X58","v":0},null,{"$f":"'Data 16'!X59","v":0},{"$f":"'Data 17'!X59","v":0},{"$f":"'Data 18'!X59","v":0},{"$f":"'Data 19'!X59","v":0},{"$f":"'Data 20'!X59","v":0},null,{"$f":"'Data 16'!X60","v":0},{"$f":"'Data 17'!X60","v":0},{"$f":"'Data 18'!X60","v":0},{"$f":"'Data 19'!X60","v":0},{"$f":"'Data 20'!X60","v":0}]
[null,{"$f":"'Data 21'!X56","v":0},{"$f":"'Data 22'!X56","v":0},{"$f":"'Data 23'!X56","v":0},{"$f":"'Data 24'!X56","v":0},{"$f":"'Data 25'!X56","v":0},null,{"$f":"'Data 21'!X57","v":0},{"$f":"'Data 22'!X57","v":0},{"$f":"'Data 23'!X57","v":0},{"$f":"'Data 24'!X57","v":0},{"$f":"'Data 25'!X57","v":0},null,{"$f":"'Data 21'!X58","v":0},{"$f":"'Data 22'!X58","v":0},{"$f":"'Data 23'!X58","v":0},{"$f":"'Data 24'!X58","v":0},{"$f":"'Data 25'!X58","v":0},null,{"$f":"'Data 21'!X59","v":0},{"$f":"'Data 22'!X59","v":0},{"$f":"'Data 23'!X59","v":0},{"$f":"'Data 24'!X59","v":0},{"$f":"'Data 25'!X59","v":0},null,{"$f":"'Data 21'!X60","v":0},{"$f":"'Data 22'!X60","v":0},{"$f":"'Data 23'!X60","v":0},{"$f":"'Data 24'!X60","v":0},{"$f":"'Data 25'!X60","v":0}]
[null,{"$f":"'Data 26'!X56","v":0},{"$f":"'Data 27'!X56","v":0},{"$f":"'Data 28'!X56","v":0},{"$f":"'Data 29'!X56","v":0},{"$f":"'Data 30'!X56","v":0},null,{"$f":"'Data 26'!X57","v":0},{"$f":"'Data 27'!X57","v":0},{"$f":"'Data 28'!X57","v":0},{"$f":"'Data 29'!X57","v":0},{"$f":"'Data 30'!X57","v":0},null,{"$f":"'Data 26'!X58","v":0},{"$f":"'Data 27'!X58","v":0},{"$f":"'Data 28'!X58","v":0},{"$f":"'Data 29'!X58","v":0},{"$f":"'Data 30'!X58","v":0},null,{"$f":"'Data 26'!X59","v":0},{"$f":"'Data 27'!X59","v":0},{"$f":"'Data 28'!X59","v":0},{"$f":"'Data 29'!X59","v":0},{"$f":"'Data 30'!X59","v":0},null,{"$f":"'Data 26'!X60","v":0},{"$f":"'Data 27'!X60","v":0},{"$f":"'Data 28'!X60","v":0},{"$f":"'Data 29'!X60","v":0},{"$f":"'Data 30'!X60","v":0}]
[null,{"$f":"'Data 31'!X56","v":0},{"$f":"'Data 29 (2)'!X56","v":0},{"$f":"'Data 30 (2)'!X56","v":0},{"$f":"'Data 31 (2)'!X56","v":0},null,null,{"$f":"'Data 31'!X57","v":0},{"$f":"'Data 29 (2)'!X57","v":0},{"$f":"'Data 30 (2)'!X57","v":0},{"$f":"'Data 31 (2)'!X57","v":0},null,null,{"$f":"'Data 31'!X58","v":0},{"$f":"'Data 29 (2)'!X58","v":0},{"$f":"'Data 30 (2)'!X58","v":0},{"$f":"'Data 31 (2)'!X58","v":0},null,null,{"$f":"'Data 31'!X59","v":0},{"$f":"'Data 29 (2)'!X59","v":0},{"$f":"'Data 30 (2)'!X59","v":0},{"$f":"'Data 31 (2)'!X59","v":0},null,null,{"$f":"'Data 31'!X60","v":0},{"$f":"'Data 29 (2)'!X60","v":0},{"$f":"'Data 30 (2)'!X60","v":0},{"$f":"'Data 31 (2)'!X60","v":0}]
[null,{"$f":"SUM(B159:F165)","v":0},null,null,null,null,null,{"$f":"SUM(H159:L165)","v":0},null,null,null,null,null,{"$f":"SUM(N159:R165)","v":0},null,null,null,null,null,{"$f":"SUM(T159:X165)","v":0},null,null,null,null,null,{"$f":"SUM(Z159:AD165)","v":0}]
[]
["K",{"$f":"'Data 1'!X61","v":0},{"$f":"'Data 2'!X61","v":0},{"$f":"'Data 3'!X61","v":0},{"$f":"'Data 4'!X61","v":0},{"$f":"'Data 5'!X61","v":0},"L",{"$f":"'Data 1'!Y62","v":0},{"$f":"'Data 2'!X62","v":0},{"$f":"'Data 3'!X62","v":0},{"$f":"'Data 4'!X62","v":0},{"$f":"'Data 5'!X62","v":0}]
[null,{"$f":"'Data 6'!X61","v":0},{"$f":"'Data 7'!X61","v":0},{"$f":"'Data 8'!X61","v":0},{"$f":"'Data 9'!X61","v":0},{"$f":"'Data 10'!X61","v":0},null,{"$f":"'Data 6'!X62","v":0},{"$f":"'Data 7'!X62","v":0},{"$f":"'Data 8'!X62","v":0},{"$f":"'Data 9'!X62","v":0},{"$f":"'Data 10'!X62","v":0}]
[null,{"$f":"'Data 11'!X61","v":0},{"$f":"'Data 12'!X61","v":0},{"$f":"'Data 13'!X61","v":0},{"$f":"'Data 14'!X61","v":0},{"$f":"'Data 15'!X61","v":0},null,{"$f":"'Data 11'!X62","v":0},{"$f":"'Data 12'!X62","v":0},{"$f":"'Data 13'!X62","v":0},{"$f":"'Data 14'!X62","v":0},{"$f":"'Data 15'!X62","v":0}]
[null,{"$f":"'Data 16'!X61","v":0},{"$f":"'Data 17'!X61","v":0},{"$f":"'Data 18'!X61","v":0},{"$f":"'Data 19'!X61","v":0},{"$f":"'Data 20'!X61","v":0},null,{"$f":"'Data 16'!X62","v":0},{"$f":"'Data 17'!X62","v":0},{"$f":"'Data 18'!X62","v":0},{"$f":"'Data 19'!X62","v":0},{"$f":"'Data 20'!X62","v":0}]
[null,{"$f":"'Data 21'!X61","v":0},{"$f":"'Data 22'!X61","v":0},{"$f":"'Data 23'!X61","v":0},{"$f":"'Data 24'!X61","v":0},{"$f":"'Data 25'!X61","v":0},null,{"$f":"'Data 21'!X62","v":0},{"$f":"'Data 22'!X62","v":0},{"$f":"'Data 23'!X62","v":0},{"$f":"'Data 24'!X62","v":0},{"$f":"'Data 25'!X62","v":0}]
[null,{"$f":"'Data 26'!X61","v":0},{"$f":"'Data 27'!X61","v":0},{"$f":"'Data 28'!X61","v":0},{"$f":"'Data 29'!X61","v":0},{"$f":"'Data 30'!X61","v":0},null,{"$f":"'Data 26'!X62","v":0},{"$f":"'Data 27'!X62","v":0},{"$f":"'Data 28'!X62","v":0},{"$f":"'Data 29'!X62","v":0},{"$f":"'Data 30'!X62","v":0}]
[null,{"$f":"'Data 31'!X61","v":0},{"$f":"'Data 29 (2)'!X61","v":0},{"$f":"'Data 30 (2)'!X61","v":0},{"$f":"'Data 31 (2)'!X61","v":0},null,null,{"$f":"'Data 31'!X62","v":0},{"$f":"'Data 29 (2)'!X62","v":0},{"$f":"'Data 30 (2)'!X62","v":0},{"$f":"'Data 31 (2)'!X62","v":0}]
[null,{"$f":"SUM(B168:F174)","v":0},null,null,null,null,null,{"$f":"SUM(H168:L174)","v":0}]
[]
["Frequency of Setting to Behavior Correlatinos - Behavior C"]
["A",{"$f":"'Data 1'!Y51","v":0},{"$f":"'Data 2'!Y51","v":0},{"$f":"'Data 3'!Y51","v":0},{"$f":"'Data 4'!Y51","v":0},{"$f":"'Data 5'!Y51","v":0},"B",{"$f":"'Data 1'!Y52","v":0},{"$f":"'Data 2'!Y52","v":0},{"$f":"'Data 3'!Y52","v":0},{"$f":"'Data 4'!Y52","v":0},{"$f":"'Data 5'!Y52","v":0},"C",{"$f":"'Data 1'!Y53","v":0},{"$f":"'Data 2'!Y53","v":0},{"$f":"'Data 3'!Y53","v":0},{"$f":"'Data 4'!Y53","v":0},{"$f":"'Data 5'!Y53","v":0},"D",{"$f":"'Data 1'!Y54","v":0},{"$f":"'Data 2'!Y54","v":0},{"$f":"'Data 3'!Y54","v":0},{"$f":"'Data 4'!Y54","v":0},{"$f":"'Data 5'!Y54","v":0},"E",{"$f":"'Data 1'!Y55","v":0},{"$f":"'Data 2'!Y55","v":0},{"$f":"'Data 3'!X55","v":0},{"$f":"'Data 4'!Y55","v":0},{"$f":"'Data 5'!Y55","v":0}]
[null,{"$f":"'Data 6'!Y51","v":0},{"$f":"'Data 7'!Y51","v":0},{"$f":"'Data 8'!Y51","v":0},{"$f":"'Data 9'!Y51","v":0},{"$f":"'Data 10'!Y51","v":0},null,{"$f":"'Data 6'!Y52","v":0},{"$f":"'Data 7'!Y52","v":0},{"$f":"'Data 8'!Y52","v":0},{"$f":"'Data 9'!Y52","v":0},{"$f":"'Data 10'!Y52","v":0},null,{"$f":"'Data 6'!Y53","v":0},{"$f":"'Data 7'!Y53","v":0},{"$f":"'Data 8'!Y53","v":0},{"$f":"'Data 9'!Y53","v":0},{"$f":"'Data 10'!Y53","v":0},null,{"$f":"'Data 6'!Y54","v":0},{"$f":"'Data 7'!Y54","v":0},{"$f":"'Data 8'!Y54","v":0},{"$f":"'Data 9'!Y54","v":0},{"$f":"'Data 10'!Y54","v":0},null,{"$f":"'Data 6'!Y55","v":0},{"$f":"'Data 7'!Y55","v":0},{"$f":"'Data 8'!Y55","v":0},{"$f":"'Data 9'!Y55","v":0},{"$f":"'Data 10'!Y55","v":0}]
[null,{"$f":"'Data 11'!Y51","v":0},{"$f":"'Data 12'!Y51","v":0},{"$f":"'Data 13'!Y51","v":0},{"$f":"'Data 14'!Y51","v":0},{"$f":"'Data 15'!Y51","v":0},null,{"$f":"'Data 11'!Y52","v":0},{"$f":"'Data 12'!Y52","v":0},{"$f":"'Data 13'!Y52","v":0},{"$f":"'Data 14'!Y52","v":0},{"$f":"'Data 15'!Y52","v":0},null,{"$f":"'Data 11'!Y53","v":0},{"$f":"'Data 12'!Y53","v":0},{"$f":"'Data 13'!Y53","v":0},{"$f":"'Data 14'!Y53","v":0},{"$f":"'Data 15'!Y53","v":0},null,{"$f":"'Data 11'!Y54","v":0},{"$f":"'Data 12'!Y54","v":0},{"$f":"'Data 13'!Y54","v":0},{"$f":"'Data 14'!Y54","v":0},{"$f":"'Data 15'!Y54","v":0},null,{"$f":"'Data 11'!Y55","v":0},{"$f":"'Data 12'!Y55","v":0},{"$f":"'Data 13'!Y55","v":0},{"$f":"'Data 14'!Y55","v":0},{"$f":"'Data 15'!Y55","v":0}]
[null,{"$f":"'Data 16'!Y51","v":0},{"$f":"'Data 17'!Y51","v":0},{"$f":"'Data 18'!Y51","v":0},{"$f":"'Data 19'!Y51","v":0},{"$f":"'Data 20'!Y51","v":0},null,{"$f":"'Data 16'!Y52","v":0},{"$f":"'Data 17'!Y52","v":0},{"$f":"'Data 19'!Y52","v":0},{"$f":"'Data 19'!Y52","v":0},{"$f":"'Data 20'!Y52","v":0},null,{"$f":"'Data 16'!Y53","v":0},{"$f":"'Data 17'!Y53","v":0},{"$f":"'Data 18'!Y53","v":0},{"$f":"'Data 19'!Y53","v":0},{"$f":"'Data 20'!Y53","v":0},null,{"$f":"'Data 16'!Y54","v":0},{"$f":"'Data 17'!Y54","v":0},{"$f":"'Data 18'!Y54","v":0},{"$f":"'Data 19'!Y54","v":0},{"$f":"'Data 20'!Y54","v":0},null,{"$f":"'Data 16'!Y55","v":0},{"$f":"'Data 17'!Y55","v":0},{"$f":"'Data 18'!Y55","v":0},{"$f":"'Data 19'!Y55","v":0},{"$f":"'Data 20'!Y55","v":0}]
[null,{"$f":"'Data 21'!Y51","v":0},{"$f":"'Data 22'!Y51","v":0},{"$f":"'Data 23'!Y51","v":0},{"$f":"'Data 24'!Y51","v":0},{"$f":"'Data 25'!Y51","v":0},null,{"$f":"'Data 21'!Y52","v":0},{"$f":"'Data 22'!Y52","v":0},{"$f":"'Data 23'!Y52","v":0},{"$f":"'Data 24'!Y52","v":0},{"$f":"'Data 25'!Y52","v":0},null,{"$f":"'Data 21'!Y53","v":0},{"$f":"'Data 22'!Y53","v":0},{"$f":"'Data 23'!Y53","v":0},{"$f":"'Data 24'!Y53","v":0},{"$f":"'Data 25'!Y53","v":0},null,{"$f":"'Data 21'!Y54","v":0},{"$f":"'Data 22'!Y54","v":0},{"$f":"'Data 23'!Y54","v":0},{"$f":"'Data 24'!Y54","v":0},{"$f":"'Data 25'!Y54","v":0},null,{"$f":"'Data 21'!Y55","v":0},{"$f":"'Data 22'!Y55","v":0},{"$f":"'Data 23'!Y55","v":0},{"$f":"'Data 24'!Y55","v":0},{"$f":"'Data 25'!Y55","v":0}]
[null,{"$f":"'Data 26'!Y51","v":0},{"$f":"'Data 27'!Y51","v":0},{"$f":"'Data 28'!Y51","v":0},{"$f":"'Data 29'!Y51","v":0},{"$f":"'Data 30'!Y51","v":0},null,{"$f":"'Data 26'!Y52","v":0},{"$f":"'Data 27'!Y52","v":0},{"$f":"'Data 28'!Y52","v":0},{"$f":"'Data 29'!Y52","v":0},{"$f":"'Data 30'!Y52","v":0},null,{"$f":"'Data 26'!Y53","v":0},{"$f":"'Data 27'!Y53","v":0},{"$f":"'Data 28'!Y53","v":0},{"$f":"'Data 29'!Y53","v":0},{"$f":"'Data 30'!Y53","v":0},null,{"$f":"'Data 26'!Y54","v":0},{"$f":"'Data 27'!Y54","v":0},{"$f":"'Data 28'!Y54","v":0},{"$f":"'Data 29'!Y54","v":0},{"$f":"'Data 30'!Y54","v":0},null,{"$f":"'Data 26'!Y55","v":0},{"$f":"'Data 27'!Y55","v":0},{"$f":"'Data 28'!Y55","v":0},{"$f":"'Data 29'!Y55","v":0},{"$f":"'Data 30'!Y55","v":0}]
[null,{"$f":"'Data 31'!Y51","v":0},{"$f":"'Data 29 (2)'!Y51","v":0},{"$f":"'Data 30 (2)'!Y51","v":0},{"$f":"'Data 31 (2)'!Y51","v":0},null,null,{"$f":"'Data 31'!Y52","v":0},{"$f":"'Data 29 (2)'!Y52","v":0},{"$f":"'Data 30 (2)'!Y52","v":0},{"$f":"'Data 31 (2)'!Y52","v":0},null,null,{"$f":"'Data 31'!Y53","v":0},{"$f":"'Data 29 (2)'!Y53","v":0},{"$f":"'Data 30 (2)'!Y53","v":0},{"$f":"'Data 31 (2)'!Y53","v":0},null,null,{"$f":"'Data 31'!Y54","v":0},{"$f":"'Data 29 (2)'!Y54","v":0},{"$f":"'Data 30 (2)'!Y54","v":0},{"$f":"'Data 31 (2)'!Y54","v":0},null,null,{"$f":"'Data 31'!Y55","v":0},{"$f":"'Data 29 (2)'!Y55","v":0},{"$f":"'Data 30 (2)'!Y55","v":0},{"$f":"'Data 31 (2)'!Y55","v":0}]
["Sum",{"$f":"SUM(B178:F184)","v":0},null,null,null,null,null,{"$f":"SUM(H178:L184)","v":0},null,null,null,null,null,{"$f":"SUM(N178:R184)","v":0},null,null,null,null,null,{"$f":"SUM(T178:X184)","v":0},null,null,null,null,null,{"$f":"SUM(Z178:AD184)","v":0}]
[]
["F",{"$f":"'Data 1'!Y56","v":0},{"$f":"'Data 2'!Y56","v":0},{"$f":"'Data 3'!Y56","v":0},{"$f":"'Data 4'!Y56","v":0},{"$f":"'Data 5'!Y56","v":0},"G",{"$f":"'Data 1'!Y57","v":0},{"$f":"'Data 2'!Y57","v":0},{"$f":"'Data 3'!Y57","v":0},{"$f":"'Data 4'!Y57","v":0},{"$f":"'Data 5'!Y57","v":0},"H",{"$f":"'Data 1'!Y58","v":0},{"$f":"'Data 2'!Y58","v":0},{"$f":"'Data 3'!Y58","v":0},{"$f":"'Data 4'!Y58","v":0},{"$f":"'Data 5'!Y58","v":0},"I",{"$f":"'Data 1'!Y59","v":0},{"$f":"'Data 2'!Y59","v":0},{"$f":"'Data 3'!Y59","v":0},{"$f":"'Data 4'!X59","v":0},{"$f":"'Data 5'!X59","v":0},"J",{"$f":"'Data 1'!Y60","v":0},{"$f":"'Data 2'!Y60","v":0},{"$f":"'Data 3'!Y60","v":0},{"$f":"'Data 4'!Y60","v":0},{"$f":"'Data 5'!Y60","v":0}]
[null,{"$f":"'Data 6'!Y56","v":0},{"$f":"'Data 7'!Y56","v":0},{"$f":"'Data 8'!Y56","v":0},{"$f":"'Data 9'!Y56","v":0},{"$f":"'Data 10'!Y56","v":0},null,{"$f":"'Data 6'!Y57","v":0},{"$f":"'Data 7'!Y57","v":0},{"$f":"'Data 8'!Y57","v":0},{"$f":"'Data 9'!Y57","v":0},{"$f":"'Data 10'!Y57","v":0},null,{"$f":"'Data 6'!Y58","v":0},{"$f":"'Data 7'!Y58","v":0},{"$f":"'Data 8'!Y58","v":0},{"$f":"'Data 9'!Y58","v":0},{"$f":"'Data 10'!Y58","v":0},null,{"$f":"'Data 6'!Y59","v":0},{"$f":"'Data 7'!Y59","v":0},{"$f":"'Data 8'!Y59","v":0},{"$f":"'Data 9'!Y59","v":0},{"$f":"'Data 10'!Y59","v":0},null,{"$f":"'Data 6'!Y60","v":0},{"$f":"'Data 7'!Y60","v":0},{"$f":"'Data 8'!Y60","v":0},{"$f":"'Data 9'!Y60","v":0},{"$f":"'Data 10'!Y60","v":0}]
[null,{"$f":"'Data 11'!Y56","v":0},{"$f":"'Data 12'!Y56","v":0},{"$f":"'Data 13'!Y56","v":0},{"$f":"'Data 14'!Y56","v":0},{"$f":"'Data 15'!Y56","v":0},null,{"$f":"'Data 11'!Y57","v":0},{"$f":"'Data 12'!Y57","v":0},{"$f":"'Data 13'!Y57","v":0},{"$f":"'Data 14'!Y57","v":0},{"$f":"'Data 15'!Y57","v":0},null,{"$f":"'Data 11'!Y58","v":0},{"$f":"'Data 12'!Y58","v":0},{"$f":"'Data 13'!Y58","v":0},{"$f":"'Data 14'!Y58","v":0},{"$f":"'Data 15'!Y58","v":0},null,{"$f":"'Data 11'!Y59","v":0},{"$f":"'Data 12'!Y59","v":0},{"$f":"'Data 13'!Y59","v":0},{"$f":"'Data 14'!Y59","v":0},{"$f":"'Data 15'!Y59","v":0},null,{"$f":"'Data 11'!Y60","v":0},{"$f":"'Data 12'!Y60","v":0},{"$f":"'Data 13'!Y60","v":0},{"$f":"'Data 14'!Y60","v":0},{"$f":"'Data 15'!Y60","v":0}]
[null,{"$f":"'Data 16'!Y56","v":0},{"$f":"'Data 17'!Y56","v":0},{"$f":"'Data 18'!Y56","v":0},{"$f":"'Data 19'!Y56","v":0},{"$f":"'Data 20'!Y56","v":0},null,{"$f":"'Data 16'!Y57","v":0},{"$f":"'Data 17'!Y57","v":0},{"$f":"'Data 18'!Y57","v":0},{"$f":"'Data 19'!Y57","v":0},{"$f":"'Data 20'!Y57","v":0},null,{"$f":"'Data 16'!Y58","v":0},{"$f":"'Data 17'!Y58","v":0},{"$f":"'Data 18'!Y58","v":0},{"$f":"'Data 19'!Y58","v":0},{"$f":"'Data 20'!Y58","v":0},null,{"$f":"'Data 16'!Y59","v":0},{"$f":"'Data 17'!Y59","v":0},{"$f":"'Data 18'!Y59","v":0},{"$f":"'Data 19'!Y59","v":0},{"$f":"'Data 20'!Y59","v":0},null,{"$f":"'Data 16'!Y60","v":0},{"$f":"'Data 17'!Y60","v":0},{"$f":"'Data 18'!Y60","v":0},{"$f":"'Data 19'!Y60","v":0},{"$f":"'Data 20'!Y60","v":0}]
[null,{"$f":"'Data 21'!Y56","v":0},{"$f":"'Data 22'!Y56","v":0},{"$f":"'Data 23'!Y56","v":0},{"$f":"'Data 24'!Y56","v":0},{"$f":"'Data 25'!Y56","v":0},null,{"$f":"'Data 21'!Y57","v":0},{"$f":"'Data 22'!Y57","v":0},{"$f":"'Data 23'!Y57","v":0},{"$f":"'Data 24'!Y57","v":0},{"$f":"'Data 25'!Y57","v":0},null,{"$f":"'Data 21'!Y58","v":0},{"$f":"'Data 22'!Y58","v":0},{"$f":"'Data 23'!Y58","v":0},{"$f":"'Data 24'!Y58","v":0},{"$f":"'Data 25'!Y58","v":0},null,{"$f":"'Data 21'!Y59","v":0},{"$f":"'Data 22'!Y59","v":0},{"$f":"'Data 23'!Y59","v":0},{"$f":"'Data 24'!Y59","v":0},{"$f":"'Data 25'!Y59","v":0},null,{"$f":"'Data 21'!Y60","v":0},{"$f":"'Data 22'!Y60","v":0},{"$f":"'Data 23'!Y60","v":0},{"$f":"'Data 24'!Y60","v":0},{"$f":"'Data 25'!Y60","v":0}]
[null,{"$f":"'Data 26'!Y56","v":0},{"$f":"'Data 27'!Y56","v":0},{"$f":"'Data 28'!Y56","v":0},{"$f":"'Data 29'!Y56","v":0},{"$f":"'Data 30'!Y56","v":0},null,{"$f":"'Data 26'!Y57","v":0},{"$f":"'Data 27'!Y57","v":0},{"$f":"'Data 28'!Y57","v":0},{"$f":"'Data 29'!Y57","v":0},{"$f":"'Data 30'!Y57","v":0},null,{"$f":"'Data 26'!Y58","v":0},{"$f":"'Data 27'!Y58","v":0},{"$f":"'Data 28'!Y58","v":0},{"$f":"'Data 29'!Y58","v":0},{"$f":"'Data 30'!Y58","v":0},null,{"$f":"'Data 26'!Y59","v":0},{"$f":"'Data 27'!Y59","v":0},{"$f":"'Data 28'!Y59","v":0},{"$f":"'Data 29'!Y59","v":0},{"$f":"'Data 30'!Y59","v":0},null,{"$f":"'Data 26'!Y60","v":0},{"$f":"'Data 27'!Y60","v":0},{"$f":"'Data 28'!Y60","v":0},{"$f":"'Data 29'!Y60","v":0},{"$f":"'Data 30'!Y60","v":0}]
[null,{"$f":"'Data 31'!Y56","v":0},{"$f":"'Data 29 (2)'!Y56","v":0},{"$f":"'Data 30 (2)'!Y56","v":0},{"$f":"'Data 31 (2)'!Y56","v":0},null,null,{"$f":"'Data 31'!Y57","v":0},{"$f":"'Data 29 (2)'!Y57","v":0},{"$f":"'Data 30 (2)'!Y57","v":0},{"$f":"'Data 31 (2)'!Y57","v":0},null,null,{"$f":"'Data 31'!Y58","v":0},{"$f":"'Data 29 (2)'!Y58","v":0},{"$f":"'Data 30 (2)'!Y58","v":0},{"$f":"'Data 31 (2)'!Y58","v":0},null,null,{"$f":"'Data 31'!Y59","v":0},{"$f":"'Data 29 (2)'!Y59","v":0},{"$f":"'Data 30 (2)'!Y59","v":0},{"$f":"'Data 31 (2)'!Y59","v":0},null,null,{"$f":"'Data 31'!Y60","v":0},{"$f":"'Data 29 (2)'!Y60","v":0},{"$f":"'Data 30 (2)'!Y60","v":0},{"$f":"'Data 31 (2)'!Y60","v":0}]
[null,{"$f":"SUM(B187:F193)","v":0},null,null,null,null,null,{"$f":"SUM(H187:L193)","v":0},null,null,null,null,null,{"$f":"SUM(N187:R193)","v":0},null,null,null,null,null,{"$f":"SUM(T187:X193)","v":0},null,null,null,null,null,{"$f":"SUM(Z187:AD193)","v":0}]
[]
["K",{"$f":"'Data 1'!Y61","v":0},{"$f":"'Data 2'!Y61","v":0},{"$f":"'Data 3'!Y61","v":0},{"$f":"'Data 4'!Y61","v":0},{"$f":"'Data 5'!Y61","v":0},"L",{"$f":"'Data 1'!Y62","v":0},{"$f":"'Data 2'!Y62","v":0},{"$f":"'Data 3'!Y62","v":0},{"$f":"'Data 4'!Y62","v":0},{"$f":"'Data 5'!Y62","v":0}]
[null,{"$f":"'Data 6'!Y61","v":0},{"$f":"'Data 7'!Y61","v":0},{"$f":"'Data 8'!Y61","v":0},{"$f":"'Data 9'!Y61","v":0},{"$f":"'Data 10'!Y61","v":0},null,{"$f":"'Data 6'!Y62","v":0},{"$f":"'Data 7'!Y62","v":0},{"$f":"'Data 8'!Y62","v":0},{"$f":"'Data 9'!Y62","v":0},{"$f":"'Data 10'!Y62","v":0}]
[null,{"$f":"'Data 11'!Y61","v":0},{"$f":"'Data 12'!Y61","v":0},{"$f":"'Data 13'!Y61","v":0},{"$f":"'Data 14'!Y61","v":0},{"$f":"'Data 15'!Y61","v":0},null,{"$f":"'Data 11'!Y62","v":0},{"$f":"'Data 12'!Y62","v":0},{"$f":"'Data 13'!Y62","v":0},{"$f":"'Data 14'!Y62","v":0},{"$f":"'Data 15'!Y62","v":0}]
[null,{"$f":"'Data 16'!Y61","v":0},{"$f":"'Data 17'!Y61","v":0},{"$f":"'Data 18'!Y61","v":0},{"$f":"'Data 19'!Y61","v":0},{"$f":"'Data 20'!Y61","v":0},null,{"$f":"'Data 16'!Y62","v":0},{"$f":"'Data 17'!Y62","v":0},{"$f":"'Data 18'!Y62","v":0},{"$f":"'Data 19'!Y62","v":0},{"$f":"'Data 20'!Y62","v":0}]
[null,{"$f":"'Data 21'!Y61","v":0},{"$f":"'Data 22'!Y61","v":0},{"$f":"'Data 23'!Y61","v":0},{"$f":"'Data 24'!Y61","v":0},{"$f":"'Data 25'!Y61","v":0},null,{"$f":"'Data 21'!Y62","v":0},{"$f":"'Data 22'!Y62","v":0},{"$f":"'Data 23'!Y62","v":0},{"$f":"'Data 24'!Y62","v":0},{"$f":"'Data 25'!Y62","v":0}]
[null,{"$f":"'Data 26'!Y61","v":0},{"$f":"'Data 27'!Y61","v":0},{"$f":"'Data 28'!Y61","v":0},{"$f":"'Data 29'!Y61","v":0},{"$f":"'Data 30'!Y61","v":0},null,{"$f":"'Data 26'!Y62","v":0},{"$f":"'Data 27'!Y62","v":0},{"$f":"'Data 28'!Y62","v":0},{"$f":"'Data 29'!Y62","v":0},{"$f":"'Data 30'!Y62","v":0}]
[null,{"$f":"'Data 31'!Y61","v":0},{"$f":"'Data 29 (2)'!Y61","v":0},{"$f":"'Data 30 (2)'!Y61","v":0},{"$f":"'Data 31 (2)'!Y61","v":0},null,null,{"$f":"'Data 31'!Y62","v":0},{"$f":"'Data 29 (2)'!Y62","v":0},{"$f":"'Data 30 (2)'!Y62","v":0},{"$f":"'Data 31 (2)'!Y62","v":0}]
[null,{"$f":"SUM(B196:F202)","v":0},null,null,null,null,null,{"$f":"SUM(H196:L202)","v":0}]
[]
["Frequency of Antecedents to Behavior Correlation - Behavior A"]
["A",{"$f":"'Data 1'!AB51","v":0},{"$f":"'Data 2'!AB51","v":0},{"$f":"'Data 3'!AB51","v":0},{"$f":"'Data 4'!AB51","v":0},{"$f":"'Data 5'!AB51","v":0},"B",{"$f":"'Data 1'!AB52","v":0},{"$f":"'Data 2'!AB52","v":0},{"$f":"'Data 3'!AB52","v":0},{"$f":"'Data 4'!AB52","v":0},{"$f":"'Data 5'!AB52","v":0},"C",{"$f":"'Data 1'!AB53","v":0},{"$f":"'Data 2'!AB53","v":0},{"$f":"'Data 3'!AB53","v":0},{"$f":"'Data 4'!AB53","v":0},{"$f":"'Data 5'!AB53","v":0},"D",{"$f":"'Data 1'!AB54","v":0},{"$f":"'Data 2'!AB54","v":0},{"$f":"'Data 3'!AB54","v":0},{"$f":"'Data 4'!AB54","v":0},{"$f":"'Data 5'!AB54","v":0},"E",{"$f":"'Data 1'!AB55","v":0},{"$f":"'Data 2'!AB55","v":0},{"$f":"'Data 3'!AB55","v":0},{"$f":"'Data 4'!AB55","v":0},{"$f":"'Data 5'!AB55","v":0}]
[null,{"$f":"'Data 6'!AB51","v":0},{"$f":"'Data 7'!AB51","v":0},{"$f":"'Data 8'!AB51","v":0},{"$f":"'Data 9'!AB51","v":0},{"$f":"'Data 10'!AB51","v":0},null,{"$f":"'Data 6'!AB52","v":0},{"$f":"'Data 7'!AB52","v":0},{"$f":"'Data 8'!AB52","v":0},{"$f":"'Data 9'!AB52","v":0},{"$f":"'Data 10'!AB52","v":0},null,{"$f":"'Data 6'!AB53","v":0},{"$f":"'Data 7'!AB53","v":0},{"$f":"'Data 8'!AB53","v":0},{"$f":"'Data 8'!AB53","v":0},{"$f":"'Data 10'!AB53","v":0},null,{"$f":"'Data 6'!AB54","v":0},{"$f":"'Data 7'!AB54","v":0},{"$f":"'Data 8'!AB54","v":0},{"$f":"'Data 9'!AB54","v":0},{"$f":"'Data 10'!AB54","v":0},null,{"$f":"'Data 6'!AB55","v":0},{"$f":"'Data 7'!AB55","v":0},{"$f":"'Data 8'!AB55","v":0},{"$f":"'Data 9'!AB55","v":0},{"$f":"'Data 10'!AB55","v":0}]
[null,{"$f":"'Data 11'!AB51","v":0},{"$f":"'Data 12'!AB51","v":0},{"$f":"'Data 13'!AB51","v":0},{"$f":"'Data 14'!AB51","v":0},{"$f":"'Data 15'!AB51","v":0},null,{"$f":"'Data 11'!AB52","v":0},{"$f":"'Data 12'!AB52","v":0},{"$f":"'Data 13'!AB52","v":0},{"$f":"'Data 14'!AB52","v":0},{"$f":"'Data 15'!AB52","v":0},null,{"$f":"'Data 11'!AB53","v":0},{"$f":"'Data 12'!AB53","v":0},{"$f":"'Data 13'!AB53","v":0},{"$f":"'Data 14'!AB53","v":0},{"$f":"'Data 15'!AB53","v":0},null,{"$f":"'Data 11'!AB54","v":0},{"$f":"'Data 12'!AB54","v":0},{"$f":"'Data 13'!AB54","v":0},{"$f":"'Data 14'!AB54","v":0},{"$f":"'Data 15'!AB54","v":0},null,{"$f":"'Data 11'!AB55","v":0},{"$f":"'Data 12'!AB55","v":0},{"$f":"'Data 13'!AB55","v":0},{"$f":"'Data 14'!AB55","v":0},{"$f":"'Data 15'!AB55","v":0}]
[null,{"$f":"'Data 16'!AB51","v":0},{"$f":"'Data 17'!AB51","v":0},{"$f":"'Data 18'!AB51","v":0},{"$f":"'Data 19'!AB51","v":0},{"$f":"'Data 20'!AB51","v":0},null,{"$f":"'Data 16'!AB52","v":0},{"$f":"'Data 17'!AB52","v":0},{"$f":"'Data 18'!AB52","v":0},{"$f":"'Data 19'!AB52","v":0},{"$f":"'Data 20'!AB52","v":0},null,{"$f":"'Data 16'!AB53","v":0},{"$f":"'Data 17'!AB53","v":0},{"$f":"'Data 18'!AB53","v":0},{"$f":"'Data 19'!AB53","v":0},{"$f":"'Data 20'!AB53","v":0},null,{"$f":"'Data 16'!AB54","v":0},{"$f":"'Data 17'!AB54","v":0},{"$f":"'Data 18'!AB54","v":0},{"$f":"'Data 19'!AB54","v":0},{"$f":"'Data 20'!AB54","v":0},null,{"$f":"'Data 16'!AB55","v":0},{"$f":"'Data 17'!AB55","v":0},{"$f":"'Data 18'!AB55","v":0},{"$f":"'Data 19'!AB55","v":0},{"$f":"'Data 20'!AB55","v":0}]
[null,{"$f":"'Data 21'!AB51","v":0},{"$f":"'Data 22'!AB51","v":0},{"$f":"'Data 23'!AB51","v":0},{"$f":"'Data 24'!AB51","v":0},{"$f":"'Data 25'!AB51","v":0},null,{"$f":"'Data 21'!AB52","v":0},{"$f":"'Data 22'!AB52","v":0},{"$f":"'Data 23'!AB52","v":0},{"$f":"'Data 24'!AB52","v":0},{"$f":"'Data 25'!AB52","v":0},null,{"$f":"'Data 21'!AB53","v":0},{"$f":"'Data 22'!AB53","v":0},{"$f":"'Data 23'!AB53","v":0},{"$f":"'Data 24'!AB53","v":0},{"$f":"'Data 25'!AB53","v":0},null,{"$f":"'Data 21'!AB54","v":0},{"$f":"'Data 22'!AB54","v":0},{"$f":"'Data 23'!AB54","v":0},{"$f":"'Data 24'!AB54","v":0},{"$f":"'Data 25'!AB54","v":0},null,{"$f":"'Data 21'!AB55","v":0},{"$f":"'Data 22'!AB55","v":0},{"$f":"'Data 23'!AB55","v":0},{"$f":"'Data 24'!AB55","v":0},{"$f":"'Data 25'!AB55","v":0}]
[null,{"$f":"'Data 26'!AB51","v":0},{"$f":"'Data 27'!AB51","v":0},{"$f":"'Data 28'!AB51","v":0},{"$f":"'Data 29'!AB51","v":0},{"$f":"'Data 30'!AB51","v":0},null,{"$f":"'Data 26'!AB52","v":0},{"$f":"'Data 27'!AB52","v":0},{"$f":"'Data 28'!AB52","v":0},{"$f":"'Data 29'!AB52","v":0},{"$f":"'Data 30'!AB52","v":0},null,{"$f":"'Data 26'!AB53","v":0},{"$f":"'Data 27'!AB53","v":0},{"$f":"'Data 28'!AB53","v":0},{"$f":"'Data 29'!AB53","v":0},{"$f":"'Data 30'!AB53","v":0},null,{"$f":"'Data 26'!AB54","v":0},{"$f":"'Data 27'!AB54","v":0},{"$f":"'Data 28'!AB54","v":0},{"$f":"'Data 29'!AB54","v":0},{"$f":"'Data 30'!AB54","v":0},null,{"$f":"'Data 26'!AB55","v":0},{"$f":"'Data 27'!AB55","v":0},{"$f":"'Data 28'!AB55","v":0},{"$f":"'Data 29'!AB55","v":0},{"$f":"'Data 30'!AB55","v":0}]
[null,{"$f":"'Data 31'!AB51","v":0},{"$f":"'Data 29 (2)'!AB51","v":0},{"$f":"'Data 30 (2)'!AB51","v":0},{"$f":"'Data 31 (2)'!AB51","v":0},null,null,{"$f":"'Data 31'!AB52","v":0},{"$f":"'Data 29 (2)'!AB52","v":0},{"$f":"'Data 30 (2)'!AB52","v":0},{"$f":"'Data 31 (2)'!AB52","v":0},null,null,{"$f":"'Data 31'!AB53","v":0},{"$f":"'Data 29 (2)'!AB53","v":0},{"$f":"'Data 30 (2)'!AB53","v":0},{"$f":"'Data 31 (2)'!AB53","v":0},null,null,{"$f":"'Data 31'!AB54","v":0},{"$f":"'Data 29 (2)'!AB54","v":0},{"$f":"'Data 30 (2)'!AB54","v":0},{"$f":"'Data 31 (2)'!AB54","v":0},null,null,{"$f":"'Data 31'!AB55","v":0},{"$f":"'Data 29 (2)'!AB55","v":0},{"$f":"'Data 30 (2)'!AB55","v":0},{"$f":"'Data 31 (2)'!AB55","v":0}]
["Sum",{"$f":"SUM(B206:F212)","v":0},null,null,null,null,null,{"$f":"SUM(H206:L212)","v":0},null,null,null,null,null,{"$f":"SUM(N206:R212)","v":0},null,null,null,null,null,{"$f":"SUM(T206:X212)","v":0},null,null,null,null,null,{"$f":"SUM(Z206:AD212)","v":0}]
[]
["F",{"$f":"'Data 1'!AB56","v":0},{"$f":"'Data 2'!AB56","v":0},{"$f":"'Data 3'!AB56","v":0},{"$f":"'Data 4'!AB56","v":0},{"$f":"'Data 5'!AB56","v":0},"G",{"$f":"'Data 1'!AB57","v":0},{"$f":"'Data 2'!AB57","v":0},{"$f":"'Data 3'!AB57","v":0},{"$f":"'Data 4'!AB57","v":0},{"$f":"'Data 5'!AB57","v":0},"H",{"$f":"'Data 1'!AB58","v":0},{"$f":"'Data 2'!AB58","v":0},{"$f":"'Data 3'!AB58","v":0},{"$f":"'Data 4'!AB58","v":0},{"$f":"'Data 5'!AB58","v":0},"I",{"$f":"'Data 1'!AB59","v":0},{"$f":"'Data 2'!AB59","v":0},{"$f":"'Data 3'!AB59","v":0},{"$f":"'Data 4'!AB59","v":0},{"$f":"'Data 5'!AB59","v":0},"J",{"$f":"'Data 1'!AB60","v":0},{"$f":"'Data 2'!AB60","v":0},{"$f":"'Data 3'!AB60","v":0},{"$f":"'Data 4'!AB60","v":0},{"$f":"'Data 5'!AB60","v":0}]
[null,{"$f":"'Data 6'!AB56","v":0},{"$f":"'Data 7'!AB56","v":0},{"$f":"'Data 8'!AB56","v":0},{"$f":"'Data 9'!AB56","v":0},{"$f":"'Data 10'!AB56","v":0},null,{"$f":"'Data 6'!AB57","v":0},{"$f":"'Data 7'!AB57","v":0},{"$f":"'Data 8'!AB57","v":0},{"$f":"'Data 9'!AB57","v":0},{"$f":"'Data 10'!AB57","v":0},null,{"$f":"'Data 6'!AB58","v":0},{"$f":"'Data 7'!AB58","v":0},{"$f":"'Data 8'!AB58","v":0},{"$f":"'Data 9'!AB58","v":0},{"$f":"'Data 10'!AB58","v":0},null,{"$f":"'Data 6'!AB59","v":0},{"$f":"'Data 7'!AB59","v":0},{"$f":"'Data 8'!AB59","v":0},{"$f":"'Data 9'!AB59","v":0},{"$f":"'Data 10'!AB59","v":0},null,{"$f":"'Data 6'!AB60","v":0},{"$f":"'Data 7'!AB60","v":0},{"$f":"'Data 8'!AB60","v":0},{"$f":"'Data 9'!AB60","v":0},{"$f":"'Data 10'!AB60","v":0}]
[null,{"$f":"'Data 11'!AB56","v":0},{"$f":"'Data 12'!AB56","v":0},{"$f":"'Data 13'!AB56","v":0},{"$f":"'Data 14'!AB56","v":0},{"$f":"'Data 15'!AB56","v":0},null,{"$f":"'Data 11'!AB57","v":0},{"$f":"'Data 12'!AB57","v":0},{"$f":"'Data 13'!AB57","v":0},{"$f":"'Data 14'!AB57","v":0},{"$f":"'Data 15'!AB57","v":0},null,{"$f":"'Data 11'!AB58","v":0},{"$f":"'Data 12'!AB58","v":0},{"$f":"'Data 13'!AB58","v":0},{"$f":"'Data 14'!AB58","v":0},{"$f":"'Data 15'!AB58","v":0},null,{"$f":"'Data 11'!AB59","v":0},{"$f":"'Data 12'!AB59","v":0},{"$f":"'Data 13'!AB59","v":0},{"$f":"'Data 14'!AB59","v":0},{"$f":"'Data 15'!AB59","v":0},null,{"$f":"'Data 11'!AB60","v":0},{"$f":"'Data 12'!AB60","v":0},{"$f":"'Data 13'!AB60","v":0},{"$f":"'Data 14'!AB60","v":0},{"$f":"'Data 15'!AB60","v":0}]
[null,{"$f":"'Data 16'!AB56","v":0},{"$f":"'Data 17'!AB56","v":0},{"$f":"'Data 18'!AB56","v":0},{"$f":"'Data 19'!AB56","v":0},{"$f":"'Data 20'!AB56","v":0},null,{"$f":"'Data 16'!AB57","v":0},{"$f":"'Data 17'!AB57","v":0},{"$f":"'Data 18'!AB57","v":0},{"$f":"'Data 19'!AB57","v":0},{"$f":"'Data 20'!AB57","v":0},null,{"$f":"'Data 16'!AB58","v":0},{"$f":"'Data 17'!AB58","v":0},{"$f":"'Data 18'!AB58","v":0},{"$f":"'Data 19'!AB58","v":0},{"$f":"'Data 20'!AB58","v":0},null,{"$f":"'Data 16'!AB59","v":0},{"$f":"'Data 17'!AB59","v":0},{"$f":"'Data 18'!AB59","v":0},{"$f":"'Data 19'!AB59","v":0},{"$f":"'Data 20'!AB59","v":0},null,{"$f":"'Data 16'!AB60","v":0},{"$f":"'Data 17'!AB60","v":0},{"$f":"'Data 18'!AB60","v":0},{"$f":"'Data 19'!AB60","v":0},{"$f":"'Data 20'!AB60","v":0}]
[null,{"$f":"'Data 21'!AB56","v":0},{"$f":"'Data 22'!AB56","v":0},{"$f":"'Data 23'!AB56","v":0},{"$f":"'Data 24'!AB56","v":0},{"$f":"'Data 25'!AB56","v":0},null,{"$f":"'Data 21'!AB57","v":0},{"$f":"'Data 22'!AB57","v":0},{"$f":"'Data 23'!AB57","v":0},{"$f":"'Data 24'!AB57","v":0},{"$f":"'Data 25'!AB57","v":0},null,{"$f":"'Data 21'!AB58","v":0},{"$f":"'Data 22'!AB58","v":0},{"$f":"'Data 23'!AB58","v":0},{"$f":"'Data 24'!AB58","v":0},{"$f":"'Data 25'!AB58","v":0},null,{"$f":"'Data 21'!AB59","v":0},{"$f":"'Data 22'!AB59","v":0},{"$f":"'Data 23'!AB59","v":0},{"$f":"'Data 24'!AB59","v":0},{"$f":"'Data 25'!AB59","v":0},null,{"$f":"'Data 21'!AB60","v":0},{"$f":"'Data 22'!AB60","v":0},{"$f":"'Data 23'!AB60","v":0},{"$f":"'Data 24'!AB60","v":0},{"$f":"'Data 25'!AB60","v":0}]
[null,{"$f":"'Data 26'!AB56","v":0},{"$f":"'Data 27'!AB56","v":0},{"$f":"'Data 28'!AB56","v":0},{"$f":"'Data 29'!AB56","v":0},{"$f":"'Data 30'!AB56","v":0},null,{"$f":"'Data 26'!AB57","v":0},{"$f":"'Data 27'!AB57","v":0},{"$f":"'Data 28'!AB57","v":0},{"$f":"'Data 29'!AB57","v":0},{"$f":"'Data 30'!AB57","v":0},null,{"$f":"'Data 26'!AB58","v":0},{"$f":"'Data 27'!AB58","v":0},{"$f":"'Data 28'!AB58","v":0},{"$f":"'Data 29'!AB58","v":0},{"$f":"'Data 30'!AB58","v":0},null,{"$f":"'Data 26'!AB59","v":0},{"$f":"'Data 27'!AB59","v":0},{"$f":"'Data 28'!AB59","v":0},{"$f":"'Data 29'!AB59","v":0},{"$f":"'Data 30'!AB59","v":0},null,{"$f":"'Data 26'!AB60","v":0},{"$f":"'Data 27'!AB60","v":0},{"$f":"'Data 28'!AB60","v":0},{"$f":"'Data 29'!AB60","v":0},{"$f":"'Data 30'!AB60","v":0}]
[null,{"$f":"'Data 31'!AB56","v":0},{"$f":"'Data 29 (2)'!AB56","v":0},{"$f":"'Data 30 (2)'!AB56","v":0},{"$f":"'Data 31 (2)'!AB56","v":0},null,null,{"$f":"'Data 31'!AB57","v":0},{"$f":"'Data 29 (2)'!AB57","v":0},{"$f":"'Data 30 (2)'!AB57","v":0},{"$f":"'Data 31 (2)'!AB57","v":0},null,null,{"$f":"'Data 31'!AB58","v":0},{"$f":"'Data 29 (2)'!AB58","v":0},{"$f":"'Data 30 (2)'!AB58","v":0},{"$f":"'Data 31 (2)'!AB58","v":0},null,null,{"$f":"'Data 31'!AB59","v":0},{"$f":"'Data 29 (2)'!AB59","v":0},{"$f":"'Data 30 (2)'!AB59","v":0},{"$f":"'Data 31 (2)'!AB59","v":0},null,null,{"$f":"'Data 31'!AB60","v":0},{"$f":"'Data 29 (2)'!AB60","v":0},{"$f":"'Data 30 (2)'!AB60","v":0},{"$f":"'Data 31 (2)'!AB60","v":0}]
[null,{"$f":"SUM(B215:F221)","v":0},null,null,null,null,null,{"$f":"SUM(H215:L221)","v":0},null,null,null,null,null,{"$f":"SUM(N215:R221)","v":0},null,null,null,null,null,{"$f":"SUM(T215:X221)","v":0},null,null,null,null,null,{"$f":"SUM(Z215:AD221)","v":0}]
[]
["K",{"$f":"'Data 1'!AB61","v":0},{"$f":"'Data 2'!AB61","v":0},{"$f":"'Data 3'!AB61","v":0},{"$f":"'Data 4'!AB61","v":0},{"$f":"'Data 5'!AB61","v":0},"L",{"$f":"'Data 1'!AB62","v":0},{"$f":"'Data 2'!AB62","v":0},{"$f":"'Data 3'!AB62","v":0},{"$f":"'Data 4'!AB62","v":0},{"$f":"'Data 5'!AB62","v":0},null,null,null,null,"Antecedent to Behavior Frequency"]
[null,{"$f":"'Data 6'!AB61","v":0},{"$f":"'Data 7'!AB61","v":0},{"$f":"'Data 8'!AB61","v":0},{"$f":"'Data 9'!AB61","v":0},{"$f":"'Data 10'!AB61","v":0},null,{"$f":"'Data 6'!AB62","v":0},{"$f":"'Data 7'!AB62","v":0},{"$f":"'Data 8'!AB62","v":0},{"$f":"'Data 9'!AB62","v":0},{"$f":"'Data 10'!AB62","v":0},null,null,"A","B","C","D","E","F","G","H","I","J","K","L"]
[null,{"$f":"'Data 11'!AB61","v":0},{"$f":"'Data 12'!AB61","v":0},{"$f":"'Data 13'!AB61","v":0},{"$f":"'Data 14'!AB61","v":0},{"$f":"'Data 15'!AB61","v":0},null,{"$f":"'Data 11'!AB62","v":0},{"$f":"'Data 12'!AB62","v":0},{"$f":"'Data 13'!AB62","v":0},{"$f":"'Data 14'!AB62","v":0},{"$f":"'Data 15'!AB62","v":0},null,{"$f":"Criteria!G4","v":0},{"$f":"B213","v":0},{"$f":"H213","v":0},{"$f":"N213","v":0},{"$f":"T213","v":0},{"$f":"Z213","v":0},{"$f":"B222","v":0},{"$f":"H222","v":0},{"$f":"N222","v":0},{"$f":"T222","v":0},{"$f":"Z222","v":0},{"$f":"B231","v":0},{"$f":"H231","v":0}]
[null,{"$f":"'Data 16'!AB61","v":0},{"$f":"'Data 17'!AB61","v":0},{"$f":"'Data 18'!AB61","v":0},{"$f":"'Data 19'!AB61","v":0},{"$f":"'Data 20'!AB61","v":0},null,{"$f":"'Data 16'!AB62","v":0},{"$f":"'Data 17'!AB62","v":0},{"$f":"'Data 18'!AB62","v":0},{"$f":"'Data 19'!AB62","v":0},{"$f":"'Data 20'!AB62","v":0}]
[null,{"$f":"'Data 21'!AB61","v":0},{"$f":"'Data 22'!AB61","v":0},{"$f":"'Data 23'!AB61","v":0},{"$f":"'Data 24'!AB61","v":0},{"$f":"'Data 25'!AB61","v":0},null,{"$f":"'Data 21'!AB62","v":0},{"$f":"'Data 22'!AB62","v":0},{"$f":"'Data 23'!AB62","v":0},{"$f":"'Data 24'!AB62","v":0},{"$f":"'Data 25'!AB62","v":0},null,null,"A","B","C","D","E","F","G","H","I","J","K","L"]
[null,{"$f":"'Data 26'!AB61","v":0},{"$f":"'Data 27'!AB61","v":0},{"$f":"'Data 28'!AB61","v":0},{"$f":"'Data 29'!AB61","v":0},{"$f":"'Data 30'!AB61","v":0},null,{"$f":"'Data 26'!AB62","v":0},{"$f":"'Data 27'!AB62","v":0},{"$f":"'Data 28'!AB62","v":0},{"$f":"'Data 29'!AB62","v":0},{"$f":"'Data 30'!AB62","v":0},null,{"$f":"Criteria!G5","v":0},{"$f":"B241","v":0},{"$f":"H241","v":0},{"$f":"N241","v":0},{"$f":"T241","v":0},{"$f":"Z241","v":0},{"$f":"B250","v":0},{"$f":"H250","v":0},{"$f":"N250","v":0},{"$f":"T250","v":0},{"$f":"Z250","v":0},{"$f":"B259","v":0},{"$f":"H259","v":0}]
[null,{"$f":"'Data 31'!AB61","v":0},{"$f":"'Data 29 (2)'!AB61","v":0},{"$f":"'Data 30 (2)'!AB61","v":0},{"$f":"'Data 31 (2)'!AB61","v":0},null,null,{"$f":"'Data 31'!AB62","v":0},{"$f":"'Data 29 (2)'!AB62","v":0},{"$f":"'Data 30 (2)'!AB62","v":0},{"$f":"'Data 31 (2)'!AB62","v":0},null,null,null,"A","B","C","D","E","F","G","H","I","J","K","L"]
[null,{"$f":"SUM(B224:F230)","v":0},null,null,null,null,null,{"$f":"SUM(H224:L230)","v":0},null,null,null,null,null,{"$f":"Criteria!G6","v":0},{"$f":"B269","v":0},{"$f":"H269","v":0},{"$f":"N269","v":0},{"$f":"T269","v":0},{"$f":"Z269","v":0},{"$f":"B278","v":0},{"$f":"H278","v":0},{"$f":"N278","v":0},{"$f":"T278","v":0},{"$f":"Z278","v":0},{"$f":"B287","v":0},{"$f":"H287","v":0}]
[]
["Frequency of Antecedents to Behavior Correlation - Behavior B"]
["A",{"$f":"'Data 1'!AC51","v":0},{"$f":"'Data 2'!AC51","v":0},{"$f":"'Data 3'!AC51","v":0},{"$f":"'Data 4'!AC51","v":0},{"$f":"'Data 5'!AC51","v":0},"B",{"$f":"'Data 1'!AC52","v":0},{"$f":"'Data 2'!AC52","v":0},{"$f":"'Data 3'!AC52","v":0},{"$f":"'Data 4'!AC52","v":0},{"$f":"'Data 5'!AC52","v":0},"C",{"$f":"'Data 1'!AC53","v":0},{"$f":"'Data 2'!AC53","v":0},{"$f":"'Data 3'!AC53","v":0},{"$f":"'Data 4'!AC53","v":0},{"$f":"'Data 5'!AC53","v":0},"D",{"$f":"'Data 1'!AC54","v":0},{"$f":"'Data 2'!AC54","v":0},{"$f":"'Data 3'!AC54","v":0},{"$f":"'Data 4'!AC54","v":0},{"$f":"'Data 5'!AC54","v":0},"E",{"$f":"'Data 1'!AC55","v":0},{"$f":"'Data 2'!AC55","v":0},{"$f":"'Data 3'!AC55","v":0},{"$f":"'Data 4'!AC55","v":0},{"$f":"'Data 5'!AC55","v":0}]
[null,{"$f":"'Data 6'!AC51","v":0},{"$f":"'Data 7'!AC51","v":0},{"$f":"'Data 8'!AC51","v":0},{"$f":"'Data 9'!AC51","v":0},{"$f":"'Data 10'!AC51","v":0},null,{"$f":"'Data 6'!AC52","v":0},{"$f":"'Data 7'!AC52","v":0},{"$f":"'Data 8'!AC52","v":0},{"$f":"'Data 9'!AC52","v":0},{"$f":"'Data 10'!AC52","v":0},null,{"$f":"'Data 6'!AC53","v":0},{"$f":"'Data 7'!AC53","v":0},{"$f":"'Data 8'!AC53","v":0},{"$f":"'Data 9'!AC53","v":0},{"$f":"'Data 10'!AC53","v":0},null,{"$f":"'Data 6'!AC54","v":0},{"$f":"'Data 7'!AC54","v":0},{"$f":"'Data 8'!AC54","v":0},{"$f":"'Data 9'!AC54","v":0},{"$f":"'Data 10'!AC54","v":0},null,{"$f":"'Data 6'!AC55","v":0},{"$f":"'Data 7'!AC55","v":0},{"$f":"'Data 8'!AC55","v":0},{"$f":"'Data 9'!AC55","v":0},{"$f":"'Data 10'!AC55","v":0}]
[null,{"$f":"'Data 11'!AC51","v":0},{"$f":"'Data 12'!AC51","v":0},{"$f":"'Data 13'!AC51","v":0},{"$f":"'Data 14'!AC51","v":0},{"$f":"'Data 15'!AC51","v":0},null,{"$f":"'Data 11'!AC52","v":0},{"$f":"'Data 12'!AC52","v":0},{"$f":"'Data 13'!AC52","v":0},{"$f":"'Data 14'!AC52","v":0},{"$f":"'Data 15'!AC52","v":0},null,{"$f":"'Data 11'!AC53","v":0},{"$f":"'Data 12'!AC53","v":0},{"$f":"'Data 13'!AC53","v":0},{"$f":"'Data 14'!AC53","v":0},{"$f":"'Data 15'!AC53","v":0},null,{"$f":"'Data 11'!AC54","v":0},{"$f":"'Data 12'!AC54","v":0},{"$f":"'Data 13'!AC54","v":0},{"$f":"'Data 14'!AC54","v":0},{"$f":"'Data 15'!AC54","v":0},null,{"$f":"'Data 11'!AC55","v":0},{"$f":"'Data 12'!AC55","v":0},{"$f":"'Data 13'!AC55","v":0},{"$f":"'Data 14'!AC55","v":0},{"$f":"'Data 15'!AC55","v":0}]
[null,{"$f":"'Data 16'!AC51","v":0},{"$f":"'Data 17'!AC51","v":0},{"$f":"'Data 18'!AC51","v":0},{"$f":"'Data 19'!AC51","v":0},{"$f":"'Data 20'!AC51","v":0},null,{"$f":"'Data 16'!AC52","v":0},{"$f":"'Data 17'!AC52","v":0},{"$f":"'Data 18'!AC52","v":0},{"$f":"'Data 19'!AC52","v":0},{"$f":"'Data 20'!AC52","v":0},null,{"$f":"'Data 16'!AC53","v":0},{"$f":"'Data 17'!AC53","v":0},{"$f":"'Data 18'!AC53","v":0},{"$f":"'Data 19'!AC53","v":0},{"$f":"'Data 20'!AC53","v":0},null,{"$f":"'Data 16'!AC54","v":0},{"$f":"'Data 17'!AC54","v":0},{"$f":"'Data 18'!AC54","v":0},{"$f":"'Data 19'!AC54","v":0},{"$f":"'Data 20'!AC54","v":0},null,{"$f":"'Data 16'!AC55","v":0},{"$f":"'Data 17'!AC55","v":0},{"$f":"'Data 18'!AC55","v":0},{"$f":"'Data 19'!AC55","v":0},{"$f":"'Data 20'!AC55","v":0}]
[null,{"$f":"'Data 21'!AC51","v":0},{"$f":"'Data 22'!AC51","v":0},{"$f":"'Data 23'!AC51","v":0},{"$f":"'Data 24'!AC51","v":0},{"$f":"'Data 25'!AC51","v":0},null,{"$f":"'Data 21'!AC52","v":0},{"$f":"'Data 22'!AC52","v":0},{"$f":"'Data 23'!AC52","v":0},{"$f":"'Data 24'!AC52","v":0},{"$f":"'Data 25'!AC52","v":0},null,{"$f":"'Data 21'!AC53","v":0},{"$f":"'Data 22'!AC53","v":0},{"$f":"'Data 23'!AC53","v":0},{"$f":"'Data 24'!AC53","v":0},{"$f":"'Data 25'!AC53","v":0},null,{"$f":"'Data 21'!AC54","v":0},{"$f":"'Data 22'!AC54","v":0},{"$f":"'Data 23'!AC54","v":0},{"$f":"'Data 24'!AC54","v":0},{"$f":"'Data 25'!AC54","v":0},null,{"$f":"'Data 21'!AC55","v":0},{"$f":"'Data 22'!AC55","v":0},{"$f":"'Data 23'!AC55","v":0},{"$f":"'Data 24'!AC55","v":0},{"$f":"'Data 25'!AC55","v":0}]
[null,{"$f":"'Data 26'!AC51","v":0},{"$f":"'Data 27'!AC51","v":0},{"$f":"'Data 28'!AC51","v":0},{"$f":"'Data 29'!AC51","v":0},{"$f":"'Data 30'!AC51","v":0},null,{"$f":"'Data 26'!AC52","v":0},{"$f":"'Data 27'!AC52","v":0},{"$f":"'Data 28'!AC52","v":0},{"$f":"'Data 29'!AC52","v":0},{"$f":"'Data 30'!AC52","v":0},null,{"$f":"'Data 26'!AC53","v":0},{"$f":"'Data 27'!AC53","v":0},{"$f":"'Data 28'!AC53","v":0},{"$f":"'Data 29'!AC53","v":0},{"$f":"'Data 30'!AC53","v":0},null,{"$f":"'Data 26'!AC54","v":0},{"$f":"'Data 27'!AC54","v":0},{"$f":"'Data 28'!AC54","v":0},{"$f":"'Data 29'!AC54","v":0},{"$f":"'Data 30'!AC54","v":0},null,{"$f":"'Data 26'!AC55","v":0},{"$f":"'Data 27'!AC55","v":0},{"$f":"'Data 28'!AC55","v":0},{"$f":"'Data 29'!AC55","v":0},{"$f":"'Data 30'!AC55","v":0}]
[null,{"$f":"'Data 31'!AC51","v":0},{"$f":"'Data 29 (2)'!AC51","v":0},{"$f":"'Data 30 (2)'!AC51","v":0},{"$f":"'Data 31 (2)'!AC51","v":0},null,null,{"$f":"'Data 31'!AC52","v":0},{"$f":"'Data 29 (2)'!AC52","v":0},{"$f":"'Data 30 (2)'!AC52","v":0},{"$f":"'Data 31 (2)'!AC52","v":0},null,null,{"$f":"'Data 31 (2)'!AC53","v":0},{"$f":"'Data 29 (2)'!AC53","v":0},{"$f":"'Data 30 (2)'!AC53","v":0},{"$f":"'Data 31 (2)'!AC53","v":0},null,null,{"$f":"'Data 31'!AC54","v":0},{"$f":"'Data 29 (2)'!AC54","v":0},{"$f":"'Data 30 (2)'!AC54","v":0},{"$f":"'Data 31 (2)'!AC54","v":0},null,null,{"$f":"'Data 31'!AC55","v":0},{"$f":"'Data 29 (2)'!AC55","v":0},{"$f":"'Data 30 (2)'!AC55","v":0},{"$f":"'Data 31 (2)'!AC55","v":0}]
["Sum",{"$f":"SUM(B234:F240)","v":0},null,null,null,null,null,{"$f":"SUM(H234:L240)","v":0},null,null,null,null,null,{"$f":"SUM(N234:R240)","v":0},null,null,null,null,null,{"$f":"SUM(T234:X240)","v":0},null,null,null,null,null,{"$f":"SUM(Z234:AD240)","v":0}]
[]
["F",{"$f":"'Data 1'!AC56","v":0},{"$f":"'Data 2'!AC56","v":0},{"$f":"'Data 3'!AC56","v":0},{"$f":"'Data 4'!AC56","v":0},{"$f":"'Data 5'!AC56","v":0},"G",{"$f":"'Data 1'!AC57","v":0},{"$f":"'Data 2'!AC57","v":0},{"$f":"'Data 3'!AC57","v":0},{"$f":"'Data 4'!AC57","v":0},{"$f":"'Data 5'!AC57","v":0},"H",{"$f":"'Data 1'!AC58","v":0},{"$f":"'Data 2'!AC58","v":0},{"$f":"'Data 3'!AC58","v":0},{"$f":"'Data 4'!AC58","v":0},{"$f":"'Data 5'!AC58","v":0},"I",{"$f":"'Data 1'!AC59","v":0},{"$f":"'Data 2'!AC59","v":0},{"$f":"'Data 3'!AC59","v":0},{"$f":"'Data 4'!AC59","v":0},{"$f":"'Data 5'!AC59","v":0},"J",{"$f":"'Data 1'!AC60","v":0},{"$f":"'Data 2'!AC60","v":0},{"$f":"'Data 3'!AC60","v":0},{"$f":"'Data 4'!AC60","v":0},{"$f":"'Data 5'!AC60","v":0}]
[null,{"$f":"'Data 6'!AC56","v":0},{"$f":"'Data 7'!AC56","v":0},{"$f":"'Data 8'!AC56","v":0},{"$f":"'Data 9'!AC56","v":0},{"$f":"'Data 10'!AC56","v":0},null,{"$f":"'Data 6'!AC57","v":0},{"$f":"'Data 7'!AC57","v":0},{"$f":"'Data 8'!AC57","v":0},{"$f":"'Data 9'!AC57","v":0},{"$f":"'Data 10'!AC57","v":0},null,{"$f":"'Data 6'!AC58","v":0},{"$f":"'Data 7'!AC58","v":0},{"$f":"'Data 8'!AC58","v":0},{"$f":"'Data 9'!AC58","v":0},{"$f":"'Data 10'!AC58","v":0},null,{"$f":"'Data 6'!AC59","v":0},{"$f":"'Data 7'!AC59","v":0},{"$f":"'Data 8'!AC59","v":0},{"$f":"'Data 9'!AC59","v":0},{"$f":"'Data 10'!AC59","v":0},null,{"$f":"'Data 6'!AC60","v":0},{"$f":"'Data 7'!AC60","v":0},{"$f":"'Data 8'!AC60","v":0},{"$f":"'Data 9'!AC60","v":0},{"$f":"'Data 10'!AC60","v":0}]
[null,{"$f":"'Data 11'!AC56","v":0},{"$f":"'Data 12'!AC56","v":0},{"$f":"'Data 13'!AC56","v":0},{"$f":"'Data 14'!AC56","v":0},{"$f":"'Data 15'!AC56","v":0},null,{"$f":"'Data 11'!AC57","v":0},{"$f":"'Data 12'!AC57","v":0},{"$f":"'Data 13'!AC57","v":0},{"$f":"'Data 14'!AC57","v":0},{"$f":"'Data 15'!AC57","v":0},null,{"$f":"'Data 11'!AC58","v":0},{"$f":"'Data 12'!AC58","v":0},{"$f":"'Data 13'!AC58","v":0},{"$f":"'Data 14'!AC58","v":0},{"$f":"'Data 15'!AC58","v":0},null,{"$f":"'Data 11'!AC59","v":0},{"$f":"'Data 12'!AC59","v":0},{"$f":"'Data 13'!AC59","v":0},{"$f":"'Data 14'!AC59","v":0},{"$f":"'Data 15'!AC59","v":0},null,{"$f":"'Data 11'!AC60","v":0},{"$f":"'Data 12'!AC60","v":0},{"$f":"'Data 13'!AC60","v":0},{"$f":"'Data 14'!AC60","v":0},{"$f":"'Data 15'!AC60","v":0}]
[null,{"$f":"'Data 16'!AC56","v":0},{"$f":"'Data 17'!AC56","v":0},{"$f":"'Data 18'!AC56","v":0},{"$f":"'Data 19'!AC56","v":0},{"$f":"'Data 20'!AC56","v":0},null,{"$f":"'Data 16'!AC57","v":0},{"$f":"'Data 17'!AC57","v":0},{"$f":"'Data 18'!AC57","v":0},{"$f":"'Data 19'!AC57","v":0},{"$f":"'Data 20'!AC57","v":0},null,{"$f":"'Data 16'!AC58","v":0},{"$f":"'Data 17'!AC58","v":0},{"$f":"'Data 18'!AC58","v":0},{"$f":"'Data 19'!AC58","v":0},{"$f":"'Data 20'!AC58","v":0},null,{"$f":"'Data 16'!AC59","v":0},{"$f":"'Data 17'!AC59","v":0},{"$f":"'Data 18'!AC59","v":0},{"$f":"'Data 19'!AC59","v":0},{"$f":"'Data 20'!AC59","v":0},null,{"$f":"'Data 16'!AC60","v":0},{"$f":"'Data 17'!AC60","v":0},{"$f":"'Data 18'!AC60","v":0},{"$f":"'Data 19'!AC60","v":0},{"$f":"'Data 20'!AC60","v":0}]
[null,{"$f":"'Data 21'!AC56","v":0},{"$f":"'Data 22'!AC56","v":0},{"$f":"'Data 23'!AC56","v":0},{"$f":"'Data 24'!AC56","v":0},{"$f":"'Data 25'!AC56","v":0},null,{"$f":"'Data 21'!AC57","v":0},{"$f":"'Data 22'!AC57","v":0},{"$f":"'Data 23'!AC57","v":0},{"$f":"'Data 24'!AC57","v":0},{"$f":"'Data 25'!AC57","v":0},null,{"$f":"'Data 21'!AC58","v":0},{"$f":"'Data 22'!AC58","v":0},{"$f":"'Data 23'!AC58","v":0},{"$f":"'Data 24'!AC58","v":0},{"$f":"'Data 25'!AC58","v":0},null,{"$f":"'Data 21'!AC59","v":0},{"$f":"'Data 22'!AC59","v":0},{"$f":"'Data 23'!AC59","v":0},{"$f":"'Data 24'!AC59","v":0},{"$f":"'Data 25'!AC59","v":0},null,{"$f":"'Data 21'!AC60","v":0},{"$f":"'Data 22'!AC60","v":0},{"$f":"'Data 23'!AC60","v":0},{"$f":"'Data 24'!AC60","v":0},{"$f":"'Data 25'!AC60","v":0}]
[null,{"$f":"'Data 26'!AC56","v":0},{"$f":"'Data 27'!AC56","v":0},{"$f":"'Data 28'!AC56","v":0},{"$f":"'Data 29'!AC56","v":0},{"$f":"'Data 30'!AC56","v":0},null,{"$f":"'Data 26'!AC57","v":0},{"$f":"'Data 27'!AC57","v":0},{"$f":"'Data 28'!AC57","v":0},{"$f":"'Data 29'!AC57","v":0},{"$f":"'Data 30'!AC57","v":0},null,{"$f":"'Data 26'!AC58","v":0},{"$f":"'Data 27'!AC58","v":0},{"$f":"'Data 28'!AC58","v":0},{"$f":"'Data 29'!AC58","v":0},{"$f":"'Data 30'!AC58","v":0},null,{"$f":"'Data 26'!AC59","v":0},{"$f":"'Data 27'!AC59","v":0},{"$f":"'Data 28'!AC59","v":0},{"$f":"'Data 29'!AC59","v":0},{"$f":"'Data 30'!AC59","v":0},null,{"$f":"'Data 26'!AC60","v":0},{"$f":"'Data 27'!AC60","v":0},{"$f":"'Data 28'!AC60","v":0},{"$f":"'Data 29'!AC60","v":0},{"$f":"'Data 30'!AC60","v":0}]
[null,{"$f":"'Data 31'!AC56","v":0},{"$f":"'Data 29 (2)'!AC56","v":0},{"$f":"'Data 30 (2)'!AC56","v":0},{"$f":"'Data 31 (2)'!AC56","v":0},null,null,{"$f":"'Data 31'!AC57","v":0},{"$f":"'Data 29 (2)'!AC57","v":0},{"$f":"'Data 30 (2)'!AC57","v":0},{"$f":"'Data 31 (2)'!AC57","v":0},null,null,{"$f":"'Data 31'!AC58","v":0},{"$f":"'Data 29 (2)'!AC58","v":0},{"$f":"'Data 30 (2)'!AC58","v":0},{"$f":"'Data 31 (2)'!AC58","v":0},null,null,{"$f":"'Data 31'!AC59","v":0},{"$f":"'Data 29 (2)'!AC59","v":0},{"$f":"'Data 30'!AC59","v":0},{"$f":"'Data 31 (2)'!AC59","v":0},null,null,{"$f":"'Data 31'!AC60","v":0},{"$f":"'Data 29 (2)'!AC60","v":0},{"$f":"'Data 30 (2)'!AC60","v":0},{"$f":"'Data 31 (2)'!AC60","v":0}]
[null,{"$f":"SUM(B243:F249)","v":0},null,null,null,null,null,{"$f":"SUM(H243:L249)","v":0},null,null,null,null,null,{"$f":"SUM(N243:R249)","v":0},null,null,null,null,null,{"$f":"SUM(T243:X249)","v":0},null,null,null,null,null,{"$f":"SUM(Z243:AD249)","v":0}]
[]
["K",{"$f":"'Data 1'!AC61","v":0},{"$f":"'Data 2'!AC61","v":0},{"$f":"'Data 3'!AC61","v":0},{"$f":"'Data 4'!AC61","v":0},{"$f":"'Data 5'!AC61","v":0},"L",{"$f":"'Data 1'!AC62","v":0},{"$f":"'Data 2'!AC62","v":0},{"$f":"'Data 3'!AC62","v":0},{"$f":"'Data 4'!AC62","v":0},{"$f":"'Data 5'!AC62","v":0}]
[null,{"$f":"'Data 6'!AC61","v":0},{"$f":"'Data 7'!AC61","v":0},{"$f":"'Data 8'!AC61","v":0},{"$f":"'Data 9'!AC61","v":0},{"$f":"'Data 10'!AC61","v":0},null,{"$f":"'Data 6'!AC62","v":0},{"$f":"'Data 7'!AC62","v":0},{"$f":"'Data 8'!AC62","v":0},{"$f":"'Data 9'!AC62","v":0},{"$f":"'Data 10'!AC62","v":0}]
[null,{"$f":"'Data 11'!AC61","v":0},{"$f":"'Data 12'!AC61","v":0},{"$f":"'Data 13'!AC61","v":0},{"$f":"'Data 14'!AC61","v":0},{"$f":"'Data 15'!AC61","v":0},null,{"$f":"'Data 11'!AC62","v":0},{"$f":"'Data 12'!AC62","v":0},{"$f":"'Data 13'!AC62","v":0},{"$f":"'Data 14'!AC62","v":0},{"$f":"'Data 15'!AC62","v":0}]
[null,{"$f":"'Data 16'!AC61","v":0},{"$f":"'Data 17'!AC61","v":0},{"$f":"'Data 18'!AC61","v":0},{"$f":"'Data 19'!AC61","v":0},{"$f":"'Data 20'!AC61","v":0},null,{"$f":"'Data 16'!AC62","v":0},{"$f":"'Data 17'!AC62","v":0},{"$f":"'Data 18'!AC62","v":0},{"$f":"'Data 19'!AC62","v":0},{"$f":"'Data 20'!AC62","v":0}]
[null,{"$f":"'Data 21'!AC61","v":0},{"$f":"'Data 22'!AC61","v":0},{"$f":"'Data 23'!AC61","v":0},{"$f":"'Data 24'!AC61","v":0},{"$f":"'Data 25'!AC61","v":0},null,{"$f":"'Data 21'!AC62","v":0},{"$f":"'Data 22'!AC62","v":0},{"$f":"'Data 23'!AC62","v":0},{"$f":"'Data 24'!AC62","v":0},{"$f":"'Data 25'!AC62","v":0}]
[null,{"$f":"'Data 26'!AC61","v":0},{"$f":"'Data 27'!AC61","v":0},{"$f":"'Data 28'!AC61","v":0},{"$f":"'Data 29'!AC61","v":0},{"$f":"'Data 30'!AC61","v":0},null,{"$f":"'Data 26'!AC62","v":0},{"$f":"'Data 27'!AC62","v":0},{"$f":"'Data 28'!AC62","v":0},{"$f":"'Data 29'!AC62","v":0},{"$f":"'Data 30'!AC62","v":0}]
[null,{"$f":"'Data 31'!AC61","v":0},{"$f":"'Data 29 (2)'!AC61","v":0},{"$f":"'Data 30 (2)'!AC61","v":0},{"$f":"'Data 31 (2)'!AC61","v":0},null,null,{"$f":"'Data 31'!AC62","v":0},{"$f":"'Data 29 (2)'!AC62","v":0},{"$f":"'Data 30 (2)'!AC62","v":0},{"$f":"'Data 31 (2)'!AC62","v":0}]
[null,{"$f":"SUM(B252:F258)","v":0},null,null,null,null,null,{"$f":"SUM(H252:L258)","v":0}]
[]
["Frequency of Antecedents to Behavior Correlation - Behavior C"]
["A",{"$f":"'Data 1'!AD51","v":0},{"$f":"'Data 2'!AD51","v":0},{"$f":"'Data 3'!AD51","v":0},{"$f":"'Data 4'!AD51","v":0},{"$f":"'Data 5'!AD51","v":0},"B",{"$f":"'Data 1'!AD52","v":0},{"$f":"'Data 2'!AD52","v":0},{"$f":"'Data 3'!AD52","v":0},{"$f":"'Data 4'!AD52","v":0},{"$f":"'Data 5'!AD52","v":0},"C",{"$f":"'Data 1'!AD53","v":0},{"$f":"'Data 2'!AD53","v":0},{"$f":"'Data 3'!AD53","v":0},{"$f":"'Data 4'!AD53","v":0},{"$f":"'Data 5'!AD53","v":0},"D",{"$f":"'Data 1'!AD54","v":0},{"$f":"'Data 2'!AD54","v":0},{"$f":"'Data 3'!AD54","v":0},{"$f":"'Data 4'!AD54","v":0},{"$f":"'Data 5'!AD54","v":0},"E",{"$f":"'Data 1'!AD55","v":0},{"$f":"'Data 2'!AD55","v":0},{"$f":"'Data 3'!AD55","v":0},{"$f":"'Data 4'!AD55","v":0},{"$f":"'Data 5'!AD55","v":0}]
[null,{"$f":"'Data 6'!AD51","v":0},{"$f":"'Data 7'!AD51","v":0},{"$f":"'Data 8'!AD51","v":0},{"$f":"'Data 9'!AD51","v":0},{"$f":"'Data 10'!AD51","v":0},null,{"$f":"'Data 6'!AD52","v":0},{"$f":"'Data 7'!AD52","v":0},{"$f":"'Data 8'!AD52","v":0},{"$f":"'Data 9'!AD52","v":0},{"$f":"'Data 10'!AD52","v":0},null,{"$f":"'Data 6'!AD53","v":0},{"$f":"'Data 7'!AD53","v":0},{"$f":"'Data 8'!AD53","v":0},{"$f":"'Data 9'!AD53","v":0},{"$f":"'Data 10'!AD53","v":0},null,{"$f":"'Data 6'!AD54","v":0},{"$f":"'Data 7'!AD54","v":0},{"$f":"'Data 8'!AD54","v":0},{"$f":"'Data 9'!AD54","v":0},{"$f":"'Data 10'!AD54","v":0},null,{"$f":"'Data 6'!AD55","v":0},{"$f":"'Data 7'!AD55","v":0},{"$f":"'Data 8'!AD55","v":0},{"$f":"'Data 9'!AD55","v":0},{"$f":"'Data 10'!AD55","v":0}]
[null,{"$f":"'Data 11'!AD51","v":0},{"$f":"'Data 12'!AD51","v":0},{"$f":"'Data 13'!AD51","v":0},{"$f":"'Data 14'!AD51","v":0},{"$f":"'Data 15'!AD51","v":0},null,{"$f":"'Data 11'!AD52","v":0},{"$f":"'Data 12'!AD52","v":0},{"$f":"'Data 13'!AD52","v":0},{"$f":"'Data 14'!AD52","v":0},{"$f":"'Data 15'!AD52","v":0},null,{"$f":"'Data 11'!AD53","v":0},{"$f":"'Data 12'!AD53","v":0},{"$f":"'Data 13'!AD53","v":0},{"$f":"'Data 14'!AD53","v":0},{"$f":"'Data 15'!AD53","v":0},null,{"$f":"'Data 11'!AD54","v":0},{"$f":"'Data 12'!AD54","v":0},{"$f":"'Data 13'!AD54","v":0},{"$f":"'Data 14'!AD54","v":0},{"$f":"'Data 15'!AD54","v":0},null,{"$f":"'Data 11'!AD55","v":0},{"$f":"'Data 12'!AD55","v":0},{"$f":"'Data 13'!AD55","v":0},{"$f":"'Data 14'!AD55","v":0},{"$f":"'Data 25'!AD55","v":0}]
[null,{"$f":"'Data 16'!AD51","v":0},{"$f":"'Data 17'!AD51","v":0},{"$f":"'Data 18'!AD51","v":0},{"$f":"'Data 19'!AD51","v":0},{"$f":"'Data 20'!AD51","v":0},null,{"$f":"'Data 16'!AD52","v":0},{"$f":"'Data 17'!AD52","v":0},{"$f":"'Data 18'!AD52","v":0},{"$f":"'Data 19'!AD52","v":0},{"$f":"'Data 20'!AD52","v":0},null,{"$f":"'Data 16'!AD53","v":0},{"$f":"'Data 17'!AD53","v":0},{"$f":"'Data 18'!AD53","v":0},{"$f":"'Data 19'!AD53","v":0},{"$f":"'Data 20'!AD53","v":0},null,{"$f":"'Data 16'!AD54","v":0},{"$f":"'Data 17'!AD54","v":0},{"$f":"'Data 18'!AD54","v":0},{"$f":"'Data 19'!AD54","v":0},{"$f":"'Data 20'!AD54","v":0},null,{"$f":"'Data 16'!AD55","v":0},{"$f":"'Data 17'!AD55","v":0},{"$f":"'Data 18'!AD55","v":0},{"$f":"'Data 19'!AD55","v":0},{"$f":"'Data 20'!AD55","v":0}]
[null,{"$f":"'Data 21'!AD51","v":0},{"$f":"'Data 22'!AD51","v":0},{"$f":"'Data 23'!AD51","v":0},{"$f":"'Data 24'!AD51","v":0},{"$f":"'Data 25'!AD51","v":0},null,{"$f":"'Data 21'!AD52","v":0},{"$f":"'Data 22'!AD52","v":0},{"$f":"'Data 23'!AD52","v":0},{"$f":"'Data 24'!AD52","v":0},{"$f":"'Data 25'!AD52","v":0},null,{"$f":"'Data 21'!AD53","v":0},{"$f":"'Data 22'!AD53","v":0},{"$f":"'Data 23'!AD53","v":0},{"$f":"'Data 24'!AD53","v":0},{"$f":"'Data 25'!AD53","v":0},null,{"$f":"'Data 21'!AD54","v":0},{"$f":"'Data 22'!AD54","v":0},{"$f":"'Data 23'!AD54","v":0},{"$f":"'Data 24'!AD54","v":0},{"$f":"'Data 25'!AD54","v":0},null,{"$f":"'Data 21'!AD55","v":0},{"$f":"'Data 22'!AD55","v":0},{"$f":"'Data 23'!AD55","v":0},{"$f":"'Data 24'!AD55","v":0},{"$f":"'Data 25'!AD55","v":0}]
[null,{"$f":"'Data 26'!AD51","v":0},{"$f":"'Data 27'!AD51","v":0},{"$f":"'Data 28'!AD51","v":0},{"$f":"'Data 29'!AD51","v":0},{"$f":"'Data 30'!AD51","v":0},null,{"$f":"'Data 26'!AD52","v":0},{"$f":"'Data 27'!AD52","v":0},{"$f":"'Data 28'!AD52","v":0},{"$f":"'Data 29'!AD52","v":0},{"$f":"'Data 30'!AD52","v":0},null,{"$f":"'Data 26'!AD53","v":0},{"$f":"'Data 27'!AD53","v":0},{"$f":"'Data 28'!AD53","v":0},{"$f":"'Data 29'!AD53","v":0},{"$f":"'Data 30'!AD53","v":0},null,{"$f":"'Data 26'!AD54","v":0},{"$f":"'Data 27'!AD54","v":0},{"$f":"'Data 28'!AD54","v":0},{"$f":"'Data 29'!AD54","v":0},{"$f":"'Data 30'!AD54","v":0},null,{"$f":"'Data 26'!AD55","v":0},{"$f":"'Data 27'!AD55","v":0},{"$f":"'Data 28'!AD55","v":0},{"$f":"'Data 29'!AD55","v":0},{"$f":"'Data 30'!AD55","v":0}]
[null,{"$f":"'Data 31'!AD51","v":0},{"$f":"'Data 29 (2)'!AD51","v":0},{"$f":"'Data 30 (2)'!AD51","v":0},{"$f":"'Data 31 (2)'!AD51","v":0},null,null,{"$f":"'Data 31'!AD52","v":0},{"$f":"'Data 29 (2)'!AD52","v":0},{"$f":"'Data 30 (2)'!AD52","v":0},{"$f":"'Data 31 (2)'!AD52","v":0},null,null,{"$f":"'Data 31'!AD53","v":0},{"$f":"'Data 29 (2)'!AD53","v":0},{"$f":"'Data 30 (2)'!AD53","v":0},{"$f":"'Data 31 (2)'!AD53","v":0},null,null,{"$f":"'Data 31'!AD54","v":0},{"$f":"'Data 29 (2)'!AD54","v":0},{"$f":"'Data 30 (2)'!AD54","v":0},{"$f":"'Data 31 (2)'!AD54","v":0},null,null,{"$f":"'Data 31'!AD55","v":0},{"$f":"'Data 29 (2)'!AD55","v":0},{"$f":"'Data 30 (2)'!AD55","v":0},{"$f":"'Data 31 (2)'!AD55","v":0}]
["Sum",{"$f":"SUM(B262:F268)","v":0},null,null,null,null,null,{"$f":"SUM(H262:L268)","v":0},null,null,null,null,null,{"$f":"SUM(N262:R268)","v":0},null,null,null,null,null,{"$f":"SUM(T262:X268)","v":0},null,null,null,null,null,{"$f":"SUM(Z262:AD268)","v":0}]
[]
["F",{"$f":"'Data 1'!AD56","v":0},{"$f":"'Data 2'!AD56","v":0},{"$f":"'Data 3'!AD56","v":0},{"$f":"'Data 4'!AD56","v":0},{"$f":"'Data 5'!AD56","v":0},"G",{"$f":"'Data 1'!AD57","v":0},{"$f":"'Data 2'!AD57","v":0},{"$f":"'Data 3'!AD57","v":0},{"$f":"'Data 4'!AD57","v":0},{"$f":"'Data 5'!AD57","v":0},"H",{"$f":"'Data 1'!AD58","v":0},{"$f":"'Data 2'!AD58","v":0},{"$f":"'Data 3'!AD58","v":0},{"$f":"'Data 4'!AD58","v":0},{"$f":"'Data 5'!AD58","v":0},"I",{"$f":"'Data 1'!AD59","v":0},{"$f":"'Data 2'!AD59","v":0},{"$f":"'Data 3'!AD59","v":0},{"$f":"'Data 4'!AD59","v":0},{"$f":"'Data 5'!AD59","v":0},"J",{"$f":"'Data 1'!AD60","v":0},{"$f":"'Data 2'!AD60","v":0},{"$f":"'Data 3'!AD60","v":0},{"$f":"'Data 4'!AD60","v":0},{"$f":"'Data 5'!AD60","v":0}]
[null,{"$f":"'Data 6'!AD56","v":0},{"$f":"'Data 7'!AD56","v":0},{"$f":"'Data 8'!AD56","v":0},{"$f":"'Data 9'!AD56","v":0},{"$f":"'Data 10'!AD56","v":0},null,{"$f":"'Data 6'!AD57","v":0},{"$f":"'Data 7'!AD57","v":0},{"$f":"'Data 8'!AD57","v":0},{"$f":"'Data 9'!AD57","v":0},{"$f":"'Data 10'!AD57","v":0},null,{"$f":"'Data 6'!AD58","v":0},{"$f":"'Data 7'!AD58","v":0},{"$f":"'Data 8'!AD58","v":0},{"$f":"'Data 9'!AD58","v":0},{"$f":"'Data 10'!AD58","v":0},null,{"$f":"'Data 6'!AD59","v":0},{"$f":"'Data 7'!AD59","v":0},{"$f":"'Data 8'!AD59","v":0},{"$f":"'Data 9'!AD59","v":0},{"$f":"'Data 10'!AD59","v":0},null,{"$f":"'Data 6'!AD60","v":0},{"$f":"'Data 7'!AD60","v":0},{"$f":"'Data 8'!AD60","v":0},{"$f":"'Data 9'!AD60","v":0},{"$f":"'Data 10'!AD60","v":0}]
[null,{"$f":"'Data 11'!AD56","v":0},{"$f":"'Data 12'!AD56","v":0},{"$f":"'Data 13'!AD56","v":0},{"$f":"'Data 14'!AD56","v":0},{"$f":"'Data 15'!AD56","v":0},null,{"$f":"'Data 11'!AD57","v":0},{"$f":"'Data 12'!AD57","v":0},{"$f":"'Data 13'!AD57","v":0},{"$f":"'Data 14'!AD57","v":0},{"$f":"'Data 15'!AD57","v":0},null,{"$f":"'Data 11'!AD58","v":0},{"$f":"'Data 12'!AD58","v":0},{"$f":"'Data 13'!AD58","v":0},{"$f":"'Data 14'!AD58","v":0},{"$f":"'Data 15'!AD58","v":0},null,{"$f":"'Data 11'!AD59","v":0},{"$f":"'Data 12'!AD59","v":0},{"$f":"'Data 13'!AD59","v":0},{"$f":"'Data 14'!AD59","v":0},{"$f":"'Data 15'!AD59","v":0},null,{"$f":"'Data 11'!AD60","v":0},{"$f":"'Data 12'!AD60","v":0},{"$f":"'Data 13'!AD60","v":0},{"$f":"'Data 14'!AD60","v":0},{"$f":"'Data 15'!AD60","v":0}]
[null,{"$f":"'Data 16'!AD56","v":0},{"$f":"'Data 17'!AD56","v":0},{"$f":"'Data 18'!AD56","v":0},{"$f":"'Data 19'!AD56","v":0},{"$f":"'Data 20'!AD56","v":0},null,{"$f":"'Data 16'!AD57","v":0},{"$f":"'Data 17'!AD57","v":0},{"$f":"'Data 18'!AD57","v":0},{"$f":"'Data 19'!AD57","v":0},{"$f":"'Data 20'!AD57","v":0},null,{"$f":"'Data 16'!AD58","v":0},{"$f":"'Data 17'!AD58","v":0},{"$f":"'Data 18'!AD58","v":0},{"$f":"'Data 19'!AD58","v":0},{"$f":"'Data 20'!AD58","v":0},null,{"$f":"'Data 16'!AD59","v":0},{"$f":"'Data 17'!AD59","v":0},{"$f":"'Data 18'!AD59","v":0},{"$f":"'Data 19'!AD59","v":0},{"$f":"'Data 20'!AD59","v":0},null,{"$f":"'Data 16'!AD60","v":0},{"$f":"'Data 17'!AD60","v":0},{"$f":"'Data 18'!AD60","v":0},{"$f":"'Data 19'!AD60","v":0},{"$f":"'Data 20'!AD60","v":0}]
[null,{"$f":"'Data 21'!AD56","v":0},{"$f":"'Data 22'!AD56","v":0},{"$f":"'Data 23'!AD56","v":0},{"$f":"'Data 24'!AD56","v":0},{"$f":"'Data 25'!AD56","v":0},null,{"$f":"'Data 21'!AD57","v":0},{"$f":"'Data 22'!AD57","v":0},{"$f":"'Data 23'!AD57","v":0},{"$f":"'Data 24'!AD57","v":0},{"$f":"'Data 25'!AD57","v":0},null,{"$f":"'Data 21'!AD58","v":0},{"$f":"'Data 22'!AD58","v":0},{"$f":"'Data 23'!AD58","v":0},{"$f":"'Data 24'!AD58","v":0},{"$f":"'Data 25'!AD58","v":0},null,{"$f":"'Data 21'!AD59","v":0},{"$f":"'Data 22'!AD59","v":0},{"$f":"'Data 23'!AD59","v":0},{"$f":"'Data 24'!AD59","v":0},{"$f":"'Data 25'!AD59","v":0},null,{"$f":"'Data 21'!AD60","v":0},{"$f":"'Data 22'!AD60","v":0},{"$f":"'Data 23'!AD60","v":0},{"$f":"'Data 24'!AD60","v":0},{"$f":"'Data 25'!AD60","v":0}]
[null,{"$f":"'Data 26'!AD56","v":0},{"$f":"'Data 27'!AD56","v":0},{"$f":"'Data 28'!AD56","v":0},{"$f":"'Data 29'!AD56","v":0},{"$f":"'Data 30'!AD56","v":0},null,{"$f":"'Data 26'!AD57","v":0},{"$f":"'Data 27'!AD57","v":0},{"$f":"'Data 28'!AD57","v":0},{"$f":"'Data 29'!AD57","v":0},{"$f":"'Data 30'!AD57","v":0},null,{"$f":"'Data 26'!AD58","v":0},{"$f":"'Data 27'!AD58","v":0},{"$f":"'Data 28'!AD58","v":0},{"$f":"'Data 29'!AD58","v":0},{"$f":"'Data 30'!AD58","v":0},null,{"$f":"'Data 26'!AD59","v":0},{"$f":"'Data 27'!AD59","v":0},{"$f":"'Data 28'!AD59","v":0},{"$f":"'Data 29'!AD59","v":0},{"$f":"'Data 30'!AD59","v":0},null,{"$f":"'Data 26'!AD60","v":0},{"$f":"'Data 27'!AD60","v":0},{"$f":"'Data 28'!AD60","v":0},{"$f":"'Data 29'!AD60","v":0},{"$f":"'Data 30'!AD60","v":0}]
[null,{"$f":"'Data 31'!AD56","v":0},{"$f":"'Data 29 (2)'!AD56","v":0},{"$f":"'Data 30 (2)'!AD56","v":0},{"$f":"'Data 31 (2)'!AD56","v":0},null,null,{"$f":"'Data 31'!AD57","v":0},{"$f":"'Data 29 (2)'!AD57","v":0},{"$f":"'Data 30 (2)'!AD57","v":0},{"$f":"'Data 31 (2)'!AD57","v":0},null,null,{"$f":"'Data 31'!AD58","v":0},{"$f":"'Data 29 (2)'!AD58","v":0},{"$f":"'Data 30 (2)'!AD58","v":0},{"$f":"'Data 31 (2)'!AD58","v":0},null,null,{"$f":"'Data 31'!AD59","v":0},{"$f":"'Data 29 (2)'!AD59","v":0},{"$f":"'Data 30 (2)'!AD59","v":0},{"$f":"'Data 31 (2)'!AD59","v":0},null,null,{"$f":"'Data 31'!AD60","v":0},{"$f":"'Data 29 (2)'!AD60","v":0},{"$f":"'Data 30 (2)'!AD60","v":0},{"$f":"'Data 31 (2)'!AD60","v":0}]
[null,{"$f":"SUM(B271:F277)","v":0},null,null,null,null,null,{"$f":"SUM(H271:L277)","v":0},null,null,null,null,null,{"$f":"SUM(N271:R277)","v":0},null,null,null,null,null,{"$f":"SUM(T271:X277)","v":0},null,null,null,null,null,{"$f":"SUM(Z271:AD277)","v":0}]
[]
["K",{"$f":"'Data 1'!AD61","v":0},{"$f":"'Data 2'!AD61","v":0},{"$f":"'Data 3'!AD61","v":0},{"$f":"'Data 4'!AD61","v":0},{"$f":"'Data 5'!AD61","v":0},"L",{"$f":"'Data 1'!AD62","v":0},{"$f":"'Data 2'!AD62","v":0},{"$f":"'Data 3'!AD62","v":0},{"$f":"'Data 4'!AD62","v":0},{"$f":"'Data 5'!AD62","v":0}]
[null,{"$f":"'Data 6'!AD61","v":0},{"$f":"'Data 7'!AD61","v":0},{"$f":"'Data 8'!AD61","v":0},{"$f":"'Data 9'!AD61","v":0},{"$f":"'Data 10'!AD61","v":0},null,{"$f":"'Data 6'!AD62","v":0},{"$f":"'Data 7'!AD62","v":0},{"$f":"'Data 8'!AD62","v":0},{"$f":"'Data 9'!AD62","v":0},{"$f":"'Data 10'!AD62","v":0}]
[null,{"$f":"'Data 11'!AD61","v":0},{"$f":"'Data 12'!AD61","v":0},{"$f":"'Data 13'!AD61","v":0},{"$f":"'Data 14'!AD61","v":0},{"$f":"'Data 15'!AD61","v":0},null,{"$f":"'Data 11'!AD62","v":0},{"$f":"'Data 12'!AD62","v":0},{"$f":"'Data 13'!AD62","v":0},{"$f":"'Data 14'!AD62","v":0},{"$f":"'Data 15'!AD62","v":0}]
[null,{"$f":"'Data 16'!AD61","v":0},{"$f":"'Data 17'!AD61","v":0},{"$f":"'Data 18'!AD61","v":0},{"$f":"'Data 19'!AD61","v":0},{"$f":"'Data 20'!AD61","v":0},null,{"$f":"'Data 16'!AD62","v":0},{"$f":"'Data 17'!AD62","v":0},{"$f":"'Data 18'!AD62","v":0},{"$f":"'Data 19'!AD62","v":0},{"$f":"'Data 20'!AD62","v":0}]
[null,{"$f":"'Data 21'!AD61","v":0},{"$f":"'Data 22'!AD61","v":0},{"$f":"'Data 23'!AD61","v":0},{"$f":"'Data 24'!AD61","v":0},{"$f":"'Data 25'!AD61","v":0},null,{"$f":"'Data 21'!AD62","v":0},{"$f":"'Data 22'!AD62","v":0},{"$f":"'Data 23'!AD62","v":0},{"$f":"'Data 24'!AD62","v":0},{"$f":"'Data 25'!AD62","v":0}]
[null,{"$f":"'Data 26'!AD61","v":0},{"$f":"'Data 27'!AD61","v":0},{"$f":"'Data 28'!AD61","v":0},{"$f":"'Data 29'!AD61","v":0},{"$f":"'Data 30'!AD61","v":0},null,{"$f":"'Data 26'!AD62","v":0},{"$f":"'Data 27'!AD62","v":0},{"$f":"'Data 28'!AD62","v":0},{"$f":"'Data 29'!AD62","v":0},{"$f":"'Data 30'!AD62","v":0}]
[null,{"$f":"'Data 31'!AD61","v":0},{"$f":"'Data 29 (2)'!AD61","v":0},{"$f":"'Data 30 (2)'!AD61","v":0},{"$f":"'Data 31 (2)'!AD61","v":0},null,null,{"$f":"'Data 31'!AD62","v":0},{"$f":"'Data 29 (2)'!AD62","v":0},{"$f":"'Data 30 (2)'!AD62","v":0},{"$f":"'Data 31 (2)'!AD62","v":0}]
[null,{"$f":"SUM(B280:F286)","v":0},null,null,null,null,null,{"$f":"SUM(H280:L286)","v":0}]
[]
["Frequency of Consequences to Behavior Correlation - Behavior A"]
["A",{"$f":"'Data 1'!W65","v":0},{"$f":"'Data 2'!W65","v":0},{"$f":"'Data 3'!W65","v":0},{"$f":"'Data 4'!W65","v":0},{"$f":"'Data 5'!W65","v":0},"B",{"$f":"'Data 1'!W66","v":0},{"$f":"'Data 2'!W66","v":0},{"$f":"'Data 3'!W66","v":0},{"$f":"'Data 4'!W66","v":0},{"$f":"'Data 5'!W66","v":0},"C",{"$f":"'Data 1'!W67","v":0},{"$f":"'Data 2'!W67","v":0},{"$f":"'Data 3'!W67","v":0},{"$f":"'Data 4'!W67","v":0},{"$f":"'Data 5'!W67","v":0},"D",{"$f":"'Data 1'!W68","v":0},{"$f":"'Data 2'!W68","v":0},{"$f":"'Data 3'!W68","v":0},{"$f":"'Data 4'!W68","v":0},{"$f":"'Data 5'!W68","v":0},"E",{"$f":"'Data 1'!W69","v":0},{"$f":"'Data 2'!W69","v":0},{"$f":"'Data 3'!W69","v":0},{"$f":"'Data 4'!W69","v":0},{"$f":"'Data 5'!W69","v":0}]
[null,{"$f":"'Data 6'!W65","v":0},{"$f":"'Data 7'!W65","v":0},{"$f":"'Data 8'!W65","v":0},{"$f":"'Data 9'!W65","v":0},{"$f":"'Data 10'!W65","v":0},null,{"$f":"'Data 6'!W66","v":0},{"$f":"'Data 7'!W66","v":0},{"$f":"'Data 8'!W66","v":0},{"$f":"'Data 9'!W66","v":0},{"$f":"'Data 10'!W66","v":0},null,{"$f":"'Data 6'!W67","v":0},{"$f":"'Data 7'!W67","v":0},{"$f":"'Data 8'!W67","v":0},{"$f":"'Data 9'!W67","v":0},{"$f":"'Data 10'!W67","v":0},null,{"$f":"'Data 6'!W68","v":0},{"$f":"'Data 7'!W68","v":0},{"$f":"'Data 8'!W68","v":0},{"$f":"'Data 9'!W68","v":0},{"$f":"'Data 10'!W68","v":0},null,{"$f":"'Data 6'!W69","v":0},{"$f":"'Data 7'!W69","v":0},{"$f":"'Data 8'!W69","v":0},{"$f":"'Data 9'!W69","v":0},{"$f":"'Data 10'!W69","v":0}]
[null,{"$f":"'Data 11'!W65","v":0},{"$f":"'Data 12'!W65","v":0},{"$f":"'Data 13'!W65","v":0},{"$f":"'Data 14'!W65","v":0},{"$f":"'Data 15'!W65","v":0},null,{"$f":"'Data 11'!W66","v":0},{"$f":"'Data 12'!W66","v":0},{"$f":"'Data 13'!W66","v":0},{"$f":"'Data 14'!W66","v":0},{"$f":"'Data 15'!W66","v":0},null,{"$f":"'Data 11'!W67","v":0},{"$f":"'Data 12'!W67","v":0},{"$f":"'Data 13'!W67","v":0},{"$f":"'Data 14'!W67","v":0},{"$f":"'Data 15'!W67","v":0},null,{"$f":"'Data 11'!W68","v":0},{"$f":"'Data 12'!W68","v":0},{"$f":"'Data 13'!W68","v":0},{"$f":"'Data 14'!W68","v":0},{"$f":"'Data 15'!W68","v":0},null,{"$f":"'Data 11'!W69","v":0},{"$f":"'Data 12'!W69","v":0},{"$f":"'Data 13'!W69","v":0},{"$f":"'Data 14'!W69","v":0},{"$f":"'Data 15'!W69","v":0}]
[null,{"$f":"'Data 16'!W65","v":0},{"$f":"'Data 17'!W65","v":0},{"$f":"'Data 18'!W65","v":0},{"$f":"'Data 19'!W65","v":0},{"$f":"'Data 20'!W65","v":0},null,{"$f":"'Data 16'!W66","v":0},{"$f":"'Data 17'!W66","v":0},{"$f":"'Data 18'!W66","v":0},{"$f":"'Data 19'!W66","v":0},{"$f":"'Data 20'!W66","v":0},null,{"$f":"'Data 16'!W67","v":0},{"$f":"'Data 17'!W67","v":0},{"$f":"'Data 18'!W67","v":0},{"$f":"'Data 19'!W67","v":0},{"$f":"'Data 20'!W67","v":0},null,{"$f":"'Data 16'!W68","v":0},{"$f":"'Data 17'!W68","v":0},{"$f":"'Data 18'!W68","v":0},{"$f":"'Data 19'!W68","v":0},{"$f":"'Data 20'!W68","v":0},null,{"$f":"'Data 16'!W69","v":0},{"$f":"'Data 17'!W69","v":0},{"$f":"'Data 18'!W69","v":0},{"$f":"'Data 19'!W69","v":0},{"$f":"'Data 20'!W69","v":0}]
[null,{"$f":"'Data 21'!W65","v":0},{"$f":"'Data 22'!W65","v":0},{"$f":"'Data 23'!W65","v":0},{"$f":"'Data 24'!W65","v":0},{"$f":"'Data 25'!W65","v":0},null,{"$f":"'Data 21'!W66","v":0},{"$f":"'Data 22'!W66","v":0},{"$f":"'Data 23'!W66","v":0},{"$f":"'Data 24'!W66","v":0},{"$f":"'Data 25'!W66","v":0},null,{"$f":"'Data 21'!W67","v":0},{"$f":"'Data 22'!W67","v":0},{"$f":"'Data 23'!W67","v":0},{"$f":"'Data 24'!W67","v":0},{"$f":"'Data 25'!W67","v":0},null,{"$f":"'Data 21'!W68","v":0},{"$f":"'Data 22'!W68","v":0},{"$f":"'Data 23'!W68","v":0},{"$f":"'Data 24'!W68","v":0},{"$f":"'Data 25'!W68","v":0},null,{"$f":"'Data 21'!W69","v":0},{"$f":"'Data 22'!W69","v":0},{"$f":"'Data 23'!W69","v":0},{"$f":"'Data 24'!W69","v":0},{"$f":"'Data 25'!W69","v":0}]
[null,{"$f":"'Data 26'!W65","v":0},{"$f":"'Data 27'!W65","v":0},{"$f":"'Data 28'!W65","v":0},{"$f":"'Data 29'!W65","v":0},{"$f":"'Data 30'!W65","v":0},null,{"$f":"'Data 26'!W66","v":0},{"$f":"'Data 27'!W66","v":0},{"$f":"'Data 28'!W66","v":0},{"$f":"'Data 29'!W66","v":0},{"$f":"'Data 30'!W66","v":0},null,{"$f":"'Data 26'!W67","v":0},{"$f":"'Data 27'!W67","v":0},{"$f":"'Data 28'!W67","v":0},{"$f":"'Data 29'!W67","v":0},{"$f":"'Data 30'!W67","v":0},null,{"$f":"'Data 26'!W68","v":0},{"$f":"'Data 27'!W68","v":0},{"$f":"'Data 28'!W68","v":0},{"$f":"'Data 29'!W68","v":0},{"$f":"'Data 30'!W68","v":0},null,{"$f":"'Data 26'!W69","v":0},{"$f":"'Data 27'!W69","v":0},{"$f":"'Data 28'!W69","v":0},{"$f":"'Data 29'!W69","v":0},{"$f":"'Data 30'!W69","v":0}]
[null,{"$f":"'Data 31'!W65","v":0},{"$f":"'Data 29 (2)'!W65","v":0},{"$f":"'Data 30 (2)'!W65","v":0},{"$f":"'Data 31 (2)'!W65","v":0},null,null,{"$f":"'Data 31'!W66","v":0},{"$f":"'Data 29 (2)'!W66","v":0},{"$f":"'Data 30 (2)'!W66","v":0},{"$f":"'Data 31 (2)'!W66","v":0},null,null,{"$f":"'Data 31'!W67","v":0},{"$f":"'Data 29 (2)'!W67","v":0},{"$f":"'Data 30 (2)'!W67","v":0},{"$f":"'Data 31 (2)'!W67","v":0},null,null,{"$f":"'Data 31'!W68","v":0},{"$f":"'Data 29 (2)'!W68","v":0},{"$f":"'Data 30 (2)'!W68","v":0},{"$f":"'Data 31 (2)'!W68","v":0},null,null,{"$f":"'Data 31'!W69","v":0},{"$f":"'Data 29 (2)'!W69","v":0},{"$f":"'Data 30 (2)'!W69","v":0},{"$f":"'Data 31 (2)'!W69","v":0}]
["Sum",{"$f":"SUM(B290:F296)","v":0},null,null,null,null,null,{"$f":"SUM(H290:L296)","v":0},null,null,null,null,null,{"$f":"SUM(N290:R296)","v":0},null,null,null,null,null,{"$f":"SUM(T290:X296)","v":0},null,null,null,null,null,{"$f":"SUM(Z290:AD296)","v":0}]
[]
["F",{"$f":"'Data 1'!W70","v":0},{"$f":"'Data 2'!W70","v":0},{"$f":"'Data 3'!W70","v":0},{"$f":"'Data 4'!W70","v":0},{"$f":"'Data 5'!W70","v":0},"G",{"$f":"'Data 1'!W71","v":0},{"$f":"'Data 2'!W71","v":0},{"$f":"'Data 3'!W71","v":0},{"$f":"'Data 4'!W71","v":0},{"$f":"'Data 5'!W71","v":0},"H",{"$f":"'Data 1'!W72","v":0},{"$f":"'Data 2'!W72","v":0},{"$f":"'Data 3'!W72","v":0},{"$f":"'Data 4'!W72","v":0},{"$f":"'Data 5'!W72","v":0},"I",{"$f":"'Data 1'!W73","v":0},{"$f":"'Data 2'!W73","v":0},{"$f":"'Data 3'!W73","v":0},{"$f":"'Data 4'!W73","v":0},{"$f":"'Data 5'!W73","v":0},"J",{"$f":"'Data 1'!W74","v":0},{"$f":"'Data 2'!W74","v":0},{"$f":"'Data 3'!W74","v":0},{"$f":"'Data 4'!W74","v":0},{"$f":"'Data 5'!W74","v":0}]
[null,{"$f":"'Data 6'!W70","v":0},{"$f":"'Data 7'!W70","v":0},{"$f":"'Data 8'!W70","v":0},{"$f":"'Data 9'!W70","v":0},{"$f":"'Data 10'!W70","v":0},null,{"$f":"'Data 6'!W71","v":0},{"$f":"'Data 7'!W71","v":0},{"$f":"'Data 8'!W71","v":0},{"$f":"'Data 9'!W71","v":0},{"$f":"'Data 10'!W71","v":0},null,{"$f":"'Data 6'!W72","v":0},{"$f":"'Data 7'!W72","v":0},{"$f":"'Data 8'!W72","v":0},{"$f":"'Data 9'!W72","v":0},{"$f":"'Data 10'!W72","v":0},null,{"$f":"'Data 6'!W73","v":0},{"$f":"'Data 7'!W73","v":0},{"$f":"'Data 8'!W73","v":0},{"$f":"'Data 9'!W73","v":0},{"$f":"'Data 10'!W73","v":0},null,{"$f":"'Data 6'!W74","v":0},{"$f":"'Data 7'!W74","v":0},{"$f":"'Data 8'!W74","v":0},{"$f":"'Data 9'!W74","v":0},{"$f":"'Data 10'!W74","v":0}]
[null,{"$f":"'Data 11'!W70","v":0},{"$f":"'Data 12'!W70","v":0},{"$f":"'Data 13'!W70","v":0},{"$f":"'Data 14'!W70","v":0},{"$f":"'Data 15'!W70","v":0},null,{"$f":"'Data 11'!W71","v":0},{"$f":"'Data 12'!W71","v":0},{"$f":"'Data 13'!W71","v":0},{"$f":"'Data 14'!W71","v":0},{"$f":"'Data 15'!W71","v":0},null,{"$f":"'Data 11'!W72","v":0},{"$f":"'Data 12'!W72","v":0},{"$f":"'Data 13'!W72","v":0},{"$f":"'Data 14'!W72","v":0},{"$f":"'Data 15'!W72","v":0},null,{"$f":"'Data 11'!W73","v":0},{"$f":"'Data 12'!W73","v":0},{"$f":"'Data 13'!W73","v":0},{"$f":"'Data 14'!W73","v":0},{"$f":"'Data 15'!W73","v":0},null,{"$f":"'Data 11'!W74","v":0},{"$f":"'Data 12'!W74","v":0},{"$f":"'Data 13'!W74","v":0},{"$f":"'Data 14'!W74","v":0},{"$f":"'Data 15'!W74","v":0}]
[null,{"$f":"'Data 16'!W70","v":0},{"$f":"'Data 17'!W70","v":0},{"$f":"'Data 18'!W70","v":0},{"$f":"'Data 19'!W70","v":0},{"$f":"'Data 20'!W70","v":0},null,{"$f":"'Data 16'!W71","v":0},{"$f":"'Data 17'!W71","v":0},{"$f":"'Data 18'!W71","v":0},{"$f":"'Data 19'!W71","v":0},{"$f":"'Data 20'!W71","v":0},null,{"$f":"'Data 16'!W72","v":0},{"$f":"'Data 17'!W72","v":0},{"$f":"'Data 18'!W72","v":0},{"$f":"'Data 19'!W72","v":0},{"$f":"'Data 20'!W72","v":0},null,{"$f":"'Data 16'!W73","v":0},{"$f":"'Data 17'!W73","v":0},{"$f":"'Data 18'!W73","v":0},{"$f":"'Data 19'!W73","v":0},{"$f":"'Data 20'!W73","v":0},null,{"$f":"'Data 16'!W74","v":0},{"$f":"'Data 17'!W74","v":0},{"$f":"'Data 18'!W74","v":0},{"$f":"'Data 19'!W74","v":0},{"$f":"'Data 20'!W74","v":0}]
[null,{"$f":"'Data 21'!W70","v":0},{"$f":"'Data 22'!W70","v":0},{"$f":"'Data 23'!W70","v":0},{"$f":"'Data 24'!W70","v":0},{"$f":"'Data 25'!W70","v":0},null,{"$f":"'Data 21'!W71","v":0},{"$f":"'Data 22'!W71","v":0},{"$f":"'Data 23'!W71","v":0},{"$f":"'Data 24'!W71","v":0},{"$f":"'Data 25'!W71","v":0},null,{"$f":"'Data 21'!W72","v":0},{"$f":"'Data 22'!W72","v":0},{"$f":"'Data 23'!W72","v":0},{"$f":"'Data 24'!W72","v":0},{"$f":"'Data 25'!W72","v":0},null,{"$f":"'Data 21'!W73","v":0},{"$f":"'Data 22'!W73","v":0},{"$f":"'Data 23'!W73","v":0},{"$f":"'Data 24'!W73","v":0},{"$f":"'Data 25'!W73","v":0},null,{"$f":"'Data 21'!W74","v":0},{"$f":"'Data 22'!W74","v":0},{"$f":"'Data 23'!W74","v":0},{"$f":"'Data 24'!W74","v":0},{"$f":"'Data 25'!W74","v":0}]
[null,{"$f":"'Data 26'!W70","v":0},{"$f":"'Data 27'!W70","v":0},{"$f":"'Data 28'!W70","v":0},{"$f":"'Data 29'!W70","v":0},{"$f":"'Data 30'!W70","v":0},null,{"$f":"'Data 26'!W71","v":0},{"$f":"'Data 27'!W71","v":0},{"$f":"'Data 28'!W71","v":0},{"$f":"'Data 29'!W71","v":0},{"$f":"'Data 30'!W71","v":0},null,{"$f":"'Data 26'!W72","v":0},{"$f":"'Data 27'!W72","v":0},{"$f":"'Data 28'!W72","v":0},{"$f":"'Data 29'!W72","v":0},{"$f":"'Data 30'!W72","v":0},null,{"$f":"'Data 26'!W73","v":0},{"$f":"'Data 27'!W73","v":0},{"$f":"'Data 28'!W73","v":0},{"$f":"'Data 29'!W73","v":0},{"$f":"'Data 30'!W73","v":0},null,{"$f":"'Data 26'!W74","v":0},{"$f":"'Data 27'!W74","v":0},{"$f":"'Data 28'!W74","v":0},{"$f":"'Data 29'!W74","v":0},{"$f":"'Data 30'!W74","v":0}]
[null,{"$f":"'Data 31'!W70","v":0},{"$f":"'Data 29 (2)'!W70","v":0},{"$f":"'Data 30 (2)'!W70","v":0},{"$f":"'Data 31 (2)'!W70","v":0},null,null,{"$f":"'Data 31'!W71","v":0},{"$f":"'Data 29 (2)'!W71","v":0},{"$f":"'Data 30 (2)'!W71","v":0},{"$f":"'Data 31 (2)'!W71","v":0},null,null,{"$f":"'Data 31'!W72","v":0},{"$f":"'Data 29 (2)'!W72","v":0},{"$f":"'Data 30 (2)'!W72","v":0},{"$f":"'Data 31 (2)'!W72","v":0},null,null,{"$f":"'Data 31'!W73","v":0},{"$f":"'Data 29 (2)'!W73","v":0},{"$f":"'Data 30 (2)'!W73","v":0},{"$f":"'Data 31 (2)'!W73","v":0},null,null,{"$f":"'Data 31'!W74","v":0},{"$f":"'Data 29 (2)'!W74","v":0},{"$f":"'Data 30 (2)'!W74","v":0},{"$f":"'Data 31 (2)'!W74","v":0}]
[null,{"$f":"SUM(B299:F305)","v":0},null,null,null,null,null,{"$f":"SUM(H299:L305)","v":0},null,null,null,null,null,{"$f":"SUM(N299:R305)","v":0},null,null,null,null,null,{"$f":"SUM(T299:X305)","v":0},null,null,null,null,null,{"$f":"SUM(Z299:AD305)","v":0}]
[]
["K",{"$f":"'Data 1'!W75","v":0},{"$f":"'Data 2'!W75","v":0},{"$f":"'Data 3'!W75","v":0},{"$f":"'Data 4'!W75","v":0},{"$f":"'Data 5'!W75","v":0},"L",{"$f":"'Data 1'!W76","v":0},{"$f":"'Data 2'!W76","v":0},{"$f":"'Data 3'!W76","v":0},{"$f":"'Data 4'!W76","v":0},{"$f":"'Data 5'!W76","v":0},null,null,null,null,"Consequence to Behavior "]
[null,{"$f":"'Data 6'!W75","v":0},{"$f":"'Data 7'!W75","v":0},{"$f":"'Data 8'!W75","v":0},{"$f":"'Data 9'!W75","v":0},{"$f":"'Data 10'!W75","v":0},null,{"$f":"'Data 6'!W76","v":0},{"$f":"'Data 7'!W76","v":0},{"$f":"'Data 8'!W76","v":0},{"$f":"'Data 9'!W76","v":0},{"$f":"'Data 10'!W76","v":0},null,null,"A","B","C","D","E","F","G","H","I","J","K","L"]
[null,{"$f":"'Data 11'!W75","v":0},{"$f":"'Data 12'!W75","v":0},{"$f":"'Data 13'!W75","v":0},{"$f":"'Data 14'!W75","v":0},{"$f":"'Data 15'!W75","v":0},null,{"$f":"'Data 11'!W76","v":0},{"$f":"'Data 12'!W76","v":0},{"$f":"'Data 13'!W76","v":0},{"$f":"'Data 14'!W76","v":0},{"$f":"'Data 15'!W76","v":0},null,{"$f":"Criteria!G4","v":0},{"$f":"B297","v":0},{"$f":"H297","v":0},{"$f":"N297","v":0},{"$f":"T297","v":0},{"$f":"Z297","v":0},{"$f":"B306","v":0},{"$f":"H306","v":0},{"$f":"N306","v":0},{"$f":"T306","v":0},{"$f":"Z306","v":0},{"$f":"B315","v":0},{"$f":"H315","v":0}]
[null,{"$f":"'Data 16'!W75","v":0},{"$f":"'Data 17'!W75","v":0},{"$f":"'Data 18'!W75","v":0},{"$f":"'Data 19'!W75","v":0},{"$f":"'Data 20'!W75","v":0},null,{"$f":"'Data 16'!W76","v":0},{"$f":"'Data 17'!W76","v":0},{"$f":"'Data 18'!W76","v":0},{"$f":"'Data 19'!W76","v":0},{"$f":"'Data 20'!W76","v":0}]
[null,{"$f":"'Data 21'!W75","v":0},{"$f":"'Data 22'!W75","v":0},{"$f":"'Data 23'!W75","v":0},{"$f":"'Data 24'!W75","v":0},{"$f":"'Data 25'!W75","v":0},null,{"$f":"'Data 21'!W76","v":0},{"$f":"'Data 22'!W76","v":0},{"$f":"'Data 23'!W76","v":0},{"$f":"'Data 24'!W76","v":0},{"$f":"'Data 25'!W76","v":0},null,null,"A","B","C","D","E","F","G","H","I","J","K","L"]
[null,{"$f":"'Data 26'!W75","v":0},{"$f":"'Data 27'!W75","v":0},{"$f":"'Data 28'!W75","v":0},{"$f":"'Data 29'!W75","v":0},{"$f":"'Data 30'!W75","v":0},null,{"$f":"'Data 26'!W76","v":0},{"$f":"'Data 27'!W76","v":0},{"$f":"'Data 28'!W76","v":0},{"$f":"'Data 29'!W76","v":0},{"$f":"'Data 30'!W76","v":0},null,{"$f":"Criteria!G5","v":0},{"$f":"B325","v":0},{"$f":"H325","v":0},{"$f":"N325","v":0},{"$f":"T325","v":0},{"$f":"Z325","v":0},{"$f":"B334","v":0},{"$f":"H334","v":0},{"$f":"N334","v":0},{"$f":"T334","v":0},{"$f":"Z334","v":0},{"$f":"B343","v":0},{"$f":"H343","v":0}]
[null,{"$f":"'Data 31'!W75","v":0},{"$f":"'Data 29 (2)'!W75","v":0},{"$f":"'Data 30 (2)'!W75","v":0},{"$f":"'Data 31 (2)'!W75","v":0},null,null,{"$f":"'Data 31'!W76","v":0},{"$f":"'Data 29 (2)'!W76","v":0},{"$f":"'Data 30 (2)'!W76","v":0},{"$f":"'Data 31 (2)'!W76","v":0},null,null,null,"A","B","C","D","E","F","G","H","I","J","K","L"]
[null,{"$f":"SUM(B308:F314)","v":0},null,null,null,null,null,{"$f":"SUM(H308:L314)","v":0},null,null,null,null,null,{"$f":"Criteria!G6","v":0},{"$f":"B353","v":0},{"$f":"H353","v":0},{"$f":"N353","v":0},{"$f":"T353","v":0},{"$f":"Z353","v":0},{"$f":"B362","v":0},{"$f":"H362","v":0},{"$f":"N362","v":0},{"$f":"T362","v":0},{"$f":"Z362","v":0},{"$f":"B371","v":0},{"$f":"H371","v":0}]
[]
["Frequency of Consequences to Behavior Correlation - Behavior B"]
["A",{"$f":"'Data 1'!X65","v":0},{"$f":"'Data 2'!X65","v":0},{"$f":"'Data 3'!X65","v":0},{"$f":"'Data 4'!X65","v":0},{"$f":"'Data 5'!X65","v":0},"B",{"$f":"'Data 1'!X66","v":0},{"$f":"'Data 2'!X66","v":0},{"$f":"'Data 3'!X66","v":0},{"$f":"'Data 4'!X66","v":0},{"$f":"'Data 5'!X66","v":0},"C",{"$f":"'Data 1'!X67","v":0},{"$f":"'Data 2'!X67","v":0},{"$f":"'Data 3'!X67","v":0},{"$f":"'Data 4'!X67","v":0},{"$f":"'Data 5'!X67","v":0},"D",{"$f":"'Data 1'!X68","v":0},{"$f":"'Data 2'!X68","v":0},{"$f":"'Data 3'!X68","v":0},{"$f":"'Data 4'!X68","v":0},{"$f":"'Data 5'!X68","v":0},"E",{"$f":"'Data 1'!X69","v":0},{"$f":"'Data 2'!X69","v":0},{"$f":"'Data 3'!X69","v":0},{"$f":"'Data 4'!X69","v":0},{"$f":"'Data 5'!X69","v":0}]
[null,{"$f":"'Data 6'!X65","v":0},{"$f":"'Data 7'!X65","v":0},{"$f":"'Data 8'!X65","v":0},{"$f":"'Data 9'!X65","v":0},{"$f":"'Data 10'!X65","v":0},null,{"$f":"'Data 6'!X66","v":0},{"$f":"'Data 7'!X66","v":0},{"$f":"'Data 8'!X66","v":0},{"$f":"'Data 9'!X66","v":0},{"$f":"'Data 10'!X66","v":0},null,{"$f":"'Data 6'!X67","v":0},{"$f":"'Data 7'!X67","v":0},{"$f":"'Data 8'!X67","v":0},{"$f":"'Data 9'!X67","v":0},{"$f":"'Data 10'!X67","v":0},null,{"$f":"'Data 6'!X68","v":0},{"$f":"'Data 7'!X68","v":0},{"$f":"'Data 8'!X68","v":0},{"$f":"'Data 9'!X68","v":0},{"$f":"'Data 10'!X68","v":0},null,{"$f":"'Data 6'!X69","v":0},{"$f":"'Data 7'!X69","v":0},{"$f":"'Data 8'!X69","v":0},{"$f":"'Data 9'!X69","v":0},{"$f":"'Data 10'!X69","v":0}]
[null,{"$f":"'Data 11'!X65","v":0},{"$f":"'Data 12'!X65","v":0},{"$f":"'Data 13'!X65","v":0},{"$f":"'Data 14'!X65","v":0},{"$f":"'Data 15'!X65","v":0},null,{"$f":"'Data 11'!X66","v":0},{"$f":"'Data 12'!X66","v":0},{"$f":"'Data 13'!X66","v":0},{"$f":"'Data 14'!X66","v":0},{"$f":"'Data 15'!X66","v":0},null,{"$f":"'Data 11'!X67","v":0},{"$f":"'Data 12'!X67","v":0},{"$f":"'Data 13'!X67","v":0},{"$f":"'Data 14'!X67","v":0},{"$f":"'Data 15'!X67","v":0},null,{"$f":"'Data 11'!X68","v":0},{"$f":"'Data 12'!X68","v":0},{"$f":"'Data 13'!X68","v":0},{"$f":"'Data 14'!X68","v":0},{"$f":"'Data 15'!X68","v":0},null,{"$f":"'Data 11'!X69","v":0},{"$f":"'Data 12'!X69","v":0},{"$f":"'Data 13'!X69","v":0},{"$f":"'Data 14'!X69","v":0},{"$f":"'Data 15'!X69","v":0}]
[null,{"$f":"'Data 16'!X65","v":0},{"$f":"'Data 17'!X65","v":0},{"$f":"'Data 18'!X65","v":0},{"$f":"'Data 19'!X65","v":0},{"$f":"'Data 20'!X65","v":0},null,{"$f":"'Data 16'!X66","v":0},{"$f":"'Data 17'!X66","v":0},{"$f":"'Data 18'!X66","v":0},{"$f":"'Data 19'!X66","v":0},{"$f":"'Data 20'!X66","v":0},null,{"$f":"'Data 16'!X67","v":0},{"$f":"'Data 17'!X67","v":0},{"$f":"'Data 18'!X67","v":0},{"$f":"'Data 19'!X67","v":0},{"$f":"'Data 20'!X67","v":0},null,{"$f":"'Data 16'!X68","v":0},{"$f":"'Data 17'!X68","v":0},{"$f":"'Data 18'!X68","v":0},{"$f":"'Data 19'!X68","v":0},{"$f":"'Data 20'!X68","v":0},null,{"$f":"'Data 16'!X69","v":0},{"$f":"'Data 17'!X69","v":0},{"$f":"'Data 18'!X69","v":0},{"$f":"'Data 19'!X69","v":0},{"$f":"'Data 20'!X69","v":0}]
[null,{"$f":"'Data 21'!X65","v":0},{"$f":"'Data 22'!X65","v":0},{"$f":"'Data 23'!X65","v":0},{"$f":"'Data 24'!X65","v":0},{"$f":"'Data 25'!X65","v":0},null,{"$f":"'Data 21'!X66","v":0},{"$f":"'Data 22'!X66","v":0},{"$f":"'Data 23'!X66","v":0},{"$f":"'Data 24'!X66","v":0},{"$f":"'Data 25'!X66","v":0},null,{"$f":"'Data 21'!X67","v":0},{"$f":"'Data 22'!X67","v":0},{"$f":"'Data 23'!X67","v":0},{"$f":"'Data 24'!X67","v":0},{"$f":"'Data 25'!X67","v":0},null,{"$f":"'Data 21'!X68","v":0},{"$f":"'Data 22'!X68","v":0},{"$f":"'Data 23'!X68","v":0},{"$f":"'Data 24'!X68","v":0},{"$f":"'Data 25'!X68","v":0},null,{"$f":"'Data 21'!X69","v":0},{"$f":"'Data 22'!X69","v":0},{"$f":"'Data 23'!X69","v":0},{"$f":"'Data 24'!X69","v":0},{"$f":"'Data 25'!X69","v":0}]
[null,{"$f":"'Data 26'!X65","v":0},{"$f":"'Data 27'!X65","v":0},{"$f":"'Data 28'!X65","v":0},{"$f":"'Data 29'!X65","v":0},{"$f":"'Data 30'!X65","v":0},null,{"$f":"'Data 26'!X66","v":0},{"$f":"'Data 27'!X66","v":0},{"$f":"'Data 28'!X66","v":0},{"$f":"'Data 29'!X66","v":0},{"$f":"'Data 30'!X66","v":0},null,{"$f":"'Data 26'!X67","v":0},{"$f":"'Data 27'!X67","v":0},{"$f":"'Data 28'!X67","v":0},{"$f":"'Data 29'!X67","v":0},{"$f":"'Data 30'!X67","v":0},null,{"$f":"'Data 26'!X68","v":0},{"$f":"'Data 27'!X68","v":0},{"$f":"'Data 28'!X68","v":0},{"$f":"'Data 29'!X68","v":0},{"$f":"'Data 30'!X68","v":0},null,{"$f":"'Data 26'!X69","v":0},{"$f":"'Data 27'!X69","v":0},{"$f":"'Data 28'!X69","v":0},{"$f":"'Data 29'!X69","v":0},{"$f":"'Data 30'!X69","v":0}]
[null,{"$f":"'Data 31'!X65","v":0},{"$f":"'Data 29 (2)'!X65","v":0},{"$f":"'Data 30 (2)'!X65","v":0},{"$f":"'Data 31 (2)'!X65","v":0},null,null,{"$f":"'Data 31'!X66","v":0},{"$f":"'Data 29 (2)'!X66","v":0},{"$f":"'Data 30 (2)'!X66","v":0},{"$f":"'Data 31 (2)'!X66","v":0},null,null,{"$f":"'Data 31'!X67","v":0},{"$f":"'Data 29 (2)'!X67","v":0},{"$f":"'Data 30 (2)'!X67","v":0},{"$f":"'Data 31 (2)'!X67","v":0},null,null,{"$f":"'Data 31'!X68","v":0},{"$f":"'Data 29 (2)'!X68","v":0},{"$f":"'Data 30 (2)'!X68","v":0},{"$f":"'Data 31 (2)'!X68","v":0},null,null,{"$f":"'Data 31'!X69","v":0},{"$f":"'Data 29 (2)'!X69","v":0},{"$f":"'Data 30 (2)'!X69","v":0},{"$f":"'Data 31 (2)'!X69","v":0}]
["Sum",{"$f":"SUM(B318:F324)","v":0},null,null,null,null,null,{"$f":"SUM(H318:L324)","v":0},null,null,null,null,null,{"$f":"SUM(N318:R324)","v":0},null,null,null,null,null,{"$f":"SUM(T318:X324)","v":0},null,null,null,null,null,{"$f":"SUM(Z318:AD324)","v":0}]
[]
["F",{"$f":"'Data 1'!X70","v":0},{"$f":"'Data 2'!X70","v":0},{"$f":"'Data 3'!X70","v":0},{"$f":"'Data 4'!X70","v":0},{"$f":"'Data 5'!X70","v":0},"G",{"$f":"'Data 1'!X71","v":0},{"$f":"'Data 2'!X71","v":0},{"$f":"'Data 3'!X71","v":0},{"$f":"'Data 4'!X71","v":0},{"$f":"'Data 5'!X71","v":0},"H",{"$f":"'Data 1'!X72","v":0},{"$f":"'Data 2'!X72","v":0},{"$f":"'Data 3'!X72","v":0},{"$f":"'Data 4'!X72","v":0},{"$f":"'Data 5'!X72","v":0},"I",{"$f":"'Data 1'!X73","v":0},{"$f":"'Data 2'!X73","v":0},{"$f":"'Data 3'!X73","v":0},{"$f":"'Data 4'!X73","v":0},{"$f":"'Data 5'!X73","v":0},"J",{"$f":"'Data 1'!X74","v":0},{"$f":"'Data 2'!X74","v":0},{"$f":"'Data 3'!X74","v":0},{"$f":"'Data 4'!X74","v":0},{"$f":"'Data 5'!X74","v":0}]
[null,{"$f":"'Data 6'!X70","v":0},{"$f":"'Data 7'!X70","v":0},{"$f":"'Data 8'!X70","v":0},{"$f":"'Data 9'!X70","v":0},{"$f":"'Data 10'!X70","v":0},null,{"$f":"'Data 6'!X71","v":0},{"$f":"'Data 7'!X71","v":0},{"$f":"'Data 8'!X71","v":0},{"$f":"'Data 9'!X71","v":0},{"$f":"'Data 10'!X71","v":0},null,{"$f":"'Data 6'!X72","v":0},{"$f":"'Data 7'!X72","v":0},{"$f":"'Data 8'!X72","v":0},{"$f":"'Data 9'!X72","v":0},{"$f":"'Data 10'!X72","v":0},null,{"$f":"'Data 6'!X73","v":0},{"$f":"'Data 7'!X73","v":0},{"$f":"'Data 8'!X73","v":0},{"$f":"'Data 9'!X73","v":0},{"$f":"'Data 10'!X73","v":0},null,{"$f":"'Data 6'!X74","v":0},{"$f":"'Data 7'!X74","v":0},{"$f":"'Data 8'!X74","v":0},{"$f":"'Data 9'!X74","v":0},{"$f":"'Data 10'!X74","v":0}]
[null,{"$f":"'Data 11'!X70","v":0},{"$f":"'Data 12'!X70","v":0},{"$f":"'Data 13'!X70","v":0},{"$f":"'Data 14'!X70","v":0},{"$f":"'Data 15'!X70","v":0},null,{"$f":"'Data 11'!X71","v":0},{"$f":"'Data 12'!X71","v":0},{"$f":"'Data 13'!X71","v":0},{"$f":"'Data 14'!X71","v":0},{"$f":"'Data 15'!X71","v":0},null,{"$f":"'Data 11'!X72","v":0},{"$f":"'Data 12'!X72","v":0},{"$f":"'Data 13'!X72","v":0},{"$f":"'Data 14'!X72","v":0},{"$f":"'Data 15'!X72","v":0},null,{"$f":"'Data 11'!X73","v":0},{"$f":"'Data 12'!X73","v":0},{"$f":"'Data 13'!X73","v":0},{"$f":"'Data 14'!X73","v":0},{"$f":"'Data 15'!X73","v":0},null,{"$f":"'Data 11'!X74","v":0},{"$f":"'Data 12'!X74","v":0},{"$f":"'Data 13'!X74","v":0},{"$f":"'Data 14'!X74","v":0},{"$f":"'Data 15'!X74","v":0}]
[null,{"$f":"'Data 16'!X70","v":0},{"$f":"'Data 17'!X70","v":0},{"$f":"'Data 18'!X70","v":0},{"$f":"'Data 19'!X70","v":0},{"$f":"'Data 20'!X70","v":0},null,{"$f":"'Data 16'!X71","v":0},{"$f":"'Data 17'!X71","v":0},{"$f":"'Data 18'!X71","v":0},{"$f":"'Data 19'!X71","v":0},{"$f":"'Data 20'!X71","v":0},null,{"$f":"'Data 16'!X72","v":0},{"$f":"'Data 17'!X72","v":0},{"$f":"'Data 18'!X72","v":0},{"$f":"'Data 19'!X72","v":0},{"$f":"'Data 20'!X72","v":0},null,{"$f":"'Data 16'!X73","v":0},{"$f":"'Data 17'!X73","v":0},{"$f":"'Data 18'!X73","v":0},{"$f":"'Data 19'!X73","v":0},{"$f":"'Data 20'!X73","v":0},null,{"$f":"'Data 16'!X74","v":0},{"$f":"'Data 17'!X74","v":0},{"$f":"'Data 18'!X74","v":0},{"$f":"'Data 19'!X74","v":0},{"$f":"'Data 20'!X74","v":0}]
[null,{"$f":"'Data 21'!X70","v":0},{"$f":"'Data 22'!X70","v":0},{"$f":"'Data 23'!X70","v":0},{"$f":"'Data 24'!X70","v":0},{"$f":"'Data 25'!X70","v":0},null,{"$f":"'Data 21'!X71","v":0},{"$f":"'Data 22'!X71","v":0},{"$f":"'Data 23'!X71","v":0},{"$f":"'Data 24'!X71","v":0},{"$f":"'Data 25'!X71","v":0},null,{"$f":"'Data 21'!X72","v":0},{"$f":"'Data 22'!X72","v":0},{"$f":"'Data 23'!X72","v":0},{"$f":"'Data 24'!X72","v":0},{"$f":"'Data 25'!X72","v":0},null,{"$f":"'Data 21'!X73","v":0},{"$f":"'Data 22'!X73","v":0},{"$f":"'Data 23'!X73","v":0},{"$f":"'Data 24'!X73","v":0},{"$f":"'Data 25'!X73","v":0},null,{"$f":"'Data 21'!X74","v":0},{"$f":"'Data 22'!X74","v":0},{"$f":"'Data 23'!X74","v":0},{"$f":"'Data 24'!X74","v":0},{"$f":"'Data 25'!X74","v":0}]
[null,{"$f":"'Data 26'!X70","v":0},{"$f":"'Data 27'!X70","v":0},{"$f":"'Data 28'!X70","v":0},{"$f":"'Data 29'!X70","v":0},{"$f":"'Data 30'!X70","v":0},null,{"$f":"'Data 26'!X71","v":0},{"$f":"'Data 27'!X71","v":0},{"$f":"'Data 28'!X71","v":0},{"$f":"'Data 29'!X71","v":0},{"$f":"'Data 30'!X71","v":0},null,{"$f":"'Data 26'!X72","v":0},{"$f":"'Data 27'!X72","v":0},{"$f":"'Data 28'!X72","v":0},{"$f":"'Data 29'!X72","v":0},{"$f":"'Data 30'!X72","v":0},null,{"$f":"'Data 26'!X73","v":0},{"$f":"'Data 27'!X73","v":0},{"$f":"'Data 28'!X73","v":0},{"$f":"'Data 29'!X73","v":0},{"$f":"'Data 30'!X73","v":0},null,{"$f":"'Data 26'!X74","v":0},{"$f":"'Data 27'!X74","v":0},{"$f":"'Data 28'!X74","v":0},{"$f":"'Data 29'!X74","v":0},{"$f":"'Data 30'!X74","v":0}]
[null,{"$f":"'Data 31'!X70","v":0},{"$f":"'Data 29 (2)'!X70","v":0},{"$f":"'Data 30 (2)'!X70","v":0},{"$f":"'Data 31 (2)'!X70","v":0},null,null,{"$f":"'Data 31'!X71","v":0},{"$f":"'Data 29 (2)'!X71","v":0},{"$f":"'Data 30 (2)'!X71","v":0},{"$f":"'Data 31 (2)'!X71","v":0},null,null,{"$f":"'Data 31'!X72","v":0},{"$f":"'Data 29 (2)'!X72","v":0},{"$f":"'Data 30 (2)'!X72","v":0},{"$f":"'Data 31 (2)'!X72","v":0},null,null,{"$f":"'Data 31'!X73","v":0},{"$f":"'Data 29 (2)'!X73","v":0},{"$f":"'Data 30 (2)'!X73","v":0},{"$f":"'Data 31 (2)'!X73","v":0},null,null,{"$f":"'Data 31'!X74","v":0},{"$f":"'Data 29 (2)'!X74","v":0},{"$f":"'Data 30 (2)'!X74","v":0},{"$f":"'Data 31 (2)'!X74","v":0}]
[null,{"$f":"SUM(B327:F333)","v":0},null,null,null,null,null,{"$f":"SUM(H327:L333)","v":0},null,null,null,null,null,{"$f":"SUM(N327:R333)","v":0},null,null,null,null,null,{"$f":"SUM(T327:X333)","v":0},null,null,null,null,null,{"$f":"SUM(Z327:AD333)","v":0}]
[]
["K",{"$f":"'Data 1'!X75","v":0},{"$f":"'Data 2'!X75","v":0},{"$f":"'Data 3'!X75","v":0},{"$f":"'Data 4'!X75","v":0},{"$f":"'Data 5'!X75","v":0},"L",{"$f":"'Data 1'!X76","v":0},{"$f":"'Data 2'!X76","v":0},{"$f":"'Data 3'!X76","v":0},{"$f":"'Data 4'!X76","v":0},{"$f":"'Data 5'!X76","v":0}]
[null,{"$f":"'Data 6'!X75","v":0},{"$f":"'Data 7'!X75","v":0},{"$f":"'Data 8'!X75","v":0},{"$f":"'Data 9'!X75","v":0},{"$f":"'Data 10'!X75","v":0},null,{"$f":"'Data 6'!X76","v":0},{"$f":"'Data 7'!X76","v":0},{"$f":"'Data 8'!X76","v":0},{"$f":"'Data 9'!X76","v":0},{"$f":"'Data 10'!X76","v":0}]
[null,{"$f":"'Data 11'!X75","v":0},{"$f":"'Data 12'!X75","v":0},{"$f":"'Data 13'!X75","v":0},{"$f":"'Data 14'!X75","v":0},{"$f":"'Data 15'!X75","v":0},null,{"$f":"'Data 11'!X76","v":0},{"$f":"'Data 12'!X76","v":0},{"$f":"'Data 13'!X76","v":0},{"$f":"'Data 14'!X76","v":0},{"$f":"'Data 15'!X76","v":0}]
[null,{"$f":"'Data 16'!X75","v":0},{"$f":"'Data 17'!X75","v":0},{"$f":"'Data 18'!X75","v":0},{"$f":"'Data 19'!X75","v":0},{"$f":"'Data 20'!X75","v":0},null,{"$f":"'Data 16'!X76","v":0},{"$f":"'Data 17'!X76","v":0},{"$f":"'Data 18'!X76","v":0},{"$f":"'Data 19'!X76","v":0},{"$f":"'Data 20'!X76","v":0}]
[null,{"$f":"'Data 21'!X75","v":0},{"$f":"'Data 22'!X75","v":0},{"$f":"'Data 23'!X75","v":0},{"$f":"'Data 24'!X75","v":0},{"$f":"'Data 25'!X75","v":0},null,{"$f":"'Data 21'!X76","v":0},{"$f":"'Data 22'!X76","v":0},{"$f":"'Data 23'!X76","v":0},{"$f":"'Data 24'!X76","v":0},{"$f":"'Data 25'!X76","v":0}]
[null,{"$f":"'Data 26'!X75","v":0},{"$f":"'Data 27'!X75","v":0},{"$f":"'Data 28'!X75","v":0},{"$f":"'Data 29'!X75","v":0},{"$f":"'Data 30'!X75","v":0},null,{"$f":"'Data 26'!X76","v":0},{"$f":"'Data 27'!X76","v":0},{"$f":"'Data 28'!X76","v":0},{"$f":"'Data 29'!X76","v":0},{"$f":"'Data 30'!X76","v":0}]
[null,{"$f":"'Data 31'!X75","v":0},{"$f":"'Data 29 (2)'!X75","v":0},{"$f":"'Data 30 (2)'!X75","v":0},{"$f":"'Data 31 (2)'!X75","v":0},null,null,{"$f":"'Data 31'!X76","v":0},{"$f":"'Data 29 (2)'!X76","v":0},{"$f":"'Data 30 (2)'!X76","v":0},{"$f":"'Data 31 (2)'!X76","v":0}]
[null,{"$f":"SUM(B336:F342)","v":0},null,null,null,null,null,{"$f":"SUM(H336:L342)","v":0}]
[]
["Frequency of Consequences to Behavior Correlation - Behavior C"]
["A",{"$f":"'Data 1'!Y65","v":0},{"$f":"'Data 2'!Y65","v":0},{"$f":"'Data 3'!Y65","v":0},{"$f":"'Data 4'!Y65","v":0},{"$f":"'Data 5'!Y65","v":0},"B",{"$f":"'Data 1'!Y66","v":0},{"$f":"'Data 2'!Y66","v":0},{"$f":"'Data 3'!Y66","v":0},{"$f":"'Data 4'!Y66","v":0},{"$f":"'Data 5'!Y66","v":0},"C",{"$f":"'Data 1'!Y67","v":0},{"$f":"'Data 2'!Y67","v":0},{"$f":"'Data 3'!Y67","v":0},{"$f":"'Data 4'!Y67","v":0},{"$f":"'Data 5'!Y67","v":0},"D",{"$f":"'Data 1'!Y68","v":0},{"$f":"'Data 2'!Y68","v":0},{"$f":"'Data 3'!Y68","v":0},{"$f":"'Data 4'!Y68","v":0},{"$f":"'Data 5'!Y68","v":0},"E",{"$f":"'Data 1'!Y69","v":0},{"$f":"'Data 2'!Y69","v":0},{"$f":"'Data 3'!Y69","v":0},{"$f":"'Data 4'!Y69","v":0},{"$f":"'Data 5'!Y69","v":0}]
[null,{"$f":"'Data 6'!Y65","v":0},{"$f":"'Data 7'!Y65","v":0},{"$f":"'Data 8'!Y65","v":0},{"$f":"'Data 9'!Y65","v":0},{"$f":"'Data 10'!Y65","v":0},null,{"$f":"'Data 6'!Y66","v":0},{"$f":"'Data 7'!Y66","v":0},{"$f":"'Data 8'!Y66","v":0},{"$f":"'Data 9'!Y66","v":0},{"$f":"'Data 10'!Y66","v":0},null,{"$f":"'Data 6'!Y67","v":0},{"$f":"'Data 7'!Y67","v":0},{"$f":"'Data 8'!Y67","v":0},{"$f":"'Data 9'!Y67","v":0},{"$f":"'Data 10'!Y67","v":0},null,{"$f":"'Data 6'!Y68","v":0},{"$f":"'Data 7'!Y68","v":0},{"$f":"'Data 8'!Y68","v":0},{"$f":"'Data 9'!Y68","v":0},{"$f":"'Data 10'!Y68","v":0},null,{"$f":"'Data 6'!Y69","v":0},{"$f":"'Data 7'!Y69","v":0},{"$f":"'Data 8'!Y69","v":0},{"$f":"'Data 9'!Y69","v":0},{"$f":"'Data 10'!Y69","v":0}]
[null,{"$f":"'Data 11'!Y65","v":0},{"$f":"'Data 12'!Y65","v":0},{"$f":"'Data 13'!Y65","v":0},{"$f":"'Data 14'!Y65","v":0},{"$f":"'Data 15'!Y65","v":0},null,{"$f":"'Data 1'!Y66","v":0},{"$f":"'Data 12'!Y66","v":0},{"$f":"'Data 30'!Y66","v":0},{"$f":"'Data 14'!Y66","v":0},{"$f":"'Data 15'!Y66","v":0},null,{"$f":"'Data 11'!Y67","v":0},{"$f":"'Data 12'!Y67","v":0},{"$f":"'Data 13'!Y67","v":0},{"$f":"'Data 14'!Y67","v":0},{"$f":"'Data 15'!Y67","v":0},null,{"$f":"'Data 11'!Y68","v":0},{"$f":"'Data 12'!Y68","v":0},{"$f":"'Data 13'!Y68","v":0},{"$f":"'Data 14'!Y68","v":0},{"$f":"'Data 15'!Y68","v":0},null,{"$f":"'Data 11'!Y69","v":0},{"$f":"'Data 12'!Y69","v":0},{"$f":"'Data 13'!Y69","v":0},{"$f":"'Data 14'!Y69","v":0},{"$f":"'Data 15'!Y69","v":0}]
[null,{"$f":"'Data 16'!Y65","v":0},{"$f":"'Data 17'!Y65","v":0},{"$f":"'Data 18'!Y65","v":0},{"$f":"'Data 19'!Y65","v":0},{"$f":"'Data 20'!Y65","v":0},null,{"$f":"'Data 16'!Y66","v":0},{"$f":"'Data 17'!Y66","v":0},{"$f":"'Data 18'!Y66","v":0},{"$f":"'Data 19'!Y66","v":0},{"$f":"'Data 20'!Y66","v":0},null,{"$f":"'Data 16'!Y67","v":0},{"$f":"'Data 17'!Y67","v":0},{"$f":"'Data 18'!Y67","v":0},{"$f":"'Data 19'!Y67","v":0},{"$f":"'Data 20'!Y67","v":0},null,{"$f":"'Data 16'!Y68","v":0},{"$f":"'Data 17'!Y68","v":0},{"$f":"'Data 18'!Y68","v":0},{"$f":"'Data 19'!Y68","v":0},{"$f":"'Data 20'!Y68","v":0},null,{"$f":"'Data 16'!Y69","v":0},{"$f":"'Data 17'!Y69","v":0},{"$f":"'Data 18'!Y69","v":0},{"$f":"'Data 19'!Y69","v":0},{"$f":"'Data 20'!Y69","v":0}]
[null,{"$f":"'Data 21'!Y65","v":0},{"$f":"'Data 22'!Y65","v":0},{"$f":"'Data 23'!Y65","v":0},{"$f":"'Data 24'!Y65","v":0},{"$f":"'Data 25'!Y65","v":0},null,{"$f":"'Data 21'!Y66","v":0},{"$f":"'Data 22'!Y66","v":0},{"$f":"'Data 23'!Y66","v":0},{"$f":"'Data 24'!Y66","v":0},{"$f":"'Data 25'!Y66","v":0},null,{"$f":"'Data 21'!Y67","v":0},{"$f":"'Data 22'!Y67","v":0},{"$f":"'Data 23'!Y67","v":0},{"$f":"'Data 24'!Y67","v":0},{"$f":"'Data 25'!Y67","v":0},null,{"$f":"'Data 21'!Y68","v":0},{"$f":"'Data 22'!Y68","v":0},{"$f":"'Data 23'!Y68","v":0},{"$f":"'Data 24'!Y68","v":0},{"$f":"'Data 25'!Y68","v":0},null,{"$f":"'Data 21'!Y69","v":0},{"$f":"'Data 22'!Y69","v":0},{"$f":"'Data 23'!Y69","v":0},{"$f":"'Data 24'!Y69","v":0},{"$f":"'Data 25'!Y69","v":0}]
[null,{"$f":"'Data 26'!Y65","v":0},{"$f":"'Data 27'!Y65","v":0},{"$f":"'Data 28'!Y65","v":0},{"$f":"'Data 29'!Y65","v":0},{"$f":"'Data 30'!Y65","v":0},null,{"$f":"'Data 26'!Y66","v":0},{"$f":"'Data 27'!Y66","v":0},{"$f":"'Data 28'!Y66","v":0},{"$f":"'Data 29'!Y66","v":0},{"$f":"'Data 30'!Y66","v":0},null,{"$f":"'Data 26'!Y67","v":0},{"$f":"'Data 27'!Y67","v":0},{"$f":"'Data 28'!Y67","v":0},{"$f":"'Data 29'!Y67","v":0},{"$f":"'Data 30'!Y67","v":0},null,{"$f":"'Data 26'!Y68","v":0},{"$f":"'Data 27'!Y68","v":0},{"$f":"'Data 28'!Y68","v":0},{"$f":"'Data 29'!Y68","v":0},{"$f":"'Data 30'!Y68","v":0},null,{"$f":"'Data 26'!Y69","v":0},{"$f":"'Data 27'!Y69","v":0},{"$f":"'Data 28'!Y69","v":0},{"$f":"'Data 29'!Y69","v":0},{"$f":"'Data 30'!Y69","v":0}]
[null,{"$f":"'Data 31'!Y65","v":0},{"$f":"'Data 29 (2)'!Y65","v":0},{"$f":"'Data 30 (2)'!Y65","v":0},{"$f":"'Data 31 (2)'!Y65","v":0},null,null,{"$f":"'Data 31'!Y66","v":0},{"$f":"'Data 29 (2)'!Y66","v":0},{"$f":"'Data 30 (2)'!Y66","v":0},{"$f":"'Data 31 (2)'!Y66","v":0},null,null,{"$f":"'Data 31'!Y67","v":0},{"$f":"'Data 29 (2)'!Y67","v":0},{"$f":"'Data 30 (2)'!Y67","v":0},{"$f":"'Data 31 (2)'!Y67","v":0},null,null,{"$f":"'Data 31'!Y68","v":0},{"$f":"'Data 29 (2)'!Y68","v":0},{"$f":"'Data 30 (2)'!Y68","v":0},{"$f":"'Data 31 (2)'!Y68","v":0},null,null,{"$f":"'Data 31'!Y69","v":0},{"$f":"'Data 29 (2)'!Y69","v":0},{"$f":"'Data 30 (2)'!Y69","v":0},{"$f":"'Data 31 (2)'!Y69","v":0}]
["Sum",{"$f":"SUM(B346:F352)","v":0},null,null,null,null,null,{"$f":"SUM(H346:L352)","v":0},null,null,null,null,null,{"$f":"SUM(N346:R352)","v":0},null,null,null,null,null,{"$f":"SUM(T346:X352)","v":0},null,null,null,null,null,{"$f":"SUM(Z346:AD352)","v":0}]
[]
["F",{"$f":"'Data 1'!Y70","v":0},{"$f":"'Data 2'!Y70","v":0},{"$f":"'Data 3'!Y70","v":0},{"$f":"'Data 4'!Y70","v":0},{"$f":"'Data 5'!Y70","v":0},"G",{"$f":"'Data 1'!Y71","v":0},{"$f":"'Data 2'!Y71","v":0},{"$f":"'Data 3'!Y71","v":0},{"$f":"'Data 4'!Y71","v":0},{"$f":"'Data 5'!Y71","v":0},"H",{"$f":"'Data 1'!Y72","v":0},{"$f":"'Data 2'!Y72","v":0},{"$f":"'Data 3'!Y72","v":0},{"$f":"'Data 4'!Y72","v":0},{"$f":"'Data 5'!Y72","v":0},"I",{"$f":"'Data 1'!Y73","v":0},{"$f":"'Data 2'!Y73","v":0},{"$f":"'Data 3'!Y73","v":0},{"$f":"'Data 4'!Y73","v":0},{"$f":"'Data 5'!Y73","v":0},"J",{"$f":"'Data 1'!Y74","v":0},{"$f":"'Data 2'!Y74","v":0},{"$f":"'Data 3'!Y74","v":0},{"$f":"'Data 4'!Y74","v":0},{"$f":"'Data 5'!Y74","v":0}]
[null,{"$f":"'Data 6'!Y70","v":0},{"$f":"'Data 7'!Y70","v":0},{"$f":"'Data 8'!Y70","v":0},{"$f":"'Data 9'!Y70","v":0},{"$f":"'Data 10'!Y70","v":0},null,{"$f":"'Data 6'!Y71","v":0},{"$f":"'Data 7'!Y71","v":0},{"$f":"'Data 8'!Y71","v":0},{"$f":"'Data 9'!Y71","v":0},{"$f":"'Data 10'!Y71","v":0},null,{"$f":"'Data 6'!Y72","v":0},{"$f":"'Data 7'!Y72","v":0},{"$f":"'Data 8'!Y72","v":0},{"$f":"'Data 9'!Y72","v":0},{"$f":"'Data 10'!Y72","v":0},null,{"$f":"'Data 6'!Y73","v":0},{"$f":"'Data 7'!Y73","v":0},{"$f":"'Data 8'!Y76","v":0},{"$f":"'Data 9'!Y76","v":0},{"$f":"'Data 10'!Y76","v":0},null,{"$f":"'Data 6'!Y74","v":0},{"$f":"'Data 7'!Y74","v":0},{"$f":"'Data 8'!Y74","v":0},{"$f":"'Data 9'!Y74","v":0},{"$f":"'Data 10'!Y74","v":0}]
[null,{"$f":"'Data 11'!Y70","v":0},{"$f":"'Data 12'!Y70","v":0},{"$f":"'Data 13'!Y70","v":0},{"$f":"'Data 14'!Y70","v":0},{"$f":"'Data 15'!Y70","v":0},null,{"$f":"'Data 11'!Y71","v":0},{"$f":"'Data 12'!Y71","v":0},{"$f":"'Data 13'!Y71","v":0},{"$f":"'Data 14'!Y71","v":0},{"$f":"'Data 15'!Y71","v":0},null,{"$f":"'Data 11'!Y72","v":0},{"$f":"'Data 12'!Y72","v":0},{"$f":"'Data 13'!Y72","v":0},{"$f":"'Data 14'!Y72","v":0},{"$f":"'Data 15'!Y72","v":0},null,{"$f":"'Data 11'!Y76","v":0},{"$f":"'Data 12'!Y76","v":0},{"$f":"'Data 13'!Y76","v":0},{"$f":"'Data 14'!Y76","v":0},{"$f":"'Data 15'!Y76","v":0},null,{"$f":"'Data 11'!Y74","v":0},{"$f":"'Data 12'!Y74","v":0},{"$f":"'Data 13'!Y74","v":0},{"$f":"'Data 14'!Y74","v":0},{"$f":"'Data 15'!Y74","v":0}]
[null,{"$f":"'Data 16'!Y70","v":0},{"$f":"'Data 17'!Y70","v":0},{"$f":"'Data 18'!Y70","v":0},{"$f":"'Data 19'!Y70","v":0},{"$f":"'Data 20'!Y70","v":0},null,{"$f":"'Data 16'!Y71","v":0},{"$f":"'Data 17'!Y71","v":0},{"$f":"'Data 18'!Y71","v":0},{"$f":"'Data 19'!Y71","v":0},{"$f":"'Data 20'!Y71","v":0},null,{"$f":"'Data 16'!Y72","v":0},{"$f":"'Data 17'!Y72","v":0},{"$f":"'Data 18'!Y72","v":0},{"$f":"'Data 19'!Y72","v":0},{"$f":"'Data 20'!Y72","v":0},null,{"$f":"'Data 16'!Y76","v":0},{"$f":"'Data 17'!Y76","v":0},{"$f":"'Data 18'!Y76","v":0},{"$f":"'Data 19'!Y76","v":0},{"$f":"'Data 20'!Y76","v":0},null,{"$f":"'Data 16'!Y74","v":0},{"$f":"'Data 17'!Y74","v":0},{"$f":"'Data 18'!Y74","v":0},{"$f":"'Data 19'!Y74","v":0},{"$f":"'Data 20'!Y74","v":0}]
[null,{"$f":"'Data 21'!Y70","v":0},{"$f":"'Data 22'!Y70","v":0},{"$f":"'Data 23'!Y70","v":0},{"$f":"'Data 24'!Y70","v":0},{"$f":"'Data 25'!Y70","v":0},null,{"$f":"'Data 21'!Y71","v":0},{"$f":"'Data 22'!Y71","v":0},{"$f":"'Data 23'!Y71","v":0},{"$f":"'Data 24'!Y71","v":0},{"$f":"'Data 25'!Y71","v":0},null,{"$f":"'Data 21'!Y72","v":0},{"$f":"'Data 22'!Y72","v":0},{"$f":"'Data 23'!Y72","v":0},{"$f":"'Data 24'!Y72","v":0},{"$f":"'Data 25'!Y72","v":0},null,{"$f":"'Data 21'!Y76","v":0},{"$f":"'Data 22'!Y76","v":0},{"$f":"'Data 23'!Y76","v":0},{"$f":"'Data 24'!Y76","v":0},{"$f":"'Data 25'!Y76","v":0},null,{"$f":"'Data 21'!Y74","v":0},{"$f":"'Data 22'!Y74","v":0},{"$f":"'Data 23'!Y74","v":0},{"$f":"'Data 24'!Y74","v":0},{"$f":"'Data 25'!Y74","v":0}]
[null,{"$f":"'Data 26'!Y70","v":0},{"$f":"'Data 27'!Y70","v":0},{"$f":"'Data 28'!Y70","v":0},{"$f":"'Data 29'!Y70","v":0},{"$f":"'Data 30'!Y70","v":0},null,{"$f":"'Data 26'!Y71","v":0},{"$f":"'Data 27'!Y71","v":0},{"$f":"'Data 28'!Y71","v":0},{"$f":"'Data 29'!Y71","v":0},{"$f":"'Data 30'!Y71","v":0},null,{"$f":"'Data 26'!Y72","v":0},{"$f":"'Data 27'!Y72","v":0},{"$f":"'Data 28'!Y72","v":0},{"$f":"'Data 29'!Y72","v":0},{"$f":"'Data 30'!Y72","v":0},null,{"$f":"'Data 26'!Y76","v":0},{"$f":"'Data 27'!Y76","v":0},{"$f":"'Data 28'!Y76","v":0},{"$f":"'Data 29'!Y76","v":0},{"$f":"'Data 30'!Y76","v":0},null,{"$f":"'Data 26'!Y74","v":0},{"$f":"'Data 27'!Y74","v":0},{"$f":"'Data 28'!Y74","v":0},{"$f":"'Data 29'!Y74","v":0},{"$f":"'Data 30'!Y74","v":0}]
[null,{"$f":"'Data 31'!Y70","v":0},{"$f":"'Data 29 (2)'!Y70","v":0},{"$f":"'Data 30 (2)'!Y70","v":0},{"$f":"'Data 31 (2)'!Y70","v":0},null,null,{"$f":"'Data 31'!Y71","v":0},{"$f":"'Data 29 (2)'!Y71","v":0},{"$f":"'Data 30 (2)'!Y71","v":0},{"$f":"'Data 31 (2)'!Y71","v":0},null,null,{"$f":"'Data 31'!Y72","v":0},{"$f":"'Data 29 (2)'!Y72","v":0},{"$f":"'Data 30 (2)'!Y72","v":0},{"$f":"'Data 31 (2)'!Y72","v":0},null,null,{"$f":"'Data 31'!Y76","v":0},{"$f":"'Data 29 (2)'!Y76","v":0},{"$f":"'Data 30 (2)'!Y76","v":0},{"$f":"'Data 31 (2)'!Y76","v":0},null,null,{"$f":"'Data 31'!Y74","v":0},{"$f":"'Data 29 (2)'!Y74","v":0},{"$f":"'Data 30 (2)'!Y74","v":0},{"$f":"'Data 31 (2)'!Y74","v":0}]
[null,{"$f":"SUM(B355:F361)","v":0},null,null,null,null,null,{"$f":"SUM(H355:L361)","v":0},null,null,null,null,null,{"$f":"SUM(N355:R361)","v":0},null,null,null,null,null,{"$f":"SUM(T355:X361)","v":0},null,null,null,null,null,{"$f":"SUM(Z355:AD361)","v":0}]
[]
["K",{"$f":"'Data 1'!Y75","v":0},{"$f":"'Data 2'!Y75","v":0},{"$f":"'Data 3'!Y75","v":0},{"$f":"'Data 4'!Y75","v":0},{"$f":"'Data 5'!Y75","v":0},"L",{"$f":"'Data 1'!Y76","v":0},{"$f":"'Data 2'!Y76","v":0},{"$f":"'Data 3'!Y76","v":0},{"$f":"'Data 4'!Y76","v":0},{"$f":"'Data 5'!Y76","v":0}]
[null,{"$f":"'Data 6'!Y75","v":0},{"$f":"'Data 7'!Y75","v":0},{"$f":"'Data 8'!Y75","v":0},{"$f":"'Data 9'!Y75","v":0},{"$f":"'Data 10'!Y75","v":0},null,{"$f":"'Data 6'!Y76","v":0},{"$f":"'Data 7'!Y76","v":0},{"$f":"'Data 8'!Y76","v":0},{"$f":"'Data 9'!Y76","v":0},{"$f":"'Data 10'!Y76","v":0}]
[null,{"$f":"'Data 11'!Y75","v":0},{"$f":"'Data 12'!Y75","v":0},{"$f":"'Data 13'!Y75","v":0},{"$f":"'Data 14'!Y75","v":0},{"$f":"'Data 15'!Y75","v":0},null,{"$f":"'Data 11'!Y76","v":0},{"$f":"'Data 12'!Y76","v":0},{"$f":"'Data 13'!Y76","v":0},{"$f":"'Data 14'!Y76","v":0},{"$f":"'Data 15'!Y76","v":0}]
[null,{"$f":"'Data 16'!Y75","v":0},{"$f":"'Data 17'!Y75","v":0},{"$f":"'Data 18'!Y75","v":0},{"$f":"'Data 19'!Y75","v":0},{"$f":"'Data 20'!Y75","v":0},null,{"$f":"'Data 16'!Y76","v":0},{"$f":"'Data 17'!Y76","v":0},{"$f":"'Data 18'!Y76","v":0},{"$f":"'Data 19'!Y76","v":0},{"$f":"'Data 20'!Y76","v":0}]
[null,{"$f":"'Data 21'!Y75","v":0},{"$f":"'Data 22'!Y75","v":0},{"$f":"'Data 23'!Y75","v":0},{"$f":"'Data 24'!Y75","v":0},{"$f":"'Data 25'!Y75","v":0},null,{"$f":"'Data 21'!Y76","v":0},{"$f":"'Data 22'!Y76","v":0},{"$f":"'Data 23'!Y76","v":0},{"$f":"'Data 24'!Y76","v":0},{"$f":"'Data 25'!Y76","v":0}]
[null,{"$f":"'Data 26'!Y75","v":0},{"$f":"'Data 27'!Y75","v":0},{"$f":"'Data 28'!Y75","v":0},{"$f":"'Data 29'!Y75","v":0},{"$f":"'Data 30'!Y75","v":0},null,{"$f":"'Data 26'!Y76","v":0},{"$f":"'Data 27'!Y76","v":0},{"$f":"'Data 28'!Y76","v":0},{"$f":"'Data 29'!Y76","v":0},{"$f":"'Data 30'!Y76","v":0}]
[null,{"$f":"'Data 31'!Y75","v":0},{"$f":"'Data 29 (2)'!Y75","v":0},{"$f":"'Data 30 (2)'!Y75","v":0},{"$f":"'Data 31 (2)'!Y75","v":0},null,null,{"$f":"'Data 31'!Y76","v":0},{"$f":"'Data 29 (2)'!Y76","v":0},{"$f":"'Data 30 (2)'!Y76","v":0},{"$f":"'Data 31 (2)'!Y76","v":0}]
[null,{"$f":"SUM(B364:F370)","v":0},null,null,null,null,null,{"$f":"SUM(H364:L370)","v":0}]
[]
[]
["Time of Day Frequency"]
["Seven",{"$f":"'Data 1'!$AD$23","v":0},{"$f":"'Data 2'!$AD$23","v":0},{"$f":"'Data 3'!$AD$23","v":0},{"$f":"'Data 4'!$AD$23","v":0},{"$f":"'Data 5'!$AD$23","v":0},{"$f":"'Data 6'!$AD$23","v":0},{"$f":"'Data 7'!$AD$23","v":0},{"$f":"'Data 8'!$AD$23","v":0},{"$f":"'Data 9'!$AD$23","v":0},{"$f":"'Data 10'!$AD$23","v":0},{"$f":"'Data 11'!$AD$23","v":0},{"$f":"'Data 12'!$AD$23","v":0},{"$f":"'Data 13'!$AD$23","v":0},{"$f":"'Data 14'!$AD$23","v":0},{"$f":"'Data 15'!$AD$23","v":0},{"$f":"'Data 16'!$AD$23","v":0},{"$f":"'Data 17'!$AD$23","v":0},{"$f":"'Data 18'!$AD$23","v":0},{"$f":"'Data 19'!$AD$23","v":0},{"$f":"'Data 20'!$AD$23","v":0},{"$f":"'Data 21'!$AD$23","v":0},{"$f":"'Data 22'!$AD$23","v":0},{"$f":"'Data 23'!$AD$23","v":0},{"$f":"'Data 24'!$AD$23","v":0},{"$f":"'Data 25'!$AD$23","v":0},{"$f":"'Data 26'!$AD$23","v":0},{"$f":"'Data 27'!$AD$23","v":0},{"$f":"'Data 28'!$AD$23","v":0},{"$f":"'Data 29'!$AD$23","v":0},{"$f":"'Data 30'!$AD$23","v":0},{"$f":"'Data 31'!$AD$23","v":0},{"$f":"'Data 29 (2)'!$AD$23","v":0},{"$f":"'Data 30 (2)'!$AD$23","v":0},{"$f":"'Data 31 (2)'!$AD$23","v":0},{"$f":"SUM(B375:AI375)","v":0}]
["Eight",{"$f":"'Data 1'!$AD$24","v":0},{"$f":"'Data 2'!$AD$24","v":0},{"$f":"'Data 3'!$AD$24","v":0},{"$f":"'Data 4'!$AD$24","v":0},{"$f":"'Data 5'!$AD$24","v":0},{"$f":"'Data 6'!$AD$24","v":0},{"$f":"'Data 7'!$AD$24","v":0},{"$f":"'Data 8'!$AD$24","v":0},{"$f":"'Data 9'!$AD$24","v":0},{"$f":"'Data 10'!$AD$24","v":0},{"$f":"'Data 11'!$AD$24","v":0},{"$f":"'Data 12'!$AD$24","v":0},{"$f":"'Data 13'!$AD$24","v":0},{"$f":"'Data 14'!$AD$24","v":0},{"$f":"'Data 15'!$AD$24","v":0},{"$f":"'Data 16'!$AD$24","v":0},{"$f":"'Data 17'!$AD$24","v":0},{"$f":"'Data 18'!$AD$24","v":0},{"$f":"'Data 19'!$AD$24","v":0},{"$f":"'Data 20'!$AD$24","v":0},{"$f":"'Data 21'!$AD$24","v":0},{"$f":"'Data 22'!$AD$24","v":0},{"$f":"'Data 23'!$AD$24","v":0},{"$f":"'Data 24'!$AD$24","v":0},{"$f":"'Data 25'!$AD$24","v":0},{"$f":"'Data 26'!$AD$24","v":0},{"$f":"'Data 27'!$AD$24","v":0},{"$f":"'Data 28'!$AD$24","v":0},{"$f":"'Data 29'!$AD$24","v":0},{"$f":"'Data 30'!$AD$24","v":0},{"$f":"'Data 31'!$AD$24","v":0},{"$f":"'Data 29 (2)'!$AD$24","v":0},{"$f":"'Data 30 (2)'!$AD$24","v":0},{"$f":"'Data 31 (2)'!$AD$24","v":0},{"$f":"SUM(B376:AI376)","v":0}]
["Nine",{"$f":"'Data 1'!$AD$25","v":0},{"$f":"'Data 2'!$AD$25","v":0},{"$f":"'Data 3'!$AD$25","v":0},{"$f":"'Data 4'!$AD$25","v":0},{"$f":"'Data 5'!$AD$25","v":0},{"$f":"'Data 6'!$AD$25","v":0},{"$f":"'Data 7'!$AD$25","v":0},{"$f":"'Data 8'!$AD$25","v":0},{"$f":"'Data 9'!$AD$25","v":0},{"$f":"'Data 10'!$AD$25","v":0},{"$f":"'Data 11'!$AD$25","v":0},{"$f":"'Data 12'!$AD$25","v":0},{"$f":"'Data 13'!$AD$25","v":0},{"$f":"'Data 14'!$AD$25","v":0},{"$f":"'Data 15'!$AD$25","v":0},{"$f":"'Data 16'!$AD$25","v":0},{"$f":"'Data 17'!$AD$25","v":0},{"$f":"'Data 18'!$AD$25","v":0},{"$f":"'Data 19'!$AD$25","v":0},{"$f":"'Data 20'!$AD$25","v":0},{"$f":"'Data 21'!$AD$25","v":0},{"$f":"'Data 22'!$AD$25","v":0},{"$f":"'Data 23'!$AD$25","v":0},{"$f":"'Data 24'!$AD$25","v":0},{"$f":"'Data 25'!$AD$25","v":0},{"$f":"'Data 26'!$AD$25","v":0},{"$f":"'Data 27'!$AD$25","v":0},{"$f":"'Data 28'!$AD$25","v":0},{"$f":"'Data 29'!$AD$25","v":0},{"$f":"'Data 30'!$AD$25","v":0},{"$f":"'Data 31'!$AD$25","v":0},{"$f":"'Data 29 (2)'!$AD$25","v":0},{"$f":"'Data 30 (2)'!$AD$25","v":0},{"$f":"'Data 31 (2)'!$AD$25","v":0},0]
["Ten",{"$f":"'Data 1'!$AD$26","v":0},{"$f":"'Data 2'!$AD$26","v":0},{"$f":"'Data 3'!$AD$26","v":0},{"$f":"'Data 4'!$AD$26","v":0},{"$f":"'Data 5'!$AD$26","v":0},{"$f":"'Data 6'!$AD$26","v":0},{"$f":"'Data 7'!$AD$26","v":0},{"$f":"'Data 8'!$AD$26","v":0},{"$f":"'Data 9'!$AD$26","v":0},{"$f":"'Data 10'!$AD$26","v":0},{"$f":"'Data 11'!$AD$26","v":0},{"$f":"'Data 12'!$AD$26","v":0},{"$f":"'Data 13'!$AD$26","v":0},{"$f":"'Data 14'!$AD$26","v":0},{"$f":"'Data 15'!$AD$26","v":0},{"$f":"'Data 16'!$AD$26","v":0},{"$f":"'Data 17'!$AD$26","v":0},{"$f":"'Data 18'!$AD$26","v":0},{"$f":"'Data 19'!$AD$26","v":0},{"$f":"'Data 20'!$AD$26","v":0},{"$f":"'Data 21'!$AD$26","v":0},{"$f":"'Data 22'!$AD$26","v":0},{"$f":"'Data 23'!$AD$26","v":0},{"$f":"'Data 24'!$AD$26","v":0},{"$f":"'Data 25'!$AD$26","v":0},{"$f":"'Data 26'!$AD$26","v":0},{"$f":"'Data 27'!$AD$26","v":0},{"$f":"'Data 28'!$AD$26","v":0},{"$f":"'Data 29'!$AD$26","v":0},{"$f":"'Data 30'!$AD$26","v":0},{"$f":"'Data 31'!$AD$26","v":0},{"$f":"'Data 29 (2)'!$AD$26","v":0},{"$f":"'Data 30 (2)'!$AD$26","v":0},{"$f":"'Data 31 (2)'!$AD$26","v":0},0]
["Eleven",{"$f":"'Data 1'!$AD$27","v":0},{"$f":"'Data 2'!$AD$27","v":0},{"$f":"'Data 3'!$AD$27","v":0},{"$f":"'Data 4'!$AD$27","v":0},{"$f":"'Data 5'!$AD$27","v":0},{"$f":"'Data 6'!$AD$27","v":0},{"$f":"'Data 7'!$AD$27","v":0},{"$f":"'Data 8'!$AD$27","v":0},{"$f":"'Data 9'!$AD$27","v":0},{"$f":"'Data 10'!$AD$27","v":0},{"$f":"'Data 11'!$AD$27","v":0},{"$f":"'Data 12'!$AD$27","v":0},{"$f":"'Data 13'!$AD$27","v":0},{"$f":"'Data 14'!$AD$27","v":0},{"$f":"'Data 15'!$AD$27","v":0},{"$f":"'Data 16'!$AD$27","v":0},{"$f":"'Data 17'!$AD$27","v":0},{"$f":"'Data 18'!$AD$27","v":0},{"$f":"'Data 19'!$AD$27","v":0},{"$f":"'Data 20'!$AD$27","v":0},{"$f":"'Data 21'!$AD$27","v":0},{"$f":"'Data 22'!$AD$27","v":0},{"$f":"'Data 23'!$AD$27","v":0},{"$f":"'Data 24'!$AD$27","v":0},{"$f":"'Data 25'!$AD$27","v":0},{"$f":"'Data 26'!$AD$27","v":0},{"$f":"'Data 27'!$AD$27","v":0},{"$f":"'Data 28'!$AD$27","v":0},{"$f":"'Data 29'!$AD$27","v":0},{"$f":"'Data 30'!$AD$27","v":0},{"$f":"'Data 31'!$AD$27","v":0},{"$f":"'Data 29 (2)'!$AD$27","v":0},{"$f":"'Data 30 (2)'!$AD$27","v":0},{"$f":"'Data 31 (2)'!$AD$27","v":0},0]
["Twelve",{"$f":"'Data 1'!$AD$28","v":0},{"$f":"'Data 2'!$AD$28","v":0},{"$f":"'Data 3'!$AD$28","v":0},{"$f":"'Data 4'!$AD$28","v":0},{"$f":"'Data 5'!$AD$28","v":0},{"$f":"'Data 6'!$AD$28","v":0},{"$f":"'Data 7'!$AD$28","v":0},{"$f":"'Data 8'!$AD$28","v":0},{"$f":"'Data 9'!$AD$28","v":0},{"$f":"'Data 10'!$AD$28","v":0},{"$f":"'Data 11'!$AD$28","v":0},{"$f":"'Data 12'!$AD$28","v":0},{"$f":"'Data 13'!$AD$28","v":0},{"$f":"'Data 14'!$AD$28","v":0},{"$f":"'Data 15'!$AD$28","v":0},{"$f":"'Data 16'!$AD$28","v":0},{"$f":"'Data 17'!$AD$28","v":0},{"$f":"'Data 18'!$AD$28","v":0},{"$f":"'Data 19'!$AD$28","v":0},{"$f":"'Data 20'!$AD$28","v":0},{"$f":"'Data 21'!$AD$28","v":0},{"$f":"'Data 22'!$AD$28","v":0},{"$f":"'Data 23'!$AD$28","v":0},{"$f":"'Data 24'!$AD$28","v":0},{"$f":"'Data 25'!$AD$28","v":0},{"$f":"'Data 26'!$AD$28","v":0},{"$f":"'Data 27'!$AD$28","v":0},{"$f":"'Data 28'!$AD$28","v":0},{"$f":"'Data 29'!$AD$28","v":0},{"$f":"'Data 30'!$AD$28","v":0},{"$f":"'Data 31'!$AD$28","v":0},{"$f":"'Data 29 (2)'!$AD$28","v":0},{"$f":"'Data 30 (2)'!$AD$28","v":0},{"$f":"'Data 31 (2)'!$AD$28","v":0},0]
["One",{"$f":"'Data 1'!$AD$29","v":0},{"$f":"'Data 2'!$AD$29","v":0},{"$f":"'Data 3'!$AD$29","v":0},{"$f":"'Data 4'!$AD$29","v":0},{"$f":"'Data 5'!$AD$29","v":0},{"$f":"'Data 6'!$AD$29","v":0},{"$f":"'Data 7'!$AD$29","v":0},{"$f":"'Data 8'!$AD$29","v":0},{"$f":"'Data 9'!$AD$29","v":0},{"$f":"'Data 10'!$AD$29","v":0},{"$f":"'Data 11'!$AD$29","v":0},{"$f":"'Data 12'!$AD$29","v":0},{"$f":"'Data 13'!$AD$29","v":0},{"$f":"'Data 14'!$AD$29","v":0},{"$f":"'Data 15'!$AD$29","v":0},{"$f":"'Data 16'!$AD$29","v":0},{"$f":"'Data 17'!$AD$29","v":0},{"$f":"'Data 18'!$AD$29","v":0},{"$f":"'Data 19'!$AD$29","v":0},{"$f":"'Data 20'!$AD$29","v":0},{"$f":"'Data 21'!$AD$29","v":0},{"$f":"'Data 22'!$AD$29","v":0},{"$f":"'Data 23'!$AD$29","v":0},{"$f":"'Data 24'!$AD$29","v":0},{"$f":"'Data 25'!$AD$29","v":0},{"$f":"'Data 26'!$AD$29","v":0},{"$f":"'Data 27'!$AD$29","v":0},{"$f":"'Data 28'!$AD$29","v":0},{"$f":"'Data 29'!$AD$29","v":0},{"$f":"'Data 30'!$AD$29","v":0},{"$f":"'Data 31'!$AD$29","v":0},{"$f":"'Data 29 (2)'!$AD$29","v":0},{"$f":"'Data 30 (2)'!$AD$29","v":0},{"$f":"'Data 31 (2)'!$AD$29","v":0},0]
["Two ",{"$f":"'Data 1'!$AD$30","v":0},{"$f":"'Data 2'!$AD$30","v":0},{"$f":"'Data 3'!$AD$30","v":0},{"$f":"'Data 4'!$AD$30","v":0},{"$f":"'Data 5'!$AD$30","v":0},{"$f":"'Data 6'!$AD$30","v":0},{"$f":"'Data 7'!$AD$30","v":0},{"$f":"'Data 8'!$AD$30","v":0},{"$f":"'Data 9'!$AD$30","v":0},{"$f":"'Data 10'!$AD$30","v":0},{"$f":"'Data 11'!$AD$30","v":0},{"$f":"'Data 12'!$AD$30","v":0},{"$f":"'Data 13'!$AD$30","v":0},{"$f":"'Data 7'!$AD$30","v":0},{"$f":"'Data 15'!$AD$30","v":0},{"$f":"'Data 16'!$AD$30","v":0},{"$f":"'Data 17'!$AD$30","v":0},{"$f":"'Data 18'!$AD$30","v":0},{"$f":"'Data 19'!$AD$30","v":0},{"$f":"'Data 20'!$AD$30","v":0},{"$f":"'Data 21'!$AD$30","v":0},{"$f":"'Data 22'!$AD$30","v":0},{"$f":"'Data 23'!$AD$30","v":0},{"$f":"'Data 24'!$AD$30","v":0},{"$f":"'Data 25'!$AD$30","v":0},{"$f":"'Data 26'!$AD$30","v":0},{"$f":"'Data 27'!$AD$30","v":0},{"$f":"'Data 28'!$AD$30","v":0},{"$f":"'Data 29'!$AD$30","v":0},{"$f":"'Data 30'!$AD$30","v":0},{"$f":"'Data 31'!$AD$30","v":0},{"$f":"'Data 29 (2)'!$AD$30","v":0},{"$f":"'Data 30 (2)'!$AD$30","v":0},{"$f":"'Data 31 (2)'!$AD$30","v":0},0]
["Three",{"$f":"'Data 1'!$AD$31","v":0},{"$f":"'Data 2'!$AD$31","v":0},{"$f":"'Data 3'!$AD$31","v":0},{"$f":"'Data 4'!$AD$31","v":0},{"$f":"'Data 5'!$AD$31","v":0},{"$f":"'Data 6'!$AD$31","v":0},{"$f":"'Data 7'!$AD$31","v":0},{"$f":"'Data 8'!$AD$31","v":0},{"$f":"'Data 9'!$AD$31","v":0},{"$f":"'Data 10'!$AD$31","v":0},{"$f":"'Data 11'!$AD$31","v":0},{"$f":"'Data 12'!$AD$31","v":0},{"$f":"'Data 13'!$AD$31","v":0},{"$f":"'Data 14'!$AD$31","v":0},{"$f":"'Data 15'!$AD$31","v":0},{"$f":"'Data 16'!$AD$31","v":0},{"$f":"'Data 17'!$AD$31","v":0},{"$f":"'Data 18'!$AD$31","v":0},{"$f":"'Data 19'!$AD$31","v":0},{"$f":"'Data 20'!$AD$31","v":0},{"$f":"'Data 21'!$AD$31","v":0},{"$f":"'Data 22'!$AD$31","v":0},{"$f":"'Data 23'!$AD$31","v":0},{"$f":"'Data 24'!$AD$31","v":0},{"$f":"'Data 25'!$AD$31","v":0},{"$f":"'Data 26'!$AD$31","v":0},{"$f":"'Data 27'!$AD$31","v":0},{"$f":"'Data 28'!$AD$31","v":0},{"$f":"'Data 29'!$AD$31","v":0},{"$f":"'Data 30'!$AD$31","v":0},{"$f":"'Data 31'!$AD$31","v":0},{"$f":"'Data 29 (2)'!$AD$31","v":0},{"$f":"'Data 30 (2)'!$AD$31","v":0},{"$f":"'Data 31 (2)'!$AD$31","v":0},0]
["Four",{"$f":"'Data 1'!$AD$32","v":0},{"$f":"'Data 2'!$AD$32","v":0},{"$f":"'Data 3'!$AD$32","v":0},{"$f":"'Data 4'!$AD$32","v":0},{"$f":"'Data 5'!$AD$32","v":0},{"$f":"'Data 6'!$AD$32","v":0},{"$f":"'Data 7'!$AD$32","v":0},{"$f":"'Data 8'!$AD$32","v":0},{"$f":"'Data 9'!$AD$32","v":0},{"$f":"'Data 10'!$AD$32","v":0},{"$f":"'Data 11'!$AD$32","v":0},{"$f":"'Data 12'!$AD$32","v":0},{"$f":"'Data 13'!$AD$32","v":0},{"$f":"'Data 14'!$AD$32","v":0},{"$f":"'Data 15'!$AD$32","v":0},{"$f":"'Data 16'!$AD$32","v":0},{"$f":"'Data 17'!$AD$32","v":0},{"$f":"'Data 18'!$AD$32","v":0},{"$f":"'Data 19'!$AD$32","v":0},{"$f":"'Data 20'!$AD$32","v":0},{"$f":"'Data 21'!$AD$32","v":0},{"$f":"'Data 22'!$AD$32","v":0},{"$f":"'Data 23'!$AD$32","v":0},{"$f":"'Data 24'!$AD$32","v":0},{"$f":"'Data 25'!$AD$32","v":0},{"$f":"'Data 26'!$AD$32","v":0},{"$f":"'Data 27'!$AD$32","v":0},{"$f":"'Data 28'!$AD$32","v":0},{"$f":"'Data 29'!$AD$32","v":0},{"$f":"'Data 30'!$AD$32","v":0},{"$f":"'Data 31'!$AD$32","v":0},{"$f":"'Data 29 (2)'!$AD$32","v":0},{"$f":"'Data 30 (2)'!$AD$32","v":0},{"$f":"'Data 31 (2)'!$AD$32","v":0},0]

{"sheet":"Data 1","index":9,"n_rows":104,"n_cols":38,"rows_kept":104,"cut":false,"hidden":false,"merged":[[0,7,3,14]]}
["ATTENDANCE",null,null,null,null,null,null,"Data Collection"]
["If tardy, arrival time",null,null,null,null,null,null,null,null,null,null,null,null,null,null,null,null,null,null,null,null,null,"Date",{"$f":"Calendar!C5","v":{"$error":"#N/A"}},{"$f":"TEXT(X2,\"ddd\")","v":{"$error":"#N/A"}}]
["If left early, time",null,null,null,null,null,null,null,null,null,null,null,null,null,null,null,null,null,null,null,null,null,"Frq. Of bx",{"$f":"AA22","v":0}]
[]
[]
["Mins.","Start Time","End Time",null,null,null,null,null,null,null,null,null,null,null,null,null,null,null,null,null,null,null,"Setting",null,null,"Ant",null,null,null,"Beh",null,null,"Raw Data","Time in text","Decimal"]
[{"$f":"C7-B7","v":"00:00:00"},null,null,null,null,{"$f":"IFERROR(VLOOKUP(E7,$V$7:$W$18,2,FALSE),0)","v":0},null,null,{"$f":"IFERROR(VLOOKUP($H$7,$Z$7:$AA$18,2,FALSE),0)","v":0},null,null,{"$f":"IFERROR(VLOOKUP(K7,$AD$7:AE9,2,FALSE),0)","v":0},null,null,{"$f":"IFERROR(VLOOKUP(N7,$V$22:$W$33,2,FALSE),0)","v":0},null,null,null,null,null,null,"A",{"$f":"Criteria!C4","v":"Transition"},null,null,"A",{"$f":"Criteria!E4","v":"Transition"},null,null,"A",{"$f":"Criteria!G4","v":0},null,{"$f":"B7","v":"00:00:00"},{"$f":"TEXT(AG7,\"hh:mm:ss\")","v":"00:00:00"},{"$f":"AG7*24","v":0},{"$f":"SpellNumber(AI7)","v":"No Dollars and No Cents"},{"$f":"FIND(\" Dollar\",AJ7)","v":3},{"$f":"LEFT(AJ7,AK7)","v":"No "}]
[{"$f":"C8-B8","v":"00:00:00"},null,null,null,null,{"$f":"IFERROR(VLOOKUP(E8,$V$7:$W$18,2,FALSE),0)","v":0},null,null,{"$f":"IFERROR(VLOOKUP($H$8,$Z$7:$AA$18,2,FALSE),0)","v":0},null,null,{"$f":"IFERROR(VLOOKUP(K8,$AD$7:AE10,2,FALSE),0)","v":0},null,null,{"$f":"IFERROR(VLOOKUP(N8,$V$22:$W$33,2,FALSE),0)","v":0},null,null,null,null,null,null,"B",{"$f":"Criteria!C5","v":"Morning Routine"},null,null,"B",{"$f":"Criteria!E5","v":"Denied access ('No')"},null,null,"B",{"$f":"Criteria!G5","v":0},null,{"$f":"B8","v":"00:00:00"},{"$f":"TEXT(AG8,\"hh:mm:ss\")","v":"00:00:00"},{"$f":"AG8*24","v":0},{"$f":"SpellNumber((AI8))","v":"No Dollars and No Cents"},{"$f":"FIND(\" Dollar\",AJ8)","v":3},{"$f":"LEFT(AJ8,AK8)","v":"No "}]
["00:00:00",null,null,null,null,{"$f":"IFERROR(VLOOKUP(E9,$V$7:$W$18,2,FALSE),0)","v":0},null,null,{"$f":"IFERROR(VLOOKUP($H$9,$Z$7:$AA$18,2,FALSE),0)","v":0},null,null,{"$f":"IFERROR(VLOOKUP(K9,$AD$7:AE11,2,FALSE),0)","v":0},null,null,0,null,null,null,null,null,null,"C",{"$f":"Criteria!C6","v":"Group Work"},null,null,"C",{"$f":"Criteria!E6","v":"Instruction/ Directions"},null,null,"C",{"$f":"Criteria!G6","v":0},null,"00:00:00","00:00:00",0,{"$f":"SpellNumber((AI9))","v":"No Dollars and No Cents"},3,"No "]
["00:00:00",null,null,null,null,0,null,null,{"$f":"IFERROR(VLOOKUP($H$10,$Z$7:$AA$18,2,FALSE),0)","v":0},null,null,{"$f":"IFERROR(VLOOKUP(K10,$AD$7:AE12,2,FALSE),0)","v":0},null,null,0,null,null,null,null,null,null,"D",{"$f":"Criteria!C7","v":"Ind. Seat/Work Time"},null,null,"D",{"$f":"Criteria!E7","v":"New Task"},null,null,null,null,null,"00:00:00","00:00:00",0,{"$f":"SpellNumber((AI10))","v":"No Dollars and No Cents"},3,"No "]
["00:00:00",null,null,null,null,0,null,null,{"$f":"IFERROR(VLOOKUP($H$11,$Z$7:$AA$18,2,FALSE),0)","v":0},null,null,{"$f":"IFERROR(VLOOKUP(K11,$AD$7:AE13,2,FALSE),0)","v":0},null,null,0,null,null,null,null,null,null,"E",{"$f":"Criteria!C8","v":"Language Arts"},null,null,"E",{"$f":"Criteria!E8","v":"Tcher attn to other"},null,null,null,null,null,"00:00:00","00:00:00",0,{"$f":"SpellNumber((AI11))","v":"No Dollars and No Cents"},3,"No "]
["00:00:00",null,null,null,null,0,null,null,{"$f":"IFERROR(VLOOKUP($H$12,$Z$7:$AA$18,2,FALSE),0)","v":0},null,null,{"$f":"IFERROR(VLOOKUP(K12,$AD$7:AE14,2,FALSE),0)","v":0},null,null,0,null,null,null,null,null,null,"F",{"$f":"Criteria!C9","v":"Mathematics"},null,null,"F",{"$f":"Criteria!E9","v":"Choice given"},null,null,null,null,null,"00:00:00","00:00:00",0,{"$f":"SpellNumber((AI12))","v":"No Dollars and No Cents"},3,"No "]
["00:00:00",null,null,null,null,0,null,null,{"$f":"IFERROR(VLOOKUP($H$13,$Z$7:$AA$18,2,FALSE),0)","v":0},null,null,{"$f":"IFERROR(VLOOKUP(K13,$AD$7:AE15,2,FALSE),0)","v":0},null,null,0,null,null,null,null,null,null,"G",{"$f":"Criteria!C10","v":"Physical Education"},null,null,"G",{"$f":"Criteria!E10","v":"Redirection"},null,null,null,null,null,"00:00:00","00:00:00",0,{"$f":"SpellNumber((AI13))","v":"No Dollars and No Cents"},3,"No "]
["00:00:00",null,null,null,null,0,null,null,{"$f":"IFERROR(VLOOKUP($H$14,$Z$7:$AA$18,2,FALSE),0)","v":0},null,null,{"$f":"IFERROR(VLOOKUP(K14,$AD$7:AE16,2,FALSE),0)","v":0},null,null,0,null,null,null,null,null,null,"H",{"$f":"Criteria!C11","v":"Music/Art"},null,null,"H",{"$f":"Criteria!E11","v":"Routine Task"},null,null,null,null,null,"00:00:00","00:00:00",0,{"$f":"SpellNumber((AI14))","v":"No Dollars and No Cents"},3,"No "]
["00:00:00",null,null,null,null,0,null,null,{"$f":"IFERROR(VLOOKUP($H$15,$Z$7:$AA$18,2,FALSE),0)","v":0},null,null,{"$f":"IFERROR(VLOOKUP(K15,$AD$7:AE17,2,FALSE),0)","v":0},null,null,0,null,null,null,null,null,null,"I",{"$f":"Criteria!C12","v":"Speech"},null,null,"I",{"$f":"Criteria!E12","v":"Waiting"},null,null,null,null,null,"00:00:00","00:00:00",0,{"$f":"SpellNumber((AI15))","v":"No Dollars and No Cents"},3,"No "]
["00:00:00",null,null,null,null,{"$f":"IFERROR(VLOOKUP(E16,$V$7:$W$18,2,FALSE),0)","v":0},null,null,{"$f":"IFERROR(VLOOKUP($H$16,$Z$7:$AA$18,2,FALSE),0)","v":0},null,null,{"$f":"IFERROR(VLOOKUP(K16,$AD$7:AE18,2,FALSE),0)","v":0},null,null,0,null,null,null,null,null,null,"J",{"$f":"Criteria!C13","v":"OT/PT"},null,null,"J",{"$f":"Criteria!E13","v":"Unknown"},null,null,null,null,null,"00:00:00","00:00:00",0,{"$f":"SpellNumber((AI16))","v":"No Dollars and No Cents"},3,"No "]
["00:00:00",null,null,null,null,0,null,null,{"$f":"IFERROR(VLOOKUP(H17,Z7:AA18,2,FALSE),0)","v":0},null,null,{"$f":"IFERROR(VLOOKUP(K17,$AD$7:AE19,2,FALSE),0)","v":0},null,null,0,null,null,null,null,null,null,"K",{"$f":"Criteria!C14","v":"Center"},null,null,"K",{"$f":"Criteria!E14","v":"Ignored"},null,null,null,null,null,"00:00:00","00:00:00",0,{"$f":"SpellNumber((AI17))","v":"No Dollars and No Cents"},3,"No "]
["00:00:00",null,null,null,null,0,null,null,{"$f":"IFERROR(VLOOKUP(H18,Z7:AA18,2,FALSE),0)","v":0},null,null,{"$f":"IFERROR(VLOOKUP(K18,$AD$7:AE20,2,FALSE),0)","v":0},null,null,0,null,null,null,null,null,null,"L",{"$f":"Criteria!C15","v":"Other"},null,null,"L",{"$f":"Criteria!E15","v":"Other"},null,null,null,null,null,"00:00:00","00:00:00",0,{"$f":"SpellNumber((AI18))","v":"No Dollars and No Cents"},3,"No "]
["00:00:00",null,null,null,null,0,null,null,{"$f":"IFERROR(VLOOKUP(H19,Z7:AA18,2,FALSE),0)","v":0},null,null,{"$f":"IFERROR(VLOOKUP(K19,$AD$7:AE21,2,FALSE),0)","v":0},null,null,0,null,null,null,null,null,null,null,null,null,null,null,null,null,null,null,null,null,"00:00:00","00:00:00",0,{"$f":"SpellNumber((AI19))","v":"No Dollars and No Cents"},3,"No "]
["00:00:00",null,null,null,null,0,null,null,{"$f":"IFERROR(VLOOKUP(H20,Z7:AA18,2,FALSE),0)","v":0},null,null,{"$f":"IFERROR(VLOOKUP(K20,$AD$7:AE22,2,FALSE),0)","v":0},null,null,0,null,null,null,null,null,null,null,null,null,null,null,null,null,null,null,null,null,"00:00:00","00:00:00",0,{"$f":"SpellNumber((AI20))","v":"No Dollars and No Cents"},3,"No "]
["00:00:00",null,null,null,null,0,null,null,{"$f":"IFERROR(VLOOKUP(H21,Z7:AA18,2,FALSE),0)","v":0},null,null,{"$f":"IFERROR(VLOOKUP(K21,$AD$7:AE23,2,FALSE),0)","v":0},null,null,0,null,null,null,null,null,null,null,"Con",null,"Bx Frequency Per Day",null,null,null,null,null,null,null,"00:00:00","00:00:00",0,{"$f":"SpellNumber((AI21))","v":"No Dollars and No Cents"},3,"No "]
["00:00:00",null,null,null,null,0,null,null,{"$f":"IFERROR(VLOOKUP(H22,Z7:AA18,2,FALSE),0)","v":0},null,null,{"$f":"IFERROR(VLOOKUP(K22,$AD$7:AE24,2,FALSE),0)","v":0},null,null,0,null,null,null,null,null,null,"A",{"$f":"Criteria!I4","v":"Choice Given"},"A",{"$f":"COUNTIF(K7:K104,\"A\")","v":0},null,{"$f":"SUM(Y22:Y24)","v":0},null,"Bin Dec","Frequency of Time",null,null,"00:00:00","00:00:00",0,{"$f":"SpellNumber((AI22))","v":"No Dollars and No Cents"},3,"No "]
["00:00:00",null,null,null,null,0,null,null,{"$f":"IFERROR(VLOOKUP(H23,$Z$7:$AA$18,2,FALSE),0)","v":0},null,null,{"$f":"IFERROR(VLOOKUP(K23,$AD$7:AE25,2,FALSE),0)","v":0},null,null,0,null,null,null,null,null,null,"B",{"$f":"Criteria!I5","v":"Ignored"},"B",{"$f":"COUNTIF(K7:K104,\"B\")","v":0},null,null,null,"Seven",{"$f":"COUNTIF(AL7:AL104,\"*Seven*\")","v":0},null,null,"00:00:00","00:00:00",0,{"$f":"SpellNumber((AI23))","v":"No Dollars and No Cents"},3,"No "]
["00:00:00",null,null,null,null,0,null,null,{"$f":"IFERROR(VLOOKUP(H24,$Z$7:$AA$18,2,FALSE),0)","v":0},null,null,{"$f":"IFERROR(VLOOKUP(K24,$AD$7:AE26,2,FALSE),0)","v":0},null,null,0,null,null,null,null,null,null,"C",{"$f":"Criteria!I6","v":"Redirection"},"C",{"$f":"COUNTIF(K7:K104,\"C\")","v":0},null,null,null,"Eight",{"$f":"COUNTIF(AL7:AL104,\"*Eight*\")","v":0},null,null,"00:00:00","00:00:00",0,{"$f":"SpellNumber((AI24))","v":"No Dollars and No Cents"},3,"No "]
["00:00:00",null,null,null,null,0,null,null,0,null,null,{"$f":"IFERROR(VLOOKUP(K25,$AD$7:AE27,2,FALSE),0)","v":0},null,null,0,null,null,null,null,null,null,"D",{"$f":"Criteria!I7","v":"Kept the demand"},null,"Bx Druation Per Day",null,null,null,"Nine",{"$f":"COUNTIF(AL7:AL104,\"*Nine*\")","v":0},null,null,"00:00:00","00:00:00",0,{"$f":"SpellNumber((AI25))","v":"No Dollars and No Cents"},3,"No "]
["00:00:00",null,null,null,null,0,null,null,0,null,null,{"$f":"IFERROR(VLOOKUP(K26,$AD$7:AE28,2,FALSE),0)","v":0},null,null,0,null,null,null,null,null,null,"E",{"$f":"Criteria!I8","v":"Changed activity"},"A",{"$f":"SUMIF(K7:K104,\"A\",A7:A104)","v":"00:00:00"},null,null,null,"Ten",{"$f":"COUNTIF(AL7:AL12,\"*Ten*\")","v":0},null,null,"00:00:00","00:00:00",0,{"$f":"SpellNumber((AI26))","v":"No Dollars and No Cents"},3,"No "]
["00:00:00",null,null,null,null,0,null,null,0,null,null,{"$f":"IFERROR(VLOOKUP(K27,$AD$7:AE29,2,FALSE),0)","v":0},null,null,0,null,null,null,null,null,null,"F",{"$f":"Criteria!I9","v":"Verbal reprimand"},"B",{"$f":"SUMIF(K7:K104,\"B\",A7:A104)","v":"00:00:00"},null,null,null,"Eleven",{"$f":"COUNTIF(AL7:AL104,\"*Eleven*\")","v":0},null,null,"00:00:00","00:00:00",0,{"$f":"SpellNumber((AI27))","v":"No Dollars and No Cents"},3,"No "]
["00:00:00",null,null,null,null,0,null,null,0,null,null,{"$f":"IFERROR(VLOOKUP(K28,$AD$7:AE30,2,FALSE),0)","v":0},null,null,0,null,null,null,null,null,null,"G",{"$f":"Criteria!I10","v":"Told to wait"},"C",{"$f":"SUMIF(K7:K104,\"C\",A7:A104)","v":"00:00:00"},null,null,null,"Twelve",{"$f":"COUNTIF(AL7:AL104,\"*Twelve*\")","v":0},null,null,"00:00:00","00:00:00",0,{"$f":"SpellNumber((AI28))","v":"No Dollars and No Cents"},3,"No "]
["00:00:00",null,null,null,null,0,null,null,0,null,null,{"$f":"IFERROR(VLOOKUP(K29,$AD$7:AE31,2,FALSE),0)","v":0},null,null,0,null,null,null,null,null,null,"H",{"$f":"Criteria!I11","v":"Physical Prompt"},null,null,null,null,null,"One",{"$f":"COUNTIF(AL7:AL104,\"*One*\")","v":0},null,null,"00:00:00","00:00:00",0,{"$f":"SpellNumber((AI29))","v":"No Dollars and No Cents"},3,"No "]
["00:00:00",null,null,null,null,0,null,null,0,null,null,{"$f":"IFERROR(VLOOKUP(K30,$AD$7:AE32,2,FALSE),0)","v":0},null,null,0,null,null,null,null,null,null,"I",{"$f":"Criteria!I12","v":"Verbal prompt"},null,null,null,null,null,"Two",{"$f":"COUNTIF(AL7:AL104,\"*Two*\")","v":0},null,null,"00:00:00","00:00:00",0,{"$f":"SpellNumber((AI30))","v":"No Dollars and No Cents"},3,"No "]
["00:00:00",null,null,null,null,0,null,null,0,null,null,{"$f":"IFERROR(VLOOKUP(K31,$AD$7:AE33,2,FALSE),0)","v":0},null,null,0,null,null,null,null,null,null,"J",{"$f":"Criteria!I13","v":"Told to wait"},null,null,null,null,null,"Three",{"$f":"COUNTIF(AL7:AL104,\"*Three*\")","v":0},null,null,"00:00:00","00:00:00",0,{"$f":"SpellNumber((AI31))","v":"No Dollars and No Cents"},3,"No "]
["00:00:00",null,null,null,null,0,null,null,0,null,null,{"$f":"IFERROR(VLOOKUP(K32,$AD$7:AE34,2,FALSE),0)","v":0},null,null,0,null,null,null,null,null,null,"K",{"$f":"Criteria!I14","v":"Unknown"},null,null,null,null,null,"Four",{"$f":"COUNTIF(AL7:AL104,\"*Four*\")","v":0},null,null,"00:00:00","00:00:00",0,{"$f":"SpellNumber((AI32))","v":"No Dollars and No Cents"},3,"No "]
["00:00:00",null,null,null,null,0,null,null,0,null,null,{"$f":"IFERROR(VLOOKUP(K33,$AD$7:AE35,2,FALSE),0)","v":0},null,null,0,null,null,null,null,null,null,"L",{"$f":"Criteria!I15","v":"Other"},null,null,null,null,null,null,null,null,null,"00:00:00","00:00:00",0,{"$f":"SpellNumber((AI33))","v":"No Dollars and No Cents"},3,"No "]
["00:00:00",null,null,null,null,0,null,null,0,null,null,{"$f":"IFERROR(VLOOKUP(K34,$AD$7:AE36,2,FALSE),0)","v":0},null,null,0,null,null,null,null,null,null,null,null,null,null,null,null,null,null,null,null,null,"00:00:00","00:00:00",0,{"$f":"SpellNumber((AI34))","v":"No Dollars and No Cents"},3,"No "]
["00:00:00",null,null,null,null,0,null,null,0,null,null,{"$f":"IFERROR(VLOOKUP(K35,$AD$7:AE37,2,FALSE),0)","v":0},null,null,0,null,null,null,null,null,null,null,"Context Frequency","Consequence","Antedencents",null,null,null,null,null,null,null,"00:00:00","00:00:00",0,{"$f":"SpellNumber((AI35))","v":"No Dollars and No Cents"},3,"No "]
["00:00:00",null,null,null,null,0,null,null,0,null,null,{"$f":"IFERROR(VLOOKUP(K36,$AD$7:AE38,2,FALSE),0)","v":0},null,null,0,null,null,null,null,null,null,"A",{"$f":"COUNTIF(E7:E104,\"A\")","v":0},{"$f":"COUNTIF(N7:N104,\"A\")","v":0},{"$f":"COUNTIF(H7:H104,\"A\")","v":0},null,null,null,null,null,null,null,"00:00:00","00:00:00",0,{"$f":"SpellNumber((AI36))","v":"No Dollars and No Cents"},3,"No "]
["00:00:00",null,null,null,null,0,null,null,0,null,null,{"$f":"IFERROR(VLOOKUP(K37,$AD$7:AE39,2,FALSE),0)","v":0},null,null,0,null,null,null,null,null,null,"B",{"$f":"COUNTIF(E8:E105,\"B\")","v":0},{"$f":"COUNTIF(N7:N104,\"B\")","v":0},{"$f":"COUNTIF(H7:H104,\"B\")","v":0},null,null,null,null,null,null,null,"00:00:00","00:00:00",0,{"$f":"SpellNumber((AI37))","v":"No Dollars and No Cents"},3,"No "]
["00:00:00",null,null,null,null,0,null,null,0,null,null,{"$f":"IFERROR(VLOOKUP(K38,$AD$7:AE40,2,FALSE),0)","v":0},null,null,0,null,null,null,null,null,null,"C",{"$f":"COUNTIF(E8:E105,\"C\")","v":0},{"$f":"COUNTIF(N7:N104,\"C\")","v":0},{"$f":"COUNTIF(H7:H104,\"C\")","v":0},null,null,null,null,null,null,null,"00:00:00","00:00:00",0,{"$f":"SpellNumber((AI38))","v":"No Dollars and No Cents"},3,"No "]
["00:00:00",null,null,null,null,0,null,null,0,null,null,{"$f":"IFERROR(VLOOKUP(K39,$AD$7:AE41,2,FALSE),0)","v":0},null,null,0,null,null,null,null,null,null,"D",{"$f":"COUNTIF(E8:E105,\"D\")","v":0},{"$f":"COUNTIF(N7:N104,\"D\")","v":0},{"$f":"COUNTIF(H7:H104,\"D\")","v":0},null,null,null,null,null,null,null,"00:00:00","00:00:00",0,{"$f":"SpellNumber((AI39))","v":"No Dollars and No Cents"},3,"No "]
["00:00:00",null,null,null,null,0,null,null,0,null,null,{"$f":"IFERROR(VLOOKUP(K40,$AD$7:AE42,2,FALSE),0)","v":0},null,null,0,null,null,null,null,null,null,"E",{"$f":"COUNTIF(E8:E105,\"E\")","v":0},{"$f":"COUNTIF(N7:N104,\"E\")","v":0},{"$f":"COUNTIF(H7:H104,\"E\")","v":0},null,null,null,null,null,null,null,"00:00:00","00:00:00",0,{"$f":"SpellNumber((AI40))","v":"No Dollars and No Cents"},3,"No "]
["00:00:00",null,null,null,null,0,null,null,0,null,null,{"$f":"IFERROR(VLOOKUP(K41,$AD$7:AE43,2,FALSE),0)","v":0},null,null,0,null,null,null,null,null,null,"F",{"$f":"COUNTIF(E8:E105,\"F\")","v":0},{"$f":"COUNTIF(N7:N104,\"F\")","v":0},{"$f":"COUNTIF(H7:H104,\"F\")","v":0},null,null,null,null,null,null,null,"00:00:00","00:00:00",0,{"$f":"SpellNumber((AI41))","v":"No Dollars and No Cents"},3,"No "]
["00:00:00",null,null,null,null,0,null,null,0,null,null,{"$f":"IFERROR(VLOOKUP(K42,$AD$7:AE44,2,FALSE),0)","v":0},null,null,0,null,null,null,null,null,null,"G",{"$f":"COUNTIF(E8:E105,\"G\")","v":0},{"$f":"COUNTIF(N7:N104,\"G\")","v":0},{"$f":"COUNTIF(H7:H104,\"G\")","v":0},null,null,null,null,null,null,null,"00:00:00","00:00:00",0,{"$f":"SpellNumber((AI42))","v":"No Dollars and No Cents"},3,"No "]
["00:00:00",null,null,null,null,0,null,null,0,null,null,{"$f":"IFERROR(VLOOKUP(K43,$AD$7:AE45,2,FALSE),0)","v":0},null,null,0,null,null,null,null,null,null,"H",{"$f":"COUNTIF(E8:E105,\"H\")","v":0},{"$f":"COUNTIF(N7:N104,\"H\")","v":0},{"$f":"COUNTIF(H7:H104,\"H\")","v":0},null,null,null,null,null,null,null,"00:00:00","00:00:00",0,{"$f":"SpellNumber((AI43))","v":"No Dollars and No Cents"},3,"No "]
["00:00:00",null,null,null,null,0,null,null,0,null,null,{"$f":"IFERROR(VLOOKUP(K44,$AD$7:AE46,2,FALSE),0)","v":0},null,null,0,null,null,null,null,null,null,"I",{"$f":"COUNTIF(E8:E105,\"I\")","v":0},{"$f":"COUNTIF(N7:N104,\"I\")","v":0},{"$f":"COUNTIF(H7:H104,\"I\")","v":0},null,null,null,null,null,null,null,"00:00:00","00:00:00",0,{"$f":"SpellNumber((AI44))","v":"No Dollars and No Cents"},3,"No "]
["00:00:00",null,null,null,null,0,null,null,0,null,null,{"$f":"IFERROR(VLOOKUP(K45,$AD$7:AE47,2,FALSE),0)","v":0},null,null,0,null,null,null,null,null,null,"J",{"$f":"COUNTIF(E8:E105,\"J\")","v":0},{"$f":"COUNTIF(N7:N104,\"J\")","v":0},{"$f":"COUNTIF(H7:H104,\"J\")","v":0},null,null,null,null,null,null,null,"00:00:00","00:00:00",0,{"$f":"SpellNumber((AI45))","v":"No Dollars and No Cents"},3,"No "]
["00:00:00",null,null,null,null,0,null,null,0,null,null,{"$f":"IFERROR(VLOOKUP(K46,$AD$7:AE48,2,FALSE),0)","v":0},null,null,0,null,null,null,null,null,null,"K",{"$f":"COUNTIF(E8:E105,\"K\")","v":0},{"$f":"COUNTIF(N7:N104,\"K\")","v":0},{"$f":"COUNTIF(H7:H104,\"K\")","v":0},null,null,null,null,null,null,null,"00:00:00","00:00:00",0,{"$f":"SpellNumber((AI46))","v":"No Dollars and No Cents"},3,"No "]
["00:00:00",null,null,null,null,0,null,null,0,null,null,{"$f":"IFERROR(VLOOKUP(K47,$AD$7:AE49,2,FALSE),0)","v":0},null,null,0,null,null,null,null,null,null,"L",{"$f":"COUNTIF(E8:E105,\"l\")","v":0},{"$f":"COUNTIF(N7:N104,\"L\")","v":0},{"$f":"COUNTIF(H7:H104,\"L\")","v":0},null,null,null,null,null,null,null,"00:00:00","00:00:00",0,{"$f":"SpellNumber((AI47))","v":"No Dollars and No Cents"},3,"No "]
["00:00:00",null,null,null,null,0,null,null,0,null,null,{"$f":"IFERROR(VLOOKUP(K48,$AD$7:AE50,2,FALSE),0)","v":0},null,null,0,null,null,null,null,null,null,null,null,null,null,null,null,null,null,null,null,null,"00:00:00","00:00:00",0,{"$f":"SpellNumber((AI48))","v":"No Dollars and No Cents"},3,"No "]
["00:00:00",null,null,null,null,0,null,null,0,null,null,{"$f":"IFERROR(VLOOKUP(K49,$AD$7:AE51,2,FALSE),0)","v":0},null,null,0,null,null,null,null,null,null,null,"Beh & Setting ",null,null,null,"Beh & Antecedents",null,null,null,null,null,"00:00:00","00:00:00",0,{"$f":"SpellNumber((AI49))","v":"No Dollars and No Cents"},3,"No "]
["00:00:00",null,null,null,null,0,null,null,0,null,null,{"$f":"IFERROR(VLOOKUP(K50,$AD$7:AE52,2,FALSE),0)","v":0},null,null,0,null,null,null,null,null,null,null,"A","B","C",null,null,"A","B","C",null,null,"00:00:00","00:00:00",0,{"$f":"SpellNumber((AI50))","v":"No Dollars and No Cents"},3,"No "]
["00:00:00",null,null,null,null,0,null,null,0,null,null,{"$f":"IFERROR(VLOOKUP(K51,$AD$7:AE53,2,FALSE),0)","v":0},null,null,0,null,null,null,null,null,null,"A",{"$f":"COUNTIFS(E7:E104,\"A\",K7:K104,\"A\")","v":0},{"$f":"COUNTIFS(E7:E104,\"A\",K7:K104,\"B\")","v":0},{"$f":"COUNTIFS(E7:E104,\"A\",K7:K104,\"C\")","v":0},null,"A",{"$f":"COUNTIFS(H7:H104,\"a\",K7:K104,\"A\")","v":0},{"$f":"COUNTIFS(H7:H104,\"A\",K7:K104,\"B\")","v":0},{"$f":"COUNTIFS(H7:H104,\"A\",K7:K104,\"C\")","v":0},null,null,"00:00:00","00:00:00",0,{"$f":"SpellNumber((AI51))","v":"No Dollars and No Cents"},3,"No "]
["00:00:00",null,null,null,null,0,null,null,0,null,null,{"$f":"IFERROR(VLOOKUP(K52,$AD$7:AE54,2,FALSE),0)","v":0},null,null,0,null,null,null,null,null,null,"B",{"$f":"COUNTIFS(E7:E104,\"B\",K7:K104,\"A\")","v":0},{"$f":"COUNTIFS(E7:E104,\"B\",K7:K104,\"B\")","v":0},{"$f":"COUNTIFS(E7:E104,\"B\",K7:K104,\"C\")","v":0},null,"B",{"$f":"COUNTIFS(H7:H104,\"B\",K7:K104,\"A\")","v":0},{"$f":"COUNTIFS(H7:H104,\"B\",K7:K104,\"B\")","v":0},{"$f":"COUNTIFS(H7:H104,\"B\",K7:K104,\"C\")","v":0},null,null,"00:00:00","00:00:00",0,{"$f":"SpellNumber((AI52))","v":"No Dollars and No Cents"},3,"No "]
["00:00:00",null,null,null,null,0,null,null,0,null,null,{"$f":"IFERROR(VLOOKUP(K53,$AD$7:AE55,2,FALSE),0)","v":0},null,null,0,null,null,null,null,null,null,"C",{"$f":"COUNTIFS(K7:K104,\"C\",K7:K104,\"A\")","v":0},{"$f":"COUNTIFS(E7:E104,\"C\",K7:K104,\"B\")","v":0},{"$f":"COUNTIFS(E7:E104,\"C\",K7:K104,\"C\")","v":0},null,"C",{"$f":"COUNTIFS(H7:H104,\"C\",K7:K104,\"A\")","v":0},{"$f":"COUNTIFS(H7:H104,\"C\",K7:K104,\"B\")","v":0},{"$f":"COUNTIFS(H7:H104,\"C\",K7:K104,\"C\")","v":0},null,null,"00:00:00","00:00:00",0,{"$f":"SpellNumber((AI53))","v":"No Dollars and No Cents"},3,"No "]
["00:00:00",null,null,null,null,0,null,null,0,null,null,{"$f":"IFERROR(VLOOKUP(K54,$AD$7:AE56,2,FALSE),0)","v":0},null,null,0,null,null,null,null,null,null,"D",{"$f":"COUNTIFS(E7:E104,\"D\",K7:K104,\"A\")","v":0},{"$f":"COUNTIFS(E7:E104,\"D\",K7:K104,\"B\")","v":0},{"$f":"COUNTIFS(E7:E104,\"D\",K7:K104,\"C\")","v":0},null,"D",{"$f":"COUNTIFS(H7:H104,\"D\",K7:K104,\"A\")","v":0},{"$f":"COUNTIFS(H7:H104,\"D\",K7:K104,\"B\")","v":0},{"$f":"COUNTIFS(H7:H104,\"D\",K7:K104,\"C\")","v":0},null,null,"00:00:00","00:00:00",0,{"$f":"SpellNumber((AI54))","v":"No Dollars and No Cents"},3,"No "]
["00:00:00",null,null,null,null,0,null,null,0,null,null,{"$f":"IFERROR(VLOOKUP(K55,$AD$7:AE57,2,FALSE),0)","v":0},null,null,0,null,null,null,null,null,null,"E",{"$f":"COUNTIFS(E7:E104,\"E\",K7:K104,\"A\")","v":0},{"$f":"COUNTIFS(E7:E104,\"E\",K7:K104,\"B\")","v":0},{"$f":"COUNTIFS(E7:E104,\"E\",K7:K104,\"C\")","v":0},null,"E",{"$f":"COUNTIFS(H7:H104,\"E\",K7:K104,\"A\")","v":0},{"$f":"COUNTIFS(H7:H104,\"E\",K7:K104,\"B\")","v":0},{"$f":"COUNTIFS(H7:H104,\"E\",K7:K104,\"C\")","v":0},null,null,"00:00:00","00:00:00",0,{"$f":"SpellNumber((AI55))","v":"No Dollars and No Cents"},3,"No "]
["00:00:00",null,null,null,null,0,null,null,0,null,null,{"$f":"IFERROR(VLOOKUP(K56,$AD$7:AE58,2,FALSE),0)","v":0},null,null,0,null,null,null,null,null,null,"F",{"$f":"COUNTIFS(E7:E104,\"F\",K7:K104,\"A\")","v":0},{"$f":"COUNTIFS(E7:E104,\"F\",K7:K104,\"B\")","v":0},{"$f":"COUNTIFS(E7:E104,\"F\",K7:K104,\"C\")","v":0},null,"F",{"$f":"COUNTIFS(H7:H104,\"F\",K7:K104,\"A\")","v":0},{"$f":"COUNTIFS(H7:H104,\"F\",K7:K104,\"B\")","v":0},{"$f":"COUNTIFS(H7:H104,\"F\",K7:K104,\"C\")","v":0},null,null,"00:00:00","00:00:00",0,{"$f":"SpellNumber((AI56))","v":"No Dollars and No Cents"},3,"No "]
["00:00:00",null,null,null,null,0,null,null,0,null,null,{"$f":"IFERROR(VLOOKUP(K57,$AD$7:AE59,2,FALSE),0)","v":0},null,null,0,null,null,null,null,null,null,"G",{"$f":"COUNTIFS(E7:E104,\"G\",K7:K104,\"A\")","v":0},{"$f":"COUNTIFS(E7:E104,\"G\",K7:K104,\"B\")","v":0},{"$f":"COUNTIFS(E7:E104,\"G\",K7:K104,\"C\")","v":0},null,"G",{"$f":"COUNTIFS(H7:H104,\"G\",K7:K104,\"A\")","v":0},{"$f":"COUNTIFS(H7:H104,\"G\",K7:K104,\"B\")","v":0},{"$f":"COUNTIFS(H7:H104,\"G\",K7:K104,\"C\")","v":0},null,null,"00:00:00","00:00:00",0,{"$f":"SpellNumber((AI57))","v":"No Dollars and No Cents"},3,"No "]
["00:00:00",null,null,null,null,0,null,null,0,null,null,{"$f":"IFERROR(VLOOKUP(K58,$AD$7:AE60,2,FALSE),0)","v":0},null,null,0,null,null,null,null,null,null,"H",{"$f":"COUNTIFS(E7:E104,\"H\",K7:K104,\"A\")","v":0},{"$f":"COUNTIFS(E7:E104,\"H\",K7:K104,\"B\")","v":0},{"$f":"COUNTIFS(E7:E104,\"H\",K7:K104,\"C\")","v":0},null,"H",{"$f":"COUNTIFS(H7:H104,\"H\",K7:K104,\"A\")","v":0},{"$f":"COUNTIFS(H7:H104,\"H\",K7:K104,\"B\")","v":0},{"$f":"COUNTIFS(H7:H104,\"H\",K7:K104,\"C\")","v":0},null,null,"00:00:00","00:00:00",0,{"$f":"SpellNumber((AI58))","v":"No Dollars and No Cents"},3,"No "]
["00:00:00",null,null,null,null,0,null,null,0,null,null,{"$f":"IFERROR(VLOOKUP(K59,$AD$7:AE61,2,FALSE),0)","v":0},null,null,0,null,null,null,null,null,null,"I",{"$f":"COUNTIFS(E7:E104,\"I\",K7:K104,\"A\")","v":0},{"$f":"COUNTIFS(E7:E104,\"I\",K7:K104,\"B\")","v":0},{"$f":"COUNTIFS(E7:E104,\"I\",K7:K104,\"C\")","v":0},null,"I",{"$f":"COUNTIFS(H7:H104,\"I\",K7:K104,\"A\")","v":0},{"$f":"COUNTIFS(H7:H104,\"I\",K7:K104,\"B\")","v":0},{"$f":"COUNTIFS(H7:H104,\"I\",K7:K104,\"C\")","v":0},null,null,"00:00:00","00:00:00",0,{"$f":"SpellNumber((AI59))","v":"No Dollars and No Cents"},3,"No "]
["00:00:00",null,null,null,null,0,null,null,0,null,null,{"$f":"IFERROR(VLOOKUP(K60,$AD$7:AE62,2,FALSE),0)","v":0},null,null,0,null,null,null,null,null,null,"J",{"$f":"COUNTIFS(E7:E104,\"J\",K7:K104,\"A\")","v":0},{"$f":"COUNTIFS(E7:E104,\"J\",K7:K104,\"B\")","v":0},{"$f":"COUNTIFS(E7:E104,\"J\",K7:K104,\"C\")","v":0},null,"J",{"$f":"COUNTIFS(H7:H104,\"J\",K7:K104,\"A\")","v":0},{"$f":"COUNTIFS(H7:H104,\"J\",K7:K104,\"B\")","v":0},{"$f":"COUNTIFS(H7:H104,\"J\",K7:K104,\"C\")","v":0},null,null,"00:00:00","00:00:00",0,{"$f":"SpellNumber((AI60))","v":"No Dollars and No Cents"},3,"No "]
["00:00:00",null,null,null,null,0,null,null,0,null,null,{"$f":"IFERROR(VLOOKUP(K61,$AD$7:AE63,2,FALSE),0)","v":0},null,null,0,null,null,null,null,null,null,"K",{"$f":"COUNTIFS(E7:E104,\"K\",K7:K104,\"A\")","v":0},{"$f":"COUNTIFS(E7:E104,\"K\",K7:K104,\"B\")","v":0},{"$f":"COUNTIFS(E7:E104,\"K\",K7:K104,\"C\")","v":0},null,"K",{"$f":"COUNTIFS(H7:H104,\"K\",K7:K104,\"A\")","v":0},{"$f":"COUNTIFS(H7:H104,\"K\",K7:K104,\"B\")","v":0},{"$f":"COUNTIFS(H7:H104,\"K\",K7:K104,\"C\")","v":0},null,null,"00:00:00","00:00:00",0,{"$f":"SpellNumber((AI61))","v":"No Dollars and No Cents"},3,"No "]
["00:00:00",null,null,null,null,0,null,null,0,null,null,{"$f":"IFERROR(VLOOKUP(K62,$AD$7:AE64,2,FALSE),0)","v":0},null,null,0,null,null,null,null,null,null,"L",{"$f":"COUNTIFS(E7:E104,\"L\",K7:K104,\"A\")","v":0},{"$f":"COUNTIFS(E7:E104,\"L\",K7:K104,\"B\")","v":0},{"$f":"COUNTIFS(E7:E104,\"L\",K7:K104,\"C\")","v":0},null,"L",{"$f":"COUNTIFS(H7:H104,\"L\",K7:K104,\"A\")","v":0},{"$f":"COUNTIFS(H7:H104,\"L\",K7:K104,\"B\")","v":0},{"$f":"COUNTIFS(H7:H104,\"L\",K7:K104,\"C\")","v":0},null,null,"00:00:00","00:00:00",0,{"$f":"SpellNumber((AI62))","v":"No Dollars and No Cents"},3,"No "]
["00:00:00",null,null,null,null,0,null,null,0,null,null,{"$f":"IFERROR(VLOOKUP(K63,$AD$7:AE65,2,FALSE),0)","v":0},null,null,0,null,null,null,null,null,null,null,"Beh & Consequences",null,null,null,null,null,null,null,null,null,"00:00:00","00:00:00",0,{"$f":"SpellNumber((AI63))","v":"No Dollars and No Cents"},3,"No "]
["00:00:00",null,null,null,null,0,null,null,0,null,null,{"$f":"IFERROR(VLOOKUP(K64,$AD$7:AE66,2,FALSE),0)","v":0},null,null,0,null,null,null,null,null,null,null,"A","B","C",null,null,null,null,null,null,null,"00:00:00","00:00:00",0,{"$f":"SpellNumber((AI64))","v":"No Dollars and No Cents"},3,"No "]
["00:00:00",null,null,null,null,0,null,null,0,null,null,{"$f":"IFERROR(VLOOKUP(K65,$AD$7:AE67,2,FALSE),0)","v":0},null,null,0,null,null,null,null,null,null,"A",{"$f":"COUNTIFS(N7:N104,\"A\",K7:K104,\"A\")","v":0},{"$f":"COUNTIFS(N7:N104,\"A\",K7:K104,\"B\")","v":0},{"$f":"COUNTIFS(N7:N104,\"A\",K7:K104,\"C\")","v":0},null,null,null,null,null,null,null,"00:00:00","00:00:00",0,{"$f":"SpellNumber((AI65))","v":"No Dollars and No Cents"},3,"No "]
["00:00:00",null,null,null,null,0,null,null,0,null,null,{"$f":"IFERROR(VLOOKUP(K66,$AD$7:AE68,2,FALSE),0)","v":0},null,null,0,null,null,null,null,null,null,"B",{"$f":"COUNTIFS(N7:N104,\"B\",K7:K104,\"A\")","v":0},{"$f":"COUNTIFS(N7:N104,\"B\",K7:K104,\"B\")","v":0},{"$f":"COUNTIFS(N7:N104,\"B\",K7:K104,\"C\")","v":0},null,null,null,null,null,null,null,"00:00:00","00:00:00",0,{"$f":"SpellNumber((AI66))","v":"No Dollars and No Cents"},3,"No "]
["00:00:00",null,null,null,null,0,null,null,0,null,null,{"$f":"IFERROR(VLOOKUP(K67,$AD$7:AE69,2,FALSE),0)","v":0},null,null,0,null,null,null,null,null,null,"C",{"$f":"COUNTIFS(N7:N104,\"C\",K7:K104,\"A\")","v":0},{"$f":"COUNTIFS(N7:N104,\"C\",K7:K104,\"B\")","v":0},{"$f":"COUNTIFS(N7:N104,\"C\",K7:K104,\"C\")","v":0},null,null,null,null,null,null,null,"00:00:00","00:00:00",0,{"$f":"SpellNumber((AI67))","v":"No Dollars and No Cents"},3,"No "]
["00:00:00",null,null,null,null,0,null,null,0,null,null,{"$f":"IFERROR(VLOOKUP(K68,$AD$7:AE70,2,FALSE),0)","v":0},null,null,0,null,null,null,null,null,null,"D",{"$f":"COUNTIFS(N7:N104,\"D\",K7:K104,\"A\")","v":0},{"$f":"COUNTIFS(N7:N104,\"D\",K7:K104,\"B\")","v":0},{"$f":"COUNTIFS(N7:N104,\"D\",K7:K104,\"C\")","v":0},null,null,null,null,null,null,null,"00:00:00","00:00:00",0,{"$f":"SpellNumber((AI68))","v":"No Dollars and No Cents"},3,"No "]
["00:00:00",null,null,null,null,0,null,null,0,null,null,{"$f":"IFERROR(VLOOKUP(K69,$AD$7:AE71,2,FALSE),0)","v":0},null,null,0,null,null,null,null,null,null,"E",{"$f":"COUNTIFS(N7:N104,\"E\",K7:K104,\"A\")","v":0},{"$f":"COUNTIFS(N7:N104,\"E\",K7:K104,\"B\")","v":0},{"$f":"COUNTIFS(N7:N104,\"E\",K7:K104,\"C\")","v":0},null,null,null,null,null,null,null,"00:00:00","00:00:00",0,{"$f":"SpellNumber((AI69))","v":"No Dollars and No Cents"},3,"No "]
["00:00:00",null,null,null,null,0,null,null,0,null,null,{"$f":"IFERROR(VLOOKUP(K70,$AD$7:AE72,2,FALSE),0)","v":0},null,null,0,null,null,null,null,null,null,"F",{"$f":"COUNTIFS(N7:N104,\"F\",K7:K104,\"A\")","v":0},{"$f":"COUNTIFS(N7:N104,\"F\",K7:K104,\"B\")","v":0},{"$f":"COUNTIFS(N7:N104,\"F\",K7:K104,\"C\")","v":0},null,null,null,null,null,null,null,"00:00:00","00:00:00",0,{"$f":"SpellNumber((AI70))","v":"No Dollars and No Cents"},3,"No "]
["00:00:00",null,null,null,null,0,null,null,0,null,null,{"$f":"IFERROR(VLOOKUP(K71,$AD$7:AE73,2,FALSE),0)","v":0},null,null,0,null,null,null,null,null,null,"G",{"$f":"COUNTIFS(N7:N104,\"G\",K7:K104,\"A\")","v":0},{"$f":"COUNTIFS(N7:N104,\"G\",K7:K104,\"B\")","v":0},{"$f":"COUNTIFS(N7:N104,\"G\",K7:K104,\"C\")","v":0},null,null,null,null,null,null,null,"00:00:00","00:00:00",0,{"$f":"SpellNumber((AI71))","v":"No Dollars and No Cents"},3,"No "]
[{"$f":"C72-B72","v":"00:00:00"},null,null,null,null,0,null,null,0,null,null,{"$f":"IFERROR(VLOOKUP(K72,$AD$7:AE74,2,FALSE),0)","v":0},null,null,{"$f":"IFERROR(VLOOKUP(N72,$V$22:$W$33,2,FALSE),0)","v":0},null,null,null,null,null,null,"H",{"$f":"COUNTIFS(N7:N104,\"H\",K7:K104,\"A\")","v":0},{"$f":"COUNTIFS(N7:N104,\"H\",K7:K104,\"B\")","v":0},{"$f":"COUNTIFS(N7:N104,\"H\",K7:K104,\"C\")","v":0},null,null,null,null,null,null,null,{"$f":"B72","v":"00:00:00"},{"$f":"TEXT(AG72,\"hh:mm:ss\")","v":"00:00:00"},{"$f":"AG72*24","v":0},{"$f":"SpellNumber((AI72))","v":"No Dollars and No Cents"},{"$f":"FIND(\" Dollar\",AJ72)","v":3},{"$f":"LEFT(AJ72,AK72)","v":"No "}]
["00:00:00",null,null,null,null,{"$f":"IFERROR(VLOOKUP(E73,$V$7:$W$18,2,FALSE),0)","v":0},null,null,0,null,null,{"$f":"IFERROR(VLOOKUP(K73,$AD$7:AE75,2,FALSE),0)","v":0},null,null,0,null,null,null,null,null,null,"I",{"$f":"COUNTIFS(N7:N104,\"I\",K7:K104,\"A\")","v":0},{"$f":"COUNTIFS(N7:N104,\"I\",K7:K104,\"B\")","v":0},{"$f":"COUNTIFS(N7:N104,\"I\",K7:K104,\"C\")","v":0},null,null,null,null,null,null,null,"00:00:00","00:00:00",0,{"$f":"SpellNumber((AI73))","v":"No Dollars and No Cents"},3,"No "]
["00:00:00",null,null,null,null,0,null,null,0,null,null,{"$f":"IFERROR(VLOOKUP(K74,$AD$7:AE76,2,FALSE),0)","v":0},null,null,0,null,null,null,null,null,null,"J",{"$f":"COUNTIFS(N7:N104,\"J\",K7:K104,\"A\")","v":0},{"$f":"COUNTIFS(N7:N104,\"J\",K7:K104,\"B\")","v":0},{"$f":"COUNTIFS(N7:N104,\"J\",K7:K104,\"C\")","v":0},null,null,null,null,null,null,null,"00:00:00","00:00:00",0,{"$f":"SpellNumber((AI74))","v":"No Dollars and No Cents"},3,"No "]
["00:00:00",null,null,null,null,0,null,null,0,null,null,{"$f":"IFERROR(VLOOKUP(K75,$AD$7:AE77,2,FALSE),0)","v":0},null,null,0,null,null,null,null,null,null,"K",{"$f":"COUNTIFS(N7:N104,\"K\",K7:K104,\"A\")","v":0},{"$f":"COUNTIFS(N7:N104,\"K\",K7:K104,\"B\")","v":0},{"$f":"COUNTIFS(N7:N104,\"K\",K7:K104,\"C\")","v":0},null,null,null,null,null,null,null,"00:00:00","00:00:00",0,{"$f":"SpellNumber((AI75))","v":"No Dollars and No Cents"},3,"No "]
["00:00:00",null,null,null,null,0,null,null,0,null,null,{"$f":"IFERROR(VLOOKUP(K76,$AD$7:AE78,2,FALSE),0)","v":0},null,null,0,null,null,null,null,null,null,"L",{"$f":"COUNTIFS(N7:N104,\"L\",K7:K104,\"A\")","v":0},{"$f":"COUNTIFS(N7:N104,\"L\",K7:K104,\"B\")","v":0},{"$f":"COUNTIFS(N7:N104,\"L\",K7:K104,\"C\")","v":0},null,null,null,null,null,null,null,"00:00:00","00:00:00",0,{"$f":"SpellNumber((AI76))","v":"No Dollars and No Cents"},3,"No "]
["00:00:00",null,null,null,null,0,null,null,0,null,null,{"$f":"IFERROR(VLOOKUP(K77,$AD$7:AE79,2,FALSE),0)","v":0},null,null,0,null,null,null,null,null,null,null,null,null,null,null,null,null,null,null,null,null,"00:00:00","00:00:00",0,{"$f":"SpellNumber((AI77))","v":"No Dollars and No Cents"},3,"No "]
["00:00:00",null,null,null,null,0,null,null,0,null,null,{"$f":"IFERROR(VLOOKUP(K78,$AD$7:AE80,2,FALSE),0)","v":0},null,null,0,null,null,null,null,null,null,null,null,null,null,null,null,null,null,null,null,null,"00:00:00","00:00:00",0,{"$f":"SpellNumber((AI78))","v":"No Dollars and No Cents"},3,"No "]
["00:00:00",null,null,null,null,0,null,null,0,null,null,{"$f":"IFERROR(VLOOKUP(K79,$AD$7:AE81,2,FALSE),0)","v":0},null,null,0,null,null,null,null,null,null,null,null,null,null,null,null,null,null,null,null,null,"00:00:00","00:00:00",0,{"$f":"SpellNumber((AI79))","v":"No Dollars and No Cents"},3,"No "]
["00:00:00",null,null,null,null,0,null,null,0,null,null,{"$f":"IFERROR(VLOOKUP(K80,$AD$7:AE82,2,FALSE),0)","v":0},null,null,0,null,null,null,null,null,null,null,null,null,null,null,null,null,null,null,null,null,"00:00:00","00:00:00",0,{"$f":"SpellNumber((AI80))","v":"No Dollars and No Cents"},3,"No "]
["00:00:00",null,null,null,null,0,null,null,0,null,null,{"$f":"IFERROR(VLOOKUP(K81,$AD$7:AE83,2,FALSE),0)","v":0},null,null,0,null,null,null,null,null,null,null,null,null,null,null,null,null,null,null,null,null,"00:00:00","00:00:00",0,{"$f":"SpellNumber((AI81))","v":"No Dollars and No Cents"},3,"No "]
["00:00:00",null,null,null,null,0,null,null,0,null,null,{"$f":"IFERROR(VLOOKUP(K82,$AD$7:AE84,2,FALSE),0)","v":0},null,null,0,null,null,null,null,null,null,null,null,null,null,null,null,null,null,null,null,null,"00:00:00","00:00:00",0,{"$f":"SpellNumber((AI82))","v":"No Dollars and No Cents"},3,"No "]
["00:00:00",null,null,null,null,0,null,null,0,null,null,{"$f":"IFERROR(VLOOKUP(K83,$AD$7:AE85,2,FALSE),0)","v":0},null,null,0,null,null,null,null,null,null,null,null,null,null,null,null,null,null,null,null,null,"00:00:00","00:00:00",0,{"$f":"SpellNumber((AI83))","v":"No Dollars and No Cents"},3,"No "]
["00:00:00",null,null,null,null,0,null,null,0,null,null,{"$f":"IFERROR(VLOOKUP(K84,$AD$7:AE86,2,FALSE),0)","v":0},null,null,0,null,null,null,null,null,null,null,null,null,null,null,null,null,null,null,null,null,"00:00:00","00:00:00",0,{"$f":"SpellNumber((AI84))","v":"No Dollars and No Cents"},3,"No "]
["00:00:00",null,null,null,null,0,null,null,0,null,null,{"$f":"IFERROR(VLOOKUP(K85,$AD$7:AE87,2,FALSE),0)","v":0},null,null,0,null,null,null,null,null,null,null,null,null,null,null,null,null,null,null,null,null,"00:00:00","00:00:00",0,{"$f":"SpellNumber((AI85))","v":"No Dollars and No Cents"},3,"No "]
["00:00:00",null,null,null,null,0,null,null,0,null,null,{"$f":"IFERROR(VLOOKUP(K86,$AD$7:AE88,2,FALSE),0)","v":0},null,null,0,null,null,null,null,null,null,null,null,null,null,null,null,null,null,null,null,null,"00:00:00","00:00:00",0,{"$f":"SpellNumber((AI86))","v":"No Dollars and No Cents"},3,"No "]
["00:00:00",null,null,null,null,0,null,null,0,null,null,{"$f":"IFERROR(VLOOKUP(K87,$AD$7:AE89,2,FALSE),0)","v":0},null,null,0,null,null,null,null,null,null,null,null,null,null,null,null,null,null,null,null,null,"00:00:00","00:00:00",0,{"$f":"SpellNumber((AI87))","v":"No Dollars and No Cents"},3,"No "]
["00:00:00",null,null,null,null,0,null,null,{"$f":"IFERROR(VLOOKUP(H88,$Z$7:$AA$18,2,FALSE),0)","v":0},null,null,{"$f":"IFERROR(VLOOKUP(K88,$AD$7:AE90,2,FALSE),0)","v":0},null,null,0,null,null,null,null,null,null,null,null,null,null,null,null,null,null,null,null,null,"00:00:00","00:00:00",0,{"$f":"SpellNumber((AI88))","v":"No Dollars and No Cents"},3,"No "]
["00:00:00",null,null,null,null,0,null,null,0,null,null,{"$f":"IFERROR(VLOOKUP(K89,$AD$7:AE91,2,FALSE),0)","v":0},null,null,0,null,null,null,null,null,null,null,null,null,null,null,null,null,null,null,null,null,"00:00:00","00:00:00",0,{"$f":"SpellNumber((AI89))","v":"No Dollars and No Cents"},3,"No "]
["00:00:00",null,null,null,null,0,null,null,0,null,null,{"$f":"IFERROR(VLOOKUP(K90,$AD$7:AE92,2,FALSE),0)","v":0},null,null,0,null,null,null,null,null,null,null,null,null,null,null,null,null,null,null,null,null,"00:00:00","00:00:00",0,{"$f":"SpellNumber((AI90))","v":"No Dollars and No Cents"},3,"No "]
["00:00:00",null,null,null,null,0,null,null,0,null,null,{"$f":"IFERROR(VLOOKUP(K91,$AD$7:AE93,2,FALSE),0)","v":0},null,null,0,null,null,null,"Total Mins",{"$f":"SUM(A7:A104)","v":"00:00:00"},null,null,null,null,null,null,null,null,null,null,null,null,"00:00:00","00:00:00",0,{"$f":"SpellNumber((AI91))","v":"No Dollars and No Cents"},3,"No "]
["00:00:00",null,null,null,null,0,null,null,0,null,null,{"$f":"IFERROR(VLOOKUP(K92,$AD$7:AE94,2,FALSE),0)","v":0},null,null,0,null,null,null,"Settings:","A",{"$f":"COUNTIF(E4:E104,\"A\")","v":0},"Antec.","A",{"$f":"COUNTIF(H4:H104,\"A\")","v":0},"Beh","A",{"$f":"COUNTIF(L4:L104,\"A\")","v":0},"Conse.","A",{"$f":"COUNTIF(O4:O104,\"A\")","v":0},null,null,"00:00:00","00:00:00",0,{"$f":"SpellNumber((AI92))","v":"No Dollars and No Cents"},3,"No "]
["00:00:00",null,null,null,null,0,null,null,0,null,null,{"$f":"IFERROR(VLOOKUP(K93,$AD$7:AE95,2,FALSE),0)","v":0},null,null,0,null,null,null,null,"B",{"$f":"COUNTIF(E5:E105,\"B\")","v":0},null,"B",{"$f":"COUNTIF(H5:H105,\"B\")","v":0},null,"B",{"$f":"COUNTIF(L5:L105,\"B\")","v":0},null,"B",{"$f":"COUNTIF(O5:O105,\"B\")","v":0},null,null,"00:00:00","00:00:00",0,{"$f":"SpellNumber((AI93))","v":"No Dollars and No Cents"},3,"No "]
["00:00:00",null,null,null,null,0,null,null,0,null,null,{"$f":"IFERROR(VLOOKUP(K94,$AD$7:AE96,2,FALSE),0)","v":0},null,null,0,null,null,null,null,"C",{"$f":"COUNTIF(E6:E106,\"C\")","v":0},null,"C",{"$f":"COUNTIF(H6:H106,\"C\")","v":0},null,"C",{"$f":"COUNTIF(L6:L106,\"C\")","v":0},null,"C",{"$f":"COUNTIF(O6:O106,\"C\")","v":0},null,null,"00:00:00","00:00:00",0,{"$f":"SpellNumber((AI94))","v":"No Dollars and No Cents"},3,"No "]
["00:00:00",null,null,null,null,0,null,null,0,null,null,{"$f":"IFERROR(VLOOKUP(K95,$AD$7:AE97,2,FALSE),0)","v":0},null,null,0,null,null,null,null,"D",{"$f":"COUNTIF(E7:E107,\"D\")","v":0},null,"D",{"$f":"COUNTIF(H7:H107,\"D\")","v":0},null,null,null,null,"D",{"$f":"COUNTIF(O7:O107,\"D\")","v":0},null,null,"00:00:00","00:00:00",0,{"$f":"SpellNumber((AI95))","v":"No Dollars and No Cents"},3,"No "]
["00:00:00",null,null,null,null,0,null,null,0,null,null,{"$f":"IFERROR(VLOOKUP(K96,$AD$7:AE98,2,FALSE),0)","v":0},null,null,0,null,null,null,null,"E",{"$f":"COUNTIF(E8:E108,\"E\")","v":0},null,"E",{"$f":"COUNTIF(H8:H108,\"E\")","v":0},null,null,null,null,"E",{"$f":"COUNTIF(O8:O108,\"E\")","v":0},null,null,"00:00:00","00:00:00",0,{"$f":"SpellNumber((AI96))","v":"No Dollars and No Cents"},3,"No "]
["00:00:00",null,null,null,null,0,null,null,0,null,null,{"$f":"IFERROR(VLOOKUP(K97,$AD$7:AE99,2,FALSE),0)","v":0},null,null,0,null,null,null,null,"F",{"$f":"COUNTIF(E9:E109,\"F\")","v":0},null,"F",{"$f":"COUNTIF(H9:H109,\"F\")","v":0},null,null,null,null,"F",{"$f":"COUNTIF(O9:O109,\"F\")","v":0},null,null,"00:00:00","00:00:00",0,{"$f":"SpellNumber((AI97))","v":"No Dollars and No Cents"},3,"No "]
["00:00:00",null,null,null,null,0,null,null,0,null,null,{"$f":"IFERROR(VLOOKUP(K98,$AD$7:AE100,2,FALSE),0)","v":0},null,null,0,null,null,null,null,"G",{"$f":"COUNTIF(E10:E110,\"G\")","v":0},null,"G",{"$f":"COUNTIF(H10:H110,\"G\")","v":0},null,null,null,null,"G",{"$f":"COUNTIF(O10:O110,\"G\")","v":0},null,null,"00:00:00","00:00:00",0,{"$f":"SpellNumber((AI98))","v":"No Dollars and No Cents"},3,"No "]
["00:00:00",null,null,null,null,0,null,null,0,null,null,{"$f":"IFERROR(VLOOKUP(K99,$AD$7:AE101,2,FALSE),0)","v":0},null,null,0,null,null,null,null,"H",{"$f":"COUNTIF(E11:E111,\"H\")","v":0},null,"H",{"$f":"COUNTIF(H11:H111,\"H\")","v":0},null,null,null,null,"H",{"$f":"COUNTIF(O11:O111,\"H\")","v":0},null,null,"00:00:00","00:00:00",0,{"$f":"SpellNumber((AI99))","v":"No Dollars and No Cents"},3,"No "]
["00:00:00",null,null,null,null,0,null,null,0,null,null,{"$f":"IFERROR(VLOOKUP(K100,$AD$7:AE102,2,FALSE),0)","v":0},null,null,0,null,null,null,null,"I",{"$f":"COUNTIF(E12:E112,\"I\")","v":0},null,"I",{"$f":"COUNTIF(H12:H112,\"I\")","v":0},null,null,null,null,"I",{"$f":"COUNTIF(O12:O112,\"I\")","v":0},null,null,"00:00:00","00:00:00",0,{"$f":"SpellNumber((AI100))","v":"No Dollars and No Cents"},3,"No "]
["00:00:00",null,null,null,null,0,null,null,0,null,null,{"$f":"IFERROR(VLOOKUP(K101,$AD$7:AE103,2,FALSE),0)","v":0},null,null,0,null,null,null,null,"J",{"$f":"COUNTIF(E13:E113,\"J\")","v":0},null,"J",{"$f":"COUNTIF(H13:H113,\"J\")","v":0},null,null,null,null,"J",{"$f":"COUNTIF(O13:O113,\"J\")","v":0},null,null,"00:00:00","00:00:00",0,{"$f":"SpellNumber((AI101))","v":"No Dollars and No Cents"},3,"No "]
["00:00:00",null,null,null,null,0,null,null,0,null,null,{"$f":"IFERROR(VLOOKUP(K102,$AD$7:AE104,2,FALSE),0)","v":0},null,null,0,null,null,null,null,"K",{"$f":"COUNTIF(E14:E114,\"K\")","v":0},null,"K",{"$f":"COUNTIF(H14:H114,\"K\")","v":0},null,null,null,null,"K",{"$f":"COUNTIF(O14:O114,\"K\")","v":0},null,null,"00:00:00","00:00:00",0,{"$f":"SpellNumber((AI102))","v":"No Dollars and No Cents"},3,"No "]
["00:00:00",null,null,null,null,0,null,null,0,null,null,{"$f":"IFERROR(VLOOKUP(K103,$AD$7:AE105,2,FALSE),0)","v":0},null,null,0,null,null,null,null,"L",{"$f":"COUNTIF(E15:E115,\"L\")","v":0},null,"L",{"$f":"COUNTIF(H15:H115,\"L\")","v":0},null,null,null,null,"L",{"$f":"COUNTIF(O15:O115,\"L\")","v":0},null,null,"00:00:00","00:00:00",0,{"$f":"SpellNumber((AI103))","v":"No Dollars and No Cents"},3,"No "]
["00:00:00",null,null,null,null,0,null,null,0,null,null,{"$f":"IFERROR(VLOOKUP(K104,$AD$7:AE106,2,FALSE),0)","v":0},null,null,0,null,null,null,null,null,null,null,null,null,null,null,null,null,null,null,null,null,"00:00:00","00:00:00",0,{"$f":"SpellNumber((AI104))","v":"No Dollars and No Cents"},3,"No "]

{"sheet":"Data 2","index":10,"n_rows":104,"n_cols":38,"rows_kept":104,"cut":false,"hidden":false,"merged":[[0,7,3,14]]}
["ATTENDANCE",null,null,null,null,null,null,"Data Collection"]
["If tardy, arrival time",null,null,null,null,null,null,null,null,null,null,null,null,null,null,null,null,null,null,null,null,null,"Date",{"$f":"Calendar!D5","v":{"$error":"#N/A"}},{"$f":"TEXT(X2,\"ddd\")","v":{"$error":"#N/A"}}]
["If left early, time",null,null,null,null,null,null,null,null,null,null,null,null,null,null,null,null,null,null,null,null,null,"Frq. Of bx",{"$f":"AA22","v":0}]
[]
[]
["Mins.","Start Time","End Time",null,null,null,null,null,null,null,null,null,null,null,null,null,null,null,null,null,null,null,"Setting",null,null,"Ant",null,null,null,"Beh",null,null,"Raw Data","Time in text","Decimal"]
[{"$f":"C7-B7","v":"00:00:00"},null,null,null,null,{"$f":"IFERROR(VLOOKUP(E7,$V$7:$W$18,2,FALSE),0)","v":0},null,null,{"$f":"IFERROR(VLOOKUP(H7,$Z$7:$AA$18,2,FALSE),0)","v":0},null,null,{"$f":"IFERROR(VLOOKUP(K7,$AD$7:AE9,2,FALSE),0)","v":0},null,null,{"$f":"IFERROR(VLOOKUP(N7,$V$22:$W$33,2,FALSE),0)","v":0},null,null,null,null,null,null,"A",{"$f":"Criteria!C4","v":"Transition"},null,null,"A",{"$f":"Criteria!E4","v":"Transition"},null,null,"A",{"$f":"Criteria!G4","v":0},null,{"$f":"B7","v":"00:00:00"},{"$f":"TEXT(AG7,\"hh:mm:ss\")","v":"00:00:00"},{"$f":"AG7*24","v":0},{"$f":"SpellNumber((AI7))","v":"No Dollars and No Cents"},{"$f":"FIND(\" Dollar\",AJ7)","v":3},{"$f":"LEFT(AJ7,AK7)","v":"No "}]
["00:00:00",null,null,null,null,{"$f":"IFERROR(VLOOKUP(E8,$V$7:$W$18,2,FALSE),0)","v":0},null,null,{"$f":"IFERROR(VLOOKUP(H8,$Z$7:$AA$18,2,FALSE),0)","v":0},null,null,{"$f":"IFERROR(VLOOKUP(K8,$AD$7:AE10,2,FALSE),0)","v":0},null,null,{"$f":"IFERROR(VLOOKUP(N8,$V$22:$W$33,2,FALSE),0)","v":0},null,null,null,null,null,null,"B",{"$f":"Criteria!C5","v":"Morning Routine"},null,null,"B",{"$f":"Criteria!E5","v":"Denied access ('No')"},null,null,"B",{"$f":"Criteria!G5","v":0},null,"00:00:00",{"$f":"TEXT(AG8,\"hh:mm:ss\")","v":"00:00:00"},{"$f":"AG8*24","v":0},{"$f":"SpellNumber((AI8))","v":"No Dollars and No Cents"},{"$f":"FIND(\" Dollar\",AJ8)","v":3},{"$f":"LEFT(AJ8,AK8)","v":"No "}]
["00:00:00",null,null,null,null,{"$f":"IFERROR(VLOOKUP(E9,$V$7:$W$18,2,FALSE),0)","v":0},null,null,0,null,null,{"$f":"IFERROR(VLOOKUP(K9,$AD$7:AE11,2,FALSE),0)","v":0},null,null,0,null,null,null,null,null,null,"C",{"$f":"Criteria!C6","v":"Group Work"},null,null,"C",{"$f":"Criteria!E6","v":"Instruction/ Directions"},null,null,"C",{"$f":"Criteria!G6","v":0},null,"00:00:00","00:00:00",0,{"$f":"SpellNumber((AI9))","v":"No Dollars and No Cents"},3,"No "]
["00:00:00",null,null,null,null,0,null,null,0,null,null,{"$f":"IFERROR(VLOOKUP(K10,$AD$7:AE12,2,FALSE),0)","v":0},null,null,0,null,null,null,null,null,null,"D",{"$f":"Criteria!C7","v":"Ind. Seat/Work Time"},null,null,"D",{"$f":"Criteria!E7","v":"New Task"},null,null,null,null,null,"00:00:00","00:00:00",0,{"$f":"SpellNumber((AI10))","v":"No Dollars and No Cents"},3,"No "]
["00:00:00",null,null,null,null,0,null,null,0,null,null,{"$f":"IFERROR(VLOOKUP(K11,$AD$7:AE13,2,FALSE),0)","v":0},null,null,0,null,null,null,null,null,null,"E",{"$f":"Criteria!C8","v":"Language Arts"},null,null,"E",{"$f":"Criteria!E8","v":"Tcher attn to other"},null,null,null,null,null,"00:00:00","00:00:00",0,{"$f":"SpellNumber((AI11))","v":"No Dollars and No Cents"},3,"No "]
["00:00:00",null,null,null,null,0,null,null,0,null,null,{"$f":"IFERROR(VLOOKUP(K12,$AD$7:AE14,2,FALSE),0)","v":0},null,null,0,null,null,null,null,null,null,"F",{"$f":"Criteria!C9","v":"Mathematics"},null,null,"F",{"$f":"Criteria!E9","v":"Choice given"},null,null,null,null,null,"00:00:00","00:00:00",0,{"$f":"SpellNumber((AI12))","v":"No Dollars and No Cents"},3,"No "]
["00:00:00",null,null,null,null,0,null,null,0,null,null,{"$f":"IFERROR(VLOOKUP(K13,$AD$7:AE15,2,FALSE),0)","v":0},null,null,0,null,null,null,null,null,null,"G",{"$f":"Criteria!C10","v":"Physical Education"},null,null,"G",{"$f":"Criteria!E10","v":"Redirection"},null,null,null,null,null,"00:00:00","00:00:00",0,{"$f":"SpellNumber((AI13))","v":"No Dollars and No Cents"},3,"No "]
["00:00:00",null,null,null,null,0,null,null,0,null,null,{"$f":"IFERROR(VLOOKUP(K14,$AD$7:AE16,2,FALSE),0)","v":0},null,null,0,null,null,null,null,null,null,"H",{"$f":"Criteria!C11","v":"Music/Art"},null,null,"H",{"$f":"Criteria!E11","v":"Routine Task"},null,null,null,null,null,"00:00:00","00:00:00",0,{"$f":"SpellNumber((AI14))","v":"No Dollars and No Cents"},3,"No "]
["00:00:00",null,null,null,null,0,null,null,0,null,null,{"$f":"IFERROR(VLOOKUP(K15,$AD$7:AE17,2,FALSE),0)","v":0},null,null,0,null,null,null,null,null,null,"I",{"$f":"Criteria!C12","v":"Speech"},null,null,"I",{"$f":"Criteria!E12","v":"Waiting"},null,null,null,null,null,"00:00:00","00:00:00",0,{"$f":"SpellNumber((AI15))","v":"No Dollars and No Cents"},3,"No "]
["00:00:00",null,null,null,null,0,null,null,0,null,null,{"$f":"IFERROR(VLOOKUP(K16,$AD$7:AE18,2,FALSE),0)","v":0},null,null,0,null,null,null,null,null,null,"J",{"$f":"Criteria!C13","v":"OT/PT"},null,null,"J",{"$f":"Criteria!E13","v":"Unknown"},null,null,null,null,null,"00:00:00","00:00:00",0,{"$f":"SpellNumber((AI16))","v":"No Dollars and No Cents"},3,"No "]
["00:00:00",null,null,null,null,0,null,null,0,null,null,{"$f":"IFERROR(VLOOKUP(K17,$AD$7:AE19,2,FALSE),0)","v":0},null,null,0,null,null,null,null,null,null,"K",{"$f":"Criteria!C14","v":"Center"},null,null,"K",{"$f":"Criteria!E14","v":"Ignored"},null,null,null,null,null,"00:00:00","00:00:00",0,{"$f":"SpellNumber((AI17))","v":"No Dollars and No Cents"},3,"No "]
["00:00:00",null,null,null,null,0,null,null,0,null,null,{"$f":"IFERROR(VLOOKUP(K18,$AD$7:AE20,2,FALSE),0)","v":0},null,null,0,null,null,null,null,null,null,"L",{"$f":"Criteria!C15","v":"Other"},null,null,"L",{"$f":"Criteria!E15","v":"Other"},null,null,null,null,null,"00:00:00","00:00:00",0,{"$f":"SpellNumber((AI18))","v":"No Dollars and No Cents"},3,"No "]
["00:00:00",null,null,null,null,0,null,null,0,null,null,{"$f":"IFERROR(VLOOKUP(K19,$AD$7:AE21,2,FALSE),0)","v":0},null,null,0,null,null,null,null,null,null,null,null,null,null,null,null,null,null,null,null,null,"00:00:00","00:00:00",0,{"$f":"SpellNumber((AI19))","v":"No Dollars and No Cents"},3,"No "]
[{"$f":"C20-B20","v":"00:00:00"},null,null,null,null,0,null,null,0,null,null,{"$f":"IFERROR(VLOOKUP(K20,$AD$7:AE22,2,FALSE),0)","v":0},null,null,0,null,null,null,null,null,null,null,null,null,null,null,null,null,null,null,null,null,{"$f":"B20","v":"00:00:00"},"00:00:00",0,{"$f":"SpellNumber((AI20))","v":"No Dollars and No Cents"},3,"No "]
["00:00:00",null,null,null,null,0,null,null,0,null,null,{"$f":"IFERROR(VLOOKUP(K21,$AD$7:AE23,2,FALSE),0)","v":0},null,null,0,null,null,null,null,null,null,null,"Con",null,"Bx Frequency Per Day",null,null,null,null,null,null,null,"00:00:00","00:00:00",0,{"$f":"SpellNumber((AI21))","v":"No Dollars and No Cents"},3,"No "]
["00:00:00",null,null,null,null,0,null,null,0,null,null,{"$f":"IFERROR(VLOOKUP(K22,$AD$7:AE24,2,FALSE),0)","v":0},null,null,0,null,null,null,null,null,null,"A",{"$f":"Criteria!I4","v":"Choice Given"},"A",{"$f":"COUNTIF(K7:K104,\"A\")","v":0},null,{"$f":"SUM(Y22:Y24)","v":0},null,"Bin Dec","Frequency of Time",null,null,"00:00:00","00:00:00",0,{"$f":"SpellNumber((AI22))","v":"No Dollars and No Cents"},3,"No "]
["00:00:00",null,null,null,null,0,null,null,0,null,null,{"$f":"IFERROR(VLOOKUP(K23,$AD$7:AE25,2,FALSE),0)","v":0},null,null,0,null,null,null,null,null,null,"B",{"$f":"Criteria!I5","v":"Ignored"},"B",{"$f":"COUNTIF(K7:K104,\"B\")","v":0},null,null,null,"Seven",{"$f":"COUNTIF(AL7:AL104,\"*Seven*\")","v":0},null,null,"00:00:00","00:00:00",0,{"$f":"SpellNumber((AI23))","v":"No Dollars and No Cents"},3,"No "]
["00:00:00",null,null,null,null,0,null,null,0,null,null,{"$f":"IFERROR(VLOOKUP(K24,$AD$7:AE26,2,FALSE),0)","v":0},null,null,0,null,null,null,null,null,null,"C",{"$f":"Criteria!I6","v":"Redirection"},"C",{"$f":"COUNTIF(K7:K104,\"C\")","v":0},null,null,null,"Eight",{"$f":"COUNTIF(AL7:AL104,\"*Eight*\")","v":0},null,null,"00:00:00","00:00:00",0,{"$f":"SpellNumber((AI24))","v":"No Dollars and No Cents"},3,"No "]
["00:00:00",null,null,null,null,0,null,null,0,null,null,{"$f":"IFERROR(VLOOKUP(K25,$AD$7:AE27,2,FALSE),0)","v":0},null,null,0,null,null,null,null,null,null,"D",{"$f":"Criteria!I7","v":"Kept the demand"},null,"Bx Druation Per Day",null,null,null,"Nine",{"$f":"COUNTIF(AL7:AL104,\"*Nine*\")","v":0},null,null,"00:00:00","00:00:00",0,{"$f":"SpellNumber((AI25))","v":"No Dollars and No Cents"},3,"No "]
["00:00:00",null,null,null,null,0,null,null,0,null,null,{"$f":"IFERROR(VLOOKUP(K26,$AD$7:AE28,2,FALSE),0)","v":0},null,null,0,null,null,null,null,null,null,"E",{"$f":"Criteria!I8","v":"Changed activity"},"A",{"$f":"SUMIF(K7:K104,\"A\",A7:A104)","v":"00:00:00"},null,null,null,"Ten",{"$f":"COUNTIF(AL7:AL12,\"*Ten*\")","v":0},null,null,"00:00:00","00:00:00",0,{"$f":"SpellNumber((AI26))","v":"No Dollars and No Cents"},3,"No "]
["00:00:00",null,null,null,null,0,null,null,0,null,null,{"$f":"IFERROR(VLOOKUP(K27,$AD$7:AE29,2,FALSE),0)","v":0},null,null,0,null,null,null,null,null,null,"F",{"$f":"Criteria!I9","v":"Verbal reprimand"},"B",{"$f":"SUMIF(K7:K104,\"B\",A7:A104)","v":"00:00:00"},null,null,null,"Eleven",{"$f":"COUNTIF(AL7:AL104,\"*Eleven*\")","v":0},null,null,"00:00:00","00:00:00",0,{"$f":"SpellNumber((AI27))","v":"No Dollars and No Cents"},3,"No "]
["00:00:00",null,null,null,null,0,null,null,0,null,null,{"$f":"IFERROR(VLOOKUP(K28,$AD$7:AE30,2,FALSE),0)","v":0},null,null,0,null,null,null,null,null,null,"G",{"$f":"Criteria!I10","v":"Told to wait"},"C",{"$f":"SUMIF(K7:K104,\"C\",A7:A104)","v":"00:00:00"},null,null,null,"Twelve",{"$f":"COUNTIF(AL7:AL104,\"*Twelve*\")","v":0},null,null,"00:00:00","00:00:00",0,{"$f":"SpellNumber((AI28))","v":"No Dollars and No Cents"},3,"No "]
["00:00:00",null,null,null,null,0,null,null,0,null,null,{"$f":"IFERROR(VLOOKUP(K29,$AD$7:AE31,2,FALSE),0)","v":0},null,null,0,null,null,null,null,null,null,"H",{"$f":"Criteria!I11","v":"Physical Prompt"},null,null,null,null,null,"One",{"$f":"COUNTIF(AL7:AL104,\"*One*\")","v":0},null,null,"00:00:00","00:00:00",0,{"$f":"SpellNumber((AI29))","v":"No Dollars and No Cents"},3,"No "]
["00:00:00",null,null,null,null,0,null,null,0,null,null,{"$f":"IFERROR(VLOOKUP(K30,$AD$7:AE32,2,FALSE),0)","v":0},null,null,0,null,null,null,null,null,null,"I",{"$f":"Criteria!I12","v":"Verbal prompt"},null,null,null,null,null,"Two",{"$f":"COUNTIF(AL7:AL104,\"*Two*\")","v":0},null,null,"00:00:00","00:00:00",0,{"$f":"SpellNumber((AI30))","v":"No Dollars and No Cents"},3,"No "]
["00:00:00",null,null,null,null,0,null,null,0,null,null,{"$f":"IFERROR(VLOOKUP(K31,$AD$7:AE33,2,FALSE),0)","v":0},null,null,0,null,null,null,null,null,null,"J",{"$f":"Criteria!I13","v":"Told to wait"},null,null,null,null,null,"Three",{"$f":"COUNTIF(AL7:AL104,\"*Three*\")","v":0},null,null,"00:00:00","00:00:00",0,{"$f":"SpellNumber((AI31))","v":"No Dollars and No Cents"},3,"No "]
["00:00:00",null,null,null,null,0,null,null,0,null,null,{"$f":"IFERROR(VLOOKUP(K32,$AD$7:AE34,2,FALSE),0)","v":0},null,null,0,null,null,null,null,null,null,"K",{"$f":"Criteria!I14","v":"Unknown"},null,null,null,null,null,"Four",{"$f":"COUNTIF(AL7:AL104,\"*Four*\")","v":0},null,null,"00:00:00","00:00:00",0,{"$f":"SpellNumber((AI32))","v":"No Dollars and No Cents"},3,"No "]
["00:00:00",null,null,null,null,0,null,null,0,null,null,{"$f":"IFERROR(VLOOKUP(K33,$AD$7:AE35,2,FALSE),0)","v":0},null,null,0,null,null,null,null,null,null,"L",{"$f":"Criteria!I15","v":"Other"},null,null,null,null,null,null,null,null,null,"00:00:00","00:00:00",0,{"$f":"SpellNumber((AI33))","v":"No Dollars and No Cents"},3,"No "]
["00:00:00",null,null,null,null,0,null,null,0,null,null,{"$f":"IFERROR(VLOOKUP(K34,$AD$7:AE36,2,FALSE),0)","v":0},null,null,0,null,null,null,null,null,null,null,null,null,null,null,null,null,null,null,null,null,"00:00:00","00:00:00",0,{"$f":"SpellNumber((AI34))","v":"No Dollars and No Cents"},3,"No "]
["00:00:00",null,null,null,null,0,null,null,0,null,null,{"$f":"IFERROR(VLOOKUP(K35,$AD$7:AE37,2,FALSE),0)","v":0},null,null,0,null,null,null,null,null,null,null,"Context Frequency","Consequence","Antedencents",null,null,null,null,null,null,null,"00:00:00","00:00:00",0,{"$f":"SpellNumber((AI35))","v":"No Dollars and No Cents"},3,"No "]
["00:00:00",null,null,null,null,0,null,null,0,null,null,{"$f":"IFERROR(VLOOKUP(K36,$AD$7:AE38,2,FALSE),0)","v":0},null,null,0,null,null,null,null,null,null,"A",{"$f":"COUNTIF(E7:E104,\"A\")","v":0},{"$f":"COUNTIF(N7:N104,\"A\")","v":0},{"$f":"COUNTIF(H7:H104,\"A\")","v":0},null,null,null,null,null,null,null,"00:00:00","00:00:00",0,{"$f":"SpellNumber((AI36))","v":"No Dollars and No Cents"},3,"No "]
["00:00:00",null,null,null,null,0,null,null,0,null,null,{"$f":"IFERROR(VLOOKUP(K37,$AD$7:AE39,2,FALSE),0)","v":0},null,null,0,null,null,null,null,null,null,"B",{"$f":"COUNTIF(E8:E105,\"B\")","v":0},{"$f":"COUNTIF(N7:N104,\"B\")","v":0},{"$f":"COUNTIF(H7:H104,\"B\")","v":0},null,null,null,null,null,null,null,"00:00:00","00:00:00",0,{"$f":"SpellNumber((AI37))","v":"No Dollars and No Cents"},3,"No "]
["00:00:00",null,null,null,null,0,null,null,0,null,null,{"$f":"IFERROR(VLOOKUP(K38,$AD$7:AE40,2,FALSE),0)","v":0},null,null,0,null,null,null,null,null,null,"C",{"$f":"COUNTIF(E8:E105,\"C\")","v":0},{"$f":"COUNTIF(N7:N104,\"C\")","v":0},{"$f":"COUNTIF(H7:H104,\"C\")","v":0},null,null,null,null,null,null,null,"00:00:00","00:00:00",0,{"$f":"SpellNumber((AI38))","v":"No Dollars and No Cents"},3,"No "]
["00:00:00",null,null,null,null,0,null,null,0,null,null,{"$f":"IFERROR(VLOOKUP(K39,$AD$7:AE41,2,FALSE),0)","v":0},null,null,0,null,null,null,null,null,null,"D",{"$f":"COUNTIF(E8:E105,\"D\")","v":0},{"$f":"COUNTIF(N7:N104,\"D\")","v":0},{"$f":"COUNTIF(H7:H104,\"D\")","v":0},null,null,null,null,null,null,null,"00:00:00","00:00:00",0,{"$f":"SpellNumber((AI39))","v":"No Dollars and No Cents"},3,"No "]
["00:00:00",null,null,null,null,0,null,null,0,null,null,{"$f":"IFERROR(VLOOKUP(K40,$AD$7:AE42,2,FALSE),0)","v":0},null,null,0,null,null,null,null,null,null,"E",{"$f":"COUNTIF(E8:E105,\"E\")","v":0},{"$f":"COUNTIF(N7:N104,\"E\")","v":0},{"$f":"COUNTIF(H7:H104,\"E\")","v":0},null,null,null,null,null,null,null,"00:00:00","00:00:00",0,{"$f":"SpellNumber((AI40))","v":"No Dollars and No Cents"},3,"No "]
["00:00:00",null,null,null,null,0,null,null,0,null,null,{"$f":"IFERROR(VLOOKUP(K41,$AD$7:AE43,2,FALSE),0)","v":0},null,null,0,null,null,null,null,null,null,"F",{"$f":"COUNTIF(E8:E105,\"F\")","v":0},{"$f":"COUNTIF(N7:N104,\"F\")","v":0},{"$f":"COUNTIF(H7:H104,\"F\")","v":0},null,null,null,null,null,null,null,"00:00:00","00:00:00",0,{"$f":"SpellNumber((AI41))","v":"No Dollars and No Cents"},3,"No "]
["00:00:00",null,null,null,null,0,null,null,0,null,null,{"$f":"IFERROR(VLOOKUP(K42,$AD$7:AE44,2,FALSE),0)","v":0},null,null,0,null,null,null,null,null,null,"G",{"$f":"COUNTIF(E8:E105,\"G\")","v":0},{"$f":"COUNTIF(N7:N104,\"G\")","v":0},{"$f":"COUNTIF(H7:H104,\"G\")","v":0},null,null,null,null,null,null,null,"00:00:00","00:00:00",0,{"$f":"SpellNumber((AI42))","v":"No Dollars and No Cents"},3,"No "]
["00:00:00",null,null,null,null,0,null,null,0,null,null,{"$f":"IFERROR(VLOOKUP(K43,$AD$7:AE45,2,FALSE),0)","v":0},null,null,0,null,null,null,null,null,null,"H",{"$f":"COUNTIF(E8:E105,\"H\")","v":0},{"$f":"COUNTIF(N7:N104,\"H\")","v":0},{"$f":"COUNTIF(H7:H104,\"H\")","v":0},null,null,null,null,null,null,null,"00:00:00","00:00:00",0,{"$f":"SpellNumber((AI43))","v":"No Dollars and No Cents"},3,"No "]
["00:00:00",null,null,null,null,0,null,null,0,null,null,{"$f":"IFERROR(VLOOKUP(K44,$AD$7:AE46,2,FALSE),0)","v":0},null,null,0,null,null,null,null,null,null,"I",{"$f":"COUNTIF(E8:E105,\"I\")","v":0},{"$f":"COUNTIF(N7:N104,\"I\")","v":0},{"$f":"COUNTIF(H7:H104,\"I\")","v":0},null,null,null,null,null,null,null,"00:00:00","00:00:00",0,{"$f":"SpellNumber((AI44))","v":"No Dollars and No Cents"},3,"No "]
["00:00:00",null,null,null,null,0,null,null,0,null,null,{"$f":"IFERROR(VLOOKUP(K45,$AD$7:AE47,2,FALSE),0)","v":0},null,null,0,null,null,null,null,null,null,"J",{"$f":"COUNTIF(E8:E105,\"J\")","v":0},{"$f":"COUNTIF(N7:N104,\"J\")","v":0},{"$f":"COUNTIF(H7:H104,\"J\")","v":0},null,null,null,null,null,null,null,"00:00:00","00:00:00",0,{"$f":"SpellNumber((AI45))","v":"No Dollars and No Cents"},3,"No "]
["00:00:00",null,null,null,null,0,null,null,0,null,null,{"$f":"IFERROR(VLOOKUP(K46,$AD$7:AE48,2,FALSE),0)","v":0},null,null,0,null,null,null,null,null,null,"K",{"$f":"COUNTIF(E8:E105,\"K\")","v":0},{"$f":"COUNTIF(N7:N104,\"K\")","v":0},{"$f":"COUNTIF(H7:H104,\"K\")","v":0},null,null,null,null,null,null,null,"00:00:00","00:00:00",0,{"$f":"SpellNumber((AI46))","v":"No Dollars and No Cents"},3,"No "]
["00:00:00",null,null,null,null,0,null,null,0,null,null,{"$f":"IFERROR(VLOOKUP(K47,$AD$7:AE49,2,FALSE),0)","v":0},null,null,0,null,null,null,null,null,null,"L",{"$f":"COUNTIF(E8:E105,\"l\")","v":0},{"$f":"COUNTIF(N7:N104,\"L\")","v":0},{"$f":"COUNTIF(H7:H104,\"L\")","v":0},null,null,null,null,null,null,null,"00:00:00","00:00:00",0,{"$f":"SpellNumber((AI47))","v":"No Dollars and No Cents"},3,"No "]
["00:00:00",null,null,null,null,0,null,null,0,null,null,{"$f":"IFERROR(VLOOKUP(K48,$AD$7:AE50,2,FALSE),0)","v":0},null,null,0,null,null,null,null,null,null,null,null,null,null,null,null,null,null,null,null,null,"00:00:00","00:00:00",0,{"$f":"SpellNumber((AI48))","v":"No Dollars and No Cents"},3,"No "]
["00:00:00",null,null,null,null,0,null,null,0,null,null,{"$f":"IFERROR(VLOOKUP(K49,$AD$7:AE51,2,FALSE),0)","v":0},null,null,0,null,null,null,null,null,null,null,"Beh & Setting ",null,null,null,"Beh & Antecedents",null,null,null,null,null,"00:00:00","00:00:00",0,{"$f":"SpellNumber((AI49))","v":"No Dollars and No Cents"},3,"No "]
["00:00:00",null,null,null,null,0,null,null,0,null,null,{"$f":"IFERROR(VLOOKUP(K50,$AD$7:AE52,2,FALSE),0)","v":0},null,null,0,null,null,null,null,null,null,null,"A","B","C",null,null,"A","B","C",null,null,"00:00:00","00:00:00",0,{"$f":"SpellNumber((AI50))","v":"No Dollars and No Cents"},3,"No "]
["00:00:00",null,null,null,null,0,null,null,0,null,null,{"$f":"IFERROR(VLOOKUP(K51,$AD$7:AE53,2,FALSE),0)","v":0},null,null,0,null,null,null,null,null,null,"A",{"$f":"COUNTIFS(E7:E104,\"A\",K7:K104,\"A\")","v":0},{"$f":"COUNTIFS(E7:E104,\"A\",K7:K104,\"B\")","v":0},{"$f":"COUNTIFS(E7:E104,\"A\",K7:K104,\"C\")","v":0},null,"A",{"$f":"COUNTIFS(H7:H104,\"a\",K7:K104,\"A\")","v":0},{"$f":"COUNTIFS(H7:H104,\"A\",K7:K104,\"B\")","v":0},{"$f":"COUNTIFS(H7:H104,\"A\",K7:K104,\"C\")","v":0},null,null,"00:00:00","00:00:00",0,{"$f":"SpellNumber((AI51))","v":"No Dollars and No Cents"},3,"No "]
["00:00:00",null,null,null,null,0,null,null,0,null,null,{"$f":"IFERROR(VLOOKUP(K52,$AD$7:AE54,2,FALSE),0)","v":0},null,null,0,null,null,null,null,null,null,"B",{"$f":"COUNTIFS(E7:E104,\"B\",K7:K104,\"A\")","v":0},{"$f":"COUNTIFS(E7:E104,\"B\",K7:K104,\"B\")","v":0},{"$f":"COUNTIFS(E7:E104,\"B\",K7:K104,\"C\")","v":0},null,"B",{"$f":"COUNTIFS(H7:H104,\"B\",K7:K104,\"A\")","v":0},{"$f":"COUNTIFS(H7:H104,\"B\",K7:K104,\"B\")","v":0},{"$f":"COUNTIFS(H7:H104,\"B\",K7:K104,\"C\")","v":0},null,null,"00:00:00","00:00:00",0,{"$f":"SpellNumber((AI52))","v":"No Dollars and No Cents"},3,"No "]
["00:00:00",null,null,null,null,0,null,null,0,null,null,{"$f":"IFERROR(VLOOKUP(K53,$AD$7:AE55,2,FALSE),0)","v":0},null,null,0,null,null,null,null,null,null,"C",{"$f":"COUNTIFS(K7:K104,\"C\",K7:K104,\"A\")","v":0},{"$f":"COUNTIFS(E7:E104,\"C\",K7:K104,\"B\")","v":0},{"$f":"COUNTIFS(E7:E104,\"C\",K7:K104,\"C\")","v":0},null,"C",{"$f":"COUNTIFS(H7:H104,\"C\",K7:K104,\"A\")","v":0},{"$f":"COUNTIFS(H7:H104,\"C\",K7:K104,\"B\")","v":0},{"$f":"COUNTIFS(H7:H104,\"C\",K7:K104,\"C\")","v":0},null,null,"00:00:00","00:00:00",0,{"$f":"SpellNumber((AI53))","v":"No Dollars and No Cents"},3,"No "]
["00:00:00",null,null,null,null,0,null,null,0,null,null,{"$f":"IFERROR(VLOOKUP(K54,$AD$7:AE56,2,FALSE),0)","v":0},null,null,0,null,null,null,null,null,null,"D",{"$f":"COUNTIFS(E7:E104,\"D\",K7:K104,\"A\")","v":0},{"$f":"COUNTIFS(E7:E104,\"D\",K7:K104,\"B\")","v":0},{"$f":"COUNTIFS(E7:E104,\"D\",K7:K104,\"C\")","v":0},null,"D",{"$f":"COUNTIFS(H7:H104,\"D\",K7:K104,\"A\")","v":0},{"$f":"COUNTIFS(H7:H104,\"D\",K7:K104,\"B\")","v":0},{"$f":"COUNTIFS(H7:H104,\"D\",K7:K104,\"C\")","v":0},null,null,"00:00:00","00:00:00",0,{"$f":"SpellNumber((AI54))","v":"No Dollars and No Cents"},3,"No "]
["00:00:00",null,null,null,null,0,null,null,0,null,null,{"$f":"IFERROR(VLOOKUP(K55,$AD$7:AE57,2,FALSE),0)","v":0},null,null,0,null,null,null,null,null,null,"E",{"$f":"COUNTIFS(E7:E104,\"E\",K7:K104,\"A\")","v":0},{"$f":"COUNTIFS(E7:E104,\"E\",K7:K104,\"B\")","v":0},{"$f":"COUNTIFS(E7:E104,\"E\",K7:K104,\"C\")","v":0},null,"E",{"$f":"COUNTIFS(H7:H104,\"E\",K7:K104,\"A\")","v":0},{"$f":"COUNTIFS(H7:H104,\"E\",K7:K104,\"B\")","v":0},{"$f":"COUNTIFS(H7:H104,\"E\",K7:K104,\"C\")","v":0},null,null,"00:00:00","00:00:00",0,{"$f":"SpellNumber((AI55))","v":"No Dollars and No Cents"},3,"No "]
["00:00:00",null,null,null,null,0,null,null,0,null,null,{"$f":"IFERROR(VLOOKUP(K56,$AD$7:AE58,2,FALSE),0)","v":0},null,null,0,null,null,null,null,null,null,"F",{"$f":"COUNTIFS(E7:E104,\"F\",K7:K104,\"A\")","v":0},{"$f":"COUNTIFS(E7:E104,\"F\",K7:K104,\"B\")","v":0},{"$f":"COUNTIFS(E7:E104,\"F\",K7:K104,\"C\")","v":0},null,"F",{"$f":"COUNTIFS(H7:H104,\"F\",K7:K104,\"A\")","v":0},{"$f":"COUNTIFS(H7:H104,\"F\",K7:K104,\"B\")","v":0},{"$f":"COUNTIFS(H7:H104,\"F\",K7:K104,\"C\")","v":0},null,null,"00:00:00","00:00:00",0,{"$f":"SpellNumber((AI56))","v":"No Dollars and No Cents"},3,"No "]
["00:00:00",null,null,null,null,0,null,null,0,null,null,{"$f":"IFERROR(VLOOKUP(K57,$AD$7:AE59,2,FALSE),0)","v":0},null,null,0,null,null,null,null,null,null,"G",{"$f":"COUNTIFS(E7:E104,\"G\",K7:K104,\"A\")","v":0},{"$f":"COUNTIFS(E7:E104,\"G\",K7:K104,\"B\")","v":0},{"$f":"COUNTIFS(E7:E104,\"G\",K7:K104,\"C\")","v":0},null,"G",{"$f":"COUNTIFS(H7:H104,\"G\",K7:K104,\"A\")","v":0},{"$f":"COUNTIFS(H7:H104,\"G\",K7:K104,\"B\")","v":0},{"$f":"COUNTIFS(H7:H104,\"G\",K7:K104,\"C\")","v":0},null,null,"00:00:00","00:00:00",0,{"$f":"SpellNumber((AI57))","v":"No Dollars and No Cents"},3,"No "]
["00:00:00",null,null,null,null,0,null,null,0,null,null,{"$f":"IFERROR(VLOOKUP(K58,$AD$7:AE60,2,FALSE),0)","v":0},null,null,0,null,null,null,null,null,null,"H",{"$f":"COUNTIFS(E7:E104,\"H\",K7:K104,\"A\")","v":0},{"$f":"COUNTIFS(E7:E104,\"H\",K7:K104,\"B\")","v":0},{"$f":"COUNTIFS(E7:E104,\"H\",K7:K104,\"C\")","v":0},null,"H",{"$f":"COUNTIFS(H7:H104,\"H\",K7:K104,\"A\")","v":0},{"$f":"COUNTIFS(H7:H104,\"H\",K7:K104,\"B\")","v":0},{"$f":"COUNTIFS(H7:H104,\"H\",K7:K104,\"C\")","v":0},null,null,"00:00:00","00:00:00",0,{"$f":"SpellNumber((AI58))","v":"No Dollars and No Cents"},3,"No "]
["00:00:00",null,null,null,null,0,null,null,0,null,null,{"$f":"IFERROR(VLOOKUP(K59,$AD$7:AE61,2,FALSE),0)","v":0},null,null,0,null,null,null,null,null,null,"I",{"$f":"COUNTIFS(E7:E104,\"I\",K7:K104,\"A\")","v":0},{"$f":"COUNTIFS(E7:E104,\"I\",K7:K104,\"B\")","v":0},{"$f":"COUNTIFS(E7:E104,\"I\",K7:K104,\"C\")","v":0},null,"I",{"$f":"COUNTIFS(H7:H104,\"I\",K7:K104,\"A\")","v":0},{"$f":"COUNTIFS(H7:H104,\"I\",K7:K104,\"B\")","v":0},{"$f":"COUNTIFS(H7:H104,\"I\",K7:K104,\"C\")","v":0},null,null,"00:00:00","00:00:00",0,{"$f":"SpellNumber((AI59))","v":"No Dollars and No Cents"},3,"No "]
["00:00:00",null,null,null,null,0,null,null,0,null,null,{"$f":"IFERROR(VLOOKUP(K60,$AD$7:AE62,2,FALSE),0)","v":0},null,null,0,null,null,null,null,null,null,"J",{"$f":"COUNTIFS(E7:E104,\"J\",K7:K104,\"A\")","v":0},{"$f":"COUNTIFS(E7:E104,\"J\",K7:K104,\"B\")","v":0},{"$f":"COUNTIFS(E7:E104,\"J\",K7:K104,\"C\")","v":0},null,"J",{"$f":"COUNTIFS(H7:H104,\"J\",K7:K104,\"A\")","v":0},{"$f":"COUNTIFS(H7:H104,\"J\",K7:K104,\"B\")","v":0},{"$f":"COUNTIFS(H7:H104,\"J\",K7:K104,\"C\")","v":0},null,null,"00:00:00","00:00:00",0,{"$f":"SpellNumber((AI60))","v":"No Dollars and No Cents"},3,"No "]
["00:00:00",null,null,null,null,0,null,null,0,null,null,{"$f":"IFERROR(VLOOKUP(K61,$AD$7:AE63,2,FALSE),0)","v":0},null,null,0,null,null,null,null,null,null,"K",{"$f":"COUNTIFS(E7:E104,\"K\",K7:K104,\"A\")","v":0},{"$f":"COUNTIFS(E7:E104,\"K\",K7:K104,\"B\")","v":0},{"$f":"COUNTIFS(E7:E104,\"K\",K7:K104,\"C\")","v":0},null,"K",{"$f":"COUNTIFS(H7:H104,\"K\",K7:K104,\"A\")","v":0},{"$f":"COUNTIFS(H7:H104,\"K\",K7:K104,\"B\")","v":0},{"$f":"COUNTIFS(H7:H104,\"K\",K7:K104,\"C\")","v":0},null,null,"00:00:00","00:00:00",0,{"$f":"SpellNumber((AI61))","v":"No Dollars and No Cents"},3,"No "]
["00:00:00",null,null,null,null,0,null,null,0,null,null,{"$f":"IFERROR(VLOOKUP(K62,$AD$7:AE64,2,FALSE),0)","v":0},null,null,0,null,null,null,null,null,null,"L",{"$f":"COUNTIFS(E7:E104,\"L\",K7:K104,\"A\")","v":0},{"$f":"COUNTIFS(E7:E104,\"L\",K7:K104,\"B\")","v":0},{"$f":"COUNTIFS(E7:E104,\"L\",K7:K104,\"C\")","v":0},null,"L",{"$f":"COUNTIFS(H7:H104,\"L\",K7:K104,\"A\")","v":0},{"$f":"COUNTIFS(H7:H104,\"L\",K7:K104,\"B\")","v":0},{"$f":"COUNTIFS(H7:H104,\"L\",K7:K104,\"C\")","v":0},null,null,"00:00:00","00:00:00",0,{"$f":"SpellNumber((AI62))","v":"No Dollars and No Cents"},3,"No "]
["00:00:00",null,null,null,null,0,null,null,0,null,null,{"$f":"IFERROR(VLOOKUP(K63,$AD$7:AE65,2,FALSE),0)","v":0},null,null,0,null,null,null,null,null,null,null,"Beh & Consequences",null,null,null,null,null,null,null,null,null,"00:00:00","00:00:00",0,{"$f":"SpellNumber((AI63))","v":"No Dollars and No Cents"},3,"No "]
["00:00:00",null,null,null,null,0,null,null,0,null,null,{"$f":"IFERROR(VLOOKUP(K64,$AD$7:AE66,2,FALSE),0)","v":0},null,null,0,null,null,null,null,null,null,null,"A","B","C",null,null,null,null,null,null,null,"00:00:00","00:00:00",0,{"$f":"SpellNumber((AI64))","v":"No Dollars and No Cents"},3,"No "]
["00:00:00",null,null,null,null,0,null,null,0,null,null,{"$f":"IFERROR(VLOOKUP(K65,$AD$7:AE67,2,FALSE),0)","v":0},null,null,0,null,null,null,null,null,null,"A",{"$f":"COUNTIFS(N7:N104,\"A\",K7:K104,\"A\")","v":0},{"$f":"COUNTIFS(N7:N104,\"A\",K7:K104,\"B\")","v":0},{"$f":"COUNTIFS(N7:N104,\"A\",K7:K104,\"C\")","v":0},null,null,null,null,null,null,null,"00:00:00","00:00:00",0,{"$f":"SpellNumber((AI65))","v":"No Dollars and No Cents"},3,"No "]
["00:00:00",null,null,null,null,0,null,null,0,null,null,{"$f":"IFERROR(VLOOKUP(K66,$AD$7:AE68,2,FALSE),0)","v":0},null,null,0,null,null,null,null,null,null,"B",{"$f":"COUNTIFS(N7:N104,\"B\",K7:K104,\"A\")","v":0},{"$f":"COUNTIFS(N7:N104,\"B\",K7:K104,\"B\")","v":0},{"$f":"COUNTIFS(N7:N104,\"B\",K7:K104,\"C\")","v":0},null,null,null,null,null,null,null,"00:00:00","00:00:00",0,{"$f":"SpellNumber((AI66))","v":"No Dollars and No Cents"},3,"No "]
["00:00:00",null,null,null,null,0,null,null,0,null,null,{"$f":"IFERROR(VLOOKUP(K67,$AD$7:AE69,2,FALSE),0)","v":0},null,null,0,null,null,null,null,null,null,"C",{"$f":"COUNTIFS(N7:N104,\"C\",K7:K104,\"A\")","v":0},{"$f":"COUNTIFS(N7:N104,\"C\",K7:K104,\"B\")","v":0},{"$f":"COUNTIFS(N7:N104,\"C\",K7:K104,\"C\")","v":0},null,null,null,null,null,null,null,"00:00:00","00:00:00",0,{"$f":"SpellNumber((AI67))","v":"No Dollars and No Cents"},3,"No "]
["00:00:00",null,null,null,null,0,null,null,0,null,null,{"$f":"IFERROR(VLOOKUP(K68,$AD$7:AE70,2,FALSE),0)","v":0},null,null,0,null,null,null,null,null,null,"D",{"$f":"COUNTIFS(N7:N104,\"D\",K7:K104,\"A\")","v":0},{"$f":"COUNTIFS(N7:N104,\"D\",K7:K104,\"B\")","v":0},{"$f":"COUNTIFS(N7:N104,\"D\",K7:K104,\"C\")","v":0},null,null,null,null,null,null,null,"00:00:00","00:00:00",0,{"$f":"SpellNumber((AI68))","v":"No Dollars and No Cents"},3,"No "]
["00:00:00",null,null,null,null,0,null,null,0,null,null,{"$f":"IFERROR(VLOOKUP(K69,$AD$7:AE71,2,FALSE),0)","v":0},null,null,0,null,null,null,null,null,null,"E",{"$f":"COUNTIFS(N7:N104,\"E\",K7:K104,\"A\")","v":0},{"$f":"COUNTIFS(N7:N104,\"E\",K7:K104,\"B\")","v":0},{"$f":"COUNTIFS(N7:N104,\"E\",K7:K104,\"C\")","v":0},null,null,null,null,null,null,null,"00:00:00","00:00:00",0,{"$f":"SpellNumber((AI69))","v":"No Dollars and No Cents"},3,"No "]
["00:00:00",null,null,null,null,0,null,null,0,null,null,{"$f":"IFERROR(VLOOKUP(K70,$AD$7:AE72,2,FALSE),0)","v":0},null,null,0,null,null,null,null,null,null,"F",{"$f":"COUNTIFS(N7:N104,\"F\",K7:K104,\"A\")","v":0},{"$f":"COUNTIFS(N7:N104,\"F\",K7:K104,\"B\")","v":0},{"$f":"COUNTIFS(N7:N104,\"F\",K7:K104,\"C\")","v":0},null,null,null,null,null,null,null,"00:00:00","00:00:00",0,{"$f":"SpellNumber((AI70))","v":"No Dollars and No Cents"},3,"No "]
["00:00:00",null,null,null,null,0,null,null,0,null,null,{"$f":"IFERROR(VLOOKUP(K71,$AD$7:AE73,2,FALSE),0)","v":0},null,null,0,null,null,null,null,null,null,"G",{"$f":"COUNTIFS(N7:N104,\"G\",K7:K104,\"A\")","v":0},{"$f":"COUNTIFS(N7:N104,\"G\",K7:K104,\"B\")","v":0},{"$f":"COUNTIFS(N7:N104,\"G\",K7:K104,\"C\")","v":0},null,null,null,null,null,null,null,"00:00:00","00:00:00",0,{"$f":"SpellNumber((AI71))","v":"No Dollars and No Cents"},3,"No "]
[{"$f":"C72-B72","v":"00:00:00"},null,null,null,null,0,null,null,{"$f":"IFERROR(VLOOKUP(H72,$Z$7:$AA$18,2,FALSE),0)","v":0},null,null,{"$f":"IFERROR(VLOOKUP(K72,$AD$7:AE74,2,FALSE),0)","v":0},null,null,{"$f":"IFERROR(VLOOKUP(N72,$V$22:$W$33,2,FALSE),0)","v":0},null,null,null,null,null,null,"H",{"$f":"COUNTIFS(N7:N104,\"H\",K7:K104,\"A\")","v":0},{"$f":"COUNTIFS(N7:N104,\"H\",K7:K104,\"B\")","v":0},{"$f":"COUNTIFS(N7:N104,\"H\",K7:K104,\"C\")","v":0},null,null,null,null,null,null,null,{"$f":"B72","v":"00:00:00"},{"$f":"TEXT(AG72,\"hh:mm:ss\")","v":"00:00:00"},{"$f":"AG72*24","v":0},{"$f":"SpellNumber((AI72))","v":"No Dollars and No Cents"},{"$f":"FIND(\" Dollar\",AJ72)","v":3},{"$f":"LEFT(AJ72,AK72)","v":"No "}]
["00:00:00",null,null,null,null,{"$f":"IFERROR(VLOOKUP(E73,$V$7:$W$18,2,FALSE),0)","v":0},null,null,0,null,null,{"$f":"IFERROR(VLOOKUP(K73,$AD$7:AE75,2,FALSE),0)","v":0},null,null,0,null,null,null,null,null,null,"I",{"$f":"COUNTIFS(N7:N104,\"I\",K7:K104,\"A\")","v":0},{"$f":"COUNTIFS(N7:N104,\"I\",K7:K104,\"B\")","v":0},{"$f":"COUNTIFS(N7:N104,\"I\",K7:K104,\"C\")","v":0},null,null,null,null,null,null,null,"00:00:00","00:00:00",0,{"$f":"SpellNumber((AI73))","v":"No Dollars and No Cents"},3,"No "]
["00:00:00",null,null,null,null,0,null,null,0,null,null,{"$f":"IFERROR(VLOOKUP(K74,$AD$7:AE76,2,FALSE),0)","v":0},null,null,0,null,null,null,null,null,null,"J",{"$f":"COUNTIFS(N7:N104,\"J\",K7:K104,\"A\")","v":0},{"$f":"COUNTIFS(N7:N104,\"J\",K7:K104,\"B\")","v":0},{"$f":"COUNTIFS(N7:N104,\"J\",K7:K104,\"C\")","v":0},null,null,null,null,null,null,null,"00:00:00","00:00:00",0,{"$f":"SpellNumber((AI74))","v":"No Dollars and No Cents"},3,"No "]
["00:00:00",null,null,null,null,0,null,null,0,null,null,{"$f":"IFERROR(VLOOKUP(K75,$AD$7:AE77,2,FALSE),0)","v":0},null,null,0,null,null,null,null,null,null,"K",{"$f":"COUNTIFS(N7:N104,\"K\",K7:K104,\"A\")","v":0},{"$f":"COUNTIFS(N7:N104,\"K\",K7:K104,\"B\")","v":0},{"$f":"COUNTIFS(N7:N104,\"K\",K7:K104,\"C\")","v":0},null,null,null,null,null,null,null,"00:00:00","00:00:00",0,{"$f":"SpellNumber((AI75))","v":"No Dollars and No Cents"},3,"No "]
["00:00:00",null,null,null,null,0,null,null,0,null,null,{"$f":"IFERROR(VLOOKUP(K76,$AD$7:AE78,2,FALSE),0)","v":0},null,null,0,null,null,null,null,null,null,"L",{"$f":"COUNTIFS(N7:N104,\"L\",K7:K104,\"A\")","v":0},{"$f":"COUNTIFS(N7:N104,\"L\",K7:K104,\"B\")","v":0},{"$f":"COUNTIFS(N7:N104,\"L\",K7:K104,\"C\")","v":0},null,null,null,null,null,null,null,"00:00:00","00:00:00",0,{"$f":"SpellNumber((AI76))","v":"No Dollars and No Cents"},3,"No "]
["00:00:00",null,null,null,null,0,null,null,0,null,null,{"$f":"IFERROR(VLOOKUP(K77,$AD$7:AE79,2,FALSE),0)","v":0},null,null,0,null,null,null,null,null,null,null,null,null,null,null,null,null,null,null,null,null,"00:00:00","00:00:00",0,{"$f":"SpellNumber((AI77))","v":"No Dollars and No Cents"},3,"No "]
["00:00:00",null,null,null,null,0,null,null,0,null,null,{"$f":"IFERROR(VLOOKUP(K78,$AD$7:AE80,2,FALSE),0)","v":0},null,null,0,null,null,null,null,null,null,null,null,null,null,null,null,null,null,null,null,null,"00:00:00","00:00:00",0,{"$f":"SpellNumber((AI78))","v":"No Dollars and No Cents"},3,"No "]
["00:00:00",null,null,null,null,0,null,null,0,null,null,{"$f":"IFERROR(VLOOKUP(K79,$AD$7:AE81,2,FALSE),0)","v":0},null,null,0,null,null,null,null,null,null,null,null,null,null,null,null,null,null,null,null,null,"00:00:00","00:00:00",0,{"$f":"SpellNumber((AI79))","v":"No Dollars and No Cents"},3,"No "]
["00:00:00",null,null,null,null,0,null,null,0,null,null,{"$f":"IFERROR(VLOOKUP(K80,$AD$7:AE82,2,FALSE),0)","v":0},null,null,0,null,null,null,null,null,null,null,null,null,null,null,null,null,null,null,null,null,"00:00:00","00:00:00",0,{"$f":"SpellNumber((AI80))","v":"No Dollars and No Cents"},3,"No "]
["00:00:00",null,null,null,null,0,null,null,0,null,null,{"$f":"IFERROR(VLOOKUP(K81,$AD$7:AE83,2,FALSE),0)","v":0},null,null,0,null,null,null,null,null,null,null,null,null,null,null,null,null,null,null,null,null,"00:00:00","00:00:00",0,{"$f":"SpellNumber((AI81))","v":"No Dollars and No Cents"},3,"No "]
["00:00:00",null,null,null,null,0,null,null,0,null,null,{"$f":"IFERROR(VLOOKUP(K82,$AD$7:AE84,2,FALSE),0)","v":0},null,null,0,null,null,null,null,null,null,null,null,null,null,null,null,null,null,null,null,null,"00:00:00","00:00:00",0,{"$f":"SpellNumber((AI82))","v":"No Dollars and No Cents"},3,"No "]
["00:00:00",null,null,null,null,0,null,null,0,null,null,{"$f":"IFERROR(VLOOKUP(K83,$AD$7:AE85,2,FALSE),0)","v":0},null,null,0,null,null,null,null,null,null,null,null,null,null,null,null,null,null,null,null,null,"00:00:00","00:00:00",0,{"$f":"SpellNumber((AI83))","v":"No Dollars and No Cents"},3,"No "]
["00:00:00",null,null,null,null,0,null,null,0,null,null,{"$f":"IFERROR(VLOOKUP(K84,$AD$7:AE86,2,FALSE),0)","v":0},null,null,0,null,null,null,null,null,null,null,null,null,null,null,null,null,null,null,null,null,"00:00:00","00:00:00",0,{"$f":"SpellNumber((AI84))","v":"No Dollars and No Cents"},3,"No "]
["00:00:00",null,null,null,null,0,null,null,0,null,null,{"$f":"IFERROR(VLOOKUP(K85,$AD$7:AE87,2,FALSE),0)","v":0},null,null,0,null,null,null,null,null,null,null,null,null,null,null,null,null,null,null,null,null,"00:00:00","00:00:00",0,{"$f":"SpellNumber((AI85))","v":"No Dollars and No Cents"},3,"No "]
["00:00:00",null,null,null,null,0,null,null,0,null,null,{"$f":"IFERROR(VLOOKUP(K86,$AD$7:AE88,2,FALSE),0)","v":0},null,null,0,null,null,null,null,null,null,null,null,null,null,null,null,null,null,null,null,null,"00:00:00","00:00:00",0,{"$f":"SpellNumber((AI86))","v":"No Dollars and No Cents"},3,"No "]
["00:00:00",null,null,null,null,0,null,null,0,null,null,{"$f":"IFERROR(VLOOKUP(K87,$AD$7:AE89,2,FALSE),0)","v":0},null,null,0,null,null,null,null,null,null,null,null,null,null,null,null,null,null,null,null,null,"00:00:00","00:00:00",0,{"$f":"SpellNumber((AI87))","v":"No Dollars and No Cents"},3,"No "]
["00:00:00",null,null,null,null,0,null,null,0,null,null,{"$f":"IFERROR(VLOOKUP(K88,$AD$7:AE90,2,FALSE),0)","v":0},null,null,0,null,null,null,null,null,null,null,null,null,null,null,null,null,null,null,null,null,"00:00:00","00:00:00",0,{"$f":"SpellNumber((AI88))","v":"No Dollars and No Cents"},3,"No "]
["00:00:00",null,null,null,null,0,null,null,0,null,null,{"$f":"IFERROR(VLOOKUP(K89,$AD$7:AE91,2,FALSE),0)","v":0},null,null,0,null,null,null,null,null,null,null,null,null,null,null,null,null,null,null,null,null,"00:00:00","00:00:00",0,{"$f":"SpellNumber((AI89))","v":"No Dollars and No Cents"},3,"No "]
["00:00:00",null,null,null,null,0,null,null,0,null,null,{"$f":"IFERROR(VLOOKUP(K90,$AD$7:AE92,2,FALSE),0)","v":0},null,null,0,null,null,null,null,null,null,null,null,null,null,null,null,null,null,null,null,null,"00:00:00","00:00:00",0,{"$f":"SpellNumber((AI90))","v":"No Dollars and No Cents"},3,"No "]
["00:00:00",null,null,null,null,0,null,null,0,null,null,{"$f":"IFERROR(VLOOKUP(K91,$AD$7:AE93,2,FALSE),0)","v":0},null,null,0,null,null,null,"Total Mins",{"$f":"SUM(A7:A104)","v":"00:00:00"},null,null,null,null,null,null,null,null,null,null,null,null,"00:00:00","00:00:00",0,{"$f":"SpellNumber((AI91))","v":"No Dollars and No Cents"},3,"No "]
["00:00:00",null,null,null,null,0,null,null,0,null,null,{"$f":"IFERROR(VLOOKUP(K92,$AD$7:AE94,2,FALSE),0)","v":0},null,null,0,null,null,null,"Settings:","A",{"$f":"COUNTIF(E4:E104,\"A\")","v":0},"Antec.","A",{"$f":"COUNTIF(H4:H104,\"A\")","v":0},"Beh","A",{"$f":"COUNTIF(L4:L104,\"A\")","v":0},"Conse.","A",{"$f":"COUNTIF(O4:O104,\"A\")","v":0},null,null,"00:00:00","00:00:00",0,{"$f":"SpellNumber((AI92))","v":"No Dollars and No Cents"},3,"No "]
["00:00:00",null,null,null,null,0,null,null,0,null,null,{"$f":"IFERROR(VLOOKUP(K93,$AD$7:AE95,2,FALSE),0)","v":0},null,null,0,null,null,null,null,"B",{"$f":"COUNTIF(E5:E105,\"B\")","v":0},null,"B",{"$f":"COUNTIF(H5:H105,\"B\")","v":0},null,"B",{"$f":"COUNTIF(L5:L105,\"B\")","v":0},null,"B",{"$f":"COUNTIF(O5:O105,\"B\")","v":0},null,null,"00:00:00","00:00:00",0,{"$f":"SpellNumber((AI93))","v":"No Dollars and No Cents"},3,"No "]
["00:00:00",null,null,null,null,0,null,null,0,null,null,{"$f":"IFERROR(VLOOKUP(K94,$AD$7:AE96,2,FALSE),0)","v":0},null,null,0,null,null,null,null,"C",{"$f":"COUNTIF(E6:E106,\"C\")","v":0},null,"C",{"$f":"COUNTIF(H6:H106,\"C\")","v":0},null,"C",{"$f":"COUNTIF(L6:L106,\"C\")","v":0},null,"C",{"$f":"COUNTIF(O6:O106,\"C\")","v":0},null,null,"00:00:00","00:00:00",0,{"$f":"SpellNumber((AI94))","v":"No Dollars and No Cents"},3,"No "]
["00:00:00",null,null,null,null,0,null,null,0,null,null,{"$f":"IFERROR(VLOOKUP(K95,$AD$7:AE97,2,FALSE),0)","v":0},null,null,0,null,null,null,null,"D",{"$f":"COUNTIF(E7:E107,\"D\")","v":0},null,"D",{"$f":"COUNTIF(H7:H107,\"D\")","v":0},null,null,null,null,"D",{"$f":"COUNTIF(O7:O107,\"D\")","v":0},null,null,"00:00:00","00:00:00",0,{"$f":"SpellNumber((AI95))","v":"No Dollars and No Cents"},3,"No "]
["00:00:00",null,null,null,null,0,null,null,0,null,null,{"$f":"IFERROR(VLOOKUP(K96,$AD$7:AE98,2,FALSE),0)","v":0},null,null,0,null,null,null,null,"E",{"$f":"COUNTIF(E8:E108,\"E\")","v":0},null,"E",{"$f":"COUNTIF(H8:H108,\"E\")","v":0},null,null,null,null,"E",{"$f":"COUNTIF(O8:O108,\"E\")","v":0},null,null,"00:00:00","00:00:00",0,{"$f":"SpellNumber((AI96))","v":"No Dollars and No Cents"},3,"No "]
["00:00:00",null,null,null,null,0,null,null,0,null,null,{"$f":"IFERROR(VLOOKUP(K97,$AD$7:AE99,2,FALSE),0)","v":0},null,null,0,null,null,null,null,"F",{"$f":"COUNTIF(E9:E109,\"F\")","v":0},null,"F",{"$f":"COUNTIF(H9:H109,\"F\")","v":0},null,null,null,null,"F",{"$f":"COUNTIF(O9:O109,\"F\")","v":0},null,null,"00:00:00","00:00:00",0,{"$f":"SpellNumber((AI97))","v":"No Dollars and No Cents"},3,"No "]
["00:00:00",null,null,null,null,0,null,null,0,null,null,{"$f":"IFERROR(VLOOKUP(K98,$AD$7:AE100,2,FALSE),0)","v":0},null,null,0,null,null,null,null,"G",{"$f":"COUNTIF(E10:E110,\"G\")","v":0},null,"G",{"$f":"COUNTIF(H10:H110,\"G\")","v":0},null,null,null,null,"G",{"$f":"COUNTIF(O10:O110,\"G\")","v":0},null,null,"00:00:00","00:00:00",0,{"$f":"SpellNumber((AI98))","v":"No Dollars and No Cents"},3,"No "]
["00:00:00",null,null,null,null,0,null,null,0,null,null,{"$f":"IFERROR(VLOOKUP(K99,$AD$7:AE101,2,FALSE),0)","v":0},null,null,0,null,null,null,null,"H",{"$f":"COUNTIF(E11:E111,\"H\")","v":0},null,"H",{"$f":"COUNTIF(H11:H111,\"H\")","v":0},null,null,null,null,"H",{"$f":"COUNTIF(O11:O111,\"H\")","v":0},null,null,"00:00:00","00:00:00",0,{"$f":"SpellNumber((AI99))","v":"No Dollars and No Cents"},3,"No "]
["00:00:00",null,null,null,null,0,null,null,0,null,null,{"$f":"IFERROR(VLOOKUP(K100,$AD$7:AE102,2,FALSE),0)","v":0},null,null,0,null,null,null,null,"I",{"$f":"COUNTIF(E12:E112,\"I\")","v":0},null,"I",{"$f":"COUNTIF(H12:H112,\"I\")","v":0},null,null,null,null,"I",{"$f":"COUNTIF(O12:O112,\"I\")","v":0},null,null,"00:00:00","00:00:00",0,{"$f":"SpellNumber((AI100))","v":"No Dollars and No Cents"},3,"No "]
["00:00:00",null,null,null,null,0,null,null,0,null,null,{"$f":"IFERROR(VLOOKUP(K101,$AD$7:AE103,2,FALSE),0)","v":0},null,null,0,null,null,null,null,"J",{"$f":"COUNTIF(E13:E113,\"J\")","v":0},null,"J",{"$f":"COUNTIF(H13:H113,\"J\")","v":0},null,null,null,null,"J",{"$f":"COUNTIF(O13:O113,\"J\")","v":0},null,null,"00:00:00","00:00:00",0,{"$f":"SpellNumber((AI101))","v":"No Dollars and No Cents"},3,"No "]
["00:00:00",null,null,null,null,0,null,null,0,null,null,{"$f":"IFERROR(VLOOKUP(K102,$AD$7:AE104,2,FALSE),0)","v":0},null,null,0,null,null,null,null,"K",{"$f":"COUNTIF(E14:E114,\"K\")","v":0},null,"K",{"$f":"COUNTIF(H14:H114,\"K\")","v":0},null,null,null,null,"K",{"$f":"COUNTIF(O14:O114,\"K\")","v":0},null,null,"00:00:00","00:00:00",0,{"$f":"SpellNumber((AI102))","v":"No Dollars and No Cents"},3,"No "]
["00:00:00",null,null,null,null,0,null,null,0,null,null,{"$f":"IFERROR(VLOOKUP(K103,$AD$7:AE105,2,FALSE),0)","v":0},null,null,0,null,null,null,null,"L",{"$f":"COUNTIF(E15:E115,\"L\")","v":0},null,"L",{"$f":"COUNTIF(H15:H115,\"L\")","v":0},null,null,null,null,"L",{"$f":"COUNTIF(O15:O115,\"L\")","v":0},null,null,"00:00:00","00:00:00",0,{"$f":"SpellNumber((AI103))","v":"No Dollars and No Cents"},3,"No "]
["00:00:00",null,null,null,null,0,null,null,0,null,null,{"$f":"IFERROR(VLOOKUP(K104,$AD$7:AE106,2,FALSE),0)","v":0},null,null,0,null,null,null,null,null,null,null,null,null,null,null,null,null,null,null,null,null,"00:00:00","00:00:00",0,{"$f":"SpellNumber((AI104))","v":"No Dollars and No Cents"},3,"No "]

{"sheet":"Data 3","index":11,"n_rows":104,"n_cols":38,"rows_kept":104,"cut":false,"hidden":false,"merged":[[0,7,3,14]]}
["ATTENDANCE",null,null,null,null,null,null,"Data Collection"]
["If tardy, arrival time",null,null,null,null,null,null,null,null,null,null,null,null,null,null,null,null,null,null,null,null,null,"Date",{"$f":"Calendar!E5","v":{"$error":"#N/A"}},{"$f":"TEXT(X2,\"ddd\")","v":{"$error":"#N/A"}}]
["If left early, time",null,null,null,null,null,null,null,null,null,null,null,null,null,null,null,null,null,null,null,null,null,"Frq. Of bx",{"$f":"AA22","v":0}]
[]
[]
["Mins.","Start Time","End Time",null,null,null,null,null,null,null,null,null,null,null,null,null,null,null,null,null,null,null,"Setting",null,null,"Ant",null,null,null,"Beh",null,null,"Raw Data","Time in text","Decimal"]
[{"$f":"C7-B7","v":"00:00:00"},null,null,null,null,{"$f":"IFERROR(VLOOKUP(E7,$V$7:$W$18,2,FALSE),0)","v":0},null,null,{"$f":"IFERROR(VLOOKUP(H7,$Z$7:$AA$18,2,FALSE),0)","v":0},null,null,{"$f":"IFERROR(VLOOKUP(K7,$AD$7:AE9,2,FALSE),0)","v":0},null,null,{"$f":"IFERROR(VLOOKUP(N7,$V$22:$W$33,2,FALSE),0)","v":0},null,null,null,null,null,null,"A",{"$f":"Criteria!C4","v":"Transition"},null,null,"A",{"$f":"Criteria!E4","v":"Transition"},null,null,"A",{"$f":"Criteria!G4","v":0},null,{"$f":"B7","v":"00:00:00"},{"$f":"TEXT(AG7,\"hh:mm:ss\")","v":"00:00:00"},{"$f":"AG7*24","v":0},{"$f":"SpellNumber((AI7))","v":"No Dollars and No Cents"},{"$f":"FIND(\" Dollar\",AJ7)","v":3},{"$f":"LEFT(AJ7,AK7)","v":"No "}]
[{"$f":"C8-B8","v":"00:00:00"},null,null,null,null,0,null,null,0,null,null,{"$f":"IFERROR(VLOOKUP(K8,$AD$7:AE10,2,FALSE),0)","v":0},null,null,{"$f":"IFERROR(VLOOKUP(N8,$V$22:$W$33,2,FALSE),0)","v":0},null,null,null,null,null,null,"B",{"$f":"Criteria!C5","v":"Morning Routine"},null,null,"B",{"$f":"Criteria!E5","v":"Denied access ('No')"},null,null,"B",{"$f":"Criteria!G5","v":0},null,{"$f":"B8","v":"00:00:00"},{"$f":"TEXT(AG8,\"hh:mm:ss\")","v":"00:00:00"},{"$f":"AG8*24","v":0},{"$f":"SpellNumber((AI8))","v":"No Dollars and No Cents"},{"$f":"FIND(\" Dollar\",AJ8)","v":3},{"$f":"LEFT(AJ8,AK8)","v":"No "}]
["00:00:00",null,null,null,null,0,null,null,0,null,null,{"$f":"IFERROR(VLOOKUP(K9,$AD$7:AE11,2,FALSE),0)","v":0},null,null,0,null,null,null,null,null,null,"C",{"$f":"Criteria!C6","v":"Group Work"},null,null,"C",{"$f":"Criteria!E6","v":"Instruction/ Directions"},null,null,"C",{"$f":"Criteria!G6","v":0},null,"00:00:00","00:00:00",0,{"$f":"SpellNumber((AI9))","v":"No Dollars and No Cents"},3,"No "]
["00:00:00",null,null,null,null,0,null,null,0,null,null,{"$f":"IFERROR(VLOOKUP(K10,$AD$7:AE12,2,FALSE),0)","v":0},null,null,0,null,null,null,null,null,null,"D",{"$f":"Criteria!C7","v":"Ind. Seat/Work Time"},null,null,"D",{"$f":"Criteria!E7","v":"New Task"},null,null,null,null,null,"00:00:00","00:00:00",0,{"$f":"SpellNumber((AI10))","v":"No Dollars and No Cents"},3,"No "]
["00:00:00",null,null,null,null,0,null,null,0,null,null,{"$f":"IFERROR(VLOOKUP(K11,$AD$7:AE13,2,FALSE),0)","v":0},null,null,0,null,null,null,null,null,null,"E",{"$f":"Criteria!C8","v":"Language Arts"},null,null,"E",{"$f":"Criteria!E8","v":"Tcher attn to other"},null,null,null,null,null,"00:00:00","00:00:00",0,{"$f":"SpellNumber((AI11))","v":"No Dollars and No Cents"},3,"No "]
["00:00:00",null,null,null,null,0,null,null,0,null,null,{"$f":"IFERROR(VLOOKUP(K12,$AD$7:AE14,2,FALSE),0)","v":0},null,null,0,null,null,null,null,null,null,"F",{"$f":"Criteria!C9","v":"Mathematics"},null,null,"F",{"$f":"Criteria!E9","v":"Choice given"},null,null,null,null,null,"00:00:00","00:00:00",0,{"$f":"SpellNumber((AI12))","v":"No Dollars and No Cents"},3,"No "]
["00:00:00",null,null,null,null,0,null,null,0,null,null,{"$f":"IFERROR(VLOOKUP(K13,$AD$7:AE15,2,FALSE),0)","v":0},null,null,0,null,null,null,null,null,null,"G",{"$f":"Criteria!C10","v":"Physical Education"},null,null,"G",{"$f":"Criteria!E10","v":"Redirection"},null,null,null,null,null,"00:00:00","00:00:00",0,{"$f":"SpellNumber((AI13))","v":"No Dollars and No Cents"},3,"No "]
["00:00:00",null,null,null,null,0,null,null,0,null,null,{"$f":"IFERROR(VLOOKUP(K14,$AD$7:AE16,2,FALSE),0)","v":0},null,null,0,null,null,null,null,null,null,"H",{"$f":"Criteria!C11","v":"Music/Art"},null,null,"H",{"$f":"Criteria!E11","v":"Routine Task"},null,null,null,null,null,"00:00:00","00:00:00",0,{"$f":"SpellNumber((AI14))","v":"No Dollars and No Cents"},3,"No "]
["00:00:00",null,null,null,null,0,null,null,0,null,null,{"$f":"IFERROR(VLOOKUP(K15,$AD$7:AE17,2,FALSE),0)","v":0},null,null,0,null,null,null,null,null,null,"I",{"$f":"Criteria!C12","v":"Speech"},null,null,"I",{"$f":"Criteria!E12","v":"Waiting"},null,null,null,null,null,"00:00:00","00:00:00",0,{"$f":"SpellNumber((AI15))","v":"No Dollars and No Cents"},3,"No "]
["00:00:00",null,null,null,null,0,null,null,0,null,null,{"$f":"IFERROR(VLOOKUP(K16,$AD$7:AE18,2,FALSE),0)","v":0},null,null,0,null,null,null,null,null,null,"J",{"$f":"Criteria!C13","v":"OT/PT"},null,null,"J",{"$f":"Criteria!E13","v":"Unknown"},null,null,null,null,null,"00:00:00","00:00:00",0,{"$f":"SpellNumber((AI16))","v":"No Dollars and No Cents"},3,"No "]
["00:00:00",null,null,null,null,0,null,null,0,null,null,{"$f":"IFERROR(VLOOKUP(K17,$AD$7:AE19,2,FALSE),0)","v":0},null,null,0,null,null,null,null,null,null,"K",{"$f":"Criteria!C14","v":"Center"},null,null,"K",{"$f":"Criteria!E14","v":"Ignored"},null,null,null,null,null,"00:00:00","00:00:00",0,{"$f":"SpellNumber((AI17))","v":"No Dollars and No Cents"},3,"No "]
["00:00:00",null,null,null,null,0,null,null,0,null,null,{"$f":"IFERROR(VLOOKUP(K18,$AD$7:AE20,2,FALSE),0)","v":0},null,null,0,null,null,null,null,null,null,"L",{"$f":"Criteria!C15","v":"Other"},null,null,"L",{"$f":"Criteria!E15","v":"Other"},null,null,null,null,null,"00:00:00","00:00:00",0,{"$f":"SpellNumber((AI18))","v":"No Dollars and No Cents"},3,"No "]
["00:00:00",null,null,null,null,{"$f":"IFERROR(VLOOKUP(E19,$V$7:$W$18,2,FALSE),0)","v":0},null,null,{"$f":"IFERROR(VLOOKUP(H19,$Z$7:$AA$18,2,FALSE),0)","v":0},null,null,{"$f":"IFERROR(VLOOKUP(K19,$AD$7:AE21,2,FALSE),0)","v":0},null,null,0,null,null,null,null,null,null,null,null,null,null,null,null,null,null,null,null,null,"00:00:00","00:00:00",0,{"$f":"SpellNumber((AI19))","v":"No Dollars and No Cents"},3,"No "]
["00:00:00",null,null,null,null,0,null,null,0,null,null,{"$f":"IFERROR(VLOOKUP(K20,$AD$7:AE22,2,FALSE),0)","v":0},null,null,0,null,null,null,null,null,null,null,null,null,null,null,null,null,null,null,null,null,"00:00:00","00:00:00",0,{"$f":"SpellNumber((AI20))","v":"No Dollars and No Cents"},3,"No "]
["00:00:00",null,null,null,null,0,null,null,0,null,null,{"$f":"IFERROR(VLOOKUP(K21,$AD$7:AE23,2,FALSE),0)","v":0},null,null,0,null,null,null,null,null,null,null,"Con",null,"Bx Frequency Per Day",null,null,null,null,null,null,null,"00:00:00","00:00:00",0,{"$f":"SpellNumber((AI21))","v":"No Dollars and No Cents"},3,"No "]
["00:00:00",null,null,null,null,0,null,null,0,null,null,{"$f":"IFERROR(VLOOKUP(K22,$AD$7:AE24,2,FALSE),0)","v":0},null,null,0,null,null,null,null,null,null,"A",{"$f":"Criteria!I4","v":"Choice Given"},"A",{"$f":"COUNTIF(K7:K104,\"A\")","v":0},null,{"$f":"SUM(Y22:Y24)","v":0},null,"Bin Dec","Frequency of Time",null,null,"00:00:00","00:00:00",0,{"$f":"SpellNumber((AI22))","v":"No Dollars and No Cents"},3,"No "]
["00:00:00",null,null,null,null,0,null,null,0,null,null,{"$f":"IFERROR(VLOOKUP(K23,$AD$7:AE25,2,FALSE),0)","v":0},null,null,0,null,null,null,null,null,null,"B",{"$f":"Criteria!I5","v":"Ignored"},"B",{"$f":"COUNTIF(K7:K104,\"B\")","v":0},null,null,null,"Seven",{"$f":"COUNTIF(AL7:AL104,\"*Seven*\")","v":0},null,null,"00:00:00","00:00:00",0,{"$f":"SpellNumber((AI23))","v":"No Dollars and No Cents"},3,"No "]
["00:00:00",null,null,null,null,0,null,null,0,null,null,{"$f":"IFERROR(VLOOKUP(K24,$AD$7:AE26,2,FALSE),0)","v":0},null,null,0,null,null,null,null,null,null,"C",{"$f":"Criteria!I6","v":"Redirection"},"C",{"$f":"COUNTIF(K7:K104,\"C\")","v":0},null,null,null,"Eight",{"$f":"COUNTIF(AL7:AL104,\"*Eight*\")","v":0},null,null,"00:00:00","00:00:00",0,{"$f":"SpellNumber((AI24))","v":"No Dollars and No Cents"},3,"No "]
["00:00:00",null,null,null,null,0,null,null,0,null,null,{"$f":"IFERROR(VLOOKUP(K25,$AD$7:AE27,2,FALSE),0)","v":0},null,null,0,null,null,null,null,null,null,"D",{"$f":"Criteria!I7","v":"Kept the demand"},null,"Bx Druation Per Day",null,null,null,"Nine",{"$f":"COUNTIF(AL7:AL104,\"*Nine*\")","v":0},null,null,"00:00:00","00:00:00",0,{"$f":"SpellNumber((AI25))","v":"No Dollars and No Cents"},3,"No "]
["00:00:00",null,null,null,null,0,null,null,0,null,null,{"$f":"IFERROR(VLOOKUP(K26,$AD$7:AE28,2,FALSE),0)","v":0},null,null,0,null,null,null,null,null,null,"E",{"$f":"Criteria!I8","v":"Changed activity"},"A",{"$f":"SUMIF(K7:K104,\"A\",A7:A104)","v":"00:00:00"},null,null,null,"Ten",{"$f":"COUNTIF(AL7:AL12,\"*Ten*\")","v":0},null,null,"00:00:00","00:00:00",0,{"$f":"SpellNumber((AI26))","v":"No Dollars and No Cents"},3,"No "]
["00:00:00",null,null,null,null,0,null,null,0,null,null,{"$f":"IFERROR(VLOOKUP(K27,$AD$7:AE29,2,FALSE),0)","v":0},null,null,0,null,null,null,null,null,null,"F",{"$f":"Criteria!I9","v":"Verbal reprimand"},"B",{"$f":"SUMIF(K7:K104,\"B\",A7:A104)","v":"00:00:00"},null,null,null,"Eleven",{"$f":"COUNTIF(AL7:AL104,\"*Eleven*\")","v":0},null,null,"00:00:00","00:00:00",0,{"$f":"SpellNumber((AI27))","v":"No Dollars and No Cents"},3,"No "]
["00:00:00",null,null,null,null,0,null,null,0,null,null,{"$f":"IFERROR(VLOOKUP(K28,$AD$7:AE30,2,FALSE),0)","v":0},null,null,0,null,null,null,null,null,null,"G",{"$f":"Criteria!I10","v":"Told to wait"},"C",{"$f":"SUMIF(K7:K104,\"C\",A7:A104)","v":"00:00:00"},null,null,null,"Twelve",{"$f":"COUNTIF(AL7:AL104,\"*Twelve*\")","v":0},null,null,"00:00:00","00:00:00",0,{"$f":"SpellNumber((AI28))","v":"No Dollars and No Cents"},3,"No "]
["00:00:00",null,null,null,null,0,null,null,0,null,null,{"$f":"IFERROR(VLOOKUP(K29,$AD$7:AE31,2,FALSE),0)","v":0},null,null,0,null,null,null,null,null,null,"H",{"$f":"Criteria!I11","v":"Physical Prompt"},null,null,null,null,null,"One",{"$f":"COUNTIF(AL7:AL104,\"*One*\")","v":0},null,null,"00:00:00","00:00:00",0,{"$f":"SpellNumber((AI29))","v":"No Dollars and No Cents"},3,"No "]
["00:00:00",null,null,null,null,0,null,null,0,null,null,{"$f":"IFERROR(VLOOKUP(K30,$AD$7:AE32,2,FALSE),0)","v":0},null,null,0,null,null,null,null,null,null,"I",{"$f":"Criteria!I12","v":"Verbal prompt"},null,null,null,null,null,"Two",{"$f":"COUNTIF(AL7:AL104,\"*Two*\")","v":0},null,null,"00:00:00","00:00:00",0,{"$f":"SpellNumber((AI30))","v":"No Dollars and No Cents"},3,"No "]
["00:00:00",null,null,null,null,0,null,null,0,null,null,{"$f":"IFERROR(VLOOKUP(K31,$AD$7:AE33,2,FALSE),0)","v":0},null,null,0,null,null,null,null,null,null,"J",{"$f":"Criteria!I13","v":"Told to wait"},null,null,null,null,null,"Three",{"$f":"COUNTIF(AL7:AL104,\"*Three*\")","v":0},null,null,"00:00:00","00:00:00",0,{"$f":"SpellNumber((AI31))","v":"No Dollars and No Cents"},3,"No "]
["00:00:00",null,null,null,null,0,null,null,0,null,null,{"$f":"IFERROR(VLOOKUP(K32,$AD$7:AE34,2,FALSE),0)","v":0},null,null,0,null,null,null,null,null,null,"K",{"$f":"Criteria!I14","v":"Unknown"},null,null,null,null,null,"Four",{"$f":"COUNTIF(AL7:AL104,\"*Four*\")","v":0},null,null,"00:00:00","00:00:00",0,{"$f":"SpellNumber((AI32))","v":"No Dollars and No Cents"},3,"No "]
["00:00:00",null,null,null,null,0,null,null,0,null,null,{"$f":"IFERROR(VLOOKUP(K33,$AD$7:AE35,2,FALSE),0)","v":0},null,null,0,null,null,null,null,null,null,"L",{"$f":"Criteria!I15","v":"Other"},null,null,null,null,null,null,null,null,null,"00:00:00","00:00:00",0,{"$f":"SpellNumber((AI33))","v":"No Dollars and No Cents"},3,"No "]
["00:00:00",null,null,null,null,0,null,null,0,null,null,{"$f":"IFERROR(VLOOKUP(K34,$AD$7:AE36,2,FALSE),0)","v":0},null,null,0,null,null,null,null,null,null,null,null,null,null,null,null,null,null,null,null,null,"00:00:00","00:00:00",0,{"$f":"SpellNumber((AI34))","v":"No Dollars and No Cents"},3,"No "]
["00:00:00",null,null,null,null,0,null,null,0,null,null,{"$f":"IFERROR(VLOOKUP(K35,$AD$7:AE37,2,FALSE),0)","v":0},null,null,0,null,null,null,null,null,null,null,"Context Frequency","Consequence","Antedencents",null,null,null,null,null,null,null,"00:00:00","00:00:00",0,{"$f":"SpellNumber((AI35))","v":"No Dollars and No Cents"},3,"No "]
["00:00:00",null,null,null,null,0,null,null,0,null,null,{"$f":"IFERROR(VLOOKUP(K36,$AD$7:AE38,2,FALSE),0)","v":0},null,null,0,null,null,null,null,null,null,"A",{"$f":"COUNTIF(E7:E104,\"A\")","v":0},{"$f":"COUNTIF(N7:N104,\"A\")","v":0},{"$f":"COUNTIF(H7:H104,\"A\")","v":0},null,null,null,null,null,null,null,"00:00:00","00:00:00",0,{"$f":"SpellNumber((AI36))","v":"No Dollars and No Cents"},3,"No "]
["00:00:00",null,null,null,null,0,null,null,0,null,null,{"$f":"IFERROR(VLOOKUP(K37,$AD$7:AE39,2,FALSE),0)","v":0},null,null,0,null,null,null,null,null,null,"B",{"$f":"COUNTIF(E8:E105,\"B\")","v":0},{"$f":"COUNTIF(N7:N104,\"B\")","v":0},{"$f":"COUNTIF(H7:H104,\"B\")","v":0},null,null,null,null,null,null,null,"00:00:00","00:00:00",0,{"$f":"SpellNumber((AI37))","v":"No Dollars and No Cents"},3,"No "]
["00:00:00",null,null,null,null,0,null,null,0,null,null,{"$f":"IFERROR(VLOOKUP(K38,$AD$7:AE40,2,FALSE),0)","v":0},null,null,0,null,null,null,null,null,null,"C",{"$f":"COUNTIF(E8:E105,\"C\")","v":0},{"$f":"COUNTIF(N7:N104,\"C\")","v":0},{"$f":"COUNTIF(H7:H104,\"C\")","v":0},null,null,null,null,null,null,null,"00:00:00","00:00:00",0,{"$f":"SpellNumber((AI38))","v":"No Dollars and No Cents"},3,"No "]
["00:00:00",null,null,null,null,0,null,null,0,null,null,{"$f":"IFERROR(VLOOKUP(K39,$AD$7:AE41,2,FALSE),0)","v":0},null,null,0,null,null,null,null,null,null,"D",{"$f":"COUNTIF(E8:E105,\"D\")","v":0},{"$f":"COUNTIF(N7:N104,\"D\")","v":0},{"$f":"COUNTIF(H7:H104,\"D\")","v":0},null,null,null,null,null,null,null,"00:00:00","00:00:00",0,{"$f":"SpellNumber((AI39))","v":"No Dollars and No Cents"},3,"No "]
["00:00:00",null,null,null,null,0,null,null,0,null,null,{"$f":"IFERROR(VLOOKUP(K40,$AD$7:AE42,2,FALSE),0)","v":0},null,null,0,null,null,null,null,null,null,"E",{"$f":"COUNTIF(E8:E105,\"E\")","v":0},{"$f":"COUNTIF(N7:N104,\"E\")","v":0},{"$f":"COUNTIF(H7:H104,\"E\")","v":0},null,null,null,null,null,null,null,"00:00:00","00:00:00",0,{"$f":"SpellNumber((AI40))","v":"No Dollars and No Cents"},3,"No "]
["00:00:00",null,null,null,null,0,null,null,0,null,null,{"$f":"IFERROR(VLOOKUP(K41,$AD$7:AE43,2,FALSE),0)","v":0},null,null,0,null,null,null,null,null,null,"F",{"$f":"COUNTIF(E8:E105,\"F\")","v":0},{"$f":"COUNTIF(N7:N104,\"F\")","v":0},{"$f":"COUNTIF(H7:H104,\"F\")","v":0},null,null,null,null,null,null,null,"00:00:00","00:00:00",0,{"$f":"SpellNumber((AI41))","v":"No Dollars and No Cents"},3,"No "]
["00:00:00",null,null,null,null,0,null,null,0,null,null,{"$f":"IFERROR(VLOOKUP(K42,$AD$7:AE44,2,FALSE),0)","v":0},null,null,0,null,null,null,null,null,null,"G",{"$f":"COUNTIF(E8:E105,\"G\")","v":0},{"$f":"COUNTIF(N7:N104,\"G\")","v":0},{"$f":"COUNTIF(H7:H104,\"G\")","v":0},null,null,null,null,null,null,null,"00:00:00","00:00:00",0,{"$f":"SpellNumber((AI42))","v":"No Dollars and No Cents"},3,"No "]
["00:00:00",null,null,null,null,0,null,null,0,null,null,{"$f":"IFERROR(VLOOKUP(K43,$AD$7:AE45,2,FALSE),0)","v":0},null,null,0,null,null,null,null,null,null,"H",{"$f":"COUNTIF(E8:E105,\"H\")","v":0},{"$f":"COUNTIF(N7:N104,\"H\")","v":0},{"$f":"COUNTIF(H7:H104,\"H\")","v":0},null,null,null,null,null,null,null,"00:00:00","00:00:00",0,{"$f":"SpellNumber((AI43))","v":"No Dollars and No Cents"},3,"No "]
["00:00:00",null,null,null,null,0,null,null,0,null,null,{"$f":"IFERROR(VLOOKUP(K44,$AD$7:AE46,2,FALSE),0)","v":0},null,null,0,null,null,null,null,null,null,"I",{"$f":"COUNTIF(E8:E105,\"I\")","v":0},{"$f":"COUNTIF(N7:N104,\"I\")","v":0},{"$f":"COUNTIF(H7:H104,\"I\")","v":0},null,null,null,null,null,null,null,"00:00:00","00:00:00",0,{"$f":"SpellNumber((AI44))","v":"No Dollars and No Cents"},3,"No "]
["00:00:00",null,null,null,null,0,null,null,0,null,null,{"$f":"IFERROR(VLOOKUP(K45,$AD$7:AE47,2,FALSE),0)","v":0},null,null,0,null,null,null,null,null,null,"J",{"$f":"COUNTIF(E8:E105,\"J\")","v":0},{"$f":"COUNTIF(N7:N104,\"J\")","v":0},{"$f":"COUNTIF(H7:H104,\"J\")","v":0},null,null,null,null,null,null,null,"00:00:00","00:00:00",0,{"$f":"SpellNumber((AI45))","v":"No Dollars and No Cents"},3,"No "]
["00:00:00",null,null,null,null,0,null,null,0,null,null,{"$f":"IFERROR(VLOOKUP(K46,$AD$7:AE48,2,FALSE),0)","v":0},null,null,0,null,null,null,null,null,null,"K",{"$f":"COUNTIF(E8:E105,\"K\")","v":0},{"$f":"COUNTIF(N7:N104,\"K\")","v":0},{"$f":"COUNTIF(H7:H104,\"K\")","v":0},null,null,null,null,null,null,null,"00:00:00","00:00:00",0,{"$f":"SpellNumber((AI46))","v":"No Dollars and No Cents"},3,"No "]
["00:00:00",null,null,null,null,0,null,null,0,null,null,{"$f":"IFERROR(VLOOKUP(K47,$AD$7:AE49,2,FALSE),0)","v":0},null,null,0,null,null,null,null,null,null,"L",{"$f":"COUNTIF(E8:E105,\"l\")","v":0},{"$f":"COUNTIF(N7:N104,\"L\")","v":0},{"$f":"COUNTIF(H7:H104,\"L\")","v":0},null,null,null,null,null,null,null,"00:00:00","00:00:00",0,{"$f":"SpellNumber((AI47))","v":"No Dollars and No Cents"},3,"No "]
["00:00:00",null,null,null,null,0,null,null,0,null,null,{"$f":"IFERROR(VLOOKUP(K48,$AD$7:AE50,2,FALSE),0)","v":0},null,null,0,null,null,null,null,null,null,null,null,null,null,null,null,null,null,null,null,null,"00:00:00","00:00:00",0,{"$f":"SpellNumber((AI48))","v":"No Dollars and No Cents"},3,"No "]
["00:00:00",null,null,null,null,0,null,null,0,null,null,{"$f":"IFERROR(VLOOKUP(K49,$AD$7:AE51,2,FALSE),0)","v":0},null,null,0,null,null,null,null,null,null,null,"Beh & Setting ",null,null,null,"Beh & Antecedents",null,null,null,null,null,"00:00:00","00:00:00",0,{"$f":"SpellNumber((AI49))","v":"No Dollars and No Cents"},3,"No "]
["00:00:00",null,null,null,null,0,null,null,0,null,null,{"$f":"IFERROR(VLOOKUP(K50,$AD$7:AE52,2,FALSE),0)","v":0},null,null,0,null,null,null,null,null,null,null,"A","B","C",null,null,"A","B","C",null,null,"00:00:00","00:00:00",0,{"$f":"SpellNumber((AI50))","v":"No Dollars and No Cents"},3,"No "]
["00:00:00",null,null,null,null,0,null,null,0,null,null,{"$f":"IFERROR(VLOOKUP(K51,$AD$7:AE53,2,FALSE),0)","v":0},null,null,0,null,null,null,null,null,null,"A",{"$f":"COUNTIFS(E7:E104,\"A\",K7:K104,\"A\")","v":0},{"$f":"COUNTIFS(E7:E104,\"A\",K7:K104,\"B\")","v":0},{"$f":"COUNTIFS(E7:E104,\"A\",K7:K104,\"C\")","v":0},null,"A",{"$f":"COUNTIFS(H7:H104,\"a\",K7:K104,\"A\")","v":0},{"$f":"COUNTIFS(H7:H104,\"A\",K7:K104,\"B\")","v":0},{"$f":"COUNTIFS(H7:H104,\"A\",K7:K104,\"C\")","v":0},null,null,"00:00:00","00:00:00",0,{"$f":"SpellNumber((AI51))","v":"No Dollars and No Cents"},3,"No "]
["00:00:00",null,null,null,null,0,null,null,0,null,null,{"$f":"IFERROR(VLOOKUP(K52,$AD$7:AE54,2,FALSE),0)","v":0},null,null,0,null,null,null,null,null,null,"B",{"$f":"COUNTIFS(E7:E104,\"B\",K7:K104,\"A\")","v":0},{"$f":"COUNTIFS(E7:E104,\"B\",K7:K104,\"B\")","v":0},{"$f":"COUNTIFS(E7:E104,\"B\",K7:K104,\"C\")","v":0},null,"B",{"$f":"COUNTIFS(H7:H104,\"B\",K7:K104,\"A\")","v":0},{"$f":"COUNTIFS(H7:H104,\"B\",K7:K104,\"B\")","v":0},{"$f":"COUNTIFS(H7:H104,\"B\",K7:K104,\"C\")","v":0},null,null,"00:00:00","00:00:00",0,{"$f":"SpellNumber((AI52))","v":"No Dollars and No Cents"},3,"No "]
["00:00:00",null,null,null,null,0,null,null,0,null,null,{"$f":"IFERROR(VLOOKUP(K53,$AD$7:AE55,2,FALSE),0)","v":0},null,null,0,null,null,null,null,null,null,"C",{"$f":"COUNTIFS(K7:K104,\"C\",K7:K104,\"A\")","v":0},{"$f":"COUNTIFS(E7:E104,\"C\",K7:K104,\"B\")","v":0},{"$f":"COUNTIFS(E7:E104,\"C\",K7:K104,\"C\")","v":0},null,"C",{"$f":"COUNTIFS(H7:H104,\"C\",K7:K104,\"A\")","v":0},{"$f":"COUNTIFS(H7:H104,\"C\",K7:K104,\"B\")","v":0},{"$f":"COUNTIFS(H7:H104,\"C\",K7:K104,\"C\")","v":0},null,null,"00:00:00","00:00:00",0,{"$f":"SpellNumber((AI53))","v":"No Dollars and No Cents"},3,"No "]
["00:00:00",null,null,null,null,0,null,null,0,null,null,{"$f":"IFERROR(VLOOKUP(K54,$AD$7:AE56,2,FALSE),0)","v":0},null,null,0,null,null,null,null,null,null,"D",{"$f":"COUNTIFS(E7:E104,\"D\",K7:K104,\"A\")","v":0},{"$f":"COUNTIFS(E7:E104,\"D\",K7:K104,\"B\")","v":0},{"$f":"COUNTIFS(E7:E104,\"D\",K7:K104,\"C\")","v":0},null,"D",{"$f":"COUNTIFS(H7:H104,\"D\",K7:K104,\"A\")","v":0},{"$f":"COUNTIFS(H7:H104,\"D\",K7:K104,\"B\")","v":0},{"$f":"COUNTIFS(H7:H104,\"D\",K7:K104,\"C\")","v":0},null,null,"00:00:00","00:00:00",0,{"$f":"SpellNumber((AI54))","v":"No Dollars and No Cents"},3,"No "]
["00:00:00",null,null,null,null,0,null,null,0,null,null,{"$f":"IFERROR(VLOOKUP(K55,$AD$7:AE57,2,FALSE),0)","v":0},null,null,0,null,null,null,null,null,null,"E",{"$f":"COUNTIFS(E7:E104,\"E\",K7:K104,\"A\")","v":0},{"$f":"COUNTIFS(E7:E104,\"E\",K7:K104,\"B\")","v":0},{"$f":"COUNTIFS(E7:E104,\"E\",K7:K104,\"C\")","v":0},null,"E",{"$f":"COUNTIFS(H7:H104,\"E\",K7:K104,\"A\")","v":0},{"$f":"COUNTIFS(H7:H104,\"E\",K7:K104,\"B\")","v":0},{"$f":"COUNTIFS(H7:H104,\"E\",K7:K104,\"C\")","v":0},null,null,"00:00:00","00:00:00",0,{"$f":"SpellNumber((AI55))","v":"No Dollars and No Cents"},3,"No "]
["00:00:00",null,null,null,null,0,null,null,0,null,null,{"$f":"IFERROR(VLOOKUP(K56,$AD$7:AE58,2,FALSE),0)","v":0},null,null,0,null,null,null,null,null,null,"F",{"$f":"COUNTIFS(E7:E104,\"F\",K7:K104,\"A\")","v":0},{"$f":"COUNTIFS(E7:E104,\"F\",K7:K104,\"B\")","v":0},{"$f":"COUNTIFS(E7:E104,\"F\",K7:K104,\"C\")","v":0},null,"F",{"$f":"COUNTIFS(H7:H104,\"F\",K7:K104,\"A\")","v":0},{"$f":"COUNTIFS(H7:H104,\"F\",K7:K104,\"B\")","v":0},{"$f":"COUNTIFS(H7:H104,\"F\",K7:K104,\"C\")","v":0},null,null,"00:00:00","00:00:00",0,{"$f":"SpellNumber((AI56))","v":"No Dollars and No Cents"},3,"No "]
["00:00:00",null,null,null,null,0,null,null,0,null,null,{"$f":"IFERROR(VLOOKUP(K57,$AD$7:AE59,2,FALSE),0)","v":0},null,null,0,null,null,null,null,null,null,"G",{"$f":"COUNTIFS(E7:E104,\"G\",K7:K104,\"A\")","v":0},{"$f":"COUNTIFS(E7:E104,\"G\",K7:K104,\"B\")","v":0},{"$f":"COUNTIFS(E7:E104,\"G\",K7:K104,\"C\")","v":0},null,"G",{"$f":"COUNTIFS(H7:H104,\"G\",K7:K104,\"A\")","v":0},{"$f":"COUNTIFS(H7:H104,\"G\",K7:K104,\"B\")","v":0},{"$f":"COUNTIFS(H7:H104,\"G\",K7:K104,\"C\")","v":0},null,null,"00:00:00","00:00:00",0,{"$f":"SpellNumber((AI57))","v":"No Dollars and No Cents"},3,"No "]
["00:00:00",null,null,null,null,0,null,null,0,null,null,{"$f":"IFERROR(VLOOKUP(K58,$AD$7:AE60,2,FALSE),0)","v":0},null,null,0,null,null,null,null,null,null,"H",{"$f":"COUNTIFS(E7:E104,\"H\",K7:K104,\"A\")","v":0},{"$f":"COUNTIFS(E7:E104,\"H\",K7:K104,\"B\")","v":0},{"$f":"COUNTIFS(E7:E104,\"H\",K7:K104,\"C\")","v":0},null,"H",{"$f":"COUNTIFS(H7:H104,\"H\",K7:K104,\"A\")","v":0},{"$f":"COUNTIFS(H7:H104,\"H\",K7:K104,\"B\")","v":0},{"$f":"COUNTIFS(H7:H104,\"H\",K7:K104,\"C\")","v":0},null,null,"00:00:00","00:00:00",0,{"$f":"SpellNumber((AI58))","v":"No Dollars and No Cents"},3,"No "]
["00:00:00",null,null,null,null,0,null,null,0,null,null,{"$f":"IFERROR(VLOOKUP(K59,$AD$7:AE61,2,FALSE),0)","v":0},null,null,0,null,null,null,null,null,null,"I",{"$f":"COUNTIFS(E7:E104,\"I\",K7:K104,\"A\")","v":0},{"$f":"COUNTIFS(E7:E104,\"I\",K7:K104,\"B\")","v":0},{"$f":"COUNTIFS(E7:E104,\"I\",K7:K104,\"C\")","v":0},null,"I",{"$f":"COUNTIFS(H7:H104,\"I\",K7:K104,\"A\")","v":0},{"$f":"COUNTIFS(H7:H104,\"I\",K7:K104,\"B\")","v":0},{"$f":"COUNTIFS(H7:H104,\"I\",K7:K104,\"C\")","v":0},null,null,"00:00:00","00:00:00",0,{"$f":"SpellNumber((AI59))","v":"No Dollars and No Cents"},3,"No "]
["00:00:00",null,null,null,null,0,null,null,0,null,null,{"$f":"IFERROR(VLOOKUP(K60,$AD$7:AE62,2,FALSE),0)","v":0},null,null,0,null,null,null,null,null,null,"J",{"$f":"COUNTIFS(E7:E104,\"J\",K7:K104,\"A\")","v":0},{"$f":"COUNTIFS(E7:E104,\"J\",K7:K104,\"B\")","v":0},{"$f":"COUNTIFS(E7:E104,\"J\",K7:K104,\"C\")","v":0},null,"J",{"$f":"COUNTIFS(H7:H104,\"J\",K7:K104,\"A\")","v":0},{"$f":"COUNTIFS(H7:H104,\"J\",K7:K104,\"B\")","v":0},{"$f":"COUNTIFS(H7:H104,\"J\",K7:K104,\"C\")","v":0},null,null,"00:00:00","00:00:00",0,{"$f":"SpellNumber((AI60))","v":"No Dollars and No Cents"},3,"No "]
["00:00:00",null,null,null,null,0,null,null,0,null,null,{"$f":"IFERROR(VLOOKUP(K61,$AD$7:AE63,2,FALSE),0)","v":0},null,null,0,null,null,null,null,null,null,"K",{"$f":"COUNTIFS(E7:E104,\"K\",K7:K104,\"A\")","v":0},{"$f":"COUNTIFS(E7:E104,\"K\",K7:K104,\"B\")","v":0},{"$f":"COUNTIFS(E7:E104,\"K\",K7:K104,\"C\")","v":0},null,"K",{"$f":"COUNTIFS(H7:H104,\"K\",K7:K104,\"A\")","v":0},{"$f":"COUNTIFS(H7:H104,\"K\",K7:K104,\"B\")","v":0},{"$f":"COUNTIFS(H7:H104,\"K\",K7:K104,\"C\")","v":0},null,null,"00:00:00","00:00:00",0,{"$f":"SpellNumber((AI61))","v":"No Dollars and No Cents"},3,"No "]
["00:00:00",null,null,null,null,0,null,null,0,null,null,{"$f":"IFERROR(VLOOKUP(K62,$AD$7:AE64,2,FALSE),0)","v":0},null,null,0,null,null,null,null,null,null,"L",{"$f":"COUNTIFS(E7:E104,\"L\",K7:K104,\"A\")","v":0},{"$f":"COUNTIFS(E7:E104,\"L\",K7:K104,\"B\")","v":0},{"$f":"COUNTIFS(E7:E104,\"L\",K7:K104,\"C\")","v":0},null,"L",{"$f":"COUNTIFS(H7:H104,\"L\",K7:K104,\"A\")","v":0},{"$f":"COUNTIFS(H7:H104,\"L\",K7:K104,\"B\")","v":0},{"$f":"COUNTIFS(H7:H104,\"L\",K7:K104,\"C\")","v":0},null,null,"00:00:00","00:00:00",0,{"$f":"SpellNumber((AI62))","v":"No Dollars and No Cents"},3,"No "]
["00:00:00",null,null,null,null,0,null,null,0,null,null,{"$f":"IFERROR(VLOOKUP(K63,$AD$7:AE65,2,FALSE),0)","v":0},null,null,0,null,null,null,null,null,null,null,"Beh & Consequences",null,null,null,null,null,null,null,null,null,"00:00:00","00:00:00",0,{"$f":"SpellNumber((AI63))","v":"No Dollars and No Cents"},3,"No "]
["00:00:00",null,null,null,null,0,null,null,0,null,null,{"$f":"IFERROR(VLOOKUP(K64,$AD$7:AE66,2,FALSE),0)","v":0},null,null,0,null,null,null,null,null,null,null,"A","B","C",null,null,null,null,null,null,null,"00:00:00","00:00:00",0,{"$f":"SpellNumber((AI64))","v":"No Dollars and No Cents"},3,"No "]
["00:00:00",null,null,null,null,0,null,null,0,null,null,{"$f":"IFERROR(VLOOKUP(K65,$AD$7:AE67,2,FALSE),0)","v":0},null,null,0,null,null,null,null,null,null,"A",{"$f":"COUNTIFS(N7:N104,\"A\",K7:K104,\"A\")","v":0},{"$f":"COUNTIFS(N7:N104,\"A\",K7:K104,\"B\")","v":0},{"$f":"COUNTIFS(N7:N104,\"A\",K7:K104,\"C\")","v":0},null,null,null,null,null,null,null,"00:00:00","00:00:00",0,{"$f":"SpellNumber((AI65))","v":"No Dollars and No Cents"},3,"No "]
["00:00:00",null,null,null,null,0,null,null,0,null,null,{"$f":"IFERROR(VLOOKUP(K66,$AD$7:AE68,2,FALSE),0)","v":0},null,null,0,null,null,null,null,null,null,"B",{"$f":"COUNTIFS(N7:N104,\"B\",K7:K104,\"A\")","v":0},{"$f":"COUNTIFS(N7:N104,\"B\",K7:K104,\"B\")","v":0},{"$f":"COUNTIFS(N7:N104,\"B\",K7:K104,\"C\")","v":0},null,null,null,null,null,null,null,"00:00:00","00:00:00",0,{"$f":"SpellNumber((AI66))","v":"No Dollars and No Cents"},3,"No "]
["00:00:00",null,null,null,null,0,null,null,0,null,null,{"$f":"IFERROR(VLOOKUP(K67,$AD$7:AE69,2,FALSE),0)","v":0},null,null,0,null,null,null,null,null,null,"C",{"$f":"COUNTIFS(N7:N104,\"C\",K7:K104,\"A\")","v":0},{"$f":"COUNTIFS(N7:N104,\"C\",K7:K104,\"B\")","v":0},{"$f":"COUNTIFS(N7:N104,\"C\",K7:K104,\"C\")","v":0},null,null,null,null,null,null,null,"00:00:00","00:00:00",0,{"$f":"SpellNumber((AI67))","v":"No Dollars and No Cents"},3,"No "]
["00:00:00",null,null,null,null,0,null,null,0,null,null,{"$f":"IFERROR(VLOOKUP(K68,$AD$7:AE70,2,FALSE),0)","v":0},null,null,0,null,null,null,null,null,null,"D",{"$f":"COUNTIFS(N7:N104,\"D\",K7:K104,\"A\")","v":0},{"$f":"COUNTIFS(N7:N104,\"D\",K7:K104,\"B\")","v":0},{"$f":"COUNTIFS(N7:N104,\"D\",K7:K104,\"C\")","v":0},null,null,null,null,null,null,null,"00:00:00","00:00:00",0,{"$f":"SpellNumber((AI68))","v":"No Dollars and No Cents"},3,"No "]
["00:00:00",null,null,null,null,0,null,null,0,null,null,{"$f":"IFERROR(VLOOKUP(K69,$AD$7:AE71,2,FALSE),0)","v":0},null,null,0,null,null,null,null,null,null,"E",{"$f":"COUNTIFS(N7:N104,\"E\",K7:K104,\"A\")","v":0},{"$f":"COUNTIFS(N7:N104,\"E\",K7:K104,\"B\")","v":0},{"$f":"COUNTIFS(N7:N104,\"E\",K7:K104,\"C\")","v":0},null,null,null,null,null,null,null,"00:00:00","00:00:00",0,{"$f":"SpellNumber((AI69))","v":"No Dollars and No Cents"},3,"No "]
["00:00:00",null,null,null,null,0,null,null,0,null,null,{"$f":"IFERROR(VLOOKUP(K70,$AD$7:AE72,2,FALSE),0)","v":0},null,null,0,null,null,null,null,null,null,"F",{"$f":"COUNTIFS(N7:N104,\"F\",K7:K104,\"A\")","v":0},{"$f":"COUNTIFS(N7:N104,\"F\",K7:K104,\"B\")","v":0},{"$f":"COUNTIFS(N7:N104,\"F\",K7:K104,\"C\")","v":0},null,null,null,null,null,null,null,"00:00:00","00:00:00",0,{"$f":"SpellNumber((AI70))","v":"No Dollars and No Cents"},3,"No "]
["00:00:00",null,null,null,null,0,null,null,0,null,null,{"$f":"IFERROR(VLOOKUP(K71,$AD$7:AE73,2,FALSE),0)","v":0},null,null,0,null,null,null,null,null,null,"G",{"$f":"COUNTIFS(N7:N104,\"G\",K7:K104,\"A\")","v":0},{"$f":"COUNTIFS(N7:N104,\"G\",K7:K104,\"B\")","v":0},{"$f":"COUNTIFS(N7:N104,\"G\",K7:K104,\"C\")","v":0},null,null,null,null,null,null,null,"00:00:00","00:00:00",0,{"$f":"SpellNumber((AI71))","v":"No Dollars and No Cents"},3,"No "]
[{"$f":"C72-B72","v":"00:00:00"},null,null,null,null,0,null,null,{"$f":"IFERROR(VLOOKUP(H72,$Z$7:$AA$18,2,FALSE),0)","v":0},null,null,{"$f":"IFERROR(VLOOKUP(K72,$AD$7:AE74,2,FALSE),0)","v":0},null,null,{"$f":"IFERROR(VLOOKUP(N72,$V$22:$W$33,2,FALSE),0)","v":0},null,null,null,null,null,null,"H",{"$f":"COUNTIFS(N7:N104,\"H\",K7:K104,\"A\")","v":0},{"$f":"COUNTIFS(N7:N104,\"H\",K7:K104,\"B\")","v":0},{"$f":"COUNTIFS(N7:N104,\"H\",K7:K104,\"C\")","v":0},null,null,null,null,null,null,null,{"$f":"B72","v":"00:00:00"},{"$f":"TEXT(AG72,\"hh:mm:ss\")","v":"00:00:00"},{"$f":"AG72*24","v":0},{"$f":"SpellNumber((AI72))","v":"No Dollars and No Cents"},{"$f":"FIND(\" Dollar\",AJ72)","v":3},{"$f":"LEFT(AJ72,AK72)","v":"No "}]
["00:00:00",null,null,null,null,{"$f":"IFERROR(VLOOKUP(E73,$V$7:$W$18,2,FALSE),0)","v":0},null,null,0,null,null,{"$f":"IFERROR(VLOOKUP(K73,$AD$7:AE75,2,FALSE),0)","v":0},null,null,0,null,null,null,null,null,null,"I",{"$f":"COUNTIFS(N7:N104,\"I\",K7:K104,\"A\")","v":0},{"$f":"COUNTIFS(N7:N104,\"I\",K7:K104,\"B\")","v":0},{"$f":"COUNTIFS(N7:N104,\"I\",K7:K104,\"C\")","v":0},null,null,null,null,null,null,null,"00:00:00","00:00:00",0,{"$f":"SpellNumber((AI73))","v":"No Dollars and No Cents"},3,"No "]
["00:00:00",null,null,null,null,0,null,null,0,null,null,{"$f":"IFERROR(VLOOKUP(K74,$AD$7:AE76,2,FALSE),0)","v":0},null,null,0,null,null,null,null,null,null,"J",{"$f":"COUNTIFS(N7:N104,\"J\",K7:K104,\"A\")","v":0},{"$f":"COUNTIFS(N7:N104,\"J\",K7:K104,\"B\")","v":0},{"$f":"COUNTIFS(N7:N104,\"J\",K7:K104,\"C\")","v":0},null,null,null,null,null,null,null,"00:00:00","00:00:00",0,{"$f":"SpellNumber((AI74))","v":"No Dollars and No Cents"},3,"No "]
["00:00:00",null,null,null,null,0,null,null,0,null,null,{"$f":"IFERROR(VLOOKUP(K75,$AD$7:AE77,2,FALSE),0)","v":0},null,null,0,null,null,null,null,null,null,"K",{"$f":"COUNTIFS(N7:N104,\"K\",K7:K104,\"A\")","v":0},{"$f":"COUNTIFS(N7:N104,\"K\",K7:K104,\"B\")","v":0},{"$f":"COUNTIFS(N7:N104,\"K\",K7:K104,\"C\")","v":0},null,null,null,null,null,null,null,"00:00:00","00:00:00",0,{"$f":"SpellNumber((AI75))","v":"No Dollars and No Cents"},3,"No "]
["00:00:00",null,null,null,null,0,null,null,0,null,null,{"$f":"IFERROR(VLOOKUP(K76,$AD$7:AE78,2,FALSE),0)","v":0},null,null,0,null,null,null,null,null,null,"L",{"$f":"COUNTIFS(N7:N104,\"L\",K7:K104,\"A\")","v":0},{"$f":"COUNTIFS(N7:N104,\"L\",K7:K104,\"B\")","v":0},{"$f":"COUNTIFS(N7:N104,\"L\",K7:K104,\"C\")","v":0},null,null,null,null,null,null,null,"00:00:00","00:00:00",0,{"$f":"SpellNumber((AI76))","v":"No Dollars and No Cents"},3,"No "]
["00:00:00",null,null,null,null,0,null,null,0,null,null,{"$f":"IFERROR(VLOOKUP(K77,$AD$7:AE79,2,FALSE),0)","v":0},null,null,0,null,null,null,null,null,null,null,null,null,null,null,null,null,null,null,null,null,"00:00:00","00:00:00",0,{"$f":"SpellNumber((AI77))","v":"No Dollars and No Cents"},3,"No "]
["00:00:00",null,null,null,null,0,null,null,0,null,null,{"$f":"IFERROR(VLOOKUP(K78,$AD$7:AE80,2,FALSE),0)","v":0},null,null,0,null,null,null,null,null,null,null,null,null,null,null,null,null,null,null,null,null,"00:00:00","00:00:00",0,{"$f":"SpellNumber((AI78))","v":"No Dollars and No Cents"},3,"No "]
["00:00:00",null,null,null,null,0,null,null,0,null,null,{"$f":"IFERROR(VLOOKUP(K79,$AD$7:AE81,2,FALSE),0)","v":0},null,null,0,null,null,null,null,null,null,null,null,null,null,null,null,null,null,null,null,null,"00:00:00","00:00:00",0,{"$f":"SpellNumber((AI79))","v":"No Dollars and No Cents"},3,"No "]
["00:00:00",null,null,null,null,0,null,null,0,null,null,{"$f":"IFERROR(VLOOKUP(K80,$AD$7:AE82,2,FALSE),0)","v":0},null,null,0,null,null,null,null,null,null,null,null,null,null,null,null,null,null,null,null,null,"00:00:00","00:00:00",0,{"$f":"SpellNumber((AI80))","v":"No Dollars and No Cents"},3,"No "]
["00:00:00",null,null,null,null,0,null,null,0,null,null,{"$f":"IFERROR(VLOOKUP(K81,$AD$7:AE83,2,FALSE),0)","v":0},null,null,0,null,null,null,null,null,null,null,null,null,null,null,null,null,null,null,null,null,"00:00:00","00:00:00",0,{"$f":"SpellNumber((AI81))","v":"No Dollars and No Cents"},3,"No "]
["00:00:00",null,null,null,null,0,null,null,0,null,null,{"$f":"IFERROR(VLOOKUP(K82,$AD$7:AE84,2,FALSE),0)","v":0},null,null,0,null,null,null,null,null,null,null,null,null,null,null,null,null,null,null,null,null,"00:00:00","00:00:00",0,{"$f":"SpellNumber((AI82))","v":"No Dollars and No Cents"},3,"No "]
["00:00:00",null,null,null,null,0,null,null,0,null,null,{"$f":"IFERROR(VLOOKUP(K83,$AD$7:AE85,2,FALSE),0)","v":0},null,null,0,null,null,null,null,null,null,null,null,null,null,null,null,null,null,null,null,null,"00:00:00","00:00:00",0,{"$f":"SpellNumber((AI83))","v":"No Dollars and No Cents"},3,"No "]
["00:00:00",null,null,null,null,0,null,null,0,null,null,{"$f":"IFERROR(VLOOKUP(K84,$AD$7:AE86,2,FALSE),0)","v":0},null,null,0,null,null,null,null,null,null,null,null,null,null,null,null,null,null,null,null,null,"00:00:00","00:00:00",0,{"$f":"SpellNumber((AI84))","v":"No Dollars and No Cents"},3,"No "]
["00:00:00",null,null,null,null,0,null,null,0,null,null,{"$f":"IFERROR(VLOOKUP(K85,$AD$7:AE87,2,FALSE),0)","v":0},null,null,0,null,null,null,null,null,null,null,null,null,null,null,null,null,null,null,null,null,"00:00:00","00:00:00",0,{"$f":"SpellNumber((AI85))","v":"No Dollars and No Cents"},3,"No "]
["00:00:00",null,null,null,null,0,null,null,0,null,null,{"$f":"IFERROR(VLOOKUP(K86,$AD$7:AE88,2,FALSE),0)","v":0},null,null,0,null,null,null,null,null,null,null,null,null,null,null,null,null,null,null,null,null,"00:00:00","00:00:00",0,{"$f":"SpellNumber((AI86))","v":"No Dollars and No Cents"},3,"No "]
["00:00:00",null,null,null,null,0,null,null,0,null,null,{"$f":"IFERROR(VLOOKUP(K87,$AD$7:AE89,2,FALSE),0)","v":0},null,null,0,null,null,null,null,null,null,null,null,null,null,null,null,null,null,null,null,null,"00:00:00","00:00:00",0,{"$f":"SpellNumber((AI87))","v":"No Dollars and No Cents"},3,"No "]
["00:00:00",null,null,null,null,0,null,null,0,null,null,{"$f":"IFERROR(VLOOKUP(K88,$AD$7:AE90,2,FALSE),0)","v":0},null,null,0,null,null,null,null,null,null,null,null,null,null,null,null,null,null,null,null,null,"00:00:00","00:00:00",0,{"$f":"SpellNumber((AI88))","v":"No Dollars and No Cents"},3,"No "]
["00:00:00",null,null,null,null,0,null,null,0,null,null,{"$f":"IFERROR(VLOOKUP(K89,$AD$7:AE91,2,FALSE),0)","v":0},null,null,0,null,null,null,null,null,null,null,null,null,null,null,null,null,null,null,null,null,"00:00:00","00:00:00",0,{"$f":"SpellNumber((AI89))","v":"No Dollars and No Cents"},3,"No "]
["00:00:00",null,null,null,null,0,null,null,0,null,null,{"$f":"IFERROR(VLOOKUP(K90,$AD$7:AE92,2,FALSE),0)","v":0},null,null,0,null,null,null,null,null,null,null,null,null,null,null,null,null,null,null,null,null,"00:00:00","00:00:00",0,{"$f":"SpellNumber((AI90))","v":"No Dollars and No Cents"},3,"No "]
["00:00:00",null,null,null,null,0,null,null,0,null,null,{"$f":"IFERROR(VLOOKUP(K91,$AD$7:AE93,2,FALSE),0)","v":0},null,null,0,null,null,null,"Total Mins",{"$f":"SUM(A7:A104)","v":"00:00:00"},null,null,null,null,null,null,null,null,null,null,null,null,"00:00:00","00:00:00",0,{"$f":"SpellNumber((AI91))","v":"No Dollars and No Cents"},3,"No "]
["00:00:00",null,null,null,null,0,null,null,0,null,null,{"$f":"IFERROR(VLOOKUP(K92,$AD$7:AE94,2,FALSE),0)","v":0},null,null,0,null,null,null,"Settings:","A",{"$f":"COUNTIF(E4:E104,\"A\")","v":0},"Antec.","A",{"$f":"COUNTIF(H4:H104,\"A\")","v":0},"Beh","A",{"$f":"COUNTIF(L4:L104,\"A\")","v":0},"Conse.","A",{"$f":"COUNTIF(O4:O104,\"A\")","v":0},null,null,"00:00:00","00:00:00",0,{"$f":"SpellNumber((AI92))","v":"No Dollars and No Cents"},3,"No "]
["00:00:00",null,null,null,null,0,null,null,0,null,null,{"$f":"IFERROR(VLOOKUP(K93,$AD$7:AE95,2,FALSE),0)","v":0},null,null,0,null,null,null,null,"B",{"$f":"COUNTIF(E5:E105,\"B\")","v":0},null,"B",{"$f":"COUNTIF(H5:H105,\"B\")","v":0},null,"B",{"$f":"COUNTIF(L5:L105,\"B\")","v":0},null,"B",{"$f":"COUNTIF(O5:O105,\"B\")","v":0},null,null,"00:00:00","00:00:00",0,{"$f":"SpellNumber((AI93))","v":"No Dollars and No Cents"},3,"No "]
["00:00:00",null,null,null,null,0,null,null,0,null,null,{"$f":"IFERROR(VLOOKUP(K94,$AD$7:AE96,2,FALSE),0)","v":0},null,null,0,null,null,null,null,"C",{"$f":"COUNTIF(E6:E106,\"C\")","v":0},null,"C",{"$f":"COUNTIF(H6:H106,\"C\")","v":0},null,"C",{"$f":"COUNTIF(L6:L106,\"C\")","v":0},null,"C",{"$f":"COUNTIF(O6:O106,\"C\")","v":0},null,null,"00:00:00","00:00:00",0,{"$f":"SpellNumber((AI94))","v":"No Dollars and No Cents"},3,"No "]
["00:00:00",null,null,null,null,0,null,null,0,null,null,{"$f":"IFERROR(VLOOKUP(K95,$AD$7:AE97,2,FALSE),0)","v":0},null,null,0,null,null,null,null,"D",{"$f":"COUNTIF(E7:E107,\"D\")","v":0},null,"D",{"$f":"COUNTIF(H7:H107,\"D\")","v":0},null,null,null,null,"D",{"$f":"COUNTIF(O7:O107,\"D\")","v":0},null,null,"00:00:00","00:00:00",0,{"$f":"SpellNumber((AI95))","v":"No Dollars and No Cents"},3,"No "]
["00:00:00",null,null,null,null,0,null,null,0,null,null,{"$f":"IFERROR(VLOOKUP(K96,$AD$7:AE98,2,FALSE),0)","v":0},null,null,0,null,null,null,null,"E",{"$f":"COUNTIF(E8:E108,\"E\")","v":0},null,"E",{"$f":"COUNTIF(H8:H108,\"E\")","v":0},null,null,null,null,"E",{"$f":"COUNTIF(O8:O108,\"E\")","v":0},null,null,"00:00:00","00:00:00",0,{"$f":"SpellNumber((AI96))","v":"No Dollars and No Cents"},3,"No "]
["00:00:00",null,null,null,null,0,null,null,0,null,null,{"$f":"IFERROR(VLOOKUP(K97,$AD$7:AE99,2,FALSE),0)","v":0},null,null,0,null,null,null,null,"F",{"$f":"COUNTIF(E9:E109,\"F\")","v":0},null,"F",{"$f":"COUNTIF(H9:H109,\"F\")","v":0},null,null,null,null,"F",{"$f":"COUNTIF(O9:O109,\"F\")","v":0},null,null,"00:00:00","00:00:00",0,{"$f":"SpellNumber((AI97))","v":"No Dollars and No Cents"},3,"No "]
["00:00:00",null,null,null,null,0,null,null,0,null,null,{"$f":"IFERROR(VLOOKUP(K98,$AD$7:AE100,2,FALSE),0)","v":0},null,null,0,null,null,null,null,"G",{"$f":"COUNTIF(E10:E110,\"G\")","v":0},null,"G",{"$f":"COUNTIF(H10:H110,\"G\")","v":0},null,null,null,null,"G",{"$f":"COUNTIF(O10:O110,\"G\")","v":0},null,null,"00:00:00","00:00:00",0,{"$f":"SpellNumber((AI98))","v":"No Dollars and No Cents"},3,"No "]
["00:00:00",null,null,null,null,0,null,null,0,null,null,{"$f":"IFERROR(VLOOKUP(K99,$AD$7:AE101,2,FALSE),0)","v":0},null,null,0,null,null,null,null,"H",{"$f":"COUNTIF(E11:E111,\"H\")","v":0},null,"H",{"$f":"COUNTIF(H11:H111,\"H\")","v":0},null,null,null,null,"H",{"$f":"COUNTIF(O11:O111,\"H\")","v":0},null,null,"00:00:00","00:00:00",0,{"$f":"SpellNumber((AI99))","v":"No Dollars and No Cents"},3,"No "]
["00:00:00",null,null,null,null,0,null,null,0,null,null,{"$f":"IFERROR(VLOOKUP(K100,$AD$7:AE102,2,FALSE),0)","v":0},null,null,0,null,null,null,null,"I",{"$f":"COUNTIF(E12:E112,\"I\")","v":0},null,"I",{"$f":"COUNTIF(H12:H112,\"I\")","v":0},null,null,null,null,"I",{"$f":"COUNTIF(O12:O112,\"I\")","v":0},null,null,"00:00:00","00:00:00",0,{"$f":"SpellNumber((AI100))","v":"No Dollars and No Cents"},3,"No "]
["00:00:00",null,null,null,null,0,null,null,0,null,null,{"$f":"IFERROR(VLOOKUP(K101,$AD$7:AE103,2,FALSE),0)","v":0},null,null,0,null,null,null,null,"J",{"$f":"COUNTIF(E13:E113,\"J\")","v":0},null,"J",{"$f":"COUNTIF(H13:H113,\"J\")","v":0},null,null,null,null,"J",{"$f":"COUNTIF(O13:O113,\"J\")","v":0},null,null,"00:00:00","00:00:00",0,{"$f":"SpellNumber((AI101))","v":"No Dollars and No Cents"},3,"No "]
["00:00:00",null,null,null,null,0,null,null,0,null,null,{"$f":"IFERROR(VLOOKUP(K102,$AD$7:AE104,2,FALSE),0)","v":0},null,null,0,null,null,null,null,"K",{"$f":"COUNTIF(E14:E114,\"K\")","v":0},null,"K",{"$f":"COUNTIF(H14:H114,\"K\")","v":0},null,null,null,null,"K",{"$f":"COUNTIF(O14:O114,\"K\")","v":0},null,null,"00:00:00","00:00:00",0,{"$f":"SpellNumber((AI102))","v":"No Dollars and No Cents"},3,"No "]
["00:00:00",null,null,null,null,0,null,null,0,null,null,{"$f":"IFERROR(VLOOKUP(K103,$AD$7:AE105,2,FALSE),0)","v":0},null,null,0,null,null,null,null,"L",{"$f":"COUNTIF(E15:E115,\"L\")","v":0},null,"L",{"$f":"COUNTIF(H15:H115,\"L\")","v":0},null,null,null,null,"L",{"$f":"COUNTIF(O15:O115,\"L\")","v":0},null,null,"00:00:00","00:00:00",0,{"$f":"SpellNumber((AI103))","v":"No Dollars and No Cents"},3,"No "]
["00:00:00",null,null,null,null,0,null,null,0,null,null,{"$f":"IFERROR(VLOOKUP(K104,$AD$7:AE106,2,FALSE),0)","v":0},null,null,0,null,null,null,null,null,null,null,null,null,null,null,null,null,null,null,null,null,"00:00:00","00:00:00",0,{"$f":"SpellNumber((AI104))","v":"No Dollars and No Cents"},3,"No "]

{"sheet":"Data 4","index":12,"n_rows":104,"n_cols":38,"rows_kept":104,"cut":false,"hidden":false,"merged":[[0,7,3,14]]}
["ATTENDANCE",null,null,null,null,null,null,"Data Collection"]
["If tardy, arrival time",null,null,null,null,null,null,null,null,null,null,null,null,null,null,null,null,null,null,null,null,null,"Date",{"$f":"Calendar!F5","v":{"$error":"#N/A"}},{"$f":"TEXT(X2,\"ddd\")","v":{"$error":"#N/A"}}]
["If left early, time",null,null,null,null,null,null,null,null,null,null,null,null,null,null,null,null,null,null,null,null,null,"Frq. Of bx",{"$f":"AA22","v":0}]
[]
[]
["Mins.","Start Time","End Time",null,null,null,null,null,null,null,null,null,null,null,null,null,null,null,null,null,null,null,"Setting",null,null,"Ant",null,null,null,"Beh",null,null,"Raw Data","Time in text","Decimal"]
[{"$f":"C7-B7","v":"00:00:00"},null,null,null,null,{"$f":"IFERROR(VLOOKUP(E7,$V$7:$W$18,2,FALSE),0)","v":0},null,null,{"$f":"IFERROR(VLOOKUP(H7,$Z$7:$AA$18,2,FALSE),0)","v":0},null,null,{"$f":"IFERROR(VLOOKUP(K7,$AD$7:AE9,2,FALSE),0)","v":0},null,null,{"$f":"IFERROR(VLOOKUP(N7,$V$22:$W$33,2,FALSE),0)","v":0},null,null,null,null,null,null,"A",{"$f":"Criteria!C4","v":"Transition"},null,null,"A",{"$f":"Criteria!E4","v":"Transition"},null,null,"A",{"$f":"Criteria!G4","v":0},null,{"$f":"B7","v":"00:00:00"},{"$f":"TEXT(AG7,\"hh:mm:ss\")","v":"00:00:00"},{"$f":"AG7*24","v":0},{"$f":"SpellNumber((AI7))","v":"No Dollars and No Cents"},{"$f":"FIND(\" Dollar\",AJ7)","v":3},{"$f":"LEFT(AJ7,AK7)","v":"No "}]
[{"$f":"C8-B8","v":"00:00:00"},null,null,null,null,{"$f":"IFERROR(VLOOKUP(E8,$V$7:$W$18,2,FALSE),0)","v":0},null,null,{"$f":"IFERROR(VLOOKUP(H8,$Z$7:$AA$18,2,FALSE),0)","v":0},null,null,{"$f":"IFERROR(VLOOKUP(K8,$AD$7:AE10,2,FALSE),0)","v":0},null,null,{"$f":"IFERROR(VLOOKUP(N8,$V$22:$W$33,2,FALSE),0)","v":0},null,null,null,null,null,null,"B",{"$f":"Criteria!C5","v":"Morning Routine"},null,null,"B",{"$f":"Criteria!E5","v":"Denied access ('No')"},null,null,"B",{"$f":"Criteria!G5","v":0},null,{"$f":"B8","v":"00:00:00"},{"$f":"TEXT(AG8,\"hh:mm:ss\")","v":"00:00:00"},{"$f":"AG8*24","v":0},{"$f":"SpellNumber((AI8))","v":"No Dollars and No Cents"},{"$f":"FIND(\" Dollar\",AJ8)","v":3},{"$f":"LEFT(AJ8,AK8)","v":"No "}]
["00:00:00",null,null,null,null,{"$f":"IFERROR(VLOOKUP(E9,$V$7:$W$18,2,FALSE),0)","v":0},null,null,0,null,null,{"$f":"IFERROR(VLOOKUP(K9,$AD$7:AE11,2,FALSE),0)","v":0},null,null,0,null,null,null,null,null,null,"C",{"$f":"Criteria!C6","v":"Group Work"},null,null,"C",{"$f":"Criteria!E6","v":"Instruction/ Directions"},null,null,"C",{"$f":"Criteria!G6","v":0},null,"00:00:00","00:00:00",0,{"$f":"SpellNumber((AI9))","v":"No Dollars and No Cents"},3,"No "]
["00:00:00",null,null,null,null,0,null,null,0,null,null,{"$f":"IFERROR(VLOOKUP(K10,$AD$7:AE12,2,FALSE),0)","v":0},null,null,0,null,null,null,null,null,null,"D",{"$f":"Criteria!C7","v":"Ind. Seat/Work Time"},null,null,"D",{"$f":"Criteria!E7","v":"New Task"},null,null,null,null,null,"00:00:00","00:00:00",0,{"$f":"SpellNumber((AI10))","v":"No Dollars and No Cents"},3,"No "]
["00:00:00",null,null,null,null,0,null,null,0,null,null,{"$f":"IFERROR(VLOOKUP(K11,$AD$7:AE13,2,FALSE),0)","v":0},null,null,0,null,null,null,null,null,null,"E",{"$f":"Criteria!C8","v":"Language Arts"},null,null,"E",{"$f":"Criteria!E8","v":"Tcher attn to other"},null,null,null,null,null,"00:00:00","00:00:00",0,{"$f":"SpellNumber((AI11))","v":"No Dollars and No Cents"},3,"No "]
["00:00:00",null,null,null,null,0,null,null,0,null,null,{"$f":"IFERROR(VLOOKUP(K12,$AD$7:AE14,2,FALSE),0)","v":0},null,null,0,null,null,null,null,null,null,"F",{"$f":"Criteria!C9","v":"Mathematics"},null,null,"F",{"$f":"Criteria!E9","v":"Choice given"},null,null,null,null,null,"00:00:00","00:00:00",0,{"$f":"SpellNumber((AI12))","v":"No Dollars and No Cents"},3,"No "]
["00:00:00",null,null,null,null,0,null,null,0,null,null,{"$f":"IFERROR(VLOOKUP(K13,$AD$7:AE15,2,FALSE),0)","v":0},null,null,0,null,null,null,null,null,null,"G",{"$f":"Criteria!C10","v":"Physical Education"},null,null,"G",{"$f":"Criteria!E10","v":"Redirection"},null,null,null,null,null,"00:00:00","00:00:00",0,{"$f":"SpellNumber((AI13))","v":"No Dollars and No Cents"},3,"No "]
["00:00:00",null,null,null,null,0,null,null,0,null,null,{"$f":"IFERROR(VLOOKUP(K14,$AD$7:AE16,2,FALSE),0)","v":0},null,null,0,null,null,null,null,null,null,"H",{"$f":"Criteria!C11","v":"Music/Art"},null,null,"H",{"$f":"Criteria!E11","v":"Routine Task"},null,null,null,null,null,"00:00:00","00:00:00",0,{"$f":"SpellNumber((AI14))","v":"No Dollars and No Cents"},3,"No "]
["00:00:00",null,null,null,null,0,null,null,0,null,null,{"$f":"IFERROR(VLOOKUP(K15,$AD$7:AE17,2,FALSE),0)","v":0},null,null,0,null,null,null,null,null,null,"I",{"$f":"Criteria!C12","v":"Speech"},null,null,"I",{"$f":"Criteria!E12","v":"Waiting"},null,null,null,null,null,"00:00:00","00:00:00",0,{"$f":"SpellNumber((AI15))","v":"No Dollars and No Cents"},3,"No "]
["00:00:00",null,null,null,null,0,null,null,0,null,null,{"$f":"IFERROR(VLOOKUP(K16,$AD$7:AE18,2,FALSE),0)","v":0},null,null,0,null,null,null,null,null,null,"J",{"$f":"Criteria!C13","v":"OT/PT"},null,null,"J",{"$f":"Criteria!E13","v":"Unknown"},null,null,null,null,null,"00:00:00","00:00:00",0,{"$f":"SpellNumber((AI16))","v":"No Dollars and No Cents"},3,"No "]
["00:00:00",null,null,null,null,0,null,null,0,null,null,{"$f":"IFERROR(VLOOKUP(K17,$AD$7:AE19,2,FALSE),0)","v":0},null,null,0,null,null,null,null,null,null,"K",{"$f":"Criteria!C14","v":"Center"},null,null,"K",{"$f":"Criteria!E14","v":"Ignored"},null,null,null,null,null,"00:00:00","00:00:00",0,{"$f":"SpellNumber((AI17))","v":"No Dollars and No Cents"},3,"No "]
["00:00:00",null,null,null,null,0,null,null,0,null,null,{"$f":"IFERROR(VLOOKUP(K18,$AD$7:AE20,2,FALSE),0)","v":0},null,null,0,null,null,null,null,null,null,"L",{"$f":"Criteria!C15","v":"Other"},null,null,"L",{"$f":"Criteria!E15","v":"Other"},null,null,null,null,null,"00:00:00","00:00:00",0,{"$f":"SpellNumber((AI18))","v":"No Dollars and No Cents"},3,"No "]
["00:00:00",null,null,null,null,0,null,null,0,null,null,{"$f":"IFERROR(VLOOKUP(K19,$AD$7:AE21,2,FALSE),0)","v":0},null,null,0,null,null,null,null,null,null,null,null,null,null,null,null,null,null,null,null,null,"00:00:00","00:00:00",0,{"$f":"SpellNumber((AI19))","v":"No Dollars and No Cents"},3,"No "]
["00:00:00",null,null,null,null,0,null,null,0,null,null,{"$f":"IFERROR(VLOOKUP(K20,$AD$7:AE22,2,FALSE),0)","v":0},null,null,0,null,null,null,null,null,null,null,null,null,null,null,null,null,null,null,null,null,"00:00:00","00:00:00",0,{"$f":"SpellNumber((AI20))","v":"No Dollars and No Cents"},3,"No "]
["00:00:00",null,null,null,null,0,null,null,0,null,null,{"$f":"IFERROR(VLOOKUP(K21,$AD$7:AE23,2,FALSE),0)","v":0},null,null,0,null,null,null,null,null,null,null,"Con",null,"Bx Frequency Per Day",null,null,null,null,null,null,null,"00:00:00","00:00:00",0,{"$f":"SpellNumber((AI21))","v":"No Dollars and No Cents"},3,"No "]
["00:00:00",null,null,null,null,0,null,null,0,null,null,{"$f":"IFERROR(VLOOKUP(K22,$AD$7:AE24,2,FALSE),0)","v":0},null,null,0,null,null,null,null,null,null,"A",{"$f":"Criteria!I4","v":"Choice Given"},"A",{"$f":"COUNTIF(K7:K104,\"A\")","v":0},null,{"$f":"SUM(Y22:Y24)","v":0},null,"Bin Dec","Frequency of Time",null,null,"00:00:00","00:00:00",0,{"$f":"SpellNumber((AI22))","v":"No Dollars and No Cents"},3,"No "]
["00:00:00",null,null,null,null,0,null,null,0,null,null,{"$f":"IFERROR(VLOOKUP(K23,$AD$7:AE25,2,FALSE),0)","v":0},null,null,0,null,null,null,null,null,null,"B",{"$f":"Criteria!I5","v":"Ignored"},"B",{"$f":"COUNTIF(K7:K104,\"B\")","v":0},null,null,null,"Seven",{"$f":"COUNTIF(AL7:AL104,\"*Seven*\")","v":0},null,null,"00:00:00","00:00:00",0,{"$f":"SpellNumber((AI23))","v":"No Dollars and No Cents"},3,"No "]
["00:00:00",null,null,null,null,0,null,null,0,null,null,{"$f":"IFERROR(VLOOKUP(K24,$AD$7:AE26,2,FALSE),0)","v":0},null,null,0,null,null,null,null,null,null,"C",{"$f":"Criteria!I6","v":"Redirection"},"C",{"$f":"COUNTIF(K7:K104,\"C\")","v":0},null,null,null,"Eight",{"$f":"COUNTIF(AL7:AL104,\"*Eight*\")","v":0},null,null,"00:00:00","00:00:00",0,{"$f":"SpellNumber((AI24))","v":"No Dollars and No Cents"},3,"No "]
["00:00:00",null,null,null,null,0,null,null,0,null,null,{"$f":"IFERROR(VLOOKUP(K25,$AD$7:AE27,2,FALSE),0)","v":0},null,null,0,null,null,null,null,null,null,"D",{"$f":"Criteria!I7","v":"Kept the demand"},null,"Bx Druation Per Day",null,null,null,"Nine",{"$f":"COUNTIF(AL7:AL104,\"*Nine*\")","v":0},null,null,"00:00:00","00:00:00",0,{"$f":"SpellNumber((AI25))","v":"No Dollars and No Cents"},3,"No "]
["00:00:00",null,null,null,null,0,null,null,0,null,null,{"$f":"IFERROR(VLOOKUP(K26,$AD$7:AE28,2,FALSE),0)","v":0},null,null,0,null,null,null,null,null,null,"E",{"$f":"Criteria!I8","v":"Changed activity"},"A",{"$f":"SUMIF(K7:K104,\"A\",A7:A104)","v":"00:00:00"},null,null,null,"Ten",{"$f":"COUNTIF(AL7:AL12,\"*Ten*\")","v":0},null,null,"00:00:00","00:00:00",0,{"$f":"SpellNumber((AI26))","v":"No Dollars and No Cents"},3,"No "]
["00:00:00",null,null,null,null,0,null,null,0,null,null,{"$f":"IFERROR(VLOOKUP(K27,$AD$7:AE29,2,FALSE),0)","v":0},null,null,0,null,null,null,null,null,null,"F",{"$f":"Criteria!I9","v":"Verbal reprimand"},"B",{"$f":"SUMIF(K7:K104,\"B\",A7:A104)","v":"00:00:00"},null,null,null,"Eleven",{"$f":"COUNTIF(AL7:AL104,\"*Eleven*\")","v":0},null,null,"00:00:00","00:00:00",0,{"$f":"SpellNumber((AI27))","v":"No Dollars and No Cents"},3,"No "]
["00:00:00",null,null,null,null,0,null,null,0,null,null,{"$f":"IFERROR(VLOOKUP(K28,$AD$7:AE30,2,FALSE),0)","v":0},null,null,0,null,null,null,null,null,null,"G",{"$f":"Criteria!I10","v":"Told to wait"},"C",{"$f":"SUMIF(K7:K104,\"C\",A7:A104)","v":"00:00:00"},null,null,null,"Twelve",{"$f":"COUNTIF(AL7:AL104,\"*Twelve*\")","v":0},null,null,"00:00:00","00:00:00",0,{"$f":"SpellNumber((AI28))","v":"No Dollars and No Cents"},3,"No "]
["00:00:00",null,null,null,null,0,null,null,0,null,null,{"$f":"IFERROR(VLOOKUP(K29,$AD$7:AE31,2,FALSE),0)","v":0},null,null,0,null,null,null,null,null,null,"H",{"$f":"Criteria!I11","v":"Physical Prompt"},null,null,null,null,null,"One",{"$f":"COUNTIF(AL7:AL104,\"*One*\")","v":0},null,null,"00:00:00","00:00:00",0,{"$f":"SpellNumber((AI29))","v":"No Dollars and No Cents"},3,"No "]
["00:00:00",null,null,null,null,0,null,null,0,null,null,{"$f":"IFERROR(VLOOKUP(K30,$AD$7:AE32,2,FALSE),0)","v":0},null,null,0,null,null,null,null,null,null,"I",{"$f":"Criteria!I12","v":"Verbal prompt"},null,null,null,null,null,"Two",{"$f":"COUNTIF(AL7:AL104,\"*Two*\")","v":0},null,null,"00:00:00","00:00:00",0,{"$f":"SpellNumber((AI30))","v":"No Dollars and No Cents"},3,"No "]
["00:00:00",null,null,null,null,0,null,null,0,null,null,{"$f":"IFERROR(VLOOKUP(K31,$AD$7:AE33,2,FALSE),0)","v":0},null,null,0,null,null,null,null,null,null,"J",{"$f":"Criteria!I13","v":"Told to wait"},null,null,null,null,null,"Three",{"$f":"COUNTIF(AL7:AL104,\"*Three*\")","v":0},null,null,"00:00:00","00:00:00",0,{"$f":"SpellNumber((AI31))","v":"No Dollars and No Cents"},3,"No "]
["00:00:00",null,null,null,null,0,null,null,0,null,null,{"$f":"IFERROR(VLOOKUP(K32,$AD$7:AE34,2,FALSE),0)","v":0},null,null,0,null,null,null,null,null,null,"K",{"$f":"Criteria!I14","v":"Unknown"},null,null,null,null,null,"Four",{"$f":"COUNTIF(AL7:AL104,\"*Four*\")","v":0},null,null,"00:00:00","00:00:00",0,{"$f":"SpellNumber((AI32))","v":"No Dollars and No Cents"},3,"No "]
["00:00:00",null,null,null,null,0,null,null,0,null,null,{"$f":"IFERROR(VLOOKUP(K33,$AD$7:AE35,2,FALSE),0)","v":0},null,null,0,null,null,null,null,null,null,"L",{"$f":"Criteria!I15","v":"Other"},null,null,null,null,null,null,null,null,null,"00:00:00","00:00:00",0,{"$f":"SpellNumber((AI33))","v":"No Dollars and No Cents"},3,"No "]
["00:00:00",null,null,null,null,0,null,null,0,null,null,{"$f":"IFERROR(VLOOKUP(K34,$AD$7:AE36,2,FALSE),0)","v":0},null,null,0,null,null,null,null,null,null,null,null,null,null,null,null,null,null,null,null,null,"00:00:00","00:00:00",0,{"$f":"SpellNumber((AI34))","v":"No Dollars and No Cents"},3,"No "]
["00:00:00",null,null,null,null,0,null,null,0,null,null,{"$f":"IFERROR(VLOOKUP(K35,$AD$7:AE37,2,FALSE),0)","v":0},null,null,0,null,null,null,null,null,null,null,"Context Frequency","Consequence","Antedencents",null,null,null,null,null,null,null,"00:00:00","00:00:00",0,{"$f":"SpellNumber((AI35))","v":"No Dollars and No Cents"},3,"No "]
["00:00:00",null,null,null,null,0,null,null,0,null,null,{"$f":"IFERROR(VLOOKUP(K36,$AD$7:AE38,2,FALSE),0)","v":0},null,null,0,null,null,null,null,null,null,"A",{"$f":"COUNTIF(E7:E104,\"A\")","v":0},{"$f":"COUNTIF(N7:N104,\"A\")","v":0},{"$f":"COUNTIF(H7:H104,\"A\")","v":0},null,null,null,null,null,null,null,"00:00:00","00:00:00",0,{"$f":"SpellNumber((AI36))","v":"No Dollars and No Cents"},3,"No "]
["00:00:00",null,null,null,null,0,null,null,0,null,null,{"$f":"IFERROR(VLOOKUP(K37,$AD$7:AE39,2,FALSE),0)","v":0},null,null,0,null,null,null,null,null,null,"B",{"$f":"COUNTIF(E8:E105,\"B\")","v":0},{"$f":"COUNTIF(N7:N104,\"B\")","v":0},{"$f":"COUNTIF(H7:H104,\"B\")","v":0},null,null,null,null,null,null,null,"00:00:00","00:00:00",0,{"$f":"SpellNumber((AI37))","v":"No Dollars and No Cents"},3,"No "]
["00:00:00",null,null,null,null,0,null,null,0,null,null,{"$f":"IFERROR(VLOOKUP(K38,$AD$7:AE40,2,FALSE),0)","v":0},null,null,0,null,null,null,null,null,null,"C",{"$f":"COUNTIF(E8:E105,\"C\")","v":0},{"$f":"COUNTIF(N7:N104,\"C\")","v":0},{"$f":"COUNTIF(H7:H104,\"C\")","v":0},null,null,null,null,null,null,null,"00:00:00","00:00:00",0,{"$f":"SpellNumber((AI38))","v":"No Dollars and No Cents"},3,"No "]
["00:00:00",null,null,null,null,0,null,null,0,null,null,{"$f":"IFERROR(VLOOKUP(K39,$AD$7:AE41,2,FALSE),0)","v":0},null,null,0,null,null,null,null,null,null,"D",{"$f":"COUNTIF(E8:E105,\"D\")","v":0},{"$f":"COUNTIF(N7:N104,\"D\")","v":0},{"$f":"COUNTIF(H7:H104,\"D\")","v":0},null,null,null,null,null,null,null,"00:00:00","00:00:00",0,{"$f":"SpellNumber((AI39))","v":"No Dollars and No Cents"},3,"No "]
["00:00:00",null,null,null,null,0,null,null,0,null,null,{"$f":"IFERROR(VLOOKUP(K40,$AD$7:AE42,2,FALSE),0)","v":0},null,null,0,null,null,null,null,null,null,"E",{"$f":"COUNTIF(E8:E105,\"E\")","v":0},{"$f":"COUNTIF(N7:N104,\"E\")","v":0},{"$f":"COUNTIF(H7:H104,\"E\")","v":0},null,null,null,null,null,null,null,"00:00:00","00:00:00",0,{"$f":"SpellNumber((AI40))","v":"No Dollars and No Cents"},3,"No "]
["00:00:00",null,null,null,null,0,null,null,0,null,null,{"$f":"IFERROR(VLOOKUP(K41,$AD$7:AE43,2,FALSE),0)","v":0},null,null,0,null,null,null,null,null,null,"F",{"$f":"COUNTIF(E8:E105,\"F\")","v":0},{"$f":"COUNTIF(N7:N104,\"F\")","v":0},{"$f":"COUNTIF(H7:H104,\"F\")","v":0},null,null,null,null,null,null,null,"00:00:00","00:00:00",0,{"$f":"SpellNumber((AI41))","v":"No Dollars and No Cents"},3,"No "]
["00:00:00",null,null,null,null,0,null,null,0,null,null,{"$f":"IFERROR(VLOOKUP(K42,$AD$7:AE44,2,FALSE),0)","v":0},null,null,0,null,null,null,null,null,null,"G",{"$f":"COUNTIF(E8:E105,\"G\")","v":0},{"$f":"COUNTIF(N7:N104,\"G\")","v":0},{"$f":"COUNTIF(H7:H104,\"G\")","v":0},null,null,null,null,null,null,null,"00:00:00","00:00:00",0,{"$f":"SpellNumber((AI42))","v":"No Dollars and No Cents"},3,"No "]
["00:00:00",null,null,null,null,0,null,null,0,null,null,{"$f":"IFERROR(VLOOKUP(K43,$AD$7:AE45,2,FALSE),0)","v":0},null,null,0,null,null,null,null,null,null,"H",{"$f":"COUNTIF(E8:E105,\"H\")","v":0},{"$f":"COUNTIF(N7:N104,\"H\")","v":0},{"$f":"COUNTIF(H7:H104,\"H\")","v":0},null,null,null,null,null,null,null,"00:00:00","00:00:00",0,{"$f":"SpellNumber((AI43))","v":"No Dollars and No Cents"},3,"No "]
["00:00:00",null,null,null,null,0,null,null,0,null,null,{"$f":"IFERROR(VLOOKUP(K44,$AD$7:AE46,2,FALSE),0)","v":0},null,null,0,null,null,null,null,null,null,"I",{"$f":"COUNTIF(E8:E105,\"I\")","v":0},{"$f":"COUNTIF(N7:N104,\"I\")","v":0},{"$f":"COUNTIF(H7:H104,\"I\")","v":0},null,null,null,null,null,null,null,"00:00:00","00:00:00",0,{"$f":"SpellNumber((AI44))","v":"No Dollars and No Cents"},3,"No "]
["00:00:00",null,null,null,null,0,null,null,0,null,null,{"$f":"IFERROR(VLOOKUP(K45,$AD$7:AE47,2,FALSE),0)","v":0},null,null,0,null,null,null,null,null,null,"J",{"$f":"COUNTIF(E8:E105,\"J\")","v":0},{"$f":"COUNTIF(N7:N104,\"J\")","v":0},{"$f":"COUNTIF(H7:H104,\"J\")","v":0},null,null,null,null,null,null,null,"00:00:00","00:00:00",0,{"$f":"SpellNumber((AI45))","v":"No Dollars and No Cents"},3,"No "]
["00:00:00",null,null,null,null,0,null,null,0,null,null,{"$f":"IFERROR(VLOOKUP(K46,$AD$7:AE48,2,FALSE),0)","v":0},null,null,0,null,null,null,null,null,null,"K",{"$f":"COUNTIF(E8:E105,\"K\")","v":0},{"$f":"COUNTIF(N7:N104,\"K\")","v":0},{"$f":"COUNTIF(H7:H104,\"K\")","v":0},null,null,null,null,null,null,null,"00:00:00","00:00:00",0,{"$f":"SpellNumber((AI46))","v":"No Dollars and No Cents"},3,"No "]
["00:00:00",null,null,null,null,0,null,null,0,null,null,{"$f":"IFERROR(VLOOKUP(K47,$AD$7:AE49,2,FALSE),0)","v":0},null,null,0,null,null,null,null,null,null,"L",{"$f":"COUNTIF(E8:E105,\"l\")","v":0},{"$f":"COUNTIF(N7:N104,\"L\")","v":0},{"$f":"COUNTIF(H7:H104,\"L\")","v":0},null,null,null,null,null,null,null,"00:00:00","00:00:00",0,{"$f":"SpellNumber((AI47))","v":"No Dollars and No Cents"},3,"No "]
["00:00:00",null,null,null,null,0,null,null,0,null,null,{"$f":"IFERROR(VLOOKUP(K48,$AD$7:AE50,2,FALSE),0)","v":0},null,null,0,null,null,null,null,null,null,null,null,null,null,null,null,null,null,null,null,null,"00:00:00","00:00:00",0,{"$f":"SpellNumber((AI48))","v":"No Dollars and No Cents"},3,"No "]
["00:00:00",null,null,null,null,0,null,null,0,null,null,{"$f":"IFERROR(VLOOKUP(K49,$AD$7:AE51,2,FALSE),0)","v":0},null,null,0,null,null,null,null,null,null,null,"Beh & Setting ",null,null,null,"Beh & Antecedents",null,null,null,null,null,"00:00:00","00:00:00",0,{"$f":"SpellNumber((AI49))","v":"No Dollars and No Cents"},3,"No "]
["00:00:00",null,null,null,null,0,null,null,0,null,null,{"$f":"IFERROR(VLOOKUP(K50,$AD$7:AE52,2,FALSE),0)","v":0},null,null,0,null,null,null,null,null,null,null,"A","B","C",null,null,"A","B","C",null,null,"00:00:00","00:00:00",0,{"$f":"SpellNumber((AI50))","v":"No Dollars and No Cents"},3,"No "]
["00:00:00",null,null,null,null,0,null,null,0,null,null,{"$f":"IFERROR(VLOOKUP(K51,$AD$7:AE53,2,FALSE),0)","v":0},null,null,0,null,null,null,null,null,null,"A",{"$f":"COUNTIFS(E7:E104,\"A\",K7:K104,\"A\")","v":0},{"$f":"COUNTIFS(E7:E104,\"A\",K7:K104,\"B\")","v":0},{"$f":"COUNTIFS(E7:E104,\"A\",K7:K104,\"C\")","v":0},null,"A",{"$f":"COUNTIFS(H7:H104,\"a\",K7:K104,\"A\")","v":0},{"$f":"COUNTIFS(H7:H104,\"A\",K7:K104,\"B\")","v":0},{"$f":"COUNTIFS(H7:H104,\"A\",K7:K104,\"C\")","v":0},null,null,"00:00:00","00:00:00",0,{"$f":"SpellNumber((AI51))","v":"No Dollars and No Cents"},3,"No "]
["00:00:00",null,null,null,null,0,null,null,0,null,null,{"$f":"IFERROR(VLOOKUP(K52,$AD$7:AE54,2,FALSE),0)","v":0},null,null,0,null,null,null,null,null,null,"B",{"$f":"COUNTIFS(E7:E104,\"B\",K7:K104,\"A\")","v":0},{"$f":"COUNTIFS(E7:E104,\"B\",K7:K104,\"B\")","v":0},{"$f":"COUNTIFS(E7:E104,\"B\",K7:K104,\"C\")","v":0},null,"B",{"$f":"COUNTIFS(H7:H104,\"B\",K7:K104,\"A\")","v":0},{"$f":"COUNTIFS(H7:H104,\"B\",K7:K104,\"B\")","v":0},{"$f":"COUNTIFS(H7:H104,\"B\",K7:K104,\"C\")","v":0},null,null,"00:00:00","00:00:00",0,{"$f":"SpellNumber((AI52))","v":"No Dollars and No Cents"},3,"No "]
["00:00:00",null,null,null,null,0,null,null,0,null,null,{"$f":"IFERROR(VLOOKUP(K53,$AD$7:AE55,2,FALSE),0)","v":0},null,null,0,null,null,null,null,null,null,"C",{"$f":"COUNTIFS(K7:K104,\"C\",K7:K104,\"A\")","v":0},{"$f":"COUNTIFS(E7:E104,\"C\",K7:K104,\"B\")","v":0},{"$f":"COUNTIFS(E7:E104,\"C\",K7:K104,\"C\")","v":0},null,"C",{"$f":"COUNTIFS(H7:H104,\"C\",K7:K104,\"A\")","v":0},{"$f":"COUNTIFS(H7:H104,\"C\",K7:K104,\"B\")","v":0},{"$f":"COUNTIFS(H7:H104,\"C\",K7:K104,\"C\")","v":0},null,null,"00:00:00","00:00:00",0,{"$f":"SpellNumber((AI53))","v":"No Dollars and No Cents"},3,"No "]
["00:00:00",null,null,null,null,0,null,null,0,null,null,{"$f":"IFERROR(VLOOKUP(K54,$AD$7:AE56,2,FALSE),0)","v":0},null,null,0,null,null,null,null,null,null,"D",{"$f":"COUNTIFS(E7:E104,\"D\",K7:K104,\"A\")","v":0},{"$f":"COUNTIFS(E7:E104,\"D\",K7:K104,\"B\")","v":0},{"$f":"COUNTIFS(E7:E104,\"D\",K7:K104,\"C\")","v":0},null,"D",{"$f":"COUNTIFS(H7:H104,\"D\",K7:K104,\"A\")","v":0},{"$f":"COUNTIFS(H7:H104,\"D\",K7:K104,\"B\")","v":0},{"$f":"COUNTIFS(H7:H104,\"D\",K7:K104,\"C\")","v":0},null,null,"00:00:00","00:00:00",0,{"$f":"SpellNumber((AI54))","v":"No Dollars and No Cents"},3,"No "]
["00:00:00",null,null,null,null,0,null,null,0,null,null,{"$f":"IFERROR(VLOOKUP(K55,$AD$7:AE57,2,FALSE),0)","v":0},null,null,0,null,null,null,null,null,null,"E",{"$f":"COUNTIFS(E7:E104,\"E\",K7:K104,\"A\")","v":0},{"$f":"COUNTIFS(E7:E104,\"E\",K7:K104,\"B\")","v":0},{"$f":"COUNTIFS(E7:E104,\"E\",K7:K104,\"C\")","v":0},null,"E",{"$f":"COUNTIFS(H7:H104,\"E\",K7:K104,\"A\")","v":0},{"$f":"COUNTIFS(H7:H104,\"E\",K7:K104,\"B\")","v":0},{"$f":"COUNTIFS(H7:H104,\"E\",K7:K104,\"C\")","v":0},null,null,"00:00:00","00:00:00",0,{"$f":"SpellNumber((AI55))","v":"No Dollars and No Cents"},3,"No "]
["00:00:00",null,null,null,null,0,null,null,0,null,null,{"$f":"IFERROR(VLOOKUP(K56,$AD$7:AE58,2,FALSE),0)","v":0},null,null,0,null,null,null,null,null,null,"F",{"$f":"COUNTIFS(E7:E104,\"F\",K7:K104,\"A\")","v":0},{"$f":"COUNTIFS(E7:E104,\"F\",K7:K104,\"B\")","v":0},{"$f":"COUNTIFS(E7:E104,\"F\",K7:K104,\"C\")","v":0},null,"F",{"$f":"COUNTIFS(H7:H104,\"F\",K7:K104,\"A\")","v":0},{"$f":"COUNTIFS(H7:H104,\"F\",K7:K104,\"B\")","v":0},{"$f":"COUNTIFS(H7:H104,\"F\",K7:K104,\"C\")","v":0},null,null,"00:00:00","00:00:00",0,{"$f":"SpellNumber((AI56))","v":"No Dollars and No Cents"},3,"No "]
["00:00:00",null,null,null,null,0,null,null,0,null,null,{"$f":"IFERROR(VLOOKUP(K57,$AD$7:AE59,2,FALSE),0)","v":0},null,null,0,null,null,null,null,null,null,"G",{"$f":"COUNTIFS(E7:E104,\"G\",K7:K104,\"A\")","v":0},{"$f":"COUNTIFS(E7:E104,\"G\",K7:K104,\"B\")","v":0},{"$f":"COUNTIFS(E7:E104,\"G\",K7:K104,\"C\")","v":0},null,"G",{"$f":"COUNTIFS(H7:H104,\"G\",K7:K104,\"A\")","v":0},{"$f":"COUNTIFS(H7:H104,\"G\",K7:K104,\"B\")","v":0},{"$f":"COUNTIFS(H7:H104,\"G\",K7:K104,\"C\")","v":0},null,null,"00:00:00","00:00:00",0,{"$f":"SpellNumber((AI57))","v":"No Dollars and No Cents"},3,"No "]
["00:00:00",null,null,null,null,0,null,null,0,null,null,{"$f":"IFERROR(VLOOKUP(K58,$AD$7:AE60,2,FALSE),0)","v":0},null,null,0,null,null,null,null,null,null,"H",{"$f":"COUNTIFS(E7:E104,\"H\",K7:K104,\"A\")","v":0},{"$f":"COUNTIFS(E7:E104,\"H\",K7:K104,\"B\")","v":0},{"$f":"COUNTIFS(E7:E104,\"H\",K7:K104,\"C\")","v":0},null,"H",{"$f":"COUNTIFS(H7:H104,\"H\",K7:K104,\"A\")","v":0},{"$f":"COUNTIFS(H7:H104,\"H\",K7:K104,\"B\")","v":0},{"$f":"COUNTIFS(H7:H104,\"H\",K7:K104,\"C\")","v":0},null,null,"00:00:00","00:00:00",0,{"$f":"SpellNumber((AI58))","v":"No Dollars and No Cents"},3,"No "]
["00:00:00",null,null,null,null,0,null,null,0,null,null,{"$f":"IFERROR(VLOOKUP(K59,$AD$7:AE61,2,FALSE),0)","v":0},null,null,0,null,null,null,null,null,null,"I",{"$f":"COUNTIFS(E7:E104,\"I\",K7:K104,\"A\")","v":0},{"$f":"COUNTIFS(E7:E104,\"I\",K7:K104,\"B\")","v":0},{"$f":"COUNTIFS(E7:E104,\"I\",K7:K104,\"C\")","v":0},null,"I",{"$f":"COUNTIFS(H7:H104,\"I\",K7:K104,\"A\")","v":0},{"$f":"COUNTIFS(H7:H104,\"I\",K7:K104,\"B\")","v":0},{"$f":"COUNTIFS(H7:H104,\"I\",K7:K104,\"C\")","v":0},null,null,"00:00:00","00:00:00",0,{"$f":"SpellNumber((AI59))","v":"No Dollars and No Cents"},3,"No "]
["00:00:00",null,null,null,null,0,null,null,0,null,null,{"$f":"IFERROR(VLOOKUP(K60,$AD$7:AE62,2,FALSE),0)","v":0},null,null,0,null,null,null,null,null,null,"J",{"$f":"COUNTIFS(E7:E104,\"J\",K7:K104,\"A\")","v":0},{"$f":"COUNTIFS(E7:E104,\"J\",K7:K104,\"B\")","v":0},{"$f":"COUNTIFS(E7:E104,\"J\",K7:K104,\"C\")","v":0},null,"J",{"$f":"COUNTIFS(H7:H104,\"J\",K7:K104,\"A\")","v":0},{"$f":"COUNTIFS(H7:H104,\"J\",K7:K104,\"B\")","v":0},{"$f":"COUNTIFS(H7:H104,\"J\",K7:K104,\"C\")","v":0},null,null,"00:00:00","00:00:00",0,{"$f":"SpellNumber((AI60))","v":"No Dollars and No Cents"},3,"No "]
["00:00:00",null,null,null,null,0,null,null,0,null,null,{"$f":"IFERROR(VLOOKUP(K61,$AD$7:AE63,2,FALSE),0)","v":0},null,null,0,null,null,null,null,null,null,"K",{"$f":"COUNTIFS(E7:E104,\"K\",K7:K104,\"A\")","v":0},{"$f":"COUNTIFS(E7:E104,\"K\",K7:K104,\"B\")","v":0},{"$f":"COUNTIFS(E7:E104,\"K\",K7:K104,\"C\")","v":0},null,"K",{"$f":"COUNTIFS(H7:H104,\"K\",K7:K104,\"A\")","v":0},{"$f":"COUNTIFS(H7:H104,\"K\",K7:K104,\"B\")","v":0},{"$f":"COUNTIFS(H7:H104,\"K\",K7:K104,\"C\")","v":0},null,null,"00:00:00","00:00:00",0,{"$f":"SpellNumber((AI61))","v":"No Dollars and No Cents"},3,"No "]
["00:00:00",null,null,null,null,0,null,null,0,null,null,{"$f":"IFERROR(VLOOKUP(K62,$AD$7:AE64,2,FALSE),0)","v":0},null,null,0,null,null,null,null,null,null,"L",{"$f":"COUNTIFS(E7:E104,\"L\",K7:K104,\"A\")","v":0},{"$f":"COUNTIFS(E7:E104,\"L\",K7:K104,\"B\")","v":0},{"$f":"COUNTIFS(E7:E104,\"L\",K7:K104,\"C\")","v":0},null,"L",{"$f":"COUNTIFS(H7:H104,\"L\",K7:K104,\"A\")","v":0},{"$f":"COUNTIFS(H7:H104,\"L\",K7:K104,\"B\")","v":0},{"$f":"COUNTIFS(H7:H104,\"L\",K7:K104,\"C\")","v":0},null,null,"00:00:00","00:00:00",0,{"$f":"SpellNumber((AI62))","v":"No Dollars and No Cents"},3,"No "]
["00:00:00",null,null,null,null,0,null,null,0,null,null,{"$f":"IFERROR(VLOOKUP(K63,$AD$7:AE65,2,FALSE),0)","v":0},null,null,0,null,null,null,null,null,null,null,"Beh & Consequences",null,null,null,null,null,null,null,null,null,"00:00:00","00:00:00",0,{"$f":"SpellNumber((AI63))","v":"No Dollars and No Cents"},3,"No "]
["00:00:00",null,null,null,null,0,null,null,0,null,null,{"$f":"IFERROR(VLOOKUP(K64,$AD$7:AE66,2,FALSE),0)","v":0},null,null,0,null,null,null,null,null,null,null,"A","B","C",null,null,null,null,null,null,null,"00:00:00","00:00:00",0,{"$f":"SpellNumber((AI64))","v":"No Dollars and No Cents"},3,"No "]
["00:00:00",null,null,null,null,0,null,null,0,null,null,{"$f":"IFERROR(VLOOKUP(K65,$AD$7:AE67,2,FALSE),0)","v":0},null,null,0,null,null,null,null,null,null,"A",{"$f":"COUNTIFS(N7:N104,\"A\",K7:K104,\"A\")","v":0},{"$f":"COUNTIFS(N7:N104,\"A\",K7:K104,\"B\")","v":0},{"$f":"COUNTIFS(N7:N104,\"A\",K7:K104,\"C\")","v":0},null,null,null,null,null,null,null,"00:00:00","00:00:00",0,{"$f":"SpellNumber((AI65))","v":"No Dollars and No Cents"},3,"No "]
["00:00:00",null,null,null,null,0,null,null,0,null,null,{"$f":"IFERROR(VLOOKUP(K66,$AD$7:AE68,2,FALSE),0)","v":0},null,null,0,null,null,null,null,null,null,"B",{"$f":"COUNTIFS(N7:N104,\"B\",K7:K104,\"A\")","v":0},{"$f":"COUNTIFS(N7:N104,\"B\",K7:K104,\"B\")","v":0},{"$f":"COUNTIFS(N7:N104,\"B\",K7:K104,\"C\")","v":0},null,null,null,null,null,null,null,"00:00:00","00:00:00",0,{"$f":"SpellNumber((AI66))","v":"No Dollars and No Cents"},3,"No "]
["00:00:00",null,null,null,null,0,null,null,0,null,null,{"$f":"IFERROR(VLOOKUP(K67,$AD$7:AE69,2,FALSE),0)","v":0},null,null,0,null,null,null,null,null,null,"C",{"$f":"COUNTIFS(N7:N104,\"C\",K7:K104,\"A\")","v":0},{"$f":"COUNTIFS(N7:N104,\"C\",K7:K104,\"B\")","v":0},{"$f":"COUNTIFS(N7:N104,\"C\",K7:K104,\"C\")","v":0},null,null,null,null,null,null,null,"00:00:00","00:00:00",0,{"$f":"SpellNumber((AI67))","v":"No Dollars and No Cents"},3,"No "]
["00:00:00",null,null,null,null,0,null,null,0,null,null,{"$f":"IFERROR(VLOOKUP(K68,$AD$7:AE70,2,FALSE),0)","v":0},null,null,0,null,null,null,null,null,null,"D",{"$f":"COUNTIFS(N7:N104,\"D\",K7:K104,\"A\")","v":0},{"$f":"COUNTIFS(N7:N104,\"D\",K7:K104,\"B\")","v":0},{"$f":"COUNTIFS(N7:N104,\"D\",K7:K104,\"C\")","v":0},null,null,null,null,null,null,null,"00:00:00","00:00:00",0,{"$f":"SpellNumber((AI68))","v":"No Dollars and No Cents"},3,"No "]
["00:00:00",null,null,null,null,0,null,null,0,null,null,{"$f":"IFERROR(VLOOKUP(K69,$AD$7:AE71,2,FALSE),0)","v":0},null,null,0,null,null,null,null,null,null,"E",{"$f":"COUNTIFS(N7:N104,\"E\",K7:K104,\"A\")","v":0},{"$f":"COUNTIFS(N7:N104,\"E\",K7:K104,\"B\")","v":0},{"$f":"COUNTIFS(N7:N104,\"E\",K7:K104,\"C\")","v":0},null,null,null,null,null,null,null,"00:00:00","00:00:00",0,{"$f":"SpellNumber((AI69))","v":"No Dollars and No Cents"},3,"No "]
["00:00:00",null,null,null,null,0,null,null,0,null,null,{"$f":"IFERROR(VLOOKUP(K70,$AD$7:AE72,2,FALSE),0)","v":0},null,null,0,null,null,null,null,null,null,"F",{"$f":"COUNTIFS(N7:N104,\"F\",K7:K104,\"A\")","v":0},{"$f":"COUNTIFS(N7:N104,\"F\",K7:K104,\"B\")","v":0},{"$f":"COUNTIFS(N7:N104,\"F\",K7:K104,\"C\")","v":0},null,null,null,null,null,null,null,"00:00:00","00:00:00",0,{"$f":"SpellNumber((AI70))","v":"No Dollars and No Cents"},3,"No "]
["00:00:00",null,null,null,null,0,null,null,0,null,null,{"$f":"IFERROR(VLOOKUP(K71,$AD$7:AE73,2,FALSE),0)","v":0},null,null,0,null,null,null,null,null,null,"G",{"$f":"COUNTIFS(N7:N104,\"G\",K7:K104,\"A\")","v":0},{"$f":"COUNTIFS(N7:N104,\"G\",K7:K104,\"B\")","v":0},{"$f":"COUNTIFS(N7:N104,\"G\",K7:K104,\"C\")","v":0},null,null,null,null,null,null,null,"00:00:00","00:00:00",0,{"$f":"SpellNumber((AI71))","v":"No Dollars and No Cents"},3,"No "]
[{"$f":"C72-B72","v":"00:00:00"},null,null,null,null,0,null,null,{"$f":"IFERROR(VLOOKUP(H72,$Z$7:$AA$18,2,FALSE),0)","v":0},null,null,{"$f":"IFERROR(VLOOKUP(K72,$AD$7:AE74,2,FALSE),0)","v":0},null,null,{"$f":"IFERROR(VLOOKUP(N72,$V$22:$W$33,2,FALSE),0)","v":0},null,null,null,null,null,null,"H",{"$f":"COUNTIFS(N7:N104,\"H\",K7:K104,\"A\")","v":0},{"$f":"COUNTIFS(N7:N104,\"H\",K7:K104,\"B\")","v":0},{"$f":"COUNTIFS(N7:N104,\"H\",K7:K104,\"C\")","v":0},null,null,null,null,null,null,null,{"$f":"B72","v":"00:00:00"},{"$f":"TEXT(AG72,\"hh:mm:ss\")","v":"00:00:00"},{"$f":"AG72*24","v":0},{"$f":"SpellNumber((AI72))","v":"No Dollars and No Cents"},{"$f":"FIND(\" Dollar\",AJ72)","v":3},{"$f":"LEFT(AJ72,AK72)","v":"No "}]
["00:00:00",null,null,null,null,{"$f":"IFERROR(VLOOKUP(E73,$V$7:$W$18,2,FALSE),0)","v":0},null,null,0,null,null,{"$f":"IFERROR(VLOOKUP(K73,$AD$7:AE75,2,FALSE),0)","v":0},null,null,0,null,null,null,null,null,null,"I",{"$f":"COUNTIFS(N7:N104,\"I\",K7:K104,\"A\")","v":0},{"$f":"COUNTIFS(N7:N104,\"I\",K7:K104,\"B\")","v":0},{"$f":"COUNTIFS(N7:N104,\"I\",K7:K104,\"C\")","v":0},null,null,null,null,null,null,null,"00:00:00","00:00:00",0,{"$f":"SpellNumber((AI73))","v":"No Dollars and No Cents"},3,"No "]
["00:00:00",null,null,null,null,0,null,null,0,null,null,{"$f":"IFERROR(VLOOKUP(K74,$AD$7:AE76,2,FALSE),0)","v":0},null,null,0,null,null,null,null,null,null,"J",{"$f":"COUNTIFS(N7:N104,\"J\",K7:K104,\"A\")","v":0},{"$f":"COUNTIFS(N7:N104,\"J\",K7:K104,\"B\")","v":0},{"$f":"COUNTIFS(N7:N104,\"J\",K7:K104,\"C\")","v":0},null,null,null,null,null,null,null,"00:00:00","00:00:00",0,{"$f":"SpellNumber((AI74))","v":"No Dollars and No Cents"},3,"No "]
["00:00:00",null,null,null,null,0,null,null,0,null,null,{"$f":"IFERROR(VLOOKUP(K75,$AD$7:AE77,2,FALSE),0)","v":0},null,null,0,null,null,null,null,null,null,"K",{"$f":"COUNTIFS(N7:N104,\"K\",K7:K104,\"A\")","v":0},{"$f":"COUNTIFS(N7:N104,\"K\",K7:K104,\"B\")","v":0},{"$f":"COUNTIFS(N7:N104,\"K\",K7:K104,\"C\")","v":0},null,null,null,null,null,null,null,"00:00:00","00:00:00",0,{"$f":"SpellNumber((AI75))","v":"No Dollars and No Cents"},3,"No "]
["00:00:00",null,null,null,null,0,null,null,0,null,null,{"$f":"IFERROR(VLOOKUP(K76,$AD$7:AE78,2,FALSE),0)","v":0},null,null,0,null,null,null,null,null,null,"L",{"$f":"COUNTIFS(N7:N104,\"L\",K7:K104,\"A\")","v":0},{"$f":"COUNTIFS(N7:N104,\"L\",K7:K104,\"B\")","v":0},{"$f":"COUNTIFS(N7:N104,\"L\",K7:K104,\"C\")","v":0},null,null,null,null,null,null,null,"00:00:00","00:00:00",0,{"$f":"SpellNumber((AI76))","v":"No Dollars and No Cents"},3,"No "]
["00:00:00",null,null,null,null,0,null,null,0,null,null,{"$f":"IFERROR(VLOOKUP(K77,$AD$7:AE79,2,FALSE),0)","v":0},null,null,0,null,null,null,null,null,null,null,null,null,null,null,null,null,null,null,null,null,"00:00:00","00:00:00",0,{"$f":"SpellNumber((AI77))","v":"No Dollars and No Cents"},3,"No "]
["00:00:00",null,null,null,null,0,null,null,0,null,null,{"$f":"IFERROR(VLOOKUP(K78,$AD$7:AE80,2,FALSE),0)","v":0},null,null,0,null,null,null,null,null,null,null,null,null,null,null,null,null,null,null,null,null,"00:00:00","00:00:00",0,{"$f":"SpellNumber((AI78))","v":"No Dollars and No Cents"},3,"No "]
["00:00:00",null,null,null,null,0,null,null,0,null,null,{"$f":"IFERROR(VLOOKUP(K79,$AD$7:AE81,2,FALSE),0)","v":0},null,null,0,null,null,null,null,null,null,null,null,null,null,null,null,null,null,null,null,null,"00:00:00","00:00:00",0,{"$f":"SpellNumber((AI79))","v":"No Dollars and No Cents"},3,"No "]
["00:00:00",null,null,null,null,0,null,null,0,null,null,{"$f":"IFERROR(VLOOKUP(K80,$AD$7:AE82,2,FALSE),0)","v":0},null,null,0,null,null,null,null,null,null,null,null,null,null,null,null,null,null,null,null,null,"00:00:00","00:00:00",0,{"$f":"SpellNumber((AI80))","v":"No Dollars and No Cents"},3,"No "]
["00:00:00",null,null,null,null,0,null,null,0,null,null,{"$f":"IFERROR(VLOOKUP(K81,$AD$7:AE83,2,FALSE),0)","v":0},null,null,0,null,null,null,null,null,null,null,null,null,null,null,null,null,null,null,null,null,"00:00:00","00:00:00",0,{"$f":"SpellNumber((AI81))","v":"No Dollars and No Cents"},3,"No "]
["00:00:00",null,null,null,null,0,null,null,0,null,null,{"$f":"IFERROR(VLOOKUP(K82,$AD$7:AE84,2,FALSE),0)","v":0},null,null,0,null,null,null,null,null,null,null,null,null,null,null,null,null,null,null,null,null,"00:00:00","00:00:00",0,{"$f":"SpellNumber((AI82))","v":"No Dollars and No Cents"},3,"No "]
["00:00:00",null,null,null,null,0,null,null,0,null,null,{"$f":"IFERROR(VLOOKUP(K83,$AD$7:AE85,2,FALSE),0)","v":0},null,null,0,null,null,null,null,null,null,null,null,null,null,null,null,null,null,null,null,null,"00:00:00","00:00:00",0,{"$f":"SpellNumber((AI83))","v":"No Dollars and No Cents"},3,"No "]
["00:00:00",null,null,null,null,0,null,null,0,null,null,{"$f":"IFERROR(VLOOKUP(K84,$AD$7:AE86,2,FALSE),0)","v":0},null,null,0,null,null,null,null,null,null,null,null,null,null,null,null,null,null,null,null,null,"00:00:00","00:00:00",0,{"$f":"SpellNumber((AI84))","v":"No Dollars and No Cents"},3,"No "]
["00:00:00",null,null,null,null,0,null,null,0,null,null,{"$f":"IFERROR(VLOOKUP(K85,$AD$7:AE87,2,FALSE),0)","v":0},null,null,0,null,null,null,null,null,null,null,null,null,null,null,null,null,null,null,null,null,"00:00:00","00:00:00",0,{"$f":"SpellNumber((AI85))","v":"No Dollars and No Cents"},3,"No "]
["00:00:00",null,null,null,null,0,null,null,0,null,null,{"$f":"IFERROR(VLOOKUP(K86,$AD$7:AE88,2,FALSE),0)","v":0},null,null,0,null,null,null,null,null,null,null,null,null,null,null,null,null,null,null,null,null,"00:00:00","00:00:00",0,{"$f":"SpellNumber((AI86))","v":"No Dollars and No Cents"},3,"No "]
["00:00:00",null,null,null,null,0,null,null,0,null,null,{"$f":"IFERROR(VLOOKUP(K87,$AD$7:AE89,2,FALSE),0)","v":0},null,null,0,null,null,null,null,null,null,null,null,null,null,null,null,null,null,null,null,null,"00:00:00","00:00:00",0,{"$f":"SpellNumber((AI87))","v":"No Dollars and No Cents"},3,"No "]
["00:00:00",null,null,null,null,0,null,null,0,null,null,{"$f":"IFERROR(VLOOKUP(K88,$AD$7:AE90,2,FALSE),0)","v":0},null,null,0,null,null,null,null,null,null,null,null,null,null,null,null,null,null,null,null,null,"00:00:00","00:00:00",0,{"$f":"SpellNumber((AI88))","v":"No Dollars and No Cents"},3,"No "]
["00:00:00",null,null,null,null,0,null,null,0,null,null,{"$f":"IFERROR(VLOOKUP(K89,$AD$7:AE91,2,FALSE),0)","v":0},null,null,0,null,null,null,null,null,null,null,null,null,null,null,null,null,null,null,null,null,"00:00:00","00:00:00",0,{"$f":"SpellNumber((AI89))","v":"No Dollars and No Cents"},3,"No "]
["00:00:00",null,null,null,null,0,null,null,0,null,null,{"$f":"IFERROR(VLOOKUP(K90,$AD$7:AE92,2,FALSE),0)","v":0},null,null,0,null,null,null,null,null,null,null,null,null,null,null,null,null,null,null,null,null,"00:00:00","00:00:00",0,{"$f":"SpellNumber((AI90))","v":"No Dollars and No Cents"},3,"No "]
["00:00:00",null,null,null,null,0,null,null,0,null,null,{"$f":"IFERROR(VLOOKUP(K91,$AD$7:AE93,2,FALSE),0)","v":0},null,null,0,null,null,null,"Total Mins",{"$f":"SUM(A7:A104)","v":"00:00:00"},null,null,null,null,null,null,null,null,null,null,null,null,"00:00:00","00:00:00",0,{"$f":"SpellNumber((AI91))","v":"No Dollars and No Cents"},3,"No "]
["00:00:00",null,null,null,null,0,null,null,0,null,null,{"$f":"IFERROR(VLOOKUP(K92,$AD$7:AE94,2,FALSE),0)","v":0},null,null,0,null,null,null,"Settings:","A",{"$f":"COUNTIF(E4:E104,\"A\")","v":0},"Antec.","A",{"$f":"COUNTIF(H4:H104,\"A\")","v":0},"Beh","A",{"$f":"COUNTIF(L4:L104,\"A\")","v":0},"Conse.","A",{"$f":"COUNTIF(O4:O104,\"A\")","v":0},null,null,"00:00:00","00:00:00",0,{"$f":"SpellNumber((AI92))","v":"No Dollars and No Cents"},3,"No "]
["00:00:00",null,null,null,null,0,null,null,0,null,null,{"$f":"IFERROR(VLOOKUP(K93,$AD$7:AE95,2,FALSE),0)","v":0},null,null,0,null,null,null,null,"B",{"$f":"COUNTIF(E5:E105,\"B\")","v":0},null,"B",{"$f":"COUNTIF(H5:H105,\"B\")","v":0},null,"B",{"$f":"COUNTIF(L5:L105,\"B\")","v":0},null,"B",{"$f":"COUNTIF(O5:O105,\"B\")","v":0},null,null,"00:00:00","00:00:00",0,{"$f":"SpellNumber((AI93))","v":"No Dollars and No Cents"},3,"No "]
["00:00:00",null,null,null,null,0,null,null,0,null,null,{"$f":"IFERROR(VLOOKUP(K94,$AD$7:AE96,2,FALSE),0)","v":0},null,null,0,null,null,null,null,"C",{"$f":"COUNTIF(E6:E106,\"C\")","v":0},null,"C",{"$f":"COUNTIF(H6:H106,\"C\")","v":0},null,"C",{"$f":"COUNTIF(L6:L106,\"C\")","v":0},null,"C",{"$f":"COUNTIF(O6:O106,\"C\")","v":0},null,null,"00:00:00","00:00:00",0,{"$f":"SpellNumber((AI94))","v":"No Dollars and No Cents"},3,"No "]
["00:00:00",null,null,null,null,0,null,null,0,null,null,{"$f":"IFERROR(VLOOKUP(K95,$AD$7:AE97,2,FALSE),0)","v":0},null,null,0,null,null,null,null,"D",{"$f":"COUNTIF(E7:E107,\"D\")","v":0},null,"D",{"$f":"COUNTIF(H7:H107,\"D\")","v":0},null,null,null,null,"D",{"$f":"COUNTIF(O7:O107,\"D\")","v":0},null,null,"00:00:00","00:00:00",0,{"$f":"SpellNumber((AI95))","v":"No Dollars and No Cents"},3,"No "]
["00:00:00",null,null,null,null,0,null,null,0,null,null,{"$f":"IFERROR(VLOOKUP(K96,$AD$7:AE98,2,FALSE),0)","v":0},null,null,0,null,null,null,null,"E",{"$f":"COUNTIF(E8:E108,\"E\")","v":0},null,"E",{"$f":"COUNTIF(H8:H108,\"E\")","v":0},null,null,null,null,"E",{"$f":"COUNTIF(O8:O108,\"E\")","v":0},null,null,"00:00:00","00:00:00",0,{"$f":"SpellNumber((AI96))","v":"No Dollars and No Cents"},3,"No "]
["00:00:00",null,null,null,null,0,null,null,0,null,null,{"$f":"IFERROR(VLOOKUP(K97,$AD$7:AE99,2,FALSE),0)","v":0},null,null,0,null,null,null,null,"F",{"$f":"COUNTIF(E9:E109,\"F\")","v":0},null,"F",{"$f":"COUNTIF(H9:H109,\"F\")","v":0},null,null,null,null,"F",{"$f":"COUNTIF(O9:O109,\"F\")","v":0},null,null,"00:00:00","00:00:00",0,{"$f":"SpellNumber((AI97))","v":"No Dollars and No Cents"},3,"No "]
["00:00:00",null,null,null,null,0,null,null,0,null,null,{"$f":"IFERROR(VLOOKUP(K98,$AD$7:AE100,2,FALSE),0)","v":0},null,null,0,null,null,null,null,"G",{"$f":"COUNTIF(E10:E110,\"G\")","v":0},null,"G",{"$f":"COUNTIF(H10:H110,\"G\")","v":0},null,null,null,null,"G",{"$f":"COUNTIF(O10:O110,\"G\")","v":0},null,null,"00:00:00","00:00:00",0,{"$f":"SpellNumber((AI98))","v":"No Dollars and No Cents"},3,"No "]
["00:00:00",null,null,null,null,0,null,null,0,null,null,{"$f":"IFERROR(VLOOKUP(K99,$AD$7:AE101,2,FALSE),0)","v":0},null,null,0,null,null,null,null,"H",{"$f":"COUNTIF(E11:E111,\"H\")","v":0},null,"H",{"$f":"COUNTIF(H11:H111,\"H\")","v":0},null,null,null,null,"H",{"$f":"COUNTIF(O11:O111,\"H\")","v":0},null,null,"00:00:00","00:00:00",0,{"$f":"SpellNumber((AI99))","v":"No Dollars and No Cents"},3,"No "]
["00:00:00",null,null,null,null,0,null,null,0,null,null,{"$f":"IFERROR(VLOOKUP(K100,$AD$7:AE102,2,FALSE),0)","v":0},null,null,0,null,null,null,null,"I",{"$f":"COUNTIF(E12:E112,\"I\")","v":0},null,"I",{"$f":"COUNTIF(H12:H112,\"I\")","v":0},null,null,null,null,"I",{"$f":"COUNTIF(O12:O112,\"I\")","v":0},null,null,"00:00:00","00:00:00",0,{"$f":"SpellNumber((AI100))","v":"No Dollars and No Cents"},3,"No "]
["00:00:00",null,null,null,null,0,null,null,0,null,null,{"$f":"IFERROR(VLOOKUP(K101,$AD$7:AE103,2,FALSE),0)","v":0},null,null,0,null,null,null,null,"J",{"$f":"COUNTIF(E13:E113,\"J\")","v":0},null,"J",{"$f":"COUNTIF(H13:H113,\"J\")","v":0},null,null,null,null,"J",{"$f":"COUNTIF(O13:O113,\"J\")","v":0},null,null,"00:00:00","00:00:00",0,{"$f":"SpellNumber((AI101))","v":"No Dollars and No Cents"},3,"No "]
["00:00:00",null,null,null,null,0,null,null,0,null,null,{"$f":"IFERROR(VLOOKUP(K102,$AD$7:AE104,2,FALSE),0)","v":0},null,null,0,null,null,null,null,"K",{"$f":"COUNTIF(E14:E114,\"K\")","v":0},null,"K",{"$f":"COUNTIF(H14:H114,\"K\")","v":0},null,null,null,null,"K",{"$f":"COUNTIF(O14:O114,\"K\")","v":0},null,null,"00:00:00","00:00:00",0,{"$f":"SpellNumber((AI102))","v":"No Dollars and No Cents"},3,"No "]
["00:00:00",null,null,null,null,0,null,null,0,null,null,{"$f":"IFERROR(VLOOKUP(K103,$AD$7:AE105,2,FALSE),0)","v":0},null,null,0,null,null,null,null,"L",{"$f":"COUNTIF(E15:E115,\"L\")","v":0},null,"L",{"$f":"COUNTIF(H15:H115,\"L\")","v":0},null,null,null,null,"L",{"$f":"COUNTIF(O15:O115,\"L\")","v":0},null,null,"00:00:00","00:00:00",0,{"$f":"SpellNumber((AI103))","v":"No Dollars and No Cents"},3,"No "]
["00:00:00",null,null,null,null,0,null,null,0,null,null,{"$f":"IFERROR(VLOOKUP(K104,$AD$7:AE106,2,FALSE),0)","v":0},null,null,0,null,null,null,null,null,null,null,null,null,null,null,null,null,null,null,null,null,"00:00:00","00:00:00",0,{"$f":"SpellNumber((AI104))","v":"No Dollars and No Cents"},3,"No "]

{"sheet":"Data 5","index":13,"n_rows":104,"n_cols":38,"rows_kept":104,"cut":false,"hidden":false,"merged":[[0,7,3,14]]}
["ATTENDANCE",null,null,null,null,null,null,"Data Collection"]
["If tardy, arrival time",null,null,null,null,null,null,null,null,null,null,null,null,null,null,null,null,null,null,null,null,null,"Date",{"$f":"Calendar!G5","v":{"$error":"#N/A"}},{"$f":"TEXT(X2,\"ddd\")","v":{"$error":"#N/A"}}]
["If left early, time",null,null,null,null,null,null,null,null,null,null,null,null,null,null,null,null,null,null,null,null,null,"Frq. Of bx",{"$f":"AA22","v":0}]
[]
[]
["Mins.","Start Time","End Time",null,null,null,null,null,null,null,null,null,null,null,null,null,null,null,null,null,null,null,"Setting",null,null,"Ant",null,null,null,"Beh",null,null,"Raw Data","Time in text","Decimal"]
[{"$f":"C7-B7","v":"00:00:00"},null,null,null,null,{"$f":"IFERROR(VLOOKUP(E7,$V$7:$W$18,2,FALSE),0)","v":0},null,null,{"$f":"IFERROR(VLOOKUP(H7,$Z$7:$AA$18,2,FALSE),0)","v":0},null,null,{"$f":"IFERROR(VLOOKUP(K7,$AD$7:AE9,2,FALSE),0)","v":0},null,null,{"$f":"IFERROR(VLOOKUP(N7,$V$22:$W$33,2,FALSE),0)","v":0},null,null,null,null,null,null,"A",{"$f":"Criteria!C4","v":"Transition"},null,null,"A",{"$f":"Criteria!E4","v":"Transition"},null,null,"A",{"$f":"Criteria!G4","v":0},null,{"$f":"B7","v":"00:00:00"},{"$f":"TEXT(AG7,\"hh:mm:ss\")","v":"00:00:00"},{"$f":"AG7*24","v":0},{"$f":"SpellNumber((AI7))","v":"No Dollars and No Cents"},{"$f":"FIND(\" Dollar\",AJ7)","v":3},{"$f":"LEFT(AJ7,AK7)","v":"No "}]
[{"$f":"C8-B8","v":"00:00:00"},null,null,null,null,{"$f":"IFERROR(VLOOKUP(E8,$V$7:$W$18,2,FALSE),0)","v":0},null,null,{"$f":"IFERROR(VLOOKUP(H8,$Z$7:$AA$18,2,FALSE),0)","v":0},null,null,{"$f":"IFERROR(VLOOKUP(K8,$AD$7:AE10,2,FALSE),0)","v":0},null,null,{"$f":"IFERROR(VLOOKUP(N8,$V$22:$W$33,2,FALSE),0)","v":0},null,null,null,null,null,null,"B",{"$f":"Criteria!C5","v":"Morning Routine"},null,null,"B",{"$f":"Criteria!E5","v":"Denied access ('No')"},null,null,"B",{"$f":"Criteria!G5","v":0},null,{"$f":"B8","v":"00:00:00"},{"$f":"TEXT(AG8,\"hh:mm:ss\")","v":"00:00:00"},{"$f":"AG8*24","v":0},{"$f":"SpellNumber((AI8))","v":"No Dollars and No Cents"},{"$f":"FIND(\" Dollar\",AJ8)","v":3},{"$f":"LEFT(AJ8,AK8)","v":"No "}]
["00:00:00",null,null,null,null,{"$f":"IFERROR(VLOOKUP(E9,$V$7:$W$18,2,FALSE),0)","v":0},null,null,0,null,null,{"$f":"IFERROR(VLOOKUP(K9,$AD$7:AE11,2,FALSE),0)","v":0},null,null,0,null,null,null,null,null,null,"C",{"$f":"Criteria!C6","v":"Group Work"},null,null,"C",{"$f":"Criteria!E6","v":"Instruction/ Directions"},null,null,"C",{"$f":"Criteria!G6","v":0},null,"00:00:00","00:00:00",0,{"$f":"SpellNumber((AI9))","v":"No Dollars and No Cents"},3,"No "]
["00:00:00",null,null,null,null,0,null,null,0,null,null,{"$f":"IFERROR(VLOOKUP(K10,$AD$7:AE12,2,FALSE),0)","v":0},null,null,0,null,null,null,null,null,null,"D",{"$f":"Criteria!C7","v":"Ind. Seat/Work Time"},null,null,"D",{"$f":"Criteria!E7","v":"New Task"},null,null,null,null,null,"00:00:00","00:00:00",0,{"$f":"SpellNumber((AI10))","v":"No Dollars and No Cents"},3,"No "]
["00:00:00",null,null,null,null,0,null,null,0,null,null,{"$f":"IFERROR(VLOOKUP(K11,$AD$7:AE13,2,FALSE),0)","v":0},null,null,0,null,null,null,null,null,null,"E",{"$f":"Criteria!C8","v":"Language Arts"},null,null,"E",{"$f":"Criteria!E8","v":"Tcher attn to other"},null,null,null,null,null,"00:00:00","00:00:00",0,{"$f":"SpellNumber((AI11))","v":"No Dollars and No Cents"},3,"No "]
["00:00:00",null,null,null,null,0,null,null,0,null,null,{"$f":"IFERROR(VLOOKUP(K12,$AD$7:AE14,2,FALSE),0)","v":0},null,null,0,null,null,null,null,null,null,"F",{"$f":"Criteria!C9","v":"Mathematics"},null,null,"F",{"$f":"Criteria!E9","v":"Choice given"},null,null,null,null,null,"00:00:00","00:00:00",0,{"$f":"SpellNumber((AI12))","v":"No Dollars and No Cents"},3,"No "]
["00:00:00",null,null,null,null,0,null,null,0,null,null,{"$f":"IFERROR(VLOOKUP(K13,$AD$7:AE15,2,FALSE),0)","v":0},null,null,0,null,null,null,null,null,null,"G",{"$f":"Criteria!C10","v":"Physical Education"},null,null,"G",{"$f":"Criteria!E10","v":"Redirection"},null,null,null,null,null,"00:00:00","00:00:00",0,{"$f":"SpellNumber((AI13))","v":"No Dollars and No Cents"},3,"No "]
["00:00:00",null,null,null,null,0,null,null,0,null,null,{"$f":"IFERROR(VLOOKUP(K14,$AD$7:AE16,2,FALSE),0)","v":0},null,null,0,null,null,null,null,null,null,"H",{"$f":"Criteria!C11","v":"Music/Art"},null,null,"H",{"$f":"Criteria!E11","v":"Routine Task"},null,null,null,null,null,"00:00:00","00:00:00",0,{"$f":"SpellNumber((AI14))","v":"No Dollars and No Cents"},3,"No "]
["00:00:00",null,null,null,null,0,null,null,0,null,null,{"$f":"IFERROR(VLOOKUP(K15,$AD$7:AE17,2,FALSE),0)","v":0},null,null,0,null,null,null,null,null,null,"I",{"$f":"Criteria!C12","v":"Speech"},null,null,"I",{"$f":"Criteria!E12","v":"Waiting"},null,null,null,null,null,"00:00:00","00:00:00",0,{"$f":"SpellNumber((AI15))","v":"No Dollars and No Cents"},3,"No "]
["00:00:00",null,null,null,null,0,null,null,0,null,null,{"$f":"IFERROR(VLOOKUP(K16,$AD$7:AE18,2,FALSE),0)","v":0},null,null,0,null,null,null,null,null,null,"J",{"$f":"Criteria!C13","v":"OT/PT"},null,null,"J",{"$f":"Criteria!E13","v":"Unknown"},null,null,null,null,null,"00:00:00","00:00:00",0,{"$f":"SpellNumber((AI16))","v":"No Dollars and No Cents"},3,"No "]
["00:00:00",null,null,null,null,0,null,null,0,null,null,{"$f":"IFERROR(VLOOKUP(K17,$AD$7:AE19,2,FALSE),0)","v":0},null,null,0,null,null,null,null,null,null,"K",{"$f":"Criteria!C14","v":"Center"},null,null,"K",{"$f":"Criteria!E14","v":"Ignored"},null,null,null,null,null,"00:00:00","00:00:00",0,{"$f":"SpellNumber((AI17))","v":"No Dollars and No Cents"},3,"No "]
["00:00:00",null,null,null,null,0,null,null,0,null,null,{"$f":"IFERROR(VLOOKUP(K18,$AD$7:AE20,2,FALSE),0)","v":0},null,null,0,null,null,null,null,null,null,"L",{"$f":"Criteria!C15","v":"Other"},null,null,"L",{"$f":"Criteria!E15","v":"Other"},null,null,null,null,null,"00:00:00","00:00:00",0,{"$f":"SpellNumber((AI18))","v":"No Dollars and No Cents"},3,"No "]
["00:00:00",null,null,null,null,0,null,null,0,null,null,{"$f":"IFERROR(VLOOKUP(K19,$AD$7:AE21,2,FALSE),0)","v":0},null,null,0,null,null,null,null,null,null,null,null,null,null,null,null,null,null,null,null,null,"00:00:00","00:00:00",0,{"$f":"SpellNumber((AI19))","v":"No Dollars and No Cents"},3,"No "]
["00:00:00",null,null,null,null,0,null,null,0,null,null,{"$f":"IFERROR(VLOOKUP(K20,$AD$7:AE22,2,FALSE),0)","v":0},null,null,0,null,null,null,null,null,null,null,null,null,null,null,null,null,null,null,null,null,"00:00:00","00:00:00",0,{"$f":"SpellNumber((AI20))","v":"No Dollars and No Cents"},3,"No "]
["00:00:00",null,null,null,null,0,null,null,0,null,null,{"$f":"IFERROR(VLOOKUP(K21,$AD$7:AE23,2,FALSE),0)","v":0},null,null,0,null,null,null,null,null,null,null,"Con",null,"Bx Frequency Per Day",null,null,null,null,null,null,null,"00:00:00","00:00:00",0,{"$f":"SpellNumber((AI21))","v":"No Dollars and No Cents"},3,"No "]
["00:00:00",null,null,null,null,0,null,null,0,null,null,{"$f":"IFERROR(VLOOKUP(K22,$AD$7:AE24,2,FALSE),0)","v":0},null,null,0,null,null,null,null,null,null,"A",{"$f":"Criteria!I4","v":"Choice Given"},"A",{"$f":"COUNTIF(K7:K104,\"A\")","v":0},null,{"$f":"SUM(Y22:Y24)","v":0},null,"Bin Dec","Frequency of Time",null,null,"00:00:00","00:00:00",0,{"$f":"SpellNumber((AI22))","v":"No Dollars and No Cents"},3,"No "]
["00:00:00",null,null,null,null,0,null,null,0,null,null,{"$f":"IFERROR(VLOOKUP(K23,$AD$7:AE25,2,FALSE),0)","v":0},null,null,0,null,null,null,null,null,null,"B",{"$f":"Criteria!I5","v":"Ignored"},"B",{"$f":"COUNTIF(K7:K104,\"B\")","v":0},null,null,null,"Seven",{"$f":"COUNTIF(AL7:AL104,\"*Seven*\")","v":0},null,null,"00:00:00","00:00:00",0,{"$f":"SpellNumber((AI23))","v":"No Dollars and No Cents"},3,"No "]
["00:00:00",null,null,null,null,0,null,null,0,null,null,{"$f":"IFERROR(VLOOKUP(K24,$AD$7:AE26,2,FALSE),0)","v":0},null,null,0,null,null,null,null,null,null,"C",{"$f":"Criteria!I6","v":"Redirection"},"C",{"$f":"COUNTIF(K7:K104,\"C\")","v":0},null,null,null,"Eight",{"$f":"COUNTIF(AL7:AL104,\"*Eight*\")","v":0},null,null,"00:00:00","00:00:00",0,{"$f":"SpellNumber((AI24))","v":"No Dollars and No Cents"},3,"No "]
["00:00:00",null,null,null,null,0,null,null,0,null,null,{"$f":"IFERROR(VLOOKUP(K25,$AD$7:AE27,2,FALSE),0)","v":0},null,null,0,null,null,null,null,null,null,"D",{"$f":"Criteria!I7","v":"Kept the demand"},null,"Bx Druation Per Day",null,null,null,"Nine",{"$f":"COUNTIF(AL7:AL104,\"*Nine*\")","v":0},null,null,"00:00:00","00:00:00",0,{"$f":"SpellNumber((AI25))","v":"No Dollars and No Cents"},3,"No "]
["00:00:00",null,null,null,null,0,null,null,0,null,null,{"$f":"IFERROR(VLOOKUP(K26,$AD$7:AE28,2,FALSE),0)","v":0},null,null,0,null,null,null,null,null,null,"E",{"$f":"Criteria!I8","v":"Changed activity"},"A",{"$f":"SUMIF(K7:K104,\"A\",A7:A104)","v":"00:00:00"},null,null,null,"Ten",{"$f":"COUNTIF(AL7:AL12,\"*Ten*\")","v":0},null,null,"00:00:00","00:00:00",0,{"$f":"SpellNumber((AI26))","v":"No Dollars and No Cents"},3,"No "]
["00:00:00",null,null,null,null,0,null,null,0,null,null,{"$f":"IFERROR(VLOOKUP(K27,$AD$7:AE29,2,FALSE),0)","v":0},null,null,0,null,null,null,null,null,null,"F",{"$f":"Criteria!I9","v":"Verbal reprimand"},"B",{"$f":"SUMIF(K7:K104,\"B\",A7:A104)","v":"00:00:00"},null,null,null,"Eleven",{"$f":"COUNTIF(AL7:AL104,\"*Eleven*\")","v":0},null,null,"00:00:00","00:00:00",0,{"$f":"SpellNumber((AI27))","v":"No Dollars and No Cents"},3,"No "]
["00:00:00",null,null,null,null,0,null,null,0,null,null,{"$f":"IFERROR(VLOOKUP(K28,$AD$7:AE30,2,FALSE),0)","v":0},null,null,0,null,null,null,null,null,null,"G",{"$f":"Criteria!I10","v":"Told to wait"},"C",{"$f":"SUMIF(K7:K104,\"C\",A7:A104)","v":"00:00:00"},null,null,null,"Twelve",{"$f":"COUNTIF(AL7:AL104,\"*Twelve*\")","v":0},null,null,"00:00:00","00:00:00",0,{"$f":"SpellNumber((AI28))","v":"No Dollars and No Cents"},3,"No "]
["00:00:00",null,null,null,null,0,null,null,0,null,null,{"$f":"IFERROR(VLOOKUP(K29,$AD$7:AE31,2,FALSE),0)","v":0},null,null,0,null,null,null,null,null,null,"H",{"$f":"Criteria!I11","v":"Physical Prompt"},null,null,null,null,null,"One",{"$f":"COUNTIF(AL7:AL104,\"*One*\")","v":0},null,null,"00:00:00","00:00:00",0,{"$f":"SpellNumber((AI29))","v":"No Dollars and No Cents"},3,"No "]
["00:00:00",null,null,null,null,0,null,null,0,null,null,{"$f":"IFERROR(VLOOKUP(K30,$AD$7:AE32,2,FALSE),0)","v":0},null,null,0,null,null,null,null,null,null,"I",{"$f":"Criteria!I12","v":"Verbal prompt"},null,null,null,null,null,"Two",{"$f":"COUNTIF(AL7:AL104,\"*Two*\")","v":0},null,null,"00:00:00","00:00:00",0,{"$f":"SpellNumber((AI30))","v":"No Dollars and No Cents"},3,"No "]
["00:00:00",null,null,null,null,0,null,null,0,null,null,{"$f":"IFERROR(VLOOKUP(K31,$AD$7:AE33,2,FALSE),0)","v":0},null,null,0,null,null,null,null,null,null,"J",{"$f":"Criteria!I13","v":"Told to wait"},null,null,null,null,null,"Three",{"$f":"COUNTIF(AL7:AL104,\"*Three*\")","v":0},null,null,"00:00:00","00:00:00",0,{"$f":"SpellNumber((AI31))","v":"No Dollars and No Cents"},3,"No "]
["00:00:00",null,null,null,null,0,null,null,0,null,null,{"$f":"IFERROR(VLOOKUP(K32,$AD$7:AE34,2,FALSE),0)","v":0},null,null,0,null,null,null,null,null,null,"K",{"$f":"Criteria!I14","v":"Unknown"},null,null,null,null,null,"Four",{"$f":"COUNTIF(AL7:AL104,\"*Four*\")","v":0},null,null,"00:00:00","00:00:00",0,{"$f":"SpellNumber((AI32))","v":"No Dollars and No Cents"},3,"No "]
["00:00:00",null,null,null,null,0,null,null,0,null,null,{"$f":"IFERROR(VLOOKUP(K33,$AD$7:AE35,2,FALSE),0)","v":0},null,null,0,null,null,null,null,null,null,"L",{"$f":"Criteria!I15","v":"Other"},null,null,null,null,null,null,null,null,null,"00:00:00","00:00:00",0,{"$f":"SpellNumber((AI33))","v":"No Dollars and No Cents"},3,"No "]
["00:00:00",null,null,null,null,0,null,null,0,null,null,{"$f":"IFERROR(VLOOKUP(K34,$AD$7:AE36,2,FALSE),0)","v":0},null,null,0,null,null,null,null,null,null,null,null,null,null,null,null,null,null,null,null,null,"00:00:00","00:00:00",0,{"$f":"SpellNumber((AI34))","v":"No Dollars and No Cents"},3,"No "]
["00:00:00",null,null,null,null,0,null,null,0,null,null,{"$f":"IFERROR(VLOOKUP(K35,$AD$7:AE37,2,FALSE),0)","v":0},null,null,0,null,null,null,null,null,null,null,"Context Frequency","Consequence","Antedencents",null,null,null,null,null,null,null,"00:00:00","00:00:00",0,{"$f":"SpellNumber((AI35))","v":"No Dollars and No Cents"},3,"No "]
["00:00:00",null,null,null,null,0,null,null,0,null,null,{"$f":"IFERROR(VLOOKUP(K36,$AD$7:AE38,2,FALSE),0)","v":0},null,null,0,null,null,null,null,null,null,"A",{"$f":"COUNTIF(E7:E104,\"A\")","v":0},{"$f":"COUNTIF(N7:N104,\"A\")","v":0},{"$f":"COUNTIF(H7:H104,\"A\")","v":0},null,null,null,null,null,null,null,"00:00:00","00:00:00",0,{"$f":"SpellNumber((AI36))","v":"No Dollars and No Cents"},3,"No "]
["00:00:00",null,null,null,null,0,null,null,0,null,null,{"$f":"IFERROR(VLOOKUP(K37,$AD$7:AE39,2,FALSE),0)","v":0},null,null,0,null,null,null,null,null,null,"B",{"$f":"COUNTIF(E8:E105,\"B\")","v":0},{"$f":"COUNTIF(N7:N104,\"B\")","v":0},{"$f":"COUNTIF(H7:H104,\"B\")","v":0},null,null,null,null,null,null,null,"00:00:00","00:00:00",0,{"$f":"SpellNumber((AI37))","v":"No Dollars and No Cents"},3,"No "]
["00:00:00",null,null,null,null,0,null,null,0,null,null,{"$f":"IFERROR(VLOOKUP(K38,$AD$7:AE40,2,FALSE),0)","v":0},null,null,0,null,null,null,null,null,null,"C",{"$f":"COUNTIF(E8:E105,\"C\")","v":0},{"$f":"COUNTIF(N7:N104,\"C\")","v":0},{"$f":"COUNTIF(H7:H104,\"C\")","v":0},null,null,null,null,null,null,null,"00:00:00","00:00:00",0,{"$f":"SpellNumber((AI38))","v":"No Dollars and No Cents"},3,"No "]
["00:00:00",null,null,null,null,0,null,null,0,null,null,{"$f":"IFERROR(VLOOKUP(K39,$AD$7:AE41,2,FALSE),0)","v":0},null,null,0,null,null,null,null,null,null,"D",{"$f":"COUNTIF(E8:E105,\"D\")","v":0},{"$f":"COUNTIF(N7:N104,\"D\")","v":0},{"$f":"COUNTIF(H7:H104,\"D\")","v":0},null,null,null,null,null,null,null,"00:00:00","00:00:00",0,{"$f":"SpellNumber((AI39))","v":"No Dollars and No Cents"},3,"No "]
["00:00:00",null,null,null,null,0,null,null,0,null,null,{"$f":"IFERROR(VLOOKUP(K40,$AD$7:AE42,2,FALSE),0)","v":0},null,null,0,null,null,null,null,null,null,"E",{"$f":"COUNTIF(E8:E105,\"E\")","v":0},{"$f":"COUNTIF(N7:N104,\"E\")","v":0},{"$f":"COUNTIF(H7:H104,\"E\")","v":0},null,null,null,null,null,null,null,"00:00:00","00:00:00",0,{"$f":"SpellNumber((AI40))","v":"No Dollars and No Cents"},3,"No "]
["00:00:00",null,null,null,null,0,null,null,0,null,null,{"$f":"IFERROR(VLOOKUP(K41,$AD$7:AE43,2,FALSE),0)","v":0},null,null,0,null,null,null,null,null,null,"F",{"$f":"COUNTIF(E8:E105,\"F\")","v":0},{"$f":"COUNTIF(N7:N104,\"F\")","v":0},{"$f":"COUNTIF(H7:H104,\"F\")","v":0},null,null,null,null,null,null,null,"00:00:00","00:00:00",0,{"$f":"SpellNumber((AI41))","v":"No Dollars and No Cents"},3,"No "]
["00:00:00",null,null,null,null,0,null,null,0,null,null,{"$f":"IFERROR(VLOOKUP(K42,$AD$7:AE44,2,FALSE),0)","v":0},null,null,0,null,null,null,null,null,null,"G",{"$f":"COUNTIF(E8:E105,\"G\")","v":0},{"$f":"COUNTIF(N7:N104,\"G\")","v":0},{"$f":"COUNTIF(H7:H104,\"G\")","v":0},null,null,null,null,null,null,null,"00:00:00","00:00:00",0,{"$f":"SpellNumber((AI42))","v":"No Dollars and No Cents"},3,"No "]
["00:00:00",null,null,null,null,0,null,null,0,null,null,{"$f":"IFERROR(VLOOKUP(K43,$AD$7:AE45,2,FALSE),0)","v":0},null,null,0,null,null,null,null,null,null,"H",{"$f":"COUNTIF(E8:E105,\"H\")","v":0},{"$f":"COUNTIF(N7:N104,\"H\")","v":0},{"$f":"COUNTIF(H7:H104,\"H\")","v":0},null,null,null,null,null,null,null,"00:00:00","00:00:00",0,{"$f":"SpellNumber((AI43))","v":"No Dollars and No Cents"},3,"No "]
["00:00:00",null,null,null,null,0,null,null,0,null,null,{"$f":"IFERROR(VLOOKUP(K44,$AD$7:AE46,2,FALSE),0)","v":0},null,null,0,null,null,null,null,null,null,"I",{"$f":"COUNTIF(E8:E105,\"I\")","v":0},{"$f":"COUNTIF(N7:N104,\"I\")","v":0},{"$f":"COUNTIF(H7:H104,\"I\")","v":0},null,null,null,null,null,null,null,"00:00:00","00:00:00",0,{"$f":"SpellNumber((AI44))","v":"No Dollars and No Cents"},3,"No "]
["00:00:00",null,null,null,null,0,null,null,0,null,null,{"$f":"IFERROR(VLOOKUP(K45,$AD$7:AE47,2,FALSE),0)","v":0},null,null,0,null,null,null,null,null,null,"J",{"$f":"COUNTIF(E8:E105,\"J\")","v":0},{"$f":"COUNTIF(N7:N104,\"J\")","v":0},{"$f":"COUNTIF(H7:H104,\"J\")","v":0},null,null,null,null,null,null,null,"00:00:00","00:00:00",0,{"$f":"SpellNumber((AI45))","v":"No Dollars and No Cents"},3,"No "]
["00:00:00",null,null,null,null,0,null,null,0,null,null,{"$f":"IFERROR(VLOOKUP(K46,$AD$7:AE48,2,FALSE),0)","v":0},null,null,0,null,null,null,null,null,null,"K",{"$f":"COUNTIF(E8:E105,\"K\")","v":0},{"$f":"COUNTIF(N7:N104,\"K\")","v":0},{"$f":"COUNTIF(H7:H104,\"K\")","v":0},null,null,null,null,null,null,null,"00:00:00","00:00:00",0,{"$f":"SpellNumber((AI46))","v":"No Dollars and No Cents"},3,"No "]
["00:00:00",null,null,null,null,0,null,null,0,null,null,{"$f":"IFERROR(VLOOKUP(K47,$AD$7:AE49,2,FALSE),0)","v":0},null,null,0,null,null,null,null,null,null,"L",{"$f":"COUNTIF(E8:E105,\"l\")","v":0},{"$f":"COUNTIF(N7:N104,\"L\")","v":0},{"$f":"COUNTIF(H7:H104,\"L\")","v":0},null,null,null,null,null,null,null,"00:00:00","00:00:00",0,{"$f":"SpellNumber((AI47))","v":"No Dollars and No Cents"},3,"No "]
["00:00:00",null,null,null,null,0,null,null,0,null,null,{"$f":"IFERROR(VLOOKUP(K48,$AD$7:AE50,2,FALSE),0)","v":0},null,null,0,null,null,null,null,null,null,null,null,null,null,null,null,null,null,null,null,null,"00:00:00","00:00:00",0,{"$f":"SpellNumber((AI48))","v":"No Dollars and No Cents"},3,"No "]
["00:00:00",null,null,null,null,0,null,null,0,null,null,{"$f":"IFERROR(VLOOKUP(K49,$AD$7:AE51,2,FALSE),0)","v":0},null,null,0,null,null,null,null,null,null,null,"Beh & Setting ",null,null,null,"Beh & Antecedents",null,null,null,null,null,"00:00:00","00:00:00",0,{"$f":"SpellNumber((AI49))","v":"No Dollars and No Cents"},3,"No "]
["00:00:00",null,null,null,null,0,null,null,0,null,null,{"$f":"IFERROR(VLOOKUP(K50,$AD$7:AE52,2,FALSE),0)","v":0},null,null,0,null,null,null,null,null,null,null,"A","B","C",null,null,"A","B","C",null,null,"00:00:00","00:00:00",0,{"$f":"SpellNumber((AI50))","v":"No Dollars and No Cents"},3,"No "]
["00:00:00",null,null,null,null,0,null,null,0,null,null,{"$f":"IFERROR(VLOOKUP(K51,$AD$7:AE53,2,FALSE),0)","v":0},null,null,0,null,null,null,null,null,null,"A",{"$f":"COUNTIFS(E7:E104,\"A\",K7:K104,\"A\")","v":0},{"$f":"COUNTIFS(E7:E104,\"A\",K7:K104,\"B\")","v":0},{"$f":"COUNTIFS(E7:E104,\"A\",K7:K104,\"C\")","v":0},null,"A",{"$f":"COUNTIFS(H7:H104,\"a\",K7:K104,\"A\")","v":0},{"$f":"COUNTIFS(H7:H104,\"A\",K7:K104,\"B\")","v":0},{"$f":"COUNTIFS(H7:H104,\"A\",K7:K104,\"C\")","v":0},null,null,"00:00:00","00:00:00",0,{"$f":"SpellNumber((AI51))","v":"No Dollars and No Cents"},3,"No "]
["00:00:00",null,null,null,null,0,null,null,0,null,null,{"$f":"IFERROR(VLOOKUP(K52,$AD$7:AE54,2,FALSE),0)","v":0},null,null,0,null,null,null,null,null,null,"B",{"$f":"COUNTIFS(E7:E104,\"B\",K7:K104,\"A\")","v":0},{"$f":"COUNTIFS(E7:E104,\"B\",K7:K104,\"B\")","v":0},{"$f":"COUNTIFS(E7:E104,\"B\",K7:K104,\"C\")","v":0},null,"B",{"$f":"COUNTIFS(H7:H104,\"B\",K7:K104,\"A\")","v":0},{"$f":"COUNTIFS(H7:H104,\"B\",K7:K104,\"B\")","v":0},{"$f":"COUNTIFS(H7:H104,\"B\",K7:K104,\"C\")","v":0},null,null,"00:00:00","00:00:00",0,{"$f":"SpellNumber((AI52))","v":"No Dollars and No Cents"},3,"No "]
["00:00:00",null,null,null,null,0,null,null,0,null,null,{"$f":"IFERROR(VLOOKUP(K53,$AD$7:AE55,2,FALSE),0)","v":0},null,null,0,null,null,null,null,null,null,"C",{"$f":"COUNTIFS(K7:K104,\"C\",K7:K104,\"A\")","v":0},{"$f":"COUNTIFS(E7:E104,\"C\",K7:K104,\"B\")","v":0},{"$f":"COUNTIFS(E7:E104,\"C\",K7:K104,\"C\")","v":0},null,"C",{"$f":"COUNTIFS(H7:H104,\"C\",K7:K104,\"A\")","v":0},{"$f":"COUNTIFS(H7:H104,\"C\",K7:K104,\"B\")","v":0},{"$f":"COUNTIFS(H7:H104,\"C\",K7:K104,\"C\")","v":0},null,null,"00:00:00","00:00:00",0,{"$f":"SpellNumber((AI53))","v":"No Dollars and No Cents"},3,"No "]
["00:00:00",null,null,null,null,0,null,null,0,null,null,{"$f":"IFERROR(VLOOKUP(K54,$AD$7:AE56,2,FALSE),0)","v":0},null,null,0,null,null,null,null,null,null,"D",{"$f":"COUNTIFS(E7:E104,\"D\",K7:K104,\"A\")","v":0},{"$f":"COUNTIFS(E7:E104,\"D\",K7:K104,\"B\")","v":0},{"$f":"COUNTIFS(E7:E104,\"D\",K7:K104,\"C\")","v":0},null,"D",{"$f":"COUNTIFS(H7:H104,\"D\",K7:K104,\"A\")","v":0},{"$f":"COUNTIFS(H7:H104,\"D\",K7:K104,\"B\")","v":0},{"$f":"COUNTIFS(H7:H104,\"D\",K7:K104,\"C\")","v":0},null,null,"00:00:00","00:00:00",0,{"$f":"SpellNumber((AI54))","v":"No Dollars and No Cents"},3,"No "]
["00:00:00",null,null,null,null,0,null,null,0,null,null,{"$f":"IFERROR(VLOOKUP(K55,$AD$7:AE57,2,FALSE),0)","v":0},null,null,0,null,null,null,null,null,null,"E",{"$f":"COUNTIFS(E7:E104,\"E\",K7:K104,\"A\")","v":0},{"$f":"COUNTIFS(E7:E104,\"E\",K7:K104,\"B\")","v":0},{"$f":"COUNTIFS(E7:E104,\"E\",K7:K104,\"C\")","v":0},null,"E",{"$f":"COUNTIFS(H7:H104,\"E\",K7:K104,\"A\")","v":0},{"$f":"COUNTIFS(H7:H104,\"E\",K7:K104,\"B\")","v":0},{"$f":"COUNTIFS(H7:H104,\"E\",K7:K104,\"C\")","v":0},null,null,"00:00:00","00:00:00",0,{"$f":"SpellNumber((AI55))","v":"No Dollars and No Cents"},3,"No "]
["00:00:00",null,null,null,null,0,null,null,0,null,null,{"$f":"IFERROR(VLOOKUP(K56,$AD$7:AE58,2,FALSE),0)","v":0},null,null,0,null,null,null,null,null,null,"F",{"$f":"COUNTIFS(E7:E104,\"F\",K7:K104,\"A\")","v":0},{"$f":"COUNTIFS(E7:E104,\"F\",K7:K104,\"B\")","v":0},{"$f":"COUNTIFS(E7:E104,\"F\",K7:K104,\"C\")","v":0},null,"F",{"$f":"COUNTIFS(H7:H104,\"F\",K7:K104,\"A\")","v":0},{"$f":"COUNTIFS(H7:H104,\"F\",K7:K104,\"B\")","v":0},{"$f":"COUNTIFS(H7:H104,\"F\",K7:K104,\"C\")","v":0},null,null,"00:00:00","00:00:00",0,{"$f":"SpellNumber((AI56))","v":"No Dollars and No Cents"},3,"No "]
["00:00:00",null,null,null,null,0,null,null,0,null,null,{"$f":"IFERROR(VLOOKUP(K57,$AD$7:AE59,2,FALSE),0)","v":0},null,null,0,null,null,null,null,null,null,"G",{"$f":"COUNTIFS(E7:E104,\"G\",K7:K104,\"A\")","v":0},{"$f":"COUNTIFS(E7:E104,\"G\",K7:K104,\"B\")","v":0},{"$f":"COUNTIFS(E7:E104,\"G\",K7:K104,\"C\")","v":0},null,"G",{"$f":"COUNTIFS(H7:H104,\"G\",K7:K104,\"A\")","v":0},{"$f":"COUNTIFS(H7:H104,\"G\",K7:K104,\"B\")","v":0},{"$f":"COUNTIFS(H7:H104,\"G\",K7:K104,\"C\")","v":0},null,null,"00:00:00","00:00:00",0,{"$f":"SpellNumber((AI57))","v":"No Dollars and No Cents"},3,"No "]
["00:00:00",null,null,null,null,0,null,null,0,null,null,{"$f":"IFERROR(VLOOKUP(K58,$AD$7:AE60,2,FALSE),0)","v":0},null,null,0,null,null,null,null,null,null,"H",{"$f":"COUNTIFS(E7:E104,\"H\",K7:K104,\"A\")","v":0},{"$f":"COUNTIFS(E7:E104,\"H\",K7:K104,\"B\")","v":0},{"$f":"COUNTIFS(E7:E104,\"H\",K7:K104,\"C\")","v":0},null,"H",{"$f":"COUNTIFS(H7:H104,\"H\",K7:K104,\"A\")","v":0},{"$f":"COUNTIFS(H7:H104,\"H\",K7:K104,\"B\")","v":0},{"$f":"COUNTIFS(H7:H104,\"H\",K7:K104,\"C\")","v":0},null,null,"00:00:00","00:00:00",0,{"$f":"SpellNumber((AI58))","v":"No Dollars and No Cents"},3,"No "]
["00:00:00",null,null,null,null,0,null,null,0,null,null,{"$f":"IFERROR(VLOOKUP(K59,$AD$7:AE61,2,FALSE),0)","v":0},null,null,0,null,null,null,null,null,null,"I",{"$f":"COUNTIFS(E7:E104,\"I\",K7:K104,\"A\")","v":0},{"$f":"COUNTIFS(E7:E104,\"I\",K7:K104,\"B\")","v":0},{"$f":"COUNTIFS(E7:E104,\"I\",K7:K104,\"C\")","v":0},null,"I",{"$f":"COUNTIFS(H7:H104,\"I\",K7:K104,\"A\")","v":0},{"$f":"COUNTIFS(H7:H104,\"I\",K7:K104,\"B\")","v":0},{"$f":"COUNTIFS(H7:H104,\"I\",K7:K104,\"C\")","v":0},null,null,"00:00:00","00:00:00",0,{"$f":"SpellNumber((AI59))","v":"No Dollars and No Cents"},3,"No "]
["00:00:00",null,null,null,null,0,null,null,0,null,null,{"$f":"IFERROR(VLOOKUP(K60,$AD$7:AE62,2,FALSE),0)","v":0},null,null,0,null,null,null,null,null,null,"J",{"$f":"COUNTIFS(E7:E104,\"J\",K7:K104,\"A\")","v":0},{"$f":"COUNTIFS(E7:E104,\"J\",K7:K104,\"B\")","v":0},{"$f":"COUNTIFS(E7:E104,\"J\",K7:K104,\"C\")","v":0},null,"J",{"$f":"COUNTIFS(H7:H104,\"J\",K7:K104,\"A\")","v":0},{"$f":"COUNTIFS(H7:H104,\"J\",K7:K104,\"B\")","v":0},{"$f":"COUNTIFS(H7:H104,\"J\",K7:K104,\"C\")","v":0},null,null,"00:00:00","00:00:00",0,{"$f":"SpellNumber((AI60))","v":"No Dollars and No Cents"},3,"No "]
["00:00:00",null,null,null,null,0,null,null,0,null,null,{"$f":"IFERROR(VLOOKUP(K61,$AD$7:AE63,2,FALSE),0)","v":0},null,null,0,null,null,null,null,null,null,"K",{"$f":"COUNTIFS(E7:E104,\"K\",K7:K104,\"A\")","v":0},{"$f":"COUNTIFS(E7:E104,\"K\",K7:K104,\"B\")","v":0},{"$f":"COUNTIFS(E7:E104,\"K\",K7:K104,\"C\")","v":0},null,"K",{"$f":"COUNTIFS(H7:H104,\"K\",K7:K104,\"A\")","v":0},{"$f":"COUNTIFS(H7:H104,\"K\",K7:K104,\"B\")","v":0},{"$f":"COUNTIFS(H7:H104,\"K\",K7:K104,\"C\")","v":0},null,null,"00:00:00","00:00:00",0,{"$f":"SpellNumber((AI61))","v":"No Dollars and No Cents"},3,"No "]
["00:00:00",null,null,null,null,0,null,null,0,null,null,{"$f":"IFERROR(VLOOKUP(K62,$AD$7:AE64,2,FALSE),0)","v":0},null,null,0,null,null,null,null,null,null,"L",{"$f":"COUNTIFS(E7:E104,\"L\",K7:K104,\"A\")","v":0},{"$f":"COUNTIFS(E7:E104,\"L\",K7:K104,\"B\")","v":0},{"$f":"COUNTIFS(E7:E104,\"L\",K7:K104,\"C\")","v":0},null,"L",{"$f":"COUNTIFS(H7:H104,\"L\",K7:K104,\"A\")","v":0},{"$f":"COUNTIFS(H7:H104,\"L\",K7:K104,\"B\")","v":0},{"$f":"COUNTIFS(H7:H104,\"L\",K7:K104,\"C\")","v":0},null,null,"00:00:00","00:00:00",0,{"$f":"SpellNumber((AI62))","v":"No Dollars and No Cents"},3,"No "]
["00:00:00",null,null,null,null,0,null,null,0,null,null,{"$f":"IFERROR(VLOOKUP(K63,$AD$7:AE65,2,FALSE),0)","v":0},null,null,0,null,null,null,null,null,null,null,"Beh & Consequences",null,null,null,null,null,null,null,null,null,"00:00:00","00:00:00",0,{"$f":"SpellNumber((AI63))","v":"No Dollars and No Cents"},3,"No "]
["00:00:00",null,null,null,null,0,null,null,0,null,null,{"$f":"IFERROR(VLOOKUP(K64,$AD$7:AE66,2,FALSE),0)","v":0},null,null,0,null,null,null,null,null,null,null,"A","B","C",null,null,null,null,null,null,null,"00:00:00","00:00:00",0,{"$f":"SpellNumber((AI64))","v":"No Dollars and No Cents"},3,"No "]
["00:00:00",null,null,null,null,0,null,null,0,null,null,{"$f":"IFERROR(VLOOKUP(K65,$AD$7:AE67,2,FALSE),0)","v":0},null,null,0,null,null,null,null,null,null,"A",{"$f":"COUNTIFS(N7:N104,\"A\",K7:K104,\"A\")","v":0},{"$f":"COUNTIFS(N7:N104,\"A\",K7:K104,\"B\")","v":0},{"$f":"COUNTIFS(N7:N104,\"A\",K7:K104,\"C\")","v":0},null,null,null,null,null,null,null,"00:00:00","00:00:00",0,{"$f":"SpellNumber((AI65))","v":"No Dollars and No Cents"},3,"No "]
["00:00:00",null,null,null,null,0,null,null,0,null,null,{"$f":"IFERROR(VLOOKUP(K66,$AD$7:AE68,2,FALSE),0)","v":0},null,null,0,null,null,null,null,null,null,"B",{"$f":"COUNTIFS(N7:N104,\"B\",K7:K104,\"A\")","v":0},{"$f":"COUNTIFS(N7:N104,\"B\",K7:K104,\"B\")","v":0},{"$f":"COUNTIFS(N7:N104,\"B\",K7:K104,\"C\")","v":0},null,null,null,null,null,null,null,"00:00:00","00:00:00",0,{"$f":"SpellNumber((AI66))","v":"No Dollars and No Cents"},3,"No "]
["00:00:00",null,null,null,null,0,null,null,0,null,null,{"$f":"IFERROR(VLOOKUP(K67,$AD$7:AE69,2,FALSE),0)","v":0},null,null,0,null,null,null,null,null,null,"C",{"$f":"COUNTIFS(N7:N104,\"C\",K7:K104,\"A\")","v":0},{"$f":"COUNTIFS(N7:N104,\"C\",K7:K104,\"B\")","v":0},{"$f":"COUNTIFS(N7:N104,\"C\",K7:K104,\"C\")","v":0},null,null,null,null,null,null,null,"00:00:00","00:00:00",0,{"$f":"SpellNumber((AI67))","v":"No Dollars and No Cents"},3,"No "]
["00:00:00",null,null,null,null,0,null,null,0,null,null,{"$f":"IFERROR(VLOOKUP(K68,$AD$7:AE70,2,FALSE),0)","v":0},null,null,0,null,null,null,null,null,null,"D",{"$f":"COUNTIFS(N7:N104,\"D\",K7:K104,\"A\")","v":0},{"$f":"COUNTIFS(N7:N104,\"D\",K7:K104,\"B\")","v":0},{"$f":"COUNTIFS(N7:N104,\"D\",K7:K104,\"C\")","v":0},null,null,null,null,null,null,null,"00:00:00","00:00:00",0,{"$f":"SpellNumber((AI68))","v":"No Dollars and No Cents"},3,"No "]
["00:00:00",null,null,null,null,0,null,null,0,null,null,{"$f":"IFERROR(VLOOKUP(K69,$AD$7:AE71,2,FALSE),0)","v":0},null,null,0,null,null,null,null,null,null,"E",{"$f":"COUNTIFS(N7:N104,\"E\",K7:K104,\"A\")","v":0},{"$f":"COUNTIFS(N7:N104,\"E\",K7:K104,\"B\")","v":0},{"$f":"COUNTIFS(N7:N104,\"E\",K7:K104,\"C\")","v":0},null,null,null,null,null,null,null,"00:00:00","00:00:00",0,{"$f":"SpellNumber((AI69))","v":"No Dollars and No Cents"},3,"No "]
["00:00:00",null,null,null,null,0,null,null,0,null,null,{"$f":"IFERROR(VLOOKUP(K70,$AD$7:AE72,2,FALSE),0)","v":0},null,null,0,null,null,null,null,null,null,"F",{"$f":"COUNTIFS(N7:N104,\"F\",K7:K104,\"A\")","v":0},{"$f":"COUNTIFS(N7:N104,\"F\",K7:K104,\"B\")","v":0},{"$f":"COUNTIFS(N7:N104,\"F\",K7:K104,\"C\")","v":0},null,null,null,null,null,null,null,"00:00:00","00:00:00",0,{"$f":"SpellNumber((AI70))","v":"No Dollars and No Cents"},3,"No "]
["00:00:00",null,null,null,null,0,null,null,0,null,null,{"$f":"IFERROR(VLOOKUP(K71,$AD$7:AE73,2,FALSE),0)","v":0},null,null,0,null,null,null,null,null,null,"G",{"$f":"COUNTIFS(N7:N104,\"G\",K7:K104,\"A\")","v":0},{"$f":"COUNTIFS(N7:N104,\"G\",K7:K104,\"B\")","v":0},{"$f":"COUNTIFS(N7:N104,\"G\",K7:K104,\"C\")","v":0},null,null,null,null,null,null,null,"00:00:00","00:00:00",0,{"$f":"SpellNumber((AI71))","v":"No Dollars and No Cents"},3,"No "]
[{"$f":"C72-B72","v":"00:00:00"},null,null,null,null,0,null,null,{"$f":"IFERROR(VLOOKUP(H72,$Z$7:$AA$18,2,FALSE),0)","v":0},null,null,{"$f":"IFERROR(VLOOKUP(K72,$AD$7:AE74,2,FALSE),0)","v":0},null,null,{"$f":"IFERROR(VLOOKUP(N72,$V$22:$W$33,2,FALSE),0)","v":0},null,null,null,null,null,null,"H",{"$f":"COUNTIFS(N7:N104,\"H\",K7:K104,\"A\")","v":0},{"$f":"COUNTIFS(N7:N104,\"H\",K7:K104,\"B\")","v":0},{"$f":"COUNTIFS(N7:N104,\"H\",K7:K104,\"C\")","v":0},null,null,null,null,null,null,null,{"$f":"B72","v":"00:00:00"},{"$f":"TEXT(AG72,\"hh:mm:ss\")","v":"00:00:00"},{"$f":"AG72*24","v":0},{"$f":"SpellNumber((AI72))","v":"No Dollars and No Cents"},{"$f":"FIND(\" Dollar\",AJ72)","v":3},{"$f":"LEFT(AJ72,AK72)","v":"No "}]
["00:00:00",null,null,null,null,{"$f":"IFERROR(VLOOKUP(E73,$V$7:$W$18,2,FALSE),0)","v":0},null,null,0,null,null,{"$f":"IFERROR(VLOOKUP(K73,$AD$7:AE75,2,FALSE),0)","v":0},null,null,0,null,null,null,null,null,null,"I",{"$f":"COUNTIFS(N7:N104,\"I\",K7:K104,\"A\")","v":0},{"$f":"COUNTIFS(N7:N104,\"I\",K7:K104,\"B\")","v":0},{"$f":"COUNTIFS(N7:N104,\"I\",K7:K104,\"C\")","v":0},null,null,null,null,null,null,null,"00:00:00","00:00:00",0,{"$f":"SpellNumber((AI73))","v":"No Dollars and No Cents"},3,"No "]
["00:00:00",null,null,null,null,0,null,null,0,null,null,{"$f":"IFERROR(VLOOKUP(K74,$AD$7:AE76,2,FALSE),0)","v":0},null,null,0,null,null,null,null,null,null,"J",{"$f":"COUNTIFS(N7:N104,\"J\",K7:K104,\"A\")","v":0},{"$f":"COUNTIFS(N7:N104,\"J\",K7:K104,\"B\")","v":0},{"$f":"COUNTIFS(N7:N104,\"J\",K7:K104,\"C\")","v":0},null,null,null,null,null,null,null,"00:00:00","00:00:00",0,{"$f":"SpellNumber((AI74))","v":"No Dollars and No Cents"},3,"No "]
["00:00:00",null,null,null,null,0,null,null,0,null,null,{"$f":"IFERROR(VLOOKUP(K75,$AD$7:AE77,2,FALSE),0)","v":0},null,null,0,null,null,null,null,null,null,"K",{"$f":"COUNTIFS(N7:N104,\"K\",K7:K104,\"A\")","v":0},{"$f":"COUNTIFS(N7:N104,\"K\",K7:K104,\"B\")","v":0},{"$f":"COUNTIFS(N7:N104,\"K\",K7:K104,\"C\")","v":0},null,null,null,null,null,null,null,"00:00:00","00:00:00",0,{"$f":"SpellNumber((AI75))","v":"No Dollars and No Cents"},3,"No "]
["00:00:00",null,null,null,null,0,null,null,0,null,null,{"$f":"IFERROR(VLOOKUP(K76,$AD$7:AE78,2,FALSE),0)","v":0},null,null,0,null,null,null,null,null,null,"L",{"$f":"COUNTIFS(N7:N104,\"L\",K7:K104,\"A\")","v":0},{"$f":"COUNTIFS(N7:N104,\"L\",K7:K104,\"B\")","v":0},{"$f":"COUNTIFS(N7:N104,\"L\",K7:K104,\"C\")","v":0},null,null,null,null,null,null,null,"00:00:00","00:00:00",0,{"$f":"SpellNumber((AI76))","v":"No Dollars and No Cents"},3,"No "]
["00:00:00",null,null,null,null,0,null,null,0,null,null,{"$f":"IFERROR(VLOOKUP(K77,$AD$7:AE79,2,FALSE),0)","v":0},null,null,0,null,null,null,null,null,null,null,null,null,null,null,null,null,null,null,null,null,"00:00:00","00:00:00",0,{"$f":"SpellNumber((AI77))","v":"No Dollars and No Cents"},3,"No "]
["00:00:00",null,null,null,null,0,null,null,0,null,null,{"$f":"IFERROR(VLOOKUP(K78,$AD$7:AE80,2,FALSE),0)","v":0},null,null,0,null,null,null,null,null,null,null,null,null,null,null,null,null,null,null,null,null,"00:00:00","00:00:00",0,{"$f":"SpellNumber((AI78))","v":"No Dollars and No Cents"},3,"No "]
["00:00:00",null,null,null,null,0,null,null,0,null,null,{"$f":"IFERROR(VLOOKUP(K79,$AD$7:AE81,2,FALSE),0)","v":0},null,null,0,null,null,null,null,null,null,null,null,null,null,null,null,null,null,null,null,null,"00:00:00","00:00:00",0,{"$f":"SpellNumber((AI79))","v":"No Dollars and No Cents"},3,"No "]
["00:00:00",null,null,null,null,0,null,null,0,null,null,{"$f":"IFERROR(VLOOKUP(K80,$AD$7:AE82,2,FALSE),0)","v":0},null,null,0,null,null,null,null,null,null,null,null,null,null,null,null,null,null,null,null,null,"00:00:00","00:00:00",0,{"$f":"SpellNumber((AI80))","v":"No Dollars and No Cents"},3,"No "]
["00:00:00",null,null,null,null,0,null,null,0,null,null,{"$f":"IFERROR(VLOOKUP(K81,$AD$7:AE83,2,FALSE),0)","v":0},null,null,0,null,null,null,null,null,null,null,null,null,null,null,null,null,null,null,null,null,"00:00:00","00:00:00",0,{"$f":"SpellNumber((AI81))","v":"No Dollars and No Cents"},3,"No "]
["00:00:00",null,null,null,null,0,null,null,0,null,null,{"$f":"IFERROR(VLOOKUP(K82,$AD$7:AE84,2,FALSE),0)","v":0},null,null,0,null,null,null,null,null,null,null,null,null,null,null,null,null,null,null,null,null,"00:00:00","00:00:00",0,{"$f":"SpellNumber((AI82))","v":"No Dollars and No Cents"},3,"No "]
["00:00:00",null,null,null,null,0,null,null,0,null,null,{"$f":"IFERROR(VLOOKUP(K83,$AD$7:AE85,2,FALSE),0)","v":0},null,null,0,null,null,null,null,null,null,null,null,null,null,null,null,null,null,null,null,null,"00:00:00","00:00:00",0,{"$f":"SpellNumber((AI83))","v":"No Dollars and No Cents"},3,"No "]
["00:00:00",null,null,null,null,0,null,null,0,null,null,{"$f":"IFERROR(VLOOKUP(K84,$AD$7:AE86,2,FALSE),0)","v":0},null,null,0,null,null,null,null,null,null,null,null,null,null,null,null,null,null,null,null,null,"00:00:00","00:00:00",0,{"$f":"SpellNumber((AI84))","v":"No Dollars and No Cents"},3,"No "]
["00:00:00",null,null,null,null,0,null,null,0,null,null,{"$f":"IFERROR(VLOOKUP(K85,$AD$7:AE87,2,FALSE),0)","v":0},null,null,0,null,null,null,null,null,null,null,null,null,null,null,null,null,null,null,null,null,"00:00:00","00:00:00",0,{"$f":"SpellNumber((AI85))","v":"No Dollars and No Cents"},3,"No "]
["00:00:00",null,null,null,null,0,null,null,0,null,null,{"$f":"IFERROR(VLOOKUP(K86,$AD$7:AE88,2,FALSE),0)","v":0},null,null,0,null,null,null,null,null,null,null,null,null,null,null,null,null,null,null,null,null,"00:00:00","00:00:00",0,{"$f":"SpellNumber((AI86))","v":"No Dollars and No Cents"},3,"No "]
["00:00:00",null,null,null,null,0,null,null,0,null,null,{"$f":"IFERROR(VLOOKUP(K87,$AD$7:AE89,2,FALSE),0)","v":0},null,null,0,null,null,null,null,null,null,null,null,null,null,null,null,null,null,null,null,null,"00:00:00","00:00:00",0,{"$f":"SpellNumber((AI87))","v":"No Dollars and No Cents"},3,"No "]
["00:00:00",null,null,null,null,0,null,null,0,null,null,{"$f":"IFERROR(VLOOKUP(K88,$AD$7:AE90,2,FALSE),0)","v":0},null,null,0,null,null,null,null,null,null,null,null,null,null,null,null,null,null,null,null,null,"00:00:00","00:00:00",0,{"$f":"SpellNumber((AI88))","v":"No Dollars and No Cents"},3,"No "]
["00:00:00",null,null,null,null,0,null,null,0,null,null,{"$f":"IFERROR(VLOOKUP(K89,$AD$7:AE91,2,FALSE),0)","v":0},null,null,0,null,null,null,null,null,null,null,null,null,null,null,null,null,null,null,null,null,"00:00:00","00:00:00",0,{"$f":"SpellNumber((AI89))","v":"No Dollars and No Cents"},3,"No "]
["00:00:00",null,null,null,null,0,null,null,0,null,null,{"$f":"IFERROR(VLOOKUP(K90,$AD$7:AE92,2,FALSE),0)","v":0},null,null,0,null,null,null,null,null,null,null,null,null,null,null,null,null,null,null,null,null,"00:00:00","00:00:00",0,{"$f":"SpellNumber((AI90))","v":"No Dollars and No Cents"},3,"No "]
["00:00:00",null,null,null,null,0,null,null,0,null,null,{"$f":"IFERROR(VLOOKUP(K91,$AD$7:AE93,2,FALSE),0)","v":0},null,null,0,null,null,null,"Total Mins",{"$f":"SUM(A7:A104)","v":"00:00:00"},null,null,null,null,null,null,null,null,null,null,null,null,"00:00:00","00:00:00",0,{"$f":"SpellNumber((AI91))","v":"No Dollars and No Cents"},3,"No "]
["00:00:00",null,null,null,null,0,null,null,0,null,null,{"$f":"IFERROR(VLOOKUP(K92,$AD$7:AE94,2,FALSE),0)","v":0},null,null,0,null,null,null,"Settings:","A",{"$f":"COUNTIF(E4:E104,\"A\")","v":0},"Antec.","A",{"$f":"COUNTIF(H4:H104,\"A\")","v":0},"Beh","A",{"$f":"COUNTIF(L4:L104,\"A\")","v":0},"Conse.","A",{"$f":"COUNTIF(O4:O104,\"A\")","v":0},null,null,"00:00:00","00:00:00",0,{"$f":"SpellNumber((AI92))","v":"No Dollars and No Cents"},3,"No "]
["00:00:00",null,null,null,null,0,null,null,0,null,null,{"$f":"IFERROR(VLOOKUP(K93,$AD$7:AE95,2,FALSE),0)","v":0},null,null,0,null,null,null,null,"B",{"$f":"COUNTIF(E5:E105,\"B\")","v":0},null,"B",{"$f":"COUNTIF(H5:H105,\"B\")","v":0},null,"B",{"$f":"COUNTIF(L5:L105,\"B\")","v":0},null,"B",{"$f":"COUNTIF(O5:O105,\"B\")","v":0},null,null,"00:00:00","00:00:00",0,{"$f":"SpellNumber((AI93))","v":"No Dollars and No Cents"},3,"No "]
["00:00:00",null,null,null,null,0,null,null,0,null,null,{"$f":"IFERROR(VLOOKUP(K94,$AD$7:AE96,2,FALSE),0)","v":0},null,null,0,null,null,null,null,"C",{"$f":"COUNTIF(E6:E106,\"C\")","v":0},null,"C",{"$f":"COUNTIF(H6:H106,\"C\")","v":0},null,"C",{"$f":"COUNTIF(L6:L106,\"C\")","v":0},null,"C",{"$f":"COUNTIF(O6:O106,\"C\")","v":0},null,null,"00:00:00","00:00:00",0,{"$f":"SpellNumber((AI94))","v":"No Dollars and No Cents"},3,"No "]
["00:00:00",null,null,null,null,0,null,null,0,null,null,{"$f":"IFERROR(VLOOKUP(K95,$AD$7:AE97,2,FALSE),0)","v":0},null,null,0,null,null,null,null,"D",{"$f":"COUNTIF(E7:E107,\"D\")","v":0},null,"D",{"$f":"COUNTIF(H7:H107,\"D\")","v":0},null,null,null,null,"D",{"$f":"COUNTIF(O7:O107,\"D\")","v":0},null,null,"00:00:00","00:00:00",0,{"$f":"SpellNumber((AI95))","v":"No Dollars and No Cents"},3,"No "]
["00:00:00",null,null,null,null,0,null,null,0,null,null,{"$f":"IFERROR(VLOOKUP(K96,$AD$7:AE98,2,FALSE),0)","v":0},null,null,0,null,null,null,null,"E",{"$f":"COUNTIF(E8:E108,\"E\")","v":0},null,"E",{"$f":"COUNTIF(H8:H108,\"E\")","v":0},null,null,null,null,"E",{"$f":"COUNTIF(O8:O108,\"E\")","v":0},null,null,"00:00:00","00:00:00",0,{"$f":"SpellNumber((AI96))","v":"No Dollars and No Cents"},3,"No "]
["00:00:00",null,null,null,null,0,null,null,0,null,null,{"$f":"IFERROR(VLOOKUP(K97,$AD$7:AE99,2,FALSE),0)","v":0},null,null,0,null,null,null,null,"F",{"$f":"COUNTIF(E9:E109,\"F\")","v":0},null,"F",{"$f":"COUNTIF(H9:H109,\"F\")","v":0},null,null,null,null,"F",{"$f":"COUNTIF(O9:O109,\"F\")","v":0},null,null,"00:00:00","00:00:00",0,{"$f":"SpellNumber((AI97))","v":"No Dollars and No Cents"},3,"No "]
["00:00:00",null,null,null,null,0,null,null,0,null,null,{"$f":"IFERROR(VLOOKUP(K98,$AD$7:AE100,2,FALSE),0)","v":0},null,null,0,null,null,null,null,"G",{"$f":"COUNTIF(E10:E110,\"G\")","v":0},null,"G",{"$f":"COUNTIF(H10:H110,\"G\")","v":0},null,null,null,null,"G",{"$f":"COUNTIF(O10:O110,\"G\")","v":0},null,null,"00:00:00","00:00:00",0,{"$f":"SpellNumber((AI98))","v":"No Dollars and No Cents"},3,"No "]
["00:00:00",null,null,null,null,0,null,null,0,null,null,{"$f":"IFERROR(VLOOKUP(K99,$AD$7:AE101,2,FALSE),0)","v":0},null,null,0,null,null,null,null,"H",{"$f":"COUNTIF(E11:E111,\"H\")","v":0},null,"H",{"$f":"COUNTIF(H11:H111,\"H\")","v":0},null,null,null,null,"H",{"$f":"COUNTIF(O11:O111,\"H\")","v":0},null,null,"00:00:00","00:00:00",0,{"$f":"SpellNumber((AI99))","v":"No Dollars and No Cents"},3,"No "]
["00:00:00",null,null,null,null,0,null,null,0,null,null,{"$f":"IFERROR(VLOOKUP(K100,$AD$7:AE102,2,FALSE),0)","v":0},null,null,0,null,null,null,null,"I",{"$f":"COUNTIF(E12:E112,\"I\")","v":0},null,"I",{"$f":"COUNTIF(H12:H112,\"I\")","v":0},null,null,null,null,"I",{"$f":"COUNTIF(O12:O112,\"I\")","v":0},null,null,"00:00:00","00:00:00",0,{"$f":"SpellNumber((AI100))","v":"No Dollars and No Cents"},3,"No "]
["00:00:00",null,null,null,null,0,null,null,0,null,null,{"$f":"IFERROR(VLOOKUP(K101,$AD$7:AE103,2,FALSE),0)","v":0},null,null,0,null,null,null,null,"J",{"$f":"COUNTIF(E13:E113,\"J\")","v":0},null,"J",{"$f":"COUNTIF(H13:H113,\"J\")","v":0},null,null,null,null,"J",{"$f":"COUNTIF(O13:O113,\"J\")","v":0},null,null,"00:00:00","00:00:00",0,{"$f":"SpellNumber((AI101))","v":"No Dollars and No Cents"},3,"No "]
["00:00:00",null,null,null,null,0,null,null,0,null,null,{"$f":"IFERROR(VLOOKUP(K102,$AD$7:AE104,2,FALSE),0)","v":0},null,null,0,null,null,null,null,"K",{"$f":"COUNTIF(E14:E114,\"K\")","v":0},null,"K",{"$f":"COUNTIF(H14:H114,\"K\")","v":0},null,null,null,null,"K",{"$f":"COUNTIF(O14:O114,\"K\")","v":0},null,null,"00:00:00","00:00:00",0,{"$f":"SpellNumber((AI102))","v":"No Dollars and No Cents"},3,"No "]
["00:00:00",null,null,null,null,0,null,null,0,null,null,{"$f":"IFERROR(VLOOKUP(K103,$AD$7:AE105,2,FALSE),0)","v":0},null,null,0,null,null,null,null,"L",{"$f":"COUNTIF(E15:E115,\"L\")","v":0},null,"L",{"$f":"COUNTIF(H15:H115,\"L\")","v":0},null,null,null,null,"L",{"$f":"COUNTIF(O15:O115,\"L\")","v":0},null,null,"00:00:00","00:00:00",0,{"$f":"SpellNumber((AI103))","v":"No Dollars and No Cents"},3,"No "]
["00:00:00",null,null,null,null,0,null,null,0,null,null,{"$f":"IFERROR(VLOOKUP(K104,$AD$7:AE106,2,FALSE),0)","v":0},null,null,0,null,null,null,null,null,null,null,null,null,null,null,null,null,null,null,null,null,"00:00:00","00:00:00",0,{"$f":"SpellNumber((AI104))","v":"No Dollars and No Cents"},3,"No "]

{"sheet":"Data 6","index":14,"n_rows":104,"n_cols":38,"rows_kept":104,"cut":false,"hidden":false,"merged":[[0,7,3,14]]}
["ATTENDANCE",null,null,null,null,null,null,"Data Collection"]
["If tardy, arrival time",null,null,null,null,null,null,null,null,null,null,null,null,null,null,null,null,null,null,null,null,null,"Date",{"$f":"Calendar!H5","v":{"$error":"#N/A"}},{"$f":"TEXT(X2,\"ddd\")","v":{"$error":"#N/A"}}]
["If left early, time",null,null,null,null,null,null,null,null,null,null,null,null,null,null,null,null,null,null,null,null,null,"Frq. Of bx",{"$f":"AA22","v":0}]
[]
[]
["Mins.","Start Time","End Time",null,null,null,null,null,null,null,null,null,null,null,null,null,null,null,null,null,null,null,"Setting",null,null,"Ant",null,null,null,"Beh",null,null,"Raw Data","Time in text","Decimal"]
[{"$f":"C7-B7","v":"00:00:00"},null,null,null,null,{"$f":"IFERROR(VLOOKUP(E7,$V$7:$W$18,2,FALSE),0)","v":0},null,null,{"$f":"IFERROR(VLOOKUP(H7,$Z$7:$AA$18,2,FALSE),0)","v":0},null,null,{"$f":"IFERROR(VLOOKUP(K7,$AD$7:AE9,2,FALSE),0)","v":0},null,null,{"$f":"IFERROR(VLOOKUP(N7,$V$22:$W$33,2,FALSE),0)","v":0},null,null,null,null,null,null,"A",{"$f":"Criteria!C4","v":"Transition"},null,null,"A",{"$f":"Criteria!E4","v":"Transition"},null,null,"A",{"$f":"Criteria!G4","v":0},null,{"$f":"B7","v":"00:00:00"},{"$f":"TEXT(AG7,\"hh:mm:ss\")","v":"00:00:00"},{"$f":"AG7*24","v":0},{"$f":"SpellNumber((AI7))","v":"No Dollars and No Cents"},{"$f":"FIND(\" Dollar\",AJ7)","v":3},{"$f":"LEFT(AJ7,AK7)","v":"No "}]
[{"$f":"C8-B8","v":"00:00:00"},null,null,null,null,{"$f":"IFERROR(VLOOKUP(E8,$V$7:$W$18,2,FALSE),0)","v":0},null,null,{"$f":"IFERROR(VLOOKUP(H8,$Z$7:$AA$18,2,FALSE),0)","v":0},null,null,{"$f":"IFERROR(VLOOKUP(K8,$AD$7:AE10,2,FALSE),0)","v":0},null,null,{"$f":"IFERROR(VLOOKUP(N8,$V$22:$W$33,2,FALSE),0)","v":0},null,null,null,null,null,null,"B",{"$f":"Criteria!C5","v":"Morning Routine"},null,null,"B",{"$f":"Criteria!E5","v":"Denied access ('No')"},null,null,"B",{"$f":"Criteria!G5","v":0},null,{"$f":"B8","v":"00:00:00"},{"$f":"TEXT(AG8,\"hh:mm:ss\")","v":"00:00:00"},{"$f":"AG8*24","v":0},{"$f":"SpellNumber((AI8))","v":"No Dollars and No Cents"},{"$f":"FIND(\" Dollar\",AJ8)","v":3},{"$f":"LEFT(AJ8,AK8)","v":"No "}]
["00:00:00",null,null,null,null,{"$f":"IFERROR(VLOOKUP(E9,$V$7:$W$18,2,FALSE),0)","v":0},null,null,0,null,null,{"$f":"IFERROR(VLOOKUP(K9,$AD$7:AE11,2,FALSE),0)","v":0},null,null,0,null,null,null,null,null,null,"C",{"$f":"Criteria!C6","v":"Group Work"},null,null,"C",{"$f":"Criteria!E6","v":"Instruction/ Directions"},null,null,"C",{"$f":"Criteria!G6","v":0},null,"00:00:00","00:00:00",0,{"$f":"SpellNumber((AI9))","v":"No Dollars and No Cents"},3,"No "]
["00:00:00",null,null,null,null,0,null,null,0,null,null,{"$f":"IFERROR(VLOOKUP(K10,$AD$7:AE12,2,FALSE),0)","v":0},null,null,0,null,null,null,null,null,null,"D",{"$f":"Criteria!C7","v":"Ind. Seat/Work Time"},null,null,"D",{"$f":"Criteria!E7","v":"New Task"},null,null,null,null,null,"00:00:00","00:00:00",0,{"$f":"SpellNumber((AI10))","v":"No Dollars and No Cents"},3,"No "]
["00:00:00",null,null,null,null,0,null,null,0,null,null,{"$f":"IFERROR(VLOOKUP(K11,$AD$7:AE13,2,FALSE),0)","v":0},null,null,0,null,null,null,null,null,null,"E",{"$f":"Criteria!C8","v":"Language Arts"},null,null,"E",{"$f":"Criteria!E8","v":"Tcher attn to other"},null,null,null,null,null,"00:00:00","00:00:00",0,{"$f":"SpellNumber((AI11))","v":"No Dollars and No Cents"},3,"No "]
["00:00:00",null,null,null,null,0,null,null,0,null,null,{"$f":"IFERROR(VLOOKUP(K12,$AD$7:AE14,2,FALSE),0)","v":0},null,null,0,null,null,null,null,null,null,"F",{"$f":"Criteria!C9","v":"Mathematics"},null,null,"F",{"$f":"Criteria!E9","v":"Choice given"},null,null,null,null,null,"00:00:00","00:00:00",0,{"$f":"SpellNumber((AI12))","v":"No Dollars and No Cents"},3,"No "]
["00:00:00",null,null,null,null,0,null,null,0,null,null,{"$f":"IFERROR(VLOOKUP(K13,$AD$7:AE15,2,FALSE),0)","v":0},null,null,0,null,null,null,null,null,null,"G",{"$f":"Criteria!C10","v":"Physical Education"},null,null,"G",{"$f":"Criteria!E10","v":"Redirection"},null,null,null,null,null,"00:00:00","00:00:00",0,{"$f":"SpellNumber((AI13))","v":"No Dollars and No Cents"},3,"No "]
["00:00:00",null,null,null,null,0,null,null,0,null,null,{"$f":"IFERROR(VLOOKUP(K14,$AD$7:AE16,2,FALSE),0)","v":0},null,null,0,null,null,null,null,null,null,"H",{"$f":"Criteria!C11","v":"Music/Art"},null,null,"H",{"$f":"Criteria!E11","v":"Routine Task"},null,null,null,null,null,"00:00:00","00:00:00",0,{"$f":"SpellNumber((AI14))","v":"No Dollars and No Cents"},3,"No "]
["00:00:00",null,null,null,null,0,null,null,0,null,null,{"$f":"IFERROR(VLOOKUP(K15,$AD$7:AE17,2,FALSE),0)","v":0},null,null,0,null,null,null,null,null,null,"I",{"$f":"Criteria!C12","v":"Speech"},null,null,"I",{"$f":"Criteria!E12","v":"Waiting"},null,null,null,null,null,"00:00:00","00:00:00",0,{"$f":"SpellNumber((AI15))","v":"No Dollars and No Cents"},3,"No "]
["00:00:00",null,null,null,null,0,null,null,0,null,null,{"$f":"IFERROR(VLOOKUP(K16,$AD$7:AE18,2,FALSE),0)","v":0},null,null,0,null,null,null,null,null,null,"J",{"$f":"Criteria!C13","v":"OT/PT"},null,null,"J",{"$f":"Criteria!E13","v":"Unknown"},null,null,null,null,null,"00:00:00","00:00:00",0,{"$f":"SpellNumber((AI16))","v":"No Dollars and No Cents"},3,"No "]
["00:00:00",null,null,null,null,0,null,null,0,null,null,{"$f":"IFERROR(VLOOKUP(K17,$AD$7:AE19,2,FALSE),0)","v":0},null,null,0,null,null,null,null,null,null,"K",{"$f":"Criteria!C14","v":"Center"},null,null,"K",{"$f":"Criteria!E14","v":"Ignored"},null,null,null,null,null,"00:00:00","00:00:00",0,{"$f":"SpellNumber((AI17))","v":"No Dollars and No Cents"},3,"No "]
["00:00:00",null,null,null,null,0,null,null,0,null,null,{"$f":"IFERROR(VLOOKUP(K18,$AD$7:AE20,2,FALSE),0)","v":0},null,null,0,null,null,null,null,null,null,"L",{"$f":"Criteria!C15","v":"Other"},null,null,"L",{"$f":"Criteria!E15","v":"Other"},null,null,null,null,null,"00:00:00","00:00:00",0,{"$f":"SpellNumber((AI18))","v":"No Dollars and No Cents"},3,"No "]
["00:00:00",null,null,null,null,0,null,null,0,null,null,{"$f":"IFERROR(VLOOKUP(K19,$AD$7:AE21,2,FALSE),0)","v":0},null,null,0,null,null,null,null,null,null,null,null,null,null,null,null,null,null,null,null,null,"00:00:00","00:00:00",0,{"$f":"SpellNumber((AI19))","v":"No Dollars and No Cents"},3,"No "]
["00:00:00",null,null,null,null,0,null,null,0,null,null,{"$f":"IFERROR(VLOOKUP(K20,$AD$7:AE22,2,FALSE),0)","v":0},null,null,0,null,null,null,null,null,null,null,null,null,null,null,null,null,null,null,null,null,"00:00:00","00:00:00",0,{"$f":"SpellNumber((AI20))","v":"No Dollars and No Cents"},3,"No "]
["00:00:00",null,null,null,null,0,null,null,0,null,null,{"$f":"IFERROR(VLOOKUP(K21,$AD$7:AE23,2,FALSE),0)","v":0},null,null,0,null,null,null,null,null,null,null,"Con",null,"Bx Frequency Per Day",null,null,null,null,null,null,null,"00:00:00","00:00:00",0,{"$f":"SpellNumber((AI21))","v":"No Dollars and No Cents"},3,"No "]
["00:00:00",null,null,null,null,0,null,null,0,null,null,{"$f":"IFERROR(VLOOKUP(K22,$AD$7:AE24,2,FALSE),0)","v":0},null,null,0,null,null,null,null,null,null,"A",{"$f":"Criteria!I4","v":"Choice Given"},"A",{"$f":"COUNTIF(K7:K104,\"A\")","v":0},null,{"$f":"SUM(Y22:Y24)","v":0},null,"Bin Dec","Frequency of Time",null,null,"00:00:00","00:00:00",0,{"$f":"SpellNumber((AI22))","v":"No Dollars and No Cents"},3,"No "]
["00:00:00",null,null,null,null,0,null,null,0,null,null,{"$f":"IFERROR(VLOOKUP(K23,$AD$7:AE25,2,FALSE),0)","v":0},null,null,0,null,null,null,null,null,null,"B",{"$f":"Criteria!I5","v":"Ignored"},"B",{"$f":"COUNTIF(K7:K104,\"B\")","v":0},null,null,null,"Seven",{"$f":"COUNTIF(AL7:AL104,\"*Seven*\")","v":0},null,null,"00:00:00","00:00:00",0,{"$f":"SpellNumber((AI23))","v":"No Dollars and No Cents"},3,"No "]
["00:00:00",null,null,null,null,0,null,null,0,null,null,{"$f":"IFERROR(VLOOKUP(K24,$AD$7:AE26,2,FALSE),0)","v":0},null,null,0,null,null,null,null,null,null,"C",{"$f":"Criteria!I6","v":"Redirection"},"C",{"$f":"COUNTIF(K7:K104,\"C\")","v":0},null,null,null,"Eight",{"$f":"COUNTIF(AL7:AL104,\"*Eight*\")","v":0},null,null,"00:00:00","00:00:00",0,{"$f":"SpellNumber((AI24))","v":"No Dollars and No Cents"},3,"No "]
["00:00:00",null,null,null,null,0,null,null,0,null,null,{"$f":"IFERROR(VLOOKUP(K25,$AD$7:AE27,2,FALSE),0)","v":0},null,null,0,null,null,null,null,null,null,"D",{"$f":"Criteria!I7","v":"Kept the demand"},null,"Bx Druation Per Day",null,null,null,"Nine",{"$f":"COUNTIF(AL7:AL104,\"*Nine*\")","v":0},null,null,"00:00:00","00:00:00",0,{"$f":"SpellNumber((AI25))","v":"No Dollars and No Cents"},3,"No "]
["00:00:00",null,null,null,null,0,null,null,0,null,null,{"$f":"IFERROR(VLOOKUP(K26,$AD$7:AE28,2,FALSE),0)","v":0},null,null,0,null,null,null,null,null,null,"E",{"$f":"Criteria!I8","v":"Changed activity"},"A",{"$f":"SUMIF(K7:K104,\"A\",A7:A104)","v":"00:00:00"},null,null,null,"Ten",{"$f":"COUNTIF(AL7:AL12,\"*Ten*\")","v":0},null,null,"00:00:00","00:00:00",0,{"$f":"SpellNumber((AI26))","v":"No Dollars and No Cents"},3,"No "]
["00:00:00",null,null,null,null,0,null,null,0,null,null,{"$f":"IFERROR(VLOOKUP(K27,$AD$7:AE29,2,FALSE),0)","v":0},null,null,0,null,null,null,null,null,null,"F",{"$f":"Criteria!I9","v":"Verbal reprimand"},"B",{"$f":"SUMIF(K7:K104,\"B\",A7:A104)","v":"00:00:00"},null,null,null,"Eleven",{"$f":"COUNTIF(AL7:AL104,\"*Eleven*\")","v":0},null,null,"00:00:00","00:00:00",0,{"$f":"SpellNumber((AI27))","v":"No Dollars and No Cents"},3,"No "]
["00:00:00",null,null,null,null,0,null,null,0,null,null,{"$f":"IFERROR(VLOOKUP(K28,$AD$7:AE30,2,FALSE),0)","v":0},null,null,0,null,null,null,null,null,null,"G",{"$f":"Criteria!I10","v":"Told to wait"},"C",{"$f":"SUMIF(K7:K104,\"C\",A7:A104)","v":"00:00:00"},null,null,null,"Twelve",{"$f":"COUNTIF(AL7:AL104,\"*Twelve*\")","v":0},null,null,"00:00:00","00:00:00",0,{"$f":"SpellNumber((AI28))","v":"No Dollars and No Cents"},3,"No "]
["00:00:00",null,null,null,null,0,null,null,0,null,null,{"$f":"IFERROR(VLOOKUP(K29,$AD$7:AE31,2,FALSE),0)","v":0},null,null,0,null,null,null,null,null,null,"H",{"$f":"Criteria!I11","v":"Physical Prompt"},null,null,null,null,null,"One",{"$f":"COUNTIF(AL7:AL104,\"*One*\")","v":0},null,null,"00:00:00","00:00:00",0,{"$f":"SpellNumber((AI29))","v":"No Dollars and No Cents"},3,"No "]
["00:00:00",null,null,null,null,0,null,null,0,null,null,{"$f":"IFERROR(VLOOKUP(K30,$AD$7:AE32,2,FALSE),0)","v":0},null,null,0,null,null,null,null,null,null,"I",{"$f":"Criteria!I12","v":"Verbal prompt"},null,null,null,null,null,"Two",{"$f":"COUNTIF(AL7:AL104,\"*Two*\")","v":0},null,null,"00:00:00","00:00:00",0,{"$f":"SpellNumber((AI30))","v":"No Dollars and No Cents"},3,"No "]
["00:00:00",null,null,null,null,0,null,null,0,null,null,{"$f":"IFERROR(VLOOKUP(K31,$AD$7:AE33,2,FALSE),0)","v":0},null,null,0,null,null,null,null,null,null,"J",{"$f":"Criteria!I13","v":"Told to wait"},null,null,null,null,null,"Three",{"$f":"COUNTIF(AL7:AL104,\"*Three*\")","v":0},null,null,"00:00:00","00:00:00",0,{"$f":"SpellNumber((AI31))","v":"No Dollars and No Cents"},3,"No "]
["00:00:00",null,null,null,null,0,null,null,0,null,null,{"$f":"IFERROR(VLOOKUP(K32,$AD$7:AE34,2,FALSE),0)","v":0},null,null,0,null,null,null,null,null,null,"K",{"$f":"Criteria!I14","v":"Unknown"},null,null,null,null,null,"Four",{"$f":"COUNTIF(AL7:AL104,\"*Four*\")","v":0},null,null,"00:00:00","00:00:00",0,{"$f":"SpellNumber((AI32))","v":"No Dollars and No Cents"},3,"No "]
["00:00:00",null,null,null,null,0,null,null,0,null,null,{"$f":"IFERROR(VLOOKUP(K33,$AD$7:AE35,2,FALSE),0)","v":0},null,null,0,null,null,null,null,null,null,"L",{"$f":"Criteria!I15","v":"Other"},null,null,null,null,null,null,null,null,null,"00:00:00","00:00:00",0,{"$f":"SpellNumber((AI33))","v":"No Dollars and No Cents"},3,"No "]
["00:00:00",null,null,null,null,0,null,null,0,null,null,{"$f":"IFERROR(VLOOKUP(K34,$AD$7:AE36,2,FALSE),0)","v":0},null,null,0,null,null,null,null,null,null,null,null,null,null,null,null,null,null,null,null,null,"00:00:00","00:00:00",0,{"$f":"SpellNumber((AI34))","v":"No Dollars and No Cents"},3,"No "]
["00:00:00",null,null,null,null,0,null,null,0,null,null,{"$f":"IFERROR(VLOOKUP(K35,$AD$7:AE37,2,FALSE),0)","v":0},null,null,0,null,null,null,null,null,null,null,"Context Frequency","Consequence","Antedencents",null,null,null,null,null,null,null,"00:00:00","00:00:00",0,{"$f":"SpellNumber((AI35))","v":"No Dollars and No Cents"},3,"No "]
["00:00:00",null,null,null,null,0,null,null,0,null,null,{"$f":"IFERROR(VLOOKUP(K36,$AD$7:AE38,2,FALSE),0)","v":0},null,null,0,null,null,null,null,null,null,"A",{"$f":"COUNTIF(E7:E104,\"A\")","v":0},{"$f":"COUNTIF(N7:N104,\"A\")","v":0},{"$f":"COUNTIF(H7:H104,\"A\")","v":0},null,null,null,null,null,null,null,"00:00:00","00:00:00",0,{"$f":"SpellNumber((AI36))","v":"No Dollars and No Cents"},3,"No "]
["00:00:00",null,null,null,null,0,null,null,0,null,null,{"$f":"IFERROR(VLOOKUP(K37,$AD$7:AE39,2,FALSE),0)","v":0},null,null,0,null,null,null,null,null,null,"B",{"$f":"COUNTIF(E8:E105,\"B\")","v":0},{"$f":"COUNTIF(N7:N104,\"B\")","v":0},{"$f":"COUNTIF(H7:H104,\"B\")","v":0},null,null,null,null,null,null,null,"00:00:00","00:00:00",0,{"$f":"SpellNumber((AI37))","v":"No Dollars and No Cents"},3,"No "]
["00:00:00",null,null,null,null,0,null,null,0,null,null,{"$f":"IFERROR(VLOOKUP(K38,$AD$7:AE40,2,FALSE),0)","v":0},null,null,0,null,null,null,null,null,null,"C",{"$f":"COUNTIF(E8:E105,\"C\")","v":0},{"$f":"COUNTIF(N7:N104,\"C\")","v":0},{"$f":"COUNTIF(H7:H104,\"C\")","v":0},null,null,null,null,null,null,null,"00:00:00","00:00:00",0,{"$f":"SpellNumber((AI38))","v":"No Dollars and No Cents"},3,"No "]
["00:00:00",null,null,null,null,0,null,null,0,null,null,{"$f":"IFERROR(VLOOKUP(K39,$AD$7:AE41,2,FALSE),0)","v":0},null,null,0,null,null,null,null,null,null,"D",{"$f":"COUNTIF(E8:E105,\"D\")","v":0},{"$f":"COUNTIF(N7:N104,\"D\")","v":0},{"$f":"COUNTIF(H7:H104,\"D\")","v":0},null,null,null,null,null,null,null,"00:00:00","00:00:00",0,{"$f":"SpellNumber((AI39))","v":"No Dollars and No Cents"},3,"No "]
["00:00:00",null,null,null,null,0,null,null,0,null,null,{"$f":"IFERROR(VLOOKUP(K40,$AD$7:AE42,2,FALSE),0)","v":0},null,null,0,null,null,null,null,null,null,"E",{"$f":"COUNTIF(E8:E105,\"E\")","v":0},{"$f":"COUNTIF(N7:N104,\"E\")","v":0},{"$f":"COUNTIF(H7:H104,\"E\")","v":0},null,null,null,null,null,null,null,"00:00:00","00:00:00",0,{"$f":"SpellNumber((AI40))","v":"No Dollars and No Cents"},3,"No "]
["00:00:00",null,null,null,null,0,null,null,0,null,null,{"$f":"IFERROR(VLOOKUP(K41,$AD$7:AE43,2,FALSE),0)","v":0},null,null,0,null,null,null,null,null,null,"F",{"$f":"COUNTIF(E8:E105,\"F\")","v":0},{"$f":"COUNTIF(N7:N104,\"F\")","v":0},{"$f":"COUNTIF(H7:H104,\"F\")","v":0},null,null,null,null,null,null,null,"00:00:00","00:00:00",0,{"$f":"SpellNumber((AI41))","v":"No Dollars and No Cents"},3,"No "]
["00:00:00",null,null,null,null,0,null,null,0,null,null,{"$f":"IFERROR(VLOOKUP(K42,$AD$7:AE44,2,FALSE),0)","v":0},null,null,0,null,null,null,null,null,null,"G",{"$f":"COUNTIF(E8:E105,\"G\")","v":0},{"$f":"COUNTIF(N7:N104,\"G\")","v":0},{"$f":"COUNTIF(H7:H104,\"G\")","v":0},null,null,null,null,null,null,null,"00:00:00","00:00:00",0,{"$f":"SpellNumber((AI42))","v":"No Dollars and No Cents"},3,"No "]
["00:00:00",null,null,null,null,0,null,null,0,null,null,{"$f":"IFERROR(VLOOKUP(K43,$AD$7:AE45,2,FALSE),0)","v":0},null,null,0,null,null,null,null,null,null,"H",{"$f":"COUNTIF(E8:E105,\"H\")","v":0},{"$f":"COUNTIF(N7:N104,\"H\")","v":0},{"$f":"COUNTIF(H7:H104,\"H\")","v":0},null,null,null,null,null,null,null,"00:00:00","00:00:00",0,{"$f":"SpellNumber((AI43))","v":"No Dollars and No Cents"},3,"No "]
["00:00:00",null,null,null,null,0,null,null,0,null,null,{"$f":"IFERROR(VLOOKUP(K44,$AD$7:AE46,2,FALSE),0)","v":0},null,null,0,null,null,null,null,null,null,"I",{"$f":"COUNTIF(E8:E105,\"I\")","v":0},{"$f":"COUNTIF(N7:N104,\"I\")","v":0},{"$f":"COUNTIF(H7:H104,\"I\")","v":0},null,null,null,null,null,null,null,"00:00:00","00:00:00",0,{"$f":"SpellNumber((AI44))","v":"No Dollars and No Cents"},3,"No "]
["00:00:00",null,null,null,null,0,null,null,0,null,null,{"$f":"IFERROR(VLOOKUP(K45,$AD$7:AE47,2,FALSE),0)","v":0},null,null,0,null,null,null,null,null,null,"J",{"$f":"COUNTIF(E8:E105,\"J\")","v":0},{"$f":"COUNTIF(N7:N104,\"J\")","v":0},{"$f":"COUNTIF(H7:H104,\"J\")","v":0},null,null,null,null,null,null,null,"00:00:00","00:00:00",0,{"$f":"SpellNumber((AI45))","v":"No Dollars and No Cents"},3,"No "]
["00:00:00",null,null,null,null,0,null,null,0,null,null,{"$f":"IFERROR(VLOOKUP(K46,$AD$7:AE48,2,FALSE),0)","v":0},null,null,0,null,null,null,null,null,null,"K",{"$f":"COUNTIF(E8:E105,\"K\")","v":0},{"$f":"COUNTIF(N7:N104,\"K\")","v":0},{"$f":"COUNTIF(H7:H104,\"K\")","v":0},null,null,null,null,null,null,null,"00:00:00","00:00:00",0,{"$f":"SpellNumber((AI46))","v":"No Dollars and No Cents"},3,"No "]
["00:00:00",null,null,null,null,0,null,null,0,null,null,{"$f":"IFERROR(VLOOKUP(K47,$AD$7:AE49,2,FALSE),0)","v":0},null,null,0,null,null,null,null,null,null,"L",{"$f":"COUNTIF(E8:E105,\"l\")","v":0},{"$f":"COUNTIF(N7:N104,\"L\")","v":0},{"$f":"COUNTIF(H7:H104,\"L\")","v":0},null,null,null,null,null,null,null,"00:00:00","00:00:00",0,{"$f":"SpellNumber((AI47))","v":"No Dollars and No Cents"},3,"No "]
["00:00:00",null,null,null,null,0,null,null,0,null,null,{"$f":"IFERROR(VLOOKUP(K48,$AD$7:AE50,2,FALSE),0)","v":0},null,null,0,null,null,null,null,null,null,null,null,null,null,null,null,null,null,null,null,null,"00:00:00","00:00:00",0,{"$f":"SpellNumber((AI48))","v":"No Dollars and No Cents"},3,"No "]
["00:00:00",null,null,null,null,0,null,null,0,null,null,{"$f":"IFERROR(VLOOKUP(K49,$AD$7:AE51,2,FALSE),0)","v":0},null,null,0,null,null,null,null,null,null,null,"Beh & Setting ",null,null,null,"Beh & Antecedents",null,null,null,null,null,"00:00:00","00:00:00",0,{"$f":"SpellNumber((AI49))","v":"No Dollars and No Cents"},3,"No "]
["00:00:00",null,null,null,null,0,null,null,0,null,null,{"$f":"IFERROR(VLOOKUP(K50,$AD$7:AE52,2,FALSE),0)","v":0},null,null,0,null,null,null,null,null,null,null,"A","B","C",null,null,"A","B","C",null,null,"00:00:00","00:00:00",0,{"$f":"SpellNumber((AI50))","v":"No Dollars and No Cents"},3,"No "]
["00:00:00",null,null,null,null,0,null,null,0,null,null,{"$f":"IFERROR(VLOOKUP(K51,$AD$7:AE53,2,FALSE),0)","v":0},null,null,0,null,null,null,null,null,null,"A",{"$f":"COUNTIFS(E7:E104,\"A\",K7:K104,\"A\")","v":0},{"$f":"COUNTIFS(E7:E104,\"A\",K7:K104,\"B\")","v":0},{"$f":"COUNTIFS(E7:E104,\"A\",K7:K104,\"C\")","v":0},null,"A",{"$f":"COUNTIFS(H7:H104,\"a\",K7:K104,\"A\")","v":0},{"$f":"COUNTIFS(H7:H104,\"A\",K7:K104,\"B\")","v":0},{"$f":"COUNTIFS(H7:H104,\"A\",K7:K104,\"C\")","v":0},null,null,"00:00:00","00:00:00",0,{"$f":"SpellNumber((AI51))","v":"No Dollars and No Cents"},3,"No "]
["00:00:00",null,null,null,null,0,null,null,0,null,null,{"$f":"IFERROR(VLOOKUP(K52,$AD$7:AE54,2,FALSE),0)","v":0},null,null,0,null,null,null,null,null,null,"B",{"$f":"COUNTIFS(E7:E104,\"B\",K7:K104,\"A\")","v":0},{"$f":"COUNTIFS(E7:E104,\"B\",K7:K104,\"B\")","v":0},{"$f":"COUNTIFS(E7:E104,\"B\",K7:K104,\"C\")","v":0},null,"B",{"$f":"COUNTIFS(H7:H104,\"B\",K7:K104,\"A\")","v":0},{"$f":"COUNTIFS(H7:H104,\"B\",K7:K104,\"B\")","v":0},{"$f":"COUNTIFS(H7:H104,\"B\",K7:K104,\"C\")","v":0},null,null,"00:00:00","00:00:00",0,{"$f":"SpellNumber((AI52))","v":"No Dollars and No Cents"},3,"No "]
["00:00:00",null,null,null,null,0,null,null,0,null,null,{"$f":"IFERROR(VLOOKUP(K53,$AD$7:AE55,2,FALSE),0)","v":0},null,null,0,null,null,null,null,null,null,"C",{"$f":"COUNTIFS(K7:K104,\"C\",K7:K104,\"A\")","v":0},{"$f":"COUNTIFS(E7:E104,\"C\",K7:K104,\"B\")","v":0},{"$f":"COUNTIFS(E7:E104,\"C\",K7:K104,\"C\")","v":0},null,"C",{"$f":"COUNTIFS(H7:H104,\"C\",K7:K104,\"A\")","v":0},{"$f":"COUNTIFS(H7:H104,\"C\",K7:K104,\"B\")","v":0},{"$f":"COUNTIFS(H7:H104,\"C\",K7:K104,\"C\")","v":0},null,null,"00:00:00","00:00:00",0,{"$f":"SpellNumber((AI53))","v":"No Dollars and No Cents"},3,"No "]
["00:00:00",null,null,null,null,0,null,null,0,null,null,{"$f":"IFERROR(VLOOKUP(K54,$AD$7:AE56,2,FALSE),0)","v":0},null,null,0,null,null,null,null,null,null,"D",{"$f":"COUNTIFS(E7:E104,\"D\",K7:K104,\"A\")","v":0},{"$f":"COUNTIFS(E7:E104,\"D\",K7:K104,\"B\")","v":0},{"$f":"COUNTIFS(E7:E104,\"D\",K7:K104,\"C\")","v":0},null,"D",{"$f":"COUNTIFS(H7:H104,\"D\",K7:K104,\"A\")","v":0},{"$f":"COUNTIFS(H7:H104,\"D\",K7:K104,\"B\")","v":0},{"$f":"COUNTIFS(H7:H104,\"D\",K7:K104,\"C\")","v":0},null,null,"00:00:00","00:00:00",0,{"$f":"SpellNumber((AI54))","v":"No Dollars and No Cents"},3,"No "]
["00:00:00",null,null,null,null,0,null,null,0,null,null,{"$f":"IFERROR(VLOOKUP(K55,$AD$7:AE57,2,FALSE),0)","v":0},null,null,0,null,null,null,null,null,null,"E",{"$f":"COUNTIFS(E7:E104,\"E\",K7:K104,\"A\")","v":0},{"$f":"COUNTIFS(E7:E104,\"E\",K7:K104,\"B\")","v":0},{"$f":"COUNTIFS(E7:E104,\"E\",K7:K104,\"C\")","v":0},null,"E",{"$f":"COUNTIFS(H7:H104,\"E\",K7:K104,\"A\")","v":0},{"$f":"COUNTIFS(H7:H104,\"E\",K7:K104,\"B\")","v":0},{"$f":"COUNTIFS(H7:H104,\"E\",K7:K104,\"C\")","v":0},null,null,"00:00:00","00:00:00",0,{"$f":"SpellNumber((AI55))","v":"No Dollars and No Cents"},3,"No "]
["00:00:00",null,null,null,null,0,null,null,0,null,null,{"$f":"IFERROR(VLOOKUP(K56,$AD$7:AE58,2,FALSE),0)","v":0},null,null,0,null,null,null,null,null,null,"F",{"$f":"COUNTIFS(E7:E104,\"F\",K7:K104,\"A\")","v":0},{"$f":"COUNTIFS(E7:E104,\"F\",K7:K104,\"B\")","v":0},{"$f":"COUNTIFS(E7:E104,\"F\",K7:K104,\"C\")","v":0},null,"F",{"$f":"COUNTIFS(H7:H104,\"F\",K7:K104,\"A\")","v":0},{"$f":"COUNTIFS(H7:H104,\"F\",K7:K104,\"B\")","v":0},{"$f":"COUNTIFS(H7:H104,\"F\",K7:K104,\"C\")","v":0},null,null,"00:00:00","00:00:00",0,{"$f":"SpellNumber((AI56))","v":"No Dollars and No Cents"},3,"No "]
["00:00:00",null,null,null,null,0,null,null,0,null,null,{"$f":"IFERROR(VLOOKUP(K57,$AD$7:AE59,2,FALSE),0)","v":0},null,null,0,null,null,null,null,null,null,"G",{"$f":"COUNTIFS(E7:E104,\"G\",K7:K104,\"A\")","v":0},{"$f":"COUNTIFS(E7:E104,\"G\",K7:K104,\"B\")","v":0},{"$f":"COUNTIFS(E7:E104,\"G\",K7:K104,\"C\")","v":0},null,"G",{"$f":"COUNTIFS(H7:H104,\"G\",K7:K104,\"A\")","v":0},{"$f":"COUNTIFS(H7:H104,\"G\",K7:K104,\"B\")","v":0},{"$f":"COUNTIFS(H7:H104,\"G\",K7:K104,\"C\")","v":0},null,null,"00:00:00","00:00:00",0,{"$f":"SpellNumber((AI57))","v":"No Dollars and No Cents"},3,"No "]
["00:00:00",null,null,null,null,0,null,null,0,null,null,{"$f":"IFERROR(VLOOKUP(K58,$AD$7:AE60,2,FALSE),0)","v":0},null,null,0,null,null,null,null,null,null,"H",{"$f":"COUNTIFS(E7:E104,\"H\",K7:K104,\"A\")","v":0},{"$f":"COUNTIFS(E7:E104,\"H\",K7:K104,\"B\")","v":0},{"$f":"COUNTIFS(E7:E104,\"H\",K7:K104,\"C\")","v":0},null,"H",{"$f":"COUNTIFS(H7:H104,\"H\",K7:K104,\"A\")","v":0},{"$f":"COUNTIFS(H7:H104,\"H\",K7:K104,\"B\")","v":0},{"$f":"COUNTIFS(H7:H104,\"H\",K7:K104,\"C\")","v":0},null,null,"00:00:00","00:00:00",0,{"$f":"SpellNumber((AI58))","v":"No Dollars and No Cents"},3,"No "]
["00:00:00",null,null,null,null,0,null,null,0,null,null,{"$f":"IFERROR(VLOOKUP(K59,$AD$7:AE61,2,FALSE),0)","v":0},null,null,0,null,null,null,null,null,null,"I",{"$f":"COUNTIFS(E7:E104,\"I\",K7:K104,\"A\")","v":0},{"$f":"COUNTIFS(E7:E104,\"I\",K7:K104,\"B\")","v":0},{"$f":"COUNTIFS(E7:E104,\"I\",K7:K104,\"C\")","v":0},null,"I",{"$f":"COUNTIFS(H7:H104,\"I\",K7:K104,\"A\")","v":0},{"$f":"COUNTIFS(H7:H104,\"I\",K7:K104,\"B\")","v":0},{"$f":"COUNTIFS(H7:H104,\"I\",K7:K104,\"C\")","v":0},null,null,"00:00:00","00:00:00",0,{"$f":"SpellNumber((AI59))","v":"No Dollars and No Cents"},3,"No "]
["00:00:00",null,null,null,null,0,null,null,0,null,null,{"$f":"IFERROR(VLOOKUP(K60,$AD$7:AE62,2,FALSE),0)","v":0},null,null,0,null,null,null,null,null,null,"J",{"$f":"COUNTIFS(E7:E104,\"J\",K7:K104,\"A\")","v":0},{"$f":"COUNTIFS(E7:E104,\"J\",K7:K104,\"B\")","v":0},{"$f":"COUNTIFS(E7:E104,\"J\",K7:K104,\"C\")","v":0},null,"J",{"$f":"COUNTIFS(H7:H104,\"J\",K7:K104,\"A\")","v":0},{"$f":"COUNTIFS(H7:H104,\"J\",K7:K104,\"B\")","v":0},{"$f":"COUNTIFS(H7:H104,\"J\",K7:K104,\"C\")","v":0},null,null,"00:00:00","00:00:00",0,{"$f":"SpellNumber((AI60))","v":"No Dollars and No Cents"},3,"No "]
["00:00:00",null,null,null,null,0,null,null,0,null,null,{"$f":"IFERROR(VLOOKUP(K61,$AD$7:AE63,2,FALSE),0)","v":0},null,null,0,null,null,null,null,null,null,"K",{"$f":"COUNTIFS(E7:E104,\"K\",K7:K104,\"A\")","v":0},{"$f":"COUNTIFS(E7:E104,\"K\",K7:K104,\"B\")","v":0},{"$f":"COUNTIFS(E7:E104,\"K\",K7:K104,\"C\")","v":0},null,"K",{"$f":"COUNTIFS(H7:H104,\"K\",K7:K104,\"A\")","v":0},{"$f":"COUNTIFS(H7:H104,\"K\",K7:K104,\"B\")","v":0},{"$f":"COUNTIFS(H7:H104,\"K\",K7:K104,\"C\")","v":0},null,null,"00:00:00","00:00:00",0,{"$f":"SpellNumber((AI61))","v":"No Dollars and No Cents"},3,"No "]
["00:00:00",null,null,null,null,0,null,null,0,null,null,{"$f":"IFERROR(VLOOKUP(K62,$AD$7:AE64,2,FALSE),0)","v":0},null,null,0,null,null,null,null,null,null,"L",{"$f":"COUNTIFS(E7:E104,\"L\",K7:K104,\"A\")","v":0},{"$f":"COUNTIFS(E7:E104,\"L\",K7:K104,\"B\")","v":0},{"$f":"COUNTIFS(E7:E104,\"L\",K7:K104,\"C\")","v":0},null,"L",{"$f":"COUNTIFS(H7:H104,\"L\",K7:K104,\"A\")","v":0},{"$f":"COUNTIFS(H7:H104,\"L\",K7:K104,\"B\")","v":0},{"$f":"COUNTIFS(H7:H104,\"L\",K7:K104,\"C\")","v":0},null,null,"00:00:00","00:00:00",0,{"$f":"SpellNumber((AI62))","v":"No Dollars and No Cents"},3,"No "]
["00:00:00",null,null,null,null,0,null,null,0,null,null,{"$f":"IFERROR(VLOOKUP(K63,$AD$7:AE65,2,FALSE),0)","v":0},null,null,0,null,null,null,null,null,null,null,"Beh & Consequences",null,null,null,null,null,null,null,null,null,"00:00:00","00:00:00",0,{"$f":"SpellNumber((AI63))","v":"No Dollars and No Cents"},3,"No "]
["00:00:00",null,null,null,null,0,null,null,0,null,null,{"$f":"IFERROR(VLOOKUP(K64,$AD$7:AE66,2,FALSE),0)","v":0},null,null,0,null,null,null,null,null,null,null,"A","B","C",null,null,null,null,null,null,null,"00:00:00","00:00:00",0,{"$f":"SpellNumber((AI64))","v":"No Dollars and No Cents"},3,"No "]
["00:00:00",null,null,null,null,0,null,null,0,null,null,{"$f":"IFERROR(VLOOKUP(K65,$AD$7:AE67,2,FALSE),0)","v":0},null,null,0,null,null,null,null,null,null,"A",{"$f":"COUNTIFS(N7:N104,\"A\",K7:K104,\"A\")","v":0},{"$f":"COUNTIFS(N7:N104,\"A\",K7:K104,\"B\")","v":0},{"$f":"COUNTIFS(N7:N104,\"A\",K7:K104,\"C\")","v":0},null,null,null,null,null,null,null,"00:00:00","00:00:00",0,{"$f":"SpellNumber((AI65))","v":"No Dollars and No Cents"},3,"No "]
["00:00:00",null,null,null,null,0,null,null,0,null,null,{"$f":"IFERROR(VLOOKUP(K66,$AD$7:AE68,2,FALSE),0)","v":0},null,null,0,null,null,null,null,null,null,"B",{"$f":"COUNTIFS(N7:N104,\"B\",K7:K104,\"A\")","v":0},{"$f":"COUNTIFS(N7:N104,\"B\",K7:K104,\"B\")","v":0},{"$f":"COUNTIFS(N7:N104,\"B\",K7:K104,\"C\")","v":0},null,null,null,null,null,null,null,"00:00:00","00:00:00",0,{"$f":"SpellNumber((AI66))","v":"No Dollars and No Cents"},3,"No "]
["00:00:00",null,null,null,null,0,null,null,0,null,null,{"$f":"IFERROR(VLOOKUP(K67,$AD$7:AE69,2,FALSE),0)","v":0},null,null,0,null,null,null,null,null,null,"C",{"$f":"COUNTIFS(N7:N104,\"C\",K7:K104,\"A\")","v":0},{"$f":"COUNTIFS(N7:N104,\"C\",K7:K104,\"B\")","v":0},{"$f":"COUNTIFS(N7:N104,\"C\",K7:K104,\"C\")","v":0},null,null,null,null,null,null,null,"00:00:00","00:00:00",0,{"$f":"SpellNumber((AI67))","v":"No Dollars and No Cents"},3,"No "]
["00:00:00",null,null,null,null,0,null,null,0,null,null,{"$f":"IFERROR(VLOOKUP(K68,$AD$7:AE70,2,FALSE),0)","v":0},null,null,0,null,null,null,null,null,null,"D",{"$f":"COUNTIFS(N7:N104,\"D\",K7:K104,\"A\")","v":0},{"$f":"COUNTIFS(N7:N104,\"D\",K7:K104,\"B\")","v":0},{"$f":"COUNTIFS(N7:N104,\"D\",K7:K104,\"C\")","v":0},null,null,null,null,null,null,null,"00:00:00","00:00:00",0,{"$f":"SpellNumber((AI68))","v":"No Dollars and No Cents"},3,"No "]
["00:00:00",null,null,null,null,0,null,null,0,null,null,{"$f":"IFERROR(VLOOKUP(K69,$AD$7:AE71,2,FALSE),0)","v":0},null,null,0,null,null,null,null,null,null,"E",{"$f":"COUNTIFS(N7:N104,\"E\",K7:K104,\"A\")","v":0},{"$f":"COUNTIFS(N7:N104,\"E\",K7:K104,\"B\")","v":0},{"$f":"COUNTIFS(N7:N104,\"E\",K7:K104,\"C\")","v":0},null,null,null,null,null,null,null,"00:00:00","00:00:00",0,{"$f":"SpellNumber((AI69))","v":"No Dollars and No Cents"},3,"No "]
["00:00:00",null,null,null,null,0,null,null,0,null,null,{"$f":"IFERROR(VLOOKUP(K70,$AD$7:AE72,2,FALSE),0)","v":0},null,null,0,null,null,null,null,null,null,"F",{"$f":"COUNTIFS(N7:N104,\"F\",K7:K104,\"A\")","v":0},{"$f":"COUNTIFS(N7:N104,\"F\",K7:K104,\"B\")","v":0},{"$f":"COUNTIFS(N7:N104,\"F\",K7:K104,\"C\")","v":0},null,null,null,null,null,null,null,"00:00:00","00:00:00",0,{"$f":"SpellNumber((AI70))","v":"No Dollars and No Cents"},3,"No "]
["00:00:00",null,null,null,null,0,null,null,0,null,null,{"$f":"IFERROR(VLOOKUP(K71,$AD$7:AE73,2,FALSE),0)","v":0},null,null,0,null,null,null,null,null,null,"G",{"$f":"COUNTIFS(N7:N104,\"G\",K7:K104,\"A\")","v":0},{"$f":"COUNTIFS(N7:N104,\"G\",K7:K104,\"B\")","v":0},{"$f":"COUNTIFS(N7:N104,\"G\",K7:K104,\"C\")","v":0},null,null,null,null,null,null,null,"00:00:00","00:00:00",0,{"$f":"SpellNumber((AI71))","v":"No Dollars and No Cents"},3,"No "]
[{"$f":"C72-B72","v":"00:00:00"},null,null,null,null,0,null,null,{"$f":"IFERROR(VLOOKUP(H72,$Z$7:$AA$18,2,FALSE),0)","v":0},null,null,{"$f":"IFERROR(VLOOKUP(K72,$AD$7:AE74,2,FALSE),0)","v":0},null,null,{"$f":"IFERROR(VLOOKUP(N72,$V$22:$W$33,2,FALSE),0)","v":0},null,null,null,null,null,null,"H",{"$f":"COUNTIFS(N7:N104,\"H\",K7:K104,\"A\")","v":0},{"$f":"COUNTIFS(N7:N104,\"H\",K7:K104,\"B\")","v":0},{"$f":"COUNTIFS(N7:N104,\"H\",K7:K104,\"C\")","v":0},null,null,null,null,null,null,null,{"$f":"B72","v":"00:00:00"},{"$f":"TEXT(AG72,\"hh:mm:ss\")","v":"00:00:00"},{"$f":"AG72*24","v":0},{"$f":"SpellNumber((AI72))","v":"No Dollars and No Cents"},{"$f":"FIND(\" Dollar\",AJ72)","v":3},{"$f":"LEFT(AJ72,AK72)","v":"No "}]
["00:00:00",null,null,null,null,{"$f":"IFERROR(VLOOKUP(E73,$V$7:$W$18,2,FALSE),0)","v":0},null,null,0,null,null,{"$f":"IFERROR(VLOOKUP(K73,$AD$7:AE75,2,FALSE),0)","v":0},null,null,0,null,null,null,null,null,null,"I",{"$f":"COUNTIFS(N7:N104,\"I\",K7:K104,\"A\")","v":0},{"$f":"COUNTIFS(N7:N104,\"I\",K7:K104,\"B\")","v":0},{"$f":"COUNTIFS(N7:N104,\"I\",K7:K104,\"C\")","v":0},null,null,null,null,null,null,null,"00:00:00","00:00:00",0,{"$f":"SpellNumber((AI73))","v":"No Dollars and No Cents"},3,"No "]
["00:00:00",null,null,null,null,0,null,null,0,null,null,{"$f":"IFERROR(VLOOKUP(K74,$AD$7:AE76,2,FALSE),0)","v":0},null,null,0,null,null,null,null,null,null,"J",{"$f":"COUNTIFS(N7:N104,\"J\",K7:K104,\"A\")","v":0},{"$f":"COUNTIFS(N7:N104,\"J\",K7:K104,\"B\")","v":0},{"$f":"COUNTIFS(N7:N104,\"J\",K7:K104,\"C\")","v":0},null,null,null,null,null,null,null,"00:00:00","00:00:00",0,{"$f":"SpellNumber((AI74))","v":"No Dollars and No Cents"},3,"No "]
["00:00:00",null,null,null,null,0,null,null,0,null,null,{"$f":"IFERROR(VLOOKUP(K75,$AD$7:AE77,2,FALSE),0)","v":0},null,null,0,null,null,null,null,null,null,"K",{"$f":"COUNTIFS(N7:N104,\"K\",K7:K104,\"A\")","v":0},{"$f":"COUNTIFS(N7:N104,\"K\",K7:K104,\"B\")","v":0},{"$f":"COUNTIFS(N7:N104,\"K\",K7:K104,\"C\")","v":0},null,null,null,null,null,null,null,"00:00:00","00:00:00",0,{"$f":"SpellNumber((AI75))","v":"No Dollars and No Cents"},3,"No "]
["00:00:00",null,null,null,null,0,null,null,0,null,null,{"$f":"IFERROR(VLOOKUP(K76,$AD$7:AE78,2,FALSE),0)","v":0},null,null,0,null,null,null,null,null,null,"L",{"$f":"COUNTIFS(N7:N104,\"L\",K7:K104,\"A\")","v":0},{"$f":"COUNTIFS(N7:N104,\"L\",K7:K104,\"B\")","v":0},{"$f":"COUNTIFS(N7:N104,\"L\",K7:K104,\"C\")","v":0},null,null,null,null,null,null,null,"00:00:00","00:00:00",0,{"$f":"SpellNumber((AI76))","v":"No Dollars and No Cents"},3,"No "]
["00:00:00",null,null,null,null,0,null,null,0,null,null,{"$f":"IFERROR(VLOOKUP(K77,$AD$7:AE79,2,FALSE),0)","v":0},null,null,0,null,null,null,null,null,null,null,null,null,null,null,null,null,null,null,null,null,"00:00:00","00:00:00",0,{"$f":"SpellNumber((AI77))","v":"No Dollars and No Cents"},3,"No "]
["00:00:00",null,null,null,null,0,null,null,0,null,null,{"$f":"IFERROR(VLOOKUP(K78,$AD$7:AE80,2,FALSE),0)","v":0},null,null,0,null,null,null,null,null,null,null,null,null,null,null,null,null,null,null,null,null,"00:00:00","00:00:00",0,{"$f":"SpellNumber((AI78))","v":"No Dollars and No Cents"},3,"No "]
["00:00:00",null,null,null,null,0,null,null,0,null,null,{"$f":"IFERROR(VLOOKUP(K79,$AD$7:AE81,2,FALSE),0)","v":0},null,null,0,null,null,null,null,null,null,null,null,null,null,null,null,null,null,null,null,null,"00:00:00","00:00:00",0,{"$f":"SpellNumber((AI79))","v":"No Dollars and No Cents"},3,"No "]
["00:00:00",null,null,null,null,0,null,null,0,null,null,{"$f":"IFERROR(VLOOKUP(K80,$AD$7:AE82,2,FALSE),0)","v":0},null,null,0,null,null,null,null,null,null,null,null,null,null,null,null,null,null,null,null,null,"00:00:00","00:00:00",0,{"$f":"SpellNumber((AI80))","v":"No Dollars and No Cents"},3,"No "]
["00:00:00",null,null,null,null,0,null,null,0,null,null,{"$f":"IFERROR(VLOOKUP(K81,$AD$7:AE83,2,FALSE),0)","v":0},null,null,0,null,null,null,null,null,null,null,null,null,null,null,null,null,null,null,null,null,"00:00:00","00:00:00",0,{"$f":"SpellNumber((AI81))","v":"No Dollars and No Cents"},3,"No "]
["00:00:00",null,null,null,null,0,null,null,0,null,null,{"$f":"IFERROR(VLOOKUP(K82,$AD$7:AE84,2,FALSE),0)","v":0},null,null,0,null,null,null,null,null,null,null,null,null,null,null,null,null,null,null,null,null,"00:00:00","00:00:00",0,{"$f":"SpellNumber((AI82))","v":"No Dollars and No Cents"},3,"No "]
["00:00:00",null,null,null,null,0,null,null,0,null,null,{"$f":"IFERROR(VLOOKUP(K83,$AD$7:AE85,2,FALSE),0)","v":0},null,null,0,null,null,null,null,null,null,null,null,null,null,null,null,null,null,null,null,null,"00:00:00","00:00:00",0,{"$f":"SpellNumber((AI83))","v":"No Dollars and No Cents"},3,"No "]
["00:00:00",null,null,null,null,0,null,null,0,null,null,{"$f":"IFERROR(VLOOKUP(K84,$AD$7:AE86,2,FALSE),0)","v":0},null,null,0,null,null,null,null,null,null,null,null,null,null,null,null,null,null,null,null,null,"00:00:00","00:00:00",0,{"$f":"SpellNumber((AI84))","v":"No Dollars and No Cents"},3,"No "]
["00:00:00",null,null,null,null,0,null,null,0,null,null,{"$f":"IFERROR(VLOOKUP(K85,$AD$7:AE87,2,FALSE),0)","v":0},null,null,0,null,null,null,null,null,null,null,null,null,null,null,null,null,null,null,null,null,"00:00:00","00:00:00",0,{"$f":"SpellNumber((AI85))","v":"No Dollars and No Cents"},3,"No "]
["00:00:00",null,null,null,null,0,null,null,0,null,null,{"$f":"IFERROR(VLOOKUP(K86,$AD$7:AE88,2,FALSE),0)","v":0},null,null,0,null,null,null,null,null,null,null,null,null,null,null,null,null,null,null,null,null,"00:00:00","00:00:00",0,{"$f":"SpellNumber((AI86))","v":"No Dollars and No Cents"},3,"No "]
["00:00:00",null,null,null,null,0,null,null,0,null,null,{"$f":"IFERROR(VLOOKUP(K87,$AD$7:AE89,2,FALSE),0)","v":0},null,null,0,null,null,null,null,null,null,null,null,null,null,null,null,null,null,null,null,null,"00:00:00","00:00:00",0,{"$f":"SpellNumber((AI87))","v":"No Dollars and No Cents"},3,"No "]
["00:00:00",null,null,null,null,0,null,null,0,null,null,{"$f":"IFERROR(VLOOKUP(K88,$AD$7:AE90,2,FALSE),0)","v":0},null,null,0,null,null,null,null,null,null,null,null,null,null,null,null,null,null,null,null,null,"00:00:00","00:00:00",0,{"$f":"SpellNumber((AI88))","v":"No Dollars and No Cents"},3,"No "]
["00:00:00",null,null,null,null,0,null,null,0,null,null,{"$f":"IFERROR(VLOOKUP(K89,$AD$7:AE91,2,FALSE),0)","v":0},null,null,0,null,null,null,null,null,null,null,null,null,null,null,null,null,null,null,null,null,"00:00:00","00:00:00",0,{"$f":"SpellNumber((AI89))","v":"No Dollars and No Cents"},3,"No "]
["00:00:00",null,null,null,null,0,null,null,0,null,null,{"$f":"IFERROR(VLOOKUP(K90,$AD$7:AE92,2,FALSE),0)","v":0},null,null,0,null,null,null,null,null,null,null,null,null,null,null,null,null,null,null,null,null,"00:00:00","00:00:00",0,{"$f":"SpellNumber((AI90))","v":"No Dollars and No Cents"},3,"No "]
["00:00:00",null,null,null,null,0,null,null,0,null,null,{"$f":"IFERROR(VLOOKUP(K91,$AD$7:AE93,2,FALSE),0)","v":0},null,null,0,null,null,null,"Total Mins",{"$f":"SUM(A7:A104)","v":"00:00:00"},null,null,null,null,null,null,null,null,null,null,null,null,"00:00:00","00:00:00",0,{"$f":"SpellNumber((AI91))","v":"No Dollars and No Cents"},3,"No "]
["00:00:00",null,null,null,null,0,null,null,0,null,null,{"$f":"IFERROR(VLOOKUP(K92,$AD$7:AE94,2,FALSE),0)","v":0},null,null,0,null,null,null,"Settings:","A",{"$f":"COUNTIF(E4:E104,\"A\")","v":0},"Antec.","A",{"$f":"COUNTIF(H4:H104,\"A\")","v":0},"Beh","A",{"$f":"COUNTIF(L4:L104,\"A\")","v":0},"Conse.","A",{"$f":"COUNTIF(O4:O104,\"A\")","v":0},null,null,"00:00:00","00:00:00",0,{"$f":"SpellNumber((AI92))","v":"No Dollars and No Cents"},3,"No "]
["00:00:00",null,null,null,null,0,null,null,0,null,null,{"$f":"IFERROR(VLOOKUP(K93,$AD$7:AE95,2,FALSE),0)","v":0},null,null,0,null,null,null,null,"B",{"$f":"COUNTIF(E5:E105,\"B\")","v":0},null,"B",{"$f":"COUNTIF(H5:H105,\"B\")","v":0},null,"B",{"$f":"COUNTIF(L5:L105,\"B\")","v":0},null,"B",{"$f":"COUNTIF(O5:O105,\"B\")","v":0},null,null,"00:00:00","00:00:00",0,{"$f":"SpellNumber((AI93))","v":"No Dollars and No Cents"},3,"No "]
["00:00:00",null,null,null,null,0,null,null,0,null,null,{"$f":"IFERROR(VLOOKUP(K94,$AD$7:AE96,2,FALSE),0)","v":0},null,null,0,null,null,null,null,"C",{"$f":"COUNTIF(E6:E106,\"C\")","v":0},null,"C",{"$f":"COUNTIF(H6:H106,\"C\")","v":0},null,"C",{"$f":"COUNTIF(L6:L106,\"C\")","v":0},null,"C",{"$f":"COUNTIF(O6:O106,\"C\")","v":0},null,null,"00:00:00","00:00:00",0,{"$f":"SpellNumber((AI94))","v":"No Dollars and No Cents"},3,"No "]
["00:00:00",null,null,null,null,0,null,null,0,null,null,{"$f":"IFERROR(VLOOKUP(K95,$AD$7:AE97,2,FALSE),0)","v":0},null,null,0,null,null,null,null,"D",{"$f":"COUNTIF(E7:E107,\"D\")","v":0},null,"D",{"$f":"COUNTIF(H7:H107,\"D\")","v":0},null,null,null,null,"D",{"$f":"COUNTIF(O7:O107,\"D\")","v":0},null,null,"00:00:00","00:00:00",0,{"$f":"SpellNumber((AI95))","v":"No Dollars and No Cents"},3,"No "]
["00:00:00",null,null,null,null,0,null,null,0,null,null,{"$f":"IFERROR(VLOOKUP(K96,$AD$7:AE98,2,FALSE),0)","v":0},null,null,0,null,null,null,null,"E",{"$f":"COUNTIF(E8:E108,\"E\")","v":0},null,"E",{"$f":"COUNTIF(H8:H108,\"E\")","v":0},null,null,null,null,"E",{"$f":"COUNTIF(O8:O108,\"E\")","v":0},null,null,"00:00:00","00:00:00",0,{"$f":"SpellNumber((AI96))","v":"No Dollars and No Cents"},3,"No "]
["00:00:00",null,null,null,null,0,null,null,0,null,null,{"$f":"IFERROR(VLOOKUP(K97,$AD$7:AE99,2,FALSE),0)","v":0},null,null,0,null,null,null,null,"F",{"$f":"COUNTIF(E9:E109,\"F\")","v":0},null,"F",{"$f":"COUNTIF(H9:H109,\"F\")","v":0},null,null,null,null,"F",{"$f":"COUNTIF(O9:O109,\"F\")","v":0},null,null,"00:00:00","00:00:00",0,{"$f":"SpellNumber((AI97))","v":"No Dollars and No Cents"},3,"No "]
["00:00:00",null,null,null,null,0,null,null,0,null,null,{"$f":"IFERROR(VLOOKUP(K98,$AD$7:AE100,2,FALSE),0)","v":0},null,null,0,null,null,null,null,"G",{"$f":"COUNTIF(E10:E110,\"G\")","v":0},null,"G",{"$f":"COUNTIF(H10:H110,\"G\")","v":0},null,null,null,null,"G",{"$f":"COUNTIF(O10:O110,\"G\")","v":0},null,null,"00:00:00","00:00:00",0,{"$f":"SpellNumber((AI98))","v":"No Dollars and No Cents"},3,"No "]
["00:00:00",null,null,null,null,0,null,null,0,null,null,{"$f":"IFERROR(VLOOKUP(K99,$AD$7:AE101,2,FALSE),0)","v":0},null,null,0,null,null,null,null,"H",{"$f":"COUNTIF(E11:E111,\"H\")","v":0},null,"H",{"$f":"COUNTIF(H11:H111,\"H\")","v":0},null,null,null,null,"H",{"$f":"COUNTIF(O11:O111,\"H\")","v":0},null,null,"00:00:00","00:00:00",0,{"$f":"SpellNumber((AI99))","v":"No Dollars and No Cents"},3,"No "]
["00:00:00",null,null,null,null,0,null,null,0,null,null,{"$f":"IFERROR(VLOOKUP(K100,$AD$7:AE102,2,FALSE),0)","v":0},null,null,0,null,null,null,null,"I",{"$f":"COUNTIF(E12:E112,\"I\")","v":0},null,"I",{"$f":"COUNTIF(H12:H112,\"I\")","v":0},null,null,null,null,"I",{"$f":"COUNTIF(O12:O112,\"I\")","v":0},null,null,"00:00:00","00:00:00",0,{"$f":"SpellNumber((AI100))","v":"No Dollars and No Cents"},3,"No "]
["00:00:00",null,null,null,null,0,null,null,0,null,null,{"$f":"IFERROR(VLOOKUP(K101,$AD$7:AE103,2,FALSE),0)","v":0},null,null,0,null,null,null,null,"J",{"$f":"COUNTIF(E13:E113,\"J\")","v":0},null,"J",{"$f":"COUNTIF(H13:H113,\"J\")","v":0},null,null,null,null,"J",{"$f":"COUNTIF(O13:O113,\"J\")","v":0},null,null,"00:00:00","00:00:00",0,{"$f":"SpellNumber((AI101))","v":"No Dollars and No Cents"},3,"No "]
["00:00:00",null,null,null,null,0,null,null,0,null,null,{"$f":"IFERROR(VLOOKUP(K102,$AD$7:AE104,2,FALSE),0)","v":0},null,null,0,null,null,null,null,"K",{"$f":"COUNTIF(E14:E114,\"K\")","v":0},null,"K",{"$f":"COUNTIF(H14:H114,\"K\")","v":0},null,null,null,null,"K",{"$f":"COUNTIF(O14:O114,\"K\")","v":0},null,null,"00:00:00","00:00:00",0,{"$f":"SpellNumber((AI102))","v":"No Dollars and No Cents"},3,"No "]
["00:00:00",null,null,null,null,0,null,null,0,null,null,{"$f":"IFERROR(VLOOKUP(K103,$AD$7:AE105,2,FALSE),0)","v":0},null,null,0,null,null,null,null,"L",{"$f":"COUNTIF(E15:E115,\"L\")","v":0},null,"L",{"$f":"COUNTIF(H15:H115,\"L\")","v":0},null,null,null,null,"L",{"$f":"COUNTIF(O15:O115,\"L\")","v":0},null,null,"00:00:00","00:00:00",0,{"$f":"SpellNumber((AI103))","v":"No Dollars and No Cents"},3,"No "]
["00:00:00",null,null,null,null,0,null,null,0,null,null,{"$f":"IFERROR(VLOOKUP(K104,$AD$7:AE106,2,FALSE),0)","v":0},null,null,0,null,null,null,null,null,null,null,null,null,null,null,null,null,null,null,null,null,"00:00:00","00:00:00",0,{"$f":"SpellNumber((AI104))","v":"No Dollars and No Cents"},3,"No "]

{"sheet":"Data 7","index":15,"n_rows":104,"n_cols":38,"rows_kept":104,"cut":false,"hidden":false,"merged":[[0,7,3,14]]}
["ATTENDANCE",null,null,null,null,null,null,"Data Collection"]
["If tardy, arrival time",null,null,null,null,null,null,null,null,null,null,null,null,null,null,null,null,null,null,null,null,null,"Date",{"$f":"Calendar!B6","v":{"$error":"#N/A"}},{"$f":"TEXT(X2,\"ddd\")","v":{"$error":"#N/A"}}]
["If left early, time",null,null,null,null,null,null,null,null,null,null,null,null,null,null,null,null,null,null,null,null,null,"Frq. Of bx",{"$f":"AA22","v":0}]
[]
[]
["Mins.","Start Time","End Time",null,null,null,null,null,null,null,null,null,null,null,null,null,null,null,null,null,null,null,"Setting",null,null,"Ant",null,null,null,"Beh",null,null,"Raw Data","Time in text","Decimal"]
[{"$f":"C7-B7","v":"00:00:00"},null,null,null,null,{"$f":"IFERROR(VLOOKUP(E7,$V$7:$W$18,2,FALSE),0)","v":0},null,null,{"$f":"IFERROR(VLOOKUP(H7,$Z$7:$AA$18,2,FALSE),0)","v":0},null,null,{"$f":"IFERROR(VLOOKUP(K7,$AD$7:AE9,2,FALSE),0)","v":0},null,null,{"$f":"IFERROR(VLOOKUP(N7,$V$22:$W$33,2,FALSE),0)","v":0},null,null,null,null,null,null,"A",{"$f":"Criteria!C4","v":"Transition"},null,null,"A",{"$f":"Criteria!E4","v":"Transition"},null,null,"A",{"$f":"Criteria!G4","v":0},null,{"$f":"B7","v":"00:00:00"},{"$f":"TEXT(AG7,\"hh:mm:ss\")","v":"00:00:00"},{"$f":"AG7*24","v":0},{"$f":"SpellNumber((AI7))","v":"No Dollars and No Cents"},{"$f":"FIND(\" Dollar\",AJ7)","v":3},{"$f":"LEFT(AJ7,AK7)","v":"No "}]
[{"$f":"C8-B8","v":"00:00:00"},null,null,null,null,{"$f":"IFERROR(VLOOKUP(E8,$V$7:$W$18,2,FALSE),0)","v":0},null,null,{"$f":"IFERROR(VLOOKUP(H8,$Z$7:$AA$18,2,FALSE),0)","v":0},null,null,{"$f":"IFERROR(VLOOKUP(K8,$AD$7:AE10,2,FALSE),0)","v":0},null,null,{"$f":"IFERROR(VLOOKUP(N8,$V$22:$W$33,2,FALSE),0)","v":0},null,null,null,null,null,null,"B",{"$f":"Criteria!C5","v":"Morning Routine"},null,null,"B",{"$f":"Criteria!E5","v":"Denied access ('No')"},null,null,"B",{"$f":"Criteria!G5","v":0},null,{"$f":"B8","v":"00:00:00"},{"$f":"TEXT(AG8,\"hh:mm:ss\")","v":"00:00:00"},{"$f":"AG8*24","v":0},{"$f":"SpellNumber((AI8))","v":"No Dollars and No Cents"},{"$f":"FIND(\" Dollar\",AJ8)","v":3},{"$f":"LEFT(AJ8,AK8)","v":"No "}]
["00:00:00",null,null,null,null,{"$f":"IFERROR(VLOOKUP(E9,$V$7:$W$18,2,FALSE),0)","v":0},null,null,0,null,null,{"$f":"IFERROR(VLOOKUP(K9,$AD$7:AE11,2,FALSE),0)","v":0},null,null,0,null,null,null,null,null,null,"C",{"$f":"Criteria!C6","v":"Group Work"},null,null,"C",{"$f":"Criteria!E6","v":"Instruction/ Directions"},null,null,"C",{"$f":"Criteria!G6","v":0},null,"00:00:00","00:00:00",0,{"$f":"SpellNumber((AI9))","v":"No Dollars and No Cents"},3,"No "]
["00:00:00",null,null,null,null,0,null,null,0,null,null,{"$f":"IFERROR(VLOOKUP(K10,$AD$7:AE12,2,FALSE),0)","v":0},null,null,0,null,null,null,null,null,null,"D",{"$f":"Criteria!C7","v":"Ind. Seat/Work Time"},null,null,"D",{"$f":"Criteria!E7","v":"New Task"},null,null,null,null,null,"00:00:00","00:00:00",0,{"$f":"SpellNumber((AI10))","v":"No Dollars and No Cents"},3,"No "]
["00:00:00",null,null,null,null,0,null,null,0,null,null,{"$f":"IFERROR(VLOOKUP(K11,$AD$7:AE13,2,FALSE),0)","v":0},null,null,0,null,null,null,null,null,null,"E",{"$f":"Criteria!C8","v":"Language Arts"},null,null,"E",{"$f":"Criteria!E8","v":"Tcher attn to other"},null,null,null,null,null,"00:00:00","00:00:00",0,{"$f":"SpellNumber((AI11))","v":"No Dollars and No Cents"},3,"No "]
["00:00:00",null,null,null,null,0,null,null,0,null,null,{"$f":"IFERROR(VLOOKUP(K12,$AD$7:AE14,2,FALSE),0)","v":0},null,null,0,null,null,null,null,null,null,"F",{"$f":"Criteria!C9","v":"Mathematics"},null,null,"F",{"$f":"Criteria!E9","v":"Choice given"},null,null,null,null,null,"00:00:00","00:00:00",0,{"$f":"SpellNumber((AI12))","v":"No Dollars and No Cents"},3,"No "]
["00:00:00",null,null,null,null,0,null,null,0,null,null,{"$f":"IFERROR(VLOOKUP(K13,$AD$7:AE15,2,FALSE),0)","v":0},null,null,0,null,null,null,null,null,null,"G",{"$f":"Criteria!C10","v":"Physical Education"},null,null,"G",{"$f":"Criteria!E10","v":"Redirection"},null,null,null,null,null,"00:00:00","00:00:00",0,{"$f":"SpellNumber((AI13))","v":"No Dollars and No Cents"},3,"No "]
["00:00:00",null,null,null,null,0,null,null,0,null,null,{"$f":"IFERROR(VLOOKUP(K14,$AD$7:AE16,2,FALSE),0)","v":0},null,null,0,null,null,null,null,null,null,"H",{"$f":"Criteria!C11","v":"Music/Art"},null,null,"H",{"$f":"Criteria!E11","v":"Routine Task"},null,null,null,null,null,"00:00:00","00:00:00",0,{"$f":"SpellNumber((AI14))","v":"No Dollars and No Cents"},3,"No "]
["00:00:00",null,null,null,null,0,null,null,0,null,null,{"$f":"IFERROR(VLOOKUP(K15,$AD$7:AE17,2,FALSE),0)","v":0},null,null,0,null,null,null,null,null,null,"I",{"$f":"Criteria!C12","v":"Speech"},null,null,"I",{"$f":"Criteria!E12","v":"Waiting"},null,null,null,null,null,"00:00:00","00:00:00",0,{"$f":"SpellNumber((AI15))","v":"No Dollars and No Cents"},3,"No "]
["00:00:00",null,null,null,null,0,null,null,0,null,null,{"$f":"IFERROR(VLOOKUP(K16,$AD$7:AE18,2,FALSE),0)","v":0},null,null,0,null,null,null,null,null,null,"J",{"$f":"Criteria!C13","v":"OT/PT"},null,null,"J",{"$f":"Criteria!E13","v":"Unknown"},null,null,null,null,null,"00:00:00","00:00:00",0,{"$f":"SpellNumber((AI16))","v":"No Dollars and No Cents"},3,"No "]
["00:00:00",null,null,null,null,0,null,null,0,null,null,{"$f":"IFERROR(VLOOKUP(K17,$AD$7:AE19,2,FALSE),0)","v":0},null,null,0,null,null,null,null,null,null,"K",{"$f":"Criteria!C14","v":"Center"},null,null,"K",{"$f":"Criteria!E14","v":"Ignored"},null,null,null,null,null,"00:00:00","00:00:00",0,{"$f":"SpellNumber((AI17))","v":"No Dollars and No Cents"},3,"No "]
["00:00:00",null,null,null,null,0,null,null,0,null,null,{"$f":"IFERROR(VLOOKUP(K18,$AD$7:AE20,2,FALSE),0)","v":0},null,null,0,null,null,null,null,null,null,"L",{"$f":"Criteria!C15","v":"Other"},null,null,"L",{"$f":"Criteria!E15","v":"Other"},null,null,null,null,null,"00:00:00","00:00:00",0,{"$f":"SpellNumber((AI18))","v":"No Dollars and No Cents"},3,"No "]
["00:00:00",null,null,null,null,0,null,null,0,null,null,{"$f":"IFERROR(VLOOKUP(K19,$AD$7:AE21,2,FALSE),0)","v":0},null,null,0,null,null,null,null,null,null,null,null,null,null,null,null,null,null,null,null,null,"00:00:00","00:00:00",0,{"$f":"SpellNumber((AI19))","v":"No Dollars and No Cents"},3,"No "]
["00:00:00",null,null,null,null,0,null,null,0,null,null,{"$f":"IFERROR(VLOOKUP(K20,$AD$7:AE22,2,FALSE),0)","v":0},null,null,0,null,null,null,null,null,null,null,null,null,null,null,null,null,null,null,null,null,"00:00:00","00:00:00",0,{"$f":"SpellNumber((AI20))","v":"No Dollars and No Cents"},3,"No "]
["00:00:00",null,null,null,null,0,null,null,0,null,null,{"$f":"IFERROR(VLOOKUP(K21,$AD$7:AE23,2,FALSE),0)","v":0},null,null,0,null,null,null,null,null,null,null,"Con",null,"Bx Frequency Per Day",null,null,null,null,null,null,null,"00:00:00","00:00:00",0,{"$f":"SpellNumber((AI21))","v":"No Dollars and No Cents"},3,"No "]
["00:00:00",null,null,null,null,0,null,null,0,null,null,{"$f":"IFERROR(VLOOKUP(K22,$AD$7:AE24,2,FALSE),0)","v":0},null,null,0,null,null,null,null,null,null,"A",{"$f":"Criteria!I4","v":"Choice Given"},"A",{"$f":"COUNTIF(K7:K104,\"A\")","v":0},null,{"$f":"SUM(Y22:Y24)","v":0},null,"Bin Dec","Frequency of Time",null,null,"00:00:00","00:00:00",0,{"$f":"SpellNumber((AI22))","v":"No Dollars and No Cents"},3,"No "]
["00:00:00",null,null,null,null,0,null,null,0,null,null,{"$f":"IFERROR(VLOOKUP(K23,$AD$7:AE25,2,FALSE),0)","v":0},null,null,0,null,null,null,null,null,null,"B",{"$f":"Criteria!I5","v":"Ignored"},"B",{"$f":"COUNTIF(K7:K104,\"B\")","v":0},null,null,null,"Seven",{"$f":"COUNTIF(AL7:AL104,\"*Seven*\")","v":0},null,null,"00:00:00","00:00:00",0,{"$f":"SpellNumber((AI23))","v":"No Dollars and No Cents"},3,"No "]
["00:00:00",null,null,null,null,0,null,null,0,null,null,{"$f":"IFERROR(VLOOKUP(K24,$AD$7:AE26,2,FALSE),0)","v":0},null,null,0,null,null,null,null,null,null,"C",{"$f":"Criteria!I6","v":"Redirection"},"C",{"$f":"COUNTIF(K7:K104,\"C\")","v":0},null,null,null,"Eight",{"$f":"COUNTIF(AL7:AL104,\"*Eight*\")","v":0},null,null,"00:00:00","00:00:00",0,{"$f":"SpellNumber((AI24))","v":"No Dollars and No Cents"},3,"No "]
["00:00:00",null,null,null,null,0,null,null,0,null,null,{"$f":"IFERROR(VLOOKUP(K25,$AD$7:AE27,2,FALSE),0)","v":0},null,null,0,null,null,null,null,null,null,"D",{"$f":"Criteria!I7","v":"Kept the demand"},null,"Bx Druation Per Day",null,null,null,"Nine",{"$f":"COUNTIF(AL7:AL104,\"*Nine*\")","v":0},null,null,"00:00:00","00:00:00",0,{"$f":"SpellNumber((AI25))","v":"No Dollars and No Cents"},3,"No "]
["00:00:00",null,null,null,null,0,null,null,0,null,null,{"$f":"IFERROR(VLOOKUP(K26,$AD$7:AE28,2,FALSE),0)","v":0},null,null,0,null,null,null,null,null,null,"E",{"$f":"Criteria!I8","v":"Changed activity"},"A",{"$f":"SUMIF(K7:K104,\"A\",A7:A104)","v":"00:00:00"},null,null,null,"Ten",{"$f":"COUNTIF(AL7:AL12,\"*Ten*\")","v":0},null,null,"00:00:00","00:00:00",0,{"$f":"SpellNumber((AI26))","v":"No Dollars and No Cents"},3,"No "]
["00:00:00",null,null,null,null,0,null,null,0,null,null,{"$f":"IFERROR(VLOOKUP(K27,$AD$7:AE29,2,FALSE),0)","v":0},null,null,0,null,null,null,null,null,null,"F",{"$f":"Criteria!I9","v":"Verbal reprimand"},"B",{"$f":"SUMIF(K7:K104,\"B\",A7:A104)","v":"00:00:00"},null,null,null,"Eleven",{"$f":"COUNTIF(AL7:AL104,\"*Eleven*\")","v":0},null,null,"00:00:00","00:00:00",0,{"$f":"SpellNumber((AI27))","v":"No Dollars and No Cents"},3,"No "]
["00:00:00",null,null,null,null,0,null,null,0,null,null,{"$f":"IFERROR(VLOOKUP(K28,$AD$7:AE30,2,FALSE),0)","v":0},null,null,0,null,null,null,null,null,null,"G",{"$f":"Criteria!I10","v":"Told to wait"},"C",{"$f":"SUMIF(K7:K104,\"C\",A7:A104)","v":"00:00:00"},null,null,null,"Twelve",{"$f":"COUNTIF(AL7:AL104,\"*Twelve*\")","v":0},null,null,"00:00:00","00:00:00",0,{"$f":"SpellNumber((AI28))","v":"No Dollars and No Cents"},3,"No "]
["00:00:00",null,null,null,null,0,null,null,0,null,null,{"$f":"IFERROR(VLOOKUP(K29,$AD$7:AE31,2,FALSE),0)","v":0},null,null,0,null,null,null,null,null,null,"H",{"$f":"Criteria!I11","v":"Physical Prompt"},null,null,null,null,null,"One",{"$f":"COUNTIF(AL7:AL104,\"*One*\")","v":0},null,null,"00:00:00","00:00:00",0,{"$f":"SpellNumber((AI29))","v":"No Dollars and No Cents"},3,"No "]
["00:00:00",null,null,null,null,0,null,null,0,null,null,{"$f":"IFERROR(VLOOKUP(K30,$AD$7:AE32,2,FALSE),0)","v":0},null,null,0,null,null,null,null,null,null,"I",{"$f":"Criteria!I12","v":"Verbal prompt"},null,null,null,null,null,"Two",{"$f":"COUNTIF(AL7:AL104,\"*Two*\")","v":0},null,null,"00:00:00","00:00:00",0,{"$f":"SpellNumber((AI30))","v":"No Dollars and No Cents"},3,"No "]
["00:00:00",null,null,null,null,0,null,null,0,null,null,{"$f":"IFERROR(VLOOKUP(K31,$AD$7:AE33,2,FALSE),0)","v":0},null,null,0,null,null,null,null,null,null,"J",{"$f":"Criteria!I13","v":"Told to wait"},null,null,null,null,null,"Three",{"$f":"COUNTIF(AL7:AL104,\"*Three*\")","v":0},null,null,"00:00:00","00:00:00",0,{"$f":"SpellNumber((AI31))","v":"No Dollars and No Cents"},3,"No "]
["00:00:00",null,null,null,null,0,null,null,0,null,null,{"$f":"IFERROR(VLOOKUP(K32,$AD$7:AE34,2,FALSE),0)","v":0},null,null,0,null,null,null,null,null,null,"K",{"$f":"Criteria!I14","v":"Unknown"},null,null,null,null,null,"Four",{"$f":"COUNTIF(AL7:AL104,\"*Four*\")","v":0},null,null,"00:00:00","00:00:00",0,{"$f":"SpellNumber((AI32))","v":"No Dollars and No Cents"},3,"No "]
["00:00:00",null,null,null,null,0,null,null,0,null,null,{"$f":"IFERROR(VLOOKUP(K33,$AD$7:AE35,2,FALSE),0)","v":0},null,null,0,null,null,null,null,null,null,"L",{"$f":"Criteria!I15","v":"Other"},null,null,null,null,null,null,null,null,null,"00:00:00","00:00:00",0,{"$f":"SpellNumber((AI33))","v":"No Dollars and No Cents"},3,"No "]
["00:00:00",null,null,null,null,0,null,null,0,null,null,{"$f":"IFERROR(VLOOKUP(K34,$AD$7:AE36,2,FALSE),0)","v":0},null,null,0,null,null,null,null,null,null,null,null,null,null,null,null,null,null,null,null,null,"00:00:00","00:00:00",0,{"$f":"SpellNumber((AI34))","v":"No Dollars and No Cents"},3,"No "]
["00:00:00",null,null,null,null,0,null,null,0,null,null,{"$f":"IFERROR(VLOOKUP(K35,$AD$7:AE37,2,FALSE),0)","v":0},null,null,0,null,null,null,null,null,null,null,"Context Frequency","Consequence","Antedencents",null,null,null,null,null,null,null,"00:00:00","00:00:00",0,{"$f":"SpellNumber((AI35))","v":"No Dollars and No Cents"},3,"No "]
["00:00:00",null,null,null,null,0,null,null,0,null,null,{"$f":"IFERROR(VLOOKUP(K36,$AD$7:AE38,2,FALSE),0)","v":0},null,null,0,null,null,null,null,null,null,"A",{"$f":"COUNTIF(E7:E104,\"A\")","v":0},{"$f":"COUNTIF(N7:N104,\"A\")","v":0},{"$f":"COUNTIF(H7:H104,\"A\")","v":0},null,null,null,null,null,null,null,"00:00:00","00:00:00",0,{"$f":"SpellNumber((AI36))","v":"No Dollars and No Cents"},3,"No "]
["00:00:00",null,null,null,null,0,null,null,0,null,null,{"$f":"IFERROR(VLOOKUP(K37,$AD$7:AE39,2,FALSE),0)","v":0},null,null,0,null,null,null,null,null,null,"B",{"$f":"COUNTIF(E8:E105,\"B\")","v":0},{"$f":"COUNTIF(N7:N104,\"B\")","v":0},{"$f":"COUNTIF(H7:H104,\"B\")","v":0},null,null,null,null,null,null,null,"00:00:00","00:00:00",0,{"$f":"SpellNumber((AI37))","v":"No Dollars and No Cents"},3,"No "]
["00:00:00",null,null,null,null,0,null,null,0,null,null,{"$f":"IFERROR(VLOOKUP(K38,$AD$7:AE40,2,FALSE),0)","v":0},null,null,0,null,null,null,null,null,null,"C",{"$f":"COUNTIF(E8:E105,\"C\")","v":0},{"$f":"COUNTIF(N7:N104,\"C\")","v":0},{"$f":"COUNTIF(H7:H104,\"C\")","v":0},null,null,null,null,null,null,null,"00:00:00","00:00:00",0,{"$f":"SpellNumber((AI38))","v":"No Dollars and No Cents"},3,"No "]
["00:00:00",null,null,null,null,0,null,null,0,null,null,{"$f":"IFERROR(VLOOKUP(K39,$AD$7:AE41,2,FALSE),0)","v":0},null,null,0,null,null,null,null,null,null,"D",{"$f":"COUNTIF(E8:E105,\"D\")","v":0},{"$f":"COUNTIF(N7:N104,\"D\")","v":0},{"$f":"COUNTIF(H7:H104,\"D\")","v":0},null,null,null,null,null,null,null,"00:00:00","00:00:00",0,{"$f":"SpellNumber((AI39))","v":"No Dollars and No Cents"},3,"No "]
["00:00:00",null,null,null,null,0,null,null,0,null,null,{"$f":"IFERROR(VLOOKUP(K40,$AD$7:AE42,2,FALSE),0)","v":0},null,null,0,null,null,null,null,null,null,"E",{"$f":"COUNTIF(E8:E105,\"E\")","v":0},{"$f":"COUNTIF(N7:N104,\"E\")","v":0},{"$f":"COUNTIF(H7:H104,\"E\")","v":0},null,null,null,null,null,null,null,"00:00:00","00:00:00",0,{"$f":"SpellNumber((AI40))","v":"No Dollars and No Cents"},3,"No "]
["00:00:00",null,null,null,null,0,null,null,0,null,null,{"$f":"IFERROR(VLOOKUP(K41,$AD$7:AE43,2,FALSE),0)","v":0},null,null,0,null,null,null,null,null,null,"F",{"$f":"COUNTIF(E8:E105,\"F\")","v":0},{"$f":"COUNTIF(N7:N104,\"F\")","v":0},{"$f":"COUNTIF(H7:H104,\"F\")","v":0},null,null,null,null,null,null,null,"00:00:00","00:00:00",0,{"$f":"SpellNumber((AI41))","v":"No Dollars and No Cents"},3,"No "]
["00:00:00",null,null,null,null,0,null,null,0,null,null,{"$f":"IFERROR(VLOOKUP(K42,$AD$7:AE44,2,FALSE),0)","v":0},null,null,0,null,null,null,null,null,null,"G",{"$f":"COUNTIF(E8:E105,\"G\")","v":0},{"$f":"COUNTIF(N7:N104,\"G\")","v":0},{"$f":"COUNTIF(H7:H104,\"G\")","v":0},null,null,null,null,null,null,null,"00:00:00","00:00:00",0,{"$f":"SpellNumber((AI42))","v":"No Dollars and No Cents"},3,"No "]
["00:00:00",null,null,null,null,0,null,null,0,null,null,{"$f":"IFERROR(VLOOKUP(K43,$AD$7:AE45,2,FALSE),0)","v":0},null,null,0,null,null,null,null,null,null,"H",{"$f":"COUNTIF(E8:E105,\"H\")","v":0},{"$f":"COUNTIF(N7:N104,\"H\")","v":0},{"$f":"COUNTIF(H7:H104,\"H\")","v":0},null,null,null,null,null,null,null,"00:00:00","00:00:00",0,{"$f":"SpellNumber((AI43))","v":"No Dollars and No Cents"},3,"No "]
["00:00:00",null,null,null,null,0,null,null,0,null,null,{"$f":"IFERROR(VLOOKUP(K44,$AD$7:AE46,2,FALSE),0)","v":0},null,null,0,null,null,null,null,null,null,"I",{"$f":"COUNTIF(E8:E105,\"I\")","v":0},{"$f":"COUNTIF(N7:N104,\"I\")","v":0},{"$f":"COUNTIF(H7:H104,\"I\")","v":0},null,null,null,null,null,null,null,"00:00:00","00:00:00",0,{"$f":"SpellNumber((AI44))","v":"No Dollars and No Cents"},3,"No "]
["00:00:00",null,null,null,null,0,null,null,0,null,null,{"$f":"IFERROR(VLOOKUP(K45,$AD$7:AE47,2,FALSE),0)","v":0},null,null,0,null,null,null,null,null,null,"J",{"$f":"COUNTIF(E8:E105,\"J\")","v":0},{"$f":"COUNTIF(N7:N104,\"J\")","v":0},{"$f":"COUNTIF(H7:H104,\"J\")","v":0},null,null,null,null,null,null,null,"00:00:00","00:00:00",0,{"$f":"SpellNumber((AI45))","v":"No Dollars and No Cents"},3,"No "]
["00:00:00",null,null,null,null,0,null,null,0,null,null,{"$f":"IFERROR(VLOOKUP(K46,$AD$7:AE48,2,FALSE),0)","v":0},null,null,0,null,null,null,null,null,null,"K",{"$f":"COUNTIF(E8:E105,\"K\")","v":0},{"$f":"COUNTIF(N7:N104,\"K\")","v":0},{"$f":"COUNTIF(H7:H104,\"K\")","v":0},null,null,null,null,null,null,null,"00:00:00","00:00:00",0,{"$f":"SpellNumber((AI46))","v":"No Dollars and No Cents"},3,"No "]
["00:00:00",null,null,null,null,0,null,null,0,null,null,{"$f":"IFERROR(VLOOKUP(K47,$AD$7:AE49,2,FALSE),0)","v":0},null,null,0,null,null,null,null,null,null,"L",{"$f":"COUNTIF(E8:E105,\"l\")","v":0},{"$f":"COUNTIF(N7:N104,\"L\")","v":0},{"$f":"COUNTIF(H7:H104,\"L\")","v":0},null,null,null,null,null,null,null,"00:00:00","00:00:00",0,{"$f":"SpellNumber((AI47))","v":"No Dollars and No Cents"},3,"No "]
["00:00:00",null,null,null,null,0,null,null,0,null,null,{"$f":"IFERROR(VLOOKUP(K48,$AD$7:AE50,2,FALSE),0)","v":0},null,null,0,null,null,null,null,null,null,null,null,null,null,null,null,null,null,null,null,null,"00:00:00","00:00:00",0,{"$f":"SpellNumber((AI48))","v":"No Dollars and No Cents"},3,"No "]
["00:00:00",null,null,null,null,0,null,null,0,null,null,{"$f":"IFERROR(VLOOKUP(K49,$AD$7:AE51,2,FALSE),0)","v":0},null,null,0,null,null,null,null,null,null,null,"Beh & Setting ",null,null,null,"Beh & Antecedents",null,null,null,null,null,"00:00:00","00:00:00",0,{"$f":"SpellNumber((AI49))","v":"No Dollars and No Cents"},3,"No "]
["00:00:00",null,null,null,null,0,null,null,0,null,null,{"$f":"IFERROR(VLOOKUP(K50,$AD$7:AE52,2,FALSE),0)","v":0},null,null,0,null,null,null,null,null,null,null,"A","B","C",null,null,"A","B","C",null,null,"00:00:00","00:00:00",0,{"$f":"SpellNumber((AI50))","v":"No Dollars and No Cents"},3,"No "]
["00:00:00",null,null,null,null,0,null,null,0,null,null,{"$f":"IFERROR(VLOOKUP(K51,$AD$7:AE53,2,FALSE),0)","v":0},null,null,0,null,null,null,null,null,null,"A",{"$f":"COUNTIFS(E7:E104,\"A\",K7:K104,\"A\")","v":0},{"$f":"COUNTIFS(E7:E104,\"A\",K7:K104,\"B\")","v":0},{"$f":"COUNTIFS(E7:E104,\"A\",K7:K104,\"C\")","v":0},null,"A",{"$f":"COUNTIFS(H7:H104,\"a\",K7:K104,\"A\")","v":0},{"$f":"COUNTIFS(H7:H104,\"A\",K7:K104,\"B\")","v":0},{"$f":"COUNTIFS(H7:H104,\"A\",K7:K104,\"C\")","v":0},null,null,"00:00:00","00:00:00",0,{"$f":"SpellNumber((AI51))","v":"No Dollars and No Cents"},3,"No "]
["00:00:00",null,null,null,null,0,null,null,0,null,null,{"$f":"IFERROR(VLOOKUP(K52,$AD$7:AE54,2,FALSE),0)","v":0},null,null,0,null,null,null,null,null,null,"B",{"$f":"COUNTIFS(E7:E104,\"B\",K7:K104,\"A\")","v":0},{"$f":"COUNTIFS(E7:E104,\"B\",K7:K104,\"B\")","v":0},{"$f":"COUNTIFS(E7:E104,\"B\",K7:K104,\"C\")","v":0},null,"B",{"$f":"COUNTIFS(H7:H104,\"B\",K7:K104,\"A\")","v":0},{"$f":"COUNTIFS(H7:H104,\"B\",K7:K104,\"B\")","v":0},{"$f":"COUNTIFS(H7:H104,\"B\",K7:K104,\"C\")","v":0},null,null,"00:00:00","00:00:00",0,{"$f":"SpellNumber((AI52))","v":"No Dollars and No Cents"},3,"No "]
["00:00:00",null,null,null,null,0,null,null,0,null,null,{"$f":"IFERROR(VLOOKUP(K53,$AD$7:AE55,2,FALSE),0)","v":0},null,null,0,null,null,null,null,null,null,"C",{"$f":"COUNTIFS(K7:K104,\"C\",K7:K104,\"A\")","v":0},{"$f":"COUNTIFS(E7:E104,\"C\",K7:K104,\"B\")","v":0},{"$f":"COUNTIFS(E7:E104,\"C\",K7:K104,\"C\")","v":0},null,"C",{"$f":"COUNTIFS(H7:H104,\"C\",K7:K104,\"A\")","v":0},{"$f":"COUNTIFS(H7:H104,\"C\",K7:K104,\"B\")","v":0},{"$f":"COUNTIFS(H7:H104,\"C\",K7:K104,\"C\")","v":0},null,null,"00:00:00","00:00:00",0,{"$f":"SpellNumber((AI53))","v":"No Dollars and No Cents"},3,"No "]
["00:00:00",null,null,null,null,0,null,null,0,null,null,{"$f":"IFERROR(VLOOKUP(K54,$AD$7:AE56,2,FALSE),0)","v":0},null,null,0,null,null,null,null,null,null,"D",{"$f":"COUNTIFS(E7:E104,\"D\",K7:K104,\"A\")","v":0},{"$f":"COUNTIFS(E7:E104,\"D\",K7:K104,\"B\")","v":0},{"$f":"COUNTIFS(E7:E104,\"D\",K7:K104,\"C\")","v":0},null,"D",{"$f":"COUNTIFS(H7:H104,\"D\",K7:K104,\"A\")","v":0},{"$f":"COUNTIFS(H7:H104,\"D\",K7:K104,\"B\")","v":0},{"$f":"COUNTIFS(H7:H104,\"D\",K7:K104,\"C\")","v":0},null,null,"00:00:00","00:00:00",0,{"$f":"SpellNumber((AI54))","v":"No Dollars and No Cents"},3,"No "]
["00:00:00",null,null,null,null,0,null,null,0,null,null,{"$f":"IFERROR(VLOOKUP(K55,$AD$7:AE57,2,FALSE),0)","v":0},null,null,0,null,null,null,null,null,null,"E",{"$f":"COUNTIFS(E7:E104,\"E\",K7:K104,\"A\")","v":0},{"$f":"COUNTIFS(E7:E104,\"E\",K7:K104,\"B\")","v":0},{"$f":"COUNTIFS(E7:E104,\"E\",K7:K104,\"C\")","v":0},null,"E",{"$f":"COUNTIFS(H7:H104,\"E\",K7:K104,\"A\")","v":0},{"$f":"COUNTIFS(H7:H104,\"E\",K7:K104,\"B\")","v":0},{"$f":"COUNTIFS(H7:H104,\"E\",K7:K104,\"C\")","v":0},null,null,"00:00:00","00:00:00",0,{"$f":"SpellNumber((AI55))","v":"No Dollars and No Cents"},3,"No "]
["00:00:00",null,null,null,null,0,null,null,0,null,null,{"$f":"IFERROR(VLOOKUP(K56,$AD$7:AE58,2,FALSE),0)","v":0},null,null,0,null,null,null,null,null,null,"F",{"$f":"COUNTIFS(E7:E104,\"F\",K7:K104,\"A\")","v":0},{"$f":"COUNTIFS(E7:E104,\"F\",K7:K104,\"B\")","v":0},{"$f":"COUNTIFS(E7:E104,\"F\",K7:K104,\"C\")","v":0},null,"F",{"$f":"COUNTIFS(H7:H104,\"F\",K7:K104,\"A\")","v":0},{"$f":"COUNTIFS(H7:H104,\"F\",K7:K104,\"B\")","v":0},{"$f":"COUNTIFS(H7:H104,\"F\",K7:K104,\"C\")","v":0},null,null,"00:00:00","00:00:00",0,{"$f":"SpellNumber((AI56))","v":"No Dollars and No Cents"},3,"No "]
["00:00:00",null,null,null,null,0,null,null,0,null,null,{"$f":"IFERROR(VLOOKUP(K57,$AD$7:AE59,2,FALSE),0)","v":0},null,null,0,null,null,null,null,null,null,"G",{"$f":"COUNTIFS(E7:E104,\"G\",K7:K104,\"A\")","v":0},{"$f":"COUNTIFS(E7:E104,\"G\",K7:K104,\"B\")","v":0},{"$f":"COUNTIFS(E7:E104,\"G\",K7:K104,\"C\")","v":0},null,"G",{"$f":"COUNTIFS(H7:H104,\"G\",K7:K104,\"A\")","v":0},{"$f":"COUNTIFS(H7:H104,\"G\",K7:K104,\"B\")","v":0},{"$f":"COUNTIFS(H7:H104,\"G\",K7:K104,\"C\")","v":0},null,null,"00:00:00","00:00:00",0,{"$f":"SpellNumber((AI57))","v":"No Dollars and No Cents"},3,"No "]
["00:00:00",null,null,null,null,0,null,null,0,null,null,{"$f":"IFERROR(VLOOKUP(K58,$AD$7:AE60,2,FALSE),0)","v":0},null,null,0,null,null,null,null,null,null,"H",{"$f":"COUNTIFS(E7:E104,\"H\",K7:K104,\"A\")","v":0},{"$f":"COUNTIFS(E7:E104,\"H\",K7:K104,\"B\")","v":0},{"$f":"COUNTIFS(E7:E104,\"H\",K7:K104,\"C\")","v":0},null,"H",{"$f":"COUNTIFS(H7:H104,\"H\",K7:K104,\"A\")","v":0},{"$f":"COUNTIFS(H7:H104,\"H\",K7:K104,\"B\")","v":0},{"$f":"COUNTIFS(H7:H104,\"H\",K7:K104,\"C\")","v":0},null,null,"00:00:00","00:00:00",0,{"$f":"SpellNumber((AI58))","v":"No Dollars and No Cents"},3,"No "]
["00:00:00",null,null,null,null,0,null,null,0,null,null,{"$f":"IFERROR(VLOOKUP(K59,$AD$7:AE61,2,FALSE),0)","v":0},null,null,0,null,null,null,null,null,null,"I",{"$f":"COUNTIFS(E7:E104,\"I\",K7:K104,\"A\")","v":0},{"$f":"COUNTIFS(E7:E104,\"I\",K7:K104,\"B\")","v":0},{"$f":"COUNTIFS(E7:E104,\"I\",K7:K104,\"C\")","v":0},null,"I",{"$f":"COUNTIFS(H7:H104,\"I\",K7:K104,\"A\")","v":0},{"$f":"COUNTIFS(H7:H104,\"I\",K7:K104,\"B\")","v":0},{"$f":"COUNTIFS(H7:H104,\"I\",K7:K104,\"C\")","v":0},null,null,"00:00:00","00:00:00",0,{"$f":"SpellNumber((AI59))","v":"No Dollars and No Cents"},3,"No "]
["00:00:00",null,null,null,null,0,null,null,0,null,null,{"$f":"IFERROR(VLOOKUP(K60,$AD$7:AE62,2,FALSE),0)","v":0},null,null,0,null,null,null,null,null,null,"J",{"$f":"COUNTIFS(E7:E104,\"J\",K7:K104,\"A\")","v":0},{"$f":"COUNTIFS(E7:E104,\"J\",K7:K104,\"B\")","v":0},{"$f":"COUNTIFS(E7:E104,\"J\",K7:K104,\"C\")","v":0},null,"J",{"$f":"COUNTIFS(H7:H104,\"J\",K7:K104,\"A\")","v":0},{"$f":"COUNTIFS(H7:H104,\"J\",K7:K104,\"B\")","v":0},{"$f":"COUNTIFS(H7:H104,\"J\",K7:K104,\"C\")","v":0},null,null,"00:00:00","00:00:00",0,{"$f":"SpellNumber((AI60))","v":"No Dollars and No Cents"},3,"No "]
["00:00:00",null,null,null,null,0,null,null,0,null,null,{"$f":"IFERROR(VLOOKUP(K61,$AD$7:AE63,2,FALSE),0)","v":0},null,null,0,null,null,null,null,null,null,"K",{"$f":"COUNTIFS(E7:E104,\"K\",K7:K104,\"A\")","v":0},{"$f":"COUNTIFS(E7:E104,\"K\",K7:K104,\"B\")","v":0},{"$f":"COUNTIFS(E7:E104,\"K\",K7:K104,\"C\")","v":0},null,"K",{"$f":"COUNTIFS(H7:H104,\"K\",K7:K104,\"A\")","v":0},{"$f":"COUNTIFS(H7:H104,\"K\",K7:K104,\"B\")","v":0},{"$f":"COUNTIFS(H7:H104,\"K\",K7:K104,\"C\")","v":0},null,null,"00:00:00","00:00:00",0,{"$f":"SpellNumber((AI61))","v":"No Dollars and No Cents"},3,"No "]
["00:00:00",null,null,null,null,0,null,null,0,null,null,{"$f":"IFERROR(VLOOKUP(K62,$AD$7:AE64,2,FALSE),0)","v":0},null,null,0,null,null,null,null,null,null,"L",{"$f":"COUNTIFS(E7:E104,\"L\",K7:K104,\"A\")","v":0},{"$f":"COUNTIFS(E7:E104,\"L\",K7:K104,\"B\")","v":0},{"$f":"COUNTIFS(E7:E104,\"L\",K7:K104,\"C\")","v":0},null,"L",{"$f":"COUNTIFS(H7:H104,\"L\",K7:K104,\"A\")","v":0},{"$f":"COUNTIFS(H7:H104,\"L\",K7:K104,\"B\")","v":0},{"$f":"COUNTIFS(H7:H104,\"L\",K7:K104,\"C\")","v":0},null,null,"00:00:00","00:00:00",0,{"$f":"SpellNumber((AI62))","v":"No Dollars and No Cents"},3,"No "]
["00:00:00",null,null,null,null,0,null,null,0,null,null,{"$f":"IFERROR(VLOOKUP(K63,$AD$7:AE65,2,FALSE),0)","v":0},null,null,0,null,null,null,null,null,null,null,"Beh & Consequences",null,null,null,null,null,null,null,null,null,"00:00:00","00:00:00",0,{"$f":"SpellNumber((AI63))","v":"No Dollars and No Cents"},3,"No "]
["00:00:00",null,null,null,null,0,null,null,0,null,null,{"$f":"IFERROR(VLOOKUP(K64,$AD$7:AE66,2,FALSE),0)","v":0},null,null,0,null,null,null,null,null,null,null,"A","B","C",null,null,null,null,null,null,null,"00:00:00","00:00:00",0,{"$f":"SpellNumber((AI64))","v":"No Dollars and No Cents"},3,"No "]
["00:00:00",null,null,null,null,0,null,null,0,null,null,{"$f":"IFERROR(VLOOKUP(K65,$AD$7:AE67,2,FALSE),0)","v":0},null,null,0,null,null,null,null,null,null,"A",{"$f":"COUNTIFS(N7:N104,\"A\",K7:K104,\"A\")","v":0},{"$f":"COUNTIFS(N7:N104,\"A\",K7:K104,\"B\")","v":0},{"$f":"COUNTIFS(N7:N104,\"A\",K7:K104,\"C\")","v":0},null,null,null,null,null,null,null,"00:00:00","00:00:00",0,{"$f":"SpellNumber((AI65))","v":"No Dollars and No Cents"},3,"No "]
["00:00:00",null,null,null,null,0,null,null,0,null,null,{"$f":"IFERROR(VLOOKUP(K66,$AD$7:AE68,2,FALSE),0)","v":0},null,null,0,null,null,null,null,null,null,"B",{"$f":"COUNTIFS(N7:N104,\"B\",K7:K104,\"A\")","v":0},{"$f":"COUNTIFS(N7:N104,\"B\",K7:K104,\"B\")","v":0},{"$f":"COUNTIFS(N7:N104,\"B\",K7:K104,\"C\")","v":0},null,null,null,null,null,null,null,"00:00:00","00:00:00",0,{"$f":"SpellNumber((AI66))","v":"No Dollars and No Cents"},3,"No "]
["00:00:00",null,null,null,null,0,null,null,0,null,null,{"$f":"IFERROR(VLOOKUP(K67,$AD$7:AE69,2,FALSE),0)","v":0},null,null,0,null,null,null,null,null,null,"C",{"$f":"COUNTIFS(N7:N104,\"C\",K7:K104,\"A\")","v":0},{"$f":"COUNTIFS(N7:N104,\"C\",K7:K104,\"B\")","v":0},{"$f":"COUNTIFS(N7:N104,\"C\",K7:K104,\"C\")","v":0},null,null,null,null,null,null,null,"00:00:00","00:00:00",0,{"$f":"SpellNumber((AI67))","v":"No Dollars and No Cents"},3,"No "]
["00:00:00",null,null,null,null,0,null,null,0,null,null,{"$f":"IFERROR(VLOOKUP(K68,$AD$7:AE70,2,FALSE),0)","v":0},null,null,0,null,null,null,null,null,null,"D",{"$f":"COUNTIFS(N7:N104,\"D\",K7:K104,\"A\")","v":0},{"$f":"COUNTIFS(N7:N104,\"D\",K7:K104,\"B\")","v":0},{"$f":"COUNTIFS(N7:N104,\"D\",K7:K104,\"C\")","v":0},null,null,null,null,null,null,null,"00:00:00","00:00:00",0,{"$f":"SpellNumber((AI68))","v":"No Dollars and No Cents"},3,"No "]
["00:00:00",null,null,null,null,0,null,null,0,null,null,{"$f":"IFERROR(VLOOKUP(K69,$AD$7:AE71,2,FALSE),0)","v":0},null,null,0,null,null,null,null,null,null,"E",{"$f":"COUNTIFS(N7:N104,\"E\",K7:K104,\"A\")","v":0},{"$f":"COUNTIFS(N7:N104,\"E\",K7:K104,\"B\")","v":0},{"$f":"COUNTIFS(N7:N104,\"E\",K7:K104,\"C\")","v":0},null,null,null,null,null,null,null,"00:00:00","00:00:00",0,{"$f":"SpellNumber((AI69))","v":"No Dollars and No Cents"},3,"No "]
["00:00:00",null,null,null,null,0,null,null,0,null,null,{"$f":"IFERROR(VLOOKUP(K70,$AD$7:AE72,2,FALSE),0)","v":0},null,null,0,null,null,null,null,null,null,"F",{"$f":"COUNTIFS(N7:N104,\"F\",K7:K104,\"A\")","v":0},{"$f":"COUNTIFS(N7:N104,\"F\",K7:K104,\"B\")","v":0},{"$f":"COUNTIFS(N7:N104,\"F\",K7:K104,\"C\")","v":0},null,null,null,null,null,null,null,"00:00:00","00:00:00",0,{"$f":"SpellNumber((AI70))","v":"No Dollars and No Cents"},3,"No "]
["00:00:00",null,null,null,null,0,null,null,0,null,null,{"$f":"IFERROR(VLOOKUP(K71,$AD$7:AE73,2,FALSE),0)","v":0},null,null,0,null,null,null,null,null,null,"G",{"$f":"COUNTIFS(N7:N104,\"G\",K7:K104,\"A\")","v":0},{"$f":"COUNTIFS(N7:N104,\"G\",K7:K104,\"B\")","v":0},{"$f":"COUNTIFS(N7:N104,\"G\",K7:K104,\"C\")","v":0},null,null,null,null,null,null,null,"00:00:00","00:00:00",0,{"$f":"SpellNumber((AI71))","v":"No Dollars and No Cents"},3,"No "]
[{"$f":"C72-B72","v":"00:00:00"},null,null,null,null,0,null,null,{"$f":"IFERROR(VLOOKUP(H72,$Z$7:$AA$18,2,FALSE),0)","v":0},null,null,{"$f":"IFERROR(VLOOKUP(K72,$AD$7:AE74,2,FALSE),0)","v":0},null,null,{"$f":"IFERROR(VLOOKUP(N72,$V$22:$W$33,2,FALSE),0)","v":0},null,null,null,null,null,null,"H",{"$f":"COUNTIFS(N7:N104,\"H\",K7:K104,\"A\")","v":0},{"$f":"COUNTIFS(N7:N104,\"H\",K7:K104,\"B\")","v":0},{"$f":"COUNTIFS(N7:N104,\"H\",K7:K104,\"C\")","v":0},null,null,null,null,null,null,null,{"$f":"B72","v":"00:00:00"},{"$f":"TEXT(AG72,\"hh:mm:ss\")","v":"00:00:00"},{"$f":"AG72*24","v":0},{"$f":"SpellNumber((AI72))","v":"No Dollars and No Cents"},{"$f":"FIND(\" Dollar\",AJ72)","v":3},{"$f":"LEFT(AJ72,AK72)","v":"No "}]
["00:00:00",null,null,null,null,{"$f":"IFERROR(VLOOKUP(E73,$V$7:$W$18,2,FALSE),0)","v":0},null,null,0,null,null,{"$f":"IFERROR(VLOOKUP(K73,$AD$7:AE75,2,FALSE),0)","v":0},null,null,0,null,null,null,null,null,null,"I",{"$f":"COUNTIFS(N7:N104,\"I\",K7:K104,\"A\")","v":0},{"$f":"COUNTIFS(N7:N104,\"I\",K7:K104,\"B\")","v":0},{"$f":"COUNTIFS(N7:N104,\"I\",K7:K104,\"C\")","v":0},null,null,null,null,null,null,null,"00:00:00","00:00:00",0,{"$f":"SpellNumber((AI73))","v":"No Dollars and No Cents"},3,"No "]
["00:00:00",null,null,null,null,0,null,null,0,null,null,{"$f":"IFERROR(VLOOKUP(K74,$AD$7:AE76,2,FALSE),0)","v":0},null,null,0,null,null,null,null,null,null,"J",{"$f":"COUNTIFS(N7:N104,\"J\",K7:K104,\"A\")","v":0},{"$f":"COUNTIFS(N7:N104,\"J\",K7:K104,\"B\")","v":0},{"$f":"COUNTIFS(N7:N104,\"J\",K7:K104,\"C\")","v":0},null,null,null,null,null,null,null,"00:00:00","00:00:00",0,{"$f":"SpellNumber((AI74))","v":"No Dollars and No Cents"},3,"No "]
["00:00:00",null,null,null,null,0,null,null,0,null,null,{"$f":"IFERROR(VLOOKUP(K75,$AD$7:AE77,2,FALSE),0)","v":0},null,null,0,null,null,null,null,null,null,"K",{"$f":"COUNTIFS(N7:N104,\"K\",K7:K104,\"A\")","v":0},{"$f":"COUNTIFS(N7:N104,\"K\",K7:K104,\"B\")","v":0},{"$f":"COUNTIFS(N7:N104,\"K\",K7:K104,\"C\")","v":0},null,null,null,null,null,null,null,"00:00:00","00:00:00",0,{"$f":"SpellNumber((AI75))","v":"No Dollars and No Cents"},3,"No "]
["00:00:00",null,null,null,null,0,null,null,0,null,null,{"$f":"IFERROR(VLOOKUP(K76,$AD$7:AE78,2,FALSE),0)","v":0},null,null,0,null,null,null,null,null,null,"L",{"$f":"COUNTIFS(N7:N104,\"L\",K7:K104,\"A\")","v":0},{"$f":"COUNTIFS(N7:N104,\"L\",K7:K104,\"B\")","v":0},{"$f":"COUNTIFS(N7:N104,\"L\",K7:K104,\"C\")","v":0},null,null,null,null,null,null,null,"00:00:00","00:00:00",0,{"$f":"SpellNumber((AI76))","v":"No Dollars and No Cents"},3,"No "]
["00:00:00",null,null,null,null,0,null,null,0,null,null,{"$f":"IFERROR(VLOOKUP(K77,$AD$7:AE79,2,FALSE),0)","v":0},null,null,0,null,null,null,null,null,null,null,null,null,null,null,null,null,null,null,null,null,"00:00:00","00:00:00",0,{"$f":"SpellNumber((AI77))","v":"No Dollars and No Cents"},3,"No "]
["00:00:00",null,null,null,null,0,null,null,0,null,null,{"$f":"IFERROR(VLOOKUP(K78,$AD$7:AE80,2,FALSE),0)","v":0},null,null,0,null,null,null,null,null,null,null,null,null,null,null,null,null,null,null,null,null,"00:00:00","00:00:00",0,{"$f":"SpellNumber((AI78))","v":"No Dollars and No Cents"},3,"No "]
["00:00:00",null,null,null,null,0,null,null,0,null,null,{"$f":"IFERROR(VLOOKUP(K79,$AD$7:AE81,2,FALSE),0)","v":0},null,null,0,null,null,null,null,null,null,null,null,null,null,null,null,null,null,null,null,null,"00:00:00","00:00:00",0,{"$f":"SpellNumber((AI79))","v":"No Dollars and No Cents"},3,"No "]
["00:00:00",null,null,null,null,0,null,null,0,null,null,{"$f":"IFERROR(VLOOKUP(K80,$AD$7:AE82,2,FALSE),0)","v":0},null,null,0,null,null,null,null,null,null,null,null,null,null,null,null,null,null,null,null,null,"00:00:00","00:00:00",0,{"$f":"SpellNumber((AI80))","v":"No Dollars and No Cents"},3,"No "]
["00:00:00",null,null,null,null,0,null,null,0,null,null,{"$f":"IFERROR(VLOOKUP(K81,$AD$7:AE83,2,FALSE),0)","v":0},null,null,0,null,null,null,null,null,null,null,null,null,null,null,null,null,null,null,null,null,"00:00:00","00:00:00",0,{"$f":"SpellNumber((AI81))","v":"No Dollars and No Cents"},3,"No "]
["00:00:00",null,null,null,null,0,null,null,0,null,null,{"$f":"IFERROR(VLOOKUP(K82,$AD$7:AE84,2,FALSE),0)","v":0},null,null,0,null,null,null,null,null,null,null,null,null,null,null,null,null,null,null,null,null,"00:00:00","00:00:00",0,{"$f":"SpellNumber((AI82))","v":"No Dollars and No Cents"},3,"No "]
["00:00:00",null,null,null,null,0,null,null,0,null,null,{"$f":"IFERROR(VLOOKUP(K83,$AD$7:AE85,2,FALSE),0)","v":0},null,null,0,null,null,null,null,null,null,null,null,null,null,null,null,null,null,null,null,null,"00:00:00","00:00:00",0,{"$f":"SpellNumber((AI83))","v":"No Dollars and No Cents"},3,"No "]
["00:00:00",null,null,null,null,0,null,null,0,null,null,{"$f":"IFERROR(VLOOKUP(K84,$AD$7:AE86,2,FALSE),0)","v":0},null,null,0,null,null,null,null,null,null,null,null,null,null,null,null,null,null,null,null,null,"00:00:00","00:00:00",0,{"$f":"SpellNumber((AI84))","v":"No Dollars and No Cents"},3,"No "]
["00:00:00",null,null,null,null,0,null,null,0,null,null,{"$f":"IFERROR(VLOOKUP(K85,$AD$7:AE87,2,FALSE),0)","v":0},null,null,0,null,null,null,null,null,null,null,null,null,null,null,null,null,null,null,null,null,"00:00:00","00:00:00",0,{"$f":"SpellNumber((AI85))","v":"No Dollars and No Cents"},3,"No "]
["00:00:00",null,null,null,null,0,null,null,0,null,null,{"$f":"IFERROR(VLOOKUP(K86,$AD$7:AE88,2,FALSE),0)","v":0},null,null,0,null,null,null,null,null,null,null,null,null,null,null,null,null,null,null,null,null,"00:00:00","00:00:00",0,{"$f":"SpellNumber((AI86))","v":"No Dollars and No Cents"},3,"No "]
["00:00:00",null,null,null,null,0,null,null,0,null,null,{"$f":"IFERROR(VLOOKUP(K87,$AD$7:AE89,2,FALSE),0)","v":0},null,null,0,null,null,null,null,null,null,null,null,null,null,null,null,null,null,null,null,null,"00:00:00","00:00:00",0,{"$f":"SpellNumber((AI87))","v":"No Dollars and No Cents"},3,"No "]
["00:00:00",null,null,null,null,0,null,null,0,null,null,{"$f":"IFERROR(VLOOKUP(K88,$AD$7:AE90,2,FALSE),0)","v":0},null,null,0,null,null,null,null,null,null,null,null,null,null,null,null,null,null,null,null,null,"00:00:00","00:00:00",0,{"$f":"SpellNumber((AI88))","v":"No Dollars and No Cents"},3,"No "]
["00:00:00",null,null,null,null,0,null,null,0,null,null,{"$f":"IFERROR(VLOOKUP(K89,$AD$7:AE91,2,FALSE),0)","v":0},null,null,0,null,null,null,null,null,null,null,null,null,null,null,null,null,null,null,null,null,"00:00:00","00:00:00",0,{"$f":"SpellNumber((AI89))","v":"No Dollars and No Cents"},3,"No "]
["00:00:00",null,null,null,null,0,null,null,0,null,null,{"$f":"IFERROR(VLOOKUP(K90,$AD$7:AE92,2,FALSE),0)","v":0},null,null,0,null,null,null,null,null,null,null,null,null,null,null,null,null,null,null,null,null,"00:00:00","00:00:00",0,{"$f":"SpellNumber((AI90))","v":"No Dollars and No Cents"},3,"No "]
["00:00:00",null,null,null,null,0,null,null,0,null,null,{"$f":"IFERROR(VLOOKUP(K91,$AD$7:AE93,2,FALSE),0)","v":0},null,null,0,null,null,null,"Total Mins",{"$f":"SUM(A7:A104)","v":"00:00:00"},null,null,null,null,null,null,null,null,null,null,null,null,"00:00:00","00:00:00",0,{"$f":"SpellNumber((AI91))","v":"No Dollars and No Cents"},3,"No "]
["00:00:00",null,null,null,null,0,null,null,0,null,null,{"$f":"IFERROR(VLOOKUP(K92,$AD$7:AE94,2,FALSE),0)","v":0},null,null,0,null,null,null,"Settings:","A",{"$f":"COUNTIF(E4:E104,\"A\")","v":0},"Antec.","A",{"$f":"COUNTIF(H4:H104,\"A\")","v":0},"Beh","A",{"$f":"COUNTIF(L4:L104,\"A\")","v":0},"Conse.","A",{"$f":"COUNTIF(O4:O104,\"A\")","v":0},null,null,"00:00:00","00:00:00",0,{"$f":"SpellNumber((AI92))","v":"No Dollars and No Cents"},3,"No "]
["00:00:00",null,null,null,null,0,null,null,0,null,null,{"$f":"IFERROR(VLOOKUP(K93,$AD$7:AE95,2,FALSE),0)","v":0},null,null,0,null,null,null,null,"B",{"$f":"COUNTIF(E5:E105,\"B\")","v":0},null,"B",{"$f":"COUNTIF(H5:H105,\"B\")","v":0},null,"B",{"$f":"COUNTIF(L5:L105,\"B\")","v":0},null,"B",{"$f":"COUNTIF(O5:O105,\"B\")","v":0},null,null,"00:00:00","00:00:00",0,{"$f":"SpellNumber((AI93))","v":"No Dollars and No Cents"},3,"No "]
["00:00:00",null,null,null,null,0,null,null,0,null,null,{"$f":"IFERROR(VLOOKUP(K94,$AD$7:AE96,2,FALSE),0)","v":0},null,null,0,null,null,null,null,"C",{"$f":"COUNTIF(E6:E106,\"C\")","v":0},null,"C",{"$f":"COUNTIF(H6:H106,\"C\")","v":0},null,"C",{"$f":"COUNTIF(L6:L106,\"C\")","v":0},null,"C",{"$f":"COUNTIF(O6:O106,\"C\")","v":0},null,null,"00:00:00","00:00:00",0,{"$f":"SpellNumber((AI94))","v":"No Dollars and No Cents"},3,"No "]
["00:00:00",null,null,null,null,0,null,null,0,null,null,{"$f":"IFERROR(VLOOKUP(K95,$AD$7:AE97,2,FALSE),0)","v":0},null,null,0,null,null,null,null,"D",{"$f":"COUNTIF(E7:E107,\"D\")","v":0},null,"D",{"$f":"COUNTIF(H7:H107,\"D\")","v":0},null,null,null,null,"D",{"$f":"COUNTIF(O7:O107,\"D\")","v":0},null,null,"00:00:00","00:00:00",0,{"$f":"SpellNumber((AI95))","v":"No Dollars and No Cents"},3,"No "]
["00:00:00",null,null,null,null,0,null,null,0,null,null,{"$f":"IFERROR(VLOOKUP(K96,$AD$7:AE98,2,FALSE),0)","v":0},null,null,0,null,null,null,null,"E",{"$f":"COUNTIF(E8:E108,\"E\")","v":0},null,"E",{"$f":"COUNTIF(H8:H108,\"E\")","v":0},null,null,null,null,"E",{"$f":"COUNTIF(O8:O108,\"E\")","v":0},null,null,"00:00:00","00:00:00",0,{"$f":"SpellNumber((AI96))","v":"No Dollars and No Cents"},3,"No "]
["00:00:00",null,null,null,null,0,null,null,0,null,null,{"$f":"IFERROR(VLOOKUP(K97,$AD$7:AE99,2,FALSE),0)","v":0},null,null,0,null,null,null,null,"F",{"$f":"COUNTIF(E9:E109,\"F\")","v":0},null,"F",{"$f":"COUNTIF(H9:H109,\"F\")","v":0},null,null,null,null,"F",{"$f":"COUNTIF(O9:O109,\"F\")","v":0},null,null,"00:00:00","00:00:00",0,{"$f":"SpellNumber((AI97))","v":"No Dollars and No Cents"},3,"No "]
["00:00:00",null,null,null,null,0,null,null,0,null,null,{"$f":"IFERROR(VLOOKUP(K98,$AD$7:AE100,2,FALSE),0)","v":0},null,null,0,null,null,null,null,"G",{"$f":"COUNTIF(E10:E110,\"G\")","v":0},null,"G",{"$f":"COUNTIF(H10:H110,\"G\")","v":0},null,null,null,null,"G",{"$f":"COUNTIF(O10:O110,\"G\")","v":0},null,null,"00:00:00","00:00:00",0,{"$f":"SpellNumber((AI98))","v":"No Dollars and No Cents"},3,"No "]
["00:00:00",null,null,null,null,0,null,null,0,null,null,{"$f":"IFERROR(VLOOKUP(K99,$AD$7:AE101,2,FALSE),0)","v":0},null,null,0,null,null,null,null,"H",{"$f":"COUNTIF(E11:E111,\"H\")","v":0},null,"H",{"$f":"COUNTIF(H11:H111,\"H\")","v":0},null,null,null,null,"H",{"$f":"COUNTIF(O11:O111,\"H\")","v":0},null,null,"00:00:00","00:00:00",0,{"$f":"SpellNumber((AI99))","v":"No Dollars and No Cents"},3,"No "]
["00:00:00",null,null,null,null,0,null,null,0,null,null,{"$f":"IFERROR(VLOOKUP(K100,$AD$7:AE102,2,FALSE),0)","v":0},null,null,0,null,null,null,null,"I",{"$f":"COUNTIF(E12:E112,\"I\")","v":0},null,"I",{"$f":"COUNTIF(H12:H112,\"I\")","v":0},null,null,null,null,"I",{"$f":"COUNTIF(O12:O112,\"I\")","v":0},null,null,"00:00:00","00:00:00",0,{"$f":"SpellNumber((AI100))","v":"No Dollars and No Cents"},3,"No "]
["00:00:00",null,null,null,null,0,null,null,0,null,null,{"$f":"IFERROR(VLOOKUP(K101,$AD$7:AE103,2,FALSE),0)","v":0},null,null,0,null,null,null,null,"J",{"$f":"COUNTIF(E13:E113,\"J\")","v":0},null,"J",{"$f":"COUNTIF(H13:H113,\"J\")","v":0},null,null,null,null,"J",{"$f":"COUNTIF(O13:O113,\"J\")","v":0},null,null,"00:00:00","00:00:00",0,{"$f":"SpellNumber((AI101))","v":"No Dollars and No Cents"},3,"No "]
["00:00:00",null,null,null,null,0,null,null,0,null,null,{"$f":"IFERROR(VLOOKUP(K102,$AD$7:AE104,2,FALSE),0)","v":0},null,null,0,null,null,null,null,"K",{"$f":"COUNTIF(E14:E114,\"K\")","v":0},null,"K",{"$f":"COUNTIF(H14:H114,\"K\")","v":0},null,null,null,null,"K",{"$f":"COUNTIF(O14:O114,\"K\")","v":0},null,null,"00:00:00","00:00:00",0,{"$f":"SpellNumber((AI102))","v":"No Dollars and No Cents"},3,"No "]
["00:00:00",null,null,null,null,0,null,null,0,null,null,{"$f":"IFERROR(VLOOKUP(K103,$AD$7:AE105,2,FALSE),0)","v":0},null,null,0,null,null,null,null,"L",{"$f":"COUNTIF(E15:E115,\"L\")","v":0},null,"L",{"$f":"COUNTIF(H15:H115,\"L\")","v":0},null,null,null,null,"L",{"$f":"COUNTIF(O15:O115,\"L\")","v":0},null,null,"00:00:00","00:00:00",0,{"$f":"SpellNumber((AI103))","v":"No Dollars and No Cents"},3,"No "]
["00:00:00",null,null,null,null,0,null,null,0,null,null,{"$f":"IFERROR(VLOOKUP(K104,$AD$7:AE106,2,FALSE),0)","v":0},null,null,0,null,null,null,null,null,null,null,null,null,null,null,null,null,null,null,null,null,"00:00:00","00:00:00",0,{"$f":"SpellNumber((AI104))","v":"No Dollars and No Cents"},3,"No "]

{"sheet":"Data 8","index":16,"n_rows":104,"n_cols":38,"rows_kept":104,"cut":false,"hidden":false,"merged":[[0,7,3,14]]}
["ATTENDANCE",null,null,null,null,null,null,"Data Collection"]
["If tardy, arrival time",null,null,null,null,null,null,null,null,null,null,null,null,null,null,null,null,null,null,null,null,null,"Date",{"$f":"Calendar!C6","v":{"$error":"#N/A"}},{"$f":"TEXT(X2,\"ddd\")","v":{"$error":"#N/A"}}]
["If left early, time",null,null,null,null,null,null,null,null,null,null,null,null,null,null,null,null,null,null,null,null,null,"Frq. Of bx",{"$f":"AA22","v":0}]
[]
[]
["Mins.","Start Time","End Time",null,null,null,null,null,null,null,null,null,null,null,null,null,null,null,null,null,null,null,"Setting",null,null,"Ant",null,null,null,"Beh",null,null,"Raw Data","Time in text","Decimal"]
[{"$f":"C7-B7","v":"00:00:00"},null,null,null,null,{"$f":"IFERROR(VLOOKUP(E7,$V$7:$W$18,2,FALSE),0)","v":0},null,null,{"$f":"IFERROR(VLOOKUP(H7,$Z$7:$AA$18,2,FALSE),0)","v":0},null,null,{"$f":"IFERROR(VLOOKUP(K7,$AD$7:AE9,2,FALSE),0)","v":0},null,null,{"$f":"IFERROR(VLOOKUP(N7,$V$22:$W$33,2,FALSE),0)","v":0},null,null,null,null,null,null,"A",{"$f":"Criteria!C4","v":"Transition"},null,null,"A",{"$f":"Criteria!E4","v":"Transition"},null,null,"A",{"$f":"Criteria!G4","v":0},null,{"$f":"B7","v":"00:00:00"},{"$f":"TEXT(AG7,\"hh:mm:ss\")","v":"00:00:00"},{"$f":"AG7*24","v":0},{"$f":"SpellNumber((AI7))","v":"No Dollars and No Cents"},{"$f":"FIND(\" Dollar\",AJ7)","v":3},{"$f":"LEFT(AJ7,AK7)","v":"No "}]
[{"$f":"C8-B8","v":"00:00:00"},null,null,null,null,{"$f":"IFERROR(VLOOKUP(E8,$V$7:$W$18,2,FALSE),0)","v":0},null,null,{"$f":"IFERROR(VLOOKUP(H8,$Z$7:$AA$18,2,FALSE),0)","v":0},null,null,{"$f":"IFERROR(VLOOKUP(K8,$AD$7:AE10,2,FALSE),0)","v":0},null,null,{"$f":"IFERROR(VLOOKUP(N8,$V$22:$W$33,2,FALSE),0)","v":0},null,null,null,null,null,null,"B",{"$f":"Criteria!C5","v":"Morning Routine"},null,null,"B",{"$f":"Criteria!E5","v":"Denied access ('No')"},null,null,"B",{"$f":"Criteria!G5","v":0},null,{"$f":"B8","v":"00:00:00"},{"$f":"TEXT(AG8,\"hh:mm:ss\")","v":"00:00:00"},{"$f":"AG8*24","v":0},{"$f":"SpellNumber((AI8))","v":"No Dollars and No Cents"},{"$f":"FIND(\" Dollar\",AJ8)","v":3},{"$f":"LEFT(AJ8,AK8)","v":"No "}]
["00:00:00",null,null,null,null,{"$f":"IFERROR(VLOOKUP(E9,$V$7:$W$18,2,FALSE),0)","v":0},null,null,0,null,null,{"$f":"IFERROR(VLOOKUP(K9,$AD$7:AE11,2,FALSE),0)","v":0},null,null,0,null,null,null,null,null,null,"C",{"$f":"Criteria!C6","v":"Group Work"},null,null,"C",{"$f":"Criteria!E6","v":"Instruction/ Directions"},null,null,"C",{"$f":"Criteria!G6","v":0},null,"00:00:00","00:00:00",0,{"$f":"SpellNumber((AI9))","v":"No Dollars and No Cents"},3,"No "]
["00:00:00",null,null,null,null,0,null,null,0,null,null,{"$f":"IFERROR(VLOOKUP(K10,$AD$7:AE12,2,FALSE),0)","v":0},null,null,0,null,null,null,null,null,null,"D",{"$f":"Criteria!C7","v":"Ind. Seat/Work Time"},null,null,"D",{"$f":"Criteria!E7","v":"New Task"},null,null,null,null,null,"00:00:00","00:00:00",0,{"$f":"SpellNumber((AI10))","v":"No Dollars and No Cents"},3,"No "]
["00:00:00",null,null,null,null,0,null,null,0,null,null,{"$f":"IFERROR(VLOOKUP(K11,$AD$7:AE13,2,FALSE),0)","v":0},null,null,0,null,null,null,null,null,null,"E",{"$f":"Criteria!C8","v":"Language Arts"},null,null,"E",{"$f":"Criteria!E8","v":"Tcher attn to other"},null,null,null,null,null,"00:00:00","00:00:00",0,{"$f":"SpellNumber((AI11))","v":"No Dollars and No Cents"},3,"No "]
["00:00:00",null,null,null,null,0,null,null,0,null,null,{"$f":"IFERROR(VLOOKUP(K12,$AD$7:AE14,2,FALSE),0)","v":0},null,null,0,null,null,null,null,null,null,"F",{"$f":"Criteria!C9","v":"Mathematics"},null,null,"F",{"$f":"Criteria!E9","v":"Choice given"},null,null,null,null,null,"00:00:00","00:00:00",0,{"$f":"SpellNumber((AI12))","v":"No Dollars and No Cents"},3,"No "]
["00:00:00",null,null,null,null,0,null,null,0,null,null,{"$f":"IFERROR(VLOOKUP(K13,$AD$7:AE15,2,FALSE),0)","v":0},null,null,0,null,null,null,null,null,null,"G",{"$f":"Criteria!C10","v":"Physical Education"},null,null,"G",{"$f":"Criteria!E10","v":"Redirection"},null,null,null,null,null,"00:00:00","00:00:00",0,{"$f":"SpellNumber((AI13))","v":"No Dollars and No Cents"},3,"No "]
["00:00:00",null,null,null,null,0,null,null,0,null,null,{"$f":"IFERROR(VLOOKUP(K14,$AD$7:AE16,2,FALSE),0)","v":0},null,null,0,null,null,null,null,null,null,"H",{"$f":"Criteria!C11","v":"Music/Art"},null,null,"H",{"$f":"Criteria!E11","v":"Routine Task"},null,null,null,null,null,"00:00:00","00:00:00",0,{"$f":"SpellNumber((AI14))","v":"No Dollars and No Cents"},3,"No "]
["00:00:00",null,null,null,null,0,null,null,0,null,null,{"$f":"IFERROR(VLOOKUP(K15,$AD$7:AE17,2,FALSE),0)","v":0},null,null,0,null,null,null,null,null,null,"I",{"$f":"Criteria!C12","v":"Speech"},null,null,"I",{"$f":"Criteria!E12","v":"Waiting"},null,null,null,null,null,"00:00:00","00:00:00",0,{"$f":"SpellNumber((AI15))","v":"No Dollars and No Cents"},3,"No "]
["00:00:00",null,null,null,null,0,null,null,0,null,null,{"$f":"IFERROR(VLOOKUP(K16,$AD$7:AE18,2,FALSE),0)","v":0},null,null,0,null,null,null,null,null,null,"J",{"$f":"Criteria!C13","v":"OT/PT"},null,null,"J",{"$f":"Criteria!E13","v":"Unknown"},null,null,null,null,null,"00:00:00","00:00:00",0,{"$f":"SpellNumber((AI16))","v":"No Dollars and No Cents"},3,"No "]
["00:00:00",null,null,null,null,0,null,null,0,null,null,{"$f":"IFERROR(VLOOKUP(K17,$AD$7:AE19,2,FALSE),0)","v":0},null,null,0,null,null,null,null,null,null,"K",{"$f":"Criteria!C14","v":"Center"},null,null,"K",{"$f":"Criteria!E14","v":"Ignored"},null,null,null,null,null,"00:00:00","00:00:00",0,{"$f":"SpellNumber((AI17))","v":"No Dollars and No Cents"},3,"No "]
["00:00:00",null,null,null,null,0,null,null,0,null,null,{"$f":"IFERROR(VLOOKUP(K18,$AD$7:AE20,2,FALSE),0)","v":0},null,null,0,null,null,null,null,null,null,"L",{"$f":"Criteria!C15","v":"Other"},null,null,"L",{"$f":"Criteria!E15","v":"Other"},null,null,null,null,null,"00:00:00","00:00:00",0,{"$f":"SpellNumber((AI18))","v":"No Dollars and No Cents"},3,"No "]
["00:00:00",null,null,null,null,0,null,null,0,null,null,{"$f":"IFERROR(VLOOKUP(K19,$AD$7:AE21,2,FALSE),0)","v":0},null,null,0,null,null,null,null,null,null,null,null,null,null,null,null,null,null,null,null,null,"00:00:00","00:00:00",0,{"$f":"SpellNumber((AI19))","v":"No Dollars and No Cents"},3,"No "]
["00:00:00",null,null,null,null,0,null,null,0,null,null,{"$f":"IFERROR(VLOOKUP(K20,$AD$7:AE22,2,FALSE),0)","v":0},null,null,0,null,null,null,null,null,null,null,null,null,null,null,null,null,null,null,null,null,"00:00:00","00:00:00",0,{"$f":"SpellNumber((AI20))","v":"No Dollars and No Cents"},3,"No "]
["00:00:00",null,null,null,null,0,null,null,0,null,null,{"$f":"IFERROR(VLOOKUP(K21,$AD$7:AE23,2,FALSE),0)","v":0},null,null,0,null,null,null,null,null,null,null,"Con",null,"Bx Frequency Per Day",null,null,null,null,null,null,null,"00:00:00","00:00:00",0,{"$f":"SpellNumber((AI21))","v":"No Dollars and No Cents"},3,"No "]
["00:00:00",null,null,null,null,0,null,null,0,null,null,{"$f":"IFERROR(VLOOKUP(K22,$AD$7:AE24,2,FALSE),0)","v":0},null,null,0,null,null,null,null,null,null,"A",{"$f":"Criteria!I4","v":"Choice Given"},"A",{"$f":"COUNTIF(K7:K104,\"A\")","v":0},null,{"$f":"SUM(Y22:Y24)","v":0},null,"Bin Dec","Frequency of Time",null,null,"00:00:00","00:00:00",0,{"$f":"SpellNumber((AI22))","v":"No Dollars and No Cents"},3,"No "]
["00:00:00",null,null,null,null,0,null,null,0,null,null,{"$f":"IFERROR(VLOOKUP(K23,$AD$7:AE25,2,FALSE),0)","v":0},null,null,0,null,null,null,null,null,null,"B",{"$f":"Criteria!I5","v":"Ignored"},"B",{"$f":"COUNTIF(K7:K104,\"B\")","v":0},null,null,null,"Seven",{"$f":"COUNTIF(AL7:AL104,\"*Seven*\")","v":0},null,null,"00:00:00","00:00:00",0,{"$f":"SpellNumber((AI23))","v":"No Dollars and No Cents"},3,"No "]
["00:00:00",null,null,null,null,0,null,null,0,null,null,{"$f":"IFERROR(VLOOKUP(K24,$AD$7:AE26,2,FALSE),0)","v":0},null,null,0,null,null,null,null,null,null,"C",{"$f":"Criteria!I6","v":"Redirection"},"C",{"$f":"COUNTIF(K7:K104,\"C\")","v":0},null,null,null,"Eight",{"$f":"COUNTIF(AL7:AL104,\"*Eight*\")","v":0},null,null,"00:00:00","00:00:00",0,{"$f":"SpellNumber((AI24))","v":"No Dollars and No Cents"},3,"No "]
["00:00:00",null,null,null,null,0,null,null,0,null,null,{"$f":"IFERROR(VLOOKUP(K25,$AD$7:AE27,2,FALSE),0)","v":0},null,null,0,null,null,null,null,null,null,"D",{"$f":"Criteria!I7","v":"Kept the demand"},null,"Bx Druation Per Day",null,null,null,"Nine",{"$f":"COUNTIF(AL7:AL104,\"*Nine*\")","v":0},null,null,"00:00:00","00:00:00",0,{"$f":"SpellNumber((AI25))","v":"No Dollars and No Cents"},3,"No "]
["00:00:00",null,null,null,null,0,null,null,0,null,null,{"$f":"IFERROR(VLOOKUP(K26,$AD$7:AE28,2,FALSE),0)","v":0},null,null,0,null,null,null,null,null,null,"E",{"$f":"Criteria!I8","v":"Changed activity"},"A",{"$f":"SUMIF(K7:K104,\"A\",A7:A104)","v":"00:00:00"},null,null,null,"Ten",{"$f":"COUNTIF(AL7:AL12,\"*Ten*\")","v":0},null,null,"00:00:00","00:00:00",0,{"$f":"SpellNumber((AI26))","v":"No Dollars and No Cents"},3,"No "]
["00:00:00",null,null,null,null,0,null,null,0,null,null,{"$f":"IFERROR(VLOOKUP(K27,$AD$7:AE29,2,FALSE),0)","v":0},null,null,0,null,null,null,null,null,null,"F",{"$f":"Criteria!I9","v":"Verbal reprimand"},"B",{"$f":"SUMIF(K7:K104,\"B\",A7:A104)","v":"00:00:00"},null,null,null,"Eleven",{"$f":"COUNTIF(AL7:AL104,\"*Eleven*\")","v":0},null,null,"00:00:00","00:00:00",0,{"$f":"SpellNumber((AI27))","v":"No Dollars and No Cents"},3,"No "]
["00:00:00",null,null,null,null,0,null,null,0,null,null,{"$f":"IFERROR(VLOOKUP(K28,$AD$7:AE30,2,FALSE),0)","v":0},null,null,0,null,null,null,null,null,null,"G",{"$f":"Criteria!I10","v":"Told to wait"},"C",{"$f":"SUMIF(K7:K104,\"C\",A7:A104)","v":"00:00:00"},null,null,null,"Twelve",{"$f":"COUNTIF(AL7:AL104,\"*Twelve*\")","v":0},null,null,"00:00:00","00:00:00",0,{"$f":"SpellNumber((AI28))","v":"No Dollars and No Cents"},3,"No "]
["00:00:00",null,null,null,null,0,null,null,0,null,null,{"$f":"IFERROR(VLOOKUP(K29,$AD$7:AE31,2,FALSE),0)","v":0},null,null,0,null,null,null,null,null,null,"H",{"$f":"Criteria!I11","v":"Physical Prompt"},null,null,null,null,null,"One",{"$f":"COUNTIF(AL7:AL104,\"*One*\")","v":0},null,null,"00:00:00","00:00:00",0,{"$f":"SpellNumber((AI29))","v":"No Dollars and No Cents"},3,"No "]
["00:00:00",null,null,null,null,0,null,null,0,null,null,{"$f":"IFERROR(VLOOKUP(K30,$AD$7:AE32,2,FALSE),0)","v":0},null,null,0,null,null,null,null,null,null,"I",{"$f":"Criteria!I12","v":"Verbal prompt"},null,null,null,null,null,"Two",{"$f":"COUNTIF(AL7:AL104,\"*Two*\")","v":0},null,null,"00:00:00","00:00:00",0,{"$f":"SpellNumber((AI30))","v":"No Dollars and No Cents"},3,"No "]
["00:00:00",null,null,null,null,0,null,null,0,null,null,{"$f":"IFERROR(VLOOKUP(K31,$AD$7:AE33,2,FALSE),0)","v":0},null,null,0,null,null,null,null,null,null,"J",{"$f":"Criteria!I13","v":"Told to wait"},null,null,null,null,null,"Three",{"$f":"COUNTIF(AL7:AL104,\"*Three*\")","v":0},null,null,"00:00:00","00:00:00",0,{"$f":"SpellNumber((AI31))","v":"No Dollars and No Cents"},3,"No "]
["00:00:00",null,null,null,null,0,null,null,0,null,null,{"$f":"IFERROR(VLOOKUP(K32,$AD$7:AE34,2,FALSE),0)","v":0},null,null,0,null,null,null,null,null,null,"K",{"$f":"Criteria!I14","v":"Unknown"},null,null,null,null,null,"Four",{"$f":"COUNTIF(AL7:AL104,\"*Four*\")","v":0},null,null,"00:00:00","00:00:00",0,{"$f":"SpellNumber((AI32))","v":"No Dollars and No Cents"},3,"No "]
["00:00:00",null,null,null,null,0,null,null,0,null,null,{"$f":"IFERROR(VLOOKUP(K33,$AD$7:AE35,2,FALSE),0)","v":0},null,null,0,null,null,null,null,null,null,"L",{"$f":"Criteria!I15","v":"Other"},null,null,null,null,null,null,null,null,null,"00:00:00","00:00:00",0,{"$f":"SpellNumber((AI33))","v":"No Dollars and No Cents"},3,"No "]
["00:00:00",null,null,null,null,0,null,null,0,null,null,{"$f":"IFERROR(VLOOKUP(K34,$AD$7:AE36,2,FALSE),0)","v":0},null,null,0,null,null,null,null,null,null,null,null,null,null,null,null,null,null,null,null,null,"00:00:00","00:00:00",0,{"$f":"SpellNumber((AI34))","v":"No Dollars and No Cents"},3,"No "]
["00:00:00",null,null,null,null,0,null,null,0,null,null,{"$f":"IFERROR(VLOOKUP(K35,$AD$7:AE37,2,FALSE),0)","v":0},null,null,0,null,null,null,null,null,null,null,"Context Frequency","Consequence","Antedencents",null,null,null,null,null,null,null,"00:00:00","00:00:00",0,{"$f":"SpellNumber((AI35))","v":"No Dollars and No Cents"},3,"No "]
["00:00:00",null,null,null,null,0,null,null,0,null,null,{"$f":"IFERROR(VLOOKUP(K36,$AD$7:AE38,2,FALSE),0)","v":0},null,null,0,null,null,null,null,null,null,"A",{"$f":"COUNTIF(E7:E104,\"A\")","v":0},{"$f":"COUNTIF(N7:N104,\"A\")","v":0},{"$f":"COUNTIF(H7:H104,\"A\")","v":0},null,null,null,null,null,null,null,"00:00:00","00:00:00",0,{"$f":"SpellNumber((AI36))","v":"No Dollars and No Cents"},3,"No "]
["00:00:00",null,null,null,null,0,null,null,0,null,null,{"$f":"IFERROR(VLOOKUP(K37,$AD$7:AE39,2,FALSE),0)","v":0},null,null,0,null,null,null,null,null,null,"B",{"$f":"COUNTIF(E8:E105,\"B\")","v":0},{"$f":"COUNTIF(N7:N104,\"B\")","v":0},{"$f":"COUNTIF(H7:H104,\"B\")","v":0},null,null,null,null,null,null,null,"00:00:00","00:00:00",0,{"$f":"SpellNumber((AI37))","v":"No Dollars and No Cents"},3,"No "]
["00:00:00",null,null,null,null,0,null,null,0,null,null,{"$f":"IFERROR(VLOOKUP(K38,$AD$7:AE40,2,FALSE),0)","v":0},null,null,0,null,null,null,null,null,null,"C",{"$f":"COUNTIF(E8:E105,\"C\")","v":0},{"$f":"COUNTIF(N7:N104,\"C\")","v":0},{"$f":"COUNTIF(H7:H104,\"C\")","v":0},null,null,null,null,null,null,null,"00:00:00","00:00:00",0,{"$f":"SpellNumber((AI38))","v":"No Dollars and No Cents"},3,"No "]
["00:00:00",null,null,null,null,0,null,null,0,null,null,{"$f":"IFERROR(VLOOKUP(K39,$AD$7:AE41,2,FALSE),0)","v":0},null,null,0,null,null,null,null,null,null,"D",{"$f":"COUNTIF(E8:E105,\"D\")","v":0},{"$f":"COUNTIF(N7:N104,\"D\")","v":0},{"$f":"COUNTIF(H7:H104,\"D\")","v":0},null,null,null,null,null,null,null,"00:00:00","00:00:00",0,{"$f":"SpellNumber((AI39))","v":"No Dollars and No Cents"},3,"No "]
["00:00:00",null,null,null,null,0,null,null,0,null,null,{"$f":"IFERROR(VLOOKUP(K40,$AD$7:AE42,2,FALSE),0)","v":0},null,null,0,null,null,null,null,null,null,"E",{"$f":"COUNTIF(E8:E105,\"E\")","v":0},{"$f":"COUNTIF(N7:N104,\"E\")","v":0},{"$f":"COUNTIF(H7:H104,\"E\")","v":0},null,null,null,null,null,null,null,"00:00:00","00:00:00",0,{"$f":"SpellNumber((AI40))","v":"No Dollars and No Cents"},3,"No "]
["00:00:00",null,null,null,null,0,null,null,0,null,null,{"$f":"IFERROR(VLOOKUP(K41,$AD$7:AE43,2,FALSE),0)","v":0},null,null,0,null,null,null,null,null,null,"F",{"$f":"COUNTIF(E8:E105,\"F\")","v":0},{"$f":"COUNTIF(N7:N104,\"F\")","v":0},{"$f":"COUNTIF(H7:H104,\"F\")","v":0},null,null,null,null,null,null,null,"00:00:00","00:00:00",0,{"$f":"SpellNumber((AI41))","v":"No Dollars and No Cents"},3,"No "]
["00:00:00",null,null,null,null,0,null,null,0,null,null,{"$f":"IFERROR(VLOOKUP(K42,$AD$7:AE44,2,FALSE),0)","v":0},null,null,0,null,null,null,null,null,null,"G",{"$f":"COUNTIF(E8:E105,\"G\")","v":0},{"$f":"COUNTIF(N7:N104,\"G\")","v":0},{"$f":"COUNTIF(H7:H104,\"G\")","v":0},null,null,null,null,null,null,null,"00:00:00","00:00:00",0,{"$f":"SpellNumber((AI42))","v":"No Dollars and No Cents"},3,"No "]
["00:00:00",null,null,null,null,0,null,null,0,null,null,{"$f":"IFERROR(VLOOKUP(K43,$AD$7:AE45,2,FALSE),0)","v":0},null,null,0,null,null,null,null,null,null,"H",{"$f":"COUNTIF(E8:E105,\"H\")","v":0},{"$f":"COUNTIF(N7:N104,\"H\")","v":0},{"$f":"COUNTIF(H7:H104,\"H\")","v":0},null,null,null,null,null,null,null,"00:00:00","00:00:00",0,{"$f":"SpellNumber((AI43))","v":"No Dollars and No Cents"},3,"No "]
["00:00:00",null,null,null,null,0,null,null,0,null,null,{"$f":"IFERROR(VLOOKUP(K44,$AD$7:AE46,2,FALSE),0)","v":0},null,null,0,null,null,null,null,null,null,"I",{"$f":"COUNTIF(E8:E105,\"I\")","v":0},{"$f":"COUNTIF(N7:N104,\"I\")","v":0},{"$f":"COUNTIF(H7:H104,\"I\")","v":0},null,null,null,null,null,null,null,"00:00:00","00:00:00",0,{"$f":"SpellNumber((AI44))","v":"No Dollars and No Cents"},3,"No "]
["00:00:00",null,null,null,null,0,null,null,0,null,null,{"$f":"IFERROR(VLOOKUP(K45,$AD$7:AE47,2,FALSE),0)","v":0},null,null,0,null,null,null,null,null,null,"J",{"$f":"COUNTIF(E8:E105,\"J\")","v":0},{"$f":"COUNTIF(N7:N104,\"J\")","v":0},{"$f":"COUNTIF(H7:H104,\"J\")","v":0},null,null,null,null,null,null,null,"00:00:00","00:00:00",0,{"$f":"SpellNumber((AI45))","v":"No Dollars and No Cents"},3,"No "]
["00:00:00",null,null,null,null,0,null,null,0,null,null,{"$f":"IFERROR(VLOOKUP(K46,$AD$7:AE48,2,FALSE),0)","v":0},null,null,0,null,null,null,null,null,null,"K",{"$f":"COUNTIF(E8:E105,\"K\")","v":0},{"$f":"COUNTIF(N7:N104,\"K\")","v":0},{"$f":"COUNTIF(H7:H104,\"K\")","v":0},null,null,null,null,null,null,null,"00:00:00","00:00:00",0,{"$f":"SpellNumber((AI46))","v":"No Dollars and No Cents"},3,"No "]
["00:00:00",null,null,null,null,0,null,null,0,null,null,{"$f":"IFERROR(VLOOKUP(K47,$AD$7:AE49,2,FALSE),0)","v":0},null,null,0,null,null,null,null,null,null,"L",{"$f":"COUNTIF(E8:E105,\"l\")","v":0},{"$f":"COUNTIF(N7:N104,\"L\")","v":0},{"$f":"COUNTIF(H7:H104,\"L\")","v":0},null,null,null,null,null,null,null,"00:00:00","00:00:00",0,{"$f":"SpellNumber((AI47))","v":"No Dollars and No Cents"},3,"No "]
["00:00:00",null,null,null,null,0,null,null,0,null,null,{"$f":"IFERROR(VLOOKUP(K48,$AD$7:AE50,2,FALSE),0)","v":0},null,null,0,null,null,null,null,null,null,null,null,null,null,null,null,null,null,null,null,null,"00:00:00","00:00:00",0,{"$f":"SpellNumber((AI48))","v":"No Dollars and No Cents"},3,"No "]
["00:00:00",null,null,null,null,0,null,null,0,null,null,{"$f":"IFERROR(VLOOKUP(K49,$AD$7:AE51,2,FALSE),0)","v":0},null,null,0,null,null,null,null,null,null,null,"Beh & Setting ",null,null,null,"Beh & Antecedents",null,null,null,null,null,"00:00:00","00:00:00",0,{"$f":"SpellNumber((AI49))","v":"No Dollars and No Cents"},3,"No "]
["00:00:00",null,null,null,null,0,null,null,0,null,null,{"$f":"IFERROR(VLOOKUP(K50,$AD$7:AE52,2,FALSE),0)","v":0},null,null,0,null,null,null,null,null,null,null,"A","B","C",null,null,"A","B","C",null,null,"00:00:00","00:00:00",0,{"$f":"SpellNumber((AI50))","v":"No Dollars and No Cents"},3,"No "]
["00:00:00",null,null,null,null,0,null,null,0,null,null,{"$f":"IFERROR(VLOOKUP(K51,$AD$7:AE53,2,FALSE),0)","v":0},null,null,0,null,null,null,null,null,null,"A",{"$f":"COUNTIFS(E7:E104,\"A\",K7:K104,\"A\")","v":0},{"$f":"COUNTIFS(E7:E104,\"A\",K7:K104,\"B\")","v":0},{"$f":"COUNTIFS(E7:E104,\"A\",K7:K104,\"C\")","v":0},null,"A",{"$f":"COUNTIFS(H7:H104,\"a\",K7:K104,\"A\")","v":0},{"$f":"COUNTIFS(H7:H104,\"A\",K7:K104,\"B\")","v":0},{"$f":"COUNTIFS(H7:H104,\"A\",K7:K104,\"C\")","v":0},null,null,"00:00:00","00:00:00",0,{"$f":"SpellNumber((AI51))","v":"No Dollars and No Cents"},3,"No "]
["00:00:00",null,null,null,null,0,null,null,0,null,null,{"$f":"IFERROR(VLOOKUP(K52,$AD$7:AE54,2,FALSE),0)","v":0},null,null,0,null,null,null,null,null,null,"B",{"$f":"COUNTIFS(E7:E104,\"B\",K7:K104,\"A\")","v":0},{"$f":"COUNTIFS(E7:E104,\"B\",K7:K104,\"B\")","v":0},{"$f":"COUNTIFS(E7:E104,\"B\",K7:K104,\"C\")","v":0},null,"B",{"$f":"COUNTIFS(H7:H104,\"B\",K7:K104,\"A\")","v":0},{"$f":"COUNTIFS(H7:H104,\"B\",K7:K104,\"B\")","v":0},{"$f":"COUNTIFS(H7:H104,\"B\",K7:K104,\"C\")","v":0},null,null,"00:00:00","00:00:00",0,{"$f":"SpellNumber((AI52))","v":"No Dollars and No Cents"},3,"No "]
["00:00:00",null,null,null,null,0,null,null,0,null,null,{"$f":"IFERROR(VLOOKUP(K53,$AD$7:AE55,2,FALSE),0)","v":0},null,null,0,null,null,null,null,null,null,"C",{"$f":"COUNTIFS(K7:K104,\"C\",K7:K104,\"A\")","v":0},{"$f":"COUNTIFS(E7:E104,\"C\",K7:K104,\"B\")","v":0},{"$f":"COUNTIFS(E7:E104,\"C\",K7:K104,\"C\")","v":0},null,"C",{"$f":"COUNTIFS(H7:H104,\"C\",K7:K104,\"A\")","v":0},{"$f":"COUNTIFS(H7:H104,\"C\",K7:K104,\"B\")","v":0},{"$f":"COUNTIFS(H7:H104,\"C\",K7:K104,\"C\")","v":0},null,null,"00:00:00","00:00:00",0,{"$f":"SpellNumber((AI53))","v":"No Dollars and No Cents"},3,"No "]
["00:00:00",null,null,null,null,0,null,null,0,null,null,{"$f":"IFERROR(VLOOKUP(K54,$AD$7:AE56,2,FALSE),0)","v":0},null,null,0,null,null,null,null,null,null,"D",{"$f":"COUNTIFS(E7:E104,\"D\",K7:K104,\"A\")","v":0},{"$f":"COUNTIFS(E7:E104,\"D\",K7:K104,\"B\")","v":0},{"$f":"COUNTIFS(E7:E104,\"D\",K7:K104,\"C\")","v":0},null,"D",{"$f":"COUNTIFS(H7:H104,\"D\",K7:K104,\"A\")","v":0},{"$f":"COUNTIFS(H7:H104,\"D\",K7:K104,\"B\")","v":0},{"$f":"COUNTIFS(H7:H104,\"D\",K7:K104,\"C\")","v":0},null,null,"00:00:00","00:00:00",0,{"$f":"SpellNumber((AI54))","v":"No Dollars and No Cents"},3,"No "]
["00:00:00",null,null,null,null,0,null,null,0,null,null,{"$f":"IFERROR(VLOOKUP(K55,$AD$7:AE57,2,FALSE),0)","v":0},null,null,0,null,null,null,null,null,null,"E",{"$f":"COUNTIFS(E7:E104,\"E\",K7:K104,\"A\")","v":0},{"$f":"COUNTIFS(E7:E104,\"E\",K7:K104,\"B\")","v":0},{"$f":"COUNTIFS(E7:E104,\"E\",K7:K104,\"C\")","v":0},null,"E",{"$f":"COUNTIFS(H7:H104,\"E\",K7:K104,\"A\")","v":0},{"$f":"COUNTIFS(H7:H104,\"E\",K7:K104,\"B\")","v":0},{"$f":"COUNTIFS(H7:H104,\"E\",K7:K104,\"C\")","v":0},null,null,"00:00:00","00:00:00",0,{"$f":"SpellNumber((AI55))","v":"No Dollars and No Cents"},3,"No "]
["00:00:00",null,null,null,null,0,null,null,0,null,null,{"$f":"IFERROR(VLOOKUP(K56,$AD$7:AE58,2,FALSE),0)","v":0},null,null,0,null,null,null,null,null,null,"F",{"$f":"COUNTIFS(E7:E104,\"F\",K7:K104,\"A\")","v":0},{"$f":"COUNTIFS(E7:E104,\"F\",K7:K104,\"B\")","v":0},{"$f":"COUNTIFS(E7:E104,\"F\",K7:K104,\"C\")","v":0},null,"F",{"$f":"COUNTIFS(H7:H104,\"F\",K7:K104,\"A\")","v":0},{"$f":"COUNTIFS(H7:H104,\"F\",K7:K104,\"B\")","v":0},{"$f":"COUNTIFS(H7:H104,\"F\",K7:K104,\"C\")","v":0},null,null,"00:00:00","00:00:00",0,{"$f":"SpellNumber((AI56))","v":"No Dollars and No Cents"},3,"No "]
["00:00:00",null,null,null,null,0,null,null,0,null,null,{"$f":"IFERROR(VLOOKUP(K57,$AD$7:AE59,2,FALSE),0)","v":0},null,null,0,null,null,null,null,null,null,"G",{"$f":"COUNTIFS(E7:E104,\"G\",K7:K104,\"A\")","v":0},{"$f":"COUNTIFS(E7:E104,\"G\",K7:K104,\"B\")","v":0},{"$f":"COUNTIFS(E7:E104,\"G\",K7:K104,\"C\")","v":0},null,"G",{"$f":"COUNTIFS(H7:H104,\"G\",K7:K104,\"A\")","v":0},{"$f":"COUNTIFS(H7:H104,\"G\",K7:K104,\"B\")","v":0},{"$f":"COUNTIFS(H7:H104,\"G\",K7:K104,\"C\")","v":0},null,null,"00:00:00","00:00:00",0,{"$f":"SpellNumber((AI57))","v":"No Dollars and No Cents"},3,"No "]
["00:00:00",null,null,null,null,0,null,null,0,null,null,{"$f":"IFERROR(VLOOKUP(K58,$AD$7:AE60,2,FALSE),0)","v":0},null,null,0,null,null,null,null,null,null,"H",{"$f":"COUNTIFS(E7:E104,\"H\",K7:K104,\"A\")","v":0},{"$f":"COUNTIFS(E7:E104,\"H\",K7:K104,\"B\")","v":0},{"$f":"COUNTIFS(E7:E104,\"H\",K7:K104,\"C\")","v":0},null,"H",{"$f":"COUNTIFS(H7:H104,\"H\",K7:K104,\"A\")","v":0},{"$f":"COUNTIFS(H7:H104,\"H\",K7:K104,\"B\")","v":0},{"$f":"COUNTIFS(H7:H104,\"H\",K7:K104,\"C\")","v":0},null,null,"00:00:00","00:00:00",0,{"$f":"SpellNumber((AI58))","v":"No Dollars and No Cents"},3,"No "]
["00:00:00",null,null,null,null,0,null,null,0,null,null,{"$f":"IFERROR(VLOOKUP(K59,$AD$7:AE61,2,FALSE),0)","v":0},null,null,0,null,null,null,null,null,null,"I",{"$f":"COUNTIFS(E7:E104,\"I\",K7:K104,\"A\")","v":0},{"$f":"COUNTIFS(E7:E104,\"I\",K7:K104,\"B\")","v":0},{"$f":"COUNTIFS(E7:E104,\"I\",K7:K104,\"C\")","v":0},null,"I",{"$f":"COUNTIFS(H7:H104,\"I\",K7:K104,\"A\")","v":0},{"$f":"COUNTIFS(H7:H104,\"I\",K7:K104,\"B\")","v":0},{"$f":"COUNTIFS(H7:H104,\"I\",K7:K104,\"C\")","v":0},null,null,"00:00:00","00:00:00",0,{"$f":"SpellNumber((AI59))","v":"No Dollars and No Cents"},3,"No "]
["00:00:00",null,null,null,null,0,null,null,0,null,null,{"$f":"IFERROR(VLOOKUP(K60,$AD$7:AE62,2,FALSE),0)","v":0},null,null,0,null,null,null,null,null,null,"J",{"$f":"COUNTIFS(E7:E104,\"J\",K7:K104,\"A\")","v":0},{"$f":"COUNTIFS(E7:E104,\"J\",K7:K104,\"B\")","v":0},{"$f":"COUNTIFS(E7:E104,\"J\",K7:K104,\"C\")","v":0},null,"J",{"$f":"COUNTIFS(H7:H104,\"J\",K7:K104,\"A\")","v":0},{"$f":"COUNTIFS(H7:H104,\"J\",K7:K104,\"B\")","v":0},{"$f":"COUNTIFS(H7:H104,\"J\",K7:K104,\"C\")","v":0},null,null,"00:00:00","00:00:00",0,{"$f":"SpellNumber((AI60))","v":"No Dollars and No Cents"},3,"No "]
["00:00:00",null,null,null,null,0,null,null,0,null,null,{"$f":"IFERROR(VLOOKUP(K61,$AD$7:AE63,2,FALSE),0)","v":0},null,null,0,null,null,null,null,null,null,"K",{"$f":"COUNTIFS(E7:E104,\"K\",K7:K104,\"A\")","v":0},{"$f":"COUNTIFS(E7:E104,\"K\",K7:K104,\"B\")","v":0},{"$f":"COUNTIFS(E7:E104,\"K\",K7:K104,\"C\")","v":0},null,"K",{"$f":"COUNTIFS(H7:H104,\"K\",K7:K104,\"A\")","v":0},{"$f":"COUNTIFS(H7:H104,\"K\",K7:K104,\"B\")","v":0},{"$f":"COUNTIFS(H7:H104,\"K\",K7:K104,\"C\")","v":0},null,null,"00:00:00","00:00:00",0,{"$f":"SpellNumber((AI61))","v":"No Dollars and No Cents"},3,"No "]
["00:00:00",null,null,null,null,0,null,null,0,null,null,{"$f":"IFERROR(VLOOKUP(K62,$AD$7:AE64,2,FALSE),0)","v":0},null,null,0,null,null,null,null,null,null,"L",{"$f":"COUNTIFS(E7:E104,\"L\",K7:K104,\"A\")","v":0},{"$f":"COUNTIFS(E7:E104,\"L\",K7:K104,\"B\")","v":0},{"$f":"COUNTIFS(E7:E104,\"L\",K7:K104,\"C\")","v":0},null,"L",{"$f":"COUNTIFS(H7:H104,\"L\",K7:K104,\"A\")","v":0},{"$f":"COUNTIFS(H7:H104,\"L\",K7:K104,\"B\")","v":0},{"$f":"COUNTIFS(H7:H104,\"L\",K7:K104,\"C\")","v":0},null,null,"00:00:00","00:00:00",0,{"$f":"SpellNumber((AI62))","v":"No Dollars and No Cents"},3,"No "]
["00:00:00",null,null,null,null,0,null,null,0,null,null,{"$f":"IFERROR(VLOOKUP(K63,$AD$7:AE65,2,FALSE),0)","v":0},null,null,0,null,null,null,null,null,null,null,"Beh & Consequences",null,null,null,null,null,null,null,null,null,"00:00:00","00:00:00",0,{"$f":"SpellNumber((AI63))","v":"No Dollars and No Cents"},3,"No "]
["00:00:00",null,null,null,null,0,null,null,0,null,null,{"$f":"IFERROR(VLOOKUP(K64,$AD$7:AE66,2,FALSE),0)","v":0},null,null,0,null,null,null,null,null,null,null,"A","B","C",null,null,null,null,null,null,null,"00:00:00","00:00:00",0,{"$f":"SpellNumber((AI64))","v":"No Dollars and No Cents"},3,"No "]
["00:00:00",null,null,null,null,0,null,null,0,null,null,{"$f":"IFERROR(VLOOKUP(K65,$AD$7:AE67,2,FALSE),0)","v":0},null,null,0,null,null,null,null,null,null,"A",{"$f":"COUNTIFS(N7:N104,\"A\",K7:K104,\"A\")","v":0},{"$f":"COUNTIFS(N7:N104,\"A\",K7:K104,\"B\")","v":0},{"$f":"COUNTIFS(N7:N104,\"A\",K7:K104,\"C\")","v":0},null,null,null,null,null,null,null,"00:00:00","00:00:00",0,{"$f":"SpellNumber((AI65))","v":"No Dollars and No Cents"},3,"No "]
["00:00:00",null,null,null,null,0,null,null,0,null,null,{"$f":"IFERROR(VLOOKUP(K66,$AD$7:AE68,2,FALSE),0)","v":0},null,null,0,null,null,null,null,null,null,"B",{"$f":"COUNTIFS(N7:N104,\"B\",K7:K104,\"A\")","v":0},{"$f":"COUNTIFS(N7:N104,\"B\",K7:K104,\"B\")","v":0},{"$f":"COUNTIFS(N7:N104,\"B\",K7:K104,\"C\")","v":0},null,null,null,null,null,null,null,"00:00:00","00:00:00",0,{"$f":"SpellNumber((AI66))","v":"No Dollars and No Cents"},3,"No "]
["00:00:00",null,null,null,null,0,null,null,0,null,null,{"$f":"IFERROR(VLOOKUP(K67,$AD$7:AE69,2,FALSE),0)","v":0},null,null,0,null,null,null,null,null,null,"C",{"$f":"COUNTIFS(N7:N104,\"C\",K7:K104,\"A\")","v":0},{"$f":"COUNTIFS(N7:N104,\"C\",K7:K104,\"B\")","v":0},{"$f":"COUNTIFS(N7:N104,\"C\",K7:K104,\"C\")","v":0},null,null,null,null,null,null,null,"00:00:00","00:00:00",0,{"$f":"SpellNumber((AI67))","v":"No Dollars and No Cents"},3,"No "]
["00:00:00",null,null,null,null,0,null,null,0,null,null,{"$f":"IFERROR(VLOOKUP(K68,$AD$7:AE70,2,FALSE),0)","v":0},null,null,0,null,null,null,null,null,null,"D",{"$f":"COUNTIFS(N7:N104,\"D\",K7:K104,\"A\")","v":0},{"$f":"COUNTIFS(N7:N104,\"D\",K7:K104,\"B\")","v":0},{"$f":"COUNTIFS(N7:N104,\"D\",K7:K104,\"C\")","v":0},null,null,null,null,null,null,null,"00:00:00","00:00:00",0,{"$f":"SpellNumber((AI68))","v":"No Dollars and No Cents"},3,"No "]
["00:00:00",null,null,null,null,0,null,null,0,null,null,{"$f":"IFERROR(VLOOKUP(K69,$AD$7:AE71,2,FALSE),0)","v":0},null,null,0,null,null,null,null,null,null,"E",{"$f":"COUNTIFS(N7:N104,\"E\",K7:K104,\"A\")","v":0},{"$f":"COUNTIFS(N7:N104,\"E\",K7:K104,\"B\")","v":0},{"$f":"COUNTIFS(N7:N104,\"E\",K7:K104,\"C\")","v":0},null,null,null,null,null,null,null,"00:00:00","00:00:00",0,{"$f":"SpellNumber((AI69))","v":"No Dollars and No Cents"},3,"No "]
["00:00:00",null,null,null,null,0,null,null,0,null,null,{"$f":"IFERROR(VLOOKUP(K70,$AD$7:AE72,2,FALSE),0)","v":0},null,null,0,null,null,null,null,null,null,"F",{"$f":"COUNTIFS(N7:N104,\"F\",K7:K104,\"A\")","v":0},{"$f":"COUNTIFS(N7:N104,\"F\",K7:K104,\"B\")","v":0},{"$f":"COUNTIFS(N7:N104,\"F\",K7:K104,\"C\")","v":0},null,null,null,null,null,null,null,"00:00:00","00:00:00",0,{"$f":"SpellNumber((AI70))","v":"No Dollars and No Cents"},3,"No "]
["00:00:00",null,null,null,null,0,null,null,0,null,null,{"$f":"IFERROR(VLOOKUP(K71,$AD$7:AE73,2,FALSE),0)","v":0},null,null,0,null,null,null,null,null,null,"G",{"$f":"COUNTIFS(N7:N104,\"G\",K7:K104,\"A\")","v":0},{"$f":"COUNTIFS(N7:N104,\"G\",K7:K104,\"B\")","v":0},{"$f":"COUNTIFS(N7:N104,\"G\",K7:K104,\"C\")","v":0},null,null,null,null,null,null,null,"00:00:00","00:00:00",0,{"$f":"SpellNumber((AI71))","v":"No Dollars and No Cents"},3,"No "]
[{"$f":"C72-B72","v":"00:00:00"},null,null,null,null,0,null,null,{"$f":"IFERROR(VLOOKUP(H72,$Z$7:$AA$18,2,FALSE),0)","v":0},null,null,{"$f":"IFERROR(VLOOKUP(K72,$AD$7:AE74,2,FALSE),0)","v":0},null,null,{"$f":"IFERROR(VLOOKUP(N72,$V$22:$W$33,2,FALSE),0)","v":0},null,null,null,null,null,null,"H",{"$f":"COUNTIFS(N7:N104,\"H\",K7:K104,\"A\")","v":0},{"$f":"COUNTIFS(N7:N104,\"H\",K7:K104,\"B\")","v":0},{"$f":"COUNTIFS(N7:N104,\"H\",K7:K104,\"C\")","v":0},null,null,null,null,null,null,null,{"$f":"B72","v":"00:00:00"},{"$f":"TEXT(AG72,\"hh:mm:ss\")","v":"00:00:00"},{"$f":"AG72*24","v":0},{"$f":"SpellNumber((AI72))","v":"No Dollars and No Cents"},{"$f":"FIND(\" Dollar\",AJ72)","v":3},{"$f":"LEFT(AJ72,AK72)","v":"No "}]
["00:00:00",null,null,null,null,{"$f":"IFERROR(VLOOKUP(E73,$V$7:$W$18,2,FALSE),0)","v":0},null,null,0,null,null,{"$f":"IFERROR(VLOOKUP(K73,$AD$7:AE75,2,FALSE),0)","v":0},null,null,0,null,null,null,null,null,null,"I",{"$f":"COUNTIFS(N7:N104,\"I\",K7:K104,\"A\")","v":0},{"$f":"COUNTIFS(N7:N104,\"I\",K7:K104,\"B\")","v":0},{"$f":"COUNTIFS(N7:N104,\"I\",K7:K104,\"C\")","v":0},null,null,null,null,null,null,null,"00:00:00","00:00:00",0,{"$f":"SpellNumber((AI73))","v":"No Dollars and No Cents"},3,"No "]
["00:00:00",null,null,null,null,0,null,null,0,null,null,{"$f":"IFERROR(VLOOKUP(K74,$AD$7:AE76,2,FALSE),0)","v":0},null,null,0,null,null,null,null,null,null,"J",{"$f":"COUNTIFS(N7:N104,\"J\",K7:K104,\"A\")","v":0},{"$f":"COUNTIFS(N7:N104,\"J\",K7:K104,\"B\")","v":0},{"$f":"COUNTIFS(N7:N104,\"J\",K7:K104,\"C\")","v":0},null,null,null,null,null,null,null,"00:00:00","00:00:00",0,{"$f":"SpellNumber((AI74))","v":"No Dollars and No Cents"},3,"No "]
["00:00:00",null,null,null,null,0,null,null,0,null,null,{"$f":"IFERROR(VLOOKUP(K75,$AD$7:AE77,2,FALSE),0)","v":0},null,null,0,null,null,null,null,null,null,"K",{"$f":"COUNTIFS(N7:N104,\"K\",K7:K104,\"A\")","v":0},{"$f":"COUNTIFS(N7:N104,\"K\",K7:K104,\"B\")","v":0},{"$f":"COUNTIFS(N7:N104,\"K\",K7:K104,\"C\")","v":0},null,null,null,null,null,null,null,"00:00:00","00:00:00",0,{"$f":"SpellNumber((AI75))","v":"No Dollars and No Cents"},3,"No "]
["00:00:00",null,null,null,null,0,null,null,0,null,null,{"$f":"IFERROR(VLOOKUP(K76,$AD$7:AE78,2,FALSE),0)","v":0},null,null,0,null,null,null,null,null,null,"L",{"$f":"COUNTIFS(N7:N104,\"L\",K7:K104,\"A\")","v":0},{"$f":"COUNTIFS(N7:N104,\"L\",K7:K104,\"B\")","v":0},{"$f":"COUNTIFS(N7:N104,\"L\",K7:K104,\"C\")","v":0},null,null,null,null,null,null,null,"00:00:00","00:00:00",0,{"$f":"SpellNumber((AI76))","v":"No Dollars and No Cents"},3,"No "]
["00:00:00",null,null,null,null,0,null,null,0,null,null,{"$f":"IFERROR(VLOOKUP(K77,$AD$7:AE79,2,FALSE),0)","v":0},null,null,0,null,null,null,null,null,null,null,null,null,null,null,null,null,null,null,null,null,"00:00:00","00:00:00",0,{"$f":"SpellNumber((AI77))","v":"No Dollars and No Cents"},3,"No "]
["00:00:00",null,null,null,null,0,null,null,0,null,null,{"$f":"IFERROR(VLOOKUP(K78,$AD$7:AE80,2,FALSE),0)","v":0},null,null,0,null,null,null,null,null,null,null,null,null,null,null,null,null,null,null,null,null,"00:00:00","00:00:00",0,{"$f":"SpellNumber((AI78))","v":"No Dollars and No Cents"},3,"No "]
["00:00:00",null,null,null,null,0,null,null,0,null,null,{"$f":"IFERROR(VLOOKUP(K79,$AD$7:AE81,2,FALSE),0)","v":0},null,null,0,null,null,null,null,null,null,null,null,null,null,null,null,null,null,null,null,null,"00:00:00","00:00:00",0,{"$f":"SpellNumber((AI79))","v":"No Dollars and No Cents"},3,"No "]
["00:00:00",null,null,null,null,0,null,null,0,null,null,{"$f":"IFERROR(VLOOKUP(K80,$AD$7:AE82,2,FALSE),0)","v":0},null,null,0,null,null,null,null,null,null,null,null,null,null,null,null,null,null,null,null,null,"00:00:00","00:00:00",0,{"$f":"SpellNumber((AI80))","v":"No Dollars and No Cents"},3,"No "]
["00:00:00",null,null,null,null,0,null,null,0,null,null,{"$f":"IFERROR(VLOOKUP(K81,$AD$7:AE83,2,FALSE),0)","v":0},null,null,0,null,null,null,null,null,null,null,null,null,null,null,null,null,null,null,null,null,"00:00:00","00:00:00",0,{"$f":"SpellNumber((AI81))","v":"No Dollars and No Cents"},3,"No "]
["00:00:00",null,null,null,null,0,null,null,0,null,null,{"$f":"IFERROR(VLOOKUP(K82,$AD$7:AE84,2,FALSE),0)","v":0},null,null,0,null,null,null,null,null,null,null,null,null,null,null,null,null,null,null,null,null,"00:00:00","00:00:00",0,{"$f":"SpellNumber((AI82))","v":"No Dollars and No Cents"},3,"No "]
["00:00:00",null,null,null,null,0,null,null,0,null,null,{"$f":"IFERROR(VLOOKUP(K83,$AD$7:AE85,2,FALSE),0)","v":0},null,null,0,null,null,null,null,null,null,null,null,null,null,null,null,null,null,null,null,null,"00:00:00","00:00:00",0,{"$f":"SpellNumber((AI83))","v":"No Dollars and No Cents"},3,"No "]
["00:00:00",null,null,null,null,0,null,null,0,null,null,{"$f":"IFERROR(VLOOKUP(K84,$AD$7:AE86,2,FALSE),0)","v":0},null,null,0,null,null,null,null,null,null,null,null,null,null,null,null,null,null,null,null,null,"00:00:00","00:00:00",0,{"$f":"SpellNumber((AI84))","v":"No Dollars and No Cents"},3,"No "]
["00:00:00",null,null,null,null,0,null,null,0,null,null,{"$f":"IFERROR(VLOOKUP(K85,$AD$7:AE87,2,FALSE),0)","v":0},null,null,0,null,null,null,null,null,null,null,null,null,null,null,null,null,null,null,null,null,"00:00:00","00:00:00",0,{"$f":"SpellNumber((AI85))","v":"No Dollars and No Cents"},3,"No "]
["00:00:00",null,null,null,null,0,null,null,0,null,null,{"$f":"IFERROR(VLOOKUP(K86,$AD$7:AE88,2,FALSE),0)","v":0},null,null,0,null,null,null,null,null,null,null,null,null,null,null,null,null,null,null,null,null,"00:00:00","00:00:00",0,{"$f":"SpellNumber((AI86))","v":"No Dollars and No Cents"},3,"No "]
["00:00:00",null,null,null,null,0,null,null,0,null,null,{"$f":"IFERROR(VLOOKUP(K87,$AD$7:AE89,2,FALSE),0)","v":0},null,null,0,null,null,null,null,null,null,null,null,null,null,null,null,null,null,null,null,null,"00:00:00","00:00:00",0,{"$f":"SpellNumber((AI87))","v":"No Dollars and No Cents"},3,"No "]
["00:00:00",null,null,null,null,0,null,null,0,null,null,{"$f":"IFERROR(VLOOKUP(K88,$AD$7:AE90,2,FALSE),0)","v":0},null,null,0,null,null,null,null,null,null,null,null,null,null,null,null,null,null,null,null,null,"00:00:00","00:00:00",0,{"$f":"SpellNumber((AI88))","v":"No Dollars and No Cents"},3,"No "]
["00:00:00",null,null,null,null,0,null,null,0,null,null,{"$f":"IFERROR(VLOOKUP(K89,$AD$7:AE91,2,FALSE),0)","v":0},null,null,0,null,null,null,null,null,null,null,null,null,null,null,null,null,null,null,null,null,"00:00:00","00:00:00",0,{"$f":"SpellNumber((AI89))","v":"No Dollars and No Cents"},3,"No "]
["00:00:00",null,null,null,null,0,null,null,0,null,null,{"$f":"IFERROR(VLOOKUP(K90,$AD$7:AE92,2,FALSE),0)","v":0},null,null,0,null,null,null,null,null,null,null,null,null,null,null,null,null,null,null,null,null,"00:00:00","00:00:00",0,{"$f":"SpellNumber((AI90))","v":"No Dollars and No Cents"},3,"No "]
["00:00:00",null,null,null,null,0,null,null,0,null,null,{"$f":"IFERROR(VLOOKUP(K91,$AD$7:AE93,2,FALSE),0)","v":0},null,null,0,null,null,null,"Total Mins",{"$f":"SUM(A7:A104)","v":"00:00:00"},null,null,null,null,null,null,null,null,null,null,null,null,"00:00:00","00:00:00",0,{"$f":"SpellNumber((AI91))","v":"No Dollars and No Cents"},3,"No "]
["00:00:00",null,null,null,null,0,null,null,0,null,null,{"$f":"IFERROR(VLOOKUP(K92,$AD$7:AE94,2,FALSE),0)","v":0},null,null,0,null,null,null,"Settings:","A",{"$f":"COUNTIF(E4:E104,\"A\")","v":0},"Antec.","A",{"$f":"COUNTIF(H4:H104,\"A\")","v":0},"Beh","A",{"$f":"COUNTIF(L4:L104,\"A\")","v":0},"Conse.","A",{"$f":"COUNTIF(O4:O104,\"A\")","v":0},null,null,"00:00:00","00:00:00",0,{"$f":"SpellNumber((AI92))","v":"No Dollars and No Cents"},3,"No "]
["00:00:00",null,null,null,null,0,null,null,0,null,null,{"$f":"IFERROR(VLOOKUP(K93,$AD$7:AE95,2,FALSE),0)","v":0},null,null,0,null,null,null,null,"B",{"$f":"COUNTIF(E5:E105,\"B\")","v":0},null,"B",{"$f":"COUNTIF(H5:H105,\"B\")","v":0},null,"B",{"$f":"COUNTIF(L5:L105,\"B\")","v":0},null,"B",{"$f":"COUNTIF(O5:O105,\"B\")","v":0},null,null,"00:00:00","00:00:00",0,{"$f":"SpellNumber((AI93))","v":"No Dollars and No Cents"},3,"No "]
["00:00:00",null,null,null,null,0,null,null,0,null,null,{"$f":"IFERROR(VLOOKUP(K94,$AD$7:AE96,2,FALSE),0)","v":0},null,null,0,null,null,null,null,"C",{"$f":"COUNTIF(E6:E106,\"C\")","v":0},null,"C",{"$f":"COUNTIF(H6:H106,\"C\")","v":0},null,"C",{"$f":"COUNTIF(L6:L106,\"C\")","v":0},null,"C",{"$f":"COUNTIF(O6:O106,\"C\")","v":0},null,null,"00:00:00","00:00:00",0,{"$f":"SpellNumber((AI94))","v":"No Dollars and No Cents"},3,"No "]
["00:00:00",null,null,null,null,0,null,null,0,null,null,{"$f":"IFERROR(VLOOKUP(K95,$AD$7:AE97,2,FALSE),0)","v":0},null,null,0,null,null,null,null,"D",{"$f":"COUNTIF(E7:E107,\"D\")","v":0},null,"D",{"$f":"COUNTIF(H7:H107,\"D\")","v":0},null,null,null,null,"D",{"$f":"COUNTIF(O7:O107,\"D\")","v":0},null,null,"00:00:00","00:00:00",0,{"$f":"SpellNumber((AI95))","v":"No Dollars and No Cents"},3,"No "]
["00:00:00",null,null,null,null,0,null,null,0,null,null,{"$f":"IFERROR(VLOOKUP(K96,$AD$7:AE98,2,FALSE),0)","v":0},null,null,0,null,null,null,null,"E",{"$f":"COUNTIF(E8:E108,\"E\")","v":0},null,"E",{"$f":"COUNTIF(H8:H108,\"E\")","v":0},null,null,null,null,"E",{"$f":"COUNTIF(O8:O108,\"E\")","v":0},null,null,"00:00:00","00:00:00",0,{"$f":"SpellNumber((AI96))","v":"No Dollars and No Cents"},3,"No "]
["00:00:00",null,null,null,null,0,null,null,0,null,null,{"$f":"IFERROR(VLOOKUP(K97,$AD$7:AE99,2,FALSE),0)","v":0},null,null,0,null,null,null,null,"F",{"$f":"COUNTIF(E9:E109,\"F\")","v":0},null,"F",{"$f":"COUNTIF(H9:H109,\"F\")","v":0},null,null,null,null,"F",{"$f":"COUNTIF(O9:O109,\"F\")","v":0},null,null,"00:00:00","00:00:00",0,{"$f":"SpellNumber((AI97))","v":"No Dollars and No Cents"},3,"No "]
["00:00:00",null,null,null,null,0,null,null,0,null,null,{"$f":"IFERROR(VLOOKUP(K98,$AD$7:AE100,2,FALSE),0)","v":0},null,null,0,null,null,null,null,"G",{"$f":"COUNTIF(E10:E110,\"G\")","v":0},null,"G",{"$f":"COUNTIF(H10:H110,\"G\")","v":0},null,null,null,null,"G",{"$f":"COUNTIF(O10:O110,\"G\")","v":0},null,null,"00:00:00","00:00:00",0,{"$f":"SpellNumber((AI98))","v":"No Dollars and No Cents"},3,"No "]
["00:00:00",null,null,null,null,0,null,null,0,null,null,{"$f":"IFERROR(VLOOKUP(K99,$AD$7:AE101,2,FALSE),0)","v":0},null,null,0,null,null,null,null,"H",{"$f":"COUNTIF(E11:E111,\"H\")","v":0},null,"H",{"$f":"COUNTIF(H11:H111,\"H\")","v":0},null,null,null,null,"H",{"$f":"COUNTIF(O11:O111,\"H\")","v":0},null,null,"00:00:00","00:00:00",0,{"$f":"SpellNumber((AI99))","v":"No Dollars and No Cents"},3,"No "]
["00:00:00",null,null,null,null,0,null,null,0,null,null,{"$f":"IFERROR(VLOOKUP(K100,$AD$7:AE102,2,FALSE),0)","v":0},null,null,0,null,null,null,null,"I",{"$f":"COUNTIF(E12:E112,\"I\")","v":0},null,"I",{"$f":"COUNTIF(H12:H112,\"I\")","v":0},null,null,null,null,"I",{"$f":"COUNTIF(O12:O112,\"I\")","v":0},null,null,"00:00:00","00:00:00",0,{"$f":"SpellNumber((AI100))","v":"No Dollars and No Cents"},3,"No "]
["00:00:00",null,null,null,null,0,null,null,0,null,null,{"$f":"IFERROR(VLOOKUP(K101,$AD$7:AE103,2,FALSE),0)","v":0},null,null,0,null,null,null,null,"J",{"$f":"COUNTIF(E13:E113,\"J\")","v":0},null,"J",{"$f":"COUNTIF(H13:H113,\"J\")","v":0},null,null,null,null,"J",{"$f":"COUNTIF(O13:O113,\"J\")","v":0},null,null,"00:00:00","00:00:00",0,{"$f":"SpellNumber((AI101))","v":"No Dollars and No Cents"},3,"No "]
["00:00:00",null,null,null,null,0,null,null,0,null,null,{"$f":"IFERROR(VLOOKUP(K102,$AD$7:AE104,2,FALSE),0)","v":0},null,null,0,null,null,null,null,"K",{"$f":"COUNTIF(E14:E114,\"K\")","v":0},null,"K",{"$f":"COUNTIF(H14:H114,\"K\")","v":0},null,null,null,null,"K",{"$f":"COUNTIF(O14:O114,\"K\")","v":0},null,null,"00:00:00","00:00:00",0,{"$f":"SpellNumber((AI102))","v":"No Dollars and No Cents"},3,"No "]
["00:00:00",null,null,null,null,0,null,null,0,null,null,{"$f":"IFERROR(VLOOKUP(K103,$AD$7:AE105,2,FALSE),0)","v":0},null,null,0,null,null,null,null,"L",{"$f":"COUNTIF(E15:E115,\"L\")","v":0},null,"L",{"$f":"COUNTIF(H15:H115,\"L\")","v":0},null,null,null,null,"L",{"$f":"COUNTIF(O15:O115,\"L\")","v":0},null,null,"00:00:00","00:00:00",0,{"$f":"SpellNumber((AI103))","v":"No Dollars and No Cents"},3,"No "]
["00:00:00",null,null,null,null,0,null,null,0,null,null,{"$f":"IFERROR(VLOOKUP(K104,$AD$7:AE106,2,FALSE),0)","v":0},null,null,0,null,null,null,null,null,null,null,null,null,null,null,null,null,null,null,null,null,"00:00:00","00:00:00",0,{"$f":"SpellNumber((AI104))","v":"No Dollars and No Cents"},3,"No "]

{"sheet":"Data 9","index":17,"n_rows":104,"n_cols":38,"rows_kept":104,"cut":false,"hidden":false,"merged":[[0,7,3,14]]}
["ATTENDANCE",null,null,null,null,null,null,"Data Collection"]
["If tardy, arrival time",null,null,null,null,null,null,null,null,null,null,null,null,null,null,null,null,null,null,null,null,null,"Date",{"$f":"Calendar!D6","v":{"$error":"#N/A"}},{"$f":"TEXT(X2,\"ddd\")","v":{"$error":"#N/A"}}]
["If left early, time",null,null,null,null,null,null,null,null,null,null,null,null,null,null,null,null,null,null,null,null,null,"Frq. Of bx",{"$f":"AA22","v":0}]
[]
[]
["Mins.","Start Time","End Time",null,null,null,null,null,null,null,null,null,null,null,null,null,null,null,null,null,null,null,"Setting",null,null,"Ant",null,null,null,"Beh",null,null,"Raw Data","Time in text","Decimal"]
[{"$f":"C7-B7","v":"00:00:00"},null,null,null,null,{"$f":"IFERROR(VLOOKUP(E7,$V$7:$W$18,2,FALSE),0)","v":0},null,null,{"$f":"IFERROR(VLOOKUP(H7,$Z$7:$AA$18,2,FALSE),0)","v":0},null,null,{"$f":"IFERROR(VLOOKUP(K7,$AD$7:AE9,2,FALSE),0)","v":0},null,null,{"$f":"IFERROR(VLOOKUP(N7,$V$22:$W$33,2,FALSE),0)","v":0},null,null,null,null,null,null,"A",{"$f":"Criteria!C4","v":"Transition"},null,null,"A",{"$f":"Criteria!E4","v":"Transition"},null,null,"A",{"$f":"Criteria!G4","v":0},null,{"$f":"B7","v":"00:00:00"},{"$f":"TEXT(AG7,\"hh:mm:ss\")","v":"00:00:00"},{"$f":"AG7*24","v":0},{"$f":"SpellNumber((AI7))","v":"No Dollars and No Cents"},{"$f":"FIND(\" Dollar\",AJ7)","v":3},{"$f":"LEFT(AJ7,AK7)","v":"No "}]
[{"$f":"C8-B8","v":"00:00:00"},null,null,null,null,{"$f":"IFERROR(VLOOKUP(E8,$V$7:$W$18,2,FALSE),0)","v":0},null,null,{"$f":"IFERROR(VLOOKUP(H8,$Z$7:$AA$18,2,FALSE),0)","v":0},null,null,{"$f":"IFERROR(VLOOKUP(K8,$AD$7:AE10,2,FALSE),0)","v":0},null,null,{"$f":"IFERROR(VLOOKUP(N8,$V$22:$W$33,2,FALSE),0)","v":0},null,null,null,null,null,null,"B",{"$f":"Criteria!C5","v":"Morning Routine"},null,null,"B",{"$f":"Criteria!E5","v":"Denied access ('No')"},null,null,"B",{"$f":"Criteria!G5","v":0},null,{"$f":"B8","v":"00:00:00"},{"$f":"TEXT(AG8,\"hh:mm:ss\")","v":"00:00:00"},{"$f":"AG8*24","v":0},{"$f":"SpellNumber((AI8))","v":"No Dollars and No Cents"},{"$f":"FIND(\" Dollar\",AJ8)","v":3},{"$f":"LEFT(AJ8,AK8)","v":"No "}]
["00:00:00",null,null,null,null,{"$f":"IFERROR(VLOOKUP(E9,$V$7:$W$18,2,FALSE),0)","v":0},null,null,0,null,null,{"$f":"IFERROR(VLOOKUP(K9,$AD$7:AE11,2,FALSE),0)","v":0},null,null,0,null,null,null,null,null,null,"C",{"$f":"Criteria!C6","v":"Group Work"},null,null,"C",{"$f":"Criteria!E6","v":"Instruction/ Directions"},null,null,"C",{"$f":"Criteria!G6","v":0},null,"00:00:00","00:00:00",0,{"$f":"SpellNumber((AI9))","v":"No Dollars and No Cents"},3,"No "]
["00:00:00",null,null,null,null,0,null,null,0,null,null,{"$f":"IFERROR(VLOOKUP(K10,$AD$7:AE12,2,FALSE),0)","v":0},null,null,0,null,null,null,null,null,null,"D",{"$f":"Criteria!C7","v":"Ind. Seat/Work Time"},null,null,"D",{"$f":"Criteria!E7","v":"New Task"},null,null,null,null,null,"00:00:00","00:00:00",0,{"$f":"SpellNumber((AI10))","v":"No Dollars and No Cents"},3,"No "]
["00:00:00",null,null,null,null,0,null,null,0,null,null,{"$f":"IFERROR(VLOOKUP(K11,$AD$7:AE13,2,FALSE),0)","v":0},null,null,0,null,null,null,null,null,null,"E",{"$f":"Criteria!C8","v":"Language Arts"},null,null,"E",{"$f":"Criteria!E8","v":"Tcher attn to other"},null,null,null,null,null,"00:00:00","00:00:00",0,{"$f":"SpellNumber((AI11))","v":"No Dollars and No Cents"},3,"No "]
["00:00:00",null,null,null,null,0,null,null,0,null,null,{"$f":"IFERROR(VLOOKUP(K12,$AD$7:AE14,2,FALSE),0)","v":0},null,null,0,null,null,null,null,null,null,"F",{"$f":"Criteria!C9","v":"Mathematics"},null,null,"F",{"$f":"Criteria!E9","v":"Choice given"},null,null,null,null,null,"00:00:00","00:00:00",0,{"$f":"SpellNumber((AI12))","v":"No Dollars and No Cents"},3,"No "]
["00:00:00",null,null,null,null,0,null,null,0,null,null,{"$f":"IFERROR(VLOOKUP(K13,$AD$7:AE15,2,FALSE),0)","v":0},null,null,0,null,null,null,null,null,null,"G",{"$f":"Criteria!C10","v":"Physical Education"},null,null,"G",{"$f":"Criteria!E10","v":"Redirection"},null,null,null,null,null,"00:00:00","00:00:00",0,{"$f":"SpellNumber((AI13))","v":"No Dollars and No Cents"},3,"No "]
["00:00:00",null,null,null,null,0,null,null,0,null,null,{"$f":"IFERROR(VLOOKUP(K14,$AD$7:AE16,2,FALSE),0)","v":0},null,null,0,null,null,null,null,null,null,"H",{"$f":"Criteria!C11","v":"Music/Art"},null,null,"H",{"$f":"Criteria!E11","v":"Routine Task"},null,null,null,null,null,"00:00:00","00:00:00",0,{"$f":"SpellNumber((AI14))","v":"No Dollars and No Cents"},3,"No "]
["00:00:00",null,null,null,null,0,null,null,0,null,null,{"$f":"IFERROR(VLOOKUP(K15,$AD$7:AE17,2,FALSE),0)","v":0},null,null,0,null,null,null,null,null,null,"I",{"$f":"Criteria!C12","v":"Speech"},null,null,"I",{"$f":"Criteria!E12","v":"Waiting"},null,null,null,null,null,"00:00:00","00:00:00",0,{"$f":"SpellNumber((AI15))","v":"No Dollars and No Cents"},3,"No "]
["00:00:00",null,null,null,null,0,null,null,0,null,null,{"$f":"IFERROR(VLOOKUP(K16,$AD$7:AE18,2,FALSE),0)","v":0},null,null,0,null,null,null,null,null,null,"J",{"$f":"Criteria!C13","v":"OT/PT"},null,null,"J",{"$f":"Criteria!E13","v":"Unknown"},null,null,null,null,null,"00:00:00","00:00:00",0,{"$f":"SpellNumber((AI16))","v":"No Dollars and No Cents"},3,"No "]
["00:00:00",null,null,null,null,0,null,null,0,null,null,{"$f":"IFERROR(VLOOKUP(K17,$AD$7:AE19,2,FALSE),0)","v":0},null,null,0,null,null,null,null,null,null,"K",{"$f":"Criteria!C14","v":"Center"},null,null,"K",{"$f":"Criteria!E14","v":"Ignored"},null,null,null,null,null,"00:00:00","00:00:00",0,{"$f":"SpellNumber((AI17))","v":"No Dollars and No Cents"},3,"No "]
["00:00:00",null,null,null,null,0,null,null,0,null,null,{"$f":"IFERROR(VLOOKUP(K18,$AD$7:AE20,2,FALSE),0)","v":0},null,null,0,null,null,null,null,null,null,"L",{"$f":"Criteria!C15","v":"Other"},null,null,"L",{"$f":"Criteria!E15","v":"Other"},null,null,null,null,null,"00:00:00","00:00:00",0,{"$f":"SpellNumber((AI18))","v":"No Dollars and No Cents"},3,"No "]
["00:00:00",null,null,null,null,0,null,null,0,null,null,{"$f":"IFERROR(VLOOKUP(K19,$AD$7:AE21,2,FALSE),0)","v":0},null,null,0,null,null,null,null,null,null,null,null,null,null,null,null,null,null,null,null,null,"00:00:00","00:00:00",0,{"$f":"SpellNumber((AI19))","v":"No Dollars and No Cents"},3,"No "]
["00:00:00",null,null,null,null,0,null,null,0,null,null,{"$f":"IFERROR(VLOOKUP(K20,$AD$7:AE22,2,FALSE),0)","v":0},null,null,0,null,null,null,null,null,null,null,null,null,null,null,null,null,null,null,null,null,"00:00:00","00:00:00",0,{"$f":"SpellNumber((AI20))","v":"No Dollars and No Cents"},3,"No "]
["00:00:00",null,null,null,null,0,null,null,0,null,null,{"$f":"IFERROR(VLOOKUP(K21,$AD$7:AE23,2,FALSE),0)","v":0},null,null,0,null,null,null,null,null,null,null,"Con",null,"Bx Frequency Per Day",null,null,null,null,null,null,null,"00:00:00","00:00:00",0,{"$f":"SpellNumber((AI21))","v":"No Dollars and No Cents"},3,"No "]
["00:00:00",null,null,null,null,0,null,null,0,null,null,{"$f":"IFERROR(VLOOKUP(K22,$AD$7:AE24,2,FALSE),0)","v":0},null,null,0,null,null,null,null,null,null,"A",{"$f":"Criteria!I4","v":"Choice Given"},"A",{"$f":"COUNTIF(K7:K104,\"A\")","v":0},null,{"$f":"SUM(Y22:Y24)","v":0},null,"Bin Dec","Frequency of Time",null,null,"00:00:00","00:00:00",0,{"$f":"SpellNumber((AI22))","v":"No Dollars and No Cents"},3,"No "]
["00:00:00",null,null,null,null,0,null,null,0,null,null,{"$f":"IFERROR(VLOOKUP(K23,$AD$7:AE25,2,FALSE),0)","v":0},null,null,0,null,null,null,null,null,null,"B",{"$f":"Criteria!I5","v":"Ignored"},"B",{"$f":"COUNTIF(K7:K104,\"B\")","v":0},null,null,null,"Seven",{"$f":"COUNTIF(AL7:AL104,\"*Seven*\")","v":0},null,null,"00:00:00","00:00:00",0,{"$f":"SpellNumber((AI23))","v":"No Dollars and No Cents"},3,"No "]
["00:00:00",null,null,null,null,0,null,null,0,null,null,{"$f":"IFERROR(VLOOKUP(K24,$AD$7:AE26,2,FALSE),0)","v":0},null,null,0,null,null,null,null,null,null,"C",{"$f":"Criteria!I6","v":"Redirection"},"C",{"$f":"COUNTIF(K7:K104,\"C\")","v":0},null,null,null,"Eight",{"$f":"COUNTIF(AL7:AL104,\"*Eight*\")","v":0},null,null,"00:00:00","00:00:00",0,{"$f":"SpellNumber((AI24))","v":"No Dollars and No Cents"},3,"No "]
["00:00:00",null,null,null,null,0,null,null,0,null,null,{"$f":"IFERROR(VLOOKUP(K25,$AD$7:AE27,2,FALSE),0)","v":0},null,null,0,null,null,null,null,null,null,"D",{"$f":"Criteria!I7","v":"Kept the demand"},null,"Bx Druation Per Day",null,null,null,"Nine",{"$f":"COUNTIF(AL7:AL104,\"*Nine*\")","v":0},null,null,"00:00:00","00:00:00",0,{"$f":"SpellNumber((AI25))","v":"No Dollars and No Cents"},3,"No "]
["00:00:00",null,null,null,null,0,null,null,0,null,null,{"$f":"IFERROR(VLOOKUP(K26,$AD$7:AE28,2,FALSE),0)","v":0},null,null,0,null,null,null,null,null,null,"E",{"$f":"Criteria!I8","v":"Changed activity"},"A",{"$f":"SUMIF(K7:K104,\"A\",A7:A104)","v":"00:00:00"},null,null,null,"Ten",{"$f":"COUNTIF(AL7:AL12,\"*Ten*\")","v":0},null,null,"00:00:00","00:00:00",0,{"$f":"SpellNumber((AI26))","v":"No Dollars and No Cents"},3,"No "]
["00:00:00",null,null,null,null,0,null,null,0,null,null,{"$f":"IFERROR(VLOOKUP(K27,$AD$7:AE29,2,FALSE),0)","v":0},null,null,0,null,null,null,null,null,null,"F",{"$f":"Criteria!I9","v":"Verbal reprimand"},"B",{"$f":"SUMIF(K7:K104,\"B\",A7:A104)","v":"00:00:00"},null,null,null,"Eleven",{"$f":"COUNTIF(AL7:AL104,\"*Eleven*\")","v":0},null,null,"00:00:00","00:00:00",0,{"$f":"SpellNumber((AI27))","v":"No Dollars and No Cents"},3,"No "]
["00:00:00",null,null,null,null,0,null,null,0,null,null,{"$f":"IFERROR(VLOOKUP(K28,$AD$7:AE30,2,FALSE),0)","v":0},null,null,0,null,null,null,null,null,null,"G",{"$f":"Criteria!I10","v":"Told to wait"},"C",{"$f":"SUMIF(K7:K104,\"C\",A7:A104)","v":"00:00:00"},null,null,null,"Twelve",{"$f":"COUNTIF(AL7:AL104,\"*Twelve*\")","v":0},null,null,"00:00:00","00:00:00",0,{"$f":"SpellNumber((AI28))","v":"No Dollars and No Cents"},3,"No "]
["00:00:00",null,null,null,null,0,null,null,0,null,null,{"$f":"IFERROR(VLOOKUP(K29,$AD$7:AE31,2,FALSE),0)","v":0},null,null,0,null,null,null,null,null,null,"H",{"$f":"Criteria!I11","v":"Physical Prompt"},null,null,null,null,null,"One",{"$f":"COUNTIF(AL7:AL104,\"*One*\")","v":0},null,null,"00:00:00","00:00:00",0,{"$f":"SpellNumber((AI29))","v":"No Dollars and No Cents"},3,"No "]
["00:00:00",null,null,null,null,0,null,null,0,null,null,{"$f":"IFERROR(VLOOKUP(K30,$AD$7:AE32,2,FALSE),0)","v":0},null,null,0,null,null,null,null,null,null,"I",{"$f":"Criteria!I12","v":"Verbal prompt"},null,null,null,null,null,"Two",{"$f":"COUNTIF(AL7:AL104,\"*Two*\")","v":0},null,null,"00:00:00","00:00:00",0,{"$f":"SpellNumber((AI30))","v":"No Dollars and No Cents"},3,"No "]
["00:00:00",null,null,null,null,0,null,null,0,null,null,{"$f":"IFERROR(VLOOKUP(K31,$AD$7:AE33,2,FALSE),0)","v":0},null,null,0,null,null,null,null,null,null,"J",{"$f":"Criteria!I13","v":"Told to wait"},null,null,null,null,null,"Three",{"$f":"COUNTIF(AL7:AL104,\"*Three*\")","v":0},null,null,"00:00:00","00:00:00",0,{"$f":"SpellNumber((AI31))","v":"No Dollars and No Cents"},3,"No "]
["00:00:00",null,null,null,null,0,null,null,0,null,null,{"$f":"IFERROR(VLOOKUP(K32,$AD$7:AE34,2,FALSE),0)","v":0},null,null,0,null,null,null,null,null,null,"K",{"$f":"Criteria!I14","v":"Unknown"},null,null,null,null,null,"Four",{"$f":"COUNTIF(AL7:AL104,\"*Four*\")","v":0},null,null,"00:00:00","00:00:00",0,{"$f":"SpellNumber((AI32))","v":"No Dollars and No Cents"},3,"No "]
["00:00:00",null,null,null,null,0,null,null,0,null,null,{"$f":"IFERROR(VLOOKUP(K33,$AD$7:AE35,2,FALSE),0)","v":0},null,null,0,null,null,null,null,null,null,"L",{"$f":"Criteria!I15","v":"Other"},null,null,null,null,null,null,null,null,null,"00:00:00","00:00:00",0,{"$f":"SpellNumber((AI33))","v":"No Dollars and No Cents"},3,"No "]
["00:00:00",null,null,null,null,0,null,null,0,null,null,{"$f":"IFERROR(VLOOKUP(K34,$AD$7:AE36,2,FALSE),0)","v":0},null,null,0,null,null,null,null,null,null,null,null,null,null,null,null,null,null,null,null,null,"00:00:00","00:00:00",0,{"$f":"SpellNumber((AI34))","v":"No Dollars and No Cents"},3,"No "]
["00:00:00",null,null,null,null,0,null,null,0,null,null,{"$f":"IFERROR(VLOOKUP(K35,$AD$7:AE37,2,FALSE),0)","v":0},null,null,0,null,null,null,null,null,null,null,"Context Frequency","Consequence","Antedencents",null,null,null,null,null,null,null,"00:00:00","00:00:00",0,{"$f":"SpellNumber((AI35))","v":"No Dollars and No Cents"},3,"No "]
["00:00:00",null,null,null,null,0,null,null,0,null,null,{"$f":"IFERROR(VLOOKUP(K36,$AD$7:AE38,2,FALSE),0)","v":0},null,null,0,null,null,null,null,null,null,"A",{"$f":"COUNTIF(E7:E104,\"A\")","v":0},{"$f":"COUNTIF(N7:N104,\"A\")","v":0},{"$f":"COUNTIF(H7:H104,\"A\")","v":0},null,null,null,null,null,null,null,"00:00:00","00:00:00",0,{"$f":"SpellNumber((AI36))","v":"No Dollars and No Cents"},3,"No "]
["00:00:00",null,null,null,null,0,null,null,0,null,null,{"$f":"IFERROR(VLOOKUP(K37,$AD$7:AE39,2,FALSE),0)","v":0},null,null,0,null,null,null,null,null,null,"B",{"$f":"COUNTIF(E8:E105,\"B\")","v":0},{"$f":"COUNTIF(N7:N104,\"B\")","v":0},{"$f":"COUNTIF(H7:H104,\"B\")","v":0},null,null,null,null,null,null,null,"00:00:00","00:00:00",0,{"$f":"SpellNumber((AI37))","v":"No Dollars and No Cents"},3,"No "]
["00:00:00",null,null,null,null,0,null,null,0,null,null,{"$f":"IFERROR(VLOOKUP(K38,$AD$7:AE40,2,FALSE),0)","v":0},null,null,0,null,null,null,null,null,null,"C",{"$f":"COUNTIF(E8:E105,\"C\")","v":0},{"$f":"COUNTIF(N7:N104,\"C\")","v":0},{"$f":"COUNTIF(H7:H104,\"C\")","v":0},null,null,null,null,null,null,null,"00:00:00","00:00:00",0,{"$f":"SpellNumber((AI38))","v":"No Dollars and No Cents"},3,"No "]
["00:00:00",null,null,null,null,0,null,null,0,null,null,{"$f":"IFERROR(VLOOKUP(K39,$AD$7:AE41,2,FALSE),0)","v":0},null,null,0,null,null,null,null,null,null,"D",{"$f":"COUNTIF(E8:E105,\"D\")","v":0},{"$f":"COUNTIF(N7:N104,\"D\")","v":0},{"$f":"COUNTIF(H7:H104,\"D\")","v":0},null,null,null,null,null,null,null,"00:00:00","00:00:00",0,{"$f":"SpellNumber((AI39))","v":"No Dollars and No Cents"},3,"No "]
["00:00:00",null,null,null,null,0,null,null,0,null,null,{"$f":"IFERROR(VLOOKUP(K40,$AD$7:AE42,2,FALSE),0)","v":0},null,null,0,null,null,null,null,null,null,"E",{"$f":"COUNTIF(E8:E105,\"E\")","v":0},{"$f":"COUNTIF(N7:N104,\"E\")","v":0},{"$f":"COUNTIF(H7:H104,\"E\")","v":0},null,null,null,null,null,null,null,"00:00:00","00:00:00",0,{"$f":"SpellNumber((AI40))","v":"No Dollars and No Cents"},3,"No "]
["00:00:00",null,null,null,null,0,null,null,0,null,null,{"$f":"IFERROR(VLOOKUP(K41,$AD$7:AE43,2,FALSE),0)","v":0},null,null,0,null,null,null,null,null,null,"F",{"$f":"COUNTIF(E8:E105,\"F\")","v":0},{"$f":"COUNTIF(N7:N104,\"F\")","v":0},{"$f":"COUNTIF(H7:H104,\"F\")","v":0},null,null,null,null,null,null,null,"00:00:00","00:00:00",0,{"$f":"SpellNumber((AI41))","v":"No Dollars and No Cents"},3,"No "]
["00:00:00",null,null,null,null,0,null,null,0,null,null,{"$f":"IFERROR(VLOOKUP(K42,$AD$7:AE44,2,FALSE),0)","v":0},null,null,0,null,null,null,null,null,null,"G",{"$f":"COUNTIF(E8:E105,\"G\")","v":0},{"$f":"COUNTIF(N7:N104,\"G\")","v":0},{"$f":"COUNTIF(H7:H104,\"G\")","v":0},null,null,null,null,null,null,null,"00:00:00","00:00:00",0,{"$f":"SpellNumber((AI42))","v":"No Dollars and No Cents"},3,"No "]
["00:00:00",null,null,null,null,0,null,null,0,null,null,{"$f":"IFERROR(VLOOKUP(K43,$AD$7:AE45,2,FALSE),0)","v":0},null,null,0,null,null,null,null,null,null,"H",{"$f":"COUNTIF(E8:E105,\"H\")","v":0},{"$f":"COUNTIF(N7:N104,\"H\")","v":0},{"$f":"COUNTIF(H7:H104,\"H\")","v":0},null,null,null,null,null,null,null,"00:00:00","00:00:00",0,{"$f":"SpellNumber((AI43))","v":"No Dollars and No Cents"},3,"No "]
["00:00:00",null,null,null,null,0,null,null,0,null,null,{"$f":"IFERROR(VLOOKUP(K44,$AD$7:AE46,2,FALSE),0)","v":0},null,null,0,null,null,null,null,null,null,"I",{"$f":"COUNTIF(E8:E105,\"I\")","v":0},{"$f":"COUNTIF(N7:N104,\"I\")","v":0},{"$f":"COUNTIF(H7:H104,\"I\")","v":0},null,null,null,null,null,null,null,"00:00:00","00:00:00",0,{"$f":"SpellNumber((AI44))","v":"No Dollars and No Cents"},3,"No "]
["00:00:00",null,null,null,null,0,null,null,0,null,null,{"$f":"IFERROR(VLOOKUP(K45,$AD$7:AE47,2,FALSE),0)","v":0},null,null,0,null,null,null,null,null,null,"J",{"$f":"COUNTIF(E8:E105,\"J\")","v":0},{"$f":"COUNTIF(N7:N104,\"J\")","v":0},{"$f":"COUNTIF(H7:H104,\"J\")","v":0},null,null,null,null,null,null,null,"00:00:00","00:00:00",0,{"$f":"SpellNumber((AI45))","v":"No Dollars and No Cents"},3,"No "]
["00:00:00",null,null,null,null,0,null,null,0,null,null,{"$f":"IFERROR(VLOOKUP(K46,$AD$7:AE48,2,FALSE),0)","v":0},null,null,0,null,null,null,null,null,null,"K",{"$f":"COUNTIF(E8:E105,\"K\")","v":0},{"$f":"COUNTIF(N7:N104,\"K\")","v":0},{"$f":"COUNTIF(H7:H104,\"K\")","v":0},null,null,null,null,null,null,null,"00:00:00","00:00:00",0,{"$f":"SpellNumber((AI46))","v":"No Dollars and No Cents"},3,"No "]
["00:00:00",null,null,null,null,0,null,null,0,null,null,{"$f":"IFERROR(VLOOKUP(K47,$AD$7:AE49,2,FALSE),0)","v":0},null,null,0,null,null,null,null,null,null,"L",{"$f":"COUNTIF(E8:E105,\"l\")","v":0},{"$f":"COUNTIF(N7:N104,\"L\")","v":0},{"$f":"COUNTIF(H7:H104,\"L\")","v":0},null,null,null,null,null,null,null,"00:00:00","00:00:00",0,{"$f":"SpellNumber((AI47))","v":"No Dollars and No Cents"},3,"No "]
["00:00:00",null,null,null,null,0,null,null,0,null,null,{"$f":"IFERROR(VLOOKUP(K48,$AD$7:AE50,2,FALSE),0)","v":0},null,null,0,null,null,null,null,null,null,null,null,null,null,null,null,null,null,null,null,null,"00:00:00","00:00:00",0,{"$f":"SpellNumber((AI48))","v":"No Dollars and No Cents"},3,"No "]
["00:00:00",null,null,null,null,0,null,null,0,null,null,{"$f":"IFERROR(VLOOKUP(K49,$AD$7:AE51,2,FALSE),0)","v":0},null,null,0,null,null,null,null,null,null,null,"Beh & Setting ",null,null,null,"Beh & Antecedents",null,null,null,null,null,"00:00:00","00:00:00",0,{"$f":"SpellNumber((AI49))","v":"No Dollars and No Cents"},3,"No "]
["00:00:00",null,null,null,null,0,null,null,0,null,null,{"$f":"IFERROR(VLOOKUP(K50,$AD$7:AE52,2,FALSE),0)","v":0},null,null,0,null,null,null,null,null,null,null,"A","B","C",null,null,"A","B","C",null,null,"00:00:00","00:00:00",0,{"$f":"SpellNumber((AI50))","v":"No Dollars and No Cents"},3,"No "]
["00:00:00",null,null,null,null,0,null,null,0,null,null,{"$f":"IFERROR(VLOOKUP(K51,$AD$7:AE53,2,FALSE),0)","v":0},null,null,0,null,null,null,null,null,null,"A",{"$f":"COUNTIFS(E7:E104,\"A\",K7:K104,\"A\")","v":0},{"$f":"COUNTIFS(E7:E104,\"A\",K7:K104,\"B\")","v":0},{"$f":"COUNTIFS(E7:E104,\"A\",K7:K104,\"C\")","v":0},null,"A",{"$f":"COUNTIFS(H7:H104,\"a\",K7:K104,\"A\")","v":0},{"$f":"COUNTIFS(H7:H104,\"A\",K7:K104,\"B\")","v":0},{"$f":"COUNTIFS(H7:H104,\"A\",K7:K104,\"C\")","v":0},null,null,"00:00:00","00:00:00",0,{"$f":"SpellNumber((AI51))","v":"No Dollars and No Cents"},3,"No "]
["00:00:00",null,null,null,null,0,null,null,0,null,null,{"$f":"IFERROR(VLOOKUP(K52,$AD$7:AE54,2,FALSE),0)","v":0},null,null,0,null,null,null,null,null,null,"B",{"$f":"COUNTIFS(E7:E104,\"B\",K7:K104,\"A\")","v":0},{"$f":"COUNTIFS(E7:E104,\"B\",K7:K104,\"B\")","v":0},{"$f":"COUNTIFS(E7:E104,\"B\",K7:K104,\"C\")","v":0},null,"B",{"$f":"COUNTIFS(H7:H104,\"B\",K7:K104,\"A\")","v":0},{"$f":"COUNTIFS(H7:H104,\"B\",K7:K104,\"B\")","v":0},{"$f":"COUNTIFS(H7:H104,\"B\",K7:K104,\"C\")","v":0},null,null,"00:00:00","00:00:00",0,{"$f":"SpellNumber((AI52))","v":"No Dollars and No Cents"},3,"No "]
["00:00:00",null,null,null,null,0,null,null,0,null,null,{"$f":"IFERROR(VLOOKUP(K53,$AD$7:AE55,2,FALSE),0)","v":0},null,null,0,null,null,null,null,null,null,"C",{"$f":"COUNTIFS(K7:K104,\"C\",K7:K104,\"A\")","v":0},{"$f":"COUNTIFS(E7:E104,\"C\",K7:K104,\"B\")","v":0},{"$f":"COUNTIFS(E7:E104,\"C\",K7:K104,\"C\")","v":0},null,"C",{"$f":"COUNTIFS(H7:H104,\"C\",K7:K104,\"A\")","v":0},{"$f":"COUNTIFS(H7:H104,\"C\",K7:K104,\"B\")","v":0},{"$f":"COUNTIFS(H7:H104,\"C\",K7:K104,\"C\")","v":0},null,null,"00:00:00","00:00:00",0,{"$f":"SpellNumber((AI53))","v":"No Dollars and No Cents"},3,"No "]
["00:00:00",null,null,null,null,0,null,null,0,null,null,{"$f":"IFERROR(VLOOKUP(K54,$AD$7:AE56,2,FALSE),0)","v":0},null,null,0,null,null,null,null,null,null,"D",{"$f":"COUNTIFS(E7:E104,\"D\",K7:K104,\"A\")","v":0},{"$f":"COUNTIFS(E7:E104,\"D\",K7:K104,\"B\")","v":0},{"$f":"COUNTIFS(E7:E104,\"D\",K7:K104,\"C\")","v":0},null,"D",{"$f":"COUNTIFS(H7:H104,\"D\",K7:K104,\"A\")","v":0},{"$f":"COUNTIFS(H7:H104,\"D\",K7:K104,\"B\")","v":0},{"$f":"COUNTIFS(H7:H104,\"D\",K7:K104,\"C\")","v":0},null,null,"00:00:00","00:00:00",0,{"$f":"SpellNumber((AI54))","v":"No Dollars and No Cents"},3,"No "]
["00:00:00",null,null,null,null,0,null,null,0,null,null,{"$f":"IFERROR(VLOOKUP(K55,$AD$7:AE57,2,FALSE),0)","v":0},null,null,0,null,null,null,null,null,null,"E",{"$f":"COUNTIFS(E7:E104,\"E\",K7:K104,\"A\")","v":0},{"$f":"COUNTIFS(E7:E104,\"E\",K7:K104,\"B\")","v":0},{"$f":"COUNTIFS(E7:E104,\"E\",K7:K104,\"C\")","v":0},null,"E",{"$f":"COUNTIFS(H7:H104,\"E\",K7:K104,\"A\")","v":0},{"$f":"COUNTIFS(H7:H104,\"E\",K7:K104,\"B\")","v":0},{"$f":"COUNTIFS(H7:H104,\"E\",K7:K104,\"C\")","v":0},null,null,"00:00:00","00:00:00",0,{"$f":"SpellNumber((AI55))","v":"No Dollars and No Cents"},3,"No "]
["00:00:00",null,null,null,null,0,null,null,0,null,null,{"$f":"IFERROR(VLOOKUP(K56,$AD$7:AE58,2,FALSE),0)","v":0},null,null,0,null,null,null,null,null,null,"F",{"$f":"COUNTIFS(E7:E104,\"F\",K7:K104,\"A\")","v":0},{"$f":"COUNTIFS(E7:E104,\"F\",K7:K104,\"B\")","v":0},{"$f":"COUNTIFS(E7:E104,\"F\",K7:K104,\"C\")","v":0},null,"F",{"$f":"COUNTIFS(H7:H104,\"F\",K7:K104,\"A\")","v":0},{"$f":"COUNTIFS(H7:H104,\"F\",K7:K104,\"B\")","v":0},{"$f":"COUNTIFS(H7:H104,\"F\",K7:K104,\"C\")","v":0},null,null,"00:00:00","00:00:00",0,{"$f":"SpellNumber((AI56))","v":"No Dollars and No Cents"},3,"No "]
["00:00:00",null,null,null,null,0,null,null,0,null,null,{"$f":"IFERROR(VLOOKUP(K57,$AD$7:AE59,2,FALSE),0)","v":0},null,null,0,null,null,null,null,null,null,"G",{"$f":"COUNTIFS(E7:E104,\"G\",K7:K104,\"A\")","v":0},{"$f":"COUNTIFS(E7:E104,\"G\",K7:K104,\"B\")","v":0},{"$f":"COUNTIFS(E7:E104,\"G\",K7:K104,\"C\")","v":0},null,"G",{"$f":"COUNTIFS(H7:H104,\"G\",K7:K104,\"A\")","v":0},{"$f":"COUNTIFS(H7:H104,\"G\",K7:K104,\"B\")","v":0},{"$f":"COUNTIFS(H7:H104,\"G\",K7:K104,\"C\")","v":0},null,null,"00:00:00","00:00:00",0,{"$f":"SpellNumber((AI57))","v":"No Dollars and No Cents"},3,"No "]
["00:00:00",null,null,null,null,0,null,null,0,null,null,{"$f":"IFERROR(VLOOKUP(K58,$AD$7:AE60,2,FALSE),0)","v":0},null,null,0,null,null,null,null,null,null,"H",{"$f":"COUNTIFS(E7:E104,\"H\",K7:K104,\"A\")","v":0},{"$f":"COUNTIFS(E7:E104,\"H\",K7:K104,\"B\")","v":0},{"$f":"COUNTIFS(E7:E104,\"H\",K7:K104,\"C\")","v":0},null,"H",{"$f":"COUNTIFS(H7:H104,\"H\",K7:K104,\"A\")","v":0},{"$f":"COUNTIFS(H7:H104,\"H\",K7:K104,\"B\")","v":0},{"$f":"COUNTIFS(H7:H104,\"H\",K7:K104,\"C\")","v":0},null,null,"00:00:00","00:00:00",0,{"$f":"SpellNumber((AI58))","v":"No Dollars and No Cents"},3,"No "]
["00:00:00",null,null,null,null,0,null,null,0,null,null,{"$f":"IFERROR(VLOOKUP(K59,$AD$7:AE61,2,FALSE),0)","v":0},null,null,0,null,null,null,null,null,null,"I",{"$f":"COUNTIFS(E7:E104,\"I\",K7:K104,\"A\")","v":0},{"$f":"COUNTIFS(E7:E104,\"I\",K7:K104,\"B\")","v":0},{"$f":"COUNTIFS(E7:E104,\"I\",K7:K104,\"C\")","v":0},null,"I",{"$f":"COUNTIFS(H7:H104,\"I\",K7:K104,\"A\")","v":0},{"$f":"COUNTIFS(H7:H104,\"I\",K7:K104,\"B\")","v":0},{"$f":"COUNTIFS(H7:H104,\"I\",K7:K104,\"C\")","v":0},null,null,"00:00:00","00:00:00",0,{"$f":"SpellNumber((AI59))","v":"No Dollars and No Cents"},3,"No "]
["00:00:00",null,null,null,null,0,null,null,0,null,null,{"$f":"IFERROR(VLOOKUP(K60,$AD$7:AE62,2,FALSE),0)","v":0},null,null,0,null,null,null,null,null,null,"J",{"$f":"COUNTIFS(E7:E104,\"J\",K7:K104,\"A\")","v":0},{"$f":"COUNTIFS(E7:E104,\"J\",K7:K104,\"B\")","v":0},{"$f":"COUNTIFS(E7:E104,\"J\",K7:K104,\"C\")","v":0},null,"J",{"$f":"COUNTIFS(H7:H104,\"J\",K7:K104,\"A\")","v":0},{"$f":"COUNTIFS(H7:H104,\"J\",K7:K104,\"B\")","v":0},{"$f":"COUNTIFS(H7:H104,\"J\",K7:K104,\"C\")","v":0},null,null,"00:00:00","00:00:00",0,{"$f":"SpellNumber((AI60))","v":"No Dollars and No Cents"},3,"No "]
["00:00:00",null,null,null,null,0,null,null,0,null,null,{"$f":"IFERROR(VLOOKUP(K61,$AD$7:AE63,2,FALSE),0)","v":0},null,null,0,null,null,null,null,null,null,"K",{"$f":"COUNTIFS(E7:E104,\"K\",K7:K104,\"A\")","v":0},{"$f":"COUNTIFS(E7:E104,\"K\",K7:K104,\"B\")","v":0},{"$f":"COUNTIFS(E7:E104,\"K\",K7:K104,\"C\")","v":0},null,"K",{"$f":"COUNTIFS(H7:H104,\"K\",K7:K104,\"A\")","v":0},{"$f":"COUNTIFS(H7:H104,\"K\",K7:K104,\"B\")","v":0},{"$f":"COUNTIFS(H7:H104,\"K\",K7:K104,\"C\")","v":0},null,null,"00:00:00","00:00:00",0,{"$f":"SpellNumber((AI61))","v":"No Dollars and No Cents"},3,"No "]
["00:00:00",null,null,null,null,0,null,null,0,null,null,{"$f":"IFERROR(VLOOKUP(K62,$AD$7:AE64,2,FALSE),0)","v":0},null,null,0,null,null,null,null,null,null,"L",{"$f":"COUNTIFS(E7:E104,\"L\",K7:K104,\"A\")","v":0},{"$f":"COUNTIFS(E7:E104,\"L\",K7:K104,\"B\")","v":0},{"$f":"COUNTIFS(E7:E104,\"L\",K7:K104,\"C\")","v":0},null,"L",{"$f":"COUNTIFS(H7:H104,\"L\",K7:K104,\"A\")","v":0},{"$f":"COUNTIFS(H7:H104,\"L\",K7:K104,\"B\")","v":0},{"$f":"COUNTIFS(H7:H104,\"L\",K7:K104,\"C\")","v":0},null,null,"00:00:00","00:00:00",0,{"$f":"SpellNumber((AI62))","v":"No Dollars and No Cents"},3,"No "]
["00:00:00",null,null,null,null,0,null,null,0,null,null,{"$f":"IFERROR(VLOOKUP(K63,$AD$7:AE65,2,FALSE),0)","v":0},null,null,0,null,null,null,null,null,null,null,"Beh & Consequences",null,null,null,null,null,null,null,null,null,"00:00:00","00:00:00",0,{"$f":"SpellNumber((AI63))","v":"No Dollars and No Cents"},3,"No "]
["00:00:00",null,null,null,null,0,null,null,0,null,null,{"$f":"IFERROR(VLOOKUP(K64,$AD$7:AE66,2,FALSE),0)","v":0},null,null,0,null,null,null,null,null,null,null,"A","B","C",null,null,null,null,null,null,null,"00:00:00","00:00:00",0,{"$f":"SpellNumber((AI64))","v":"No Dollars and No Cents"},3,"No "]
["00:00:00",null,null,null,null,0,null,null,0,null,null,{"$f":"IFERROR(VLOOKUP(K65,$AD$7:AE67,2,FALSE),0)","v":0},null,null,0,null,null,null,null,null,null,"A",{"$f":"COUNTIFS(N7:N104,\"A\",K7:K104,\"A\")","v":0},{"$f":"COUNTIFS(N7:N104,\"A\",K7:K104,\"B\")","v":0},{"$f":"COUNTIFS(N7:N104,\"A\",K7:K104,\"C\")","v":0},null,null,null,null,null,null,null,"00:00:00","00:00:00",0,{"$f":"SpellNumber((AI65))","v":"No Dollars and No Cents"},3,"No "]
["00:00:00",null,null,null,null,0,null,null,0,null,null,{"$f":"IFERROR(VLOOKUP(K66,$AD$7:AE68,2,FALSE),0)","v":0},null,null,0,null,null,null,null,null,null,"B",{"$f":"COUNTIFS(N7:N104,\"B\",K7:K104,\"A\")","v":0},{"$f":"COUNTIFS(N7:N104,\"B\",K7:K104,\"B\")","v":0},{"$f":"COUNTIFS(N7:N104,\"B\",K7:K104,\"C\")","v":0},null,null,null,null,null,null,null,"00:00:00","00:00:00",0,{"$f":"SpellNumber((AI66))","v":"No Dollars and No Cents"},3,"No "]
["00:00:00",null,null,null,null,0,null,null,0,null,null,{"$f":"IFERROR(VLOOKUP(K67,$AD$7:AE69,2,FALSE),0)","v":0},null,null,0,null,null,null,null,null,null,"C",{"$f":"COUNTIFS(N7:N104,\"C\",K7:K104,\"A\")","v":0},{"$f":"COUNTIFS(N7:N104,\"C\",K7:K104,\"B\")","v":0},{"$f":"COUNTIFS(N7:N104,\"C\",K7:K104,\"C\")","v":0},null,null,null,null,null,null,null,"00:00:00","00:00:00",0,{"$f":"SpellNumber((AI67))","v":"No Dollars and No Cents"},3,"No "]
["00:00:00",null,null,null,null,0,null,null,0,null,null,{"$f":"IFERROR(VLOOKUP(K68,$AD$7:AE70,2,FALSE),0)","v":0},null,null,0,null,null,null,null,null,null,"D",{"$f":"COUNTIFS(N7:N104,\"D\",K7:K104,\"A\")","v":0},{"$f":"COUNTIFS(N7:N104,\"D\",K7:K104,\"B\")","v":0},{"$f":"COUNTIFS(N7:N104,\"D\",K7:K104,\"C\")","v":0},null,null,null,null,null,null,null,"00:00:00","00:00:00",0,{"$f":"SpellNumber((AI68))","v":"No Dollars and No Cents"},3,"No "]
["00:00:00",null,null,null,null,0,null,null,0,null,null,{"$f":"IFERROR(VLOOKUP(K69,$AD$7:AE71,2,FALSE),0)","v":0},null,null,0,null,null,null,null,null,null,"E",{"$f":"COUNTIFS(N7:N104,\"E\",K7:K104,\"A\")","v":0},{"$f":"COUNTIFS(N7:N104,\"E\",K7:K104,\"B\")","v":0},{"$f":"COUNTIFS(N7:N104,\"E\",K7:K104,\"C\")","v":0},null,null,null,null,null,null,null,"00:00:00","00:00:00",0,{"$f":"SpellNumber((AI69))","v":"No Dollars and No Cents"},3,"No "]
["00:00:00",null,null,null,null,0,null,null,0,null,null,{"$f":"IFERROR(VLOOKUP(K70,$AD$7:AE72,2,FALSE),0)","v":0},null,null,0,null,null,null,null,null,null,"F",{"$f":"COUNTIFS(N7:N104,\"F\",K7:K104,\"A\")","v":0},{"$f":"COUNTIFS(N7:N104,\"F\",K7:K104,\"B\")","v":0},{"$f":"COUNTIFS(N7:N104,\"F\",K7:K104,\"C\")","v":0},null,null,null,null,null,null,null,"00:00:00","00:00:00",0,{"$f":"SpellNumber((AI70))","v":"No Dollars and No Cents"},3,"No "]
["00:00:00",null,null,null,null,0,null,null,0,null,null,{"$f":"IFERROR(VLOOKUP(K71,$AD$7:AE73,2,FALSE),0)","v":0},null,null,0,null,null,null,null,null,null,"G",{"$f":"COUNTIFS(N7:N104,\"G\",K7:K104,\"A\")","v":0},{"$f":"COUNTIFS(N7:N104,\"G\",K7:K104,\"B\")","v":0},{"$f":"COUNTIFS(N7:N104,\"G\",K7:K104,\"C\")","v":0},null,null,null,null,null,null,null,"00:00:00","00:00:00",0,{"$f":"SpellNumber((AI71))","v":"No Dollars and No Cents"},3,"No "]
[{"$f":"C72-B72","v":"00:00:00"},null,null,null,null,0,null,null,{"$f":"IFERROR(VLOOKUP(H72,$Z$7:$AA$18,2,FALSE),0)","v":0},null,null,{"$f":"IFERROR(VLOOKUP(K72,$AD$7:AE74,2,FALSE),0)","v":0},null,null,{"$f":"IFERROR(VLOOKUP(N72,$V$22:$W$33,2,FALSE),0)","v":0},null,null,null,null,null,null,"H",{"$f":"COUNTIFS(N7:N104,\"H\",K7:K104,\"A\")","v":0},{"$f":"COUNTIFS(N7:N104,\"H\",K7:K104,\"B\")","v":0},{"$f":"COUNTIFS(N7:N104,\"H\",K7:K104,\"C\")","v":0},null,null,null,null,null,null,null,{"$f":"B72","v":"00:00:00"},{"$f":"TEXT(AG72,\"hh:mm:ss\")","v":"00:00:00"},{"$f":"AG72*24","v":0},{"$f":"SpellNumber((AI72))","v":"No Dollars and No Cents"},{"$f":"FIND(\" Dollar\",AJ72)","v":3},{"$f":"LEFT(AJ72,AK72)","v":"No "}]
["00:00:00",null,null,null,null,{"$f":"IFERROR(VLOOKUP(E73,$V$7:$W$18,2,FALSE),0)","v":0},null,null,0,null,null,{"$f":"IFERROR(VLOOKUP(K73,$AD$7:AE75,2,FALSE),0)","v":0},null,null,0,null,null,null,null,null,null,"I",{"$f":"COUNTIFS(N7:N104,\"I\",K7:K104,\"A\")","v":0},{"$f":"COUNTIFS(N7:N104,\"I\",K7:K104,\"B\")","v":0},{"$f":"COUNTIFS(N7:N104,\"I\",K7:K104,\"C\")","v":0},null,null,null,null,null,null,null,"00:00:00","00:00:00",0,{"$f":"SpellNumber((AI73))","v":"No Dollars and No Cents"},3,"No "]
["00:00:00",null,null,null,null,0,null,null,0,null,null,{"$f":"IFERROR(VLOOKUP(K74,$AD$7:AE76,2,FALSE),0)","v":0},null,null,0,null,null,null,null,null,null,"J",{"$f":"COUNTIFS(N7:N104,\"J\",K7:K104,\"A\")","v":0},{"$f":"COUNTIFS(N7:N104,\"J\",K7:K104,\"B\")","v":0},{"$f":"COUNTIFS(N7:N104,\"J\",K7:K104,\"C\")","v":0},null,null,null,null,null,null,null,"00:00:00","00:00:00",0,{"$f":"SpellNumber((AI74))","v":"No Dollars and No Cents"},3,"No "]
["00:00:00",null,null,null,null,0,null,null,0,null,null,{"$f":"IFERROR(VLOOKUP(K75,$AD$7:AE77,2,FALSE),0)","v":0},null,null,0,null,null,null,null,null,null,"K",{"$f":"COUNTIFS(N7:N104,\"K\",K7:K104,\"A\")","v":0},{"$f":"COUNTIFS(N7:N104,\"K\",K7:K104,\"B\")","v":0},{"$f":"COUNTIFS(N7:N104,\"K\",K7:K104,\"C\")","v":0},null,null,null,null,null,null,null,"00:00:00","00:00:00",0,{"$f":"SpellNumber((AI75))","v":"No Dollars and No Cents"},3,"No "]
["00:00:00",null,null,null,null,0,null,null,0,null,null,{"$f":"IFERROR(VLOOKUP(K76,$AD$7:AE78,2,FALSE),0)","v":0},null,null,0,null,null,null,null,null,null,"L",{"$f":"COUNTIFS(N7:N104,\"L\",K7:K104,\"A\")","v":0},{"$f":"COUNTIFS(N7:N104,\"L\",K7:K104,\"B\")","v":0},{"$f":"COUNTIFS(N7:N104,\"L\",K7:K104,\"C\")","v":0},null,null,null,null,null,null,null,"00:00:00","00:00:00",0,{"$f":"SpellNumber((AI76))","v":"No Dollars and No Cents"},3,"No "]
["00:00:00",null,null,null,null,0,null,null,0,null,null,{"$f":"IFERROR(VLOOKUP(K77,$AD$7:AE79,2,FALSE),0)","v":0},null,null,0,null,null,null,null,null,null,null,null,null,null,null,null,null,null,null,null,null,"00:00:00","00:00:00",0,{"$f":"SpellNumber((AI77))","v":"No Dollars and No Cents"},3,"No "]
["00:00:00",null,null,null,null,0,null,null,0,null,null,{"$f":"IFERROR(VLOOKUP(K78,$AD$7:AE80,2,FALSE),0)","v":0},null,null,0,null,null,null,null,null,null,null,null,null,null,null,null,null,null,null,null,null,"00:00:00","00:00:00",0,{"$f":"SpellNumber((AI78))","v":"No Dollars and No Cents"},3,"No "]
["00:00:00",null,null,null,null,0,null,null,0,null,null,{"$f":"IFERROR(VLOOKUP(K79,$AD$7:AE81,2,FALSE),0)","v":0},null,null,0,null,null,null,null,null,null,null,null,null,null,null,null,null,null,null,null,null,"00:00:00","00:00:00",0,{"$f":"SpellNumber((AI79))","v":"No Dollars and No Cents"},3,"No "]
["00:00:00",null,null,null,null,0,null,null,0,null,null,{"$f":"IFERROR(VLOOKUP(K80,$AD$7:AE82,2,FALSE),0)","v":0},null,null,0,null,null,null,null,null,null,null,null,null,null,null,null,null,null,null,null,null,"00:00:00","00:00:00",0,{"$f":"SpellNumber((AI80))","v":"No Dollars and No Cents"},3,"No "]
["00:00:00",null,null,null,null,0,null,null,0,null,null,{"$f":"IFERROR(VLOOKUP(K81,$AD$7:AE83,2,FALSE),0)","v":0},null,null,0,null,null,null,null,null,null,null,null,null,null,null,null,null,null,null,null,null,"00:00:00","00:00:00",0,{"$f":"SpellNumber((AI81))","v":"No Dollars and No Cents"},3,"No "]
["00:00:00",null,null,null,null,0,null,null,0,null,null,{"$f":"IFERROR(VLOOKUP(K82,$AD$7:AE84,2,FALSE),0)","v":0},null,null,0,null,null,null,null,null,null,null,null,null,null,null,null,null,null,null,null,null,"00:00:00","00:00:00",0,{"$f":"SpellNumber((AI82))","v":"No Dollars and No Cents"},3,"No "]
["00:00:00",null,null,null,null,0,null,null,0,null,null,{"$f":"IFERROR(VLOOKUP(K83,$AD$7:AE85,2,FALSE),0)","v":0},null,null,0,null,null,null,null,null,null,null,null,null,null,null,null,null,null,null,null,null,"00:00:00","00:00:00",0,{"$f":"SpellNumber((AI83))","v":"No Dollars and No Cents"},3,"No "]
["00:00:00",null,null,null,null,0,null,null,0,null,null,{"$f":"IFERROR(VLOOKUP(K84,$AD$7:AE86,2,FALSE),0)","v":0},null,null,0,null,null,null,null,null,null,null,null,null,null,null,null,null,null,null,null,null,"00:00:00","00:00:00",0,{"$f":"SpellNumber((AI84))","v":"No Dollars and No Cents"},3,"No "]
["00:00:00",null,null,null,null,0,null,null,0,null,null,{"$f":"IFERROR(VLOOKUP(K85,$AD$7:AE87,2,FALSE),0)","v":0},null,null,0,null,null,null,null,null,null,null,null,null,null,null,null,null,null,null,null,null,"00:00:00","00:00:00",0,{"$f":"SpellNumber((AI85))","v":"No Dollars and No Cents"},3,"No "]
["00:00:00",null,null,null,null,0,null,null,0,null,null,{"$f":"IFERROR(VLOOKUP(K86,$AD$7:AE88,2,FALSE),0)","v":0},null,null,0,null,null,null,null,null,null,null,null,null,null,null,null,null,null,null,null,null,"00:00:00","00:00:00",0,{"$f":"SpellNumber((AI86))","v":"No Dollars and No Cents"},3,"No "]
["00:00:00",null,null,null,null,0,null,null,0,null,null,{"$f":"IFERROR(VLOOKUP(K87,$AD$7:AE89,2,FALSE),0)","v":0},null,null,0,null,null,null,null,null,null,null,null,null,null,null,null,null,null,null,null,null,"00:00:00","00:00:00",0,{"$f":"SpellNumber((AI87))","v":"No Dollars and No Cents"},3,"No "]
["00:00:00",null,null,null,null,0,null,null,0,null,null,{"$f":"IFERROR(VLOOKUP(K88,$AD$7:AE90,2,FALSE),0)","v":0},null,null,0,null,null,null,null,null,null,null,null,null,null,null,null,null,null,null,null,null,"00:00:00","00:00:00",0,{"$f":"SpellNumber((AI88))","v":"No Dollars and No Cents"},3,"No "]
["00:00:00",null,null,null,null,0,null,null,0,null,null,{"$f":"IFERROR(VLOOKUP(K89,$AD$7:AE91,2,FALSE),0)","v":0},null,null,0,null,null,null,null,null,null,null,null,null,null,null,null,null,null,null,null,null,"00:00:00","00:00:00",0,{"$f":"SpellNumber((AI89))","v":"No Dollars and No Cents"},3,"No "]
["00:00:00",null,null,null,null,0,null,null,0,null,null,{"$f":"IFERROR(VLOOKUP(K90,$AD$7:AE92,2,FALSE),0)","v":0},null,null,0,null,null,null,null,null,null,null,null,null,null,null,null,null,null,null,null,null,"00:00:00","00:00:00",0,{"$f":"SpellNumber((AI90))","v":"No Dollars and No Cents"},3,"No "]
["00:00:00",null,null,null,null,0,null,null,0,null,null,{"$f":"IFERROR(VLOOKUP(K91,$AD$7:AE93,2,FALSE),0)","v":0},null,null,0,null,null,null,"Total Mins",{"$f":"SUM(A7:A104)","v":"00:00:00"},null,null,null,null,null,null,null,null,null,null,null,null,"00:00:00","00:00:00",0,{"$f":"SpellNumber((AI91))","v":"No Dollars and No Cents"},3,"No "]
["00:00:00",null,null,null,null,0,null,null,0,null,null,{"$f":"IFERROR(VLOOKUP(K92,$AD$7:AE94,2,FALSE),0)","v":0},null,null,0,null,null,null,"Settings:","A",{"$f":"COUNTIF(E4:E104,\"A\")","v":0},"Antec.","A",{"$f":"COUNTIF(H4:H104,\"A\")","v":0},"Beh","A",{"$f":"COUNTIF(L4:L104,\"A\")","v":0},"Conse.","A",{"$f":"COUNTIF(O4:O104,\"A\")","v":0},null,null,"00:00:00","00:00:00",0,{"$f":"SpellNumber((AI92))","v":"No Dollars and No Cents"},3,"No "]
["00:00:00",null,null,null,null,0,null,null,0,null,null,{"$f":"IFERROR(VLOOKUP(K93,$AD$7:AE95,2,FALSE),0)","v":0},null,null,0,null,null,null,null,"B",{"$f":"COUNTIF(E5:E105,\"B\")","v":0},null,"B",{"$f":"COUNTIF(H5:H105,\"B\")","v":0},null,"B",{"$f":"COUNTIF(L5:L105,\"B\")","v":0},null,"B",{"$f":"COUNTIF(O5:O105,\"B\")","v":0},null,null,"00:00:00","00:00:00",0,{"$f":"SpellNumber((AI93))","v":"No Dollars and No Cents"},3,"No "]
["00:00:00",null,null,null,null,0,null,null,0,null,null,{"$f":"IFERROR(VLOOKUP(K94,$AD$7:AE96,2,FALSE),0)","v":0},null,null,0,null,null,null,null,"C",{"$f":"COUNTIF(E6:E106,\"C\")","v":0},null,"C",{"$f":"COUNTIF(H6:H106,\"C\")","v":0},null,"C",{"$f":"COUNTIF(L6:L106,\"C\")","v":0},null,"C",{"$f":"COUNTIF(O6:O106,\"C\")","v":0},null,null,"00:00:00","00:00:00",0,{"$f":"SpellNumber((AI94))","v":"No Dollars and No Cents"},3,"No "]
["00:00:00",null,null,null,null,0,null,null,0,null,null,{"$f":"IFERROR(VLOOKUP(K95,$AD$7:AE97,2,FALSE),0)","v":0},null,null,0,null,null,null,null,"D",{"$f":"COUNTIF(E7:E107,\"D\")","v":0},null,"D",{"$f":"COUNTIF(H7:H107,\"D\")","v":0},null,null,null,null,"D",{"$f":"COUNTIF(O7:O107,\"D\")","v":0},null,null,"00:00:00","00:00:00",0,{"$f":"SpellNumber((AI95))","v":"No Dollars and No Cents"},3,"No "]
["00:00:00",null,null,null,null,0,null,null,0,null,null,{"$f":"IFERROR(VLOOKUP(K96,$AD$7:AE98,2,FALSE),0)","v":0},null,null,0,null,null,null,null,"E",{"$f":"COUNTIF(E8:E108,\"E\")","v":0},null,"E",{"$f":"COUNTIF(H8:H108,\"E\")","v":0},null,null,null,null,"E",{"$f":"COUNTIF(O8:O108,\"E\")","v":0},null,null,"00:00:00","00:00:00",0,{"$f":"SpellNumber((AI96))","v":"No Dollars and No Cents"},3,"No "]
["00:00:00",null,null,null,null,0,null,null,0,null,null,{"$f":"IFERROR(VLOOKUP(K97,$AD$7:AE99,2,FALSE),0)","v":0},null,null,0,null,null,null,null,"F",{"$f":"COUNTIF(E9:E109,\"F\")","v":0},null,"F",{"$f":"COUNTIF(H9:H109,\"F\")","v":0},null,null,null,null,"F",{"$f":"COUNTIF(O9:O109,\"F\")","v":0},null,null,"00:00:00","00:00:00",0,{"$f":"SpellNumber((AI97))","v":"No Dollars and No Cents"},3,"No "]
["00:00:00",null,null,null,null,0,null,null,0,null,null,{"$f":"IFERROR(VLOOKUP(K98,$AD$7:AE100,2,FALSE),0)","v":0},null,null,0,null,null,null,null,"G",{"$f":"COUNTIF(E10:E110,\"G\")","v":0},null,"G",{"$f":"COUNTIF(H10:H110,\"G\")","v":0},null,null,null,null,"G",{"$f":"COUNTIF(O10:O110,\"G\")","v":0},null,null,"00:00:00","00:00:00",0,{"$f":"SpellNumber((AI98))","v":"No Dollars and No Cents"},3,"No "]
["00:00:00",null,null,null,null,0,null,null,0,null,null,{"$f":"IFERROR(VLOOKUP(K99,$AD$7:AE101,2,FALSE),0)","v":0},null,null,0,null,null,null,null,"H",{"$f":"COUNTIF(E11:E111,\"H\")","v":0},null,"H",{"$f":"COUNTIF(H11:H111,\"H\")","v":0},null,null,null,null,"H",{"$f":"COUNTIF(O11:O111,\"H\")","v":0},null,null,"00:00:00","00:00:00",0,{"$f":"SpellNumber((AI99))","v":"No Dollars and No Cents"},3,"No "]
["00:00:00",null,null,null,null,0,null,null,0,null,null,{"$f":"IFERROR(VLOOKUP(K100,$AD$7:AE102,2,FALSE),0)","v":0},null,null,0,null,null,null,null,"I",{"$f":"COUNTIF(E12:E112,\"I\")","v":0},null,"I",{"$f":"COUNTIF(H12:H112,\"I\")","v":0},null,null,null,null,"I",{"$f":"COUNTIF(O12:O112,\"I\")","v":0},null,null,"00:00:00","00:00:00",0,{"$f":"SpellNumber((AI100))","v":"No Dollars and No Cents"},3,"No "]
["00:00:00",null,null,null,null,0,null,null,0,null,null,{"$f":"IFERROR(VLOOKUP(K101,$AD$7:AE103,2,FALSE),0)","v":0},null,null,0,null,null,null,null,"J",{"$f":"COUNTIF(E13:E113,\"J\")","v":0},null,"J",{"$f":"COUNTIF(H13:H113,\"J\")","v":0},null,null,null,null,"J",{"$f":"COUNTIF(O13:O113,\"J\")","v":0},null,null,"00:00:00","00:00:00",0,{"$f":"SpellNumber((AI101))","v":"No Dollars and No Cents"},3,"No "]
["00:00:00",null,null,null,null,0,null,null,0,null,null,{"$f":"IFERROR(VLOOKUP(K102,$AD$7:AE104,2,FALSE),0)","v":0},null,null,0,null,null,null,null,"K",{"$f":"COUNTIF(E14:E114,\"K\")","v":0},null,"K",{"$f":"COUNTIF(H14:H114,\"K\")","v":0},null,null,null,null,"K",{"$f":"COUNTIF(O14:O114,\"K\")","v":0},null,null,"00:00:00","00:00:00",0,{"$f":"SpellNumber((AI102))","v":"No Dollars and No Cents"},3,"No "]
["00:00:00",null,null,null,null,0,null,null,0,null,null,{"$f":"IFERROR(VLOOKUP(K103,$AD$7:AE105,2,FALSE),0)","v":0},null,null,0,null,null,null,null,"L",{"$f":"COUNTIF(E15:E115,\"L\")","v":0},null,"L",{"$f":"COUNTIF(H15:H115,\"L\")","v":0},null,null,null,null,"L",{"$f":"COUNTIF(O15:O115,\"L\")","v":0},null,null,"00:00:00","00:00:00",0,{"$f":"SpellNumber((AI103))","v":"No Dollars and No Cents"},3,"No "]
["00:00:00",null,null,null,null,0,null,null,0,null,null,{"$f":"IFERROR(VLOOKUP(K104,$AD$7:AE106,2,FALSE),0)","v":0},null,null,0,null,null,null,null,null,null,null,null,null,null,null,null,null,null,null,null,null,"00:00:00","00:00:00",0,{"$f":"SpellNumber((AI104))","v":"No Dollars and No Cents"},3,"No "]

{"sheet":"Data 10","index":18,"n_rows":104,"n_cols":38,"rows_kept":104,"cut":false,"hidden":false,"merged":[[0,7,3,14]]}
["ATTENDANCE",null,null,null,null,null,null,"Data Collection"]
["If tardy, arrival time",null,null,null,null,null,null,null,null,null,null,null,null,null,null,null,null,null,null,null,null,null,"Date",{"$f":"Calendar!E6","v":{"$error":"#N/A"}},{"$f":"TEXT(X2,\"ddd\")","v":{"$error":"#N/A"}}]
["If left early, time",null,null,null,null,null,null,null,null,null,null,null,null,null,null,null,null,null,null,null,null,null,"Frq. Of bx",{"$f":"AA22","v":0}]
[]
[]
["Mins.","Start Time","End Time",null,null,null,null,null,null,null,null,null,null,null,null,null,null,null,null,null,null,null,"Setting",null,null,"Ant",null,null,null,"Beh",null,null,"Raw Data","Time in text","Decimal"]
[{"$f":"C7-B7","v":"00:00:00"},null,null,null,null,{"$f":"IFERROR(VLOOKUP(E7,$V$7:$W$18,2,FALSE),0)","v":0},null,null,{"$f":"IFERROR(VLOOKUP(H7,$Z$7:$AA$18,2,FALSE),0)","v":0},null,null,{"$f":"IFERROR(VLOOKUP(K7,$AD$7:AE9,2,FALSE),0)","v":0},null,null,{"$f":"IFERROR(VLOOKUP(N7,$V$22:$W$33,2,FALSE),0)","v":0},null,null,null,null,null,null,"A",{"$f":"Criteria!C4","v":"Transition"},null,null,"A",{"$f":"Criteria!E4","v":"Transition"},null,null,"A",{"$f":"Criteria!G4","v":0},null,{"$f":"B7","v":"00:00:00"},{"$f":"TEXT(AG7,\"hh:mm:ss\")","v":"00:00:00"},{"$f":"AG7*24","v":0},{"$f":"SpellNumber((AI7))","v":"No Dollars and No Cents"},{"$f":"FIND(\" Dollar\",AJ7)","v":3},{"$f":"LEFT(AJ7,AK7)","v":"No "}]
[{"$f":"C8-B8","v":"00:00:00"},null,null,null,null,{"$f":"IFERROR(VLOOKUP(E8,$V$7:$W$18,2,FALSE),0)","v":0},null,null,{"$f":"IFERROR(VLOOKUP(H8,$Z$7:$AA$18,2,FALSE),0)","v":0},null,null,{"$f":"IFERROR(VLOOKUP(K8,$AD$7:AE10,2,FALSE),0)","v":0},null,null,{"$f":"IFERROR(VLOOKUP(N8,$V$22:$W$33,2,FALSE),0)","v":0},null,null,null,null,null,null,"B",{"$f":"Criteria!C5","v":"Morning Routine"},null,null,"B",{"$f":"Criteria!E5","v":"Denied access ('No')"},null,null,"B",{"$f":"Criteria!G5","v":0},null,{"$f":"B8","v":"00:00:00"},{"$f":"TEXT(AG8,\"hh:mm:ss\")","v":"00:00:00"},{"$f":"AG8*24","v":0},{"$f":"SpellNumber((AI8))","v":"No Dollars and No Cents"},{"$f":"FIND(\" Dollar\",AJ8)","v":3},{"$f":"LEFT(AJ8,AK8)","v":"No "}]
["00:00:00",null,null,null,null,{"$f":"IFERROR(VLOOKUP(E9,$V$7:$W$18,2,FALSE),0)","v":0},null,null,0,null,null,{"$f":"IFERROR(VLOOKUP(K9,$AD$7:AE11,2,FALSE),0)","v":0},null,null,0,null,null,null,null,null,null,"C",{"$f":"Criteria!C6","v":"Group Work"},null,null,"C",{"$f":"Criteria!E6","v":"Instruction/ Directions"},null,null,"C",{"$f":"Criteria!G6","v":0},null,"00:00:00","00:00:00",0,{"$f":"SpellNumber((AI9))","v":"No Dollars and No Cents"},3,"No "]
["00:00:00",null,null,null,null,0,null,null,0,null,null,{"$f":"IFERROR(VLOOKUP(K10,$AD$7:AE12,2,FALSE),0)","v":0},null,null,0,null,null,null,null,null,null,"D",{"$f":"Criteria!C7","v":"Ind. Seat/Work Time"},null,null,"D",{"$f":"Criteria!E7","v":"New Task"},null,null,null,null,null,"00:00:00","00:00:00",0,{"$f":"SpellNumber((AI10))","v":"No Dollars and No Cents"},3,"No "]
["00:00:00",null,null,null,null,0,null,null,0,null,null,{"$f":"IFERROR(VLOOKUP(K11,$AD$7:AE13,2,FALSE),0)","v":0},null,null,0,null,null,null,null,null,null,"E",{"$f":"Criteria!C8","v":"Language Arts"},null,null,"E",{"$f":"Criteria!E8","v":"Tcher attn to other"},null,null,null,null,null,"00:00:00","00:00:00",0,{"$f":"SpellNumber((AI11))","v":"No Dollars and No Cents"},3,"No "]
["00:00:00",null,null,null,null,0,null,null,0,null,null,{"$f":"IFERROR(VLOOKUP(K12,$AD$7:AE14,2,FALSE),0)","v":0},null,null,0,null,null,null,null,null,null,"F",{"$f":"Criteria!C9","v":"Mathematics"},null,null,"F",{"$f":"Criteria!E9","v":"Choice given"},null,null,null,null,null,"00:00:00","00:00:00",0,{"$f":"SpellNumber((AI12))","v":"No Dollars and No Cents"},3,"No "]
["00:00:00",null,null,null,null,0,null,null,0,null,null,{"$f":"IFERROR(VLOOKUP(K13,$AD$7:AE15,2,FALSE),0)","v":0},null,null,0,null,null,null,null,null,null,"G",{"$f":"Criteria!C10","v":"Physical Education"},null,null,"G",{"$f":"Criteria!E10","v":"Redirection"},null,null,null,null,null,"00:00:00","00:00:00",0,{"$f":"SpellNumber((AI13))","v":"No Dollars and No Cents"},3,"No "]
["00:00:00",null,null,null,null,0,null,null,0,null,null,{"$f":"IFERROR(VLOOKUP(K14,$AD$7:AE16,2,FALSE),0)","v":0},null,null,0,null,null,null,null,null,null,"H",{"$f":"Criteria!C11","v":"Music/Art"},null,null,"H",{"$f":"Criteria!E11","v":"Routine Task"},null,null,null,null,null,"00:00:00","00:00:00",0,{"$f":"SpellNumber((AI14))","v":"No Dollars and No Cents"},3,"No "]
["00:00:00",null,null,null,null,0,null,null,0,null,null,{"$f":"IFERROR(VLOOKUP(K15,$AD$7:AE17,2,FALSE),0)","v":0},null,null,0,null,null,null,null,null,null,"I",{"$f":"Criteria!C12","v":"Speech"},null,null,"I",{"$f":"Criteria!E12","v":"Waiting"},null,null,null,null,null,"00:00:00","00:00:00",0,{"$f":"SpellNumber((AI15))","v":"No Dollars and No Cents"},3,"No "]
["00:00:00",null,null,null,null,0,null,null,0,null,null,{"$f":"IFERROR(VLOOKUP(K16,$AD$7:AE18,2,FALSE),0)","v":0},null,null,0,null,null,null,null,null,null,"J",{"$f":"Criteria!C13","v":"OT/PT"},null,null,"J",{"$f":"Criteria!E13","v":"Unknown"},null,null,null,null,null,"00:00:00","00:00:00",0,{"$f":"SpellNumber((AI16))","v":"No Dollars and No Cents"},3,"No "]
["00:00:00",null,null,null,null,0,null,null,0,null,null,{"$f":"IFERROR(VLOOKUP(K17,$AD$7:AE19,2,FALSE),0)","v":0},null,null,0,null,null,null,null,null,null,"K",{"$f":"Criteria!C14","v":"Center"},null,null,"K",{"$f":"Criteria!E14","v":"Ignored"},null,null,null,null,null,"00:00:00","00:00:00",0,{"$f":"SpellNumber((AI17))","v":"No Dollars and No Cents"},3,"No "]
["00:00:00",null,null,null,null,0,null,null,0,null,null,{"$f":"IFERROR(VLOOKUP(K18,$AD$7:AE20,2,FALSE),0)","v":0},null,null,0,null,null,null,null,null,null,"L",{"$f":"Criteria!C15","v":"Other"},null,null,"L",{"$f":"Criteria!E15","v":"Other"},null,null,null,null,null,"00:00:00","00:00:00",0,{"$f":"SpellNumber((AI18))","v":"No Dollars and No Cents"},3,"No "]
["00:00:00",null,null,null,null,0,null,null,0,null,null,{"$f":"IFERROR(VLOOKUP(K19,$AD$7:AE21,2,FALSE),0)","v":0},null,null,0,null,null,null,null,null,null,null,null,null,null,null,null,null,null,null,null,null,"00:00:00","00:00:00",0,{"$f":"SpellNumber((AI19))","v":"No Dollars and No Cents"},3,"No "]
["00:00:00",null,null,null,null,0,null,null,0,null,null,{"$f":"IFERROR(VLOOKUP(K20,$AD$7:AE22,2,FALSE),0)","v":0},null,null,0,null,null,null,null,null,null,null,null,null,null,null,null,null,null,null,null,null,"00:00:00","00:00:00",0,{"$f":"SpellNumber((AI20))","v":"No Dollars and No Cents"},3,"No "]
["00:00:00",null,null,null,null,0,null,null,0,null,null,{"$f":"IFERROR(VLOOKUP(K21,$AD$7:AE23,2,FALSE),0)","v":0},null,null,0,null,null,null,null,null,null,null,"Con",null,"Bx Frequency Per Day",null,null,null,null,null,null,null,"00:00:00","00:00:00",0,{"$f":"SpellNumber((AI21))","v":"No Dollars and No Cents"},3,"No "]
["00:00:00",null,null,null,null,0,null,null,0,null,null,{"$f":"IFERROR(VLOOKUP(K22,$AD$7:AE24,2,FALSE),0)","v":0},null,null,0,null,null,null,null,null,null,"A",{"$f":"Criteria!I4","v":"Choice Given"},"A",{"$f":"COUNTIF(K7:K104,\"A\")","v":0},null,{"$f":"SUM(Y22:Y24)","v":0},null,"Bin Dec","Frequency of Time",null,null,"00:00:00","00:00:00",0,{"$f":"SpellNumber((AI22))","v":"No Dollars and No Cents"},3,"No "]
["00:00:00",null,null,null,null,0,null,null,0,null,null,{"$f":"IFERROR(VLOOKUP(K23,$AD$7:AE25,2,FALSE),0)","v":0},null,null,0,null,null,null,null,null,null,"B",{"$f":"Criteria!I5","v":"Ignored"},"B",{"$f":"COUNTIF(K7:K104,\"B\")","v":0},null,null,null,"Seven",{"$f":"COUNTIF(AL7:AL104,\"*Seven*\")","v":0},null,null,"00:00:00","00:00:00",0,{"$f":"SpellNumber((AI23))","v":"No Dollars and No Cents"},3,"No "]
["00:00:00",null,null,null,null,0,null,null,0,null,null,{"$f":"IFERROR(VLOOKUP(K24,$AD$7:AE26,2,FALSE),0)","v":0},null,null,0,null,null,null,null,null,null,"C",{"$f":"Criteria!I6","v":"Redirection"},"C",{"$f":"COUNTIF(K7:K104,\"C\")","v":0},null,null,null,"Eight",{"$f":"COUNTIF(AL7:AL104,\"*Eight*\")","v":0},null,null,"00:00:00","00:00:00",0,{"$f":"SpellNumber((AI24))","v":"No Dollars and No Cents"},3,"No "]
["00:00:00",null,null,null,null,0,null,null,0,null,null,{"$f":"IFERROR(VLOOKUP(K25,$AD$7:AE27,2,FALSE),0)","v":0},null,null,0,null,null,null,null,null,null,"D",{"$f":"Criteria!I7","v":"Kept the demand"},null,"Bx Druation Per Day",null,null,null,"Nine",{"$f":"COUNTIF(AL7:AL104,\"*Nine*\")","v":0},null,null,"00:00:00","00:00:00",0,{"$f":"SpellNumber((AI25))","v":"No Dollars and No Cents"},3,"No "]
["00:00:00",null,null,null,null,0,null,null,0,null,null,{"$f":"IFERROR(VLOOKUP(K26,$AD$7:AE28,2,FALSE),0)","v":0},null,null,0,null,null,null,null,null,null,"E",{"$f":"Criteria!I8","v":"Changed activity"},"A",{"$f":"SUMIF(K7:K104,\"A\",A7:A104)","v":"00:00:00"},null,null,null,"Ten",{"$f":"COUNTIF(AL7:AL12,\"*Ten*\")","v":0},null,null,"00:00:00","00:00:00",0,{"$f":"SpellNumber((AI26))","v":"No Dollars and No Cents"},3,"No "]
["00:00:00",null,null,null,null,0,null,null,0,null,null,{"$f":"IFERROR(VLOOKUP(K27,$AD$7:AE29,2,FALSE),0)","v":0},null,null,0,null,null,null,null,null,null,"F",{"$f":"Criteria!I9","v":"Verbal reprimand"},"B",{"$f":"SUMIF(K7:K104,\"B\",A7:A104)","v":"00:00:00"},null,null,null,"Eleven",{"$f":"COUNTIF(AL7:AL104,\"*Eleven*\")","v":0},null,null,"00:00:00","00:00:00",0,{"$f":"SpellNumber((AI27))","v":"No Dollars and No Cents"},3,"No "]
["00:00:00",null,null,null,null,0,null,null,0,null,null,{"$f":"IFERROR(VLOOKUP(K28,$AD$7:AE30,2,FALSE),0)","v":0},null,null,0,null,null,null,null,null,null,"G",{"$f":"Criteria!I10","v":"Told to wait"},"C",{"$f":"SUMIF(K7:K104,\"C\",A7:A104)","v":"00:00:00"},null,null,null,"Twelve",{"$f":"COUNTIF(AL7:AL104,\"*Twelve*\")","v":0},null,null,"00:00:00","00:00:00",0,{"$f":"SpellNumber((AI28))","v":"No Dollars and No Cents"},3,"No "]
["00:00:00",null,null,null,null,0,null,null,0,null,null,{"$f":"IFERROR(VLOOKUP(K29,$AD$7:AE31,2,FALSE),0)","v":0},null,null,0,null,null,null,null,null,null,"H",{"$f":"Criteria!I11","v":"Physical Prompt"},null,null,null,null,null,"One",{"$f":"COUNTIF(AL7:AL104,\"*One*\")","v":0},null,null,"00:00:00","00:00:00",0,{"$f":"SpellNumber((AI29))","v":"No Dollars and No Cents"},3,"No "]
["00:00:00",null,null,null,null,0,null,null,0,null,null,{"$f":"IFERROR(VLOOKUP(K30,$AD$7:AE32,2,FALSE),0)","v":0},null,null,0,null,null,null,null,null,null,"I",{"$f":"Criteria!I12","v":"Verbal prompt"},null,null,null,null,null,"Two",{"$f":"COUNTIF(AL7:AL104,\"*Two*\")","v":0},null,null,"00:00:00","00:00:00",0,{"$f":"SpellNumber((AI30))","v":"No Dollars and No Cents"},3,"No "]
["00:00:00",null,null,null,null,0,null,null,0,null,null,{"$f":"IFERROR(VLOOKUP(K31,$AD$7:AE33,2,FALSE),0)","v":0},null,null,0,null,null,null,null,null,null,"J",{"$f":"Criteria!I13","v":"Told to wait"},null,null,null,null,null,"Three",{"$f":"COUNTIF(AL7:AL104,\"*Three*\")","v":0},null,null,"00:00:00","00:00:00",0,{"$f":"SpellNumber((AI31))","v":"No Dollars and No Cents"},3,"No "]
["00:00:00",null,null,null,null,0,null,null,0,null,null,{"$f":"IFERROR(VLOOKUP(K32,$AD$7:AE34,2,FALSE),0)","v":0},null,null,0,null,null,null,null,null,null,"K",{"$f":"Criteria!I14","v":"Unknown"},null,null,null,null,null,"Four",{"$f":"COUNTIF(AL7:AL104,\"*Four*\")","v":0},null,null,"00:00:00","00:00:00",0,{"$f":"SpellNumber((AI32))","v":"No Dollars and No Cents"},3,"No "]
["00:00:00",null,null,null,null,0,null,null,0,null,null,{"$f":"IFERROR(VLOOKUP(K33,$AD$7:AE35,2,FALSE),0)","v":0},null,null,0,null,null,null,null,null,null,"L",{"$f":"Criteria!I15","v":"Other"},null,null,null,null,null,null,null,null,null,"00:00:00","00:00:00",0,{"$f":"SpellNumber((AI33))","v":"No Dollars and No Cents"},3,"No "]
["00:00:00",null,null,null,null,0,null,null,0,null,null,{"$f":"IFERROR(VLOOKUP(K34,$AD$7:AE36,2,FALSE),0)","v":0},null,null,0,null,null,null,null,null,null,null,null,null,null,null,null,null,null,null,null,null,"00:00:00","00:00:00",0,{"$f":"SpellNumber((AI34))","v":"No Dollars and No Cents"},3,"No "]
["00:00:00",null,null,null,null,0,null,null,0,null,null,{"$f":"IFERROR(VLOOKUP(K35,$AD$7:AE37,2,FALSE),0)","v":0},null,null,0,null,null,null,null,null,null,null,"Context Frequency","Consequence","Antedencents",null,null,null,null,null,null,null,"00:00:00","00:00:00",0,{"$f":"SpellNumber((AI35))","v":"No Dollars and No Cents"},3,"No "]
["00:00:00",null,null,null,null,0,null,null,0,null,null,{"$f":"IFERROR(VLOOKUP(K36,$AD$7:AE38,2,FALSE),0)","v":0},null,null,0,null,null,null,null,null,null,"A",{"$f":"COUNTIF(E7:E104,\"A\")","v":0},{"$f":"COUNTIF(N7:N104,\"A\")","v":0},{"$f":"COUNTIF(H7:H104,\"A\")","v":0},null,null,null,null,null,null,null,"00:00:00","00:00:00",0,{"$f":"SpellNumber((AI36))","v":"No Dollars and No Cents"},3,"No "]
["00:00:00",null,null,null,null,0,null,null,0,null,null,{"$f":"IFERROR(VLOOKUP(K37,$AD$7:AE39,2,FALSE),0)","v":0},null,null,0,null,null,null,null,null,null,"B",{"$f":"COUNTIF(E8:E105,\"B\")","v":0},{"$f":"COUNTIF(N7:N104,\"B\")","v":0},{"$f":"COUNTIF(H7:H104,\"B\")","v":0},null,null,null,null,null,null,null,"00:00:00","00:00:00",0,{"$f":"SpellNumber((AI37))","v":"No Dollars and No Cents"},3,"No "]
["00:00:00",null,null,null,null,0,null,null,0,null,null,{"$f":"IFERROR(VLOOKUP(K38,$AD$7:AE40,2,FALSE),0)","v":0},null,null,0,null,null,null,null,null,null,"C",{"$f":"COUNTIF(E8:E105,\"C\")","v":0},{"$f":"COUNTIF(N7:N104,\"C\")","v":0},{"$f":"COUNTIF(H7:H104,\"C\")","v":0},null,null,null,null,null,null,null,"00:00:00","00:00:00",0,{"$f":"SpellNumber((AI38))","v":"No Dollars and No Cents"},3,"No "]
["00:00:00",null,null,null,null,0,null,null,0,null,null,{"$f":"IFERROR(VLOOKUP(K39,$AD$7:AE41,2,FALSE),0)","v":0},null,null,0,null,null,null,null,null,null,"D",{"$f":"COUNTIF(E8:E105,\"D\")","v":0},{"$f":"COUNTIF(N7:N104,\"D\")","v":0},{"$f":"COUNTIF(H7:H104,\"D\")","v":0},null,null,null,null,null,null,null,"00:00:00","00:00:00",0,{"$f":"SpellNumber((AI39))","v":"No Dollars and No Cents"},3,"No "]
["00:00:00",null,null,null,null,0,null,null,0,null,null,{"$f":"IFERROR(VLOOKUP(K40,$AD$7:AE42,2,FALSE),0)","v":0},null,null,0,null,null,null,null,null,null,"E",{"$f":"COUNTIF(E8:E105,\"E\")","v":0},{"$f":"COUNTIF(N7:N104,\"E\")","v":0},{"$f":"COUNTIF(H7:H104,\"E\")","v":0},null,null,null,null,null,null,null,"00:00:00","00:00:00",0,{"$f":"SpellNumber((AI40))","v":"No Dollars and No Cents"},3,"No "]
["00:00:00",null,null,null,null,0,null,null,0,null,null,{"$f":"IFERROR(VLOOKUP(K41,$AD$7:AE43,2,FALSE),0)","v":0},null,null,0,null,null,null,null,null,null,"F",{"$f":"COUNTIF(E8:E105,\"F\")","v":0},{"$f":"COUNTIF(N7:N104,\"F\")","v":0},{"$f":"COUNTIF(H7:H104,\"F\")","v":0},null,null,null,null,null,null,null,"00:00:00","00:00:00",0,{"$f":"SpellNumber((AI41))","v":"No Dollars and No Cents"},3,"No "]
["00:00:00",null,null,null,null,0,null,null,0,null,null,{"$f":"IFERROR(VLOOKUP(K42,$AD$7:AE44,2,FALSE),0)","v":0},null,null,0,null,null,null,null,null,null,"G",{"$f":"COUNTIF(E8:E105,\"G\")","v":0},{"$f":"COUNTIF(N7:N104,\"G\")","v":0},{"$f":"COUNTIF(H7:H104,\"G\")","v":0},null,null,null,null,null,null,null,"00:00:00","00:00:00",0,{"$f":"SpellNumber((AI42))","v":"No Dollars and No Cents"},3,"No "]
["00:00:00",null,null,null,null,0,null,null,0,null,null,{"$f":"IFERROR(VLOOKUP(K43,$AD$7:AE45,2,FALSE),0)","v":0},null,null,0,null,null,null,null,null,null,"H",{"$f":"COUNTIF(E8:E105,\"H\")","v":0},{"$f":"COUNTIF(N7:N104,\"H\")","v":0},{"$f":"COUNTIF(H7:H104,\"H\")","v":0},null,null,null,null,null,null,null,"00:00:00","00:00:00",0,{"$f":"SpellNumber((AI43))","v":"No Dollars and No Cents"},3,"No "]
["00:00:00",null,null,null,null,0,null,null,0,null,null,{"$f":"IFERROR(VLOOKUP(K44,$AD$7:AE46,2,FALSE),0)","v":0},null,null,0,null,null,null,null,null,null,"I",{"$f":"COUNTIF(E8:E105,\"I\")","v":0},{"$f":"COUNTIF(N7:N104,\"I\")","v":0},{"$f":"COUNTIF(H7:H104,\"I\")","v":0},null,null,null,null,null,null,null,"00:00:00","00:00:00",0,{"$f":"SpellNumber((AI44))","v":"No Dollars and No Cents"},3,"No "]
["00:00:00",null,null,null,null,0,null,null,0,null,null,{"$f":"IFERROR(VLOOKUP(K45,$AD$7:AE47,2,FALSE),0)","v":0},null,null,0,null,null,null,null,null,null,"J",{"$f":"COUNTIF(E8:E105,\"J\")","v":0},{"$f":"COUNTIF(N7:N104,\"J\")","v":0},{"$f":"COUNTIF(H7:H104,\"J\")","v":0},null,null,null,null,null,null,null,"00:00:00","00:00:00",0,{"$f":"SpellNumber((AI45))","v":"No Dollars and No Cents"},3,"No "]
["00:00:00",null,null,null,null,0,null,null,0,null,null,{"$f":"IFERROR(VLOOKUP(K46,$AD$7:AE48,2,FALSE),0)","v":0},null,null,0,null,null,null,null,null,null,"K",{"$f":"COUNTIF(E8:E105,\"K\")","v":0},{"$f":"COUNTIF(N7:N104,\"K\")","v":0},{"$f":"COUNTIF(H7:H104,\"K\")","v":0},null,null,null,null,null,null,null,"00:00:00","00:00:00",0,{"$f":"SpellNumber((AI46))","v":"No Dollars and No Cents"},3,"No "]
["00:00:00",null,null,null,null,0,null,null,0,null,null,{"$f":"IFERROR(VLOOKUP(K47,$AD$7:AE49,2,FALSE),0)","v":0},null,null,0,null,null,null,null,null,null,"L",{"$f":"COUNTIF(E8:E105,\"l\")","v":0},{"$f":"COUNTIF(N7:N104,\"L\")","v":0},{"$f":"COUNTIF(H7:H104,\"L\")","v":0},null,null,null,null,null,null,null,"00:00:00","00:00:00",0,{"$f":"SpellNumber((AI47))","v":"No Dollars and No Cents"},3,"No "]
["00:00:00",null,null,null,null,0,null,null,0,null,null,{"$f":"IFERROR(VLOOKUP(K48,$AD$7:AE50,2,FALSE),0)","v":0},null,null,0,null,null,null,null,null,null,null,null,null,null,null,null,null,null,null,null,null,"00:00:00","00:00:00",0,{"$f":"SpellNumber((AI48))","v":"No Dollars and No Cents"},3,"No "]
["00:00:00",null,null,null,null,0,null,null,0,null,null,{"$f":"IFERROR(VLOOKUP(K49,$AD$7:AE51,2,FALSE),0)","v":0},null,null,0,null,null,null,null,null,null,null,"Beh & Setting ",null,null,null,"Beh & Antecedents",null,null,null,null,null,"00:00:00","00:00:00",0,{"$f":"SpellNumber((AI49))","v":"No Dollars and No Cents"},3,"No "]
["00:00:00",null,null,null,null,0,null,null,0,null,null,{"$f":"IFERROR(VLOOKUP(K50,$AD$7:AE52,2,FALSE),0)","v":0},null,null,0,null,null,null,null,null,null,null,"A","B","C",null,null,"A","B","C",null,null,"00:00:00","00:00:00",0,{"$f":"SpellNumber((AI50))","v":"No Dollars and No Cents"},3,"No "]
["00:00:00",null,null,null,null,0,null,null,0,null,null,{"$f":"IFERROR(VLOOKUP(K51,$AD$7:AE53,2,FALSE),0)","v":0},null,null,0,null,null,null,null,null,null,"A",{"$f":"COUNTIFS(E7:E104,\"A\",K7:K104,\"A\")","v":0},{"$f":"COUNTIFS(E7:E104,\"A\",K7:K104,\"B\")","v":0},{"$f":"COUNTIFS(E7:E104,\"A\",K7:K104,\"C\")","v":0},null,"A",{"$f":"COUNTIFS(H7:H104,\"a\",K7:K104,\"A\")","v":0},{"$f":"COUNTIFS(H7:H104,\"A\",K7:K104,\"B\")","v":0},{"$f":"COUNTIFS(H7:H104,\"A\",K7:K104,\"C\")","v":0},null,null,"00:00:00","00:00:00",0,{"$f":"SpellNumber((AI51))","v":"No Dollars and No Cents"},3,"No "]
["00:00:00",null,null,null,null,0,null,null,0,null,null,{"$f":"IFERROR(VLOOKUP(K52,$AD$7:AE54,2,FALSE),0)","v":0},null,null,0,null,null,null,null,null,null,"B",{"$f":"COUNTIFS(E7:E104,\"B\",K7:K104,\"A\")","v":0},{"$f":"COUNTIFS(E7:E104,\"B\",K7:K104,\"B\")","v":0},{"$f":"COUNTIFS(E7:E104,\"B\",K7:K104,\"C\")","v":0},null,"B",{"$f":"COUNTIFS(H7:H104,\"B\",K7:K104,\"A\")","v":0},{"$f":"COUNTIFS(H7:H104,\"B\",K7:K104,\"B\")","v":0},{"$f":"COUNTIFS(H7:H104,\"B\",K7:K104,\"C\")","v":0},null,null,"00:00:00","00:00:00",0,{"$f":"SpellNumber((AI52))","v":"No Dollars and No Cents"},3,"No "]
["00:00:00",null,null,null,null,0,null,null,0,null,null,{"$f":"IFERROR(VLOOKUP(K53,$AD$7:AE55,2,FALSE),0)","v":0},null,null,0,null,null,null,null,null,null,"C",{"$f":"COUNTIFS(K7:K104,\"C\",K7:K104,\"A\")","v":0},{"$f":"COUNTIFS(E7:E104,\"C\",K7:K104,\"B\")","v":0},{"$f":"COUNTIFS(E7:E104,\"C\",K7:K104,\"C\")","v":0},null,"C",{"$f":"COUNTIFS(H7:H104,\"C\",K7:K104,\"A\")","v":0},{"$f":"COUNTIFS(H7:H104,\"C\",K7:K104,\"B\")","v":0},{"$f":"COUNTIFS(H7:H104,\"C\",K7:K104,\"C\")","v":0},null,null,"00:00:00","00:00:00",0,{"$f":"SpellNumber((AI53))","v":"No Dollars and No Cents"},3,"No "]
["00:00:00",null,null,null,null,0,null,null,0,null,null,{"$f":"IFERROR(VLOOKUP(K54,$AD$7:AE56,2,FALSE),0)","v":0},null,null,0,null,null,null,null,null,null,"D",{"$f":"COUNTIFS(E7:E104,\"D\",K7:K104,\"A\")","v":0},{"$f":"COUNTIFS(E7:E104,\"D\",K7:K104,\"B\")","v":0},{"$f":"COUNTIFS(E7:E104,\"D\",K7:K104,\"C\")","v":0},null,"D",{"$f":"COUNTIFS(H7:H104,\"D\",K7:K104,\"A\")","v":0},{"$f":"COUNTIFS(H7:H104,\"D\",K7:K104,\"B\")","v":0},{"$f":"COUNTIFS(H7:H104,\"D\",K7:K104,\"C\")","v":0},null,null,"00:00:00","00:00:00",0,{"$f":"SpellNumber((AI54))","v":"No Dollars and No Cents"},3,"No "]
["00:00:00",null,null,null,null,0,null,null,0,null,null,{"$f":"IFERROR(VLOOKUP(K55,$AD$7:AE57,2,FALSE),0)","v":0},null,null,0,null,null,null,null,null,null,"E",{"$f":"COUNTIFS(E7:E104,\"E\",K7:K104,\"A\")","v":0},{"$f":"COUNTIFS(E7:E104,\"E\",K7:K104,\"B\")","v":0},{"$f":"COUNTIFS(E7:E104,\"E\",K7:K104,\"C\")","v":0},null,"E",{"$f":"COUNTIFS(H7:H104,\"E\",K7:K104,\"A\")","v":0},{"$f":"COUNTIFS(H7:H104,\"E\",K7:K104,\"B\")","v":0},{"$f":"COUNTIFS(H7:H104,\"E\",K7:K104,\"C\")","v":0},null,null,"00:00:00","00:00:00",0,{"$f":"SpellNumber((AI55))","v":"No Dollars and No Cents"},3,"No "]
["00:00:00",null,null,null,null,0,null,null,0,null,null,{"$f":"IFERROR(VLOOKUP(K56,$AD$7:AE58,2,FALSE),0)","v":0},null,null,0,null,null,null,null,null,null,"F",{"$f":"COUNTIFS(E7:E104,\"F\",K7:K104,\"A\")","v":0},{"$f":"COUNTIFS(E7:E104,\"F\",K7:K104,\"B\")","v":0},{"$f":"COUNTIFS(E7:E104,\"F\",K7:K104,\"C\")","v":0},null,"F",{"$f":"COUNTIFS(H7:H104,\"F\",K7:K104,\"A\")","v":0},{"$f":"COUNTIFS(H7:H104,\"F\",K7:K104,\"B\")","v":0},{"$f":"COUNTIFS(H7:H104,\"F\",K7:K104,\"C\")","v":0},null,null,"00:00:00","00:00:00",0,{"$f":"SpellNumber((AI56))","v":"No Dollars and No Cents"},3,"No "]
["00:00:00",null,null,null,null,0,null,null,0,null,null,{"$f":"IFERROR(VLOOKUP(K57,$AD$7:AE59,2,FALSE),0)","v":0},null,null,0,null,null,null,null,null,null,"G",{"$f":"COUNTIFS(E7:E104,\"G\",K7:K104,\"A\")","v":0},{"$f":"COUNTIFS(E7:E104,\"G\",K7:K104,\"B\")","v":0},{"$f":"COUNTIFS(E7:E104,\"G\",K7:K104,\"C\")","v":0},null,"G",{"$f":"COUNTIFS(H7:H104,\"G\",K7:K104,\"A\")","v":0},{"$f":"COUNTIFS(H7:H104,\"G\",K7:K104,\"B\")","v":0},{"$f":"COUNTIFS(H7:H104,\"G\",K7:K104,\"C\")","v":0},null,null,"00:00:00","00:00:00",0,{"$f":"SpellNumber((AI57))","v":"No Dollars and No Cents"},3,"No "]
["00:00:00",null,null,null,null,0,null,null,0,null,null,{"$f":"IFERROR(VLOOKUP(K58,$AD$7:AE60,2,FALSE),0)","v":0},null,null,0,null,null,null,null,null,null,"H",{"$f":"COUNTIFS(E7:E104,\"H\",K7:K104,\"A\")","v":0},{"$f":"COUNTIFS(E7:E104,\"H\",K7:K104,\"B\")","v":0},{"$f":"COUNTIFS(E7:E104,\"H\",K7:K104,\"C\")","v":0},null,"H",{"$f":"COUNTIFS(H7:H104,\"H\",K7:K104,\"A\")","v":0},{"$f":"COUNTIFS(H7:H104,\"H\",K7:K104,\"B\")","v":0},{"$f":"COUNTIFS(H7:H104,\"H\",K7:K104,\"C\")","v":0},null,null,"00:00:00","00:00:00",0,{"$f":"SpellNumber((AI58))","v":"No Dollars and No Cents"},3,"No "]
["00:00:00",null,null,null,null,0,null,null,0,null,null,{"$f":"IFERROR(VLOOKUP(K59,$AD$7:AE61,2,FALSE),0)","v":0},null,null,0,null,null,null,null,null,null,"I",{"$f":"COUNTIFS(E7:E104,\"I\",K7:K104,\"A\")","v":0},{"$f":"COUNTIFS(E7:E104,\"I\",K7:K104,\"B\")","v":0},{"$f":"COUNTIFS(E7:E104,\"I\",K7:K104,\"C\")","v":0},null,"I",{"$f":"COUNTIFS(H7:H104,\"I\",K7:K104,\"A\")","v":0},{"$f":"COUNTIFS(H7:H104,\"I\",K7:K104,\"B\")","v":0},{"$f":"COUNTIFS(H7:H104,\"I\",K7:K104,\"C\")","v":0},null,null,"00:00:00","00:00:00",0,{"$f":"SpellNumber((AI59))","v":"No Dollars and No Cents"},3,"No "]
["00:00:00",null,null,null,null,0,null,null,0,null,null,{"$f":"IFERROR(VLOOKUP(K60,$AD$7:AE62,2,FALSE),0)","v":0},null,null,0,null,null,null,null,null,null,"J",{"$f":"COUNTIFS(E7:E104,\"J\",K7:K104,\"A\")","v":0},{"$f":"COUNTIFS(E7:E104,\"J\",K7:K104,\"B\")","v":0},{"$f":"COUNTIFS(E7:E104,\"J\",K7:K104,\"C\")","v":0},null,"J",{"$f":"COUNTIFS(H7:H104,\"J\",K7:K104,\"A\")","v":0},{"$f":"COUNTIFS(H7:H104,\"J\",K7:K104,\"B\")","v":0},{"$f":"COUNTIFS(H7:H104,\"J\",K7:K104,\"C\")","v":0},null,null,"00:00:00","00:00:00",0,{"$f":"SpellNumber((AI60))","v":"No Dollars and No Cents"},3,"No "]
["00:00:00",null,null,null,null,0,null,null,0,null,null,{"$f":"IFERROR(VLOOKUP(K61,$AD$7:AE63,2,FALSE),0)","v":0},null,null,0,null,null,null,null,null,null,"K",{"$f":"COUNTIFS(E7:E104,\"K\",K7:K104,\"A\")","v":0},{"$f":"COUNTIFS(E7:E104,\"K\",K7:K104,\"B\")","v":0},{"$f":"COUNTIFS(E7:E104,\"K\",K7:K104,\"C\")","v":0},null,"K",{"$f":"COUNTIFS(H7:H104,\"K\",K7:K104,\"A\")","v":0},{"$f":"COUNTIFS(H7:H104,\"K\",K7:K104,\"B\")","v":0},{"$f":"COUNTIFS(H7:H104,\"K\",K7:K104,\"C\")","v":0},null,null,"00:00:00","00:00:00",0,{"$f":"SpellNumber((AI61))","v":"No Dollars and No Cents"},3,"No "]
["00:00:00",null,null,null,null,0,null,null,0,null,null,{"$f":"IFERROR(VLOOKUP(K62,$AD$7:AE64,2,FALSE),0)","v":0},null,null,0,null,null,null,null,null,null,"L",{"$f":"COUNTIFS(E7:E104,\"L\",K7:K104,\"A\")","v":0},{"$f":"COUNTIFS(E7:E104,\"L\",K7:K104,\"B\")","v":0},{"$f":"COUNTIFS(E7:E104,\"L\",K7:K104,\"C\")","v":0},null,"L",{"$f":"COUNTIFS(H7:H104,\"L\",K7:K104,\"A\")","v":0},{"$f":"COUNTIFS(H7:H104,\"L\",K7:K104,\"B\")","v":0},{"$f":"COUNTIFS(H7:H104,\"L\",K7:K104,\"C\")","v":0},null,null,"00:00:00","00:00:00",0,{"$f":"SpellNumber((AI62))","v":"No Dollars and No Cents"},3,"No "]
["00:00:00",null,null,null,null,0,null,null,0,null,null,{"$f":"IFERROR(VLOOKUP(K63,$AD$7:AE65,2,FALSE),0)","v":0},null,null,0,null,null,null,null,null,null,null,"Beh & Consequences",null,null,null,null,null,null,null,null,null,"00:00:00","00:00:00",0,{"$f":"SpellNumber((AI63))","v":"No Dollars and No Cents"},3,"No "]
["00:00:00",null,null,null,null,0,null,null,0,null,null,{"$f":"IFERROR(VLOOKUP(K64,$AD$7:AE66,2,FALSE),0)","v":0},null,null,0,null,null,null,null,null,null,null,"A","B","C",null,null,null,null,null,null,null,"00:00:00","00:00:00",0,{"$f":"SpellNumber((AI64))","v":"No Dollars and No Cents"},3,"No "]
["00:00:00",null,null,null,null,0,null,null,0,null,null,{"$f":"IFERROR(VLOOKUP(K65,$AD$7:AE67,2,FALSE),0)","v":0},null,null,0,null,null,null,null,null,null,"A",{"$f":"COUNTIFS(N7:N104,\"A\",K7:K104,\"A\")","v":0},{"$f":"COUNTIFS(N7:N104,\"A\",K7:K104,\"B\")","v":0},{"$f":"COUNTIFS(N7:N104,\"A\",K7:K104,\"C\")","v":0},null,null,null,null,null,null,null,"00:00:00","00:00:00",0,{"$f":"SpellNumber((AI65))","v":"No Dollars and No Cents"},3,"No "]
["00:00:00",null,null,null,null,0,null,null,0,null,null,{"$f":"IFERROR(VLOOKUP(K66,$AD$7:AE68,2,FALSE),0)","v":0},null,null,0,null,null,null,null,null,null,"B",{"$f":"COUNTIFS(N7:N104,\"B\",K7:K104,\"A\")","v":0},{"$f":"COUNTIFS(N7:N104,\"B\",K7:K104,\"B\")","v":0},{"$f":"COUNTIFS(N7:N104,\"B\",K7:K104,\"C\")","v":0},null,null,null,null,null,null,null,"00:00:00","00:00:00",0,{"$f":"SpellNumber((AI66))","v":"No Dollars and No Cents"},3,"No "]
["00:00:00",null,null,null,null,0,null,null,0,null,null,{"$f":"IFERROR(VLOOKUP(K67,$AD$7:AE69,2,FALSE),0)","v":0},null,null,0,null,null,null,null,null,null,"C",{"$f":"COUNTIFS(N7:N104,\"C\",K7:K104,\"A\")","v":0},{"$f":"COUNTIFS(N7:N104,\"C\",K7:K104,\"B\")","v":0},{"$f":"COUNTIFS(N7:N104,\"C\",K7:K104,\"C\")","v":0},null,null,null,null,null,null,null,"00:00:00","00:00:00",0,{"$f":"SpellNumber((AI67))","v":"No Dollars and No Cents"},3,"No "]
["00:00:00",null,null,null,null,0,null,null,0,null,null,{"$f":"IFERROR(VLOOKUP(K68,$AD$7:AE70,2,FALSE),0)","v":0},null,null,0,null,null,null,null,null,null,"D",{"$f":"COUNTIFS(N7:N104,\"D\",K7:K104,\"A\")","v":0},{"$f":"COUNTIFS(N7:N104,\"D\",K7:K104,\"B\")","v":0},{"$f":"COUNTIFS(N7:N104,\"D\",K7:K104,\"C\")","v":0},null,null,null,null,null,null,null,"00:00:00","00:00:00",0,{"$f":"SpellNumber((AI68))","v":"No Dollars and No Cents"},3,"No "]
["00:00:00",null,null,null,null,0,null,null,0,null,null,{"$f":"IFERROR(VLOOKUP(K69,$AD$7:AE71,2,FALSE),0)","v":0},null,null,0,null,null,null,null,null,null,"E",{"$f":"COUNTIFS(N7:N104,\"E\",K7:K104,\"A\")","v":0},{"$f":"COUNTIFS(N7:N104,\"E\",K7:K104,\"B\")","v":0},{"$f":"COUNTIFS(N7:N104,\"E\",K7:K104,\"C\")","v":0},null,null,null,null,null,null,null,"00:00:00","00:00:00",0,{"$f":"SpellNumber((AI69))","v":"No Dollars and No Cents"},3,"No "]
["00:00:00",null,null,null,null,0,null,null,0,null,null,{"$f":"IFERROR(VLOOKUP(K70,$AD$7:AE72,2,FALSE),0)","v":0},null,null,0,null,null,null,null,null,null,"F",{"$f":"COUNTIFS(N7:N104,\"F\",K7:K104,\"A\")","v":0},{"$f":"COUNTIFS(N7:N104,\"F\",K7:K104,\"B\")","v":0},{"$f":"COUNTIFS(N7:N104,\"F\",K7:K104,\"C\")","v":0},null,null,null,null,null,null,null,"00:00:00","00:00:00",0,{"$f":"SpellNumber((AI70))","v":"No Dollars and No Cents"},3,"No "]
["00:00:00",null,null,null,null,0,null,null,0,null,null,{"$f":"IFERROR(VLOOKUP(K71,$AD$7:AE73,2,FALSE),0)","v":0},null,null,0,null,null,null,null,null,null,"G",{"$f":"COUNTIFS(N7:N104,\"G\",K7:K104,\"A\")","v":0},{"$f":"COUNTIFS(N7:N104,\"G\",K7:K104,\"B\")","v":0},{"$f":"COUNTIFS(N7:N104,\"G\",K7:K104,\"C\")","v":0},null,null,null,null,null,null,null,"00:00:00","00:00:00",0,{"$f":"SpellNumber((AI71))","v":"No Dollars and No Cents"},3,"No "]
[{"$f":"C72-B72","v":"00:00:00"},null,null,null,null,0,null,null,{"$f":"IFERROR(VLOOKUP(H72,$Z$7:$AA$18,2,FALSE),0)","v":0},null,null,{"$f":"IFERROR(VLOOKUP(K72,$AD$7:AE74,2,FALSE),0)","v":0},null,null,{"$f":"IFERROR(VLOOKUP(N72,$V$22:$W$33,2,FALSE),0)","v":0},null,null,null,null,null,null,"H",{"$f":"COUNTIFS(N7:N104,\"H\",K7:K104,\"A\")","v":0},{"$f":"COUNTIFS(N7:N104,\"H\",K7:K104,\"B\")","v":0},{"$f":"COUNTIFS(N7:N104,\"H\",K7:K104,\"C\")","v":0},null,null,null,null,null,null,null,{"$f":"B72","v":"00:00:00"},{"$f":"TEXT(AG72,\"hh:mm:ss\")","v":"00:00:00"},{"$f":"AG72*24","v":0},{"$f":"SpellNumber((AI72))","v":"No Dollars and No Cents"},{"$f":"FIND(\" Dollar\",AJ72)","v":3},{"$f":"LEFT(AJ72,AK72)","v":"No "}]
["00:00:00",null,null,null,null,{"$f":"IFERROR(VLOOKUP(E73,$V$7:$W$18,2,FALSE),0)","v":0},null,null,0,null,null,{"$f":"IFERROR(VLOOKUP(K73,$AD$7:AE75,2,FALSE),0)","v":0},null,null,0,null,null,null,null,null,null,"I",{"$f":"COUNTIFS(N7:N104,\"I\",K7:K104,\"A\")","v":0},{"$f":"COUNTIFS(N7:N104,\"I\",K7:K104,\"B\")","v":0},{"$f":"COUNTIFS(N7:N104,\"I\",K7:K104,\"C\")","v":0},null,null,null,null,null,null,null,"00:00:00","00:00:00",0,{"$f":"SpellNumber((AI73))","v":"No Dollars and No Cents"},3,"No "]
["00:00:00",null,null,null,null,0,null,null,0,null,null,{"$f":"IFERROR(VLOOKUP(K74,$AD$7:AE76,2,FALSE),0)","v":0},null,null,0,null,null,null,null,null,null,"J",{"$f":"COUNTIFS(N7:N104,\"J\",K7:K104,\"A\")","v":0},{"$f":"COUNTIFS(N7:N104,\"J\",K7:K104,\"B\")","v":0},{"$f":"COUNTIFS(N7:N104,\"J\",K7:K104,\"C\")","v":0},null,null,null,null,null,null,null,"00:00:00","00:00:00",0,{"$f":"SpellNumber((AI74))","v":"No Dollars and No Cents"},3,"No "]
["00:00:00",null,null,null,null,0,null,null,0,null,null,{"$f":"IFERROR(VLOOKUP(K75,$AD$7:AE77,2,FALSE),0)","v":0},null,null,0,null,null,null,null,null,null,"K",{"$f":"COUNTIFS(N7:N104,\"K\",K7:K104,\"A\")","v":0},{"$f":"COUNTIFS(N7:N104,\"K\",K7:K104,\"B\")","v":0},{"$f":"COUNTIFS(N7:N104,\"K\",K7:K104,\"C\")","v":0},null,null,null,null,null,null,null,"00:00:00","00:00:00",0,{"$f":"SpellNumber((AI75))","v":"No Dollars and No Cents"},3,"No "]
["00:00:00",null,null,null,null,0,null,null,0,null,null,{"$f":"IFERROR(VLOOKUP(K76,$AD$7:AE78,2,FALSE),0)","v":0},null,null,0,null,null,null,null,null,null,"L",{"$f":"COUNTIFS(N7:N104,\"L\",K7:K104,\"A\")","v":0},{"$f":"COUNTIFS(N7:N104,\"L\",K7:K104,\"B\")","v":0},{"$f":"COUNTIFS(N7:N104,\"L\",K7:K104,\"C\")","v":0},null,null,null,null,null,null,null,"00:00:00","00:00:00",0,{"$f":"SpellNumber((AI76))","v":"No Dollars and No Cents"},3,"No "]
["00:00:00",null,null,null,null,0,null,null,0,null,null,{"$f":"IFERROR(VLOOKUP(K77,$AD$7:AE79,2,FALSE),0)","v":0},null,null,0,null,null,null,null,null,null,null,null,null,null,null,null,null,null,null,null,null,"00:00:00","00:00:00",0,{"$f":"SpellNumber((AI77))","v":"No Dollars and No Cents"},3,"No "]
["00:00:00",null,null,null,null,0,null,null,0,null,null,{"$f":"IFERROR(VLOOKUP(K78,$AD$7:AE80,2,FALSE),0)","v":0},null,null,0,null,null,null,null,null,null,null,null,null,null,null,null,null,null,null,null,null,"00:00:00","00:00:00",0,{"$f":"SpellNumber((AI78))","v":"No Dollars and No Cents"},3,"No "]
["00:00:00",null,null,null,null,0,null,null,0,null,null,{"$f":"IFERROR(VLOOKUP(K79,$AD$7:AE81,2,FALSE),0)","v":0},null,null,0,null,null,null,null,null,null,null,null,null,null,null,null,null,null,null,null,null,"00:00:00","00:00:00",0,{"$f":"SpellNumber((AI79))","v":"No Dollars and No Cents"},3,"No "]
["00:00:00",null,null,null,null,0,null,null,0,null,null,{"$f":"IFERROR(VLOOKUP(K80,$AD$7:AE82,2,FALSE),0)","v":0},null,null,0,null,null,null,null,null,null,null,null,null,null,null,null,null,null,null,null,null,"00:00:00","00:00:00",0,{"$f":"SpellNumber((AI80))","v":"No Dollars and No Cents"},3,"No "]
["00:00:00",null,null,null,null,0,null,null,0,null,null,{"$f":"IFERROR(VLOOKUP(K81,$AD$7:AE83,2,FALSE),0)","v":0},null,null,0,null,null,null,null,null,null,null,null,null,null,null,null,null,null,null,null,null,"00:00:00","00:00:00",0,{"$f":"SpellNumber((AI81))","v":"No Dollars and No Cents"},3,"No "]
["00:00:00",null,null,null,null,0,null,null,0,null,null,{"$f":"IFERROR(VLOOKUP(K82,$AD$7:AE84,2,FALSE),0)","v":0},null,null,0,null,null,null,null,null,null,null,null,null,null,null,null,null,null,null,null,null,"00:00:00","00:00:00",0,{"$f":"SpellNumber((AI82))","v":"No Dollars and No Cents"},3,"No "]
["00:00:00",null,null,null,null,0,null,null,0,null,null,{"$f":"IFERROR(VLOOKUP(K83,$AD$7:AE85,2,FALSE),0)","v":0},null,null,0,null,null,null,null,null,null,null,null,null,null,null,null,null,null,null,null,null,"00:00:00","00:00:00",0,{"$f":"SpellNumber((AI83))","v":"No Dollars and No Cents"},3,"No "]
["00:00:00",null,null,null,null,0,null,null,0,null,null,{"$f":"IFERROR(VLOOKUP(K84,$AD$7:AE86,2,FALSE),0)","v":0},null,null,0,null,null,null,null,null,null,null,null,null,null,null,null,null,null,null,null,null,"00:00:00","00:00:00",0,{"$f":"SpellNumber((AI84))","v":"No Dollars and No Cents"},3,"No "]
["00:00:00",null,null,null,null,0,null,null,0,null,null,{"$f":"IFERROR(VLOOKUP(K85,$AD$7:AE87,2,FALSE),0)","v":0},null,null,0,null,null,null,null,null,null,null,null,null,null,null,null,null,null,null,null,null,"00:00:00","00:00:00",0,{"$f":"SpellNumber((AI85))","v":"No Dollars and No Cents"},3,"No "]
["00:00:00",null,null,null,null,0,null,null,0,null,null,{"$f":"IFERROR(VLOOKUP(K86,$AD$7:AE88,2,FALSE),0)","v":0},null,null,0,null,null,null,null,null,null,null,null,null,null,null,null,null,null,null,null,null,"00:00:00","00:00:00",0,{"$f":"SpellNumber((AI86))","v":"No Dollars and No Cents"},3,"No "]
["00:00:00",null,null,null,null,0,null,null,0,null,null,{"$f":"IFERROR(VLOOKUP(K87,$AD$7:AE89,2,FALSE),0)","v":0},null,null,0,null,null,null,null,null,null,null,null,null,null,null,null,null,null,null,null,null,"00:00:00","00:00:00",0,{"$f":"SpellNumber((AI87))","v":"No Dollars and No Cents"},3,"No "]
["00:00:00",null,null,null,null,0,null,null,0,null,null,{"$f":"IFERROR(VLOOKUP(K88,$AD$7:AE90,2,FALSE),0)","v":0},null,null,0,null,null,null,null,null,null,null,null,null,null,null,null,null,null,null,null,null,"00:00:00","00:00:00",0,{"$f":"SpellNumber((AI88))","v":"No Dollars and No Cents"},3,"No "]
["00:00:00",null,null,null,null,0,null,null,0,null,null,{"$f":"IFERROR(VLOOKUP(K89,$AD$7:AE91,2,FALSE),0)","v":0},null,null,0,null,null,null,null,null,null,null,null,null,null,null,null,null,null,null,null,null,"00:00:00","00:00:00",0,{"$f":"SpellNumber((AI89))","v":"No Dollars and No Cents"},3,"No "]
["00:00:00",null,null,null,null,0,null,null,0,null,null,{"$f":"IFERROR(VLOOKUP(K90,$AD$7:AE92,2,FALSE),0)","v":0},null,null,0,null,null,null,null,null,null,null,null,null,null,null,null,null,null,null,null,null,"00:00:00","00:00:00",0,{"$f":"SpellNumber((AI90))","v":"No Dollars and No Cents"},3,"No "]
["00:00:00",null,null,null,null,0,null,null,0,null,null,{"$f":"IFERROR(VLOOKUP(K91,$AD$7:AE93,2,FALSE),0)","v":0},null,null,0,null,null,null,"Total Mins",{"$f":"SUM(A7:A104)","v":"00:00:00"},null,null,null,null,null,null,null,null,null,null,null,null,"00:00:00","00:00:00",0,{"$f":"SpellNumber((AI91))","v":"No Dollars and No Cents"},3,"No "]
["00:00:00",null,null,null,null,0,null,null,0,null,null,{"$f":"IFERROR(VLOOKUP(K92,$AD$7:AE94,2,FALSE),0)","v":0},null,null,0,null,null,null,"Settings:","A",{"$f":"COUNTIF(E4:E104,\"A\")","v":0},"Antec.","A",{"$f":"COUNTIF(H4:H104,\"A\")","v":0},"Beh","A",{"$f":"COUNTIF(L4:L104,\"A\")","v":0},"Conse.","A",{"$f":"COUNTIF(O4:O104,\"A\")","v":0},null,null,"00:00:00","00:00:00",0,{"$f":"SpellNumber((AI92))","v":"No Dollars and No Cents"},3,"No "]
["00:00:00",null,null,null,null,0,null,null,0,null,null,{"$f":"IFERROR(VLOOKUP(K93,$AD$7:AE95,2,FALSE),0)","v":0},null,null,0,null,null,null,null,"B",{"$f":"COUNTIF(E5:E105,\"B\")","v":0},null,"B",{"$f":"COUNTIF(H5:H105,\"B\")","v":0},null,"B",{"$f":"COUNTIF(L5:L105,\"B\")","v":0},null,"B",{"$f":"COUNTIF(O5:O105,\"B\")","v":0},null,null,"00:00:00","00:00:00",0,{"$f":"SpellNumber((AI93))","v":"No Dollars and No Cents"},3,"No "]
["00:00:00",null,null,null,null,0,null,null,0,null,null,{"$f":"IFERROR(VLOOKUP(K94,$AD$7:AE96,2,FALSE),0)","v":0},null,null,0,null,null,null,null,"C",{"$f":"COUNTIF(E6:E106,\"C\")","v":0},null,"C",{"$f":"COUNTIF(H6:H106,\"C\")","v":0},null,"C",{"$f":"COUNTIF(L6:L106,\"C\")","v":0},null,"C",{"$f":"COUNTIF(O6:O106,\"C\")","v":0},null,null,"00:00:00","00:00:00",0,{"$f":"SpellNumber((AI94))","v":"No Dollars and No Cents"},3,"No "]
["00:00:00",null,null,null,null,0,null,null,0,null,null,{"$f":"IFERROR(VLOOKUP(K95,$AD$7:AE97,2,FALSE),0)","v":0},null,null,0,null,null,null,null,"D",{"$f":"COUNTIF(E7:E107,\"D\")","v":0},null,"D",{"$f":"COUNTIF(H7:H107,\"D\")","v":0},null,null,null,null,"D",{"$f":"COUNTIF(O7:O107,\"D\")","v":0},null,null,"00:00:00","00:00:00",0,{"$f":"SpellNumber((AI95))","v":"No Dollars and No Cents"},3,"No "]
["00:00:00",null,null,null,null,0,null,null,0,null,null,{"$f":"IFERROR(VLOOKUP(K96,$AD$7:AE98,2,FALSE),0)","v":0},null,null,0,null,null,null,null,"E",{"$f":"COUNTIF(E8:E108,\"E\")","v":0},null,"E",{"$f":"COUNTIF(H8:H108,\"E\")","v":0},null,null,null,null,"E",{"$f":"COUNTIF(O8:O108,\"E\")","v":0},null,null,"00:00:00","00:00:00",0,{"$f":"SpellNumber((AI96))","v":"No Dollars and No Cents"},3,"No "]
["00:00:00",null,null,null,null,0,null,null,0,null,null,{"$f":"IFERROR(VLOOKUP(K97,$AD$7:AE99,2,FALSE),0)","v":0},null,null,0,null,null,null,null,"F",{"$f":"COUNTIF(E9:E109,\"F\")","v":0},null,"F",{"$f":"COUNTIF(H9:H109,\"F\")","v":0},null,null,null,null,"F",{"$f":"COUNTIF(O9:O109,\"F\")","v":0},null,null,"00:00:00","00:00:00",0,{"$f":"SpellNumber((AI97))","v":"No Dollars and No Cents"},3,"No "]
["00:00:00",null,null,null,null,0,null,null,0,null,null,{"$f":"IFERROR(VLOOKUP(K98,$AD$7:AE100,2,FALSE),0)","v":0},null,null,0,null,null,null,null,"G",{"$f":"COUNTIF(E10:E110,\"G\")","v":0},null,"G",{"$f":"COUNTIF(H10:H110,\"G\")","v":0},null,null,null,null,"G",{"$f":"COUNTIF(O10:O110,\"G\")","v":0},null,null,"00:00:00","00:00:00",0,{"$f":"SpellNumber((AI98))","v":"No Dollars and No Cents"},3,"No "]
["00:00:00",null,null,null,null,0,null,null,0,null,null,{"$f":"IFERROR(VLOOKUP(K99,$AD$7:AE101,2,FALSE),0)","v":0},null,null,0,null,null,null,null,"H",{"$f":"COUNTIF(E11:E111,\"H\")","v":0},null,"H",{"$f":"COUNTIF(H11:H111,\"H\")","v":0},null,null,null,null,"H",{"$f":"COUNTIF(O11:O111,\"H\")","v":0},null,null,"00:00:00","00:00:00",0,{"$f":"SpellNumber((AI99))","v":"No Dollars and No Cents"},3,"No "]
["00:00:00",null,null,null,null,0,null,null,0,null,null,{"$f":"IFERROR(VLOOKUP(K100,$AD$7:AE102,2,FALSE),0)","v":0},null,null,0,null,null,null,null,"I",{"$f":"COUNTIF(E12:E112,\"I\")","v":0},null,"I",{"$f":"COUNTIF(H12:H112,\"I\")","v":0},null,null,null,null,"I",{"$f":"COUNTIF(O12:O112,\"I\")","v":0},null,null,"00:00:00","00:00:00",0,{"$f":"SpellNumber((AI100))","v":"No Dollars and No Cents"},3,"No "]
["00:00:00",null,null,null,null,0,null,null,0,null,null,{"$f":"IFERROR(VLOOKUP(K101,$AD$7:AE103,2,FALSE),0)","v":0},null,null,0,null,null,null,null,"J",{"$f":"COUNTIF(E13:E113,\"J\")","v":0},null,"J",{"$f":"COUNTIF(H13:H113,\"J\")","v":0},null,null,null,null,"J",{"$f":"COUNTIF(O13:O113,\"J\")","v":0},null,null,"00:00:00","00:00:00",0,{"$f":"SpellNumber((AI101))","v":"No Dollars and No Cents"},3,"No "]
["00:00:00",null,null,null,null,0,null,null,0,null,null,{"$f":"IFERROR(VLOOKUP(K102,$AD$7:AE104,2,FALSE),0)","v":0},null,null,0,null,null,null,null,"K",{"$f":"COUNTIF(E14:E114,\"K\")","v":0},null,"K",{"$f":"COUNTIF(H14:H114,\"K\")","v":0},null,null,null,null,"K",{"$f":"COUNTIF(O14:O114,\"K\")","v":0},null,null,"00:00:00","00:00:00",0,{"$f":"SpellNumber((AI102))","v":"No Dollars and No Cents"},3,"No "]
["00:00:00",null,null,null,null,0,null,null,0,null,null,{"$f":"IFERROR(VLOOKUP(K103,$AD$7:AE105,2,FALSE),0)","v":0},null,null,0,null,null,null,null,"L",{"$f":"COUNTIF(E15:E115,\"L\")","v":0},null,"L",{"$f":"COUNTIF(H15:H115,\"L\")","v":0},null,null,null,null,"L",{"$f":"COUNTIF(O15:O115,\"L\")","v":0},null,null,"00:00:00","00:00:00",0,{"$f":"SpellNumber((AI103))","v":"No Dollars and No Cents"},3,"No "]
["00:00:00",null,null,null,null,0,null,null,0,null,null,{"$f":"IFERROR(VLOOKUP(K104,$AD$7:AE106,2,FALSE),0)","v":0},null,null,0,null,null,null,null,null,null,null,null,null,null,null,null,null,null,null,null,null,"00:00:00","00:00:00",0,{"$f":"SpellNumber((AI104))","v":"No Dollars and No Cents"},3,"No "]

{"sheet":"Data 11","index":19,"n_rows":104,"n_cols":38,"rows_kept":104,"cut":false,"hidden":false,"merged":[[0,7,3,14]]}
["ATTENDANCE",null,null,null,null,null,null,"Data Collection"]
["If tardy, arrival time",null,null,null,null,null,null,null,null,null,null,null,null,null,null,null,null,null,null,null,null,null,"Date",{"$f":"Calendar!F6","v":{"$error":"#N/A"}},{"$f":"TEXT(X2,\"ddd\")","v":{"$error":"#N/A"}}]
["If left early, time",null,null,null,null,null,null,null,null,null,null,null,null,null,null,null,null,null,null,null,null,null,"Frq. Of bx",{"$f":"AA22","v":0}]
[]
[]
["Mins.","Start Time","End Time",null,null,null,null,null,null,null,null,null,null,null,null,null,null,null,null,null,null,null,"Setting",null,null,"Ant",null,null,null,"Beh",null,null,"Raw Data","Time in text","Decimal"]
[{"$f":"C7-B7","v":"00:00:00"},null,null,null,null,{"$f":"IFERROR(VLOOKUP(E7,$V$7:$W$18,2,FALSE),0)","v":0},null,null,{"$f":"IFERROR(VLOOKUP(H7,$Z$7:$AA$18,2,FALSE),0)","v":0},null,null,{"$f":"IFERROR(VLOOKUP(K7,$AD$7:AE9,2,FALSE),0)","v":0},null,null,{"$f":"IFERROR(VLOOKUP(N7,$V$22:$W$33,2,FALSE),0)","v":0},null,null,null,null,null,null,"A",{"$f":"Criteria!C4","v":"Transition"},null,null,"A",{"$f":"Criteria!E4","v":"Transition"},null,null,"A",{"$f":"Criteria!G4","v":0},null,{"$f":"B7","v":"00:00:00"},{"$f":"TEXT(AG7,\"hh:mm:ss\")","v":"00:00:00"},{"$f":"AG7*24","v":0},{"$f":"SpellNumber((AI7))","v":"No Dollars and No Cents"},{"$f":"FIND(\" Dollar\",AJ7)","v":3},{"$f":"LEFT(AJ7,AK7)","v":"No "}]
[{"$f":"C8-B8","v":"00:00:00"},null,null,null,null,{"$f":"IFERROR(VLOOKUP(E8,$V$7:$W$18,2,FALSE),0)","v":0},null,null,{"$f":"IFERROR(VLOOKUP(H8,$Z$7:$AA$18,2,FALSE),0)","v":0},null,null,{"$f":"IFERROR(VLOOKUP(K8,$AD$7:AE10,2,FALSE),0)","v":0},null,null,{"$f":"IFERROR(VLOOKUP(N8,$V$22:$W$33,2,FALSE),0)","v":0},null,null,null,null,null,null,"B",{"$f":"Criteria!C5","v":"Morning Routine"},null,null,"B",{"$f":"Criteria!E5","v":"Denied access ('No')"},null,null,"B",{"$f":"Criteria!G5","v":0},null,{"$f":"B8","v":"00:00:00"},{"$f":"TEXT(AG8,\"hh:mm:ss\")","v":"00:00:00"},{"$f":"AG8*24","v":0},{"$f":"SpellNumber((AI8))","v":"No Dollars and No Cents"},{"$f":"FIND(\" Dollar\",AJ8)","v":3},{"$f":"LEFT(AJ8,AK8)","v":"No "}]
["00:00:00",null,null,null,null,{"$f":"IFERROR(VLOOKUP(E9,$V$7:$W$18,2,FALSE),0)","v":0},null,null,0,null,null,{"$f":"IFERROR(VLOOKUP(K9,$AD$7:AE11,2,FALSE),0)","v":0},null,null,0,null,null,null,null,null,null,"C",{"$f":"Criteria!C6","v":"Group Work"},null,null,"C",{"$f":"Criteria!E6","v":"Instruction/ Directions"},null,null,"C",{"$f":"Criteria!G6","v":0},null,"00:00:00","00:00:00",0,{"$f":"SpellNumber((AI9))","v":"No Dollars and No Cents"},3,"No "]
["00:00:00",null,null,null,null,0,null,null,0,null,null,{"$f":"IFERROR(VLOOKUP(K10,$AD$7:AE12,2,FALSE),0)","v":0},null,null,0,null,null,null,null,null,null,"D",{"$f":"Criteria!C7","v":"Ind. Seat/Work Time"},null,null,"D",{"$f":"Criteria!E7","v":"New Task"},null,null,null,null,null,"00:00:00","00:00:00",0,{"$f":"SpellNumber((AI10))","v":"No Dollars and No Cents"},3,"No "]
["00:00:00",null,null,null,null,0,null,null,0,null,null,{"$f":"IFERROR(VLOOKUP(K11,$AD$7:AE13,2,FALSE),0)","v":0},null,null,0,null,null,null,null,null,null,"E",{"$f":"Criteria!C8","v":"Language Arts"},null,null,"E",{"$f":"Criteria!E8","v":"Tcher attn to other"},null,null,null,null,null,"00:00:00","00:00:00",0,{"$f":"SpellNumber((AI11))","v":"No Dollars and No Cents"},3,"No "]
["00:00:00",null,null,null,null,0,null,null,0,null,null,{"$f":"IFERROR(VLOOKUP(K12,$AD$7:AE14,2,FALSE),0)","v":0},null,null,0,null,null,null,null,null,null,"F",{"$f":"Criteria!C9","v":"Mathematics"},null,null,"F",{"$f":"Criteria!E9","v":"Choice given"},null,null,null,null,null,"00:00:00","00:00:00",0,{"$f":"SpellNumber((AI12))","v":"No Dollars and No Cents"},3,"No "]
["00:00:00",null,null,null,null,0,null,null,0,null,null,{"$f":"IFERROR(VLOOKUP(K13,$AD$7:AE15,2,FALSE),0)","v":0},null,null,0,null,null,null,null,null,null,"G",{"$f":"Criteria!C10","v":"Physical Education"},null,null,"G",{"$f":"Criteria!E10","v":"Redirection"},null,null,null,null,null,"00:00:00","00:00:00",0,{"$f":"SpellNumber((AI13))","v":"No Dollars and No Cents"},3,"No "]
["00:00:00",null,null,null,null,0,null,null,0,null,null,{"$f":"IFERROR(VLOOKUP(K14,$AD$7:AE16,2,FALSE),0)","v":0},null,null,0,null,null,null,null,null,null,"H",{"$f":"Criteria!C11","v":"Music/Art"},null,null,"H",{"$f":"Criteria!E11","v":"Routine Task"},null,null,null,null,null,"00:00:00","00:00:00",0,{"$f":"SpellNumber((AI14))","v":"No Dollars and No Cents"},3,"No "]
["00:00:00",null,null,null,null,0,null,null,0,null,null,{"$f":"IFERROR(VLOOKUP(K15,$AD$7:AE17,2,FALSE),0)","v":0},null,null,0,null,null,null,null,null,null,"I",{"$f":"Criteria!C12","v":"Speech"},null,null,"I",{"$f":"Criteria!E12","v":"Waiting"},null,null,null,null,null,"00:00:00","00:00:00",0,{"$f":"SpellNumber((AI15))","v":"No Dollars and No Cents"},3,"No "]
["00:00:00",null,null,null,null,0,null,null,0,null,null,{"$f":"IFERROR(VLOOKUP(K16,$AD$7:AE18,2,FALSE),0)","v":0},null,null,0,null,null,null,null,null,null,"J",{"$f":"Criteria!C13","v":"OT/PT"},null,null,"J",{"$f":"Criteria!E13","v":"Unknown"},null,null,null,null,null,"00:00:00","00:00:00",0,{"$f":"SpellNumber((AI16))","v":"No Dollars and No Cents"},3,"No "]
["00:00:00",null,null,null,null,0,null,null,0,null,null,{"$f":"IFERROR(VLOOKUP(K17,$AD$7:AE19,2,FALSE),0)","v":0},null,null,0,null,null,null,null,null,null,"K",{"$f":"Criteria!C14","v":"Center"},null,null,"K",{"$f":"Criteria!E14","v":"Ignored"},null,null,null,null,null,"00:00:00","00:00:00",0,{"$f":"SpellNumber((AI17))","v":"No Dollars and No Cents"},3,"No "]
["00:00:00",null,null,null,null,0,null,null,0,null,null,{"$f":"IFERROR(VLOOKUP(K18,$AD$7:AE20,2,FALSE),0)","v":0},null,null,0,null,null,null,null,null,null,"L",{"$f":"Criteria!C15","v":"Other"},null,null,"L",{"$f":"Criteria!E15","v":"Other"},null,null,null,null,null,"00:00:00","00:00:00",0,{"$f":"SpellNumber((AI18))","v":"No Dollars and No Cents"},3,"No "]
["00:00:00",null,null,null,null,0,null,null,0,null,null,{"$f":"IFERROR(VLOOKUP(K19,$AD$7:AE21,2,FALSE),0)","v":0},null,null,0,null,null,null,null,null,null,null,null,null,null,null,null,null,null,null,null,null,"00:00:00","00:00:00",0,{"$f":"SpellNumber((AI19))","v":"No Dollars and No Cents"},3,"No "]
["00:00:00",null,null,null,null,0,null,null,0,null,null,{"$f":"IFERROR(VLOOKUP(K20,$AD$7:AE22,2,FALSE),0)","v":0},null,null,0,null,null,null,null,null,null,null,null,null,null,null,null,null,null,null,null,null,"00:00:00","00:00:00",0,{"$f":"SpellNumber((AI20))","v":"No Dollars and No Cents"},3,"No "]
["00:00:00",null,null,null,null,0,null,null,0,null,null,{"$f":"IFERROR(VLOOKUP(K21,$AD$7:AE23,2,FALSE),0)","v":0},null,null,0,null,null,null,null,null,null,null,"Con",null,"Bx Frequency Per Day",null,null,null,null,null,null,null,"00:00:00","00:00:00",0,{"$f":"SpellNumber((AI21))","v":"No Dollars and No Cents"},3,"No "]
["00:00:00",null,null,null,null,0,null,null,0,null,null,{"$f":"IFERROR(VLOOKUP(K22,$AD$7:AE24,2,FALSE),0)","v":0},null,null,0,null,null,null,null,null,null,"A",{"$f":"Criteria!I4","v":"Choice Given"},"A",{"$f":"COUNTIF(K7:K104,\"A\")","v":0},null,{"$f":"SUM(Y22:Y24)","v":0},null,"Bin Dec","Frequency of Time",null,null,"00:00:00","00:00:00",0,{"$f":"SpellNumber((AI22))","v":"No Dollars and No Cents"},3,"No "]
["00:00:00",null,null,null,null,0,null,null,0,null,null,{"$f":"IFERROR(VLOOKUP(K23,$AD$7:AE25,2,FALSE),0)","v":0},null,null,0,null,null,null,null,null,null,"B",{"$f":"Criteria!I5","v":"Ignored"},"B",{"$f":"COUNTIF(K7:K104,\"B\")","v":0},null,null,null,"Seven",{"$f":"COUNTIF(AL7:AL104,\"*Seven*\")","v":0},null,null,"00:00:00","00:00:00",0,{"$f":"SpellNumber((AI23))","v":"No Dollars and No Cents"},3,"No "]
["00:00:00",null,null,null,null,0,null,null,0,null,null,{"$f":"IFERROR(VLOOKUP(K24,$AD$7:AE26,2,FALSE),0)","v":0},null,null,0,null,null,null,null,null,null,"C",{"$f":"Criteria!I6","v":"Redirection"},"C",{"$f":"COUNTIF(K7:K104,\"C\")","v":0},null,null,null,"Eight",{"$f":"COUNTIF(AL7:AL104,\"*Eight*\")","v":0},null,null,"00:00:00","00:00:00",0,{"$f":"SpellNumber((AI24))","v":"No Dollars and No Cents"},3,"No "]
["00:00:00",null,null,null,null,0,null,null,0,null,null,{"$f":"IFERROR(VLOOKUP(K25,$AD$7:AE27,2,FALSE),0)","v":0},null,null,0,null,null,null,null,null,null,"D",{"$f":"Criteria!I7","v":"Kept the demand"},null,"Bx Druation Per Day",null,null,null,"Nine",{"$f":"COUNTIF(AL7:AL104,\"*Nine*\")","v":0},null,null,"00:00:00","00:00:00",0,{"$f":"SpellNumber((AI25))","v":"No Dollars and No Cents"},3,"No "]
["00:00:00",null,null,null,null,0,null,null,0,null,null,{"$f":"IFERROR(VLOOKUP(K26,$AD$7:AE28,2,FALSE),0)","v":0},null,null,0,null,null,null,null,null,null,"E",{"$f":"Criteria!I8","v":"Changed activity"},"A",{"$f":"SUMIF(K7:K104,\"A\",A7:A104)","v":"00:00:00"},null,null,null,"Ten",{"$f":"COUNTIF(AL7:AL12,\"*Ten*\")","v":0},null,null,"00:00:00","00:00:00",0,{"$f":"SpellNumber((AI26))","v":"No Dollars and No Cents"},3,"No "]
["00:00:00",null,null,null,null,0,null,null,0,null,null,{"$f":"IFERROR(VLOOKUP(K27,$AD$7:AE29,2,FALSE),0)","v":0},null,null,0,null,null,null,null,null,null,"F",{"$f":"Criteria!I9","v":"Verbal reprimand"},"B",{"$f":"SUMIF(K7:K104,\"B\",A7:A104)","v":"00:00:00"},null,null,null,"Eleven",{"$f":"COUNTIF(AL7:AL104,\"*Eleven*\")","v":0},null,null,"00:00:00","00:00:00",0,{"$f":"SpellNumber((AI27))","v":"No Dollars and No Cents"},3,"No "]
["00:00:00",null,null,null,null,0,null,null,0,null,null,{"$f":"IFERROR(VLOOKUP(K28,$AD$7:AE30,2,FALSE),0)","v":0},null,null,0,null,null,null,null,null,null,"G",{"$f":"Criteria!I10","v":"Told to wait"},"C",{"$f":"SUMIF(K7:K104,\"C\",A7:A104)","v":"00:00:00"},null,null,null,"Twelve",{"$f":"COUNTIF(AL7:AL104,\"*Twelve*\")","v":0},null,null,"00:00:00","00:00:00",0,{"$f":"SpellNumber((AI28))","v":"No Dollars and No Cents"},3,"No "]
["00:00:00",null,null,null,null,0,null,null,0,null,null,{"$f":"IFERROR(VLOOKUP(K29,$AD$7:AE31,2,FALSE),0)","v":0},null,null,0,null,null,null,null,null,null,"H",{"$f":"Criteria!I11","v":"Physical Prompt"},null,null,null,null,null,"One",{"$f":"COUNTIF(AL7:AL104,\"*One*\")","v":0},null,null,"00:00:00","00:00:00",0,{"$f":"SpellNumber((AI29))","v":"No Dollars and No Cents"},3,"No "]
["00:00:00",null,null,null,null,0,null,null,0,null,null,{"$f":"IFERROR(VLOOKUP(K30,$AD$7:AE32,2,FALSE),0)","v":0},null,null,0,null,null,null,null,null,null,"I",{"$f":"Criteria!I12","v":"Verbal prompt"},null,null,null,null,null,"Two",{"$f":"COUNTIF(AL7:AL104,\"*Two*\")","v":0},null,null,"00:00:00","00:00:00",0,{"$f":"SpellNumber((AI30))","v":"No Dollars and No Cents"},3,"No "]
["00:00:00",null,null,null,null,0,null,null,0,null,null,{"$f":"IFERROR(VLOOKUP(K31,$AD$7:AE33,2,FALSE),0)","v":0},null,null,0,null,null,null,null,null,null,"J",{"$f":"Criteria!I13","v":"Told to wait"},null,null,null,null,null,"Three",{"$f":"COUNTIF(AL7:AL104,\"*Three*\")","v":0},null,null,"00:00:00","00:00:00",0,{"$f":"SpellNumber((AI31))","v":"No Dollars and No Cents"},3,"No "]
["00:00:00",null,null,null,null,0,null,null,0,null,null,{"$f":"IFERROR(VLOOKUP(K32,$AD$7:AE34,2,FALSE),0)","v":0},null,null,0,null,null,null,null,null,null,"K",{"$f":"Criteria!I14","v":"Unknown"},null,null,null,null,null,"Four",{"$f":"COUNTIF(AL7:AL104,\"*Four*\")","v":0},null,null,"00:00:00","00:00:00",0,{"$f":"SpellNumber((AI32))","v":"No Dollars and No Cents"},3,"No "]
["00:00:00",null,null,null,null,0,null,null,0,null,null,{"$f":"IFERROR(VLOOKUP(K33,$AD$7:AE35,2,FALSE),0)","v":0},null,null,0,null,null,null,null,null,null,"L",{"$f":"Criteria!I15","v":"Other"},null,null,null,null,null,null,null,null,null,"00:00:00","00:00:00",0,{"$f":"SpellNumber((AI33))","v":"No Dollars and No Cents"},3,"No "]
["00:00:00",null,null,null,null,0,null,null,0,null,null,{"$f":"IFERROR(VLOOKUP(K34,$AD$7:AE36,2,FALSE),0)","v":0},null,null,0,null,null,null,null,null,null,null,null,null,null,null,null,null,null,null,null,null,"00:00:00","00:00:00",0,{"$f":"SpellNumber((AI34))","v":"No Dollars and No Cents"},3,"No "]
["00:00:00",null,null,null,null,0,null,null,0,null,null,{"$f":"IFERROR(VLOOKUP(K35,$AD$7:AE37,2,FALSE),0)","v":0},null,null,0,null,null,null,null,null,null,null,"Context Frequency","Consequence","Antedencents",null,null,null,null,null,null,null,"00:00:00","00:00:00",0,{"$f":"SpellNumber((AI35))","v":"No Dollars and No Cents"},3,"No "]
["00:00:00",null,null,null,null,0,null,null,0,null,null,{"$f":"IFERROR(VLOOKUP(K36,$AD$7:AE38,2,FALSE),0)","v":0},null,null,0,null,null,null,null,null,null,"A",{"$f":"COUNTIF(E7:E104,\"A\")","v":0},{"$f":"COUNTIF(N7:N104,\"A\")","v":0},{"$f":"COUNTIF(H7:H104,\"A\")","v":0},null,null,null,null,null,null,null,"00:00:00","00:00:00",0,{"$f":"SpellNumber((AI36))","v":"No Dollars and No Cents"},3,"No "]
["00:00:00",null,null,null,null,0,null,null,0,null,null,{"$f":"IFERROR(VLOOKUP(K37,$AD$7:AE39,2,FALSE),0)","v":0},null,null,0,null,null,null,null,null,null,"B",{"$f":"COUNTIF(E8:E105,\"B\")","v":0},{"$f":"COUNTIF(N7:N104,\"B\")","v":0},{"$f":"COUNTIF(H7:H104,\"B\")","v":0},null,null,null,null,null,null,null,"00:00:00","00:00:00",0,{"$f":"SpellNumber((AI37))","v":"No Dollars and No Cents"},3,"No "]
["00:00:00",null,null,null,null,0,null,null,0,null,null,{"$f":"IFERROR(VLOOKUP(K38,$AD$7:AE40,2,FALSE),0)","v":0},null,null,0,null,null,null,null,null,null,"C",{"$f":"COUNTIF(E8:E105,\"C\")","v":0},{"$f":"COUNTIF(N7:N104,\"C\")","v":0},{"$f":"COUNTIF(H7:H104,\"C\")","v":0},null,null,null,null,null,null,null,"00:00:00","00:00:00",0,{"$f":"SpellNumber((AI38))","v":"No Dollars and No Cents"},3,"No "]
["00:00:00",null,null,null,null,0,null,null,0,null,null,{"$f":"IFERROR(VLOOKUP(K39,$AD$7:AE41,2,FALSE),0)","v":0},null,null,0,null,null,null,null,null,null,"D",{"$f":"COUNTIF(E8:E105,\"D\")","v":0},{"$f":"COUNTIF(N7:N104,\"D\")","v":0},{"$f":"COUNTIF(H7:H104,\"D\")","v":0},null,null,null,null,null,null,null,"00:00:00","00:00:00",0,{"$f":"SpellNumber((AI39))","v":"No Dollars and No Cents"},3,"No "]
["00:00:00",null,null,null,null,0,null,null,0,null,null,{"$f":"IFERROR(VLOOKUP(K40,$AD$7:AE42,2,FALSE),0)","v":0},null,null,0,null,null,null,null,null,null,"E",{"$f":"COUNTIF(E8:E105,\"E\")","v":0},{"$f":"COUNTIF(N7:N104,\"E\")","v":0},{"$f":"COUNTIF(H7:H104,\"E\")","v":0},null,null,null,null,null,null,null,"00:00:00","00:00:00",0,{"$f":"SpellNumber((AI40))","v":"No Dollars and No Cents"},3,"No "]
["00:00:00",null,null,null,null,0,null,null,0,null,null,{"$f":"IFERROR(VLOOKUP(K41,$AD$7:AE43,2,FALSE),0)","v":0},null,null,0,null,null,null,null,null,null,"F",{"$f":"COUNTIF(E8:E105,\"F\")","v":0},{"$f":"COUNTIF(N7:N104,\"F\")","v":0},{"$f":"COUNTIF(H7:H104,\"F\")","v":0},null,null,null,null,null,null,null,"00:00:00","00:00:00",0,{"$f":"SpellNumber((AI41))","v":"No Dollars and No Cents"},3,"No "]
["00:00:00",null,null,null,null,0,null,null,0,null,null,{"$f":"IFERROR(VLOOKUP(K42,$AD$7:AE44,2,FALSE),0)","v":0},null,null,0,null,null,null,null,null,null,"G",{"$f":"COUNTIF(E8:E105,\"G\")","v":0},{"$f":"COUNTIF(N7:N104,\"G\")","v":0},{"$f":"COUNTIF(H7:H104,\"G\")","v":0},null,null,null,null,null,null,null,"00:00:00","00:00:00",0,{"$f":"SpellNumber((AI42))","v":"No Dollars and No Cents"},3,"No "]
["00:00:00",null,null,null,null,0,null,null,0,null,null,{"$f":"IFERROR(VLOOKUP(K43,$AD$7:AE45,2,FALSE),0)","v":0},null,null,0,null,null,null,null,null,null,"H",{"$f":"COUNTIF(E8:E105,\"H\")","v":0},{"$f":"COUNTIF(N7:N104,\"H\")","v":0},{"$f":"COUNTIF(H7:H104,\"H\")","v":0},null,null,null,null,null,null,null,"00:00:00","00:00:00",0,{"$f":"SpellNumber((AI43))","v":"No Dollars and No Cents"},3,"No "]
["00:00:00",null,null,null,null,0,null,null,0,null,null,{"$f":"IFERROR(VLOOKUP(K44,$AD$7:AE46,2,FALSE),0)","v":0},null,null,0,null,null,null,null,null,null,"I",{"$f":"COUNTIF(E8:E105,\"I\")","v":0},{"$f":"COUNTIF(N7:N104,\"I\")","v":0},{"$f":"COUNTIF(H7:H104,\"I\")","v":0},null,null,null,null,null,null,null,"00:00:00","00:00:00",0,{"$f":"SpellNumber((AI44))","v":"No Dollars and No Cents"},3,"No "]
["00:00:00",null,null,null,null,0,null,null,0,null,null,{"$f":"IFERROR(VLOOKUP(K45,$AD$7:AE47,2,FALSE),0)","v":0},null,null,0,null,null,null,null,null,null,"J",{"$f":"COUNTIF(E8:E105,\"J\")","v":0},{"$f":"COUNTIF(N7:N104,\"J\")","v":0},{"$f":"COUNTIF(H7:H104,\"J\")","v":0},null,null,null,null,null,null,null,"00:00:00","00:00:00",0,{"$f":"SpellNumber((AI45))","v":"No Dollars and No Cents"},3,"No "]
["00:00:00",null,null,null,null,0,null,null,0,null,null,{"$f":"IFERROR(VLOOKUP(K46,$AD$7:AE48,2,FALSE),0)","v":0},null,null,0,null,null,null,null,null,null,"K",{"$f":"COUNTIF(E8:E105,\"K\")","v":0},{"$f":"COUNTIF(N7:N104,\"K\")","v":0},{"$f":"COUNTIF(H7:H104,\"K\")","v":0},null,null,null,null,null,null,null,"00:00:00","00:00:00",0,{"$f":"SpellNumber((AI46))","v":"No Dollars and No Cents"},3,"No "]
["00:00:00",null,null,null,null,0,null,null,0,null,null,{"$f":"IFERROR(VLOOKUP(K47,$AD$7:AE49,2,FALSE),0)","v":0},null,null,0,null,null,null,null,null,null,"L",{"$f":"COUNTIF(E8:E105,\"l\")","v":0},{"$f":"COUNTIF(N7:N104,\"L\")","v":0},{"$f":"COUNTIF(H7:H104,\"L\")","v":0},null,null,null,null,null,null,null,"00:00:00","00:00:00",0,{"$f":"SpellNumber((AI47))","v":"No Dollars and No Cents"},3,"No "]
["00:00:00",null,null,null,null,0,null,null,0,null,null,{"$f":"IFERROR(VLOOKUP(K48,$AD$7:AE50,2,FALSE),0)","v":0},null,null,0,null,null,null,null,null,null,null,null,null,null,null,null,null,null,null,null,null,"00:00:00","00:00:00",0,{"$f":"SpellNumber((AI48))","v":"No Dollars and No Cents"},3,"No "]
["00:00:00",null,null,null,null,0,null,null,0,null,null,{"$f":"IFERROR(VLOOKUP(K49,$AD$7:AE51,2,FALSE),0)","v":0},null,null,0,null,null,null,null,null,null,null,"Beh & Setting ",null,null,null,"Beh & Antecedents",null,null,null,null,null,"00:00:00","00:00:00",0,{"$f":"SpellNumber((AI49))","v":"No Dollars and No Cents"},3,"No "]
["00:00:00",null,null,null,null,0,null,null,0,null,null,{"$f":"IFERROR(VLOOKUP(K50,$AD$7:AE52,2,FALSE),0)","v":0},null,null,0,null,null,null,null,null,null,null,"A","B","C",null,null,"A","B","C",null,null,"00:00:00","00:00:00",0,{"$f":"SpellNumber((AI50))","v":"No Dollars and No Cents"},3,"No "]
["00:00:00",null,null,null,null,0,null,null,0,null,null,{"$f":"IFERROR(VLOOKUP(K51,$AD$7:AE53,2,FALSE),0)","v":0},null,null,0,null,null,null,null,null,null,"A",{"$f":"COUNTIFS(E7:E104,\"A\",K7:K104,\"A\")","v":0},{"$f":"COUNTIFS(E7:E104,\"A\",K7:K104,\"B\")","v":0},{"$f":"COUNTIFS(E7:E104,\"A\",K7:K104,\"C\")","v":0},null,"A",{"$f":"COUNTIFS(H7:H104,\"a\",K7:K104,\"A\")","v":0},{"$f":"COUNTIFS(H7:H104,\"A\",K7:K104,\"B\")","v":0},{"$f":"COUNTIFS(H7:H104,\"A\",K7:K104,\"C\")","v":0},null,null,"00:00:00","00:00:00",0,{"$f":"SpellNumber((AI51))","v":"No Dollars and No Cents"},3,"No "]
["00:00:00",null,null,null,null,0,null,null,0,null,null,{"$f":"IFERROR(VLOOKUP(K52,$AD$7:AE54,2,FALSE),0)","v":0},null,null,0,null,null,null,null,null,null,"B",{"$f":"COUNTIFS(E7:E104,\"B\",K7:K104,\"A\")","v":0},{"$f":"COUNTIFS(E7:E104,\"B\",K7:K104,\"B\")","v":0},{"$f":"COUNTIFS(E7:E104,\"B\",K7:K104,\"C\")","v":0},null,"B",{"$f":"COUNTIFS(H7:H104,\"B\",K7:K104,\"A\")","v":0},{"$f":"COUNTIFS(H7:H104,\"B\",K7:K104,\"B\")","v":0},{"$f":"COUNTIFS(H7:H104,\"B\",K7:K104,\"C\")","v":0},null,null,"00:00:00","00:00:00",0,{"$f":"SpellNumber((AI52))","v":"No Dollars and No Cents"},3,"No "]
["00:00:00",null,null,null,null,0,null,null,0,null,null,{"$f":"IFERROR(VLOOKUP(K53,$AD$7:AE55,2,FALSE),0)","v":0},null,null,0,null,null,null,null,null,null,"C",{"$f":"COUNTIFS(K7:K104,\"C\",K7:K104,\"A\")","v":0},{"$f":"COUNTIFS(E7:E104,\"C\",K7:K104,\"B\")","v":0},{"$f":"COUNTIFS(E7:E104,\"C\",K7:K104,\"C\")","v":0},null,"C",{"$f":"COUNTIFS(H7:H104,\"C\",K7:K104,\"A\")","v":0},{"$f":"COUNTIFS(H7:H104,\"C\",K7:K104,\"B\")","v":0},{"$f":"COUNTIFS(H7:H104,\"C\",K7:K104,\"C\")","v":0},null,null,"00:00:00","00:00:00",0,{"$f":"SpellNumber((AI53))","v":"No Dollars and No Cents"},3,"No "]
["00:00:00",null,null,null,null,0,null,null,0,null,null,{"$f":"IFERROR(VLOOKUP(K54,$AD$7:AE56,2,FALSE),0)","v":0},null,null,0,null,null,null,null,null,null,"D",{"$f":"COUNTIFS(E7:E104,\"D\",K7:K104,\"A\")","v":0},{"$f":"COUNTIFS(E7:E104,\"D\",K7:K104,\"B\")","v":0},{"$f":"COUNTIFS(E7:E104,\"D\",K7:K104,\"C\")","v":0},null,"D",{"$f":"COUNTIFS(H7:H104,\"D\",K7:K104,\"A\")","v":0},{"$f":"COUNTIFS(H7:H104,\"D\",K7:K104,\"B\")","v":0},{"$f":"COUNTIFS(H7:H104,\"D\",K7:K104,\"C\")","v":0},null,null,"00:00:00","00:00:00",0,{"$f":"SpellNumber((AI54))","v":"No Dollars and No Cents"},3,"No "]
["00:00:00",null,null,null,null,0,null,null,0,null,null,{"$f":"IFERROR(VLOOKUP(K55,$AD$7:AE57,2,FALSE),0)","v":0},null,null,0,null,null,null,null,null,null,"E",{"$f":"COUNTIFS(E7:E104,\"E\",K7:K104,\"A\")","v":0},{"$f":"COUNTIFS(E7:E104,\"E\",K7:K104,\"B\")","v":0},{"$f":"COUNTIFS(E7:E104,\"E\",K7:K104,\"C\")","v":0},null,"E",{"$f":"COUNTIFS(H7:H104,\"E\",K7:K104,\"A\")","v":0},{"$f":"COUNTIFS(H7:H104,\"E\",K7:K104,\"B\")","v":0},{"$f":"COUNTIFS(H7:H104,\"E\",K7:K104,\"C\")","v":0},null,null,"00:00:00","00:00:00",0,{"$f":"SpellNumber((AI55))","v":"No Dollars and No Cents"},3,"No "]
["00:00:00",null,null,null,null,0,null,null,0,null,null,{"$f":"IFERROR(VLOOKUP(K56,$AD$7:AE58,2,FALSE),0)","v":0},null,null,0,null,null,null,null,null,null,"F",{"$f":"COUNTIFS(E7:E104,\"F\",K7:K104,\"A\")","v":0},{"$f":"COUNTIFS(E7:E104,\"F\",K7:K104,\"B\")","v":0},{"$f":"COUNTIFS(E7:E104,\"F\",K7:K104,\"C\")","v":0},null,"F",{"$f":"COUNTIFS(H7:H104,\"F\",K7:K104,\"A\")","v":0},{"$f":"COUNTIFS(H7:H104,\"F\",K7:K104,\"B\")","v":0},{"$f":"COUNTIFS(H7:H104,\"F\",K7:K104,\"C\")","v":0},null,null,"00:00:00","00:00:00",0,{"$f":"SpellNumber((AI56))","v":"No Dollars and No Cents"},3,"No "]
["00:00:00",null,null,null,null,0,null,null,0,null,null,{"$f":"IFERROR(VLOOKUP(K57,$AD$7:AE59,2,FALSE),0)","v":0},null,null,0,null,null,null,null,null,null,"G",{"$f":"COUNTIFS(E7:E104,\"G\",K7:K104,\"A\")","v":0},{"$f":"COUNTIFS(E7:E104,\"G\",K7:K104,\"B\")","v":0},{"$f":"COUNTIFS(E7:E104,\"G\",K7:K104,\"C\")","v":0},null,"G",{"$f":"COUNTIFS(H7:H104,\"G\",K7:K104,\"A\")","v":0},{"$f":"COUNTIFS(H7:H104,\"G\",K7:K104,\"B\")","v":0},{"$f":"COUNTIFS(H7:H104,\"G\",K7:K104,\"C\")","v":0},null,null,"00:00:00","00:00:00",0,{"$f":"SpellNumber((AI57))","v":"No Dollars and No Cents"},3,"No "]
["00:00:00",null,null,null,null,0,null,null,0,null,null,{"$f":"IFERROR(VLOOKUP(K58,$AD$7:AE60,2,FALSE),0)","v":0},null,null,0,null,null,null,null,null,null,"H",{"$f":"COUNTIFS(E7:E104,\"H\",K7:K104,\"A\")","v":0},{"$f":"COUNTIFS(E7:E104,\"H\",K7:K104,\"B\")","v":0},{"$f":"COUNTIFS(E7:E104,\"H\",K7:K104,\"C\")","v":0},null,"H",{"$f":"COUNTIFS(H7:H104,\"H\",K7:K104,\"A\")","v":0},{"$f":"COUNTIFS(H7:H104,\"H\",K7:K104,\"B\")","v":0},{"$f":"COUNTIFS(H7:H104,\"H\",K7:K104,\"C\")","v":0},null,null,"00:00:00","00:00:00",0,{"$f":"SpellNumber((AI58))","v":"No Dollars and No Cents"},3,"No "]
["00:00:00",null,null,null,null,0,null,null,0,null,null,{"$f":"IFERROR(VLOOKUP(K59,$AD$7:AE61,2,FALSE),0)","v":0},null,null,0,null,null,null,null,null,null,"I",{"$f":"COUNTIFS(E7:E104,\"I\",K7:K104,\"A\")","v":0},{"$f":"COUNTIFS(E7:E104,\"I\",K7:K104,\"B\")","v":0},{"$f":"COUNTIFS(E7:E104,\"I\",K7:K104,\"C\")","v":0},null,"I",{"$f":"COUNTIFS(H7:H104,\"I\",K7:K104,\"A\")","v":0},{"$f":"COUNTIFS(H7:H104,\"I\",K7:K104,\"B\")","v":0},{"$f":"COUNTIFS(H7:H104,\"I\",K7:K104,\"C\")","v":0},null,null,"00:00:00","00:00:00",0,{"$f":"SpellNumber((AI59))","v":"No Dollars and No Cents"},3,"No "]
["00:00:00",null,null,null,null,0,null,null,0,null,null,{"$f":"IFERROR(VLOOKUP(K60,$AD$7:AE62,2,FALSE),0)","v":0},null,null,0,null,null,null,null,null,null,"J",{"$f":"COUNTIFS(E7:E104,\"J\",K7:K104,\"A\")","v":0},{"$f":"COUNTIFS(E7:E104,\"J\",K7:K104,\"B\")","v":0},{"$f":"COUNTIFS(E7:E104,\"J\",K7:K104,\"C\")","v":0},null,"J",{"$f":"COUNTIFS(H7:H104,\"J\",K7:K104,\"A\")","v":0},{"$f":"COUNTIFS(H7:H104,\"J\",K7:K104,\"B\")","v":0},{"$f":"COUNTIFS(H7:H104,\"J\",K7:K104,\"C\")","v":0},null,null,"00:00:00","00:00:00",0,{"$f":"SpellNumber((AI60))","v":"No Dollars and No Cents"},3,"No "]
["00:00:00",null,null,null,null,0,null,null,0,null,null,{"$f":"IFERROR(VLOOKUP(K61,$AD$7:AE63,2,FALSE),0)","v":0},null,null,0,null,null,null,null,null,null,"K",{"$f":"COUNTIFS(E7:E104,\"K\",K7:K104,\"A\")","v":0},{"$f":"COUNTIFS(E7:E104,\"K\",K7:K104,\"B\")","v":0},{"$f":"COUNTIFS(E7:E104,\"K\",K7:K104,\"C\")","v":0},null,"K",{"$f":"COUNTIFS(H7:H104,\"K\",K7:K104,\"A\")","v":0},{"$f":"COUNTIFS(H7:H104,\"K\",K7:K104,\"B\")","v":0},{"$f":"COUNTIFS(H7:H104,\"K\",K7:K104,\"C\")","v":0},null,null,"00:00:00","00:00:00",0,{"$f":"SpellNumber((AI61))","v":"No Dollars and No Cents"},3,"No "]
["00:00:00",null,null,null,null,0,null,null,0,null,null,{"$f":"IFERROR(VLOOKUP(K62,$AD$7:AE64,2,FALSE),0)","v":0},null,null,0,null,null,null,null,null,null,"L",{"$f":"COUNTIFS(E7:E104,\"L\",K7:K104,\"A\")","v":0},{"$f":"COUNTIFS(E7:E104,\"L\",K7:K104,\"B\")","v":0},{"$f":"COUNTIFS(E7:E104,\"L\",K7:K104,\"C\")","v":0},null,"L",{"$f":"COUNTIFS(H7:H104,\"L\",K7:K104,\"A\")","v":0},{"$f":"COUNTIFS(H7:H104,\"L\",K7:K104,\"B\")","v":0},{"$f":"COUNTIFS(H7:H104,\"L\",K7:K104,\"C\")","v":0},null,null,"00:00:00","00:00:00",0,{"$f":"SpellNumber((AI62))","v":"No Dollars and No Cents"},3,"No "]
["00:00:00",null,null,null,null,0,null,null,0,null,null,{"$f":"IFERROR(VLOOKUP(K63,$AD$7:AE65,2,FALSE),0)","v":0},null,null,0,null,null,null,null,null,null,null,"Beh & Consequences",null,null,null,null,null,null,null,null,null,"00:00:00","00:00:00",0,{"$f":"SpellNumber((AI63))","v":"No Dollars and No Cents"},3,"No "]
["00:00:00",null,null,null,null,0,null,null,0,null,null,{"$f":"IFERROR(VLOOKUP(K64,$AD$7:AE66,2,FALSE),0)","v":0},null,null,0,null,null,null,null,null,null,null,"A","B","C",null,null,null,null,null,null,null,"00:00:00","00:00:00",0,{"$f":"SpellNumber((AI64))","v":"No Dollars and No Cents"},3,"No "]
["00:00:00",null,null,null,null,0,null,null,0,null,null,{"$f":"IFERROR(VLOOKUP(K65,$AD$7:AE67,2,FALSE),0)","v":0},null,null,0,null,null,null,null,null,null,"A",{"$f":"COUNTIFS(N7:N104,\"A\",K7:K104,\"A\")","v":0},{"$f":"COUNTIFS(N7:N104,\"A\",K7:K104,\"B\")","v":0},{"$f":"COUNTIFS(N7:N104,\"A\",K7:K104,\"C\")","v":0},null,null,null,null,null,null,null,"00:00:00","00:00:00",0,{"$f":"SpellNumber((AI65))","v":"No Dollars and No Cents"},3,"No "]
["00:00:00",null,null,null,null,0,null,null,0,null,null,{"$f":"IFERROR(VLOOKUP(K66,$AD$7:AE68,2,FALSE),0)","v":0},null,null,0,null,null,null,null,null,null,"B",{"$f":"COUNTIFS(N7:N104,\"B\",K7:K104,\"A\")","v":0},{"$f":"COUNTIFS(N7:N104,\"B\",K7:K104,\"B\")","v":0},{"$f":"COUNTIFS(N7:N104,\"B\",K7:K104,\"C\")","v":0},null,null,null,null,null,null,null,"00:00:00","00:00:00",0,{"$f":"SpellNumber((AI66))","v":"No Dollars and No Cents"},3,"No "]
["00:00:00",null,null,null,null,0,null,null,0,null,null,{"$f":"IFERROR(VLOOKUP(K67,$AD$7:AE69,2,FALSE),0)","v":0},null,null,0,null,null,null,null,null,null,"C",{"$f":"COUNTIFS(N7:N104,\"C\",K7:K104,\"A\")","v":0},{"$f":"COUNTIFS(N7:N104,\"C\",K7:K104,\"B\")","v":0},{"$f":"COUNTIFS(N7:N104,\"C\",K7:K104,\"C\")","v":0},null,null,null,null,null,null,null,"00:00:00","00:00:00",0,{"$f":"SpellNumber((AI67))","v":"No Dollars and No Cents"},3,"No "]
["00:00:00",null,null,null,null,0,null,null,0,null,null,{"$f":"IFERROR(VLOOKUP(K68,$AD$7:AE70,2,FALSE),0)","v":0},null,null,0,null,null,null,null,null,null,"D",{"$f":"COUNTIFS(N7:N104,\"D\",K7:K104,\"A\")","v":0},{"$f":"COUNTIFS(N7:N104,\"D\",K7:K104,\"B\")","v":0},{"$f":"COUNTIFS(N7:N104,\"D\",K7:K104,\"C\")","v":0},null,null,null,null,null,null,null,"00:00:00","00:00:00",0,{"$f":"SpellNumber((AI68))","v":"No Dollars and No Cents"},3,"No "]
["00:00:00",null,null,null,null,0,null,null,0,null,null,{"$f":"IFERROR(VLOOKUP(K69,$AD$7:AE71,2,FALSE),0)","v":0},null,null,0,null,null,null,null,null,null,"E",{"$f":"COUNTIFS(N7:N104,\"E\",K7:K104,\"A\")","v":0},{"$f":"COUNTIFS(N7:N104,\"E\",K7:K104,\"B\")","v":0},{"$f":"COUNTIFS(N7:N104,\"E\",K7:K104,\"C\")","v":0},null,null,null,null,null,null,null,"00:00:00","00:00:00",0,{"$f":"SpellNumber((AI69))","v":"No Dollars and No Cents"},3,"No "]
["00:00:00",null,null,null,null,0,null,null,0,null,null,{"$f":"IFERROR(VLOOKUP(K70,$AD$7:AE72,2,FALSE),0)","v":0},null,null,0,null,null,null,null,null,null,"F",{"$f":"COUNTIFS(N7:N104,\"F\",K7:K104,\"A\")","v":0},{"$f":"COUNTIFS(N7:N104,\"F\",K7:K104,\"B\")","v":0},{"$f":"COUNTIFS(N7:N104,\"F\",K7:K104,\"C\")","v":0},null,null,null,null,null,null,null,"00:00:00","00:00:00",0,{"$f":"SpellNumber((AI70))","v":"No Dollars and No Cents"},3,"No "]
["00:00:00",null,null,null,null,0,null,null,0,null,null,{"$f":"IFERROR(VLOOKUP(K71,$AD$7:AE73,2,FALSE),0)","v":0},null,null,0,null,null,null,null,null,null,"G",{"$f":"COUNTIFS(N7:N104,\"G\",K7:K104,\"A\")","v":0},{"$f":"COUNTIFS(N7:N104,\"G\",K7:K104,\"B\")","v":0},{"$f":"COUNTIFS(N7:N104,\"G\",K7:K104,\"C\")","v":0},null,null,null,null,null,null,null,"00:00:00","00:00:00",0,{"$f":"SpellNumber((AI71))","v":"No Dollars and No Cents"},3,"No "]
[{"$f":"C72-B72","v":"00:00:00"},null,null,null,null,0,null,null,{"$f":"IFERROR(VLOOKUP(H72,$Z$7:$AA$18,2,FALSE),0)","v":0},null,null,{"$f":"IFERROR(VLOOKUP(K72,$AD$7:AE74,2,FALSE),0)","v":0},null,null,{"$f":"IFERROR(VLOOKUP(N72,$V$22:$W$33,2,FALSE),0)","v":0},null,null,null,null,null,null,"H",{"$f":"COUNTIFS(N7:N104,\"H\",K7:K104,\"A\")","v":0},{"$f":"COUNTIFS(N7:N104,\"H\",K7:K104,\"B\")","v":0},{"$f":"COUNTIFS(N7:N104,\"H\",K7:K104,\"C\")","v":0},null,null,null,null,null,null,null,{"$f":"B72","v":"00:00:00"},{"$f":"TEXT(AG72,\"hh:mm:ss\")","v":"00:00:00"},{"$f":"AG72*24","v":0},{"$f":"SpellNumber((AI72))","v":"No Dollars and No Cents"},{"$f":"FIND(\" Dollar\",AJ72)","v":3},{"$f":"LEFT(AJ72,AK72)","v":"No "}]
["00:00:00",null,null,null,null,{"$f":"IFERROR(VLOOKUP(E73,$V$7:$W$18,2,FALSE),0)","v":0},null,null,0,null,null,{"$f":"IFERROR(VLOOKUP(K73,$AD$7:AE75,2,FALSE),0)","v":0},null,null,0,null,null,null,null,null,null,"I",{"$f":"COUNTIFS(N7:N104,\"I\",K7:K104,\"A\")","v":0},{"$f":"COUNTIFS(N7:N104,\"I\",K7:K104,\"B\")","v":0},{"$f":"COUNTIFS(N7:N104,\"I\",K7:K104,\"C\")","v":0},null,null,null,null,null,null,null,"00:00:00","00:00:00",0,{"$f":"SpellNumber((AI73))","v":"No Dollars and No Cents"},3,"No "]
["00:00:00",null,null,null,null,0,null,null,0,null,null,{"$f":"IFERROR(VLOOKUP(K74,$AD$7:AE76,2,FALSE),0)","v":0},null,null,0,null,null,null,null,null,null,"J",{"$f":"COUNTIFS(N7:N104,\"J\",K7:K104,\"A\")","v":0},{"$f":"COUNTIFS(N7:N104,\"J\",K7:K104,\"B\")","v":0},{"$f":"COUNTIFS(N7:N104,\"J\",K7:K104,\"C\")","v":0},null,null,null,null,null,null,null,"00:00:00","00:00:00",0,{"$f":"SpellNumber((AI74))","v":"No Dollars and No Cents"},3,"No "]
["00:00:00",null,null,null,null,0,null,null,0,null,null,{"$f":"IFERROR(VLOOKUP(K75,$AD$7:AE77,2,FALSE),0)","v":0},null,null,0,null,null,null,null,null,null,"K",{"$f":"COUNTIFS(N7:N104,\"K\",K7:K104,\"A\")","v":0},{"$f":"COUNTIFS(N7:N104,\"K\",K7:K104,\"B\")","v":0},{"$f":"COUNTIFS(N7:N104,\"K\",K7:K104,\"C\")","v":0},null,null,null,null,null,null,null,"00:00:00","00:00:00",0,{"$f":"SpellNumber((AI75))","v":"No Dollars and No Cents"},3,"No "]
["00:00:00",null,null,null,null,0,null,null,0,null,null,{"$f":"IFERROR(VLOOKUP(K76,$AD$7:AE78,2,FALSE),0)","v":0},null,null,0,null,null,null,null,null,null,"L",{"$f":"COUNTIFS(N7:N104,\"L\",K7:K104,\"A\")","v":0},{"$f":"COUNTIFS(N7:N104,\"L\",K7:K104,\"B\")","v":0},{"$f":"COUNTIFS(N7:N104,\"L\",K7:K104,\"C\")","v":0},null,null,null,null,null,null,null,"00:00:00","00:00:00",0,{"$f":"SpellNumber((AI76))","v":"No Dollars and No Cents"},3,"No "]
["00:00:00",null,null,null,null,0,null,null,0,null,null,{"$f":"IFERROR(VLOOKUP(K77,$AD$7:AE79,2,FALSE),0)","v":0},null,null,0,null,null,null,null,null,null,null,null,null,null,null,null,null,null,null,null,null,"00:00:00","00:00:00",0,{"$f":"SpellNumber((AI77))","v":"No Dollars and No Cents"},3,"No "]
["00:00:00",null,null,null,null,0,null,null,0,null,null,{"$f":"IFERROR(VLOOKUP(K78,$AD$7:AE80,2,FALSE),0)","v":0},null,null,0,null,null,null,null,null,null,null,null,null,null,null,null,null,null,null,null,null,"00:00:00","00:00:00",0,{"$f":"SpellNumber((AI78))","v":"No Dollars and No Cents"},3,"No "]
["00:00:00",null,null,null,null,0,null,null,0,null,null,{"$f":"IFERROR(VLOOKUP(K79,$AD$7:AE81,2,FALSE),0)","v":0},null,null,0,null,null,null,null,null,null,null,null,null,null,null,null,null,null,null,null,null,"00:00:00","00:00:00",0,{"$f":"SpellNumber((AI79))","v":"No Dollars and No Cents"},3,"No "]
["00:00:00",null,null,null,null,0,null,null,0,null,null,{"$f":"IFERROR(VLOOKUP(K80,$AD$7:AE82,2,FALSE),0)","v":0},null,null,0,null,null,null,null,null,null,null,null,null,null,null,null,null,null,null,null,null,"00:00:00","00:00:00",0,{"$f":"SpellNumber((AI80))","v":"No Dollars and No Cents"},3,"No "]
["00:00:00",null,null,null,null,0,null,null,0,null,null,{"$f":"IFERROR(VLOOKUP(K81,$AD$7:AE83,2,FALSE),0)","v":0},null,null,0,null,null,null,null,null,null,null,null,null,null,null,null,null,null,null,null,null,"00:00:00","00:00:00",0,{"$f":"SpellNumber((AI81))","v":"No Dollars and No Cents"},3,"No "]
["00:00:00",null,null,null,null,0,null,null,0,null,null,{"$f":"IFERROR(VLOOKUP(K82,$AD$7:AE84,2,FALSE),0)","v":0},null,null,0,null,null,null,null,null,null,null,null,null,null,null,null,null,null,null,null,null,"00:00:00","00:00:00",0,{"$f":"SpellNumber((AI82))","v":"No Dollars and No Cents"},3,"No "]
["00:00:00",null,null,null,null,0,null,null,0,null,null,{"$f":"IFERROR(VLOOKUP(K83,$AD$7:AE85,2,FALSE),0)","v":0},null,null,0,null,null,null,null,null,null,null,null,null,null,null,null,null,null,null,null,null,"00:00:00","00:00:00",0,{"$f":"SpellNumber((AI83))","v":"No Dollars and No Cents"},3,"No "]
["00:00:00",null,null,null,null,0,null,null,0,null,null,{"$f":"IFERROR(VLOOKUP(K84,$AD$7:AE86,2,FALSE),0)","v":0},null,null,0,null,null,null,null,null,null,null,null,null,null,null,null,null,null,null,null,null,"00:00:00","00:00:00",0,{"$f":"SpellNumber((AI84))","v":"No Dollars and No Cents"},3,"No "]
["00:00:00",null,null,null,null,0,null,null,0,null,null,{"$f":"IFERROR(VLOOKUP(K85,$AD$7:AE87,2,FALSE),0)","v":0},null,null,0,null,null,null,null,null,null,null,null,null,null,null,null,null,null,null,null,null,"00:00:00","00:00:00",0,{"$f":"SpellNumber((AI85))","v":"No Dollars and No Cents"},3,"No "]
["00:00:00",null,null,null,null,0,null,null,0,null,null,{"$f":"IFERROR(VLOOKUP(K86,$AD$7:AE88,2,FALSE),0)","v":0},null,null,0,null,null,null,null,null,null,null,null,null,null,null,null,null,null,null,null,null,"00:00:00","00:00:00",0,{"$f":"SpellNumber((AI86))","v":"No Dollars and No Cents"},3,"No "]
["00:00:00",null,null,null,null,0,null,null,0,null,null,{"$f":"IFERROR(VLOOKUP(K87,$AD$7:AE89,2,FALSE),0)","v":0},null,null,0,null,null,null,null,null,null,null,null,null,null,null,null,null,null,null,null,null,"00:00:00","00:00:00",0,{"$f":"SpellNumber((AI87))","v":"No Dollars and No Cents"},3,"No "]
["00:00:00",null,null,null,null,0,null,null,0,null,null,{"$f":"IFERROR(VLOOKUP(K88,$AD$7:AE90,2,FALSE),0)","v":0},null,null,0,null,null,null,null,null,null,null,null,null,null,null,null,null,null,null,null,null,"00:00:00","00:00:00",0,{"$f":"SpellNumber((AI88))","v":"No Dollars and No Cents"},3,"No "]
["00:00:00",null,null,null,null,0,null,null,0,null,null,{"$f":"IFERROR(VLOOKUP(K89,$AD$7:AE91,2,FALSE),0)","v":0},null,null,0,null,null,null,null,null,null,null,null,null,null,null,null,null,null,null,null,null,"00:00:00","00:00:00",0,{"$f":"SpellNumber((AI89))","v":"No Dollars and No Cents"},3,"No "]
["00:00:00",null,null,null,null,0,null,null,0,null,null,{"$f":"IFERROR(VLOOKUP(K90,$AD$7:AE92,2,FALSE),0)","v":0},null,null,0,null,null,null,null,null,null,null,null,null,null,null,null,null,null,null,null,null,"00:00:00","00:00:00",0,{"$f":"SpellNumber((AI90))","v":"No Dollars and No Cents"},3,"No "]
["00:00:00",null,null,null,null,0,null,null,0,null,null,{"$f":"IFERROR(VLOOKUP(K91,$AD$7:AE93,2,FALSE),0)","v":0},null,null,0,null,null,null,"Total Mins",{"$f":"SUM(A7:A104)","v":"00:00:00"},null,null,null,null,null,null,null,null,null,null,null,null,"00:00:00","00:00:00",0,{"$f":"SpellNumber((AI91))","v":"No Dollars and No Cents"},3,"No "]
["00:00:00",null,null,null,null,0,null,null,0,null,null,{"$f":"IFERROR(VLOOKUP(K92,$AD$7:AE94,2,FALSE),0)","v":0},null,null,0,null,null,null,"Settings:","A",{"$f":"COUNTIF(E4:E104,\"A\")","v":0},"Antec.","A",{"$f":"COUNTIF(H4:H104,\"A\")","v":0},"Beh","A",{"$f":"COUNTIF(L4:L104,\"A\")","v":0},"Conse.","A",{"$f":"COUNTIF(O4:O104,\"A\")","v":0},null,null,"00:00:00","00:00:00",0,{"$f":"SpellNumber((AI92))","v":"No Dollars and No Cents"},3,"No "]
["00:00:00",null,null,null,null,0,null,null,0,null,null,{"$f":"IFERROR(VLOOKUP(K93,$AD$7:AE95,2,FALSE),0)","v":0},null,null,0,null,null,null,null,"B",{"$f":"COUNTIF(E5:E105,\"B\")","v":0},null,"B",{"$f":"COUNTIF(H5:H105,\"B\")","v":0},null,"B",{"$f":"COUNTIF(L5:L105,\"B\")","v":0},null,"B",{"$f":"COUNTIF(O5:O105,\"B\")","v":0},null,null,"00:00:00","00:00:00",0,{"$f":"SpellNumber((AI93))","v":"No Dollars and No Cents"},3,"No "]
["00:00:00",null,null,null,null,0,null,null,0,null,null,{"$f":"IFERROR(VLOOKUP(K94,$AD$7:AE96,2,FALSE),0)","v":0},null,null,0,null,null,null,null,"C",{"$f":"COUNTIF(E6:E106,\"C\")","v":0},null,"C",{"$f":"COUNTIF(H6:H106,\"C\")","v":0},null,"C",{"$f":"COUNTIF(L6:L106,\"C\")","v":0},null,"C",{"$f":"COUNTIF(O6:O106,\"C\")","v":0},null,null,"00:00:00","00:00:00",0,{"$f":"SpellNumber((AI94))","v":"No Dollars and No Cents"},3,"No "]
["00:00:00",null,null,null,null,0,null,null,0,null,null,{"$f":"IFERROR(VLOOKUP(K95,$AD$7:AE97,2,FALSE),0)","v":0},null,null,0,null,null,null,null,"D",{"$f":"COUNTIF(E7:E107,\"D\")","v":0},null,"D",{"$f":"COUNTIF(H7:H107,\"D\")","v":0},null,null,null,null,"D",{"$f":"COUNTIF(O7:O107,\"D\")","v":0},null,null,"00:00:00","00:00:00",0,{"$f":"SpellNumber((AI95))","v":"No Dollars and No Cents"},3,"No "]
["00:00:00",null,null,null,null,0,null,null,0,null,null,{"$f":"IFERROR(VLOOKUP(K96,$AD$7:AE98,2,FALSE),0)","v":0},null,null,0,null,null,null,null,"E",{"$f":"COUNTIF(E8:E108,\"E\")","v":0},null,"E",{"$f":"COUNTIF(H8:H108,\"E\")","v":0},null,null,null,null,"E",{"$f":"COUNTIF(O8:O108,\"E\")","v":0},null,null,"00:00:00","00:00:00",0,{"$f":"SpellNumber((AI96))","v":"No Dollars and No Cents"},3,"No "]
["00:00:00",null,null,null,null,0,null,null,0,null,null,{"$f":"IFERROR(VLOOKUP(K97,$AD$7:AE99,2,FALSE),0)","v":0},null,null,0,null,null,null,null,"F",{"$f":"COUNTIF(E9:E109,\"F\")","v":0},null,"F",{"$f":"COUNTIF(H9:H109,\"F\")","v":0},null,null,null,null,"F",{"$f":"COUNTIF(O9:O109,\"F\")","v":0},null,null,"00:00:00","00:00:00",0,{"$f":"SpellNumber((AI97))","v":"No Dollars and No Cents"},3,"No "]
["00:00:00",null,null,null,null,0,null,null,0,null,null,{"$f":"IFERROR(VLOOKUP(K98,$AD$7:AE100,2,FALSE),0)","v":0},null,null,0,null,null,null,null,"G",{"$f":"COUNTIF(E10:E110,\"G\")","v":0},null,"G",{"$f":"COUNTIF(H10:H110,\"G\")","v":0},null,null,null,null,"G",{"$f":"COUNTIF(O10:O110,\"G\")","v":0},null,null,"00:00:00","00:00:00",0,{"$f":"SpellNumber((AI98))","v":"No Dollars and No Cents"},3,"No "]
["00:00:00",null,null,null,null,0,null,null,0,null,null,{"$f":"IFERROR(VLOOKUP(K99,$AD$7:AE101,2,FALSE),0)","v":0},null,null,0,null,null,null,null,"H",{"$f":"COUNTIF(E11:E111,\"H\")","v":0},null,"H",{"$f":"COUNTIF(H11:H111,\"H\")","v":0},null,null,null,null,"H",{"$f":"COUNTIF(O11:O111,\"H\")","v":0},null,null,"00:00:00","00:00:00",0,{"$f":"SpellNumber((AI99))","v":"No Dollars and No Cents"},3,"No "]
["00:00:00",null,null,null,null,0,null,null,0,null,null,{"$f":"IFERROR(VLOOKUP(K100,$AD$7:AE102,2,FALSE),0)","v":0},null,null,0,null,null,null,null,"I",{"$f":"COUNTIF(E12:E112,\"I\")","v":0},null,"I",{"$f":"COUNTIF(H12:H112,\"I\")","v":0},null,null,null,null,"I",{"$f":"COUNTIF(O12:O112,\"I\")","v":0},null,null,"00:00:00","00:00:00",0,{"$f":"SpellNumber((AI100))","v":"No Dollars and No Cents"},3,"No "]
["00:00:00",null,null,null,null,0,null,null,0,null,null,{"$f":"IFERROR(VLOOKUP(K101,$AD$7:AE103,2,FALSE),0)","v":0},null,null,0,null,null,null,null,"J",{"$f":"COUNTIF(E13:E113,\"J\")","v":0},null,"J",{"$f":"COUNTIF(H13:H113,\"J\")","v":0},null,null,null,null,"J",{"$f":"COUNTIF(O13:O113,\"J\")","v":0},null,null,"00:00:00","00:00:00",0,{"$f":"SpellNumber((AI101))","v":"No Dollars and No Cents"},3,"No "]
["00:00:00",null,null,null,null,0,null,null,0,null,null,{"$f":"IFERROR(VLOOKUP(K102,$AD$7:AE104,2,FALSE),0)","v":0},null,null,0,null,null,null,null,"K",{"$f":"COUNTIF(E14:E114,\"K\")","v":0},null,"K",{"$f":"COUNTIF(H14:H114,\"K\")","v":0},null,null,null,null,"K",{"$f":"COUNTIF(O14:O114,\"K\")","v":0},null,null,"00:00:00","00:00:00",0,{"$f":"SpellNumber((AI102))","v":"No Dollars and No Cents"},3,"No "]
["00:00:00",null,null,null,null,0,null,null,0,null,null,{"$f":"IFERROR(VLOOKUP(K103,$AD$7:AE105,2,FALSE),0)","v":0},null,null,0,null,null,null,null,"L",{"$f":"COUNTIF(E15:E115,\"L\")","v":0},null,"L",{"$f":"COUNTIF(H15:H115,\"L\")","v":0},null,null,null,null,"L",{"$f":"COUNTIF(O15:O115,\"L\")","v":0},null,null,"00:00:00","00:00:00",0,{"$f":"SpellNumber((AI103))","v":"No Dollars and No Cents"},3,"No "]
["00:00:00",null,null,null,null,0,null,null,0,null,null,{"$f":"IFERROR(VLOOKUP(K104,$AD$7:AE106,2,FALSE),0)","v":0},null,null,0,null,null,null,null,null,null,null,null,null,null,null,null,null,null,null,null,null,"00:00:00","00:00:00",0,{"$f":"SpellNumber((AI104))","v":"No Dollars and No Cents"},3,"No "]

{"sheet":"Data 12","index":20,"n_rows":104,"n_cols":38,"rows_kept":104,"cut":false,"hidden":false,"merged":[[0,7,3,14]]}
["ATTENDANCE",null,null,null,null,null,null,"Data Collection"]
["If tardy, arrival time",null,null,null,null,null,null,null,null,null,null,null,null,null,null,null,null,null,null,null,null,null,"Date",{"$f":"Calendar!G6","v":{"$error":"#N/A"}},{"$f":"TEXT(X2,\"ddd\")","v":{"$error":"#N/A"}}]
["If left early, time",null,null,null,null,null,null,null,null,null,null,null,null,null,null,null,null,null,null,null,null,null,"Frq. Of bx",{"$f":"AA22","v":0}]
[]
[]
["Mins.","Start Time","End Time",null,null,null,null,null,null,null,null,null,null,null,null,null,null,null,null,null,null,null,"Setting",null,null,"Ant",null,null,null,"Beh",null,null,"Raw Data","Time in text","Decimal"]
[{"$f":"C7-B7","v":"00:00:00"},null,null,null,null,{"$f":"IFERROR(VLOOKUP(E7,$V$7:$W$18,2,FALSE),0)","v":0},null,null,{"$f":"IFERROR(VLOOKUP(H7,$Z$7:$AA$18,2,FALSE),0)","v":0},null,null,{"$f":"IFERROR(VLOOKUP(K7,$AD$7:AE9,2,FALSE),0)","v":0},null,null,{"$f":"IFERROR(VLOOKUP(N7,$V$22:$W$33,2,FALSE),0)","v":0},null,null,null,null,null,null,"A",{"$f":"Criteria!C4","v":"Transition"},null,null,"A",{"$f":"Criteria!E4","v":"Transition"},null,null,"A",{"$f":"Criteria!G4","v":0},null,{"$f":"B7","v":"00:00:00"},{"$f":"TEXT(AG7,\"hh:mm:ss\")","v":"00:00:00"},{"$f":"AG7*24","v":0},{"$f":"SpellNumber((AI7))","v":"No Dollars and No Cents"},{"$f":"FIND(\" Dollar\",AJ7)","v":3},{"$f":"LEFT(AJ7,AK7)","v":"No "}]
[{"$f":"C8-B8","v":"00:00:00"},null,null,null,null,{"$f":"IFERROR(VLOOKUP(E8,$V$7:$W$18,2,FALSE),0)","v":0},null,null,{"$f":"IFERROR(VLOOKUP(H8,$Z$7:$AA$18,2,FALSE),0)","v":0},null,null,{"$f":"IFERROR(VLOOKUP(K8,$AD$7:AE10,2,FALSE),0)","v":0},null,null,{"$f":"IFERROR(VLOOKUP(N8,$V$22:$W$33,2,FALSE),0)","v":0},null,null,null,null,null,null,"B",{"$f":"Criteria!C5","v":"Morning Routine"},null,null,"B",{"$f":"Criteria!E5","v":"Denied access ('No')"},null,null,"B",{"$f":"Criteria!G5","v":0},null,{"$f":"B8","v":"00:00:00"},{"$f":"TEXT(AG8,\"hh:mm:ss\")","v":"00:00:00"},{"$f":"AG8*24","v":0},{"$f":"SpellNumber((AI8))","v":"No Dollars and No Cents"},{"$f":"FIND(\" Dollar\",AJ8)","v":3},{"$f":"LEFT(AJ8,AK8)","v":"No "}]
["00:00:00",null,null,null,null,{"$f":"IFERROR(VLOOKUP(E9,$V$7:$W$18,2,FALSE),0)","v":0},null,null,0,null,null,{"$f":"IFERROR(VLOOKUP(K9,$AD$7:AE11,2,FALSE),0)","v":0},null,null,0,null,null,null,null,null,null,"C",{"$f":"Criteria!C6","v":"Group Work"},null,null,"C",{"$f":"Criteria!E6","v":"Instruction/ Directions"},null,null,"C",{"$f":"Criteria!G6","v":0},null,"00:00:00","00:00:00",0,{"$f":"SpellNumber((AI9))","v":"No Dollars and No Cents"},3,"No "]
["00:00:00",null,null,null,null,0,null,null,0,null,null,{"$f":"IFERROR(VLOOKUP(K10,$AD$7:AE12,2,FALSE),0)","v":0},null,null,0,null,null,null,null,null,null,"D",{"$f":"Criteria!C7","v":"Ind. Seat/Work Time"},null,null,"D",{"$f":"Criteria!E7","v":"New Task"},null,null,null,null,null,"00:00:00","00:00:00",0,{"$f":"SpellNumber((AI10))","v":"No Dollars and No Cents"},3,"No "]
["00:00:00",null,null,null,null,0,null,null,0,null,null,{"$f":"IFERROR(VLOOKUP(K11,$AD$7:AE13,2,FALSE),0)","v":0},null,null,0,null,null,null,null,null,null,"E",{"$f":"Criteria!C8","v":"Language Arts"},null,null,"E",{"$f":"Criteria!E8","v":"Tcher attn to other"},null,null,null,null,null,"00:00:00","00:00:00",0,{"$f":"SpellNumber((AI11))","v":"No Dollars and No Cents"},3,"No "]
["00:00:00",null,null,null,null,0,null,null,0,null,null,{"$f":"IFERROR(VLOOKUP(K12,$AD$7:AE14,2,FALSE),0)","v":0},null,null,0,null,null,null,null,null,null,"F",{"$f":"Criteria!C9","v":"Mathematics"},null,null,"F",{"$f":"Criteria!E9","v":"Choice given"},null,null,null,null,null,"00:00:00","00:00:00",0,{"$f":"SpellNumber((AI12))","v":"No Dollars and No Cents"},3,"No "]
["00:00:00",null,null,null,null,0,null,null,0,null,null,{"$f":"IFERROR(VLOOKUP(K13,$AD$7:AE15,2,FALSE),0)","v":0},null,null,0,null,null,null,null,null,null,"G",{"$f":"Criteria!C10","v":"Physical Education"},null,null,"G",{"$f":"Criteria!E10","v":"Redirection"},null,null,null,null,null,"00:00:00","00:00:00",0,{"$f":"SpellNumber((AI13))","v":"No Dollars and No Cents"},3,"No "]
["00:00:00",null,null,null,null,0,null,null,0,null,null,{"$f":"IFERROR(VLOOKUP(K14,$AD$7:AE16,2,FALSE),0)","v":0},null,null,0,null,null,null,null,null,null,"H",{"$f":"Criteria!C11","v":"Music/Art"},null,null,"H",{"$f":"Criteria!E11","v":"Routine Task"},null,null,null,null,null,"00:00:00","00:00:00",0,{"$f":"SpellNumber((AI14))","v":"No Dollars and No Cents"},3,"No "]
["00:00:00",null,null,null,null,0,null,null,0,null,null,{"$f":"IFERROR(VLOOKUP(K15,$AD$7:AE17,2,FALSE),0)","v":0},null,null,0,null,null,null,null,null,null,"I",{"$f":"Criteria!C12","v":"Speech"},null,null,"I",{"$f":"Criteria!E12","v":"Waiting"},null,null,null,null,null,"00:00:00","00:00:00",0,{"$f":"SpellNumber((AI15))","v":"No Dollars and No Cents"},3,"No "]
["00:00:00",null,null,null,null,0,null,null,0,null,null,{"$f":"IFERROR(VLOOKUP(K16,$AD$7:AE18,2,FALSE),0)","v":0},null,null,0,null,null,null,null,null,null,"J",{"$f":"Criteria!C13","v":"OT/PT"},null,null,"J",{"$f":"Criteria!E13","v":"Unknown"},null,null,null,null,null,"00:00:00","00:00:00",0,{"$f":"SpellNumber((AI16))","v":"No Dollars and No Cents"},3,"No "]
["00:00:00",null,null,null,null,0,null,null,0,null,null,{"$f":"IFERROR(VLOOKUP(K17,$AD$7:AE19,2,FALSE),0)","v":0},null,null,0,null,null,null,null,null,null,"K",{"$f":"Criteria!C14","v":"Center"},null,null,"K",{"$f":"Criteria!E14","v":"Ignored"},null,null,null,null,null,"00:00:00","00:00:00",0,{"$f":"SpellNumber((AI17))","v":"No Dollars and No Cents"},3,"No "]
["00:00:00",null,null,null,null,0,null,null,0,null,null,{"$f":"IFERROR(VLOOKUP(K18,$AD$7:AE20,2,FALSE),0)","v":0},null,null,0,null,null,null,null,null,null,"L",{"$f":"Criteria!C15","v":"Other"},null,null,"L",{"$f":"Criteria!E15","v":"Other"},null,null,null,null,null,"00:00:00","00:00:00",0,{"$f":"SpellNumber((AI18))","v":"No Dollars and No Cents"},3,"No "]
["00:00:00",null,null,null,null,0,null,null,0,null,null,{"$f":"IFERROR(VLOOKUP(K19,$AD$7:AE21,2,FALSE),0)","v":0},null,null,0,null,null,null,null,null,null,null,null,null,null,null,null,null,null,null,null,null,"00:00:00","00:00:00",0,{"$f":"SpellNumber((AI19))","v":"No Dollars and No Cents"},3,"No "]
["00:00:00",null,null,null,null,0,null,null,0,null,null,{"$f":"IFERROR(VLOOKUP(K20,$AD$7:AE22,2,FALSE),0)","v":0},null,null,0,null,null,null,null,null,null,null,null,null,null,null,null,null,null,null,null,null,"00:00:00","00:00:00",0,{"$f":"SpellNumber((AI20))","v":"No Dollars and No Cents"},3,"No "]
["00:00:00",null,null,null,null,0,null,null,0,null,null,{"$f":"IFERROR(VLOOKUP(K21,$AD$7:AE23,2,FALSE),0)","v":0},null,null,0,null,null,null,null,null,null,null,"Con",null,"Bx Frequency Per Day",null,null,null,null,null,null,null,"00:00:00","00:00:00",0,{"$f":"SpellNumber((AI21))","v":"No Dollars and No Cents"},3,"No "]
["00:00:00",null,null,null,null,0,null,null,0,null,null,{"$f":"IFERROR(VLOOKUP(K22,$AD$7:AE24,2,FALSE),0)","v":0},null,null,0,null,null,null,null,null,null,"A",{"$f":"Criteria!I4","v":"Choice Given"},"A",{"$f":"COUNTIF(K7:K104,\"A\")","v":0},null,{"$f":"SUM(Y22:Y24)","v":0},null,"Bin Dec","Frequency of Time",null,null,"00:00:00","00:00:00",0,{"$f":"SpellNumber((AI22))","v":"No Dollars and No Cents"},3,"No "]
["00:00:00",null,null,null,null,0,null,null,0,null,null,{"$f":"IFERROR(VLOOKUP(K23,$AD$7:AE25,2,FALSE),0)","v":0},null,null,0,null,null,null,null,null,null,"B",{"$f":"Criteria!I5","v":"Ignored"},"B",{"$f":"COUNTIF(K7:K104,\"B\")","v":0},null,null,null,"Seven",{"$f":"COUNTIF(AL7:AL104,\"*Seven*\")","v":0},null,null,"00:00:00","00:00:00",0,{"$f":"SpellNumber((AI23))","v":"No Dollars and No Cents"},3,"No "]
["00:00:00",null,null,null,null,0,null,null,0,null,null,{"$f":"IFERROR(VLOOKUP(K24,$AD$7:AE26,2,FALSE),0)","v":0},null,null,0,null,null,null,null,null,null,"C",{"$f":"Criteria!I6","v":"Redirection"},"C",{"$f":"COUNTIF(K7:K104,\"C\")","v":0},null,null,null,"Eight",{"$f":"COUNTIF(AL7:AL104,\"*Eight*\")","v":0},null,null,"00:00:00","00:00:00",0,{"$f":"SpellNumber((AI24))","v":"No Dollars and No Cents"},3,"No "]
["00:00:00",null,null,null,null,0,null,null,0,null,null,{"$f":"IFERROR(VLOOKUP(K25,$AD$7:AE27,2,FALSE),0)","v":0},null,null,0,null,null,null,null,null,null,"D",{"$f":"Criteria!I7","v":"Kept the demand"},null,"Bx Druation Per Day",null,null,null,"Nine",{"$f":"COUNTIF(AL7:AL104,\"*Nine*\")","v":0},null,null,"00:00:00","00:00:00",0,{"$f":"SpellNumber((AI25))","v":"No Dollars and No Cents"},3,"No "]
["00:00:00",null,null,null,null,0,null,null,0,null,null,{"$f":"IFERROR(VLOOKUP(K26,$AD$7:AE28,2,FALSE),0)","v":0},null,null,0,null,null,null,null,null,null,"E",{"$f":"Criteria!I8","v":"Changed activity"},"A",{"$f":"SUMIF(K7:K104,\"A\",A7:A104)","v":"00:00:00"},null,null,null,"Ten",{"$f":"COUNTIF(AL7:AL12,\"*Ten*\")","v":0},null,null,"00:00:00","00:00:00",0,{"$f":"SpellNumber((AI26))","v":"No Dollars and No Cents"},3,"No "]
["00:00:00",null,null,null,null,0,null,null,0,null,null,{"$f":"IFERROR(VLOOKUP(K27,$AD$7:AE29,2,FALSE),0)","v":0},null,null,0,null,null,null,null,null,null,"F",{"$f":"Criteria!I9","v":"Verbal reprimand"},"B",{"$f":"SUMIF(K7:K104,\"B\",A7:A104)","v":"00:00:00"},null,null,null,"Eleven",{"$f":"COUNTIF(AL7:AL104,\"*Eleven*\")","v":0},null,null,"00:00:00","00:00:00",0,{"$f":"SpellNumber((AI27))","v":"No Dollars and No Cents"},3,"No "]
["00:00:00",null,null,null,null,0,null,null,0,null,null,{"$f":"IFERROR(VLOOKUP(K28,$AD$7:AE30,2,FALSE),0)","v":0},null,null,0,null,null,null,null,null,null,"G",{"$f":"Criteria!I10","v":"Told to wait"},"C",{"$f":"SUMIF(K7:K104,\"C\",A7:A104)","v":"00:00:00"},null,null,null,"Twelve",{"$f":"COUNTIF(AL7:AL104,\"*Twelve*\")","v":0},null,null,"00:00:00","00:00:00",0,{"$f":"SpellNumber((AI28))","v":"No Dollars and No Cents"},3,"No "]
["00:00:00",null,null,null,null,0,null,null,0,null,null,{"$f":"IFERROR(VLOOKUP(K29,$AD$7:AE31,2,FALSE),0)","v":0},null,null,0,null,null,null,null,null,null,"H",{"$f":"Criteria!I11","v":"Physical Prompt"},null,null,null,null,null,"One",{"$f":"COUNTIF(AL7:AL104,\"*One*\")","v":0},null,null,"00:00:00","00:00:00",0,{"$f":"SpellNumber((AI29))","v":"No Dollars and No Cents"},3,"No "]
["00:00:00",null,null,null,null,0,null,null,0,null,null,{"$f":"IFERROR(VLOOKUP(K30,$AD$7:AE32,2,FALSE),0)","v":0},null,null,0,null,null,null,null,null,null,"I",{"$f":"Criteria!I12","v":"Verbal prompt"},null,null,null,null,null,"Two",{"$f":"COUNTIF(AL7:AL104,\"*Two*\")","v":0},null,null,"00:00:00","00:00:00",0,{"$f":"SpellNumber((AI30))","v":"No Dollars and No Cents"},3,"No "]
["00:00:00",null,null,null,null,0,null,null,0,null,null,{"$f":"IFERROR(VLOOKUP(K31,$AD$7:AE33,2,FALSE),0)","v":0},null,null,0,null,null,null,null,null,null,"J",{"$f":"Criteria!I13","v":"Told to wait"},null,null,null,null,null,"Three",{"$f":"COUNTIF(AL7:AL104,\"*Three*\")","v":0},null,null,"00:00:00","00:00:00",0,{"$f":"SpellNumber((AI31))","v":"No Dollars and No Cents"},3,"No "]
["00:00:00",null,null,null,null,0,null,null,0,null,null,{"$f":"IFERROR(VLOOKUP(K32,$AD$7:AE34,2,FALSE),0)","v":0},null,null,0,null,null,null,null,null,null,"K",{"$f":"Criteria!I14","v":"Unknown"},null,null,null,null,null,"Four",{"$f":"COUNTIF(AL7:AL104,\"*Four*\")","v":0},null,null,"00:00:00","00:00:00",0,{"$f":"SpellNumber((AI32))","v":"No Dollars and No Cents"},3,"No "]
["00:00:00",null,null,null,null,0,null,null,0,null,null,{"$f":"IFERROR(VLOOKUP(K33,$AD$7:AE35,2,FALSE),0)","v":0},null,null,0,null,null,null,null,null,null,"L",{"$f":"Criteria!I15","v":"Other"},null,null,null,null,null,null,null,null,null,"00:00:00","00:00:00",0,{"$f":"SpellNumber((AI33))","v":"No Dollars and No Cents"},3,"No "]
["00:00:00",null,null,null,null,0,null,null,0,null,null,{"$f":"IFERROR(VLOOKUP(K34,$AD$7:AE36,2,FALSE),0)","v":0},null,null,0,null,null,null,null,null,null,null,null,null,null,null,null,null,null,null,null,null,"00:00:00","00:00:00",0,{"$f":"SpellNumber((AI34))","v":"No Dollars and No Cents"},3,"No "]
["00:00:00",null,null,null,null,0,null,null,0,null,null,{"$f":"IFERROR(VLOOKUP(K35,$AD$7:AE37,2,FALSE),0)","v":0},null,null,0,null,null,null,null,null,null,null,"Context Frequency","Consequence","Antedencents",null,null,null,null,null,null,null,"00:00:00","00:00:00",0,{"$f":"SpellNumber((AI35))","v":"No Dollars and No Cents"},3,"No "]
["00:00:00",null,null,null,null,0,null,null,0,null,null,{"$f":"IFERROR(VLOOKUP(K36,$AD$7:AE38,2,FALSE),0)","v":0},null,null,0,null,null,null,null,null,null,"A",{"$f":"COUNTIF(E7:E104,\"A\")","v":0},{"$f":"COUNTIF(N7:N104,\"A\")","v":0},{"$f":"COUNTIF(H7:H104,\"A\")","v":0},null,null,null,null,null,null,null,"00:00:00","00:00:00",0,{"$f":"SpellNumber((AI36))","v":"No Dollars and No Cents"},3,"No "]
["00:00:00",null,null,null,null,0,null,null,0,null,null,{"$f":"IFERROR(VLOOKUP(K37,$AD$7:AE39,2,FALSE),0)","v":0},null,null,0,null,null,null,null,null,null,"B",{"$f":"COUNTIF(E8:E105,\"B\")","v":0},{"$f":"COUNTIF(N7:N104,\"B\")","v":0},{"$f":"COUNTIF(H7:H104,\"B\")","v":0},null,null,null,null,null,null,null,"00:00:00","00:00:00",0,{"$f":"SpellNumber((AI37))","v":"No Dollars and No Cents"},3,"No "]
["00:00:00",null,null,null,null,0,null,null,0,null,null,{"$f":"IFERROR(VLOOKUP(K38,$AD$7:AE40,2,FALSE),0)","v":0},null,null,0,null,null,null,null,null,null,"C",{"$f":"COUNTIF(E8:E105,\"C\")","v":0},{"$f":"COUNTIF(N7:N104,\"C\")","v":0},{"$f":"COUNTIF(H7:H104,\"C\")","v":0},null,null,null,null,null,null,null,"00:00:00","00:00:00",0,{"$f":"SpellNumber((AI38))","v":"No Dollars and No Cents"},3,"No "]
["00:00:00",null,null,null,null,0,null,null,0,null,null,{"$f":"IFERROR(VLOOKUP(K39,$AD$7:AE41,2,FALSE),0)","v":0},null,null,0,null,null,null,null,null,null,"D",{"$f":"COUNTIF(E8:E105,\"D\")","v":0},{"$f":"COUNTIF(N7:N104,\"D\")","v":0},{"$f":"COUNTIF(H7:H104,\"D\")","v":0},null,null,null,null,null,null,null,"00:00:00","00:00:00",0,{"$f":"SpellNumber((AI39))","v":"No Dollars and No Cents"},3,"No "]
["00:00:00",null,null,null,null,0,null,null,0,null,null,{"$f":"IFERROR(VLOOKUP(K40,$AD$7:AE42,2,FALSE),0)","v":0},null,null,0,null,null,null,null,null,null,"E",{"$f":"COUNTIF(E8:E105,\"E\")","v":0},{"$f":"COUNTIF(N7:N104,\"E\")","v":0},{"$f":"COUNTIF(H7:H104,\"E\")","v":0},null,null,null,null,null,null,null,"00:00:00","00:00:00",0,{"$f":"SpellNumber((AI40))","v":"No Dollars and No Cents"},3,"No "]
["00:00:00",null,null,null,null,0,null,null,0,null,null,{"$f":"IFERROR(VLOOKUP(K41,$AD$7:AE43,2,FALSE),0)","v":0},null,null,0,null,null,null,null,null,null,"F",{"$f":"COUNTIF(E8:E105,\"F\")","v":0},{"$f":"COUNTIF(N7:N104,\"F\")","v":0},{"$f":"COUNTIF(H7:H104,\"F\")","v":0},null,null,null,null,null,null,null,"00:00:00","00:00:00",0,{"$f":"SpellNumber((AI41))","v":"No Dollars and No Cents"},3,"No "]
["00:00:00",null,null,null,null,0,null,null,0,null,null,{"$f":"IFERROR(VLOOKUP(K42,$AD$7:AE44,2,FALSE),0)","v":0},null,null,0,null,null,null,null,null,null,"G",{"$f":"COUNTIF(E8:E105,\"G\")","v":0},{"$f":"COUNTIF(N7:N104,\"G\")","v":0},{"$f":"COUNTIF(H7:H104,\"G\")","v":0},null,null,null,null,null,null,null,"00:00:00","00:00:00",0,{"$f":"SpellNumber((AI42))","v":"No Dollars and No Cents"},3,"No "]
["00:00:00",null,null,null,null,0,null,null,0,null,null,{"$f":"IFERROR(VLOOKUP(K43,$AD$7:AE45,2,FALSE),0)","v":0},null,null,0,null,null,null,null,null,null,"H",{"$f":"COUNTIF(E8:E105,\"H\")","v":0},{"$f":"COUNTIF(N7:N104,\"H\")","v":0},{"$f":"COUNTIF(H7:H104,\"H\")","v":0},null,null,null,null,null,null,null,"00:00:00","00:00:00",0,{"$f":"SpellNumber((AI43))","v":"No Dollars and No Cents"},3,"No "]
["00:00:00",null,null,null,null,0,null,null,0,null,null,{"$f":"IFERROR(VLOOKUP(K44,$AD$7:AE46,2,FALSE),0)","v":0},null,null,0,null,null,null,null,null,null,"I",{"$f":"COUNTIF(E8:E105,\"I\")","v":0},{"$f":"COUNTIF(N7:N104,\"I\")","v":0},{"$f":"COUNTIF(H7:H104,\"I\")","v":0},null,null,null,null,null,null,null,"00:00:00","00:00:00",0,{"$f":"SpellNumber((AI44))","v":"No Dollars and No Cents"},3,"No "]
["00:00:00",null,null,null,null,0,null,null,0,null,null,{"$f":"IFERROR(VLOOKUP(K45,$AD$7:AE47,2,FALSE),0)","v":0},null,null,0,null,null,null,null,null,null,"J",{"$f":"COUNTIF(E8:E105,\"J\")","v":0},{"$f":"COUNTIF(N7:N104,\"J\")","v":0},{"$f":"COUNTIF(H7:H104,\"J\")","v":0},null,null,null,null,null,null,null,"00:00:00","00:00:00",0,{"$f":"SpellNumber((AI45))","v":"No Dollars and No Cents"},3,"No "]
["00:00:00",null,null,null,null,0,null,null,0,null,null,{"$f":"IFERROR(VLOOKUP(K46,$AD$7:AE48,2,FALSE),0)","v":0},null,null,0,null,null,null,null,null,null,"K",{"$f":"COUNTIF(E8:E105,\"K\")","v":0},{"$f":"COUNTIF(N7:N104,\"K\")","v":0},{"$f":"COUNTIF(H7:H104,\"K\")","v":0},null,null,null,null,null,null,null,"00:00:00","00:00:00",0,{"$f":"SpellNumber((AI46))","v":"No Dollars and No Cents"},3,"No "]
["00:00:00",null,null,null,null,0,null,null,0,null,null,{"$f":"IFERROR(VLOOKUP(K47,$AD$7:AE49,2,FALSE),0)","v":0},null,null,0,null,null,null,null,null,null,"L",{"$f":"COUNTIF(E8:E105,\"l\")","v":0},{"$f":"COUNTIF(N7:N104,\"L\")","v":0},{"$f":"COUNTIF(H7:H104,\"L\")","v":0},null,null,null,null,null,null,null,"00:00:00","00:00:00",0,{"$f":"SpellNumber((AI47))","v":"No Dollars and No Cents"},3,"No "]
["00:00:00",null,null,null,null,0,null,null,0,null,null,{"$f":"IFERROR(VLOOKUP(K48,$AD$7:AE50,2,FALSE),0)","v":0},null,null,0,null,null,null,null,null,null,null,null,null,null,null,null,null,null,null,null,null,"00:00:00","00:00:00",0,{"$f":"SpellNumber((AI48))","v":"No Dollars and No Cents"},3,"No "]
["00:00:00",null,null,null,null,0,null,null,0,null,null,{"$f":"IFERROR(VLOOKUP(K49,$AD$7:AE51,2,FALSE),0)","v":0},null,null,0,null,null,null,null,null,null,null,"Beh & Setting ",null,null,null,"Beh & Antecedents",null,null,null,null,null,"00:00:00","00:00:00",0,{"$f":"SpellNumber((AI49))","v":"No Dollars and No Cents"},3,"No "]
["00:00:00",null,null,null,null,0,null,null,0,null,null,{"$f":"IFERROR(VLOOKUP(K50,$AD$7:AE52,2,FALSE),0)","v":0},null,null,0,null,null,null,null,null,null,null,"A","B","C",null,null,"A","B","C",null,null,"00:00:00","00:00:00",0,{"$f":"SpellNumber((AI50))","v":"No Dollars and No Cents"},3,"No "]
["00:00:00",null,null,null,null,0,null,null,0,null,null,{"$f":"IFERROR(VLOOKUP(K51,$AD$7:AE53,2,FALSE),0)","v":0},null,null,0,null,null,null,null,null,null,"A",{"$f":"COUNTIFS(E7:E104,\"A\",K7:K104,\"A\")","v":0},{"$f":"COUNTIFS(E7:E104,\"A\",K7:K104,\"B\")","v":0},{"$f":"COUNTIFS(E7:E104,\"A\",K7:K104,\"C\")","v":0},null,"A",{"$f":"COUNTIFS(H7:H104,\"a\",K7:K104,\"A\")","v":0},{"$f":"COUNTIFS(H7:H104,\"A\",K7:K104,\"B\")","v":0},{"$f":"COUNTIFS(H7:H104,\"A\",K7:K104,\"C\")","v":0},null,null,"00:00:00","00:00:00",0,{"$f":"SpellNumber((AI51))","v":"No Dollars and No Cents"},3,"No "]
["00:00:00",null,null,null,null,0,null,null,0,null,null,{"$f":"IFERROR(VLOOKUP(K52,$AD$7:AE54,2,FALSE),0)","v":0},null,null,0,null,null,null,null,null,null,"B",{"$f":"COUNTIFS(E7:E104,\"B\",K7:K104,\"A\")","v":0},{"$f":"COUNTIFS(E7:E104,\"B\",K7:K104,\"B\")","v":0},{"$f":"COUNTIFS(E7:E104,\"B\",K7:K104,\"C\")","v":0},null,"B",{"$f":"COUNTIFS(H7:H104,\"B\",K7:K104,\"A\")","v":0},{"$f":"COUNTIFS(H7:H104,\"B\",K7:K104,\"B\")","v":0},{"$f":"COUNTIFS(H7:H104,\"B\",K7:K104,\"C\")","v":0},null,null,"00:00:00","00:00:00",0,{"$f":"SpellNumber((AI52))","v":"No Dollars and No Cents"},3,"No "]
["00:00:00",null,null,null,null,0,null,null,0,null,null,{"$f":"IFERROR(VLOOKUP(K53,$AD$7:AE55,2,FALSE),0)","v":0},null,null,0,null,null,null,null,null,null,"C",{"$f":"COUNTIFS(K7:K104,\"C\",K7:K104,\"A\")","v":0},{"$f":"COUNTIFS(E7:E104,\"C\",K7:K104,\"B\")","v":0},{"$f":"COUNTIFS(E7:E104,\"C\",K7:K104,\"C\")","v":0},null,"C",{"$f":"COUNTIFS(H7:H104,\"C\",K7:K104,\"A\")","v":0},{"$f":"COUNTIFS(H7:H104,\"C\",K7:K104,\"B\")","v":0},{"$f":"COUNTIFS(H7:H104,\"C\",K7:K104,\"C\")","v":0},null,null,"00:00:00","00:00:00",0,{"$f":"SpellNumber((AI53))","v":"No Dollars and No Cents"},3,"No "]
["00:00:00",null,null,null,null,0,null,null,0,null,null,{"$f":"IFERROR(VLOOKUP(K54,$AD$7:AE56,2,FALSE),0)","v":0},null,null,0,null,null,null,null,null,null,"D",{"$f":"COUNTIFS(E7:E104,\"D\",K7:K104,\"A\")","v":0},{"$f":"COUNTIFS(E7:E104,\"D\",K7:K104,\"B\")","v":0},{"$f":"COUNTIFS(E7:E104,\"D\",K7:K104,\"C\")","v":0},null,"D",{"$f":"COUNTIFS(H7:H104,\"D\",K7:K104,\"A\")","v":0},{"$f":"COUNTIFS(H7:H104,\"D\",K7:K104,\"B\")","v":0},{"$f":"COUNTIFS(H7:H104,\"D\",K7:K104,\"C\")","v":0},null,null,"00:00:00","00:00:00",0,{"$f":"SpellNumber((AI54))","v":"No Dollars and No Cents"},3,"No "]
["00:00:00",null,null,null,null,0,null,null,0,null,null,{"$f":"IFERROR(VLOOKUP(K55,$AD$7:AE57,2,FALSE),0)","v":0},null,null,0,null,null,null,null,null,null,"E",{"$f":"COUNTIFS(E7:E104,\"E\",K7:K104,\"A\")","v":0},{"$f":"COUNTIFS(E7:E104,\"E\",K7:K104,\"B\")","v":0},{"$f":"COUNTIFS(E7:E104,\"E\",K7:K104,\"C\")","v":0},null,"E",{"$f":"COUNTIFS(H7:H104,\"E\",K7:K104,\"A\")","v":0},{"$f":"COUNTIFS(H7:H104,\"E\",K7:K104,\"B\")","v":0},{"$f":"COUNTIFS(H7:H104,\"E\",K7:K104,\"C\")","v":0},null,null,"00:00:00","00:00:00",0,{"$f":"SpellNumber((AI55))","v":"No Dollars and No Cents"},3,"No "]
["00:00:00",null,null,null,null,0,null,null,0,null,null,{"$f":"IFERROR(VLOOKUP(K56,$AD$7:AE58,2,FALSE),0)","v":0},null,null,0,null,null,null,null,null,null,"F",{"$f":"COUNTIFS(E7:E104,\"F\",K7:K104,\"A\")","v":0},{"$f":"COUNTIFS(E7:E104,\"F\",K7:K104,\"B\")","v":0},{"$f":"COUNTIFS(E7:E104,\"F\",K7:K104,\"C\")","v":0},null,"F",{"$f":"COUNTIFS(H7:H104,\"F\",K7:K104,\"A\")","v":0},{"$f":"COUNTIFS(H7:H104,\"F\",K7:K104,\"B\")","v":0},{"$f":"COUNTIFS(H7:H104,\"F\",K7:K104,\"C\")","v":0},null,null,"00:00:00","00:00:00",0,{"$f":"SpellNumber((AI56))","v":"No Dollars and No Cents"},3,"No "]
["00:00:00",null,null,null,null,0,null,null,0,null,null,{"$f":"IFERROR(VLOOKUP(K57,$AD$7:AE59,2,FALSE),0)","v":0},null,null,0,null,null,null,null,null,null,"G",{"$f":"COUNTIFS(E7:E104,\"G\",K7:K104,\"A\")","v":0},{"$f":"COUNTIFS(E7:E104,\"G\",K7:K104,\"B\")","v":0},{"$f":"COUNTIFS(E7:E104,\"G\",K7:K104,\"C\")","v":0},null,"G",{"$f":"COUNTIFS(H7:H104,\"G\",K7:K104,\"A\")","v":0},{"$f":"COUNTIFS(H7:H104,\"G\",K7:K104,\"B\")","v":0},{"$f":"COUNTIFS(H7:H104,\"G\",K7:K104,\"C\")","v":0},null,null,"00:00:00","00:00:00",0,{"$f":"SpellNumber((AI57))","v":"No Dollars and No Cents"},3,"No "]
["00:00:00",null,null,null,null,0,null,null,0,null,null,{"$f":"IFERROR(VLOOKUP(K58,$AD$7:AE60,2,FALSE),0)","v":0},null,null,0,null,null,null,null,null,null,"H",{"$f":"COUNTIFS(E7:E104,\"H\",K7:K104,\"A\")","v":0},{"$f":"COUNTIFS(E7:E104,\"H\",K7:K104,\"B\")","v":0},{"$f":"COUNTIFS(E7:E104,\"H\",K7:K104,\"C\")","v":0},null,"H",{"$f":"COUNTIFS(H7:H104,\"H\",K7:K104,\"A\")","v":0},{"$f":"COUNTIFS(H7:H104,\"H\",K7:K104,\"B\")","v":0},{"$f":"COUNTIFS(H7:H104,\"H\",K7:K104,\"C\")","v":0},null,null,"00:00:00","00:00:00",0,{"$f":"SpellNumber((AI58))","v":"No Dollars and No Cents"},3,"No "]
["00:00:00",null,null,null,null,0,null,null,0,null,null,{"$f":"IFERROR(VLOOKUP(K59,$AD$7:AE61,2,FALSE),0)","v":0},null,null,0,null,null,null,null,null,null,"I",{"$f":"COUNTIFS(E7:E104,\"I\",K7:K104,\"A\")","v":0},{"$f":"COUNTIFS(E7:E104,\"I\",K7:K104,\"B\")","v":0},{"$f":"COUNTIFS(E7:E104,\"I\",K7:K104,\"C\")","v":0},null,"I",{"$f":"COUNTIFS(H7:H104,\"I\",K7:K104,\"A\")","v":0},{"$f":"COUNTIFS(H7:H104,\"I\",K7:K104,\"B\")","v":0},{"$f":"COUNTIFS(H7:H104,\"I\",K7:K104,\"C\")","v":0},null,null,"00:00:00","00:00:00",0,{"$f":"SpellNumber((AI59))","v":"No Dollars and No Cents"},3,"No "]
["00:00:00",null,null,null,null,0,null,null,0,null,null,{"$f":"IFERROR(VLOOKUP(K60,$AD$7:AE62,2,FALSE),0)","v":0},null,null,0,null,null,null,null,null,null,"J",{"$f":"COUNTIFS(E7:E104,\"J\",K7:K104,\"A\")","v":0},{"$f":"COUNTIFS(E7:E104,\"J\",K7:K104,\"B\")","v":0},{"$f":"COUNTIFS(E7:E104,\"J\",K7:K104,\"C\")","v":0},null,"J",{"$f":"COUNTIFS(H7:H104,\"J\",K7:K104,\"A\")","v":0},{"$f":"COUNTIFS(H7:H104,\"J\",K7:K104,\"B\")","v":0},{"$f":"COUNTIFS(H7:H104,\"J\",K7:K104,\"C\")","v":0},null,null,"00:00:00","00:00:00",0,{"$f":"SpellNumber((AI60))","v":"No Dollars and No Cents"},3,"No "]
["00:00:00",null,null,null,null,0,null,null,0,null,null,{"$f":"IFERROR(VLOOKUP(K61,$AD$7:AE63,2,FALSE),0)","v":0},null,null,0,null,null,null,null,null,null,"K",{"$f":"COUNTIFS(E7:E104,\"K\",K7:K104,\"A\")","v":0},{"$f":"COUNTIFS(E7:E104,\"K\",K7:K104,\"B\")","v":0},{"$f":"COUNTIFS(E7:E104,\"K\",K7:K104,\"C\")","v":0},null,"K",{"$f":"COUNTIFS(H7:H104,\"K\",K7:K104,\"A\")","v":0},{"$f":"COUNTIFS(H7:H104,\"K\",K7:K104,\"B\")","v":0},{"$f":"COUNTIFS(H7:H104,\"K\",K7:K104,\"C\")","v":0},null,null,"00:00:00","00:00:00",0,{"$f":"SpellNumber((AI61))","v":"No Dollars and No Cents"},3,"No "]
["00:00:00",null,null,null,null,0,null,null,0,null,null,{"$f":"IFERROR(VLOOKUP(K62,$AD$7:AE64,2,FALSE),0)","v":0},null,null,0,null,null,null,null,null,null,"L",{"$f":"COUNTIFS(E7:E104,\"L\",K7:K104,\"A\")","v":0},{"$f":"COUNTIFS(E7:E104,\"L\",K7:K104,\"B\")","v":0},{"$f":"COUNTIFS(E7:E104,\"L\",K7:K104,\"C\")","v":0},null,"L",{"$f":"COUNTIFS(H7:H104,\"L\",K7:K104,\"A\")","v":0},{"$f":"COUNTIFS(H7:H104,\"L\",K7:K104,\"B\")","v":0},{"$f":"COUNTIFS(H7:H104,\"L\",K7:K104,\"C\")","v":0},null,null,"00:00:00","00:00:00",0,{"$f":"SpellNumber((AI62))","v":"No Dollars and No Cents"},3,"No "]
["00:00:00",null,null,null,null,0,null,null,0,null,null,{"$f":"IFERROR(VLOOKUP(K63,$AD$7:AE65,2,FALSE),0)","v":0},null,null,0,null,null,null,null,null,null,null,"Beh & Consequences",null,null,null,null,null,null,null,null,null,"00:00:00","00:00:00",0,{"$f":"SpellNumber((AI63))","v":"No Dollars and No Cents"},3,"No "]
["00:00:00",null,null,null,null,0,null,null,0,null,null,{"$f":"IFERROR(VLOOKUP(K64,$AD$7:AE66,2,FALSE),0)","v":0},null,null,0,null,null,null,null,null,null,null,"A","B","C",null,null,null,null,null,null,null,"00:00:00","00:00:00",0,{"$f":"SpellNumber((AI64))","v":"No Dollars and No Cents"},3,"No "]
["00:00:00",null,null,null,null,0,null,null,0,null,null,{"$f":"IFERROR(VLOOKUP(K65,$AD$7:AE67,2,FALSE),0)","v":0},null,null,0,null,null,null,null,null,null,"A",{"$f":"COUNTIFS(N7:N104,\"A\",K7:K104,\"A\")","v":0},{"$f":"COUNTIFS(N7:N104,\"A\",K7:K104,\"B\")","v":0},{"$f":"COUNTIFS(N7:N104,\"A\",K7:K104,\"C\")","v":0},null,null,null,null,null,null,null,"00:00:00","00:00:00",0,{"$f":"SpellNumber((AI65))","v":"No Dollars and No Cents"},3,"No "]
["00:00:00",null,null,null,null,0,null,null,0,null,null,{"$f":"IFERROR(VLOOKUP(K66,$AD$7:AE68,2,FALSE),0)","v":0},null,null,0,null,null,null,null,null,null,"B",{"$f":"COUNTIFS(N7:N104,\"B\",K7:K104,\"A\")","v":0},{"$f":"COUNTIFS(N7:N104,\"B\",K7:K104,\"B\")","v":0},{"$f":"COUNTIFS(N7:N104,\"B\",K7:K104,\"C\")","v":0},null,null,null,null,null,null,null,"00:00:00","00:00:00",0,{"$f":"SpellNumber((AI66))","v":"No Dollars and No Cents"},3,"No "]
["00:00:00",null,null,null,null,0,null,null,0,null,null,{"$f":"IFERROR(VLOOKUP(K67,$AD$7:AE69,2,FALSE),0)","v":0},null,null,0,null,null,null,null,null,null,"C",{"$f":"COUNTIFS(N7:N104,\"C\",K7:K104,\"A\")","v":0},{"$f":"COUNTIFS(N7:N104,\"C\",K7:K104,\"B\")","v":0},{"$f":"COUNTIFS(N7:N104,\"C\",K7:K104,\"C\")","v":0},null,null,null,null,null,null,null,"00:00:00","00:00:00",0,{"$f":"SpellNumber((AI67))","v":"No Dollars and No Cents"},3,"No "]
["00:00:00",null,null,null,null,0,null,null,0,null,null,{"$f":"IFERROR(VLOOKUP(K68,$AD$7:AE70,2,FALSE),0)","v":0},null,null,0,null,null,null,null,null,null,"D",{"$f":"COUNTIFS(N7:N104,\"D\",K7:K104,\"A\")","v":0},{"$f":"COUNTIFS(N7:N104,\"D\",K7:K104,\"B\")","v":0},{"$f":"COUNTIFS(N7:N104,\"D\",K7:K104,\"C\")","v":0},null,null,null,null,null,null,null,"00:00:00","00:00:00",0,{"$f":"SpellNumber((AI68))","v":"No Dollars and No Cents"},3,"No "]
["00:00:00",null,null,null,null,0,null,null,0,null,null,{"$f":"IFERROR(VLOOKUP(K69,$AD$7:AE71,2,FALSE),0)","v":0},null,null,0,null,null,null,null,null,null,"E",{"$f":"COUNTIFS(N7:N104,\"E\",K7:K104,\"A\")","v":0},{"$f":"COUNTIFS(N7:N104,\"E\",K7:K104,\"B\")","v":0},{"$f":"COUNTIFS(N7:N104,\"E\",K7:K104,\"C\")","v":0},null,null,null,null,null,null,null,"00:00:00","00:00:00",0,{"$f":"SpellNumber((AI69))","v":"No Dollars and No Cents"},3,"No "]
["00:00:00",null,null,null,null,0,null,null,0,null,null,{"$f":"IFERROR(VLOOKUP(K70,$AD$7:AE72,2,FALSE),0)","v":0},null,null,0,null,null,null,null,null,null,"F",{"$f":"COUNTIFS(N7:N104,\"F\",K7:K104,\"A\")","v":0},{"$f":"COUNTIFS(N7:N104,\"F\",K7:K104,\"B\")","v":0},{"$f":"COUNTIFS(N7:N104,\"F\",K7:K104,\"C\")","v":0},null,null,null,null,null,null,null,"00:00:00","00:00:00",0,{"$f":"SpellNumber((AI70))","v":"No Dollars and No Cents"},3,"No "]
["00:00:00",null,null,null,null,0,null,null,0,null,null,{"$f":"IFERROR(VLOOKUP(K71,$AD$7:AE73,2,FALSE),0)","v":0},null,null,0,null,null,null,null,null,null,"G",{"$f":"COUNTIFS(N7:N104,\"G\",K7:K104,\"A\")","v":0},{"$f":"COUNTIFS(N7:N104,\"G\",K7:K104,\"B\")","v":0},{"$f":"COUNTIFS(N7:N104,\"G\",K7:K104,\"C\")","v":0},null,null,null,null,null,null,null,"00:00:00","00:00:00",0,{"$f":"SpellNumber((AI71))","v":"No Dollars and No Cents"},3,"No "]
[{"$f":"C72-B72","v":"00:00:00"},null,null,null,null,0,null,null,{"$f":"IFERROR(VLOOKUP(H72,$Z$7:$AA$18,2,FALSE),0)","v":0},null,null,{"$f":"IFERROR(VLOOKUP(K72,$AD$7:AE74,2,FALSE),0)","v":0},null,null,{"$f":"IFERROR(VLOOKUP(N72,$V$22:$W$33,2,FALSE),0)","v":0},null,null,null,null,null,null,"H",{"$f":"COUNTIFS(N7:N104,\"H\",K7:K104,\"A\")","v":0},{"$f":"COUNTIFS(N7:N104,\"H\",K7:K104,\"B\")","v":0},{"$f":"COUNTIFS(N7:N104,\"H\",K7:K104,\"C\")","v":0},null,null,null,null,null,null,null,{"$f":"B72","v":"00:00:00"},{"$f":"TEXT(AG72,\"hh:mm:ss\")","v":"00:00:00"},{"$f":"AG72*24","v":0},{"$f":"SpellNumber((AI72))","v":"No Dollars and No Cents"},{"$f":"FIND(\" Dollar\",AJ72)","v":3},{"$f":"LEFT(AJ72,AK72)","v":"No "}]
["00:00:00",null,null,null,null,{"$f":"IFERROR(VLOOKUP(E73,$V$7:$W$18,2,FALSE),0)","v":0},null,null,0,null,null,{"$f":"IFERROR(VLOOKUP(K73,$AD$7:AE75,2,FALSE),0)","v":0},null,null,0,null,null,null,null,null,null,"I",{"$f":"COUNTIFS(N7:N104,\"I\",K7:K104,\"A\")","v":0},{"$f":"COUNTIFS(N7:N104,\"I\",K7:K104,\"B\")","v":0},{"$f":"COUNTIFS(N7:N104,\"I\",K7:K104,\"C\")","v":0},null,null,null,null,null,null,null,"00:00:00","00:00:00",0,{"$f":"SpellNumber((AI73))","v":"No Dollars and No Cents"},3,"No "]
["00:00:00",null,null,null,null,0,null,null,0,null,null,{"$f":"IFERROR(VLOOKUP(K74,$AD$7:AE76,2,FALSE),0)","v":0},null,null,0,null,null,null,null,null,null,"J",{"$f":"COUNTIFS(N7:N104,\"J\",K7:K104,\"A\")","v":0},{"$f":"COUNTIFS(N7:N104,\"J\",K7:K104,\"B\")","v":0},{"$f":"COUNTIFS(N7:N104,\"J\",K7:K104,\"C\")","v":0},null,null,null,null,null,null,null,"00:00:00","00:00:00",0,{"$f":"SpellNumber((AI74))","v":"No Dollars and No Cents"},3,"No "]
["00:00:00",null,null,null,null,0,null,null,0,null,null,{"$f":"IFERROR(VLOOKUP(K75,$AD$7:AE77,2,FALSE),0)","v":0},null,null,0,null,null,null,null,null,null,"K",{"$f":"COUNTIFS(N7:N104,\"K\",K7:K104,\"A\")","v":0},{"$f":"COUNTIFS(N7:N104,\"K\",K7:K104,\"B\")","v":0},{"$f":"COUNTIFS(N7:N104,\"K\",K7:K104,\"C\")","v":0},null,null,null,null,null,null,null,"00:00:00","00:00:00",0,{"$f":"SpellNumber((AI75))","v":"No Dollars and No Cents"},3,"No "]
["00:00:00",null,null,null,null,0,null,null,0,null,null,{"$f":"IFERROR(VLOOKUP(K76,$AD$7:AE78,2,FALSE),0)","v":0},null,null,0,null,null,null,null,null,null,"L",{"$f":"COUNTIFS(N7:N104,\"L\",K7:K104,\"A\")","v":0},{"$f":"COUNTIFS(N7:N104,\"L\",K7:K104,\"B\")","v":0},{"$f":"COUNTIFS(N7:N104,\"L\",K7:K104,\"C\")","v":0},null,null,null,null,null,null,null,"00:00:00","00:00:00",0,{"$f":"SpellNumber((AI76))","v":"No Dollars and No Cents"},3,"No "]
["00:00:00",null,null,null,null,0,null,null,0,null,null,{"$f":"IFERROR(VLOOKUP(K77,$AD$7:AE79,2,FALSE),0)","v":0},null,null,0,null,null,null,null,null,null,null,null,null,null,null,null,null,null,null,null,null,"00:00:00","00:00:00",0,{"$f":"SpellNumber((AI77))","v":"No Dollars and No Cents"},3,"No "]
["00:00:00",null,null,null,null,0,null,null,0,null,null,{"$f":"IFERROR(VLOOKUP(K78,$AD$7:AE80,2,FALSE),0)","v":0},null,null,0,null,null,null,null,null,null,null,null,null,null,null,null,null,null,null,null,null,"00:00:00","00:00:00",0,{"$f":"SpellNumber((AI78))","v":"No Dollars and No Cents"},3,"No "]
["00:00:00",null,null,null,null,0,null,null,0,null,null,{"$f":"IFERROR(VLOOKUP(K79,$AD$7:AE81,2,FALSE),0)","v":0},null,null,0,null,null,null,null,null,null,null,null,null,null,null,null,null,null,null,null,null,"00:00:00","00:00:00",0,{"$f":"SpellNumber((AI79))","v":"No Dollars and No Cents"},3,"No "]
["00:00:00",null,null,null,null,0,null,null,0,null,null,{"$f":"IFERROR(VLOOKUP(K80,$AD$7:AE82,2,FALSE),0)","v":0},null,null,0,null,null,null,null,null,null,null,null,null,null,null,null,null,null,null,null,null,"00:00:00","00:00:00",0,{"$f":"SpellNumber((AI80))","v":"No Dollars and No Cents"},3,"No "]
["00:00:00",null,null,null,null,0,null,null,0,null,null,{"$f":"IFERROR(VLOOKUP(K81,$AD$7:AE83,2,FALSE),0)","v":0},null,null,0,null,null,null,null,null,null,null,null,null,null,null,null,null,null,null,null,null,"00:00:00","00:00:00",0,{"$f":"SpellNumber((AI81))","v":"No Dollars and No Cents"},3,"No "]
["00:00:00",null,null,null,null,0,null,null,0,null,null,{"$f":"IFERROR(VLOOKUP(K82,$AD$7:AE84,2,FALSE),0)","v":0},null,null,0,null,null,null,null,null,null,null,null,null,null,null,null,null,null,null,null,null,"00:00:00","00:00:00",0,{"$f":"SpellNumber((AI82))","v":"No Dollars and No Cents"},3,"No "]
["00:00:00",null,null,null,null,0,null,null,0,null,null,{"$f":"IFERROR(VLOOKUP(K83,$AD$7:AE85,2,FALSE),0)","v":0},null,null,0,null,null,null,null,null,null,null,null,null,null,null,null,null,null,null,null,null,"00:00:00","00:00:00",0,{"$f":"SpellNumber((AI83))","v":"No Dollars and No Cents"},3,"No "]
["00:00:00",null,null,null,null,0,null,null,0,null,null,{"$f":"IFERROR(VLOOKUP(K84,$AD$7:AE86,2,FALSE),0)","v":0},null,null,0,null,null,null,null,null,null,null,null,null,null,null,null,null,null,null,null,null,"00:00:00","00:00:00",0,{"$f":"SpellNumber((AI84))","v":"No Dollars and No Cents"},3,"No "]
["00:00:00",null,null,null,null,0,null,null,0,null,null,{"$f":"IFERROR(VLOOKUP(K85,$AD$7:AE87,2,FALSE),0)","v":0},null,null,0,null,null,null,null,null,null,null,null,null,null,null,null,null,null,null,null,null,"00:00:00","00:00:00",0,{"$f":"SpellNumber((AI85))","v":"No Dollars and No Cents"},3,"No "]
["00:00:00",null,null,null,null,0,null,null,0,null,null,{"$f":"IFERROR(VLOOKUP(K86,$AD$7:AE88,2,FALSE),0)","v":0},null,null,0,null,null,null,null,null,null,null,null,null,null,null,null,null,null,null,null,null,"00:00:00","00:00:00",0,{"$f":"SpellNumber((AI86))","v":"No Dollars and No Cents"},3,"No "]
["00:00:00",null,null,null,null,0,null,null,0,null,null,{"$f":"IFERROR(VLOOKUP(K87,$AD$7:AE89,2,FALSE),0)","v":0},null,null,0,null,null,null,null,null,null,null,null,null,null,null,null,null,null,null,null,null,"00:00:00","00:00:00",0,{"$f":"SpellNumber((AI87))","v":"No Dollars and No Cents"},3,"No "]
["00:00:00",null,null,null,null,0,null,null,0,null,null,{"$f":"IFERROR(VLOOKUP(K88,$AD$7:AE90,2,FALSE),0)","v":0},null,null,0,null,null,null,null,null,null,null,null,null,null,null,null,null,null,null,null,null,"00:00:00","00:00:00",0,{"$f":"SpellNumber((AI88))","v":"No Dollars and No Cents"},3,"No "]
["00:00:00",null,null,null,null,0,null,null,0,null,null,{"$f":"IFERROR(VLOOKUP(K89,$AD$7:AE91,2,FALSE),0)","v":0},null,null,0,null,null,null,null,null,null,null,null,null,null,null,null,null,null,null,null,null,"00:00:00","00:00:00",0,{"$f":"SpellNumber((AI89))","v":"No Dollars and No Cents"},3,"No "]
["00:00:00",null,null,null,null,0,null,null,0,null,null,{"$f":"IFERROR(VLOOKUP(K90,$AD$7:AE92,2,FALSE),0)","v":0},null,null,0,null,null,null,null,null,null,null,null,null,null,null,null,null,null,null,null,null,"00:00:00","00:00:00",0,{"$f":"SpellNumber((AI90))","v":"No Dollars and No Cents"},3,"No "]
["00:00:00",null,null,null,null,0,null,null,0,null,null,{"$f":"IFERROR(VLOOKUP(K91,$AD$7:AE93,2,FALSE),0)","v":0},null,null,0,null,null,null,"Total Mins",{"$f":"SUM(A7:A104)","v":"00:00:00"},null,null,null,null,null,null,null,null,null,null,null,null,"00:00:00","00:00:00",0,{"$f":"SpellNumber((AI91))","v":"No Dollars and No Cents"},3,"No "]
["00:00:00",null,null,null,null,0,null,null,0,null,null,{"$f":"IFERROR(VLOOKUP(K92,$AD$7:AE94,2,FALSE),0)","v":0},null,null,0,null,null,null,"Settings:","A",{"$f":"COUNTIF(E4:E104,\"A\")","v":0},"Antec.","A",{"$f":"COUNTIF(H4:H104,\"A\")","v":0},"Beh","A",{"$f":"COUNTIF(L4:L104,\"A\")","v":0},"Conse.","A",{"$f":"COUNTIF(O4:O104,\"A\")","v":0},null,null,"00:00:00","00:00:00",0,{"$f":"SpellNumber((AI92))","v":"No Dollars and No Cents"},3,"No "]
["00:00:00",null,null,null,null,0,null,null,0,null,null,{"$f":"IFERROR(VLOOKUP(K93,$AD$7:AE95,2,FALSE),0)","v":0},null,null,0,null,null,null,null,"B",{"$f":"COUNTIF(E5:E105,\"B\")","v":0},null,"B",{"$f":"COUNTIF(H5:H105,\"B\")","v":0},null,"B",{"$f":"COUNTIF(L5:L105,\"B\")","v":0},null,"B",{"$f":"COUNTIF(O5:O105,\"B\")","v":0},null,null,"00:00:00","00:00:00",0,{"$f":"SpellNumber((AI93))","v":"No Dollars and No Cents"},3,"No "]
["00:00:00",null,null,null,null,0,null,null,0,null,null,{"$f":"IFERROR(VLOOKUP(K94,$AD$7:AE96,2,FALSE),0)","v":0},null,null,0,null,null,null,null,"C",{"$f":"COUNTIF(E6:E106,\"C\")","v":0},null,"C",{"$f":"COUNTIF(H6:H106,\"C\")","v":0},null,"C",{"$f":"COUNTIF(L6:L106,\"C\")","v":0},null,"C",{"$f":"COUNTIF(O6:O106,\"C\")","v":0},null,null,"00:00:00","00:00:00",0,{"$f":"SpellNumber((AI94))","v":"No Dollars and No Cents"},3,"No "]
["00:00:00",null,null,null,null,0,null,null,0,null,null,{"$f":"IFERROR(VLOOKUP(K95,$AD$7:AE97,2,FALSE),0)","v":0},null,null,0,null,null,null,null,"D",{"$f":"COUNTIF(E7:E107,\"D\")","v":0},null,"D",{"$f":"COUNTIF(H7:H107,\"D\")","v":0},null,null,null,null,"D",{"$f":"COUNTIF(O7:O107,\"D\")","v":0},null,null,"00:00:00","00:00:00",0,{"$f":"SpellNumber((AI95))","v":"No Dollars and No Cents"},3,"No "]
["00:00:00",null,null,null,null,0,null,null,0,null,null,{"$f":"IFERROR(VLOOKUP(K96,$AD$7:AE98,2,FALSE),0)","v":0},null,null,0,null,null,null,null,"E",{"$f":"COUNTIF(E8:E108,\"E\")","v":0},null,"E",{"$f":"COUNTIF(H8:H108,\"E\")","v":0},null,null,null,null,"E",{"$f":"COUNTIF(O8:O108,\"E\")","v":0},null,null,"00:00:00","00:00:00",0,{"$f":"SpellNumber((AI96))","v":"No Dollars and No Cents"},3,"No "]
["00:00:00",null,null,null,null,0,null,null,0,null,null,{"$f":"IFERROR(VLOOKUP(K97,$AD$7:AE99,2,FALSE),0)","v":0},null,null,0,null,null,null,null,"F",{"$f":"COUNTIF(E9:E109,\"F\")","v":0},null,"F",{"$f":"COUNTIF(H9:H109,\"F\")","v":0},null,null,null,null,"F",{"$f":"COUNTIF(O9:O109,\"F\")","v":0},null,null,"00:00:00","00:00:00",0,{"$f":"SpellNumber((AI97))","v":"No Dollars and No Cents"},3,"No "]
["00:00:00",null,null,null,null,0,null,null,0,null,null,{"$f":"IFERROR(VLOOKUP(K98,$AD$7:AE100,2,FALSE),0)","v":0},null,null,0,null,null,null,null,"G",{"$f":"COUNTIF(E10:E110,\"G\")","v":0},null,"G",{"$f":"COUNTIF(H10:H110,\"G\")","v":0},null,null,null,null,"G",{"$f":"COUNTIF(O10:O110,\"G\")","v":0},null,null,"00:00:00","00:00:00",0,{"$f":"SpellNumber((AI98))","v":"No Dollars and No Cents"},3,"No "]
["00:00:00",null,null,null,null,0,null,null,0,null,null,{"$f":"IFERROR(VLOOKUP(K99,$AD$7:AE101,2,FALSE),0)","v":0},null,null,0,null,null,null,null,"H",{"$f":"COUNTIF(E11:E111,\"H\")","v":0},null,"H",{"$f":"COUNTIF(H11:H111,\"H\")","v":0},null,null,null,null,"H",{"$f":"COUNTIF(O11:O111,\"H\")","v":0},null,null,"00:00:00","00:00:00",0,{"$f":"SpellNumber((AI99))","v":"No Dollars and No Cents"},3,"No "]
["00:00:00",null,null,null,null,0,null,null,0,null,null,{"$f":"IFERROR(VLOOKUP(K100,$AD$7:AE102,2,FALSE),0)","v":0},null,null,0,null,null,null,null,"I",{"$f":"COUNTIF(E12:E112,\"I\")","v":0},null,"I",{"$f":"COUNTIF(H12:H112,\"I\")","v":0},null,null,null,null,"I",{"$f":"COUNTIF(O12:O112,\"I\")","v":0},null,null,"00:00:00","00:00:00",0,{"$f":"SpellNumber((AI100))","v":"No Dollars and No Cents"},3,"No "]
["00:00:00",null,null,null,null,0,null,null,0,null,null,{"$f":"IFERROR(VLOOKUP(K101,$AD$7:AE103,2,FALSE),0)","v":0},null,null,0,null,null,null,null,"J",{"$f":"COUNTIF(E13:E113,\"J\")","v":0},null,"J",{"$f":"COUNTIF(H13:H113,\"J\")","v":0},null,null,null,null,"J",{"$f":"COUNTIF(O13:O113,\"J\")","v":0},null,null,"00:00:00","00:00:00",0,{"$f":"SpellNumber((AI101))","v":"No Dollars and No Cents"},3,"No "]
["00:00:00",null,null,null,null,0,null,null,0,null,null,{"$f":"IFERROR(VLOOKUP(K102,$AD$7:AE104,2,FALSE),0)","v":0},null,null,0,null,null,null,null,"K",{"$f":"COUNTIF(E14:E114,\"K\")","v":0},null,"K",{"$f":"COUNTIF(H14:H114,\"K\")","v":0},null,null,null,null,"K",{"$f":"COUNTIF(O14:O114,\"K\")","v":0},null,null,"00:00:00","00:00:00",0,{"$f":"SpellNumber((AI102))","v":"No Dollars and No Cents"},3,"No "]
["00:00:00",null,null,null,null,0,null,null,0,null,null,{"$f":"IFERROR(VLOOKUP(K103,$AD$7:AE105,2,FALSE),0)","v":0},null,null,0,null,null,null,null,"L",{"$f":"COUNTIF(E15:E115,\"L\")","v":0},null,"L",{"$f":"COUNTIF(H15:H115,\"L\")","v":0},null,null,null,null,"L",{"$f":"COUNTIF(O15:O115,\"L\")","v":0},null,null,"00:00:00","00:00:00",0,{"$f":"SpellNumber((AI103))","v":"No Dollars and No Cents"},3,"No "]
["00:00:00",null,null,null,null,0,null,null,0,null,null,{"$f":"IFERROR(VLOOKUP(K104,$AD$7:AE106,2,FALSE),0)","v":0},null,null,0,null,null,null,null,null,null,null,null,null,null,null,null,null,null,null,null,null,"00:00:00","00:00:00",0,{"$f":"SpellNumber((AI104))","v":"No Dollars and No Cents"},3,"No "]

{"sheet":"Data 13","index":21,"n_rows":104,"n_cols":38,"rows_kept":104,"cut":false,"hidden":false,"merged":[[0,7,3,14]]}
["ATTENDANCE",null,null,null,null,null,null,"Data Collection"]
["If tardy, arrival time",null,null,null,null,null,null,null,null,null,null,null,null,null,null,null,null,null,null,null,null,null,"Date",{"$f":"Calendar!H6","v":{"$error":"#N/A"}},{"$f":"TEXT(X2,\"ddd\")","v":{"$error":"#N/A"}}]
["If left early, time",null,null,null,null,null,null,null,null,null,null,null,null,null,null,null,null,null,null,null,null,null,"Frq. Of bx",{"$f":"AA22","v":0}]
[]
[]
["Mins.","Start Time","End Time",null,null,null,null,null,null,null,null,null,null,null,null,null,null,null,null,null,null,null,"Setting",null,null,"Ant",null,null,null,"Beh",null,null,"Raw Data","Time in text","Decimal"]
[{"$f":"C7-B7","v":"00:00:00"},null,null,null,null,{"$f":"IFERROR(VLOOKUP(E7,$V$7:$W$18,2,FALSE),0)","v":0},null,null,{"$f":"IFERROR(VLOOKUP(H7,$Z$7:$AA$18,2,FALSE),0)","v":0},null,null,{"$f":"IFERROR(VLOOKUP(K7,$AD$7:AE9,2,FALSE),0)","v":0},null,null,{"$f":"IFERROR(VLOOKUP(N7,$V$22:$W$33,2,FALSE),0)","v":0},null,null,null,null,null,null,"A",{"$f":"Criteria!C4","v":"Transition"},null,null,"A",{"$f":"Criteria!E4","v":"Transition"},null,null,"A",{"$f":"Criteria!G4","v":0},null,{"$f":"B7","v":"00:00:00"},{"$f":"TEXT(AG7,\"hh:mm:ss\")","v":"00:00:00"},{"$f":"AG7*24","v":0},{"$f":"SpellNumber((AI7))","v":"No Dollars and No Cents"},{"$f":"FIND(\" Dollar\",AJ7)","v":3},{"$f":"LEFT(AJ7,AK7)","v":"No "}]
[{"$f":"C8-B8","v":"00:00:00"},null,null,null,null,{"$f":"IFERROR(VLOOKUP(E8,$V$7:$W$18,2,FALSE),0)","v":0},null,null,{"$f":"IFERROR(VLOOKUP(H8,$Z$7:$AA$18,2,FALSE),0)","v":0},null,null,{"$f":"IFERROR(VLOOKUP(K8,$AD$7:AE10,2,FALSE),0)","v":0},null,null,{"$f":"IFERROR(VLOOKUP(N8,$V$22:$W$33,2,FALSE),0)","v":0},null,null,null,null,null,null,"B",{"$f":"Criteria!C5","v":"Morning Routine"},null,null,"B",{"$f":"Criteria!E5","v":"Denied access ('No')"},null,null,"B",{"$f":"Criteria!G5","v":0},null,{"$f":"B8","v":"00:00:00"},{"$f":"TEXT(AG8,\"hh:mm:ss\")","v":"00:00:00"},{"$f":"AG8*24","v":0},{"$f":"SpellNumber((AI8))","v":"No Dollars and No Cents"},{"$f":"FIND(\" Dollar\",AJ8)","v":3},{"$f":"LEFT(AJ8,AK8)","v":"No "}]
["00:00:00",null,null,null,null,{"$f":"IFERROR(VLOOKUP(E9,$V$7:$W$18,2,FALSE),0)","v":0},null,null,0,null,null,{"$f":"IFERROR(VLOOKUP(K9,$AD$7:AE11,2,FALSE),0)","v":0},null,null,0,null,null,null,null,null,null,"C",{"$f":"Criteria!C6","v":"Group Work"},null,null,"C",{"$f":"Criteria!E6","v":"Instruction/ Directions"},null,null,"C",{"$f":"Criteria!G6","v":0},null,"00:00:00","00:00:00",0,{"$f":"SpellNumber((AI9))","v":"No Dollars and No Cents"},3,"No "]
["00:00:00",null,null,null,null,0,null,null,0,null,null,{"$f":"IFERROR(VLOOKUP(K10,$AD$7:AE12,2,FALSE),0)","v":0},null,null,0,null,null,null,null,null,null,"D",{"$f":"Criteria!C7","v":"Ind. Seat/Work Time"},null,null,"D",{"$f":"Criteria!E7","v":"New Task"},null,null,null,null,null,"00:00:00","00:00:00",0,{"$f":"SpellNumber((AI10))","v":"No Dollars and No Cents"},3,"No "]
["00:00:00",null,null,null,null,0,null,null,0,null,null,{"$f":"IFERROR(VLOOKUP(K11,$AD$7:AE13,2,FALSE),0)","v":0},null,null,0,null,null,null,null,null,null,"E",{"$f":"Criteria!C8","v":"Language Arts"},null,null,"E",{"$f":"Criteria!E8","v":"Tcher attn to other"},null,null,null,null,null,"00:00:00","00:00:00",0,{"$f":"SpellNumber((AI11))","v":"No Dollars and No Cents"},3,"No "]
["00:00:00",null,null,null,null,0,null,null,0,null,null,{"$f":"IFERROR(VLOOKUP(K12,$AD$7:AE14,2,FALSE),0)","v":0},null,null,0,null,null,null,null,null,null,"F",{"$f":"Criteria!C9","v":"Mathematics"},null,null,"F",{"$f":"Criteria!E9","v":"Choice given"},null,null,null,null,null,"00:00:00","00:00:00",0,{"$f":"SpellNumber((AI12))","v":"No Dollars and No Cents"},3,"No "]
["00:00:00",null,null,null,null,0,null,null,0,null,null,{"$f":"IFERROR(VLOOKUP(K13,$AD$7:AE15,2,FALSE),0)","v":0},null,null,0,null,null,null,null,null,null,"G",{"$f":"Criteria!C10","v":"Physical Education"},null,null,"G",{"$f":"Criteria!E10","v":"Redirection"},null,null,null,null,null,"00:00:00","00:00:00",0,{"$f":"SpellNumber((AI13))","v":"No Dollars and No Cents"},3,"No "]
["00:00:00",null,null,null,null,0,null,null,0,null,null,{"$f":"IFERROR(VLOOKUP(K14,$AD$7:AE16,2,FALSE),0)","v":0},null,null,0,null,null,null,null,null,null,"H",{"$f":"Criteria!C11","v":"Music/Art"},null,null,"H",{"$f":"Criteria!E11","v":"Routine Task"},null,null,null,null,null,"00:00:00","00:00:00",0,{"$f":"SpellNumber((AI14))","v":"No Dollars and No Cents"},3,"No "]
["00:00:00",null,null,null,null,0,null,null,0,null,null,{"$f":"IFERROR(VLOOKUP(K15,$AD$7:AE17,2,FALSE),0)","v":0},null,null,0,null,null,null,null,null,null,"I",{"$f":"Criteria!C12","v":"Speech"},null,null,"I",{"$f":"Criteria!E12","v":"Waiting"},null,null,null,null,null,"00:00:00","00:00:00",0,{"$f":"SpellNumber((AI15))","v":"No Dollars and No Cents"},3,"No "]
["00:00:00",null,null,null,null,0,null,null,0,null,null,{"$f":"IFERROR(VLOOKUP(K16,$AD$7:AE18,2,FALSE),0)","v":0},null,null,0,null,null,null,null,null,null,"J",{"$f":"Criteria!C13","v":"OT/PT"},null,null,"J",{"$f":"Criteria!E13","v":"Unknown"},null,null,null,null,null,"00:00:00","00:00:00",0,{"$f":"SpellNumber((AI16))","v":"No Dollars and No Cents"},3,"No "]
["00:00:00",null,null,null,null,0,null,null,0,null,null,{"$f":"IFERROR(VLOOKUP(K17,$AD$7:AE19,2,FALSE),0)","v":0},null,null,0,null,null,null,null,null,null,"K",{"$f":"Criteria!C14","v":"Center"},null,null,"K",{"$f":"Criteria!E14","v":"Ignored"},null,null,null,null,null,"00:00:00","00:00:00",0,{"$f":"SpellNumber((AI17))","v":"No Dollars and No Cents"},3,"No "]
["00:00:00",null,null,null,null,0,null,null,0,null,null,{"$f":"IFERROR(VLOOKUP(K18,$AD$7:AE20,2,FALSE),0)","v":0},null,null,0,null,null,null,null,null,null,"L",{"$f":"Criteria!C15","v":"Other"},null,null,"L",{"$f":"Criteria!E15","v":"Other"},null,null,null,null,null,"00:00:00","00:00:00",0,{"$f":"SpellNumber((AI18))","v":"No Dollars and No Cents"},3,"No "]
["00:00:00",null,null,null,null,0,null,null,0,null,null,{"$f":"IFERROR(VLOOKUP(K19,$AD$7:AE21,2,FALSE),0)","v":0},null,null,0,null,null,null,null,null,null,null,null,null,null,null,null,null,null,null,null,null,"00:00:00","00:00:00",0,{"$f":"SpellNumber((AI19))","v":"No Dollars and No Cents"},3,"No "]
["00:00:00",null,null,null,null,0,null,null,0,null,null,{"$f":"IFERROR(VLOOKUP(K20,$AD$7:AE22,2,FALSE),0)","v":0},null,null,0,null,null,null,null,null,null,null,null,null,null,null,null,null,null,null,null,null,"00:00:00","00:00:00",0,{"$f":"SpellNumber((AI20))","v":"No Dollars and No Cents"},3,"No "]
["00:00:00",null,null,null,null,0,null,null,0,null,null,{"$f":"IFERROR(VLOOKUP(K21,$AD$7:AE23,2,FALSE),0)","v":0},null,null,0,null,null,null,null,null,null,null,"Con",null,"Bx Frequency Per Day",null,null,null,null,null,null,null,"00:00:00","00:00:00",0,{"$f":"SpellNumber((AI21))","v":"No Dollars and No Cents"},3,"No "]
["00:00:00",null,null,null,null,0,null,null,0,null,null,{"$f":"IFERROR(VLOOKUP(K22,$AD$7:AE24,2,FALSE),0)","v":0},null,null,0,null,null,null,null,null,null,"A",{"$f":"Criteria!I4","v":"Choice Given"},"A",{"$f":"COUNTIF(K7:K104,\"A\")","v":0},null,{"$f":"SUM(Y22:Y24)","v":0},null,"Bin Dec","Frequency of Time",null,null,"00:00:00","00:00:00",0,{"$f":"SpellNumber((AI22))","v":"No Dollars and No Cents"},3,"No "]
["00:00:00",null,null,null,null,0,null,null,0,null,null,{"$f":"IFERROR(VLOOKUP(K23,$AD$7:AE25,2,FALSE),0)","v":0},null,null,0,null,null,null,null,null,null,"B",{"$f":"Criteria!I5","v":"Ignored"},"B",{"$f":"COUNTIF(K7:K104,\"B\")","v":0},null,null,null,"Seven",{"$f":"COUNTIF(AL7:AL104,\"*Seven*\")","v":0},null,null,"00:00:00","00:00:00",0,{"$f":"SpellNumber((AI23))","v":"No Dollars and No Cents"},3,"No "]
["00:00:00",null,null,null,null,0,null,null,0,null,null,{"$f":"IFERROR(VLOOKUP(K24,$AD$7:AE26,2,FALSE),0)","v":0},null,null,0,null,null,null,null,null,null,"C",{"$f":"Criteria!I6","v":"Redirection"},"C",{"$f":"COUNTIF(K7:K104,\"C\")","v":0},null,null,null,"Eight",{"$f":"COUNTIF(AL7:AL104,\"*Eight*\")","v":0},null,null,"00:00:00","00:00:00",0,{"$f":"SpellNumber((AI24))","v":"No Dollars and No Cents"},3,"No "]
["00:00:00",null,null,null,null,0,null,null,0,null,null,{"$f":"IFERROR(VLOOKUP(K25,$AD$7:AE27,2,FALSE),0)","v":0},null,null,0,null,null,null,null,null,null,"D",{"$f":"Criteria!I7","v":"Kept the demand"},null,"Bx Druation Per Day",null,null,null,"Nine",{"$f":"COUNTIF(AL7:AL104,\"*Nine*\")","v":0},null,null,"00:00:00","00:00:00",0,{"$f":"SpellNumber((AI25))","v":"No Dollars and No Cents"},3,"No "]
["00:00:00",null,null,null,null,0,null,null,0,null,null,{"$f":"IFERROR(VLOOKUP(K26,$AD$7:AE28,2,FALSE),0)","v":0},null,null,0,null,null,null,null,null,null,"E",{"$f":"Criteria!I8","v":"Changed activity"},"A",{"$f":"SUMIF(K7:K104,\"A\",A7:A104)","v":"00:00:00"},null,null,null,"Ten",{"$f":"COUNTIF(AL7:AL12,\"*Ten*\")","v":0},null,null,"00:00:00","00:00:00",0,{"$f":"SpellNumber((AI26))","v":"No Dollars and No Cents"},3,"No "]
["00:00:00",null,null,null,null,0,null,null,0,null,null,{"$f":"IFERROR(VLOOKUP(K27,$AD$7:AE29,2,FALSE),0)","v":0},null,null,0,null,null,null,null,null,null,"F",{"$f":"Criteria!I9","v":"Verbal reprimand"},"B",{"$f":"SUMIF(K7:K104,\"B\",A7:A104)","v":"00:00:00"},null,null,null,"Eleven",{"$f":"COUNTIF(AL7:AL104,\"*Eleven*\")","v":0},null,null,"00:00:00","00:00:00",0,{"$f":"SpellNumber((AI27))","v":"No Dollars and No Cents"},3,"No "]
["00:00:00",null,null,null,null,0,null,null,0,null,null,{"$f":"IFERROR(VLOOKUP(K28,$AD$7:AE30,2,FALSE),0)","v":0},null,null,0,null,null,null,null,null,null,"G",{"$f":"Criteria!I10","v":"Told to wait"},"C",{"$f":"SUMIF(K7:K104,\"C\",A7:A104)","v":"00:00:00"},null,null,null,"Twelve",{"$f":"COUNTIF(AL7:AL104,\"*Twelve*\")","v":0},null,null,"00:00:00","00:00:00",0,{"$f":"SpellNumber((AI28))","v":"No Dollars and No Cents"},3,"No "]
["00:00:00",null,null,null,null,0,null,null,0,null,null,{"$f":"IFERROR(VLOOKUP(K29,$AD$7:AE31,2,FALSE),0)","v":0},null,null,0,null,null,null,null,null,null,"H",{"$f":"Criteria!I11","v":"Physical Prompt"},null,null,null,null,null,"One",{"$f":"COUNTIF(AL7:AL104,\"*One*\")","v":0},null,null,"00:00:00","00:00:00",0,{"$f":"SpellNumber((AI29))","v":"No Dollars and No Cents"},3,"No "]
["00:00:00",null,null,null,null,0,null,null,0,null,null,{"$f":"IFERROR(VLOOKUP(K30,$AD$7:AE32,2,FALSE),0)","v":0},null,null,0,null,null,null,null,null,null,"I",{"$f":"Criteria!I12","v":"Verbal prompt"},null,null,null,null,null,"Two",{"$f":"COUNTIF(AL7:AL104,\"*Two*\")","v":0},null,null,"00:00:00","00:00:00",0,{"$f":"SpellNumber((AI30))","v":"No Dollars and No Cents"},3,"No "]
["00:00:00",null,null,null,null,0,null,null,0,null,null,{"$f":"IFERROR(VLOOKUP(K31,$AD$7:AE33,2,FALSE),0)","v":0},null,null,0,null,null,null,null,null,null,"J",{"$f":"Criteria!I13","v":"Told to wait"},null,null,null,null,null,"Three",{"$f":"COUNTIF(AL7:AL104,\"*Three*\")","v":0},null,null,"00:00:00","00:00:00",0,{"$f":"SpellNumber((AI31))","v":"No Dollars and No Cents"},3,"No "]
["00:00:00",null,null,null,null,0,null,null,0,null,null,{"$f":"IFERROR(VLOOKUP(K32,$AD$7:AE34,2,FALSE),0)","v":0},null,null,0,null,null,null,null,null,null,"K",{"$f":"Criteria!I14","v":"Unknown"},null,null,null,null,null,"Four",{"$f":"COUNTIF(AL7:AL104,\"*Four*\")","v":0},null,null,"00:00:00","00:00:00",0,{"$f":"SpellNumber((AI32))","v":"No Dollars and No Cents"},3,"No "]
["00:00:00",null,null,null,null,0,null,null,0,null,null,{"$f":"IFERROR(VLOOKUP(K33,$AD$7:AE35,2,FALSE),0)","v":0},null,null,0,null,null,null,null,null,null,"L",{"$f":"Criteria!I15","v":"Other"},null,null,null,null,null,null,null,null,null,"00:00:00","00:00:00",0,{"$f":"SpellNumber((AI33))","v":"No Dollars and No Cents"},3,"No "]
["00:00:00",null,null,null,null,0,null,null,0,null,null,{"$f":"IFERROR(VLOOKUP(K34,$AD$7:AE36,2,FALSE),0)","v":0},null,null,0,null,null,null,null,null,null,null,null,null,null,null,null,null,null,null,null,null,"00:00:00","00:00:00",0,{"$f":"SpellNumber((AI34))","v":"No Dollars and No Cents"},3,"No "]
["00:00:00",null,null,null,null,0,null,null,0,null,null,{"$f":"IFERROR(VLOOKUP(K35,$AD$7:AE37,2,FALSE),0)","v":0},null,null,0,null,null,null,null,null,null,null,"Context Frequency","Consequence","Antedencents",null,null,null,null,null,null,null,"00:00:00","00:00:00",0,{"$f":"SpellNumber((AI35))","v":"No Dollars and No Cents"},3,"No "]
["00:00:00",null,null,null,null,0,null,null,0,null,null,{"$f":"IFERROR(VLOOKUP(K36,$AD$7:AE38,2,FALSE),0)","v":0},null,null,0,null,null,null,null,null,null,"A",{"$f":"COUNTIF(E7:E104,\"A\")","v":0},{"$f":"COUNTIF(N7:N104,\"A\")","v":0},{"$f":"COUNTIF(H7:H104,\"A\")","v":0},null,null,null,null,null,null,null,"00:00:00","00:00:00",0,{"$f":"SpellNumber((AI36))","v":"No Dollars and No Cents"},3,"No "]
["00:00:00",null,null,null,null,0,null,null,0,null,null,{"$f":"IFERROR(VLOOKUP(K37,$AD$7:AE39,2,FALSE),0)","v":0},null,null,0,null,null,null,null,null,null,"B",{"$f":"COUNTIF(E8:E105,\"B\")","v":0},{"$f":"COUNTIF(N7:N104,\"B\")","v":0},{"$f":"COUNTIF(H7:H104,\"B\")","v":0},null,null,null,null,null,null,null,"00:00:00","00:00:00",0,{"$f":"SpellNumber((AI37))","v":"No Dollars and No Cents"},3,"No "]
["00:00:00",null,null,null,null,0,null,null,0,null,null,{"$f":"IFERROR(VLOOKUP(K38,$AD$7:AE40,2,FALSE),0)","v":0},null,null,0,null,null,null,null,null,null,"C",{"$f":"COUNTIF(E8:E105,\"C\")","v":0},{"$f":"COUNTIF(N7:N104,\"C\")","v":0},{"$f":"COUNTIF(H7:H104,\"C\")","v":0},null,null,null,null,null,null,null,"00:00:00","00:00:00",0,{"$f":"SpellNumber((AI38))","v":"No Dollars and No Cents"},3,"No "]
["00:00:00",null,null,null,null,0,null,null,0,null,null,{"$f":"IFERROR(VLOOKUP(K39,$AD$7:AE41,2,FALSE),0)","v":0},null,null,0,null,null,null,null,null,null,"D",{"$f":"COUNTIF(E8:E105,\"D\")","v":0},{"$f":"COUNTIF(N7:N104,\"D\")","v":0},{"$f":"COUNTIF(H7:H104,\"D\")","v":0},null,null,null,null,null,null,null,"00:00:00","00:00:00",0,{"$f":"SpellNumber((AI39))","v":"No Dollars and No Cents"},3,"No "]
["00:00:00",null,null,null,null,0,null,null,0,null,null,{"$f":"IFERROR(VLOOKUP(K40,$AD$7:AE42,2,FALSE),0)","v":0},null,null,0,null,null,null,null,null,null,"E",{"$f":"COUNTIF(E8:E105,\"E\")","v":0},{"$f":"COUNTIF(N7:N104,\"E\")","v":0},{"$f":"COUNTIF(H7:H104,\"E\")","v":0},null,null,null,null,null,null,null,"00:00:00","00:00:00",0,{"$f":"SpellNumber((AI40))","v":"No Dollars and No Cents"},3,"No "]
["00:00:00",null,null,null,null,0,null,null,0,null,null,{"$f":"IFERROR(VLOOKUP(K41,$AD$7:AE43,2,FALSE),0)","v":0},null,null,0,null,null,null,null,null,null,"F",{"$f":"COUNTIF(E8:E105,\"F\")","v":0},{"$f":"COUNTIF(N7:N104,\"F\")","v":0},{"$f":"COUNTIF(H7:H104,\"F\")","v":0},null,null,null,null,null,null,null,"00:00:00","00:00:00",0,{"$f":"SpellNumber((AI41))","v":"No Dollars and No Cents"},3,"No "]
["00:00:00",null,null,null,null,0,null,null,0,null,null,{"$f":"IFERROR(VLOOKUP(K42,$AD$7:AE44,2,FALSE),0)","v":0},null,null,0,null,null,null,null,null,null,"G",{"$f":"COUNTIF(E8:E105,\"G\")","v":0},{"$f":"COUNTIF(N7:N104,\"G\")","v":0},{"$f":"COUNTIF(H7:H104,\"G\")","v":0},null,null,null,null,null,null,null,"00:00:00","00:00:00",0,{"$f":"SpellNumber((AI42))","v":"No Dollars and No Cents"},3,"No "]
["00:00:00",null,null,null,null,0,null,null,0,null,null,{"$f":"IFERROR(VLOOKUP(K43,$AD$7:AE45,2,FALSE),0)","v":0},null,null,0,null,null,null,null,null,null,"H",{"$f":"COUNTIF(E8:E105,\"H\")","v":0},{"$f":"COUNTIF(N7:N104,\"H\")","v":0},{"$f":"COUNTIF(H7:H104,\"H\")","v":0},null,null,null,null,null,null,null,"00:00:00","00:00:00",0,{"$f":"SpellNumber((AI43))","v":"No Dollars and No Cents"},3,"No "]
["00:00:00",null,null,null,null,0,null,null,0,null,null,{"$f":"IFERROR(VLOOKUP(K44,$AD$7:AE46,2,FALSE),0)","v":0},null,null,0,null,null,null,null,null,null,"I",{"$f":"COUNTIF(E8:E105,\"I\")","v":0},{"$f":"COUNTIF(N7:N104,\"I\")","v":0},{"$f":"COUNTIF(H7:H104,\"I\")","v":0},null,null,null,null,null,null,null,"00:00:00","00:00:00",0,{"$f":"SpellNumber((AI44))","v":"No Dollars and No Cents"},3,"No "]
["00:00:00",null,null,null,null,0,null,null,0,null,null,{"$f":"IFERROR(VLOOKUP(K45,$AD$7:AE47,2,FALSE),0)","v":0},null,null,0,null,null,null,null,null,null,"J",{"$f":"COUNTIF(E8:E105,\"J\")","v":0},{"$f":"COUNTIF(N7:N104,\"J\")","v":0},{"$f":"COUNTIF(H7:H104,\"J\")","v":0},null,null,null,null,null,null,null,"00:00:00","00:00:00",0,{"$f":"SpellNumber((AI45))","v":"No Dollars and No Cents"},3,"No "]
["00:00:00",null,null,null,null,0,null,null,0,null,null,{"$f":"IFERROR(VLOOKUP(K46,$AD$7:AE48,2,FALSE),0)","v":0},null,null,0,null,null,null,null,null,null,"K",{"$f":"COUNTIF(E8:E105,\"K\")","v":0},{"$f":"COUNTIF(N7:N104,\"K\")","v":0},{"$f":"COUNTIF(H7:H104,\"K\")","v":0},null,null,null,null,null,null,null,"00:00:00","00:00:00",0,{"$f":"SpellNumber((AI46))","v":"No Dollars and No Cents"},3,"No "]
["00:00:00",null,null,null,null,0,null,null,0,null,null,{"$f":"IFERROR(VLOOKUP(K47,$AD$7:AE49,2,FALSE),0)","v":0},null,null,0,null,null,null,null,null,null,"L",{"$f":"COUNTIF(E8:E105,\"l\")","v":0},{"$f":"COUNTIF(N7:N104,\"L\")","v":0},{"$f":"COUNTIF(H7:H104,\"L\")","v":0},null,null,null,null,null,null,null,"00:00:00","00:00:00",0,{"$f":"SpellNumber((AI47))","v":"No Dollars and No Cents"},3,"No "]
["00:00:00",null,null,null,null,0,null,null,0,null,null,{"$f":"IFERROR(VLOOKUP(K48,$AD$7:AE50,2,FALSE),0)","v":0},null,null,0,null,null,null,null,null,null,null,null,null,null,null,null,null,null,null,null,null,"00:00:00","00:00:00",0,{"$f":"SpellNumber((AI48))","v":"No Dollars and No Cents"},3,"No "]
["00:00:00",null,null,null,null,0,null,null,0,null,null,{"$f":"IFERROR(VLOOKUP(K49,$AD$7:AE51,2,FALSE),0)","v":0},null,null,0,null,null,null,null,null,null,null,"Beh & Setting ",null,null,null,"Beh & Antecedents",null,null,null,null,null,"00:00:00","00:00:00",0,{"$f":"SpellNumber((AI49))","v":"No Dollars and No Cents"},3,"No "]
["00:00:00",null,null,null,null,0,null,null,0,null,null,{"$f":"IFERROR(VLOOKUP(K50,$AD$7:AE52,2,FALSE),0)","v":0},null,null,0,null,null,null,null,null,null,null,"A","B","C",null,null,"A","B","C",null,null,"00:00:00","00:00:00",0,{"$f":"SpellNumber((AI50))","v":"No Dollars and No Cents"},3,"No "]
["00:00:00",null,null,null,null,0,null,null,0,null,null,{"$f":"IFERROR(VLOOKUP(K51,$AD$7:AE53,2,FALSE),0)","v":0},null,null,0,null,null,null,null,null,null,"A",{"$f":"COUNTIFS(E7:E104,\"A\",K7:K104,\"A\")","v":0},{"$f":"COUNTIFS(E7:E104,\"A\",K7:K104,\"B\")","v":0},{"$f":"COUNTIFS(E7:E104,\"A\",K7:K104,\"C\")","v":0},null,"A",{"$f":"COUNTIFS(H7:H104,\"a\",K7:K104,\"A\")","v":0},{"$f":"COUNTIFS(H7:H104,\"A\",K7:K104,\"B\")","v":0},{"$f":"COUNTIFS(H7:H104,\"A\",K7:K104,\"C\")","v":0},null,null,"00:00:00","00:00:00",0,{"$f":"SpellNumber((AI51))","v":"No Dollars and No Cents"},3,"No "]
["00:00:00",null,null,null,null,0,null,null,0,null,null,{"$f":"IFERROR(VLOOKUP(K52,$AD$7:AE54,2,FALSE),0)","v":0},null,null,0,null,null,null,null,null,null,"B",{"$f":"COUNTIFS(E7:E104,\"B\",K7:K104,\"A\")","v":0},{"$f":"COUNTIFS(E7:E104,\"B\",K7:K104,\"B\")","v":0},{"$f":"COUNTIFS(E7:E104,\"B\",K7:K104,\"C\")","v":0},null,"B",{"$f":"COUNTIFS(H7:H104,\"B\",K7:K104,\"A\")","v":0},{"$f":"COUNTIFS(H7:H104,\"B\",K7:K104,\"B\")","v":0},{"$f":"COUNTIFS(H7:H104,\"B\",K7:K104,\"C\")","v":0},null,null,"00:00:00","00:00:00",0,{"$f":"SpellNumber((AI52))","v":"No Dollars and No Cents"},3,"No "]
["00:00:00",null,null,null,null,0,null,null,0,null,null,{"$f":"IFERROR(VLOOKUP(K53,$AD$7:AE55,2,FALSE),0)","v":0},null,null,0,null,null,null,null,null,null,"C",{"$f":"COUNTIFS(K7:K104,\"C\",K7:K104,\"A\")","v":0},{"$f":"COUNTIFS(E7:E104,\"C\",K7:K104,\"B\")","v":0},{"$f":"COUNTIFS(E7:E104,\"C\",K7:K104,\"C\")","v":0},null,"C",{"$f":"COUNTIFS(H7:H104,\"C\",K7:K104,\"A\")","v":0},{"$f":"COUNTIFS(H7:H104,\"C\",K7:K104,\"B\")","v":0},{"$f":"COUNTIFS(H7:H104,\"C\",K7:K104,\"C\")","v":0},null,null,"00:00:00","00:00:00",0,{"$f":"SpellNumber((AI53))","v":"No Dollars and No Cents"},3,"No "]
["00:00:00",null,null,null,null,0,null,null,0,null,null,{"$f":"IFERROR(VLOOKUP(K54,$AD$7:AE56,2,FALSE),0)","v":0},null,null,0,null,null,null,null,null,null,"D",{"$f":"COUNTIFS(E7:E104,\"D\",K7:K104,\"A\")","v":0},{"$f":"COUNTIFS(E7:E104,\"D\",K7:K104,\"B\")","v":0},{"$f":"COUNTIFS(E7:E104,\"D\",K7:K104,\"C\")","v":0},null,"D",{"$f":"COUNTIFS(H7:H104,\"D\",K7:K104,\"A\")","v":0},{"$f":"COUNTIFS(H7:H104,\"D\",K7:K104,\"B\")","v":0},{"$f":"COUNTIFS(H7:H104,\"D\",K7:K104,\"C\")","v":0},null,null,"00:00:00","00:00:00",0,{"$f":"SpellNumber((AI54))","v":"No Dollars and No Cents"},3,"No "]
["00:00:00",null,null,null,null,0,null,null,0,null,null,{"$f":"IFERROR(VLOOKUP(K55,$AD$7:AE57,2,FALSE),0)","v":0},null,null,0,null,null,null,null,null,null,"E",{"$f":"COUNTIFS(E7:E104,\"E\",K7:K104,\"A\")","v":0},{"$f":"COUNTIFS(E7:E104,\"E\",K7:K104,\"B\")","v":0},{"$f":"COUNTIFS(E7:E104,\"E\",K7:K104,\"C\")","v":0},null,"E",{"$f":"COUNTIFS(H7:H104,\"E\",K7:K104,\"A\")","v":0},{"$f":"COUNTIFS(H7:H104,\"E\",K7:K104,\"B\")","v":0},{"$f":"COUNTIFS(H7:H104,\"E\",K7:K104,\"C\")","v":0},null,null,"00:00:00","00:00:00",0,{"$f":"SpellNumber((AI55))","v":"No Dollars and No Cents"},3,"No "]
["00:00:00",null,null,null,null,0,null,null,0,null,null,{"$f":"IFERROR(VLOOKUP(K56,$AD$7:AE58,2,FALSE),0)","v":0},null,null,0,null,null,null,null,null,null,"F",{"$f":"COUNTIFS(E7:E104,\"F\",K7:K104,\"A\")","v":0},{"$f":"COUNTIFS(E7:E104,\"F\",K7:K104,\"B\")","v":0},{"$f":"COUNTIFS(E7:E104,\"F\",K7:K104,\"C\")","v":0},null,"F",{"$f":"COUNTIFS(H7:H104,\"F\",K7:K104,\"A\")","v":0},{"$f":"COUNTIFS(H7:H104,\"F\",K7:K104,\"B\")","v":0},{"$f":"COUNTIFS(H7:H104,\"F\",K7:K104,\"C\")","v":0},null,null,"00:00:00","00:00:00",0,{"$f":"SpellNumber((AI56))","v":"No Dollars and No Cents"},3,"No "]
["00:00:00",null,null,null,null,0,null,null,0,null,null,{"$f":"IFERROR(VLOOKUP(K57,$AD$7:AE59,2,FALSE),0)","v":0},null,null,0,null,null,null,null,null,null,"G",{"$f":"COUNTIFS(E7:E104,\"G\",K7:K104,\"A\")","v":0},{"$f":"COUNTIFS(E7:E104,\"G\",K7:K104,\"B\")","v":0},{"$f":"COUNTIFS(E7:E104,\"G\",K7:K104,\"C\")","v":0},null,"G",{"$f":"COUNTIFS(H7:H104,\"G\",K7:K104,\"A\")","v":0},{"$f":"COUNTIFS(H7:H104,\"G\",K7:K104,\"B\")","v":0},{"$f":"COUNTIFS(H7:H104,\"G\",K7:K104,\"C\")","v":0},null,null,"00:00:00","00:00:00",0,{"$f":"SpellNumber((AI57))","v":"No Dollars and No Cents"},3,"No "]
["00:00:00",null,null,null,null,0,null,null,0,null,null,{"$f":"IFERROR(VLOOKUP(K58,$AD$7:AE60,2,FALSE),0)","v":0},null,null,0,null,null,null,null,null,null,"H",{"$f":"COUNTIFS(E7:E104,\"H\",K7:K104,\"A\")","v":0},{"$f":"COUNTIFS(E7:E104,\"H\",K7:K104,\"B\")","v":0},{"$f":"COUNTIFS(E7:E104,\"H\",K7:K104,\"C\")","v":0},null,"H",{"$f":"COUNTIFS(H7:H104,\"H\",K7:K104,\"A\")","v":0},{"$f":"COUNTIFS(H7:H104,\"H\",K7:K104,\"B\")","v":0},{"$f":"COUNTIFS(H7:H104,\"H\",K7:K104,\"C\")","v":0},null,null,"00:00:00","00:00:00",0,{"$f":"SpellNumber((AI58))","v":"No Dollars and No Cents"},3,"No "]
["00:00:00",null,null,null,null,0,null,null,0,null,null,{"$f":"IFERROR(VLOOKUP(K59,$AD$7:AE61,2,FALSE),0)","v":0},null,null,0,null,null,null,null,null,null,"I",{"$f":"COUNTIFS(E7:E104,\"I\",K7:K104,\"A\")","v":0},{"$f":"COUNTIFS(E7:E104,\"I\",K7:K104,\"B\")","v":0},{"$f":"COUNTIFS(E7:E104,\"I\",K7:K104,\"C\")","v":0},null,"I",{"$f":"COUNTIFS(H7:H104,\"I\",K7:K104,\"A\")","v":0},{"$f":"COUNTIFS(H7:H104,\"I\",K7:K104,\"B\")","v":0},{"$f":"COUNTIFS(H7:H104,\"I\",K7:K104,\"C\")","v":0},null,null,"00:00:00","00:00:00",0,{"$f":"SpellNumber((AI59))","v":"No Dollars and No Cents"},3,"No "]
["00:00:00",null,null,null,null,0,null,null,0,null,null,{"$f":"IFERROR(VLOOKUP(K60,$AD$7:AE62,2,FALSE),0)","v":0},null,null,0,null,null,null,null,null,null,"J",{"$f":"COUNTIFS(E7:E104,\"J\",K7:K104,\"A\")","v":0},{"$f":"COUNTIFS(E7:E104,\"J\",K7:K104,\"B\")","v":0},{"$f":"COUNTIFS(E7:E104,\"J\",K7:K104,\"C\")","v":0},null,"J",{"$f":"COUNTIFS(H7:H104,\"J\",K7:K104,\"A\")","v":0},{"$f":"COUNTIFS(H7:H104,\"J\",K7:K104,\"B\")","v":0},{"$f":"COUNTIFS(H7:H104,\"J\",K7:K104,\"C\")","v":0},null,null,"00:00:00","00:00:00",0,{"$f":"SpellNumber((AI60))","v":"No Dollars and No Cents"},3,"No "]
["00:00:00",null,null,null,null,0,null,null,0,null,null,{"$f":"IFERROR(VLOOKUP(K61,$AD$7:AE63,2,FALSE),0)","v":0},null,null,0,null,null,null,null,null,null,"K",{"$f":"COUNTIFS(E7:E104,\"K\",K7:K104,\"A\")","v":0},{"$f":"COUNTIFS(E7:E104,\"K\",K7:K104,\"B\")","v":0},{"$f":"COUNTIFS(E7:E104,\"K\",K7:K104,\"C\")","v":0},null,"K",{"$f":"COUNTIFS(H7:H104,\"K\",K7:K104,\"A\")","v":0},{"$f":"COUNTIFS(H7:H104,\"K\",K7:K104,\"B\")","v":0},{"$f":"COUNTIFS(H7:H104,\"K\",K7:K104,\"C\")","v":0},null,null,"00:00:00","00:00:00",0,{"$f":"SpellNumber((AI61))","v":"No Dollars and No Cents"},3,"No "]
["00:00:00",null,null,null,null,0,null,null,0,null,null,{"$f":"IFERROR(VLOOKUP(K62,$AD$7:AE64,2,FALSE),0)","v":0},null,null,0,null,null,null,null,null,null,"L",{"$f":"COUNTIFS(E7:E104,\"L\",K7:K104,\"A\")","v":0},{"$f":"COUNTIFS(E7:E104,\"L\",K7:K104,\"B\")","v":0},{"$f":"COUNTIFS(E7:E104,\"L\",K7:K104,\"C\")","v":0},null,"L",{"$f":"COUNTIFS(H7:H104,\"L\",K7:K104,\"A\")","v":0},{"$f":"COUNTIFS(H7:H104,\"L\",K7:K104,\"B\")","v":0},{"$f":"COUNTIFS(H7:H104,\"L\",K7:K104,\"C\")","v":0},null,null,"00:00:00","00:00:00",0,{"$f":"SpellNumber((AI62))","v":"No Dollars and No Cents"},3,"No "]
["00:00:00",null,null,null,null,0,null,null,0,null,null,{"$f":"IFERROR(VLOOKUP(K63,$AD$7:AE65,2,FALSE),0)","v":0},null,null,0,null,null,null,null,null,null,null,"Beh & Consequences",null,null,null,null,null,null,null,null,null,"00:00:00","00:00:00",0,{"$f":"SpellNumber((AI63))","v":"No Dollars and No Cents"},3,"No "]
["00:00:00",null,null,null,null,0,null,null,0,null,null,{"$f":"IFERROR(VLOOKUP(K64,$AD$7:AE66,2,FALSE),0)","v":0},null,null,0,null,null,null,null,null,null,null,"A","B","C",null,null,null,null,null,null,null,"00:00:00","00:00:00",0,{"$f":"SpellNumber((AI64))","v":"No Dollars and No Cents"},3,"No "]
["00:00:00",null,null,null,null,0,null,null,0,null,null,{"$f":"IFERROR(VLOOKUP(K65,$AD$7:AE67,2,FALSE),0)","v":0},null,null,0,null,null,null,null,null,null,"A",{"$f":"COUNTIFS(N7:N104,\"A\",K7:K104,\"A\")","v":0},{"$f":"COUNTIFS(N7:N104,\"A\",K7:K104,\"B\")","v":0},{"$f":"COUNTIFS(N7:N104,\"A\",K7:K104,\"C\")","v":0},null,null,null,null,null,null,null,"00:00:00","00:00:00",0,{"$f":"SpellNumber((AI65))","v":"No Dollars and No Cents"},3,"No "]
["00:00:00",null,null,null,null,0,null,null,0,null,null,{"$f":"IFERROR(VLOOKUP(K66,$AD$7:AE68,2,FALSE),0)","v":0},null,null,0,null,null,null,null,null,null,"B",{"$f":"COUNTIFS(N7:N104,\"B\",K7:K104,\"A\")","v":0},{"$f":"COUNTIFS(N7:N104,\"B\",K7:K104,\"B\")","v":0},{"$f":"COUNTIFS(N7:N104,\"B\",K7:K104,\"C\")","v":0},null,null,null,null,null,null,null,"00:00:00","00:00:00",0,{"$f":"SpellNumber((AI66))","v":"No Dollars and No Cents"},3,"No "]
["00:00:00",null,null,null,null,0,null,null,0,null,null,{"$f":"IFERROR(VLOOKUP(K67,$AD$7:AE69,2,FALSE),0)","v":0},null,null,0,null,null,null,null,null,null,"C",{"$f":"COUNTIFS(N7:N104,\"C\",K7:K104,\"A\")","v":0},{"$f":"COUNTIFS(N7:N104,\"C\",K7:K104,\"B\")","v":0},{"$f":"COUNTIFS(N7:N104,\"C\",K7:K104,\"C\")","v":0},null,null,null,null,null,null,null,"00:00:00","00:00:00",0,{"$f":"SpellNumber((AI67))","v":"No Dollars and No Cents"},3,"No "]
["00:00:00",null,null,null,null,0,null,null,0,null,null,{"$f":"IFERROR(VLOOKUP(K68,$AD$7:AE70,2,FALSE),0)","v":0},null,null,0,null,null,null,null,null,null,"D",{"$f":"COUNTIFS(N7:N104,\"D\",K7:K104,\"A\")","v":0},{"$f":"COUNTIFS(N7:N104,\"D\",K7:K104,\"B\")","v":0},{"$f":"COUNTIFS(N7:N104,\"D\",K7:K104,\"C\")","v":0},null,null,null,null,null,null,null,"00:00:00","00:00:00",0,{"$f":"SpellNumber((AI68))","v":"No Dollars and No Cents"},3,"No "]
["00:00:00",null,null,null,null,0,null,null,0,null,null,{"$f":"IFERROR(VLOOKUP(K69,$AD$7:AE71,2,FALSE),0)","v":0},null,null,0,null,null,null,null,null,null,"E",{"$f":"COUNTIFS(N7:N104,\"E\",K7:K104,\"A\")","v":0},{"$f":"COUNTIFS(N7:N104,\"E\",K7:K104,\"B\")","v":0},{"$f":"COUNTIFS(N7:N104,\"E\",K7:K104,\"C\")","v":0},null,null,null,null,null,null,null,"00:00:00","00:00:00",0,{"$f":"SpellNumber((AI69))","v":"No Dollars and No Cents"},3,"No "]
["00:00:00",null,null,null,null,0,null,null,0,null,null,{"$f":"IFERROR(VLOOKUP(K70,$AD$7:AE72,2,FALSE),0)","v":0},null,null,0,null,null,null,null,null,null,"F",{"$f":"COUNTIFS(N7:N104,\"F\",K7:K104,\"A\")","v":0},{"$f":"COUNTIFS(N7:N104,\"F\",K7:K104,\"B\")","v":0},{"$f":"COUNTIFS(N7:N104,\"F\",K7:K104,\"C\")","v":0},null,null,null,null,null,null,null,"00:00:00","00:00:00",0,{"$f":"SpellNumber((AI70))","v":"No Dollars and No Cents"},3,"No "]
["00:00:00",null,null,null,null,0,null,null,0,null,null,{"$f":"IFERROR(VLOOKUP(K71,$AD$7:AE73,2,FALSE),0)","v":0},null,null,0,null,null,null,null,null,null,"G",{"$f":"COUNTIFS(N7:N104,\"G\",K7:K104,\"A\")","v":0},{"$f":"COUNTIFS(N7:N104,\"G\",K7:K104,\"B\")","v":0},{"$f":"COUNTIFS(N7:N104,\"G\",K7:K104,\"C\")","v":0},null,null,null,null,null,null,null,"00:00:00","00:00:00",0,{"$f":"SpellNumber((AI71))","v":"No Dollars and No Cents"},3,"No "]
[{"$f":"C72-B72","v":"00:00:00"},null,null,null,null,0,null,null,{"$f":"IFERROR(VLOOKUP(H72,$Z$7:$AA$18,2,FALSE),0)","v":0},null,null,{"$f":"IFERROR(VLOOKUP(K72,$AD$7:AE74,2,FALSE),0)","v":0},null,null,{"$f":"IFERROR(VLOOKUP(N72,$V$22:$W$33,2,FALSE),0)","v":0},null,null,null,null,null,null,"H",{"$f":"COUNTIFS(N7:N104,\"H\",K7:K104,\"A\")","v":0},{"$f":"COUNTIFS(N7:N104,\"H\",K7:K104,\"B\")","v":0},{"$f":"COUNTIFS(N7:N104,\"H\",K7:K104,\"C\")","v":0},null,null,null,null,null,null,null,{"$f":"B72","v":"00:00:00"},{"$f":"TEXT(AG72,\"hh:mm:ss\")","v":"00:00:00"},{"$f":"AG72*24","v":0},{"$f":"SpellNumber((AI72))","v":"No Dollars and No Cents"},{"$f":"FIND(\" Dollar\",AJ72)","v":3},{"$f":"LEFT(AJ72,AK72)","v":"No "}]
["00:00:00",null,null,null,null,{"$f":"IFERROR(VLOOKUP(E73,$V$7:$W$18,2,FALSE),0)","v":0},null,null,0,null,null,{"$f":"IFERROR(VLOOKUP(K73,$AD$7:AE75,2,FALSE),0)","v":0},null,null,0,null,null,null,null,null,null,"I",{"$f":"COUNTIFS(N7:N104,\"I\",K7:K104,\"A\")","v":0},{"$f":"COUNTIFS(N7:N104,\"I\",K7:K104,\"B\")","v":0},{"$f":"COUNTIFS(N7:N104,\"I\",K7:K104,\"C\")","v":0},null,null,null,null,null,null,null,"00:00:00","00:00:00",0,{"$f":"SpellNumber((AI73))","v":"No Dollars and No Cents"},3,"No "]
["00:00:00",null,null,null,null,0,null,null,0,null,null,{"$f":"IFERROR(VLOOKUP(K74,$AD$7:AE76,2,FALSE),0)","v":0},null,null,0,null,null,null,null,null,null,"J",{"$f":"COUNTIFS(N7:N104,\"J\",K7:K104,\"A\")","v":0},{"$f":"COUNTIFS(N7:N104,\"J\",K7:K104,\"B\")","v":0},{"$f":"COUNTIFS(N7:N104,\"J\",K7:K104,\"C\")","v":0},null,null,null,null,null,null,null,"00:00:00","00:00:00",0,{"$f":"SpellNumber((AI74))","v":"No Dollars and No Cents"},3,"No "]
["00:00:00",null,null,null,null,0,null,null,0,null,null,{"$f":"IFERROR(VLOOKUP(K75,$AD$7:AE77,2,FALSE),0)","v":0},null,null,0,null,null,null,null,null,null,"K",{"$f":"COUNTIFS(N7:N104,\"K\",K7:K104,\"A\")","v":0},{"$f":"COUNTIFS(N7:N104,\"K\",K7:K104,\"B\")","v":0},{"$f":"COUNTIFS(N7:N104,\"K\",K7:K104,\"C\")","v":0},null,null,null,null,null,null,null,"00:00:00","00:00:00",0,{"$f":"SpellNumber((AI75))","v":"No Dollars and No Cents"},3,"No "]
["00:00:00",null,null,null,null,0,null,null,0,null,null,{"$f":"IFERROR(VLOOKUP(K76,$AD$7:AE78,2,FALSE),0)","v":0},null,null,0,null,null,null,null,null,null,"L",{"$f":"COUNTIFS(N7:N104,\"L\",K7:K104,\"A\")","v":0},{"$f":"COUNTIFS(N7:N104,\"L\",K7:K104,\"B\")","v":0},{"$f":"COUNTIFS(N7:N104,\"L\",K7:K104,\"C\")","v":0},null,null,null,null,null,null,null,"00:00:00","00:00:00",0,{"$f":"SpellNumber((AI76))","v":"No Dollars and No Cents"},3,"No "]
["00:00:00",null,null,null,null,0,null,null,0,null,null,{"$f":"IFERROR(VLOOKUP(K77,$AD$7:AE79,2,FALSE),0)","v":0},null,null,0,null,null,null,null,null,null,null,null,null,null,null,null,null,null,null,null,null,"00:00:00","00:00:00",0,{"$f":"SpellNumber((AI77))","v":"No Dollars and No Cents"},3,"No "]
["00:00:00",null,null,null,null,0,null,null,0,null,null,{"$f":"IFERROR(VLOOKUP(K78,$AD$7:AE80,2,FALSE),0)","v":0},null,null,0,null,null,null,null,null,null,null,null,null,null,null,null,null,null,null,null,null,"00:00:00","00:00:00",0,{"$f":"SpellNumber((AI78))","v":"No Dollars and No Cents"},3,"No "]
["00:00:00",null,null,null,null,0,null,null,0,null,null,{"$f":"IFERROR(VLOOKUP(K79,$AD$7:AE81,2,FALSE),0)","v":0},null,null,0,null,null,null,null,null,null,null,null,null,null,null,null,null,null,null,null,null,"00:00:00","00:00:00",0,{"$f":"SpellNumber((AI79))","v":"No Dollars and No Cents"},3,"No "]
["00:00:00",null,null,null,null,0,null,null,0,null,null,{"$f":"IFERROR(VLOOKUP(K80,$AD$7:AE82,2,FALSE),0)","v":0},null,null,0,null,null,null,null,null,null,null,null,null,null,null,null,null,null,null,null,null,"00:00:00","00:00:00",0,{"$f":"SpellNumber((AI80))","v":"No Dollars and No Cents"},3,"No "]
["00:00:00",null,null,null,null,0,null,null,0,null,null,{"$f":"IFERROR(VLOOKUP(K81,$AD$7:AE83,2,FALSE),0)","v":0},null,null,0,null,null,null,null,null,null,null,null,null,null,null,null,null,null,null,null,null,"00:00:00","00:00:00",0,{"$f":"SpellNumber((AI81))","v":"No Dollars and No Cents"},3,"No "]
["00:00:00",null,null,null,null,0,null,null,0,null,null,{"$f":"IFERROR(VLOOKUP(K82,$AD$7:AE84,2,FALSE),0)","v":0},null,null,0,null,null,null,null,null,null,null,null,null,null,null,null,null,null,null,null,null,"00:00:00","00:00:00",0,{"$f":"SpellNumber((AI82))","v":"No Dollars and No Cents"},3,"No "]
["00:00:00",null,null,null,null,0,null,null,0,null,null,{"$f":"IFERROR(VLOOKUP(K83,$AD$7:AE85,2,FALSE),0)","v":0},null,null,0,null,null,null,null,null,null,null,null,null,null,null,null,null,null,null,null,null,"00:00:00","00:00:00",0,{"$f":"SpellNumber((AI83))","v":"No Dollars and No Cents"},3,"No "]
["00:00:00",null,null,null,null,0,null,null,0,null,null,{"$f":"IFERROR(VLOOKUP(K84,$AD$7:AE86,2,FALSE),0)","v":0},null,null,0,null,null,null,null,null,null,null,null,null,null,null,null,null,null,null,null,null,"00:00:00","00:00:00",0,{"$f":"SpellNumber((AI84))","v":"No Dollars and No Cents"},3,"No "]
["00:00:00",null,null,null,null,0,null,null,0,null,null,{"$f":"IFERROR(VLOOKUP(K85,$AD$7:AE87,2,FALSE),0)","v":0},null,null,0,null,null,null,null,null,null,null,null,null,null,null,null,null,null,null,null,null,"00:00:00","00:00:00",0,{"$f":"SpellNumber((AI85))","v":"No Dollars and No Cents"},3,"No "]
["00:00:00",null,null,null,null,0,null,null,0,null,null,{"$f":"IFERROR(VLOOKUP(K86,$AD$7:AE88,2,FALSE),0)","v":0},null,null,0,null,null,null,null,null,null,null,null,null,null,null,null,null,null,null,null,null,"00:00:00","00:00:00",0,{"$f":"SpellNumber((AI86))","v":"No Dollars and No Cents"},3,"No "]
["00:00:00",null,null,null,null,0,null,null,0,null,null,{"$f":"IFERROR(VLOOKUP(K87,$AD$7:AE89,2,FALSE),0)","v":0},null,null,0,null,null,null,null,null,null,null,null,null,null,null,null,null,null,null,null,null,"00:00:00","00:00:00",0,{"$f":"SpellNumber((AI87))","v":"No Dollars and No Cents"},3,"No "]
["00:00:00",null,null,null,null,0,null,null,0,null,null,{"$f":"IFERROR(VLOOKUP(K88,$AD$7:AE90,2,FALSE),0)","v":0},null,null,0,null,null,null,null,null,null,null,null,null,null,null,null,null,null,null,null,null,"00:00:00","00:00:00",0,{"$f":"SpellNumber((AI88))","v":"No Dollars and No Cents"},3,"No "]
["00:00:00",null,null,null,null,0,null,null,0,null,null,{"$f":"IFERROR(VLOOKUP(K89,$AD$7:AE91,2,FALSE),0)","v":0},null,null,0,null,null,null,null,null,null,null,null,null,null,null,null,null,null,null,null,null,"00:00:00","00:00:00",0,{"$f":"SpellNumber((AI89))","v":"No Dollars and No Cents"},3,"No "]
["00:00:00",null,null,null,null,0,null,null,0,null,null,{"$f":"IFERROR(VLOOKUP(K90,$AD$7:AE92,2,FALSE),0)","v":0},null,null,0,null,null,null,null,null,null,null,null,null,null,null,null,null,null,null,null,null,"00:00:00","00:00:00",0,{"$f":"SpellNumber((AI90))","v":"No Dollars and No Cents"},3,"No "]
["00:00:00",null,null,null,null,0,null,null,0,null,null,{"$f":"IFERROR(VLOOKUP(K91,$AD$7:AE93,2,FALSE),0)","v":0},null,null,0,null,null,null,"Total Mins",{"$f":"SUM(A7:A104)","v":"00:00:00"},null,null,null,null,null,null,null,null,null,null,null,null,"00:00:00","00:00:00",0,{"$f":"SpellNumber((AI91))","v":"No Dollars and No Cents"},3,"No "]
["00:00:00",null,null,null,null,0,null,null,0,null,null,{"$f":"IFERROR(VLOOKUP(K92,$AD$7:AE94,2,FALSE),0)","v":0},null,null,0,null,null,null,"Settings:","A",{"$f":"COUNTIF(E4:E104,\"A\")","v":0},"Antec.","A",{"$f":"COUNTIF(H4:H104,\"A\")","v":0},"Beh","A",{"$f":"COUNTIF(L4:L104,\"A\")","v":0},"Conse.","A",{"$f":"COUNTIF(O4:O104,\"A\")","v":0},null,null,"00:00:00","00:00:00",0,{"$f":"SpellNumber((AI92))","v":"No Dollars and No Cents"},3,"No "]
["00:00:00",null,null,null,null,0,null,null,0,null,null,{"$f":"IFERROR(VLOOKUP(K93,$AD$7:AE95,2,FALSE),0)","v":0},null,null,0,null,null,null,null,"B",{"$f":"COUNTIF(E5:E105,\"B\")","v":0},null,"B",{"$f":"COUNTIF(H5:H105,\"B\")","v":0},null,"B",{"$f":"COUNTIF(L5:L105,\"B\")","v":0},null,"B",{"$f":"COUNTIF(O5:O105,\"B\")","v":0},null,null,"00:00:00","00:00:00",0,{"$f":"SpellNumber((AI93))","v":"No Dollars and No Cents"},3,"No "]
["00:00:00",null,null,null,null,0,null,null,0,null,null,{"$f":"IFERROR(VLOOKUP(K94,$AD$7:AE96,2,FALSE),0)","v":0},null,null,0,null,null,null,null,"C",{"$f":"COUNTIF(E6:E106,\"C\")","v":0},null,"C",{"$f":"COUNTIF(H6:H106,\"C\")","v":0},null,"C",{"$f":"COUNTIF(L6:L106,\"C\")","v":0},null,"C",{"$f":"COUNTIF(O6:O106,\"C\")","v":0},null,null,"00:00:00","00:00:00",0,{"$f":"SpellNumber((AI94))","v":"No Dollars and No Cents"},3,"No "]
["00:00:00",null,null,null,null,0,null,null,0,null,null,{"$f":"IFERROR(VLOOKUP(K95,$AD$7:AE97,2,FALSE),0)","v":0},null,null,0,null,null,null,null,"D",{"$f":"COUNTIF(E7:E107,\"D\")","v":0},null,"D",{"$f":"COUNTIF(H7:H107,\"D\")","v":0},null,null,null,null,"D",{"$f":"COUNTIF(O7:O107,\"D\")","v":0},null,null,"00:00:00","00:00:00",0,{"$f":"SpellNumber((AI95))","v":"No Dollars and No Cents"},3,"No "]
["00:00:00",null,null,null,null,0,null,null,0,null,null,{"$f":"IFERROR(VLOOKUP(K96,$AD$7:AE98,2,FALSE),0)","v":0},null,null,0,null,null,null,null,"E",{"$f":"COUNTIF(E8:E108,\"E\")","v":0},null,"E",{"$f":"COUNTIF(H8:H108,\"E\")","v":0},null,null,null,null,"E",{"$f":"COUNTIF(O8:O108,\"E\")","v":0},null,null,"00:00:00","00:00:00",0,{"$f":"SpellNumber((AI96))","v":"No Dollars and No Cents"},3,"No "]
["00:00:00",null,null,null,null,0,null,null,0,null,null,{"$f":"IFERROR(VLOOKUP(K97,$AD$7:AE99,2,FALSE),0)","v":0},null,null,0,null,null,null,null,"F",{"$f":"COUNTIF(E9:E109,\"F\")","v":0},null,"F",{"$f":"COUNTIF(H9:H109,\"F\")","v":0},null,null,null,null,"F",{"$f":"COUNTIF(O9:O109,\"F\")","v":0},null,null,"00:00:00","00:00:00",0,{"$f":"SpellNumber((AI97))","v":"No Dollars and No Cents"},3,"No "]
["00:00:00",null,null,null,null,0,null,null,0,null,null,{"$f":"IFERROR(VLOOKUP(K98,$AD$7:AE100,2,FALSE),0)","v":0},null,null,0,null,null,null,null,"G",{"$f":"COUNTIF(E10:E110,\"G\")","v":0},null,"G",{"$f":"COUNTIF(H10:H110,\"G\")","v":0},null,null,null,null,"G",{"$f":"COUNTIF(O10:O110,\"G\")","v":0},null,null,"00:00:00","00:00:00",0,{"$f":"SpellNumber((AI98))","v":"No Dollars and No Cents"},3,"No "]
["00:00:00",null,null,null,null,0,null,null,0,null,null,{"$f":"IFERROR(VLOOKUP(K99,$AD$7:AE101,2,FALSE),0)","v":0},null,null,0,null,null,null,null,"H",{"$f":"COUNTIF(E11:E111,\"H\")","v":0},null,"H",{"$f":"COUNTIF(H11:H111,\"H\")","v":0},null,null,null,null,"H",{"$f":"COUNTIF(O11:O111,\"H\")","v":0},null,null,"00:00:00","00:00:00",0,{"$f":"SpellNumber((AI99))","v":"No Dollars and No Cents"},3,"No "]
["00:00:00",null,null,null,null,0,null,null,0,null,null,{"$f":"IFERROR(VLOOKUP(K100,$AD$7:AE102,2,FALSE),0)","v":0},null,null,0,null,null,null,null,"I",{"$f":"COUNTIF(E12:E112,\"I\")","v":0},null,"I",{"$f":"COUNTIF(H12:H112,\"I\")","v":0},null,null,null,null,"I",{"$f":"COUNTIF(O12:O112,\"I\")","v":0},null,null,"00:00:00","00:00:00",0,{"$f":"SpellNumber((AI100))","v":"No Dollars and No Cents"},3,"No "]
["00:00:00",null,null,null,null,0,null,null,0,null,null,{"$f":"IFERROR(VLOOKUP(K101,$AD$7:AE103,2,FALSE),0)","v":0},null,null,0,null,null,null,null,"J",{"$f":"COUNTIF(E13:E113,\"J\")","v":0},null,"J",{"$f":"COUNTIF(H13:H113,\"J\")","v":0},null,null,null,null,"J",{"$f":"COUNTIF(O13:O113,\"J\")","v":0},null,null,"00:00:00","00:00:00",0,{"$f":"SpellNumber((AI101))","v":"No Dollars and No Cents"},3,"No "]
["00:00:00",null,null,null,null,0,null,null,0,null,null,{"$f":"IFERROR(VLOOKUP(K102,$AD$7:AE104,2,FALSE),0)","v":0},null,null,0,null,null,null,null,"K",{"$f":"COUNTIF(E14:E114,\"K\")","v":0},null,"K",{"$f":"COUNTIF(H14:H114,\"K\")","v":0},null,null,null,null,"K",{"$f":"COUNTIF(O14:O114,\"K\")","v":0},null,null,"00:00:00","00:00:00",0,{"$f":"SpellNumber((AI102))","v":"No Dollars and No Cents"},3,"No "]
["00:00:00",null,null,null,null,0,null,null,0,null,null,{"$f":"IFERROR(VLOOKUP(K103,$AD$7:AE105,2,FALSE),0)","v":0},null,null,0,null,null,null,null,"L",{"$f":"COUNTIF(E15:E115,\"L\")","v":0},null,"L",{"$f":"COUNTIF(H15:H115,\"L\")","v":0},null,null,null,null,"L",{"$f":"COUNTIF(O15:O115,\"L\")","v":0},null,null,"00:00:00","00:00:00",0,{"$f":"SpellNumber((AI103))","v":"No Dollars and No Cents"},3,"No "]
["00:00:00",null,null,null,null,0,null,null,0,null,null,{"$f":"IFERROR(VLOOKUP(K104,$AD$7:AE106,2,FALSE),0)","v":0},null,null,0,null,null,null,null,null,null,null,null,null,null,null,null,null,null,null,null,null,"00:00:00","00:00:00",0,{"$f":"SpellNumber((AI104))","v":"No Dollars and No Cents"},3,"No "]

{"sheet":"Data 14","index":22,"n_rows":104,"n_cols":38,"rows_kept":104,"cut":false,"hidden":false,"merged":[[0,7,3,14]]}
["ATTENDANCE",null,null,null,null,null,null,"Data Collection"]
["If tardy, arrival time",null,null,null,null,null,null,null,null,null,null,null,null,null,null,null,null,null,null,null,null,null,"Date",{"$f":"Calendar!B7","v":{"$error":"#N/A"}},{"$f":"TEXT(X2,\"ddd\")","v":{"$error":"#N/A"}}]
["If left early, time",null,null,null,null,null,null,null,null,null,null,null,null,null,null,null,null,null,null,null,null,null,"Frq. Of bx",{"$f":"AA22","v":0}]
[]
[]
["Mins.","Start Time","End Time",null,null,null,null,null,null,null,null,null,null,null,null,null,null,null,null,null,null,null,"Setting",null,null,"Ant",null,null,null,"Beh",null,null,"Raw Data","Time in text","Decimal"]
[{"$f":"C7-B7","v":"00:00:00"},null,null,null,null,{"$f":"IFERROR(VLOOKUP(E7,$V$7:$W$18,2,FALSE),0)","v":0},null,null,{"$f":"IFERROR(VLOOKUP(H7,$Z$7:$AA$18,2,FALSE),0)","v":0},null,null,{"$f":"IFERROR(VLOOKUP(K7,$AD$7:AE9,2,FALSE),0)","v":0},null,null,{"$f":"IFERROR(VLOOKUP(N7,$V$22:$W$33,2,FALSE),0)","v":0},null,null,null,null,null,null,"A",{"$f":"Criteria!C4","v":"Transition"},null,null,"A",{"$f":"Criteria!E4","v":"Transition"},null,null,"A",{"$f":"Criteria!G4","v":0},null,{"$f":"B7","v":"00:00:00"},{"$f":"TEXT(AG7,\"hh:mm:ss\")","v":"00:00:00"},{"$f":"AG7*24","v":0},{"$f":"SpellNumber((AI7))","v":"No Dollars and No Cents"},{"$f":"FIND(\" Dollar\",AJ7)","v":3},{"$f":"LEFT(AJ7,AK7)","v":"No "}]
[{"$f":"C8-B8","v":"00:00:00"},null,null,null,null,{"$f":"IFERROR(VLOOKUP(E8,$V$7:$W$18,2,FALSE),0)","v":0},null,null,{"$f":"IFERROR(VLOOKUP(H8,$Z$7:$AA$18,2,FALSE),0)","v":0},null,null,{"$f":"IFERROR(VLOOKUP(K8,$AD$7:AE10,2,FALSE),0)","v":0},null,null,{"$f":"IFERROR(VLOOKUP(N8,$V$22:$W$33,2,FALSE),0)","v":0},null,null,null,null,null,null,"B",{"$f":"Criteria!C5","v":"Morning Routine"},null,null,"B",{"$f":"Criteria!E5","v":"Denied access ('No')"},null,null,"B",{"$f":"Criteria!G5","v":0},null,{"$f":"B8","v":"00:00:00"},{"$f":"TEXT(AG8,\"hh:mm:ss\")","v":"00:00:00"},{"$f":"AG8*24","v":0},{"$f":"SpellNumber((AI8))","v":"No Dollars and No Cents"},{"$f":"FIND(\" Dollar\",AJ8)","v":3},{"$f":"LEFT(AJ8,AK8)","v":"No "}]
["00:00:00",null,null,null,null,{"$f":"IFERROR(VLOOKUP(E9,$V$7:$W$18,2,FALSE),0)","v":0},null,null,0,null,null,{"$f":"IFERROR(VLOOKUP(K9,$AD$7:AE11,2,FALSE),0)","v":0},null,null,0,null,null,null,null,null,null,"C",{"$f":"Criteria!C6","v":"Group Work"},null,null,"C",{"$f":"Criteria!E6","v":"Instruction/ Directions"},null,null,"C",{"$f":"Criteria!G6","v":0},null,"00:00:00","00:00:00",0,{"$f":"SpellNumber((AI9))","v":"No Dollars and No Cents"},3,"No "]
["00:00:00",null,null,null,null,0,null,null,0,null,null,{"$f":"IFERROR(VLOOKUP(K10,$AD$7:AE12,2,FALSE),0)","v":0},null,null,0,null,null,null,null,null,null,"D",{"$f":"Criteria!C7","v":"Ind. Seat/Work Time"},null,null,"D",{"$f":"Criteria!E7","v":"New Task"},null,null,null,null,null,"00:00:00","00:00:00",0,{"$f":"SpellNumber((AI10))","v":"No Dollars and No Cents"},3,"No "]
["00:00:00",null,null,null,null,0,null,null,0,null,null,{"$f":"IFERROR(VLOOKUP(K11,$AD$7:AE13,2,FALSE),0)","v":0},null,null,0,null,null,null,null,null,null,"E",{"$f":"Criteria!C8","v":"Language Arts"},null,null,"E",{"$f":"Criteria!E8","v":"Tcher attn to other"},null,null,null,null,null,"00:00:00","00:00:00",0,{"$f":"SpellNumber((AI11))","v":"No Dollars and No Cents"},3,"No "]
["00:00:00",null,null,null,null,0,null,null,0,null,null,{"$f":"IFERROR(VLOOKUP(K12,$AD$7:AE14,2,FALSE),0)","v":0},null,null,0,null,null,null,null,null,null,"F",{"$f":"Criteria!C9","v":"Mathematics"},null,null,"F",{"$f":"Criteria!E9","v":"Choice given"},null,null,null,null,null,"00:00:00","00:00:00",0,{"$f":"SpellNumber((AI12))","v":"No Dollars and No Cents"},3,"No "]
["00:00:00",null,null,null,null,0,null,null,0,null,null,{"$f":"IFERROR(VLOOKUP(K13,$AD$7:AE15,2,FALSE),0)","v":0},null,null,0,null,null,null,null,null,null,"G",{"$f":"Criteria!C10","v":"Physical Education"},null,null,"G",{"$f":"Criteria!E10","v":"Redirection"},null,null,null,null,null,"00:00:00","00:00:00",0,{"$f":"SpellNumber((AI13))","v":"No Dollars and No Cents"},3,"No "]
["00:00:00",null,null,null,null,0,null,null,0,null,null,{"$f":"IFERROR(VLOOKUP(K14,$AD$7:AE16,2,FALSE),0)","v":0},null,null,0,null,null,null,null,null,null,"H",{"$f":"Criteria!C11","v":"Music/Art"},null,null,"H",{"$f":"Criteria!E11","v":"Routine Task"},null,null,null,null,null,"00:00:00","00:00:00",0,{"$f":"SpellNumber((AI14))","v":"No Dollars and No Cents"},3,"No "]
["00:00:00",null,null,null,null,0,null,null,0,null,null,{"$f":"IFERROR(VLOOKUP(K15,$AD$7:AE17,2,FALSE),0)","v":0},null,null,0,null,null,null,null,null,null,"I",{"$f":"Criteria!C12","v":"Speech"},null,null,"I",{"$f":"Criteria!E12","v":"Waiting"},null,null,null,null,null,"00:00:00","00:00:00",0,{"$f":"SpellNumber((AI15))","v":"No Dollars and No Cents"},3,"No "]
["00:00:00",null,null,null,null,0,null,null,0,null,null,{"$f":"IFERROR(VLOOKUP(K16,$AD$7:AE18,2,FALSE),0)","v":0},null,null,0,null,null,null,null,null,null,"J",{"$f":"Criteria!C13","v":"OT/PT"},null,null,"J",{"$f":"Criteria!E13","v":"Unknown"},null,null,null,null,null,"00:00:00","00:00:00",0,{"$f":"SpellNumber((AI16))","v":"No Dollars and No Cents"},3,"No "]
["00:00:00",null,null,null,null,0,null,null,0,null,null,{"$f":"IFERROR(VLOOKUP(K17,$AD$7:AE19,2,FALSE),0)","v":0},null,null,0,null,null,null,null,null,null,"K",{"$f":"Criteria!C14","v":"Center"},null,null,"K",{"$f":"Criteria!E14","v":"Ignored"},null,null,null,null,null,"00:00:00","00:00:00",0,{"$f":"SpellNumber((AI17))","v":"No Dollars and No Cents"},3,"No "]
["00:00:00",null,null,null,null,0,null,null,0,null,null,{"$f":"IFERROR(VLOOKUP(K18,$AD$7:AE20,2,FALSE),0)","v":0},null,null,0,null,null,null,null,null,null,"L",{"$f":"Criteria!C15","v":"Other"},null,null,"L",{"$f":"Criteria!E15","v":"Other"},null,null,null,null,null,"00:00:00","00:00:00",0,{"$f":"SpellNumber((AI18))","v":"No Dollars and No Cents"},3,"No "]
["00:00:00",null,null,null,null,0,null,null,0,null,null,{"$f":"IFERROR(VLOOKUP(K19,$AD$7:AE21,2,FALSE),0)","v":0},null,null,0,null,null,null,null,null,null,null,null,null,null,null,null,null,null,null,null,null,"00:00:00","00:00:00",0,{"$f":"SpellNumber((AI19))","v":"No Dollars and No Cents"},3,"No "]
["00:00:00",null,null,null,null,0,null,null,0,null,null,{"$f":"IFERROR(VLOOKUP(K20,$AD$7:AE22,2,FALSE),0)","v":0},null,null,0,null,null,null,null,null,null,null,null,null,null,null,null,null,null,null,null,null,"00:00:00","00:00:00",0,{"$f":"SpellNumber((AI20))","v":"No Dollars and No Cents"},3,"No "]
["00:00:00",null,null,null,null,0,null,null,0,null,null,{"$f":"IFERROR(VLOOKUP(K21,$AD$7:AE23,2,FALSE),0)","v":0},null,null,0,null,null,null,null,null,null,null,"Con",null,"Bx Frequency Per Day",null,null,null,null,null,null,null,"00:00:00","00:00:00",0,{"$f":"SpellNumber((AI21))","v":"No Dollars and No Cents"},3,"No "]
["00:00:00",null,null,null,null,0,null,null,0,null,null,{"$f":"IFERROR(VLOOKUP(K22,$AD$7:AE24,2,FALSE),0)","v":0},null,null,0,null,null,null,null,null,null,"A",{"$f":"Criteria!I4","v":"Choice Given"},"A",{"$f":"COUNTIF(K7:K104,\"A\")","v":0},null,{"$f":"SUM(Y22:Y24)","v":0},null,"Bin Dec","Frequency of Time",null,null,"00:00:00","00:00:00",0,{"$f":"SpellNumber((AI22))","v":"No Dollars and No Cents"},3,"No "]
["00:00:00",null,null,null,null,0,null,null,0,null,null,{"$f":"IFERROR(VLOOKUP(K23,$AD$7:AE25,2,FALSE),0)","v":0},null,null,0,null,null,null,null,null,null,"B",{"$f":"Criteria!I5","v":"Ignored"},"B",{"$f":"COUNTIF(K7:K104,\"B\")","v":0},null,null,null,"Seven",{"$f":"COUNTIF(AL7:AL104,\"*Seven*\")","v":0},null,null,"00:00:00","00:00:00",0,{"$f":"SpellNumber((AI23))","v":"No Dollars and No Cents"},3,"No "]
["00:00:00",null,null,null,null,0,null,null,0,null,null,{"$f":"IFERROR(VLOOKUP(K24,$AD$7:AE26,2,FALSE),0)","v":0},null,null,0,null,null,null,null,null,null,"C",{"$f":"Criteria!I6","v":"Redirection"},"C",{"$f":"COUNTIF(K7:K104,\"C\")","v":0},null,null,null,"Eight",{"$f":"COUNTIF(AL7:AL104,\"*Eight*\")","v":0},null,null,"00:00:00","00:00:00",0,{"$f":"SpellNumber((AI24))","v":"No Dollars and No Cents"},3,"No "]
["00:00:00",null,null,null,null,0,null,null,0,null,null,{"$f":"IFERROR(VLOOKUP(K25,$AD$7:AE27,2,FALSE),0)","v":0},null,null,0,null,null,null,null,null,null,"D",{"$f":"Criteria!I7","v":"Kept the demand"},null,"Bx Druation Per Day",null,null,null,"Nine",{"$f":"COUNTIF(AL7:AL104,\"*Nine*\")","v":0},null,null,"00:00:00","00:00:00",0,{"$f":"SpellNumber((AI25))","v":"No Dollars and No Cents"},3,"No "]
["00:00:00",null,null,null,null,0,null,null,0,null,null,{"$f":"IFERROR(VLOOKUP(K26,$AD$7:AE28,2,FALSE),0)","v":0},null,null,0,null,null,null,null,null,null,"E",{"$f":"Criteria!I8","v":"Changed activity"},"A",{"$f":"SUMIF(K7:K104,\"A\",A7:A104)","v":"00:00:00"},null,null,null,"Ten",{"$f":"COUNTIF(AL7:AL12,\"*Ten*\")","v":0},null,null,"00:00:00","00:00:00",0,{"$f":"SpellNumber((AI26))","v":"No Dollars and No Cents"},3,"No "]
["00:00:00",null,null,null,null,0,null,null,0,null,null,{"$f":"IFERROR(VLOOKUP(K27,$AD$7:AE29,2,FALSE),0)","v":0},null,null,0,null,null,null,null,null,null,"F",{"$f":"Criteria!I9","v":"Verbal reprimand"},"B",{"$f":"SUMIF(K7:K104,\"B\",A7:A104)","v":"00:00:00"},null,null,null,"Eleven",{"$f":"COUNTIF(AL7:AL104,\"*Eleven*\")","v":0},null,null,"00:00:00","00:00:00",0,{"$f":"SpellNumber((AI27))","v":"No Dollars and No Cents"},3,"No "]
["00:00:00",null,null,null,null,0,null,null,0,null,null,{"$f":"IFERROR(VLOOKUP(K28,$AD$7:AE30,2,FALSE),0)","v":0},null,null,0,null,null,null,null,null,null,"G",{"$f":"Criteria!I10","v":"Told to wait"},"C",{"$f":"SUMIF(K7:K104,\"C\",A7:A104)","v":"00:00:00"},null,null,null,"Twelve",{"$f":"COUNTIF(AL7:AL104,\"*Twelve*\")","v":0},null,null,"00:00:00","00:00:00",0,{"$f":"SpellNumber((AI28))","v":"No Dollars and No Cents"},3,"No "]
["00:00:00",null,null,null,null,0,null,null,0,null,null,{"$f":"IFERROR(VLOOKUP(K29,$AD$7:AE31,2,FALSE),0)","v":0},null,null,0,null,null,null,null,null,null,"H",{"$f":"Criteria!I11","v":"Physical Prompt"},null,null,null,null,null,"One",{"$f":"COUNTIF(AL7:AL104,\"*One*\")","v":0},null,null,"00:00:00","00:00:00",0,{"$f":"SpellNumber((AI29))","v":"No Dollars and No Cents"},3,"No "]
["00:00:00",null,null,null,null,0,null,null,0,null,null,{"$f":"IFERROR(VLOOKUP(K30,$AD$7:AE32,2,FALSE),0)","v":0},null,null,0,null,null,null,null,null,null,"I",{"$f":"Criteria!I12","v":"Verbal prompt"},null,null,null,null,null,"Two",{"$f":"COUNTIF(AL7:AL104,\"*Two*\")","v":0},null,null,"00:00:00","00:00:00",0,{"$f":"SpellNumber((AI30))","v":"No Dollars and No Cents"},3,"No "]
["00:00:00",null,null,null,null,0,null,null,0,null,null,{"$f":"IFERROR(VLOOKUP(K31,$AD$7:AE33,2,FALSE),0)","v":0},null,null,0,null,null,null,null,null,null,"J",{"$f":"Criteria!I13","v":"Told to wait"},null,null,null,null,null,"Three",{"$f":"COUNTIF(AL7:AL104,\"*Three*\")","v":0},null,null,"00:00:00","00:00:00",0,{"$f":"SpellNumber((AI31))","v":"No Dollars and No Cents"},3,"No "]
["00:00:00",null,null,null,null,0,null,null,0,null,null,{"$f":"IFERROR(VLOOKUP(K32,$AD$7:AE34,2,FALSE),0)","v":0},null,null,0,null,null,null,null,null,null,"K",{"$f":"Criteria!I14","v":"Unknown"},null,null,null,null,null,"Four",{"$f":"COUNTIF(AL7:AL104,\"*Four*\")","v":0},null,null,"00:00:00","00:00:00",0,{"$f":"SpellNumber((AI32))","v":"No Dollars and No Cents"},3,"No "]
["00:00:00",null,null,null,null,0,null,null,0,null,null,{"$f":"IFERROR(VLOOKUP(K33,$AD$7:AE35,2,FALSE),0)","v":0},null,null,0,null,null,null,null,null,null,"L",{"$f":"Criteria!I15","v":"Other"},null,null,null,null,null,null,null,null,null,"00:00:00","00:00:00",0,{"$f":"SpellNumber((AI33))","v":"No Dollars and No Cents"},3,"No "]
["00:00:00",null,null,null,null,0,null,null,0,null,null,{"$f":"IFERROR(VLOOKUP(K34,$AD$7:AE36,2,FALSE),0)","v":0},null,null,0,null,null,null,null,null,null,null,null,null,null,null,null,null,null,null,null,null,"00:00:00","00:00:00",0,{"$f":"SpellNumber((AI34))","v":"No Dollars and No Cents"},3,"No "]
["00:00:00",null,null,null,null,0,null,null,0,null,null,{"$f":"IFERROR(VLOOKUP(K35,$AD$7:AE37,2,FALSE),0)","v":0},null,null,0,null,null,null,null,null,null,null,"Context Frequency","Consequence","Antedencents",null,null,null,null,null,null,null,"00:00:00","00:00:00",0,{"$f":"SpellNumber((AI35))","v":"No Dollars and No Cents"},3,"No "]
["00:00:00",null,null,null,null,0,null,null,0,null,null,{"$f":"IFERROR(VLOOKUP(K36,$AD$7:AE38,2,FALSE),0)","v":0},null,null,0,null,null,null,null,null,null,"A",{"$f":"COUNTIF(E7:E104,\"A\")","v":0},{"$f":"COUNTIF(N7:N104,\"A\")","v":0},{"$f":"COUNTIF(H7:H104,\"A\")","v":0},null,null,null,null,null,null,null,"00:00:00","00:00:00",0,{"$f":"SpellNumber((AI36))","v":"No Dollars and No Cents"},3,"No "]
["00:00:00",null,null,null,null,0,null,null,0,null,null,{"$f":"IFERROR(VLOOKUP(K37,$AD$7:AE39,2,FALSE),0)","v":0},null,null,0,null,null,null,null,null,null,"B",{"$f":"COUNTIF(E8:E105,\"B\")","v":0},{"$f":"COUNTIF(N7:N104,\"B\")","v":0},{"$f":"COUNTIF(H7:H104,\"B\")","v":0},null,null,null,null,null,null,null,"00:00:00","00:00:00",0,{"$f":"SpellNumber((AI37))","v":"No Dollars and No Cents"},3,"No "]
["00:00:00",null,null,null,null,0,null,null,0,null,null,{"$f":"IFERROR(VLOOKUP(K38,$AD$7:AE40,2,FALSE),0)","v":0},null,null,0,null,null,null,null,null,null,"C",{"$f":"COUNTIF(E8:E105,\"C\")","v":0},{"$f":"COUNTIF(N7:N104,\"C\")","v":0},{"$f":"COUNTIF(H7:H104,\"C\")","v":0},null,null,null,null,null,null,null,"00:00:00","00:00:00",0,{"$f":"SpellNumber((AI38))","v":"No Dollars and No Cents"},3,"No "]
["00:00:00",null,null,null,null,0,null,null,0,null,null,{"$f":"IFERROR(VLOOKUP(K39,$AD$7:AE41,2,FALSE),0)","v":0},null,null,0,null,null,null,null,null,null,"D",{"$f":"COUNTIF(E8:E105,\"D\")","v":0},{"$f":"COUNTIF(N7:N104,\"D\")","v":0},{"$f":"COUNTIF(H7:H104,\"D\")","v":0},null,null,null,null,null,null,null,"00:00:00","00:00:00",0,{"$f":"SpellNumber((AI39))","v":"No Dollars and No Cents"},3,"No "]
["00:00:00",null,null,null,null,0,null,null,0,null,null,{"$f":"IFERROR(VLOOKUP(K40,$AD$7:AE42,2,FALSE),0)","v":0},null,null,0,null,null,null,null,null,null,"E",{"$f":"COUNTIF(E8:E105,\"E\")","v":0},{"$f":"COUNTIF(N7:N104,\"E\")","v":0},{"$f":"COUNTIF(H7:H104,\"E\")","v":0},null,null,null,null,null,null,null,"00:00:00","00:00:00",0,{"$f":"SpellNumber((AI40))","v":"No Dollars and No Cents"},3,"No "]
["00:00:00",null,null,null,null,0,null,null,0,null,null,{"$f":"IFERROR(VLOOKUP(K41,$AD$7:AE43,2,FALSE),0)","v":0},null,null,0,null,null,null,null,null,null,"F",{"$f":"COUNTIF(E8:E105,\"F\")","v":0},{"$f":"COUNTIF(N7:N104,\"F\")","v":0},{"$f":"COUNTIF(H7:H104,\"F\")","v":0},null,null,null,null,null,null,null,"00:00:00","00:00:00",0,{"$f":"SpellNumber((AI41))","v":"No Dollars and No Cents"},3,"No "]
["00:00:00",null,null,null,null,0,null,null,0,null,null,{"$f":"IFERROR(VLOOKUP(K42,$AD$7:AE44,2,FALSE),0)","v":0},null,null,0,null,null,null,null,null,null,"G",{"$f":"COUNTIF(E8:E105,\"G\")","v":0},{"$f":"COUNTIF(N7:N104,\"G\")","v":0},{"$f":"COUNTIF(H7:H104,\"G\")","v":0},null,null,null,null,null,null,null,"00:00:00","00:00:00",0,{"$f":"SpellNumber((AI42))","v":"No Dollars and No Cents"},3,"No "]
["00:00:00",null,null,null,null,0,null,null,0,null,null,{"$f":"IFERROR(VLOOKUP(K43,$AD$7:AE45,2,FALSE),0)","v":0},null,null,0,null,null,null,null,null,null,"H",{"$f":"COUNTIF(E8:E105,\"H\")","v":0},{"$f":"COUNTIF(N7:N104,\"H\")","v":0},{"$f":"COUNTIF(H7:H104,\"H\")","v":0},null,null,null,null,null,null,null,"00:00:00","00:00:00",0,{"$f":"SpellNumber((AI43))","v":"No Dollars and No Cents"},3,"No "]
["00:00:00",null,null,null,null,0,null,null,0,null,null,{"$f":"IFERROR(VLOOKUP(K44,$AD$7:AE46,2,FALSE),0)","v":0},null,null,0,null,null,null,null,null,null,"I",{"$f":"COUNTIF(E8:E105,\"I\")","v":0},{"$f":"COUNTIF(N7:N104,\"I\")","v":0},{"$f":"COUNTIF(H7:H104,\"I\")","v":0},null,null,null,null,null,null,null,"00:00:00","00:00:00",0,{"$f":"SpellNumber((AI44))","v":"No Dollars and No Cents"},3,"No "]
["00:00:00",null,null,null,null,0,null,null,0,null,null,{"$f":"IFERROR(VLOOKUP(K45,$AD$7:AE47,2,FALSE),0)","v":0},null,null,0,null,null,null,null,null,null,"J",{"$f":"COUNTIF(E8:E105,\"J\")","v":0},{"$f":"COUNTIF(N7:N104,\"J\")","v":0},{"$f":"COUNTIF(H7:H104,\"J\")","v":0},null,null,null,null,null,null,null,"00:00:00","00:00:00",0,{"$f":"SpellNumber((AI45))","v":"No Dollars and No Cents"},3,"No "]
["00:00:00",null,null,null,null,0,null,null,0,null,null,{"$f":"IFERROR(VLOOKUP(K46,$AD$7:AE48,2,FALSE),0)","v":0},null,null,0,null,null,null,null,null,null,"K",{"$f":"COUNTIF(E8:E105,\"K\")","v":0},{"$f":"COUNTIF(N7:N104,\"K\")","v":0},{"$f":"COUNTIF(H7:H104,\"K\")","v":0},null,null,null,null,null,null,null,"00:00:00","00:00:00",0,{"$f":"SpellNumber((AI46))","v":"No Dollars and No Cents"},3,"No "]
["00:00:00",null,null,null,null,0,null,null,0,null,null,{"$f":"IFERROR(VLOOKUP(K47,$AD$7:AE49,2,FALSE),0)","v":0},null,null,0,null,null,null,null,null,null,"L",{"$f":"COUNTIF(E8:E105,\"l\")","v":0},{"$f":"COUNTIF(N7:N104,\"L\")","v":0},{"$f":"COUNTIF(H7:H104,\"L\")","v":0},null,null,null,null,null,null,null,"00:00:00","00:00:00",0,{"$f":"SpellNumber((AI47))","v":"No Dollars and No Cents"},3,"No "]
["00:00:00",null,null,null,null,0,null,null,0,null,null,{"$f":"IFERROR(VLOOKUP(K48,$AD$7:AE50,2,FALSE),0)","v":0},null,null,0,null,null,null,null,null,null,null,null,null,null,null,null,null,null,null,null,null,"00:00:00","00:00:00",0,{"$f":"SpellNumber((AI48))","v":"No Dollars and No Cents"},3,"No "]
["00:00:00",null,null,null,null,0,null,null,0,null,null,{"$f":"IFERROR(VLOOKUP(K49,$AD$7:AE51,2,FALSE),0)","v":0},null,null,0,null,null,null,null,null,null,null,"Beh & Setting ",null,null,null,"Beh & Antecedents",null,null,null,null,null,"00:00:00","00:00:00",0,{"$f":"SpellNumber((AI49))","v":"No Dollars and No Cents"},3,"No "]
["00:00:00",null,null,null,null,0,null,null,0,null,null,{"$f":"IFERROR(VLOOKUP(K50,$AD$7:AE52,2,FALSE),0)","v":0},null,null,0,null,null,null,null,null,null,null,"A","B","C",null,null,"A","B","C",null,null,"00:00:00","00:00:00",0,{"$f":"SpellNumber((AI50))","v":"No Dollars and No Cents"},3,"No "]
["00:00:00",null,null,null,null,0,null,null,0,null,null,{"$f":"IFERROR(VLOOKUP(K51,$AD$7:AE53,2,FALSE),0)","v":0},null,null,0,null,null,null,null,null,null,"A",{"$f":"COUNTIFS(E7:E104,\"A\",K7:K104,\"A\")","v":0},{"$f":"COUNTIFS(E7:E104,\"A\",K7:K104,\"B\")","v":0},{"$f":"COUNTIFS(E7:E104,\"A\",K7:K104,\"C\")","v":0},null,"A",{"$f":"COUNTIFS(H7:H104,\"a\",K7:K104,\"A\")","v":0},{"$f":"COUNTIFS(H7:H104,\"A\",K7:K104,\"B\")","v":0},{"$f":"COUNTIFS(H7:H104,\"A\",K7:K104,\"C\")","v":0},null,null,"00:00:00","00:00:00",0,{"$f":"SpellNumber((AI51))","v":"No Dollars and No Cents"},3,"No "]
["00:00:00",null,null,null,null,0,null,null,0,null,null,{"$f":"IFERROR(VLOOKUP(K52,$AD$7:AE54,2,FALSE),0)","v":0},null,null,0,null,null,null,null,null,null,"B",{"$f":"COUNTIFS(E7:E104,\"B\",K7:K104,\"A\")","v":0},{"$f":"COUNTIFS(E7:E104,\"B\",K7:K104,\"B\")","v":0},{"$f":"COUNTIFS(E7:E104,\"B\",K7:K104,\"C\")","v":0},null,"B",{"$f":"COUNTIFS(H7:H104,\"B\",K7:K104,\"A\")","v":0},{"$f":"COUNTIFS(H7:H104,\"B\",K7:K104,\"B\")","v":0},{"$f":"COUNTIFS(H7:H104,\"B\",K7:K104,\"C\")","v":0},null,null,"00:00:00","00:00:00",0,{"$f":"SpellNumber((AI52))","v":"No Dollars and No Cents"},3,"No "]
["00:00:00",null,null,null,null,0,null,null,0,null,null,{"$f":"IFERROR(VLOOKUP(K53,$AD$7:AE55,2,FALSE),0)","v":0},null,null,0,null,null,null,null,null,null,"C",{"$f":"COUNTIFS(K7:K104,\"C\",K7:K104,\"A\")","v":0},{"$f":"COUNTIFS(E7:E104,\"C\",K7:K104,\"B\")","v":0},{"$f":"COUNTIFS(E7:E104,\"C\",K7:K104,\"C\")","v":0},null,"C",{"$f":"COUNTIFS(H7:H104,\"C\",K7:K104,\"A\")","v":0},{"$f":"COUNTIFS(H7:H104,\"C\",K7:K104,\"B\")","v":0},{"$f":"COUNTIFS(H7:H104,\"C\",K7:K104,\"C\")","v":0},null,null,"00:00:00","00:00:00",0,{"$f":"SpellNumber((AI53))","v":"No Dollars and No Cents"},3,"No "]
["00:00:00",null,null,null,null,0,null,null,0,null,null,{"$f":"IFERROR(VLOOKUP(K54,$AD$7:AE56,2,FALSE),0)","v":0},null,null,0,null,null,null,null,null,null,"D",{"$f":"COUNTIFS(E7:E104,\"D\",K7:K104,\"A\")","v":0},{"$f":"COUNTIFS(E7:E104,\"D\",K7:K104,\"B\")","v":0},{"$f":"COUNTIFS(E7:E104,\"D\",K7:K104,\"C\")","v":0},null,"D",{"$f":"COUNTIFS(H7:H104,\"D\",K7:K104,\"A\")","v":0},{"$f":"COUNTIFS(H7:H104,\"D\",K7:K104,\"B\")","v":0},{"$f":"COUNTIFS(H7:H104,\"D\",K7:K104,\"C\")","v":0},null,null,"00:00:00","00:00:00",0,{"$f":"SpellNumber((AI54))","v":"No Dollars and No Cents"},3,"No "]
["00:00:00",null,null,null,null,0,null,null,0,null,null,{"$f":"IFERROR(VLOOKUP(K55,$AD$7:AE57,2,FALSE),0)","v":0},null,null,0,null,null,null,null,null,null,"E",{"$f":"COUNTIFS(E7:E104,\"E\",K7:K104,\"A\")","v":0},{"$f":"COUNTIFS(E7:E104,\"E\",K7:K104,\"B\")","v":0},{"$f":"COUNTIFS(E7:E104,\"E\",K7:K104,\"C\")","v":0},null,"E",{"$f":"COUNTIFS(H7:H104,\"E\",K7:K104,\"A\")","v":0},{"$f":"COUNTIFS(H7:H104,\"E\",K7:K104,\"B\")","v":0},{"$f":"COUNTIFS(H7:H104,\"E\",K7:K104,\"C\")","v":0},null,null,"00:00:00","00:00:00",0,{"$f":"SpellNumber((AI55))","v":"No Dollars and No Cents"},3,"No "]
["00:00:00",null,null,null,null,0,null,null,0,null,null,{"$f":"IFERROR(VLOOKUP(K56,$AD$7:AE58,2,FALSE),0)","v":0},null,null,0,null,null,null,null,null,null,"F",{"$f":"COUNTIFS(E7:E104,\"F\",K7:K104,\"A\")","v":0},{"$f":"COUNTIFS(E7:E104,\"F\",K7:K104,\"B\")","v":0},{"$f":"COUNTIFS(E7:E104,\"F\",K7:K104,\"C\")","v":0},null,"F",{"$f":"COUNTIFS(H7:H104,\"F\",K7:K104,\"A\")","v":0},{"$f":"COUNTIFS(H7:H104,\"F\",K7:K104,\"B\")","v":0},{"$f":"COUNTIFS(H7:H104,\"F\",K7:K104,\"C\")","v":0},null,null,"00:00:00","00:00:00",0,{"$f":"SpellNumber((AI56))","v":"No Dollars and No Cents"},3,"No "]
["00:00:00",null,null,null,null,0,null,null,0,null,null,{"$f":"IFERROR(VLOOKUP(K57,$AD$7:AE59,2,FALSE),0)","v":0},null,null,0,null,null,null,null,null,null,"G",{"$f":"COUNTIFS(E7:E104,\"G\",K7:K104,\"A\")","v":0},{"$f":"COUNTIFS(E7:E104,\"G\",K7:K104,\"B\")","v":0},{"$f":"COUNTIFS(E7:E104,\"G\",K7:K104,\"C\")","v":0},null,"G",{"$f":"COUNTIFS(H7:H104,\"G\",K7:K104,\"A\")","v":0},{"$f":"COUNTIFS(H7:H104,\"G\",K7:K104,\"B\")","v":0},{"$f":"COUNTIFS(H7:H104,\"G\",K7:K104,\"C\")","v":0},null,null,"00:00:00","00:00:00",0,{"$f":"SpellNumber((AI57))","v":"No Dollars and No Cents"},3,"No "]
["00:00:00",null,null,null,null,0,null,null,0,null,null,{"$f":"IFERROR(VLOOKUP(K58,$AD$7:AE60,2,FALSE),0)","v":0},null,null,0,null,null,null,null,null,null,"H",{"$f":"COUNTIFS(E7:E104,\"H\",K7:K104,\"A\")","v":0},{"$f":"COUNTIFS(E7:E104,\"H\",K7:K104,\"B\")","v":0},{"$f":"COUNTIFS(E7:E104,\"H\",K7:K104,\"C\")","v":0},null,"H",{"$f":"COUNTIFS(H7:H104,\"H\",K7:K104,\"A\")","v":0},{"$f":"COUNTIFS(H7:H104,\"H\",K7:K104,\"B\")","v":0},{"$f":"COUNTIFS(H7:H104,\"H\",K7:K104,\"C\")","v":0},null,null,"00:00:00","00:00:00",0,{"$f":"SpellNumber((AI58))","v":"No Dollars and No Cents"},3,"No "]
["00:00:00",null,null,null,null,0,null,null,0,null,null,{"$f":"IFERROR(VLOOKUP(K59,$AD$7:AE61,2,FALSE),0)","v":0},null,null,0,null,null,null,null,null,null,"I",{"$f":"COUNTIFS(E7:E104,\"I\",K7:K104,\"A\")","v":0},{"$f":"COUNTIFS(E7:E104,\"I\",K7:K104,\"B\")","v":0},{"$f":"COUNTIFS(E7:E104,\"I\",K7:K104,\"C\")","v":0},null,"I",{"$f":"COUNTIFS(H7:H104,\"I\",K7:K104,\"A\")","v":0},{"$f":"COUNTIFS(H7:H104,\"I\",K7:K104,\"B\")","v":0},{"$f":"COUNTIFS(H7:H104,\"I\",K7:K104,\"C\")","v":0},null,null,"00:00:00","00:00:00",0,{"$f":"SpellNumber((AI59))","v":"No Dollars and No Cents"},3,"No "]
["00:00:00",null,null,null,null,0,null,null,0,null,null,{"$f":"IFERROR(VLOOKUP(K60,$AD$7:AE62,2,FALSE),0)","v":0},null,null,0,null,null,null,null,null,null,"J",{"$f":"COUNTIFS(E7:E104,\"J\",K7:K104,\"A\")","v":0},{"$f":"COUNTIFS(E7:E104,\"J\",K7:K104,\"B\")","v":0},{"$f":"COUNTIFS(E7:E104,\"J\",K7:K104,\"C\")","v":0},null,"J",{"$f":"COUNTIFS(H7:H104,\"J\",K7:K104,\"A\")","v":0},{"$f":"COUNTIFS(H7:H104,\"J\",K7:K104,\"B\")","v":0},{"$f":"COUNTIFS(H7:H104,\"J\",K7:K104,\"C\")","v":0},null,null,"00:00:00","00:00:00",0,{"$f":"SpellNumber((AI60))","v":"No Dollars and No Cents"},3,"No "]
["00:00:00",null,null,null,null,0,null,null,0,null,null,{"$f":"IFERROR(VLOOKUP(K61,$AD$7:AE63,2,FALSE),0)","v":0},null,null,0,null,null,null,null,null,null,"K",{"$f":"COUNTIFS(E7:E104,\"K\",K7:K104,\"A\")","v":0},{"$f":"COUNTIFS(E7:E104,\"K\",K7:K104,\"B\")","v":0},{"$f":"COUNTIFS(E7:E104,\"K\",K7:K104,\"C\")","v":0},null,"K",{"$f":"COUNTIFS(H7:H104,\"K\",K7:K104,\"A\")","v":0},{"$f":"COUNTIFS(H7:H104,\"K\",K7:K104,\"B\")","v":0},{"$f":"COUNTIFS(H7:H104,\"K\",K7:K104,\"C\")","v":0},null,null,"00:00:00","00:00:00",0,{"$f":"SpellNumber((AI61))","v":"No Dollars and No Cents"},3,"No "]
["00:00:00",null,null,null,null,0,null,null,0,null,null,{"$f":"IFERROR(VLOOKUP(K62,$AD$7:AE64,2,FALSE),0)","v":0},null,null,0,null,null,null,null,null,null,"L",{"$f":"COUNTIFS(E7:E104,\"L\",K7:K104,\"A\")","v":0},{"$f":"COUNTIFS(E7:E104,\"L\",K7:K104,\"B\")","v":0},{"$f":"COUNTIFS(E7:E104,\"L\",K7:K104,\"C\")","v":0},null,"L",{"$f":"COUNTIFS(H7:H104,\"L\",K7:K104,\"A\")","v":0},{"$f":"COUNTIFS(H7:H104,\"L\",K7:K104,\"B\")","v":0},{"$f":"COUNTIFS(H7:H104,\"L\",K7:K104,\"C\")","v":0},null,null,"00:00:00","00:00:00",0,{"$f":"SpellNumber((AI62))","v":"No Dollars and No Cents"},3,"No "]
["00:00:00",null,null,null,null,0,null,null,0,null,null,{"$f":"IFERROR(VLOOKUP(K63,$AD$7:AE65,2,FALSE),0)","v":0},null,null,0,null,null,null,null,null,null,null,"Beh & Consequences",null,null,null,null,null,null,null,null,null,"00:00:00","00:00:00",0,{"$f":"SpellNumber((AI63))","v":"No Dollars and No Cents"},3,"No "]
["00:00:00",null,null,null,null,0,null,null,0,null,null,{"$f":"IFERROR(VLOOKUP(K64,$AD$7:AE66,2,FALSE),0)","v":0},null,null,0,null,null,null,null,null,null,null,"A","B","C",null,null,null,null,null,null,null,"00:00:00","00:00:00",0,{"$f":"SpellNumber((AI64))","v":"No Dollars and No Cents"},3,"No "]
["00:00:00",null,null,null,null,0,null,null,0,null,null,{"$f":"IFERROR(VLOOKUP(K65,$AD$7:AE67,2,FALSE),0)","v":0},null,null,0,null,null,null,null,null,null,"A",{"$f":"COUNTIFS(N7:N104,\"A\",K7:K104,\"A\")","v":0},{"$f":"COUNTIFS(N7:N104,\"A\",K7:K104,\"B\")","v":0},{"$f":"COUNTIFS(N7:N104,\"A\",K7:K104,\"C\")","v":0},null,null,null,null,null,null,null,"00:00:00","00:00:00",0,{"$f":"SpellNumber((AI65))","v":"No Dollars and No Cents"},3,"No "]
["00:00:00",null,null,null,null,0,null,null,0,null,null,{"$f":"IFERROR(VLOOKUP(K66,$AD$7:AE68,2,FALSE),0)","v":0},null,null,0,null,null,null,null,null,null,"B",{"$f":"COUNTIFS(N7:N104,\"B\",K7:K104,\"A\")","v":0},{"$f":"COUNTIFS(N7:N104,\"B\",K7:K104,\"B\")","v":0},{"$f":"COUNTIFS(N7:N104,\"B\",K7:K104,\"C\")","v":0},null,null,null,null,null,null,null,"00:00:00","00:00:00",0,{"$f":"SpellNumber((AI66))","v":"No Dollars and No Cents"},3,"No "]
["00:00:00",null,null,null,null,0,null,null,0,null,null,{"$f":"IFERROR(VLOOKUP(K67,$AD$7:AE69,2,FALSE),0)","v":0},null,null,0,null,null,null,null,null,null,"C",{"$f":"COUNTIFS(N7:N104,\"C\",K7:K104,\"A\")","v":0},{"$f":"COUNTIFS(N7:N104,\"C\",K7:K104,\"B\")","v":0},{"$f":"COUNTIFS(N7:N104,\"C\",K7:K104,\"C\")","v":0},null,null,null,null,null,null,null,"00:00:00","00:00:00",0,{"$f":"SpellNumber((AI67))","v":"No Dollars and No Cents"},3,"No "]
["00:00:00",null,null,null,null,0,null,null,0,null,null,{"$f":"IFERROR(VLOOKUP(K68,$AD$7:AE70,2,FALSE),0)","v":0},null,null,0,null,null,null,null,null,null,"D",{"$f":"COUNTIFS(N7:N104,\"D\",K7:K104,\"A\")","v":0},{"$f":"COUNTIFS(N7:N104,\"D\",K7:K104,\"B\")","v":0},{"$f":"COUNTIFS(N7:N104,\"D\",K7:K104,\"C\")","v":0},null,null,null,null,null,null,null,"00:00:00","00:00:00",0,{"$f":"SpellNumber((AI68))","v":"No Dollars and No Cents"},3,"No "]
["00:00:00",null,null,null,null,0,null,null,0,null,null,{"$f":"IFERROR(VLOOKUP(K69,$AD$7:AE71,2,FALSE),0)","v":0},null,null,0,null,null,null,null,null,null,"E",{"$f":"COUNTIFS(N7:N104,\"E\",K7:K104,\"A\")","v":0},{"$f":"COUNTIFS(N7:N104,\"E\",K7:K104,\"B\")","v":0},{"$f":"COUNTIFS(N7:N104,\"E\",K7:K104,\"C\")","v":0},null,null,null,null,null,null,null,"00:00:00","00:00:00",0,{"$f":"SpellNumber((AI69))","v":"No Dollars and No Cents"},3,"No "]
["00:00:00",null,null,null,null,0,null,null,0,null,null,{"$f":"IFERROR(VLOOKUP(K70,$AD$7:AE72,2,FALSE),0)","v":0},null,null,0,null,null,null,null,null,null,"F",{"$f":"COUNTIFS(N7:N104,\"F\",K7:K104,\"A\")","v":0},{"$f":"COUNTIFS(N7:N104,\"F\",K7:K104,\"B\")","v":0},{"$f":"COUNTIFS(N7:N104,\"F\",K7:K104,\"C\")","v":0},null,null,null,null,null,null,null,"00:00:00","00:00:00",0,{"$f":"SpellNumber((AI70))","v":"No Dollars and No Cents"},3,"No "]
["00:00:00",null,null,null,null,0,null,null,0,null,null,{"$f":"IFERROR(VLOOKUP(K71,$AD$7:AE73,2,FALSE),0)","v":0},null,null,0,null,null,null,null,null,null,"G",{"$f":"COUNTIFS(N7:N104,\"G\",K7:K104,\"A\")","v":0},{"$f":"COUNTIFS(N7:N104,\"G\",K7:K104,\"B\")","v":0},{"$f":"COUNTIFS(N7:N104,\"G\",K7:K104,\"C\")","v":0},null,null,null,null,null,null,null,"00:00:00","00:00:00",0,{"$f":"SpellNumber((AI71))","v":"No Dollars and No Cents"},3,"No "]
[{"$f":"C72-B72","v":"00:00:00"},null,null,null,null,0,null,null,{"$f":"IFERROR(VLOOKUP(H72,$Z$7:$AA$18,2,FALSE),0)","v":0},null,null,{"$f":"IFERROR(VLOOKUP(K72,$AD$7:AE74,2,FALSE),0)","v":0},null,null,{"$f":"IFERROR(VLOOKUP(N72,$V$22:$W$33,2,FALSE),0)","v":0},null,null,null,null,null,null,"H",{"$f":"COUNTIFS(N7:N104,\"H\",K7:K104,\"A\")","v":0},{"$f":"COUNTIFS(N7:N104,\"H\",K7:K104,\"B\")","v":0},{"$f":"COUNTIFS(N7:N104,\"H\",K7:K104,\"C\")","v":0},null,null,null,null,null,null,null,{"$f":"B72","v":"00:00:00"},{"$f":"TEXT(AG72,\"hh:mm:ss\")","v":"00:00:00"},{"$f":"AG72*24","v":0},{"$f":"SpellNumber((AI72))","v":"No Dollars and No Cents"},{"$f":"FIND(\" Dollar\",AJ72)","v":3},{"$f":"LEFT(AJ72,AK72)","v":"No "}]
["00:00:00",null,null,null,null,{"$f":"IFERROR(VLOOKUP(E73,$V$7:$W$18,2,FALSE),0)","v":0},null,null,0,null,null,{"$f":"IFERROR(VLOOKUP(K73,$AD$7:AE75,2,FALSE),0)","v":0},null,null,0,null,null,null,null,null,null,"I",{"$f":"COUNTIFS(N7:N104,\"I\",K7:K104,\"A\")","v":0},{"$f":"COUNTIFS(N7:N104,\"I\",K7:K104,\"B\")","v":0},{"$f":"COUNTIFS(N7:N104,\"I\",K7:K104,\"C\")","v":0},null,null,null,null,null,null,null,"00:00:00","00:00:00",0,{"$f":"SpellNumber((AI73))","v":"No Dollars and No Cents"},3,"No "]
["00:00:00",null,null,null,null,0,null,null,0,null,null,{"$f":"IFERROR(VLOOKUP(K74,$AD$7:AE76,2,FALSE),0)","v":0},null,null,0,null,null,null,null,null,null,"J",{"$f":"COUNTIFS(N7:N104,\"J\",K7:K104,\"A\")","v":0},{"$f":"COUNTIFS(N7:N104,\"J\",K7:K104,\"B\")","v":0},{"$f":"COUNTIFS(N7:N104,\"J\",K7:K104,\"C\")","v":0},null,null,null,null,null,null,null,"00:00:00","00:00:00",0,{"$f":"SpellNumber((AI74))","v":"No Dollars and No Cents"},3,"No "]
["00:00:00",null,null,null,null,0,null,null,0,null,null,{"$f":"IFERROR(VLOOKUP(K75,$AD$7:AE77,2,FALSE),0)","v":0},null,null,0,null,null,null,null,null,null,"K",{"$f":"COUNTIFS(N7:N104,\"K\",K7:K104,\"A\")","v":0},{"$f":"COUNTIFS(N7:N104,\"K\",K7:K104,\"B\")","v":0},{"$f":"COUNTIFS(N7:N104,\"K\",K7:K104,\"C\")","v":0},null,null,null,null,null,null,null,"00:00:00","00:00:00",0,{"$f":"SpellNumber((AI75))","v":"No Dollars and No Cents"},3,"No "]
["00:00:00",null,null,null,null,0,null,null,0,null,null,{"$f":"IFERROR(VLOOKUP(K76,$AD$7:AE78,2,FALSE),0)","v":0},null,null,0,null,null,null,null,null,null,"L",{"$f":"COUNTIFS(N7:N104,\"L\",K7:K104,\"A\")","v":0},{"$f":"COUNTIFS(N7:N104,\"L\",K7:K104,\"B\")","v":0},{"$f":"COUNTIFS(N7:N104,\"L\",K7:K104,\"C\")","v":0},null,null,null,null,null,null,null,"00:00:00","00:00:00",0,{"$f":"SpellNumber((AI76))","v":"No Dollars and No Cents"},3,"No "]
["00:00:00",null,null,null,null,0,null,null,0,null,null,{"$f":"IFERROR(VLOOKUP(K77,$AD$7:AE79,2,FALSE),0)","v":0},null,null,0,null,null,null,null,null,null,null,null,null,null,null,null,null,null,null,null,null,"00:00:00","00:00:00",0,{"$f":"SpellNumber((AI77))","v":"No Dollars and No Cents"},3,"No "]
["00:00:00",null,null,null,null,0,null,null,0,null,null,{"$f":"IFERROR(VLOOKUP(K78,$AD$7:AE80,2,FALSE),0)","v":0},null,null,0,null,null,null,null,null,null,null,null,null,null,null,null,null,null,null,null,null,"00:00:00","00:00:00",0,{"$f":"SpellNumber((AI78))","v":"No Dollars and No Cents"},3,"No "]
["00:00:00",null,null,null,null,0,null,null,0,null,null,{"$f":"IFERROR(VLOOKUP(K79,$AD$7:AE81,2,FALSE),0)","v":0},null,null,0,null,null,null,null,null,null,null,null,null,null,null,null,null,null,null,null,null,"00:00:00","00:00:00",0,{"$f":"SpellNumber((AI79))","v":"No Dollars and No Cents"},3,"No "]
["00:00:00",null,null,null,null,0,null,null,0,null,null,{"$f":"IFERROR(VLOOKUP(K80,$AD$7:AE82,2,FALSE),0)","v":0},null,null,0,null,null,null,null,null,null,null,null,null,null,null,null,null,null,null,null,null,"00:00:00","00:00:00",0,{"$f":"SpellNumber((AI80))","v":"No Dollars and No Cents"},3,"No "]
["00:00:00",null,null,null,null,0,null,null,0,null,null,{"$f":"IFERROR(VLOOKUP(K81,$AD$7:AE83,2,FALSE),0)","v":0},null,null,0,null,null,null,null,null,null,null,null,null,null,null,null,null,null,null,null,null,"00:00:00","00:00:00",0,{"$f":"SpellNumber((AI81))","v":"No Dollars and No Cents"},3,"No "]
["00:00:00",null,null,null,null,0,null,null,0,null,null,{"$f":"IFERROR(VLOOKUP(K82,$AD$7:AE84,2,FALSE),0)","v":0},null,null,0,null,null,null,null,null,null,null,null,null,null,null,null,null,null,null,null,null,"00:00:00","00:00:00",0,{"$f":"SpellNumber((AI82))","v":"No Dollars and No Cents"},3,"No "]
["00:00:00",null,null,null,null,0,null,null,0,null,null,{"$f":"IFERROR(VLOOKUP(K83,$AD$7:AE85,2,FALSE),0)","v":0},null,null,0,null,null,null,null,null,null,null,null,null,null,null,null,null,null,null,null,null,"00:00:00","00:00:00",0,{"$f":"SpellNumber((AI83))","v":"No Dollars and No Cents"},3,"No "]
["00:00:00",null,null,null,null,0,null,null,0,null,null,{"$f":"IFERROR(VLOOKUP(K84,$AD$7:AE86,2,FALSE),0)","v":0},null,null,0,null,null,null,null,null,null,null,null,null,null,null,null,null,null,null,null,null,"00:00:00","00:00:00",0,{"$f":"SpellNumber((AI84))","v":"No Dollars and No Cents"},3,"No "]
["00:00:00",null,null,null,null,0,null,null,0,null,null,{"$f":"IFERROR(VLOOKUP(K85,$AD$7:AE87,2,FALSE),0)","v":0},null,null,0,null,null,null,null,null,null,null,null,null,null,null,null,null,null,null,null,null,"00:00:00","00:00:00",0,{"$f":"SpellNumber((AI85))","v":"No Dollars and No Cents"},3,"No "]
["00:00:00",null,null,null,null,0,null,null,0,null,null,{"$f":"IFERROR(VLOOKUP(K86,$AD$7:AE88,2,FALSE),0)","v":0},null,null,0,null,null,null,null,null,null,null,null,null,null,null,null,null,null,null,null,null,"00:00:00","00:00:00",0,{"$f":"SpellNumber((AI86))","v":"No Dollars and No Cents"},3,"No "]
["00:00:00",null,null,null,null,0,null,null,0,null,null,{"$f":"IFERROR(VLOOKUP(K87,$AD$7:AE89,2,FALSE),0)","v":0},null,null,0,null,null,null,null,null,null,null,null,null,null,null,null,null,null,null,null,null,"00:00:00","00:00:00",0,{"$f":"SpellNumber((AI87))","v":"No Dollars and No Cents"},3,"No "]
["00:00:00",null,null,null,null,0,null,null,0,null,null,{"$f":"IFERROR(VLOOKUP(K88,$AD$7:AE90,2,FALSE),0)","v":0},null,null,0,null,null,null,null,null,null,null,null,null,null,null,null,null,null,null,null,null,"00:00:00","00:00:00",0,{"$f":"SpellNumber((AI88))","v":"No Dollars and No Cents"},3,"No "]
["00:00:00",null,null,null,null,0,null,null,0,null,null,{"$f":"IFERROR(VLOOKUP(K89,$AD$7:AE91,2,FALSE),0)","v":0},null,null,0,null,null,null,null,null,null,null,null,null,null,null,null,null,null,null,null,null,"00:00:00","00:00:00",0,{"$f":"SpellNumber((AI89))","v":"No Dollars and No Cents"},3,"No "]
["00:00:00",null,null,null,null,0,null,null,0,null,null,{"$f":"IFERROR(VLOOKUP(K90,$AD$7:AE92,2,FALSE),0)","v":0},null,null,0,null,null,null,null,null,null,null,null,null,null,null,null,null,null,null,null,null,"00:00:00","00:00:00",0,{"$f":"SpellNumber((AI90))","v":"No Dollars and No Cents"},3,"No "]
["00:00:00",null,null,null,null,0,null,null,0,null,null,{"$f":"IFERROR(VLOOKUP(K91,$AD$7:AE93,2,FALSE),0)","v":0},null,null,0,null,null,null,"Total Mins",{"$f":"SUM(A7:A104)","v":"00:00:00"},null,null,null,null,null,null,null,null,null,null,null,null,"00:00:00","00:00:00",0,{"$f":"SpellNumber((AI91))","v":"No Dollars and No Cents"},3,"No "]
["00:00:00",null,null,null,null,0,null,null,0,null,null,{"$f":"IFERROR(VLOOKUP(K92,$AD$7:AE94,2,FALSE),0)","v":0},null,null,0,null,null,null,"Settings:","A",{"$f":"COUNTIF(E4:E104,\"A\")","v":0},"Antec.","A",{"$f":"COUNTIF(H4:H104,\"A\")","v":0},"Beh","A",{"$f":"COUNTIF(L4:L104,\"A\")","v":0},"Conse.","A",{"$f":"COUNTIF(O4:O104,\"A\")","v":0},null,null,"00:00:00","00:00:00",0,{"$f":"SpellNumber((AI92))","v":"No Dollars and No Cents"},3,"No "]
["00:00:00",null,null,null,null,0,null,null,0,null,null,{"$f":"IFERROR(VLOOKUP(K93,$AD$7:AE95,2,FALSE),0)","v":0},null,null,0,null,null,null,null,"B",{"$f":"COUNTIF(E5:E105,\"B\")","v":0},null,"B",{"$f":"COUNTIF(H5:H105,\"B\")","v":0},null,"B",{"$f":"COUNTIF(L5:L105,\"B\")","v":0},null,"B",{"$f":"COUNTIF(O5:O105,\"B\")","v":0},null,null,"00:00:00","00:00:00",0,{"$f":"SpellNumber((AI93))","v":"No Dollars and No Cents"},3,"No "]
["00:00:00",null,null,null,null,0,null,null,0,null,null,{"$f":"IFERROR(VLOOKUP(K94,$AD$7:AE96,2,FALSE),0)","v":0},null,null,0,null,null,null,null,"C",{"$f":"COUNTIF(E6:E106,\"C\")","v":0},null,"C",{"$f":"COUNTIF(H6:H106,\"C\")","v":0},null,"C",{"$f":"COUNTIF(L6:L106,\"C\")","v":0},null,"C",{"$f":"COUNTIF(O6:O106,\"C\")","v":0},null,null,"00:00:00","00:00:00",0,{"$f":"SpellNumber((AI94))","v":"No Dollars and No Cents"},3,"No "]
["00:00:00",null,null,null,null,0,null,null,0,null,null,{"$f":"IFERROR(VLOOKUP(K95,$AD$7:AE97,2,FALSE),0)","v":0},null,null,0,null,null,null,null,"D",{"$f":"COUNTIF(E7:E107,\"D\")","v":0},null,"D",{"$f":"COUNTIF(H7:H107,\"D\")","v":0},null,null,null,null,"D",{"$f":"COUNTIF(O7:O107,\"D\")","v":0},null,null,"00:00:00","00:00:00",0,{"$f":"SpellNumber((AI95))","v":"No Dollars and No Cents"},3,"No "]
["00:00:00",null,null,null,null,0,null,null,0,null,null,{"$f":"IFERROR(VLOOKUP(K96,$AD$7:AE98,2,FALSE),0)","v":0},null,null,0,null,null,null,null,"E",{"$f":"COUNTIF(E8:E108,\"E\")","v":0},null,"E",{"$f":"COUNTIF(H8:H108,\"E\")","v":0},null,null,null,null,"E",{"$f":"COUNTIF(O8:O108,\"E\")","v":0},null,null,"00:00:00","00:00:00",0,{"$f":"SpellNumber((AI96))","v":"No Dollars and No Cents"},3,"No "]
["00:00:00",null,null,null,null,0,null,null,0,null,null,{"$f":"IFERROR(VLOOKUP(K97,$AD$7:AE99,2,FALSE),0)","v":0},null,null,0,null,null,null,null,"F",{"$f":"COUNTIF(E9:E109,\"F\")","v":0},null,"F",{"$f":"COUNTIF(H9:H109,\"F\")","v":0},null,null,null,null,"F",{"$f":"COUNTIF(O9:O109,\"F\")","v":0},null,null,"00:00:00","00:00:00",0,{"$f":"SpellNumber((AI97))","v":"No Dollars and No Cents"},3,"No "]
["00:00:00",null,null,null,null,0,null,null,0,null,null,{"$f":"IFERROR(VLOOKUP(K98,$AD$7:AE100,2,FALSE),0)","v":0},null,null,0,null,null,null,null,"G",{"$f":"COUNTIF(E10:E110,\"G\")","v":0},null,"G",{"$f":"COUNTIF(H10:H110,\"G\")","v":0},null,null,null,null,"G",{"$f":"COUNTIF(O10:O110,\"G\")","v":0},null,null,"00:00:00","00:00:00",0,{"$f":"SpellNumber((AI98))","v":"No Dollars and No Cents"},3,"No "]
["00:00:00",null,null,null,null,0,null,null,0,null,null,{"$f":"IFERROR(VLOOKUP(K99,$AD$7:AE101,2,FALSE),0)","v":0},null,null,0,null,null,null,null,"H",{"$f":"COUNTIF(E11:E111,\"H\")","v":0},null,"H",{"$f":"COUNTIF(H11:H111,\"H\")","v":0},null,null,null,null,"H",{"$f":"COUNTIF(O11:O111,\"H\")","v":0},null,null,"00:00:00","00:00:00",0,{"$f":"SpellNumber((AI99))","v":"No Dollars and No Cents"},3,"No "]
["00:00:00",null,null,null,null,0,null,null,0,null,null,{"$f":"IFERROR(VLOOKUP(K100,$AD$7:AE102,2,FALSE),0)","v":0},null,null,0,null,null,null,null,"I",{"$f":"COUNTIF(E12:E112,\"I\")","v":0},null,"I",{"$f":"COUNTIF(H12:H112,\"I\")","v":0},null,null,null,null,"I",{"$f":"COUNTIF(O12:O112,\"I\")","v":0},null,null,"00:00:00","00:00:00",0,{"$f":"SpellNumber((AI100))","v":"No Dollars and No Cents"},3,"No "]
["00:00:00",null,null,null,null,0,null,null,0,null,null,{"$f":"IFERROR(VLOOKUP(K101,$AD$7:AE103,2,FALSE),0)","v":0},null,null,0,null,null,null,null,"J",{"$f":"COUNTIF(E13:E113,\"J\")","v":0},null,"J",{"$f":"COUNTIF(H13:H113,\"J\")","v":0},null,null,null,null,"J",{"$f":"COUNTIF(O13:O113,\"J\")","v":0},null,null,"00:00:00","00:00:00",0,{"$f":"SpellNumber((AI101))","v":"No Dollars and No Cents"},3,"No "]
["00:00:00",null,null,null,null,0,null,null,0,null,null,{"$f":"IFERROR(VLOOKUP(K102,$AD$7:AE104,2,FALSE),0)","v":0},null,null,0,null,null,null,null,"K",{"$f":"COUNTIF(E14:E114,\"K\")","v":0},null,"K",{"$f":"COUNTIF(H14:H114,\"K\")","v":0},null,null,null,null,"K",{"$f":"COUNTIF(O14:O114,\"K\")","v":0},null,null,"00:00:00","00:00:00",0,{"$f":"SpellNumber((AI102))","v":"No Dollars and No Cents"},3,"No "]
["00:00:00",null,null,null,null,0,null,null,0,null,null,{"$f":"IFERROR(VLOOKUP(K103,$AD$7:AE105,2,FALSE),0)","v":0},null,null,0,null,null,null,null,"L",{"$f":"COUNTIF(E15:E115,\"L\")","v":0},null,"L",{"$f":"COUNTIF(H15:H115,\"L\")","v":0},null,null,null,null,"L",{"$f":"COUNTIF(O15:O115,\"L\")","v":0},null,null,"00:00:00","00:00:00",0,{"$f":"SpellNumber((AI103))","v":"No Dollars and No Cents"},3,"No "]
["00:00:00",null,null,null,null,0,null,null,0,null,null,{"$f":"IFERROR(VLOOKUP(K104,$AD$7:AE106,2,FALSE),0)","v":0},null,null,0,null,null,null,null,null,null,null,null,null,null,null,null,null,null,null,null,null,"00:00:00","00:00:00",0,{"$f":"SpellNumber((AI104))","v":"No Dollars and No Cents"},3,"No "]

{"sheet":"Data 15","index":23,"n_rows":104,"n_cols":38,"rows_kept":104,"cut":false,"hidden":false,"merged":[[0,7,3,14]]}
["ATTENDANCE",null,null,null,null,null,null,"Data Collection"]
["If tardy, arrival time",null,null,null,null,null,null,null,null,null,null,null,null,null,null,null,null,null,null,null,null,null,"Date",{"$f":"Calendar!C7","v":{"$error":"#N/A"}},{"$f":"TEXT(X2,\"ddd\")","v":{"$error":"#N/A"}}]
["If left early, time",null,null,null,null,null,null,null,null,null,null,null,null,null,null,null,null,null,null,null,null,null,"Frq. Of bx",{"$f":"AA22","v":0}]
[]
[]
["Mins.","Start Time","End Time",null,null,null,null,null,null,null,null,null,null,null,null,null,null,null,null,null,null,null,"Setting",null,null,"Ant",null,null,null,"Beh",null,null,"Raw Data","Time in text","Decimal"]
[{"$f":"C7-B7","v":"00:00:00"},null,null,null,null,{"$f":"IFERROR(VLOOKUP(E7,$V$7:$W$18,2,FALSE),0)","v":0},null,null,{"$f":"IFERROR(VLOOKUP(H7,$Z$7:$AA$18,2,FALSE),0)","v":0},null,null,{"$f":"IFERROR(VLOOKUP(K7,$AD$7:AE9,2,FALSE),0)","v":0},null,null,{"$f":"IFERROR(VLOOKUP(N7,$V$22:$W$33,2,FALSE),0)","v":0},null,null,null,null,null,null,"A",{"$f":"Criteria!C4","v":"Transition"},null,null,"A",{"$f":"Criteria!E4","v":"Transition"},null,null,"A",{"$f":"Criteria!G4","v":0},null,{"$f":"B7","v":"00:00:00"},{"$f":"TEXT(AG7,\"hh:mm:ss\")","v":"00:00:00"},{"$f":"AG7*24","v":0},{"$f":"SpellNumber((AI7))","v":"No Dollars and No Cents"},{"$f":"FIND(\" Dollar\",AJ7)","v":3},{"$f":"LEFT(AJ7,AK7)","v":"No "}]
[{"$f":"C8-B8","v":"00:00:00"},null,null,null,null,{"$f":"IFERROR(VLOOKUP(E8,$V$7:$W$18,2,FALSE),0)","v":0},null,null,{"$f":"IFERROR(VLOOKUP(H8,$Z$7:$AA$18,2,FALSE),0)","v":0},null,null,{"$f":"IFERROR(VLOOKUP(K8,$AD$7:AE10,2,FALSE),0)","v":0},null,null,{"$f":"IFERROR(VLOOKUP(N8,$V$22:$W$33,2,FALSE),0)","v":0},null,null,null,null,null,null,"B",{"$f":"Criteria!C5","v":"Morning Routine"},null,null,"B",{"$f":"Criteria!E5","v":"Denied access ('No')"},null,null,"B",{"$f":"Criteria!G5","v":0},null,{"$f":"B8","v":"00:00:00"},{"$f":"TEXT(AG8,\"hh:mm:ss\")","v":"00:00:00"},{"$f":"AG8*24","v":0},{"$f":"SpellNumber((AI8))","v":"No Dollars and No Cents"},{"$f":"FIND(\" Dollar\",AJ8)","v":3},{"$f":"LEFT(AJ8,AK8)","v":"No "}]
["00:00:00",null,null,null,null,{"$f":"IFERROR(VLOOKUP(E9,$V$7:$W$18,2,FALSE),0)","v":0},null,null,0,null,null,{"$f":"IFERROR(VLOOKUP(K9,$AD$7:AE11,2,FALSE),0)","v":0},null,null,0,null,null,null,null,null,null,"C",{"$f":"Criteria!C6","v":"Group Work"},null,null,"C",{"$f":"Criteria!E6","v":"Instruction/ Directions"},null,null,"C",{"$f":"Criteria!G6","v":0},null,"00:00:00","00:00:00",0,{"$f":"SpellNumber((AI9))","v":"No Dollars and No Cents"},3,"No "]
["00:00:00",null,null,null,null,0,null,null,0,null,null,{"$f":"IFERROR(VLOOKUP(K10,$AD$7:AE12,2,FALSE),0)","v":0},null,null,0,null,null,null,null,null,null,"D",{"$f":"Criteria!C7","v":"Ind. Seat/Work Time"},null,null,"D",{"$f":"Criteria!E7","v":"New Task"},null,null,null,null,null,"00:00:00","00:00:00",0,{"$f":"SpellNumber((AI10))","v":"No Dollars and No Cents"},3,"No "]
["00:00:00",null,null,null,null,0,null,null,0,null,null,{"$f":"IFERROR(VLOOKUP(K11,$AD$7:AE13,2,FALSE),0)","v":0},null,null,0,null,null,null,null,null,null,"E",{"$f":"Criteria!C8","v":"Language Arts"},null,null,"E",{"$f":"Criteria!E8","v":"Tcher attn to other"},null,null,null,null,null,"00:00:00","00:00:00",0,{"$f":"SpellNumber((AI11))","v":"No Dollars and No Cents"},3,"No "]
["00:00:00",null,null,null,null,0,null,null,0,null,null,{"$f":"IFERROR(VLOOKUP(K12,$AD$7:AE14,2,FALSE),0)","v":0},null,null,0,null,null,null,null,null,null,"F",{"$f":"Criteria!C9","v":"Mathematics"},null,null,"F",{"$f":"Criteria!E9","v":"Choice given"},null,null,null,null,null,"00:00:00","00:00:00",0,{"$f":"SpellNumber((AI12))","v":"No Dollars and No Cents"},3,"No "]
["00:00:00",null,null,null,null,0,null,null,0,null,null,{"$f":"IFERROR(VLOOKUP(K13,$AD$7:AE15,2,FALSE),0)","v":0},null,null,0,null,null,null,null,null,null,"G",{"$f":"Criteria!C10","v":"Physical Education"},null,null,"G",{"$f":"Criteria!E10","v":"Redirection"},null,null,null,null,null,"00:00:00","00:00:00",0,{"$f":"SpellNumber((AI13))","v":"No Dollars and No Cents"},3,"No "]
["00:00:00",null,null,null,null,0,null,null,0,null,null,{"$f":"IFERROR(VLOOKUP(K14,$AD$7:AE16,2,FALSE),0)","v":0},null,null,0,null,null,null,null,null,null,"H",{"$f":"Criteria!C11","v":"Music/Art"},null,null,"H",{"$f":"Criteria!E11","v":"Routine Task"},null,null,null,null,null,"00:00:00","00:00:00",0,{"$f":"SpellNumber((AI14))","v":"No Dollars and No Cents"},3,"No "]
["00:00:00",null,null,null,null,0,null,null,0,null,null,{"$f":"IFERROR(VLOOKUP(K15,$AD$7:AE17,2,FALSE),0)","v":0},null,null,0,null,null,null,null,null,null,"I",{"$f":"Criteria!C12","v":"Speech"},null,null,"I",{"$f":"Criteria!E12","v":"Waiting"},null,null,null,null,null,"00:00:00","00:00:00",0,{"$f":"SpellNumber((AI15))","v":"No Dollars and No Cents"},3,"No "]
["00:00:00",null,null,null,null,0,null,null,0,null,null,{"$f":"IFERROR(VLOOKUP(K16,$AD$7:AE18,2,FALSE),0)","v":0},null,null,0,null,null,null,null,null,null,"J",{"$f":"Criteria!C13","v":"OT/PT"},null,null,"J",{"$f":"Criteria!E13","v":"Unknown"},null,null,null,null,null,"00:00:00","00:00:00",0,{"$f":"SpellNumber((AI16))","v":"No Dollars and No Cents"},3,"No "]
["00:00:00",null,null,null,null,0,null,null,0,null,null,{"$f":"IFERROR(VLOOKUP(K17,$AD$7:AE19,2,FALSE),0)","v":0},null,null,0,null,null,null,null,null,null,"K",{"$f":"Criteria!C14","v":"Center"},null,null,"K",{"$f":"Criteria!E14","v":"Ignored"},null,null,null,null,null,"00:00:00","00:00:00",0,{"$f":"SpellNumber((AI17))","v":"No Dollars and No Cents"},3,"No "]
["00:00:00",null,null,null,null,0,null,null,0,null,null,{"$f":"IFERROR(VLOOKUP(K18,$AD$7:AE20,2,FALSE),0)","v":0},null,null,0,null,null,null,null,null,null,"L",{"$f":"Criteria!C15","v":"Other"},null,null,"L",{"$f":"Criteria!E15","v":"Other"},null,null,null,null,null,"00:00:00","00:00:00",0,{"$f":"SpellNumber((AI18))","v":"No Dollars and No Cents"},3,"No "]
["00:00:00",null,null,null,null,0,null,null,0,null,null,{"$f":"IFERROR(VLOOKUP(K19,$AD$7:AE21,2,FALSE),0)","v":0},null,null,0,null,null,null,null,null,null,null,null,null,null,null,null,null,null,null,null,null,"00:00:00","00:00:00",0,{"$f":"SpellNumber((AI19))","v":"No Dollars and No Cents"},3,"No "]
["00:00:00",null,null,null,null,0,null,null,0,null,null,{"$f":"IFERROR(VLOOKUP(K20,$AD$7:AE22,2,FALSE),0)","v":0},null,null,0,null,null,null,null,null,null,null,null,null,null,null,null,null,null,null,null,null,"00:00:00","00:00:00",0,{"$f":"SpellNumber((AI20))","v":"No Dollars and No Cents"},3,"No "]
["00:00:00",null,null,null,null,0,null,null,0,null,null,{"$f":"IFERROR(VLOOKUP(K21,$AD$7:AE23,2,FALSE),0)","v":0},null,null,0,null,null,null,null,null,null,null,"Con",null,"Bx Frequency Per Day",null,null,null,null,null,null,null,"00:00:00","00:00:00",0,{"$f":"SpellNumber((AI21))","v":"No Dollars and No Cents"},3,"No "]
["00:00:00",null,null,null,null,0,null,null,0,null,null,{"$f":"IFERROR(VLOOKUP(K22,$AD$7:AE24,2,FALSE),0)","v":0},null,null,0,null,null,null,null,null,null,"A",{"$f":"Criteria!I4","v":"Choice Given"},"A",{"$f":"COUNTIF(K7:K104,\"A\")","v":0},null,{"$f":"SUM(Y22:Y24)","v":0},null,"Bin Dec","Frequency of Time",null,null,"00:00:00","00:00:00",0,{"$f":"SpellNumber((AI22))","v":"No Dollars and No Cents"},3,"No "]
["00:00:00",null,null,null,null,0,null,null,0,null,null,{"$f":"IFERROR(VLOOKUP(K23,$AD$7:AE25,2,FALSE),0)","v":0},null,null,0,null,null,null,null,null,null,"B",{"$f":"Criteria!I5","v":"Ignored"},"B",{"$f":"COUNTIF(K7:K104,\"B\")","v":0},null,null,null,"Seven",{"$f":"COUNTIF(AL7:AL104,\"*Seven*\")","v":0},null,null,"00:00:00","00:00:00",0,{"$f":"SpellNumber((AI23))","v":"No Dollars and No Cents"},3,"No "]
["00:00:00",null,null,null,null,0,null,null,0,null,null,{"$f":"IFERROR(VLOOKUP(K24,$AD$7:AE26,2,FALSE),0)","v":0},null,null,0,null,null,null,null,null,null,"C",{"$f":"Criteria!I6","v":"Redirection"},"C",{"$f":"COUNTIF(K7:K104,\"C\")","v":0},null,null,null,"Eight",{"$f":"COUNTIF(AL7:AL104,\"*Eight*\")","v":0},null,null,"00:00:00","00:00:00",0,{"$f":"SpellNumber((AI24))","v":"No Dollars and No Cents"},3,"No "]
["00:00:00",null,null,null,null,0,null,null,0,null,null,{"$f":"IFERROR(VLOOKUP(K25,$AD$7:AE27,2,FALSE),0)","v":0},null,null,0,null,null,null,null,null,null,"D",{"$f":"Criteria!I7","v":"Kept the demand"},null,"Bx Druation Per Day",null,null,null,"Nine",{"$f":"COUNTIF(AL7:AL104,\"*Nine*\")","v":0},null,null,"00:00:00","00:00:00",0,{"$f":"SpellNumber((AI25))","v":"No Dollars and No Cents"},3,"No "]
["00:00:00",null,null,null,null,0,null,null,0,null,null,{"$f":"IFERROR(VLOOKUP(K26,$AD$7:AE28,2,FALSE),0)","v":0},null,null,0,null,null,null,null,null,null,"E",{"$f":"Criteria!I8","v":"Changed activity"},"A",{"$f":"SUMIF(K7:K104,\"A\",A7:A104)","v":"00:00:00"},null,null,null,"Ten",{"$f":"COUNTIF(AL7:AL12,\"*Ten*\")","v":0},null,null,"00:00:00","00:00:00",0,{"$f":"SpellNumber((AI26))","v":"No Dollars and No Cents"},3,"No "]
["00:00:00",null,null,null,null,0,null,null,0,null,null,{"$f":"IFERROR(VLOOKUP(K27,$AD$7:AE29,2,FALSE),0)","v":0},null,null,0,null,null,null,null,null,null,"F",{"$f":"Criteria!I9","v":"Verbal reprimand"},"B",{"$f":"SUMIF(K7:K104,\"B\",A7:A104)","v":"00:00:00"},null,null,null,"Eleven",{"$f":"COUNTIF(AL7:AL104,\"*Eleven*\")","v":0},null,null,"00:00:00","00:00:00",0,{"$f":"SpellNumber((AI27))","v":"No Dollars and No Cents"},3,"No "]
["00:00:00",null,null,null,null,0,null,null,0,null,null,{"$f":"IFERROR(VLOOKUP(K28,$AD$7:AE30,2,FALSE),0)","v":0},null,null,0,null,null,null,null,null,null,"G",{"$f":"Criteria!I10","v":"Told to wait"},"C",{"$f":"SUMIF(K7:K104,\"C\",A7:A104)","v":"00:00:00"},null,null,null,"Twelve",{"$f":"COUNTIF(AL7:AL104,\"*Twelve*\")","v":0},null,null,"00:00:00","00:00:00",0,{"$f":"SpellNumber((AI28))","v":"No Dollars and No Cents"},3,"No "]
["00:00:00",null,null,null,null,0,null,null,0,null,null,{"$f":"IFERROR(VLOOKUP(K29,$AD$7:AE31,2,FALSE),0)","v":0},null,null,0,null,null,null,null,null,null,"H",{"$f":"Criteria!I11","v":"Physical Prompt"},null,null,null,null,null,"One",{"$f":"COUNTIF(AL7:AL104,\"*One*\")","v":0},null,null,"00:00:00","00:00:00",0,{"$f":"SpellNumber((AI29))","v":"No Dollars and No Cents"},3,"No "]
["00:00:00",null,null,null,null,0,null,null,0,null,null,{"$f":"IFERROR(VLOOKUP(K30,$AD$7:AE32,2,FALSE),0)","v":0},null,null,0,null,null,null,null,null,null,"I",{"$f":"Criteria!I12","v":"Verbal prompt"},null,null,null,null,null,"Two",{"$f":"COUNTIF(AL7:AL104,\"*Two*\")","v":0},null,null,"00:00:00","00:00:00",0,{"$f":"SpellNumber((AI30))","v":"No Dollars and No Cents"},3,"No "]
["00:00:00",null,null,null,null,0,null,null,0,null,null,{"$f":"IFERROR(VLOOKUP(K31,$AD$7:AE33,2,FALSE),0)","v":0},null,null,0,null,null,null,null,null,null,"J",{"$f":"Criteria!I13","v":"Told to wait"},null,null,null,null,null,"Three",{"$f":"COUNTIF(AL7:AL104,\"*Three*\")","v":0},null,null,"00:00:00","00:00:00",0,{"$f":"SpellNumber((AI31))","v":"No Dollars and No Cents"},3,"No "]
["00:00:00",null,null,null,null,0,null,null,0,null,null,{"$f":"IFERROR(VLOOKUP(K32,$AD$7:AE34,2,FALSE),0)","v":0},null,null,0,null,null,null,null,null,null,"K",{"$f":"Criteria!I14","v":"Unknown"},null,null,null,null,null,"Four",{"$f":"COUNTIF(AL7:AL104,\"*Four*\")","v":0},null,null,"00:00:00","00:00:00",0,{"$f":"SpellNumber((AI32))","v":"No Dollars and No Cents"},3,"No "]
["00:00:00",null,null,null,null,0,null,null,0,null,null,{"$f":"IFERROR(VLOOKUP(K33,$AD$7:AE35,2,FALSE),0)","v":0},null,null,0,null,null,null,null,null,null,"L",{"$f":"Criteria!I15","v":"Other"},null,null,null,null,null,null,null,null,null,"00:00:00","00:00:00",0,{"$f":"SpellNumber((AI33))","v":"No Dollars and No Cents"},3,"No "]
["00:00:00",null,null,null,null,0,null,null,0,null,null,{"$f":"IFERROR(VLOOKUP(K34,$AD$7:AE36,2,FALSE),0)","v":0},null,null,0,null,null,null,null,null,null,null,null,null,null,null,null,null,null,null,null,null,"00:00:00","00:00:00",0,{"$f":"SpellNumber((AI34))","v":"No Dollars and No Cents"},3,"No "]
["00:00:00",null,null,null,null,0,null,null,0,null,null,{"$f":"IFERROR(VLOOKUP(K35,$AD$7:AE37,2,FALSE),0)","v":0},null,null,0,null,null,null,null,null,null,null,"Context Frequency","Consequence","Antedencents",null,null,null,null,null,null,null,"00:00:00","00:00:00",0,{"$f":"SpellNumber((AI35))","v":"No Dollars and No Cents"},3,"No "]
["00:00:00",null,null,null,null,0,null,null,0,null,null,{"$f":"IFERROR(VLOOKUP(K36,$AD$7:AE38,2,FALSE),0)","v":0},null,null,0,null,null,null,null,null,null,"A",{"$f":"COUNTIF(E7:E104,\"A\")","v":0},{"$f":"COUNTIF(N7:N104,\"A\")","v":0},{"$f":"COUNTIF(H7:H104,\"A\")","v":0},null,null,null,null,null,null,null,"00:00:00","00:00:00",0,{"$f":"SpellNumber((AI36))","v":"No Dollars and No Cents"},3,"No "]
["00:00:00",null,null,null,null,0,null,null,0,null,null,{"$f":"IFERROR(VLOOKUP(K37,$AD$7:AE39,2,FALSE),0)","v":0},null,null,0,null,null,null,null,null,null,"B",{"$f":"COUNTIF(E8:E105,\"B\")","v":0},{"$f":"COUNTIF(N7:N104,\"B\")","v":0},{"$f":"COUNTIF(H7:H104,\"B\")","v":0},null,null,null,null,null,null,null,"00:00:00","00:00:00",0,{"$f":"SpellNumber((AI37))","v":"No Dollars and No Cents"},3,"No "]
["00:00:00",null,null,null,null,0,null,null,0,null,null,{"$f":"IFERROR(VLOOKUP(K38,$AD$7:AE40,2,FALSE),0)","v":0},null,null,0,null,null,null,null,null,null,"C",{"$f":"COUNTIF(E8:E105,\"C\")","v":0},{"$f":"COUNTIF(N7:N104,\"C\")","v":0},{"$f":"COUNTIF(H7:H104,\"C\")","v":0},null,null,null,null,null,null,null,"00:00:00","00:00:00",0,{"$f":"SpellNumber((AI38))","v":"No Dollars and No Cents"},3,"No "]
["00:00:00",null,null,null,null,0,null,null,0,null,null,{"$f":"IFERROR(VLOOKUP(K39,$AD$7:AE41,2,FALSE),0)","v":0},null,null,0,null,null,null,null,null,null,"D",{"$f":"COUNTIF(E8:E105,\"D\")","v":0},{"$f":"COUNTIF(N7:N104,\"D\")","v":0},{"$f":"COUNTIF(H7:H104,\"D\")","v":0},null,null,null,null,null,null,null,"00:00:00","00:00:00",0,{"$f":"SpellNumber((AI39))","v":"No Dollars and No Cents"},3,"No "]
["00:00:00",null,null,null,null,0,null,null,0,null,null,{"$f":"IFERROR(VLOOKUP(K40,$AD$7:AE42,2,FALSE),0)","v":0},null,null,0,null,null,null,null,null,null,"E",{"$f":"COUNTIF(E8:E105,\"E\")","v":0},{"$f":"COUNTIF(N7:N104,\"E\")","v":0},{"$f":"COUNTIF(H7:H104,\"E\")","v":0},null,null,null,null,null,null,null,"00:00:00","00:00:00",0,{"$f":"SpellNumber((AI40))","v":"No Dollars and No Cents"},3,"No "]
["00:00:00",null,null,null,null,0,null,null,0,null,null,{"$f":"IFERROR(VLOOKUP(K41,$AD$7:AE43,2,FALSE),0)","v":0},null,null,0,null,null,null,null,null,null,"F",{"$f":"COUNTIF(E8:E105,\"F\")","v":0},{"$f":"COUNTIF(N7:N104,\"F\")","v":0},{"$f":"COUNTIF(H7:H104,\"F\")","v":0},null,null,null,null,null,null,null,"00:00:00","00:00:00",0,{"$f":"SpellNumber((AI41))","v":"No Dollars and No Cents"},3,"No "]
["00:00:00",null,null,null,null,0,null,null,0,null,null,{"$f":"IFERROR(VLOOKUP(K42,$AD$7:AE44,2,FALSE),0)","v":0},null,null,0,null,null,null,null,null,null,"G",{"$f":"COUNTIF(E8:E105,\"G\")","v":0},{"$f":"COUNTIF(N7:N104,\"G\")","v":0},{"$f":"COUNTIF(H7:H104,\"G\")","v":0},null,null,null,null,null,null,null,"00:00:00","00:00:00",0,{"$f":"SpellNumber((AI42))","v":"No Dollars and No Cents"},3,"No "]
["00:00:00",null,null,null,null,0,null,null,0,null,null,{"$f":"IFERROR(VLOOKUP(K43,$AD$7:AE45,2,FALSE),0)","v":0},null,null,0,null,null,null,null,null,null,"H",{"$f":"COUNTIF(E8:E105,\"H\")","v":0},{"$f":"COUNTIF(N7:N104,\"H\")","v":0},{"$f":"COUNTIF(H7:H104,\"H\")","v":0},null,null,null,null,null,null,null,"00:00:00","00:00:00",0,{"$f":"SpellNumber((AI43))","v":"No Dollars and No Cents"},3,"No "]
["00:00:00",null,null,null,null,0,null,null,0,null,null,{"$f":"IFERROR(VLOOKUP(K44,$AD$7:AE46,2,FALSE),0)","v":0},null,null,0,null,null,null,null,null,null,"I",{"$f":"COUNTIF(E8:E105,\"I\")","v":0},{"$f":"COUNTIF(N7:N104,\"I\")","v":0},{"$f":"COUNTIF(H7:H104,\"I\")","v":0},null,null,null,null,null,null,null,"00:00:00","00:00:00",0,{"$f":"SpellNumber((AI44))","v":"No Dollars and No Cents"},3,"No "]
["00:00:00",null,null,null,null,0,null,null,0,null,null,{"$f":"IFERROR(VLOOKUP(K45,$AD$7:AE47,2,FALSE),0)","v":0},null,null,0,null,null,null,null,null,null,"J",{"$f":"COUNTIF(E8:E105,\"J\")","v":0},{"$f":"COUNTIF(N7:N104,\"J\")","v":0},{"$f":"COUNTIF(H7:H104,\"J\")","v":0},null,null,null,null,null,null,null,"00:00:00","00:00:00",0,{"$f":"SpellNumber((AI45))","v":"No Dollars and No Cents"},3,"No "]
["00:00:00",null,null,null,null,0,null,null,0,null,null,{"$f":"IFERROR(VLOOKUP(K46,$AD$7:AE48,2,FALSE),0)","v":0},null,null,0,null,null,null,null,null,null,"K",{"$f":"COUNTIF(E8:E105,\"K\")","v":0},{"$f":"COUNTIF(N7:N104,\"K\")","v":0},{"$f":"COUNTIF(H7:H104,\"K\")","v":0},null,null,null,null,null,null,null,"00:00:00","00:00:00",0,{"$f":"SpellNumber((AI46))","v":"No Dollars and No Cents"},3,"No "]
["00:00:00",null,null,null,null,0,null,null,0,null,null,{"$f":"IFERROR(VLOOKUP(K47,$AD$7:AE49,2,FALSE),0)","v":0},null,null,0,null,null,null,null,null,null,"L",{"$f":"COUNTIF(E8:E105,\"l\")","v":0},{"$f":"COUNTIF(N7:N104,\"L\")","v":0},{"$f":"COUNTIF(H7:H104,\"L\")","v":0},null,null,null,null,null,null,null,"00:00:00","00:00:00",0,{"$f":"SpellNumber((AI47))","v":"No Dollars and No Cents"},3,"No "]
["00:00:00",null,null,null,null,0,null,null,0,null,null,{"$f":"IFERROR(VLOOKUP(K48,$AD$7:AE50,2,FALSE),0)","v":0},null,null,0,null,null,null,null,null,null,null,null,null,null,null,null,null,null,null,null,null,"00:00:00","00:00:00",0,{"$f":"SpellNumber((AI48))","v":"No Dollars and No Cents"},3,"No "]
["00:00:00",null,null,null,null,0,null,null,0,null,null,{"$f":"IFERROR(VLOOKUP(K49,$AD$7:AE51,2,FALSE),0)","v":0},null,null,0,null,null,null,null,null,null,null,"Beh & Setting ",null,null,null,"Beh & Antecedents",null,null,null,null,null,"00:00:00","00:00:00",0,{"$f":"SpellNumber((AI49))","v":"No Dollars and No Cents"},3,"No "]
["00:00:00",null,null,null,null,0,null,null,0,null,null,{"$f":"IFERROR(VLOOKUP(K50,$AD$7:AE52,2,FALSE),0)","v":0},null,null,0,null,null,null,null,null,null,null,"A","B","C",null,null,"A","B","C",null,null,"00:00:00","00:00:00",0,{"$f":"SpellNumber((AI50))","v":"No Dollars and No Cents"},3,"No "]
["00:00:00",null,null,null,null,0,null,null,0,null,null,{"$f":"IFERROR(VLOOKUP(K51,$AD$7:AE53,2,FALSE),0)","v":0},null,null,0,null,null,null,null,null,null,"A",{"$f":"COUNTIFS(E7:E104,\"A\",K7:K104,\"A\")","v":0},{"$f":"COUNTIFS(E7:E104,\"A\",K7:K104,\"B\")","v":0},{"$f":"COUNTIFS(E7:E104,\"A\",K7:K104,\"C\")","v":0},null,"A",{"$f":"COUNTIFS(H7:H104,\"a\",K7:K104,\"A\")","v":0},{"$f":"COUNTIFS(H7:H104,\"A\",K7:K104,\"B\")","v":0},{"$f":"COUNTIFS(H7:H104,\"A\",K7:K104,\"C\")","v":0},null,null,"00:00:00","00:00:00",0,{"$f":"SpellNumber((AI51))","v":"No Dollars and No Cents"},3,"No "]
["00:00:00",null,null,null,null,0,null,null,0,null,null,{"$f":"IFERROR(VLOOKUP(K52,$AD$7:AE54,2,FALSE),0)","v":0},null,null,0,null,null,null,null,null,null,"B",{"$f":"COUNTIFS(E7:E104,\"B\",K7:K104,\"A\")","v":0},{"$f":"COUNTIFS(E7:E104,\"B\",K7:K104,\"B\")","v":0},{"$f":"COUNTIFS(E7:E104,\"B\",K7:K104,\"C\")","v":0},null,"B",{"$f":"COUNTIFS(H7:H104,\"B\",K7:K104,\"A\")","v":0},{"$f":"COUNTIFS(H7:H104,\"B\",K7:K104,\"B\")","v":0},{"$f":"COUNTIFS(H7:H104,\"B\",K7:K104,\"C\")","v":0},null,null,"00:00:00","00:00:00",0,{"$f":"SpellNumber((AI52))","v":"No Dollars and No Cents"},3,"No "]
["00:00:00",null,null,null,null,0,null,null,0,null,null,{"$f":"IFERROR(VLOOKUP(K53,$AD$7:AE55,2,FALSE),0)","v":0},null,null,0,null,null,null,null,null,null,"C",{"$f":"COUNTIFS(K7:K104,\"C\",K7:K104,\"A\")","v":0},{"$f":"COUNTIFS(E7:E104,\"C\",K7:K104,\"B\")","v":0},{"$f":"COUNTIFS(E7:E104,\"C\",K7:K104,\"C\")","v":0},null,"C",{"$f":"COUNTIFS(H7:H104,\"C\",K7:K104,\"A\")","v":0},{"$f":"COUNTIFS(H7:H104,\"C\",K7:K104,\"B\")","v":0},{"$f":"COUNTIFS(H7:H104,\"C\",K7:K104,\"C\")","v":0},null,null,"00:00:00","00:00:00",0,{"$f":"SpellNumber((AI53))","v":"No Dollars and No Cents"},3,"No "]
["00:00:00",null,null,null,null,0,null,null,0,null,null,{"$f":"IFERROR(VLOOKUP(K54,$AD$7:AE56,2,FALSE),0)","v":0},null,null,0,null,null,null,null,null,null,"D",{"$f":"COUNTIFS(E7:E104,\"D\",K7:K104,\"A\")","v":0},{"$f":"COUNTIFS(E7:E104,\"D\",K7:K104,\"B\")","v":0},{"$f":"COUNTIFS(E7:E104,\"D\",K7:K104,\"C\")","v":0},null,"D",{"$f":"COUNTIFS(H7:H104,\"D\",K7:K104,\"A\")","v":0},{"$f":"COUNTIFS(H7:H104,\"D\",K7:K104,\"B\")","v":0},{"$f":"COUNTIFS(H7:H104,\"D\",K7:K104,\"C\")","v":0},null,null,"00:00:00","00:00:00",0,{"$f":"SpellNumber((AI54))","v":"No Dollars and No Cents"},3,"No "]
["00:00:00",null,null,null,null,0,null,null,0,null,null,{"$f":"IFERROR(VLOOKUP(K55,$AD$7:AE57,2,FALSE),0)","v":0},null,null,0,null,null,null,null,null,null,"E",{"$f":"COUNTIFS(E7:E104,\"E\",K7:K104,\"A\")","v":0},{"$f":"COUNTIFS(E7:E104,\"E\",K7:K104,\"B\")","v":0},{"$f":"COUNTIFS(E7:E104,\"E\",K7:K104,\"C\")","v":0},null,"E",{"$f":"COUNTIFS(H7:H104,\"E\",K7:K104,\"A\")","v":0},{"$f":"COUNTIFS(H7:H104,\"E\",K7:K104,\"B\")","v":0},{"$f":"COUNTIFS(H7:H104,\"E\",K7:K104,\"C\")","v":0},null,null,"00:00:00","00:00:00",0,{"$f":"SpellNumber((AI55))","v":"No Dollars and No Cents"},3,"No "]
["00:00:00",null,null,null,null,0,null,null,0,null,null,{"$f":"IFERROR(VLOOKUP(K56,$AD$7:AE58,2,FALSE),0)","v":0},null,null,0,null,null,null,null,null,null,"F",{"$f":"COUNTIFS(E7:E104,\"F\",K7:K104,\"A\")","v":0},{"$f":"COUNTIFS(E7:E104,\"F\",K7:K104,\"B\")","v":0},{"$f":"COUNTIFS(E7:E104,\"F\",K7:K104,\"C\")","v":0},null,"F",{"$f":"COUNTIFS(H7:H104,\"F\",K7:K104,\"A\")","v":0},{"$f":"COUNTIFS(H7:H104,\"F\",K7:K104,\"B\")","v":0},{"$f":"COUNTIFS(H7:H104,\"F\",K7:K104,\"C\")","v":0},null,null,"00:00:00","00:00:00",0,{"$f":"SpellNumber((AI56))","v":"No Dollars and No Cents"},3,"No "]
["00:00:00",null,null,null,null,0,null,null,0,null,null,{"$f":"IFERROR(VLOOKUP(K57,$AD$7:AE59,2,FALSE),0)","v":0},null,null,0,null,null,null,null,null,null,"G",{"$f":"COUNTIFS(E7:E104,\"G\",K7:K104,\"A\")","v":0},{"$f":"COUNTIFS(E7:E104,\"G\",K7:K104,\"B\")","v":0},{"$f":"COUNTIFS(E7:E104,\"G\",K7:K104,\"C\")","v":0},null,"G",{"$f":"COUNTIFS(H7:H104,\"G\",K7:K104,\"A\")","v":0},{"$f":"COUNTIFS(H7:H104,\"G\",K7:K104,\"B\")","v":0},{"$f":"COUNTIFS(H7:H104,\"G\",K7:K104,\"C\")","v":0},null,null,"00:00:00","00:00:00",0,{"$f":"SpellNumber((AI57))","v":"No Dollars and No Cents"},3,"No "]
["00:00:00",null,null,null,null,0,null,null,0,null,null,{"$f":"IFERROR(VLOOKUP(K58,$AD$7:AE60,2,FALSE),0)","v":0},null,null,0,null,null,null,null,null,null,"H",{"$f":"COUNTIFS(E7:E104,\"H\",K7:K104,\"A\")","v":0},{"$f":"COUNTIFS(E7:E104,\"H\",K7:K104,\"B\")","v":0},{"$f":"COUNTIFS(E7:E104,\"H\",K7:K104,\"C\")","v":0},null,"H",{"$f":"COUNTIFS(H7:H104,\"H\",K7:K104,\"A\")","v":0},{"$f":"COUNTIFS(H7:H104,\"H\",K7:K104,\"B\")","v":0},{"$f":"COUNTIFS(H7:H104,\"H\",K7:K104,\"C\")","v":0},null,null,"00:00:00","00:00:00",0,{"$f":"SpellNumber((AI58))","v":"No Dollars and No Cents"},3,"No "]
["00:00:00",null,null,null,null,0,null,null,0,null,null,{"$f":"IFERROR(VLOOKUP(K59,$AD$7:AE61,2,FALSE),0)","v":0},null,null,0,null,null,null,null,null,null,"I",{"$f":"COUNTIFS(E7:E104,\"I\",K7:K104,\"A\")","v":0},{"$f":"COUNTIFS(E7:E104,\"I\",K7:K104,\"B\")","v":0},{"$f":"COUNTIFS(E7:E104,\"I\",K7:K104,\"C\")","v":0},null,"I",{"$f":"COUNTIFS(H7:H104,\"I\",K7:K104,\"A\")","v":0},{"$f":"COUNTIFS(H7:H104,\"I\",K7:K104,\"B\")","v":0},{"$f":"COUNTIFS(H7:H104,\"I\",K7:K104,\"C\")","v":0},null,null,"00:00:00","00:00:00",0,{"$f":"SpellNumber((AI59))","v":"No Dollars and No Cents"},3,"No "]
["00:00:00",null,null,null,null,0,null,null,0,null,null,{"$f":"IFERROR(VLOOKUP(K60,$AD$7:AE62,2,FALSE),0)","v":0},null,null,0,null,null,null,null,null,null,"J",{"$f":"COUNTIFS(E7:E104,\"J\",K7:K104,\"A\")","v":0},{"$f":"COUNTIFS(E7:E104,\"J\",K7:K104,\"B\")","v":0},{"$f":"COUNTIFS(E7:E104,\"J\",K7:K104,\"C\")","v":0},null,"J",{"$f":"COUNTIFS(H7:H104,\"J\",K7:K104,\"A\")","v":0},{"$f":"COUNTIFS(H7:H104,\"J\",K7:K104,\"B\")","v":0},{"$f":"COUNTIFS(H7:H104,\"J\",K7:K104,\"C\")","v":0},null,null,"00:00:00","00:00:00",0,{"$f":"SpellNumber((AI60))","v":"No Dollars and No Cents"},3,"No "]
["00:00:00",null,null,null,null,0,null,null,0,null,null,{"$f":"IFERROR(VLOOKUP(K61,$AD$7:AE63,2,FALSE),0)","v":0},null,null,0,null,null,null,null,null,null,"K",{"$f":"COUNTIFS(E7:E104,\"K\",K7:K104,\"A\")","v":0},{"$f":"COUNTIFS(E7:E104,\"K\",K7:K104,\"B\")","v":0},{"$f":"COUNTIFS(E7:E104,\"K\",K7:K104,\"C\")","v":0},null,"K",{"$f":"COUNTIFS(H7:H104,\"K\",K7:K104,\"A\")","v":0},{"$f":"COUNTIFS(H7:H104,\"K\",K7:K104,\"B\")","v":0},{"$f":"COUNTIFS(H7:H104,\"K\",K7:K104,\"C\")","v":0},null,null,"00:00:00","00:00:00",0,{"$f":"SpellNumber((AI61))","v":"No Dollars and No Cents"},3,"No "]
["00:00:00",null,null,null,null,0,null,null,0,null,null,{"$f":"IFERROR(VLOOKUP(K62,$AD$7:AE64,2,FALSE),0)","v":0},null,null,0,null,null,null,null,null,null,"L",{"$f":"COUNTIFS(E7:E104,\"L\",K7:K104,\"A\")","v":0},{"$f":"COUNTIFS(E7:E104,\"L\",K7:K104,\"B\")","v":0},{"$f":"COUNTIFS(E7:E104,\"L\",K7:K104,\"C\")","v":0},null,"L",{"$f":"COUNTIFS(H7:H104,\"L\",K7:K104,\"A\")","v":0},{"$f":"COUNTIFS(H7:H104,\"L\",K7:K104,\"B\")","v":0},{"$f":"COUNTIFS(H7:H104,\"L\",K7:K104,\"C\")","v":0},null,null,"00:00:00","00:00:00",0,{"$f":"SpellNumber((AI62))","v":"No Dollars and No Cents"},3,"No "]
["00:00:00",null,null,null,null,0,null,null,0,null,null,{"$f":"IFERROR(VLOOKUP(K63,$AD$7:AE65,2,FALSE),0)","v":0},null,null,0,null,null,null,null,null,null,null,"Beh & Consequences",null,null,null,null,null,null,null,null,null,"00:00:00","00:00:00",0,{"$f":"SpellNumber((AI63))","v":"No Dollars and No Cents"},3,"No "]
["00:00:00",null,null,null,null,0,null,null,0,null,null,{"$f":"IFERROR(VLOOKUP(K64,$AD$7:AE66,2,FALSE),0)","v":0},null,null,0,null,null,null,null,null,null,null,"A","B","C",null,null,null,null,null,null,null,"00:00:00","00:00:00",0,{"$f":"SpellNumber((AI64))","v":"No Dollars and No Cents"},3,"No "]
["00:00:00",null,null,null,null,0,null,null,0,null,null,{"$f":"IFERROR(VLOOKUP(K65,$AD$7:AE67,2,FALSE),0)","v":0},null,null,0,null,null,null,null,null,null,"A",{"$f":"COUNTIFS(N7:N104,\"A\",K7:K104,\"A\")","v":0},{"$f":"COUNTIFS(N7:N104,\"A\",K7:K104,\"B\")","v":0},{"$f":"COUNTIFS(N7:N104,\"A\",K7:K104,\"C\")","v":0},null,null,null,null,null,null,null,"00:00:00","00:00:00",0,{"$f":"SpellNumber((AI65))","v":"No Dollars and No Cents"},3,"No "]
["00:00:00",null,null,null,null,0,null,null,0,null,null,{"$f":"IFERROR(VLOOKUP(K66,$AD$7:AE68,2,FALSE),0)","v":0},null,null,0,null,null,null,null,null,null,"B",{"$f":"COUNTIFS(N7:N104,\"B\",K7:K104,\"A\")","v":0},{"$f":"COUNTIFS(N7:N104,\"B\",K7:K104,\"B\")","v":0},{"$f":"COUNTIFS(N7:N104,\"B\",K7:K104,\"C\")","v":0},null,null,null,null,null,null,null,"00:00:00","00:00:00",0,{"$f":"SpellNumber((AI66))","v":"No Dollars and No Cents"},3,"No "]
["00:00:00",null,null,null,null,0,null,null,0,null,null,{"$f":"IFERROR(VLOOKUP(K67,$AD$7:AE69,2,FALSE),0)","v":0},null,null,0,null,null,null,null,null,null,"C",{"$f":"COUNTIFS(N7:N104,\"C\",K7:K104,\"A\")","v":0},{"$f":"COUNTIFS(N7:N104,\"C\",K7:K104,\"B\")","v":0},{"$f":"COUNTIFS(N7:N104,\"C\",K7:K104,\"C\")","v":0},null,null,null,null,null,null,null,"00:00:00","00:00:00",0,{"$f":"SpellNumber((AI67))","v":"No Dollars and No Cents"},3,"No "]
["00:00:00",null,null,null,null,0,null,null,0,null,null,{"$f":"IFERROR(VLOOKUP(K68,$AD$7:AE70,2,FALSE),0)","v":0},null,null,0,null,null,null,null,null,null,"D",{"$f":"COUNTIFS(N7:N104,\"D\",K7:K104,\"A\")","v":0},{"$f":"COUNTIFS(N7:N104,\"D\",K7:K104,\"B\")","v":0},{"$f":"COUNTIFS(N7:N104,\"D\",K7:K104,\"C\")","v":0},null,null,null,null,null,null,null,"00:00:00","00:00:00",0,{"$f":"SpellNumber((AI68))","v":"No Dollars and No Cents"},3,"No "]
["00:00:00",null,null,null,null,0,null,null,0,null,null,{"$f":"IFERROR(VLOOKUP(K69,$AD$7:AE71,2,FALSE),0)","v":0},null,null,0,null,null,null,null,null,null,"E",{"$f":"COUNTIFS(N7:N104,\"E\",K7:K104,\"A\")","v":0},{"$f":"COUNTIFS(N7:N104,\"E\",K7:K104,\"B\")","v":0},{"$f":"COUNTIFS(N7:N104,\"E\",K7:K104,\"C\")","v":0},null,null,null,null,null,null,null,"00:00:00","00:00:00",0,{"$f":"SpellNumber((AI69))","v":"No Dollars and No Cents"},3,"No "]
["00:00:00",null,null,null,null,0,null,null,0,null,null,{"$f":"IFERROR(VLOOKUP(K70,$AD$7:AE72,2,FALSE),0)","v":0},null,null,0,null,null,null,null,null,null,"F",{"$f":"COUNTIFS(N7:N104,\"F\",K7:K104,\"A\")","v":0},{"$f":"COUNTIFS(N7:N104,\"F\",K7:K104,\"B\")","v":0},{"$f":"COUNTIFS(N7:N104,\"F\",K7:K104,\"C\")","v":0},null,null,null,null,null,null,null,"00:00:00","00:00:00",0,{"$f":"SpellNumber((AI70))","v":"No Dollars and No Cents"},3,"No "]
["00:00:00",null,null,null,null,0,null,null,0,null,null,{"$f":"IFERROR(VLOOKUP(K71,$AD$7:AE73,2,FALSE),0)","v":0},null,null,0,null,null,null,null,null,null,"G",{"$f":"COUNTIFS(N7:N104,\"G\",K7:K104,\"A\")","v":0},{"$f":"COUNTIFS(N7:N104,\"G\",K7:K104,\"B\")","v":0},{"$f":"COUNTIFS(N7:N104,\"G\",K7:K104,\"C\")","v":0},null,null,null,null,null,null,null,"00:00:00","00:00:00",0,{"$f":"SpellNumber((AI71))","v":"No Dollars and No Cents"},3,"No "]
[{"$f":"C72-B72","v":"00:00:00"},null,null,null,null,0,null,null,{"$f":"IFERROR(VLOOKUP(H72,$Z$7:$AA$18,2,FALSE),0)","v":0},null,null,{"$f":"IFERROR(VLOOKUP(K72,$AD$7:AE74,2,FALSE),0)","v":0},null,null,{"$f":"IFERROR(VLOOKUP(N72,$V$22:$W$33,2,FALSE),0)","v":0},null,null,null,null,null,null,"H",{"$f":"COUNTIFS(N7:N104,\"H\",K7:K104,\"A\")","v":0},{"$f":"COUNTIFS(N7:N104,\"H\",K7:K104,\"B\")","v":0},{"$f":"COUNTIFS(N7:N104,\"H\",K7:K104,\"C\")","v":0},null,null,null,null,null,null,null,{"$f":"B72","v":"00:00:00"},{"$f":"TEXT(AG72,\"hh:mm:ss\")","v":"00:00:00"},{"$f":"AG72*24","v":0},{"$f":"SpellNumber((AI72))","v":"No Dollars and No Cents"},{"$f":"FIND(\" Dollar\",AJ72)","v":3},{"$f":"LEFT(AJ72,AK72)","v":"No "}]
["00:00:00",null,null,null,null,{"$f":"IFERROR(VLOOKUP(E73,$V$7:$W$18,2,FALSE),0)","v":0},null,null,0,null,null,{"$f":"IFERROR(VLOOKUP(K73,$AD$7:AE75,2,FALSE),0)","v":0},null,null,0,null,null,null,null,null,null,"I",{"$f":"COUNTIFS(N7:N104,\"I\",K7:K104,\"A\")","v":0},{"$f":"COUNTIFS(N7:N104,\"I\",K7:K104,\"B\")","v":0},{"$f":"COUNTIFS(N7:N104,\"I\",K7:K104,\"C\")","v":0},null,null,null,null,null,null,null,"00:00:00","00:00:00",0,{"$f":"SpellNumber((AI73))","v":"No Dollars and No Cents"},3,"No "]
["00:00:00",null,null,null,null,0,null,null,0,null,null,{"$f":"IFERROR(VLOOKUP(K74,$AD$7:AE76,2,FALSE),0)","v":0},null,null,0,null,null,null,null,null,null,"J",{"$f":"COUNTIFS(N7:N104,\"J\",K7:K104,\"A\")","v":0},{"$f":"COUNTIFS(N7:N104,\"J\",K7:K104,\"B\")","v":0},{"$f":"COUNTIFS(N7:N104,\"J\",K7:K104,\"C\")","v":0},null,null,null,null,null,null,null,"00:00:00","00:00:00",0,{"$f":"SpellNumber((AI74))","v":"No Dollars and No Cents"},3,"No "]
["00:00:00",null,null,null,null,0,null,null,0,null,null,{"$f":"IFERROR(VLOOKUP(K75,$AD$7:AE77,2,FALSE),0)","v":0},null,null,0,null,null,null,null,null,null,"K",{"$f":"COUNTIFS(N7:N104,\"K\",K7:K104,\"A\")","v":0},{"$f":"COUNTIFS(N7:N104,\"K\",K7:K104,\"B\")","v":0},{"$f":"COUNTIFS(N7:N104,\"K\",K7:K104,\"C\")","v":0},null,null,null,null,null,null,null,"00:00:00","00:00:00",0,{"$f":"SpellNumber((AI75))","v":"No Dollars and No Cents"},3,"No "]
["00:00:00",null,null,null,null,0,null,null,0,null,null,{"$f":"IFERROR(VLOOKUP(K76,$AD$7:AE78,2,FALSE),0)","v":0},null,null,0,null,null,null,null,null,null,"L",{"$f":"COUNTIFS(N7:N104,\"L\",K7:K104,\"A\")","v":0},{"$f":"COUNTIFS(N7:N104,\"L\",K7:K104,\"B\")","v":0},{"$f":"COUNTIFS(N7:N104,\"L\",K7:K104,\"C\")","v":0},null,null,null,null,null,null,null,"00:00:00","00:00:00",0,{"$f":"SpellNumber((AI76))","v":"No Dollars and No Cents"},3,"No "]
["00:00:00",null,null,null,null,0,null,null,0,null,null,{"$f":"IFERROR(VLOOKUP(K77,$AD$7:AE79,2,FALSE),0)","v":0},null,null,0,null,null,null,null,null,null,null,null,null,null,null,null,null,null,null,null,null,"00:00:00","00:00:00",0,{"$f":"SpellNumber((AI77))","v":"No Dollars and No Cents"},3,"No "]
["00:00:00",null,null,null,null,0,null,null,0,null,null,{"$f":"IFERROR(VLOOKUP(K78,$AD$7:AE80,2,FALSE),0)","v":0},null,null,0,null,null,null,null,null,null,null,null,null,null,null,null,null,null,null,null,null,"00:00:00","00:00:00",0,{"$f":"SpellNumber((AI78))","v":"No Dollars and No Cents"},3,"No "]
["00:00:00",null,null,null,null,0,null,null,0,null,null,{"$f":"IFERROR(VLOOKUP(K79,$AD$7:AE81,2,FALSE),0)","v":0},null,null,0,null,null,null,null,null,null,null,null,null,null,null,null,null,null,null,null,null,"00:00:00","00:00:00",0,{"$f":"SpellNumber((AI79))","v":"No Dollars and No Cents"},3,"No "]
["00:00:00",null,null,null,null,0,null,null,0,null,null,{"$f":"IFERROR(VLOOKUP(K80,$AD$7:AE82,2,FALSE),0)","v":0},null,null,0,null,null,null,null,null,null,null,null,null,null,null,null,null,null,null,null,null,"00:00:00","00:00:00",0,{"$f":"SpellNumber((AI80))","v":"No Dollars and No Cents"},3,"No "]
["00:00:00",null,null,null,null,0,null,null,0,null,null,{"$f":"IFERROR(VLOOKUP(K81,$AD$7:AE83,2,FALSE),0)","v":0},null,null,0,null,null,null,null,null,null,null,null,null,null,null,null,null,null,null,null,null,"00:00:00","00:00:00",0,{"$f":"SpellNumber((AI81))","v":"No Dollars and No Cents"},3,"No "]
["00:00:00",null,null,null,null,0,null,null,0,null,null,{"$f":"IFERROR(VLOOKUP(K82,$AD$7:AE84,2,FALSE),0)","v":0},null,null,0,null,null,null,null,null,null,null,null,null,null,null,null,null,null,null,null,null,"00:00:00","00:00:00",0,{"$f":"SpellNumber((AI82))","v":"No Dollars and No Cents"},3,"No "]
["00:00:00",null,null,null,null,0,null,null,0,null,null,{"$f":"IFERROR(VLOOKUP(K83,$AD$7:AE85,2,FALSE),0)","v":0},null,null,0,null,null,null,null,null,null,null,null,null,null,null,null,null,null,null,null,null,"00:00:00","00:00:00",0,{"$f":"SpellNumber((AI83))","v":"No Dollars and No Cents"},3,"No "]
["00:00:00",null,null,null,null,0,null,null,0,null,null,{"$f":"IFERROR(VLOOKUP(K84,$AD$7:AE86,2,FALSE),0)","v":0},null,null,0,null,null,null,null,null,null,null,null,null,null,null,null,null,null,null,null,null,"00:00:00","00:00:00",0,{"$f":"SpellNumber((AI84))","v":"No Dollars and No Cents"},3,"No "]
["00:00:00",null,null,null,null,0,null,null,0,null,null,{"$f":"IFERROR(VLOOKUP(K85,$AD$7:AE87,2,FALSE),0)","v":0},null,null,0,null,null,null,null,null,null,null,null,null,null,null,null,null,null,null,null,null,"00:00:00","00:00:00",0,{"$f":"SpellNumber((AI85))","v":"No Dollars and No Cents"},3,"No "]
["00:00:00",null,null,null,null,0,null,null,0,null,null,{"$f":"IFERROR(VLOOKUP(K86,$AD$7:AE88,2,FALSE),0)","v":0},null,null,0,null,null,null,null,null,null,null,null,null,null,null,null,null,null,null,null,null,"00:00:00","00:00:00",0,{"$f":"SpellNumber((AI86))","v":"No Dollars and No Cents"},3,"No "]
["00:00:00",null,null,null,null,0,null,null,0,null,null,{"$f":"IFERROR(VLOOKUP(K87,$AD$7:AE89,2,FALSE),0)","v":0},null,null,0,null,null,null,null,null,null,null,null,null,null,null,null,null,null,null,null,null,"00:00:00","00:00:00",0,{"$f":"SpellNumber((AI87))","v":"No Dollars and No Cents"},3,"No "]
["00:00:00",null,null,null,null,0,null,null,0,null,null,{"$f":"IFERROR(VLOOKUP(K88,$AD$7:AE90,2,FALSE),0)","v":0},null,null,0,null,null,null,null,null,null,null,null,null,null,null,null,null,null,null,null,null,"00:00:00","00:00:00",0,{"$f":"SpellNumber((AI88))","v":"No Dollars and No Cents"},3,"No "]
["00:00:00",null,null,null,null,0,null,null,0,null,null,{"$f":"IFERROR(VLOOKUP(K89,$AD$7:AE91,2,FALSE),0)","v":0},null,null,0,null,null,null,null,null,null,null,null,null,null,null,null,null,null,null,null,null,"00:00:00","00:00:00",0,{"$f":"SpellNumber((AI89))","v":"No Dollars and No Cents"},3,"No "]
["00:00:00",null,null,null,null,0,null,null,0,null,null,{"$f":"IFERROR(VLOOKUP(K90,$AD$7:AE92,2,FALSE),0)","v":0},null,null,0,null,null,null,null,null,null,null,null,null,null,null,null,null,null,null,null,null,"00:00:00","00:00:00",0,{"$f":"SpellNumber((AI90))","v":"No Dollars and No Cents"},3,"No "]
["00:00:00",null,null,null,null,0,null,null,0,null,null,{"$f":"IFERROR(VLOOKUP(K91,$AD$7:AE93,2,FALSE),0)","v":0},null,null,0,null,null,null,"Total Mins",{"$f":"SUM(A7:A104)","v":"00:00:00"},null,null,null,null,null,null,null,null,null,null,null,null,"00:00:00","00:00:00",0,{"$f":"SpellNumber((AI91))","v":"No Dollars and No Cents"},3,"No "]
["00:00:00",null,null,null,null,0,null,null,0,null,null,{"$f":"IFERROR(VLOOKUP(K92,$AD$7:AE94,2,FALSE),0)","v":0},null,null,0,null,null,null,"Settings:","A",{"$f":"COUNTIF(E4:E104,\"A\")","v":0},"Antec.","A",{"$f":"COUNTIF(H4:H104,\"A\")","v":0},"Beh","A",{"$f":"COUNTIF(L4:L104,\"A\")","v":0},"Conse.","A",{"$f":"COUNTIF(O4:O104,\"A\")","v":0},null,null,"00:00:00","00:00:00",0,{"$f":"SpellNumber((AI92))","v":"No Dollars and No Cents"},3,"No "]
["00:00:00",null,null,null,null,0,null,null,0,null,null,{"$f":"IFERROR(VLOOKUP(K93,$AD$7:AE95,2,FALSE),0)","v":0},null,null,0,null,null,null,null,"B",{"$f":"COUNTIF(E5:E105,\"B\")","v":0},null,"B",{"$f":"COUNTIF(H5:H105,\"B\")","v":0},null,"B",{"$f":"COUNTIF(L5:L105,\"B\")","v":0},null,"B",{"$f":"COUNTIF(O5:O105,\"B\")","v":0},null,null,"00:00:00","00:00:00",0,{"$f":"SpellNumber((AI93))","v":"No Dollars and No Cents"},3,"No "]
["00:00:00",null,null,null,null,0,null,null,0,null,null,{"$f":"IFERROR(VLOOKUP(K94,$AD$7:AE96,2,FALSE),0)","v":0},null,null,0,null,null,null,null,"C",{"$f":"COUNTIF(E6:E106,\"C\")","v":0},null,"C",{"$f":"COUNTIF(H6:H106,\"C\")","v":0},null,"C",{"$f":"COUNTIF(L6:L106,\"C\")","v":0},null,"C",{"$f":"COUNTIF(O6:O106,\"C\")","v":0},null,null,"00:00:00","00:00:00",0,{"$f":"SpellNumber((AI94))","v":"No Dollars and No Cents"},3,"No "]
["00:00:00",null,null,null,null,0,null,null,0,null,null,{"$f":"IFERROR(VLOOKUP(K95,$AD$7:AE97,2,FALSE),0)","v":0},null,null,0,null,null,null,null,"D",{"$f":"COUNTIF(E7:E107,\"D\")","v":0},null,"D",{"$f":"COUNTIF(H7:H107,\"D\")","v":0},null,null,null,null,"D",{"$f":"COUNTIF(O7:O107,\"D\")","v":0},null,null,"00:00:00","00:00:00",0,{"$f":"SpellNumber((AI95))","v":"No Dollars and No Cents"},3,"No "]
["00:00:00",null,null,null,null,0,null,null,0,null,null,{"$f":"IFERROR(VLOOKUP(K96,$AD$7:AE98,2,FALSE),0)","v":0},null,null,0,null,null,null,null,"E",{"$f":"COUNTIF(E8:E108,\"E\")","v":0},null,"E",{"$f":"COUNTIF(H8:H108,\"E\")","v":0},null,null,null,null,"E",{"$f":"COUNTIF(O8:O108,\"E\")","v":0},null,null,"00:00:00","00:00:00",0,{"$f":"SpellNumber((AI96))","v":"No Dollars and No Cents"},3,"No "]
["00:00:00",null,null,null,null,0,null,null,0,null,null,{"$f":"IFERROR(VLOOKUP(K97,$AD$7:AE99,2,FALSE),0)","v":0},null,null,0,null,null,null,null,"F",{"$f":"COUNTIF(E9:E109,\"F\")","v":0},null,"F",{"$f":"COUNTIF(H9:H109,\"F\")","v":0},null,null,null,null,"F",{"$f":"COUNTIF(O9:O109,\"F\")","v":0},null,null,"00:00:00","00:00:00",0,{"$f":"SpellNumber((AI97))","v":"No Dollars and No Cents"},3,"No "]
["00:00:00",null,null,null,null,0,null,null,0,null,null,{"$f":"IFERROR(VLOOKUP(K98,$AD$7:AE100,2,FALSE),0)","v":0},null,null,0,null,null,null,null,"G",{"$f":"COUNTIF(E10:E110,\"G\")","v":0},null,"G",{"$f":"COUNTIF(H10:H110,\"G\")","v":0},null,null,null,null,"G",{"$f":"COUNTIF(O10:O110,\"G\")","v":0},null,null,"00:00:00","00:00:00",0,{"$f":"SpellNumber((AI98))","v":"No Dollars and No Cents"},3,"No "]
["00:00:00",null,null,null,null,0,null,null,0,null,null,{"$f":"IFERROR(VLOOKUP(K99,$AD$7:AE101,2,FALSE),0)","v":0},null,null,0,null,null,null,null,"H",{"$f":"COUNTIF(E11:E111,\"H\")","v":0},null,"H",{"$f":"COUNTIF(H11:H111,\"H\")","v":0},null,null,null,null,"H",{"$f":"COUNTIF(O11:O111,\"H\")","v":0},null,null,"00:00:00","00:00:00",0,{"$f":"SpellNumber((AI99))","v":"No Dollars and No Cents"},3,"No "]
["00:00:00",null,null,null,null,0,null,null,0,null,null,{"$f":"IFERROR(VLOOKUP(K100,$AD$7:AE102,2,FALSE),0)","v":0},null,null,0,null,null,null,null,"I",{"$f":"COUNTIF(E12:E112,\"I\")","v":0},null,"I",{"$f":"COUNTIF(H12:H112,\"I\")","v":0},null,null,null,null,"I",{"$f":"COUNTIF(O12:O112,\"I\")","v":0},null,null,"00:00:00","00:00:00",0,{"$f":"SpellNumber((AI100))","v":"No Dollars and No Cents"},3,"No "]
["00:00:00",null,null,null,null,0,null,null,0,null,null,{"$f":"IFERROR(VLOOKUP(K101,$AD$7:AE103,2,FALSE),0)","v":0},null,null,0,null,null,null,null,"J",{"$f":"COUNTIF(E13:E113,\"J\")","v":0},null,"J",{"$f":"COUNTIF(H13:H113,\"J\")","v":0},null,null,null,null,"J",{"$f":"COUNTIF(O13:O113,\"J\")","v":0},null,null,"00:00:00","00:00:00",0,{"$f":"SpellNumber((AI101))","v":"No Dollars and No Cents"},3,"No "]
["00:00:00",null,null,null,null,0,null,null,0,null,null,{"$f":"IFERROR(VLOOKUP(K102,$AD$7:AE104,2,FALSE),0)","v":0},null,null,0,null,null,null,null,"K",{"$f":"COUNTIF(E14:E114,\"K\")","v":0},null,"K",{"$f":"COUNTIF(H14:H114,\"K\")","v":0},null,null,null,null,"K",{"$f":"COUNTIF(O14:O114,\"K\")","v":0},null,null,"00:00:00","00:00:00",0,{"$f":"SpellNumber((AI102))","v":"No Dollars and No Cents"},3,"No "]
["00:00:00",null,null,null,null,0,null,null,0,null,null,{"$f":"IFERROR(VLOOKUP(K103,$AD$7:AE105,2,FALSE),0)","v":0},null,null,0,null,null,null,null,"L",{"$f":"COUNTIF(E15:E115,\"L\")","v":0},null,"L",{"$f":"COUNTIF(H15:H115,\"L\")","v":0},null,null,null,null,"L",{"$f":"COUNTIF(O15:O115,\"L\")","v":0},null,null,"00:00:00","00:00:00",0,{"$f":"SpellNumber((AI103))","v":"No Dollars and No Cents"},3,"No "]
["00:00:00",null,null,null,null,0,null,null,0,null,null,{"$f":"IFERROR(VLOOKUP(K104,$AD$7:AE106,2,FALSE),0)","v":0},null,null,0,null,null,null,null,null,null,null,null,null,null,null,null,null,null,null,null,null,"00:00:00","00:00:00",0,{"$f":"SpellNumber((AI104))","v":"No Dollars and No Cents"},3,"No "]

{"sheet":"Data 16","index":24,"n_rows":104,"n_cols":38,"rows_kept":104,"cut":false,"hidden":false,"merged":[[0,7,3,14]]}
["ATTENDANCE",null,null,null,null,null,null,"Data Collection"]
["If tardy, arrival time",null,null,null,null,null,null,null,null,null,null,null,null,null,null,null,null,null,null,null,null,null,"Date",{"$f":"Calendar!D7","v":{"$error":"#N/A"}},{"$f":"TEXT(X2,\"ddd\")","v":{"$error":"#N/A"}}]
["If left early, time",null,null,null,null,null,null,null,null,null,null,null,null,null,null,null,null,null,null,null,null,null,"Frq. Of bx",{"$f":"AA22","v":0}]
[]
[]
["Mins.","Start Time","End Time",null,null,null,null,null,null,null,null,null,null,null,null,null,null,null,null,null,null,null,"Setting",null,null,"Ant",null,null,null,"Beh",null,null,"Raw Data","Time in text","Decimal"]
[{"$f":"C7-B7","v":"00:00:00"},null,null,null,null,{"$f":"IFERROR(VLOOKUP(E7,$V$7:$W$18,2,FALSE),0)","v":0},null,null,{"$f":"IFERROR(VLOOKUP(H7,$Z$7:$AA$18,2,FALSE),0)","v":0},null,null,{"$f":"IFERROR(VLOOKUP(K7,$AD$7:AE9,2,FALSE),0)","v":0},null,null,{"$f":"IFERROR(VLOOKUP(N7,$V$22:$W$33,2,FALSE),0)","v":0},null,null,null,null,null,null,"A",{"$f":"Criteria!C4","v":"Transition"},null,null,"A",{"$f":"Criteria!E4","v":"Transition"},null,null,"A",{"$f":"Criteria!G4","v":0},null,{"$f":"B7","v":"00:00:00"},{"$f":"TEXT(AG7,\"hh:mm:ss\")","v":"00:00:00"},{"$f":"AG7*24","v":0},{"$f":"SpellNumber((AI7))","v":"No Dollars and No Cents"},{"$f":"FIND(\" Dollar\",AJ7)","v":3},{"$f":"LEFT(AJ7,AK7)","v":"No "}]
[{"$f":"C8-B8","v":"00:00:00"},null,null,null,null,{"$f":"IFERROR(VLOOKUP(E8,$V$7:$W$18,2,FALSE),0)","v":0},null,null,{"$f":"IFERROR(VLOOKUP(H8,$Z$7:$AA$18,2,FALSE),0)","v":0},null,null,{"$f":"IFERROR(VLOOKUP(K8,$AD$7:AE10,2,FALSE),0)","v":0},null,null,{"$f":"IFERROR(VLOOKUP(N8,$V$22:$W$33,2,FALSE),0)","v":0},null,null,null,null,null,null,"B",{"$f":"Criteria!C5","v":"Morning Routine"},null,null,"B",{"$f":"Criteria!E5","v":"Denied access ('No')"},null,null,"B",{"$f":"Criteria!G5","v":0},null,{"$f":"B8","v":"00:00:00"},{"$f":"TEXT(AG8,\"hh:mm:ss\")","v":"00:00:00"},{"$f":"AG8*24","v":0},{"$f":"SpellNumber((AI8))","v":"No Dollars and No Cents"},{"$f":"FIND(\" Dollar\",AJ8)","v":3},{"$f":"LEFT(AJ8,AK8)","v":"No "}]
["00:00:00",null,null,null,null,{"$f":"IFERROR(VLOOKUP(E9,$V$7:$W$18,2,FALSE),0)","v":0},null,null,0,null,null,{"$f":"IFERROR(VLOOKUP(K9,$AD$7:AE11,2,FALSE),0)","v":0},null,null,0,null,null,null,null,null,null,"C",{"$f":"Criteria!C6","v":"Group Work"},null,null,"C",{"$f":"Criteria!E6","v":"Instruction/ Directions"},null,null,"C",{"$f":"Criteria!G6","v":0},null,"00:00:00","00:00:00",0,{"$f":"SpellNumber((AI9))","v":"No Dollars and No Cents"},3,"No "]
["00:00:00",null,null,null,null,0,null,null,0,null,null,{"$f":"IFERROR(VLOOKUP(K10,$AD$7:AE12,2,FALSE),0)","v":0},null,null,0,null,null,null,null,null,null,"D",{"$f":"Criteria!C7","v":"Ind. Seat/Work Time"},null,null,"D",{"$f":"Criteria!E7","v":"New Task"},null,null,null,null,null,"00:00:00","00:00:00",0,{"$f":"SpellNumber((AI10))","v":"No Dollars and No Cents"},3,"No "]
["00:00:00",null,null,null,null,0,null,null,0,null,null,{"$f":"IFERROR(VLOOKUP(K11,$AD$7:AE13,2,FALSE),0)","v":0},null,null,0,null,null,null,null,null,null,"E",{"$f":"Criteria!C8","v":"Language Arts"},null,null,"E",{"$f":"Criteria!E8","v":"Tcher attn to other"},null,null,null,null,null,"00:00:00","00:00:00",0,{"$f":"SpellNumber((AI11))","v":"No Dollars and No Cents"},3,"No "]
["00:00:00",null,null,null,null,0,null,null,0,null,null,{"$f":"IFERROR(VLOOKUP(K12,$AD$7:AE14,2,FALSE),0)","v":0},null,null,0,null,null,null,null,null,null,"F",{"$f":"Criteria!C9","v":"Mathematics"},null,null,"F",{"$f":"Criteria!E9","v":"Choice given"},null,null,null,null,null,"00:00:00","00:00:00",0,{"$f":"SpellNumber((AI12))","v":"No Dollars and No Cents"},3,"No "]
["00:00:00",null,null,null,null,0,null,null,0,null,null,{"$f":"IFERROR(VLOOKUP(K13,$AD$7:AE15,2,FALSE),0)","v":0},null,null,0,null,null,null,null,null,null,"G",{"$f":"Criteria!C10","v":"Physical Education"},null,null,"G",{"$f":"Criteria!E10","v":"Redirection"},null,null,null,null,null,"00:00:00","00:00:00",0,{"$f":"SpellNumber((AI13))","v":"No Dollars and No Cents"},3,"No "]
["00:00:00",null,null,null,null,0,null,null,0,null,null,{"$f":"IFERROR(VLOOKUP(K14,$AD$7:AE16,2,FALSE),0)","v":0},null,null,0,null,null,null,null,null,null,"H",{"$f":"Criteria!C11","v":"Music/Art"},null,null,"H",{"$f":"Criteria!E11","v":"Routine Task"},null,null,null,null,null,"00:00:00","00:00:00",0,{"$f":"SpellNumber((AI14))","v":"No Dollars and No Cents"},3,"No "]
["00:00:00",null,null,null,null,0,null,null,0,null,null,{"$f":"IFERROR(VLOOKUP(K15,$AD$7:AE17,2,FALSE),0)","v":0},null,null,0,null,null,null,null,null,null,"I",{"$f":"Criteria!C12","v":"Speech"},null,null,"I",{"$f":"Criteria!E12","v":"Waiting"},null,null,null,null,null,"00:00:00","00:00:00",0,{"$f":"SpellNumber((AI15))","v":"No Dollars and No Cents"},3,"No "]
["00:00:00",null,null,null,null,0,null,null,0,null,null,{"$f":"IFERROR(VLOOKUP(K16,$AD$7:AE18,2,FALSE),0)","v":0},null,null,0,null,null,null,null,null,null,"J",{"$f":"Criteria!C13","v":"OT/PT"},null,null,"J",{"$f":"Criteria!E13","v":"Unknown"},null,null,null,null,null,"00:00:00","00:00:00",0,{"$f":"SpellNumber((AI16))","v":"No Dollars and No Cents"},3,"No "]
["00:00:00",null,null,null,null,0,null,null,0,null,null,{"$f":"IFERROR(VLOOKUP(K17,$AD$7:AE19,2,FALSE),0)","v":0},null,null,0,null,null,null,null,null,null,"K",{"$f":"Criteria!C14","v":"Center"},null,null,"K",{"$f":"Criteria!E14","v":"Ignored"},null,null,null,null,null,"00:00:00","00:00:00",0,{"$f":"SpellNumber((AI17))","v":"No Dollars and No Cents"},3,"No "]
["00:00:00",null,null,null,null,0,null,null,0,null,null,{"$f":"IFERROR(VLOOKUP(K18,$AD$7:AE20,2,FALSE),0)","v":0},null,null,0,null,null,null,null,null,null,"L",{"$f":"Criteria!C15","v":"Other"},null,null,"L",{"$f":"Criteria!E15","v":"Other"},null,null,null,null,null,"00:00:00","00:00:00",0,{"$f":"SpellNumber((AI18))","v":"No Dollars and No Cents"},3,"No "]
["00:00:00",null,null,null,null,0,null,null,0,null,null,{"$f":"IFERROR(VLOOKUP(K19,$AD$7:AE21,2,FALSE),0)","v":0},null,null,0,null,null,null,null,null,null,null,null,null,null,null,null,null,null,null,null,null,"00:00:00","00:00:00",0,{"$f":"SpellNumber((AI19))","v":"No Dollars and No Cents"},3,"No "]
["00:00:00",null,null,null,null,0,null,null,0,null,null,{"$f":"IFERROR(VLOOKUP(K20,$AD$7:AE22,2,FALSE),0)","v":0},null,null,0,null,null,null,null,null,null,null,null,null,null,null,null,null,null,null,null,null,"00:00:00","00:00:00",0,{"$f":"SpellNumber((AI20))","v":"No Dollars and No Cents"},3,"No "]
["00:00:00",null,null,null,null,0,null,null,0,null,null,{"$f":"IFERROR(VLOOKUP(K21,$AD$7:AE23,2,FALSE),0)","v":0},null,null,0,null,null,null,null,null,null,null,"Con",null,"Bx Frequency Per Day",null,null,null,null,null,null,null,"00:00:00","00:00:00",0,{"$f":"SpellNumber((AI21))","v":"No Dollars and No Cents"},3,"No "]
["00:00:00",null,null,null,null,0,null,null,0,null,null,{"$f":"IFERROR(VLOOKUP(K22,$AD$7:AE24,2,FALSE),0)","v":0},null,null,0,null,null,null,null,null,null,"A",{"$f":"Criteria!I4","v":"Choice Given"},"A",{"$f":"COUNTIF(K7:K104,\"A\")","v":0},null,{"$f":"SUM(Y22:Y24)","v":0},null,"Bin Dec","Frequency of Time",null,null,"00:00:00","00:00:00",0,{"$f":"SpellNumber((AI22))","v":"No Dollars and No Cents"},3,"No "]
["00:00:00",null,null,null,null,0,null,null,0,null,null,{"$f":"IFERROR(VLOOKUP(K23,$AD$7:AE25,2,FALSE),0)","v":0},null,null,0,null,null,null,null,null,null,"B",{"$f":"Criteria!I5","v":"Ignored"},"B",{"$f":"COUNTIF(K7:K104,\"B\")","v":0},null,null,null,"Seven",{"$f":"COUNTIF(AL7:AL104,\"*Seven*\")","v":0},null,null,"00:00:00","00:00:00",0,{"$f":"SpellNumber((AI23))","v":"No Dollars and No Cents"},3,"No "]
["00:00:00",null,null,null,null,0,null,null,0,null,null,{"$f":"IFERROR(VLOOKUP(K24,$AD$7:AE26,2,FALSE),0)","v":0},null,null,0,null,null,null,null,null,null,"C",{"$f":"Criteria!I6","v":"Redirection"},"C",{"$f":"COUNTIF(K7:K104,\"C\")","v":0},null,null,null,"Eight",{"$f":"COUNTIF(AL7:AL104,\"*Eight*\")","v":0},null,null,"00:00:00","00:00:00",0,{"$f":"SpellNumber((AI24))","v":"No Dollars and No Cents"},3,"No "]
["00:00:00",null,null,null,null,0,null,null,0,null,null,{"$f":"IFERROR(VLOOKUP(K25,$AD$7:AE27,2,FALSE),0)","v":0},null,null,0,null,null,null,null,null,null,"D",{"$f":"Criteria!I7","v":"Kept the demand"},null,"Bx Druation Per Day",null,null,null,"Nine",{"$f":"COUNTIF(AL7:AL104,\"*Nine*\")","v":0},null,null,"00:00:00","00:00:00",0,{"$f":"SpellNumber((AI25))","v":"No Dollars and No Cents"},3,"No "]
["00:00:00",null,null,null,null,0,null,null,0,null,null,{"$f":"IFERROR(VLOOKUP(K26,$AD$7:AE28,2,FALSE),0)","v":0},null,null,0,null,null,null,null,null,null,"E",{"$f":"Criteria!I8","v":"Changed activity"},"A",{"$f":"SUMIF(K7:K104,\"A\",A7:A104)","v":"00:00:00"},null,null,null,"Ten",{"$f":"COUNTIF(AL7:AL12,\"*Ten*\")","v":0},null,null,"00:00:00","00:00:00",0,{"$f":"SpellNumber((AI26))","v":"No Dollars and No Cents"},3,"No "]
["00:00:00",null,null,null,null,0,null,null,0,null,null,{"$f":"IFERROR(VLOOKUP(K27,$AD$7:AE29,2,FALSE),0)","v":0},null,null,0,null,null,null,null,null,null,"F",{"$f":"Criteria!I9","v":"Verbal reprimand"},"B",{"$f":"SUMIF(K7:K104,\"B\",A7:A104)","v":"00:00:00"},null,null,null,"Eleven",{"$f":"COUNTIF(AL7:AL104,\"*Eleven*\")","v":0},null,null,"00:00:00","00:00:00",0,{"$f":"SpellNumber((AI27))","v":"No Dollars and No Cents"},3,"No "]
["00:00:00",null,null,null,null,0,null,null,0,null,null,{"$f":"IFERROR(VLOOKUP(K28,$AD$7:AE30,2,FALSE),0)","v":0},null,null,0,null,null,null,null,null,null,"G",{"$f":"Criteria!I10","v":"Told to wait"},"C",{"$f":"SUMIF(K7:K104,\"C\",A7:A104)","v":"00:00:00"},null,null,null,"Twelve",{"$f":"COUNTIF(AL7:AL104,\"*Twelve*\")","v":0},null,null,"00:00:00","00:00:00",0,{"$f":"SpellNumber((AI28))","v":"No Dollars and No Cents"},3,"No "]
["00:00:00",null,null,null,null,0,null,null,0,null,null,{"$f":"IFERROR(VLOOKUP(K29,$AD$7:AE31,2,FALSE),0)","v":0},null,null,0,null,null,null,null,null,null,"H",{"$f":"Criteria!I11","v":"Physical Prompt"},null,null,null,null,null,"One",{"$f":"COUNTIF(AL7:AL104,\"*One*\")","v":0},null,null,"00:00:00","00:00:00",0,{"$f":"SpellNumber((AI29))","v":"No Dollars and No Cents"},3,"No "]
["00:00:00",null,null,null,null,0,null,null,0,null,null,{"$f":"IFERROR(VLOOKUP(K30,$AD$7:AE32,2,FALSE),0)","v":0},null,null,0,null,null,null,null,null,null,"I",{"$f":"Criteria!I12","v":"Verbal prompt"},null,null,null,null,null,"Two",{"$f":"COUNTIF(AL7:AL104,\"*Two*\")","v":0},null,null,"00:00:00","00:00:00",0,{"$f":"SpellNumber((AI30))","v":"No Dollars and No Cents"},3,"No "]
["00:00:00",null,null,null,null,0,null,null,0,null,null,{"$f":"IFERROR(VLOOKUP(K31,$AD$7:AE33,2,FALSE),0)","v":0},null,null,0,null,null,null,null,null,null,"J",{"$f":"Criteria!I13","v":"Told to wait"},null,null,null,null,null,"Three",{"$f":"COUNTIF(AL7:AL104,\"*Three*\")","v":0},null,null,"00:00:00","00:00:00",0,{"$f":"SpellNumber((AI31))","v":"No Dollars and No Cents"},3,"No "]
["00:00:00",null,null,null,null,0,null,null,0,null,null,{"$f":"IFERROR(VLOOKUP(K32,$AD$7:AE34,2,FALSE),0)","v":0},null,null,0,null,null,null,null,null,null,"K",{"$f":"Criteria!I14","v":"Unknown"},null,null,null,null,null,"Four",{"$f":"COUNTIF(AL7:AL104,\"*Four*\")","v":0},null,null,"00:00:00","00:00:00",0,{"$f":"SpellNumber((AI32))","v":"No Dollars and No Cents"},3,"No "]
["00:00:00",null,null,null,null,0,null,null,0,null,null,{"$f":"IFERROR(VLOOKUP(K33,$AD$7:AE35,2,FALSE),0)","v":0},null,null,0,null,null,null,null,null,null,"L",{"$f":"Criteria!I15","v":"Other"},null,null,null,null,null,null,null,null,null,"00:00:00","00:00:00",0,{"$f":"SpellNumber((AI33))","v":"No Dollars and No Cents"},3,"No "]
["00:00:00",null,null,null,null,0,null,null,0,null,null,{"$f":"IFERROR(VLOOKUP(K34,$AD$7:AE36,2,FALSE),0)","v":0},null,null,0,null,null,null,null,null,null,null,null,null,null,null,null,null,null,null,null,null,"00:00:00","00:00:00",0,{"$f":"SpellNumber((AI34))","v":"No Dollars and No Cents"},3,"No "]
["00:00:00",null,null,null,null,0,null,null,0,null,null,{"$f":"IFERROR(VLOOKUP(K35,$AD$7:AE37,2,FALSE),0)","v":0},null,null,0,null,null,null,null,null,null,null,"Context Frequency","Consequence","Antedencents",null,null,null,null,null,null,null,"00:00:00","00:00:00",0,{"$f":"SpellNumber((AI35))","v":"No Dollars and No Cents"},3,"No "]
["00:00:00",null,null,null,null,0,null,null,0,null,null,{"$f":"IFERROR(VLOOKUP(K36,$AD$7:AE38,2,FALSE),0)","v":0},null,null,0,null,null,null,null,null,null,"A",{"$f":"COUNTIF(E7:E104,\"A\")","v":0},{"$f":"COUNTIF(N7:N104,\"A\")","v":0},{"$f":"COUNTIF(H7:H104,\"A\")","v":0},null,null,null,null,null,null,null,"00:00:00","00:00:00",0,{"$f":"SpellNumber((AI36))","v":"No Dollars and No Cents"},3,"No "]
["00:00:00",null,null,null,null,0,null,null,0,null,null,{"$f":"IFERROR(VLOOKUP(K37,$AD$7:AE39,2,FALSE),0)","v":0},null,null,0,null,null,null,null,null,null,"B",{"$f":"COUNTIF(E8:E105,\"B\")","v":0},{"$f":"COUNTIF(N7:N104,\"B\")","v":0},{"$f":"COUNTIF(H7:H104,\"B\")","v":0},null,null,null,null,null,null,null,"00:00:00","00:00:00",0,{"$f":"SpellNumber((AI37))","v":"No Dollars and No Cents"},3,"No "]
["00:00:00",null,null,null,null,0,null,null,0,null,null,{"$f":"IFERROR(VLOOKUP(K38,$AD$7:AE40,2,FALSE),0)","v":0},null,null,0,null,null,null,null,null,null,"C",{"$f":"COUNTIF(E8:E105,\"C\")","v":0},{"$f":"COUNTIF(N7:N104,\"C\")","v":0},{"$f":"COUNTIF(H7:H104,\"C\")","v":0},null,null,null,null,null,null,null,"00:00:00","00:00:00",0,{"$f":"SpellNumber((AI38))","v":"No Dollars and No Cents"},3,"No "]
["00:00:00",null,null,null,null,0,null,null,0,null,null,{"$f":"IFERROR(VLOOKUP(K39,$AD$7:AE41,2,FALSE),0)","v":0},null,null,0,null,null,null,null,null,null,"D",{"$f":"COUNTIF(E8:E105,\"D\")","v":0},{"$f":"COUNTIF(N7:N104,\"D\")","v":0},{"$f":"COUNTIF(H7:H104,\"D\")","v":0},null,null,null,null,null,null,null,"00:00:00","00:00:00",0,{"$f":"SpellNumber((AI39))","v":"No Dollars and No Cents"},3,"No "]
["00:00:00",null,null,null,null,0,null,null,0,null,null,{"$f":"IFERROR(VLOOKUP(K40,$AD$7:AE42,2,FALSE),0)","v":0},null,null,0,null,null,null,null,null,null,"E",{"$f":"COUNTIF(E8:E105,\"E\")","v":0},{"$f":"COUNTIF(N7:N104,\"E\")","v":0},{"$f":"COUNTIF(H7:H104,\"E\")","v":0},null,null,null,null,null,null,null,"00:00:00","00:00:00",0,{"$f":"SpellNumber((AI40))","v":"No Dollars and No Cents"},3,"No "]
["00:00:00",null,null,null,null,0,null,null,0,null,null,{"$f":"IFERROR(VLOOKUP(K41,$AD$7:AE43,2,FALSE),0)","v":0},null,null,0,null,null,null,null,null,null,"F",{"$f":"COUNTIF(E8:E105,\"F\")","v":0},{"$f":"COUNTIF(N7:N104,\"F\")","v":0},{"$f":"COUNTIF(H7:H104,\"F\")","v":0},null,null,null,null,null,null,null,"00:00:00","00:00:00",0,{"$f":"SpellNumber((AI41))","v":"No Dollars and No Cents"},3,"No "]
["00:00:00",null,null,null,null,0,null,null,0,null,null,{"$f":"IFERROR(VLOOKUP(K42,$AD$7:AE44,2,FALSE),0)","v":0},null,null,0,null,null,null,null,null,null,"G",{"$f":"COUNTIF(E8:E105,\"G\")","v":0},{"$f":"COUNTIF(N7:N104,\"G\")","v":0},{"$f":"COUNTIF(H7:H104,\"G\")","v":0},null,null,null,null,null,null,null,"00:00:00","00:00:00",0,{"$f":"SpellNumber((AI42))","v":"No Dollars and No Cents"},3,"No "]
["00:00:00",null,null,null,null,0,null,null,0,null,null,{"$f":"IFERROR(VLOOKUP(K43,$AD$7:AE45,2,FALSE),0)","v":0},null,null,0,null,null,null,null,null,null,"H",{"$f":"COUNTIF(E8:E105,\"H\")","v":0},{"$f":"COUNTIF(N7:N104,\"H\")","v":0},{"$f":"COUNTIF(H7:H104,\"H\")","v":0},null,null,null,null,null,null,null,"00:00:00","00:00:00",0,{"$f":"SpellNumber((AI43))","v":"No Dollars and No Cents"},3,"No "]
["00:00:00",null,null,null,null,0,null,null,0,null,null,{"$f":"IFERROR(VLOOKUP(K44,$AD$7:AE46,2,FALSE),0)","v":0},null,null,0,null,null,null,null,null,null,"I",{"$f":"COUNTIF(E8:E105,\"I\")","v":0},{"$f":"COUNTIF(N7:N104,\"I\")","v":0},{"$f":"COUNTIF(H7:H104,\"I\")","v":0},null,null,null,null,null,null,null,"00:00:00","00:00:00",0,{"$f":"SpellNumber((AI44))","v":"No Dollars and No Cents"},3,"No "]
["00:00:00",null,null,null,null,0,null,null,0,null,null,{"$f":"IFERROR(VLOOKUP(K45,$AD$7:AE47,2,FALSE),0)","v":0},null,null,0,null,null,null,null,null,null,"J",{"$f":"COUNTIF(E8:E105,\"J\")","v":0},{"$f":"COUNTIF(N7:N104,\"J\")","v":0},{"$f":"COUNTIF(H7:H104,\"J\")","v":0},null,null,null,null,null,null,null,"00:00:00","00:00:00",0,{"$f":"SpellNumber((AI45))","v":"No Dollars and No Cents"},3,"No "]
["00:00:00",null,null,null,null,0,null,null,0,null,null,{"$f":"IFERROR(VLOOKUP(K46,$AD$7:AE48,2,FALSE),0)","v":0},null,null,0,null,null,null,null,null,null,"K",{"$f":"COUNTIF(E8:E105,\"K\")","v":0},{"$f":"COUNTIF(N7:N104,\"K\")","v":0},{"$f":"COUNTIF(H7:H104,\"K\")","v":0},null,null,null,null,null,null,null,"00:00:00","00:00:00",0,{"$f":"SpellNumber((AI46))","v":"No Dollars and No Cents"},3,"No "]
["00:00:00",null,null,null,null,0,null,null,0,null,null,{"$f":"IFERROR(VLOOKUP(K47,$AD$7:AE49,2,FALSE),0)","v":0},null,null,0,null,null,null,null,null,null,"L",{"$f":"COUNTIF(E8:E105,\"l\")","v":0},{"$f":"COUNTIF(N7:N104,\"L\")","v":0},{"$f":"COUNTIF(H7:H104,\"L\")","v":0},null,null,null,null,null,null,null,"00:00:00","00:00:00",0,{"$f":"SpellNumber((AI47))","v":"No Dollars and No Cents"},3,"No "]
["00:00:00",null,null,null,null,0,null,null,0,null,null,{"$f":"IFERROR(VLOOKUP(K48,$AD$7:AE50,2,FALSE),0)","v":0},null,null,0,null,null,null,null,null,null,null,null,null,null,null,null,null,null,null,null,null,"00:00:00","00:00:00",0,{"$f":"SpellNumber((AI48))","v":"No Dollars and No Cents"},3,"No "]
["00:00:00",null,null,null,null,0,null,null,0,null,null,{"$f":"IFERROR(VLOOKUP(K49,$AD$7:AE51,2,FALSE),0)","v":0},null,null,0,null,null,null,null,null,null,null,"Beh & Setting ",null,null,null,"Beh & Antecedents",null,null,null,null,null,"00:00:00","00:00:00",0,{"$f":"SpellNumber((AI49))","v":"No Dollars and No Cents"},3,"No "]
["00:00:00",null,null,null,null,0,null,null,0,null,null,{"$f":"IFERROR(VLOOKUP(K50,$AD$7:AE52,2,FALSE),0)","v":0},null,null,0,null,null,null,null,null,null,null,"A","B","C",null,null,"A","B","C",null,null,"00:00:00","00:00:00",0,{"$f":"SpellNumber((AI50))","v":"No Dollars and No Cents"},3,"No "]
["00:00:00",null,null,null,null,0,null,null,0,null,null,{"$f":"IFERROR(VLOOKUP(K51,$AD$7:AE53,2,FALSE),0)","v":0},null,null,0,null,null,null,null,null,null,"A",{"$f":"COUNTIFS(E7:E104,\"A\",K7:K104,\"A\")","v":0},{"$f":"COUNTIFS(E7:E104,\"A\",K7:K104,\"B\")","v":0},{"$f":"COUNTIFS(E7:E104,\"A\",K7:K104,\"C\")","v":0},null,"A",{"$f":"COUNTIFS(H7:H104,\"a\",K7:K104,\"A\")","v":0},{"$f":"COUNTIFS(H7:H104,\"A\",K7:K104,\"B\")","v":0},{"$f":"COUNTIFS(H7:H104,\"A\",K7:K104,\"C\")","v":0},null,null,"00:00:00","00:00:00",0,{"$f":"SpellNumber((AI51))","v":"No Dollars and No Cents"},3,"No "]
["00:00:00",null,null,null,null,0,null,null,0,null,null,{"$f":"IFERROR(VLOOKUP(K52,$AD$7:AE54,2,FALSE),0)","v":0},null,null,0,null,null,null,null,null,null,"B",{"$f":"COUNTIFS(E7:E104,\"B\",K7:K104,\"A\")","v":0},{"$f":"COUNTIFS(E7:E104,\"B\",K7:K104,\"B\")","v":0},{"$f":"COUNTIFS(E7:E104,\"B\",K7:K104,\"C\")","v":0},null,"B",{"$f":"COUNTIFS(H7:H104,\"B\",K7:K104,\"A\")","v":0},{"$f":"COUNTIFS(H7:H104,\"B\",K7:K104,\"B\")","v":0},{"$f":"COUNTIFS(H7:H104,\"B\",K7:K104,\"C\")","v":0},null,null,"00:00:00","00:00:00",0,{"$f":"SpellNumber((AI52))","v":"No Dollars and No Cents"},3,"No "]
["00:00:00",null,null,null,null,0,null,null,0,null,null,{"$f":"IFERROR(VLOOKUP(K53,$AD$7:AE55,2,FALSE),0)","v":0},null,null,0,null,null,null,null,null,null,"C",{"$f":"COUNTIFS(K7:K104,\"C\",K7:K104,\"A\")","v":0},{"$f":"COUNTIFS(E7:E104,\"C\",K7:K104,\"B\")","v":0},{"$f":"COUNTIFS(E7:E104,\"C\",K7:K104,\"C\")","v":0},null,"C",{"$f":"COUNTIFS(H7:H104,\"C\",K7:K104,\"A\")","v":0},{"$f":"COUNTIFS(H7:H104,\"C\",K7:K104,\"B\")","v":0},{"$f":"COUNTIFS(H7:H104,\"C\",K7:K104,\"C\")","v":0},null,null,"00:00:00","00:00:00",0,{"$f":"SpellNumber((AI53))","v":"No Dollars and No Cents"},3,"No "]
["00:00:00",null,null,null,null,0,null,null,0,null,null,{"$f":"IFERROR(VLOOKUP(K54,$AD$7:AE56,2,FALSE),0)","v":0},null,null,0,null,null,null,null,null,null,"D",{"$f":"COUNTIFS(E7:E104,\"D\",K7:K104,\"A\")","v":0},{"$f":"COUNTIFS(E7:E104,\"D\",K7:K104,\"B\")","v":0},{"$f":"COUNTIFS(E7:E104,\"D\",K7:K104,\"C\")","v":0},null,"D",{"$f":"COUNTIFS(H7:H104,\"D\",K7:K104,\"A\")","v":0},{"$f":"COUNTIFS(H7:H104,\"D\",K7:K104,\"B\")","v":0},{"$f":"COUNTIFS(H7:H104,\"D\",K7:K104,\"C\")","v":0},null,null,"00:00:00","00:00:00",0,{"$f":"SpellNumber((AI54))","v":"No Dollars and No Cents"},3,"No "]
["00:00:00",null,null,null,null,0,null,null,0,null,null,{"$f":"IFERROR(VLOOKUP(K55,$AD$7:AE57,2,FALSE),0)","v":0},null,null,0,null,null,null,null,null,null,"E",{"$f":"COUNTIFS(E7:E104,\"E\",K7:K104,\"A\")","v":0},{"$f":"COUNTIFS(E7:E104,\"E\",K7:K104,\"B\")","v":0},{"$f":"COUNTIFS(E7:E104,\"E\",K7:K104,\"C\")","v":0},null,"E",{"$f":"COUNTIFS(H7:H104,\"E\",K7:K104,\"A\")","v":0},{"$f":"COUNTIFS(H7:H104,\"E\",K7:K104,\"B\")","v":0},{"$f":"COUNTIFS(H7:H104,\"E\",K7:K104,\"C\")","v":0},null,null,"00:00:00","00:00:00",0,{"$f":"SpellNumber((AI55))","v":"No Dollars and No Cents"},3,"No "]
["00:00:00",null,null,null,null,0,null,null,0,null,null,{"$f":"IFERROR(VLOOKUP(K56,$AD$7:AE58,2,FALSE),0)","v":0},null,null,0,null,null,null,null,null,null,"F",{"$f":"COUNTIFS(E7:E104,\"F\",K7:K104,\"A\")","v":0},{"$f":"COUNTIFS(E7:E104,\"F\",K7:K104,\"B\")","v":0},{"$f":"COUNTIFS(E7:E104,\"F\",K7:K104,\"C\")","v":0},null,"F",{"$f":"COUNTIFS(H7:H104,\"F\",K7:K104,\"A\")","v":0},{"$f":"COUNTIFS(H7:H104,\"F\",K7:K104,\"B\")","v":0},{"$f":"COUNTIFS(H7:H104,\"F\",K7:K104,\"C\")","v":0},null,null,"00:00:00","00:00:00",0,{"$f":"SpellNumber((AI56))","v":"No Dollars and No Cents"},3,"No "]
["00:00:00",null,null,null,null,0,null,null,0,null,null,{"$f":"IFERROR(VLOOKUP(K57,$AD$7:AE59,2,FALSE),0)","v":0},null,null,0,null,null,null,null,null,null,"G",{"$f":"COUNTIFS(E7:E104,\"G\",K7:K104,\"A\")","v":0},{"$f":"COUNTIFS(E7:E104,\"G\",K7:K104,\"B\")","v":0},{"$f":"COUNTIFS(E7:E104,\"G\",K7:K104,\"C\")","v":0},null,"G",{"$f":"COUNTIFS(H7:H104,\"G\",K7:K104,\"A\")","v":0},{"$f":"COUNTIFS(H7:H104,\"G\",K7:K104,\"B\")","v":0},{"$f":"COUNTIFS(H7:H104,\"G\",K7:K104,\"C\")","v":0},null,null,"00:00:00","00:00:00",0,{"$f":"SpellNumber((AI57))","v":"No Dollars and No Cents"},3,"No "]
["00:00:00",null,null,null,null,0,null,null,0,null,null,{"$f":"IFERROR(VLOOKUP(K58,$AD$7:AE60,2,FALSE),0)","v":0},null,null,0,null,null,null,null,null,null,"H",{"$f":"COUNTIFS(E7:E104,\"H\",K7:K104,\"A\")","v":0},{"$f":"COUNTIFS(E7:E104,\"H\",K7:K104,\"B\")","v":0},{"$f":"COUNTIFS(E7:E104,\"H\",K7:K104,\"C\")","v":0},null,"H",{"$f":"COUNTIFS(H7:H104,\"H\",K7:K104,\"A\")","v":0},{"$f":"COUNTIFS(H7:H104,\"H\",K7:K104,\"B\")","v":0},{"$f":"COUNTIFS(H7:H104,\"H\",K7:K104,\"C\")","v":0},null,null,"00:00:00","00:00:00",0,{"$f":"SpellNumber((AI58))","v":"No Dollars and No Cents"},3,"No "]
["00:00:00",null,null,null,null,0,null,null,0,null,null,{"$f":"IFERROR(VLOOKUP(K59,$AD$7:AE61,2,FALSE),0)","v":0},null,null,0,null,null,null,null,null,null,"I",{"$f":"COUNTIFS(E7:E104,\"I\",K7:K104,\"A\")","v":0},{"$f":"COUNTIFS(E7:E104,\"I\",K7:K104,\"B\")","v":0},{"$f":"COUNTIFS(E7:E104,\"I\",K7:K104,\"C\")","v":0},null,"I",{"$f":"COUNTIFS(H7:H104,\"I\",K7:K104,\"A\")","v":0},{"$f":"COUNTIFS(H7:H104,\"I\",K7:K104,\"B\")","v":0},{"$f":"COUNTIFS(H7:H104,\"I\",K7:K104,\"C\")","v":0},null,null,"00:00:00","00:00:00",0,{"$f":"SpellNumber((AI59))","v":"No Dollars and No Cents"},3,"No "]
["00:00:00",null,null,null,null,0,null,null,0,null,null,{"$f":"IFERROR(VLOOKUP(K60,$AD$7:AE62,2,FALSE),0)","v":0},null,null,0,null,null,null,null,null,null,"J",{"$f":"COUNTIFS(E7:E104,\"J\",K7:K104,\"A\")","v":0},{"$f":"COUNTIFS(E7:E104,\"J\",K7:K104,\"B\")","v":0},{"$f":"COUNTIFS(E7:E104,\"J\",K7:K104,\"C\")","v":0},null,"J",{"$f":"COUNTIFS(H7:H104,\"J\",K7:K104,\"A\")","v":0},{"$f":"COUNTIFS(H7:H104,\"J\",K7:K104,\"B\")","v":0},{"$f":"COUNTIFS(H7:H104,\"J\",K7:K104,\"C\")","v":0},null,null,"00:00:00","00:00:00",0,{"$f":"SpellNumber((AI60))","v":"No Dollars and No Cents"},3,"No "]
["00:00:00",null,null,null,null,0,null,null,0,null,null,{"$f":"IFERROR(VLOOKUP(K61,$AD$7:AE63,2,FALSE),0)","v":0},null,null,0,null,null,null,null,null,null,"K",{"$f":"COUNTIFS(E7:E104,\"K\",K7:K104,\"A\")","v":0},{"$f":"COUNTIFS(E7:E104,\"K\",K7:K104,\"B\")","v":0},{"$f":"COUNTIFS(E7:E104,\"K\",K7:K104,\"C\")","v":0},null,"K",{"$f":"COUNTIFS(H7:H104,\"K\",K7:K104,\"A\")","v":0},{"$f":"COUNTIFS(H7:H104,\"K\",K7:K104,\"B\")","v":0},{"$f":"COUNTIFS(H7:H104,\"K\",K7:K104,\"C\")","v":0},null,null,"00:00:00","00:00:00",0,{"$f":"SpellNumber((AI61))","v":"No Dollars and No Cents"},3,"No "]
["00:00:00",null,null,null,null,0,null,null,0,null,null,{"$f":"IFERROR(VLOOKUP(K62,$AD$7:AE64,2,FALSE),0)","v":0},null,null,0,null,null,null,null,null,null,"L",{"$f":"COUNTIFS(E7:E104,\"L\",K7:K104,\"A\")","v":0},{"$f":"COUNTIFS(E7:E104,\"L\",K7:K104,\"B\")","v":0},{"$f":"COUNTIFS(E7:E104,\"L\",K7:K104,\"C\")","v":0},null,"L",{"$f":"COUNTIFS(H7:H104,\"L\",K7:K104,\"A\")","v":0},{"$f":"COUNTIFS(H7:H104,\"L\",K7:K104,\"B\")","v":0},{"$f":"COUNTIFS(H7:H104,\"L\",K7:K104,\"C\")","v":0},null,null,"00:00:00","00:00:00",0,{"$f":"SpellNumber((AI62))","v":"No Dollars and No Cents"},3,"No "]
["00:00:00",null,null,null,null,0,null,null,0,null,null,{"$f":"IFERROR(VLOOKUP(K63,$AD$7:AE65,2,FALSE),0)","v":0},null,null,0,null,null,null,null,null,null,null,"Beh & Consequences",null,null,null,null,null,null,null,null,null,"00:00:00","00:00:00",0,{"$f":"SpellNumber((AI63))","v":"No Dollars and No Cents"},3,"No "]
["00:00:00",null,null,null,null,0,null,null,0,null,null,{"$f":"IFERROR(VLOOKUP(K64,$AD$7:AE66,2,FALSE),0)","v":0},null,null,0,null,null,null,null,null,null,null,"A","B","C",null,null,null,null,null,null,null,"00:00:00","00:00:00",0,{"$f":"SpellNumber((AI64))","v":"No Dollars and No Cents"},3,"No "]
["00:00:00",null,null,null,null,0,null,null,0,null,null,{"$f":"IFERROR(VLOOKUP(K65,$AD$7:AE67,2,FALSE),0)","v":0},null,null,0,null,null,null,null,null,null,"A",{"$f":"COUNTIFS(N7:N104,\"A\",K7:K104,\"A\")","v":0},{"$f":"COUNTIFS(N7:N104,\"A\",K7:K104,\"B\")","v":0},{"$f":"COUNTIFS(N7:N104,\"A\",K7:K104,\"C\")","v":0},null,null,null,null,null,null,null,"00:00:00","00:00:00",0,{"$f":"SpellNumber((AI65))","v":"No Dollars and No Cents"},3,"No "]
["00:00:00",null,null,null,null,0,null,null,0,null,null,{"$f":"IFERROR(VLOOKUP(K66,$AD$7:AE68,2,FALSE),0)","v":0},null,null,0,null,null,null,null,null,null,"B",{"$f":"COUNTIFS(N7:N104,\"B\",K7:K104,\"A\")","v":0},{"$f":"COUNTIFS(N7:N104,\"B\",K7:K104,\"B\")","v":0},{"$f":"COUNTIFS(N7:N104,\"B\",K7:K104,\"C\")","v":0},null,null,null,null,null,null,null,"00:00:00","00:00:00",0,{"$f":"SpellNumber((AI66))","v":"No Dollars and No Cents"},3,"No "]
["00:00:00",null,null,null,null,0,null,null,0,null,null,{"$f":"IFERROR(VLOOKUP(K67,$AD$7:AE69,2,FALSE),0)","v":0},null,null,0,null,null,null,null,null,null,"C",{"$f":"COUNTIFS(N7:N104,\"C\",K7:K104,\"A\")","v":0},{"$f":"COUNTIFS(N7:N104,\"C\",K7:K104,\"B\")","v":0},{"$f":"COUNTIFS(N7:N104,\"C\",K7:K104,\"C\")","v":0},null,null,null,null,null,null,null,"00:00:00","00:00:00",0,{"$f":"SpellNumber((AI67))","v":"No Dollars and No Cents"},3,"No "]
["00:00:00",null,null,null,null,0,null,null,0,null,null,{"$f":"IFERROR(VLOOKUP(K68,$AD$7:AE70,2,FALSE),0)","v":0},null,null,0,null,null,null,null,null,null,"D",{"$f":"COUNTIFS(N7:N104,\"D\",K7:K104,\"A\")","v":0},{"$f":"COUNTIFS(N7:N104,\"D\",K7:K104,\"B\")","v":0},{"$f":"COUNTIFS(N7:N104,\"D\",K7:K104,\"C\")","v":0},null,null,null,null,null,null,null,"00:00:00","00:00:00",0,{"$f":"SpellNumber((AI68))","v":"No Dollars and No Cents"},3,"No "]
["00:00:00",null,null,null,null,0,null,null,0,null,null,{"$f":"IFERROR(VLOOKUP(K69,$AD$7:AE71,2,FALSE),0)","v":0},null,null,0,null,null,null,null,null,null,"E",{"$f":"COUNTIFS(N7:N104,\"E\",K7:K104,\"A\")","v":0},{"$f":"COUNTIFS(N7:N104,\"E\",K7:K104,\"B\")","v":0},{"$f":"COUNTIFS(N7:N104,\"E\",K7:K104,\"C\")","v":0},null,null,null,null,null,null,null,"00:00:00","00:00:00",0,{"$f":"SpellNumber((AI69))","v":"No Dollars and No Cents"},3,"No "]
["00:00:00",null,null,null,null,0,null,null,0,null,null,{"$f":"IFERROR(VLOOKUP(K70,$AD$7:AE72,2,FALSE),0)","v":0},null,null,0,null,null,null,null,null,null,"F",{"$f":"COUNTIFS(N7:N104,\"F\",K7:K104,\"A\")","v":0},{"$f":"COUNTIFS(N7:N104,\"F\",K7:K104,\"B\")","v":0},{"$f":"COUNTIFS(N7:N104,\"F\",K7:K104,\"C\")","v":0},null,null,null,null,null,null,null,"00:00:00","00:00:00",0,{"$f":"SpellNumber((AI70))","v":"No Dollars and No Cents"},3,"No "]
["00:00:00",null,null,null,null,0,null,null,0,null,null,{"$f":"IFERROR(VLOOKUP(K71,$AD$7:AE73,2,FALSE),0)","v":0},null,null,0,null,null,null,null,null,null,"G",{"$f":"COUNTIFS(N7:N104,\"G\",K7:K104,\"A\")","v":0},{"$f":"COUNTIFS(N7:N104,\"G\",K7:K104,\"B\")","v":0},{"$f":"COUNTIFS(N7:N104,\"G\",K7:K104,\"C\")","v":0},null,null,null,null,null,null,null,"00:00:00","00:00:00",0,{"$f":"SpellNumber((AI71))","v":"No Dollars and No Cents"},3,"No "]
[{"$f":"C72-B72","v":"00:00:00"},null,null,null,null,0,null,null,{"$f":"IFERROR(VLOOKUP(H72,$Z$7:$AA$18,2,FALSE),0)","v":0},null,null,{"$f":"IFERROR(VLOOKUP(K72,$AD$7:AE74,2,FALSE),0)","v":0},null,null,{"$f":"IFERROR(VLOOKUP(N72,$V$22:$W$33,2,FALSE),0)","v":0},null,null,null,null,null,null,"H",{"$f":"COUNTIFS(N7:N104,\"H\",K7:K104,\"A\")","v":0},{"$f":"COUNTIFS(N7:N104,\"H\",K7:K104,\"B\")","v":0},{"$f":"COUNTIFS(N7:N104,\"H\",K7:K104,\"C\")","v":0},null,null,null,null,null,null,null,{"$f":"B72","v":"00:00:00"},{"$f":"TEXT(AG72,\"hh:mm:ss\")","v":"00:00:00"},{"$f":"AG72*24","v":0},{"$f":"SpellNumber((AI72))","v":"No Dollars and No Cents"},{"$f":"FIND(\" Dollar\",AJ72)","v":3},{"$f":"LEFT(AJ72,AK72)","v":"No "}]
["00:00:00",null,null,null,null,{"$f":"IFERROR(VLOOKUP(E73,$V$7:$W$18,2,FALSE),0)","v":0},null,null,0,null,null,{"$f":"IFERROR(VLOOKUP(K73,$AD$7:AE75,2,FALSE),0)","v":0},null,null,0,null,null,null,null,null,null,"I",{"$f":"COUNTIFS(N7:N104,\"I\",K7:K104,\"A\")","v":0},{"$f":"COUNTIFS(N7:N104,\"I\",K7:K104,\"B\")","v":0},{"$f":"COUNTIFS(N7:N104,\"I\",K7:K104,\"C\")","v":0},null,null,null,null,null,null,null,"00:00:00","00:00:00",0,{"$f":"SpellNumber((AI73))","v":"No Dollars and No Cents"},3,"No "]
["00:00:00",null,null,null,null,0,null,null,0,null,null,{"$f":"IFERROR(VLOOKUP(K74,$AD$7:AE76,2,FALSE),0)","v":0},null,null,0,null,null,null,null,null,null,"J",{"$f":"COUNTIFS(N7:N104,\"J\",K7:K104,\"A\")","v":0},{"$f":"COUNTIFS(N7:N104,\"J\",K7:K104,\"B\")","v":0},{"$f":"COUNTIFS(N7:N104,\"J\",K7:K104,\"C\")","v":0},null,null,null,null,null,null,null,"00:00:00","00:00:00",0,{"$f":"SpellNumber((AI74))","v":"No Dollars and No Cents"},3,"No "]
["00:00:00",null,null,null,null,0,null,null,0,null,null,{"$f":"IFERROR(VLOOKUP(K75,$AD$7:AE77,2,FALSE),0)","v":0},null,null,0,null,null,null,null,null,null,"K",{"$f":"COUNTIFS(N7:N104,\"K\",K7:K104,\"A\")","v":0},{"$f":"COUNTIFS(N7:N104,\"K\",K7:K104,\"B\")","v":0},{"$f":"COUNTIFS(N7:N104,\"K\",K7:K104,\"C\")","v":0},null,null,null,null,null,null,null,"00:00:00","00:00:00",0,{"$f":"SpellNumber((AI75))","v":"No Dollars and No Cents"},3,"No "]
["00:00:00",null,null,null,null,0,null,null,0,null,null,{"$f":"IFERROR(VLOOKUP(K76,$AD$7:AE78,2,FALSE),0)","v":0},null,null,0,null,null,null,null,null,null,"L",{"$f":"COUNTIFS(N7:N104,\"L\",K7:K104,\"A\")","v":0},{"$f":"COUNTIFS(N7:N104,\"L\",K7:K104,\"B\")","v":0},{"$f":"COUNTIFS(N7:N104,\"L\",K7:K104,\"C\")","v":0},null,null,null,null,null,null,null,"00:00:00","00:00:00",0,{"$f":"SpellNumber((AI76))","v":"No Dollars and No Cents"},3,"No "]
["00:00:00",null,null,null,null,0,null,null,0,null,null,{"$f":"IFERROR(VLOOKUP(K77,$AD$7:AE79,2,FALSE),0)","v":0},null,null,0,null,null,null,null,null,null,null,null,null,null,null,null,null,null,null,null,null,"00:00:00","00:00:00",0,{"$f":"SpellNumber((AI77))","v":"No Dollars and No Cents"},3,"No "]
["00:00:00",null,null,null,null,0,null,null,0,null,null,{"$f":"IFERROR(VLOOKUP(K78,$AD$7:AE80,2,FALSE),0)","v":0},null,null,0,null,null,null,null,null,null,null,null,null,null,null,null,null,null,null,null,null,"00:00:00","00:00:00",0,{"$f":"SpellNumber((AI78))","v":"No Dollars and No Cents"},3,"No "]
["00:00:00",null,null,null,null,0,null,null,0,null,null,{"$f":"IFERROR(VLOOKUP(K79,$AD$7:AE81,2,FALSE),0)","v":0},null,null,0,null,null,null,null,null,null,null,null,null,null,null,null,null,null,null,null,null,"00:00:00","00:00:00",0,{"$f":"SpellNumber((AI79))","v":"No Dollars and No Cents"},3,"No "]
["00:00:00",null,null,null,null,0,null,null,0,null,null,{"$f":"IFERROR(VLOOKUP(K80,$AD$7:AE82,2,FALSE),0)","v":0},null,null,0,null,null,null,null,null,null,null,null,null,null,null,null,null,null,null,null,null,"00:00:00","00:00:00",0,{"$f":"SpellNumber((AI80))","v":"No Dollars and No Cents"},3,"No "]
["00:00:00",null,null,null,null,0,null,null,0,null,null,{"$f":"IFERROR(VLOOKUP(K81,$AD$7:AE83,2,FALSE),0)","v":0},null,null,0,null,null,null,null,null,null,null,null,null,null,null,null,null,null,null,null,null,"00:00:00","00:00:00",0,{"$f":"SpellNumber((AI81))","v":"No Dollars and No Cents"},3,"No "]
["00:00:00",null,null,null,null,0,null,null,0,null,null,{"$f":"IFERROR(VLOOKUP(K82,$AD$7:AE84,2,FALSE),0)","v":0},null,null,0,null,null,null,null,null,null,null,null,null,null,null,null,null,null,null,null,null,"00:00:00","00:00:00",0,{"$f":"SpellNumber((AI82))","v":"No Dollars and No Cents"},3,"No "]
["00:00:00",null,null,null,null,0,null,null,0,null,null,{"$f":"IFERROR(VLOOKUP(K83,$AD$7:AE85,2,FALSE),0)","v":0},null,null,0,null,null,null,null,null,null,null,null,null,null,null,null,null,null,null,null,null,"00:00:00","00:00:00",0,{"$f":"SpellNumber((AI83))","v":"No Dollars and No Cents"},3,"No "]
["00:00:00",null,null,null,null,0,null,null,0,null,null,{"$f":"IFERROR(VLOOKUP(K84,$AD$7:AE86,2,FALSE),0)","v":0},null,null,0,null,null,null,null,null,null,null,null,null,null,null,null,null,null,null,null,null,"00:00:00","00:00:00",0,{"$f":"SpellNumber((AI84))","v":"No Dollars and No Cents"},3,"No "]
["00:00:00",null,null,null,null,0,null,null,0,null,null,{"$f":"IFERROR(VLOOKUP(K85,$AD$7:AE87,2,FALSE),0)","v":0},null,null,0,null,null,null,null,null,null,null,null,null,null,null,null,null,null,null,null,null,"00:00:00","00:00:00",0,{"$f":"SpellNumber((AI85))","v":"No Dollars and No Cents"},3,"No "]
["00:00:00",null,null,null,null,0,null,null,0,null,null,{"$f":"IFERROR(VLOOKUP(K86,$AD$7:AE88,2,FALSE),0)","v":0},null,null,0,null,null,null,null,null,null,null,null,null,null,null,null,null,null,null,null,null,"00:00:00","00:00:00",0,{"$f":"SpellNumber((AI86))","v":"No Dollars and No Cents"},3,"No "]
["00:00:00",null,null,null,null,0,null,null,0,null,null,{"$f":"IFERROR(VLOOKUP(K87,$AD$7:AE89,2,FALSE),0)","v":0},null,null,0,null,null,null,null,null,null,null,null,null,null,null,null,null,null,null,null,null,"00:00:00","00:00:00",0,{"$f":"SpellNumber((AI87))","v":"No Dollars and No Cents"},3,"No "]
["00:00:00",null,null,null,null,0,null,null,0,null,null,{"$f":"IFERROR(VLOOKUP(K88,$AD$7:AE90,2,FALSE),0)","v":0},null,null,0,null,null,null,null,null,null,null,null,null,null,null,null,null,null,null,null,null,"00:00:00","00:00:00",0,{"$f":"SpellNumber((AI88))","v":"No Dollars and No Cents"},3,"No "]
["00:00:00",null,null,null,null,0,null,null,0,null,null,{"$f":"IFERROR(VLOOKUP(K89,$AD$7:AE91,2,FALSE),0)","v":0},null,null,0,null,null,null,null,null,null,null,null,null,null,null,null,null,null,null,null,null,"00:00:00","00:00:00",0,{"$f":"SpellNumber((AI89))","v":"No Dollars and No Cents"},3,"No "]
["00:00:00",null,null,null,null,0,null,null,0,null,null,{"$f":"IFERROR(VLOOKUP(K90,$AD$7:AE92,2,FALSE),0)","v":0},null,null,0,null,null,null,null,null,null,null,null,null,null,null,null,null,null,null,null,null,"00:00:00","00:00:00",0,{"$f":"SpellNumber((AI90))","v":"No Dollars and No Cents"},3,"No "]
["00:00:00",null,null,null,null,0,null,null,0,null,null,{"$f":"IFERROR(VLOOKUP(K91,$AD$7:AE93,2,FALSE),0)","v":0},null,null,0,null,null,null,"Total Mins",{"$f":"SUM(A7:A104)","v":"00:00:00"},null,null,null,null,null,null,null,null,null,null,null,null,"00:00:00","00:00:00",0,{"$f":"SpellNumber((AI91))","v":"No Dollars and No Cents"},3,"No "]
["00:00:00",null,null,null,null,0,null,null,0,null,null,{"$f":"IFERROR(VLOOKUP(K92,$AD$7:AE94,2,FALSE),0)","v":0},null,null,0,null,null,null,"Settings:","A",{"$f":"COUNTIF(E4:E104,\"A\")","v":0},"Antec.","A",{"$f":"COUNTIF(H4:H104,\"A\")","v":0},"Beh","A",{"$f":"COUNTIF(L4:L104,\"A\")","v":0},"Conse.","A",{"$f":"COUNTIF(O4:O104,\"A\")","v":0},null,null,"00:00:00","00:00:00",0,{"$f":"SpellNumber((AI92))","v":"No Dollars and No Cents"},3,"No "]
["00:00:00",null,null,null,null,0,null,null,0,null,null,{"$f":"IFERROR(VLOOKUP(K93,$AD$7:AE95,2,FALSE),0)","v":0},null,null,0,null,null,null,null,"B",{"$f":"COUNTIF(E5:E105,\"B\")","v":0},null,"B",{"$f":"COUNTIF(H5:H105,\"B\")","v":0},null,"B",{"$f":"COUNTIF(L5:L105,\"B\")","v":0},null,"B",{"$f":"COUNTIF(O5:O105,\"B\")","v":0},null,null,"00:00:00","00:00:00",0,{"$f":"SpellNumber((AI93))","v":"No Dollars and No Cents"},3,"No "]
["00:00:00",null,null,null,null,0,null,null,0,null,null,{"$f":"IFERROR(VLOOKUP(K94,$AD$7:AE96,2,FALSE),0)","v":0},null,null,0,null,null,null,null,"C",{"$f":"COUNTIF(E6:E106,\"C\")","v":0},null,"C",{"$f":"COUNTIF(H6:H106,\"C\")","v":0},null,"C",{"$f":"COUNTIF(L6:L106,\"C\")","v":0},null,"C",{"$f":"COUNTIF(O6:O106,\"C\")","v":0},null,null,"00:00:00","00:00:00",0,{"$f":"SpellNumber((AI94))","v":"No Dollars and No Cents"},3,"No "]
["00:00:00",null,null,null,null,0,null,null,0,null,null,{"$f":"IFERROR(VLOOKUP(K95,$AD$7:AE97,2,FALSE),0)","v":0},null,null,0,null,null,null,null,"D",{"$f":"COUNTIF(E7:E107,\"D\")","v":0},null,"D",{"$f":"COUNTIF(H7:H107,\"D\")","v":0},null,null,null,null,"D",{"$f":"COUNTIF(O7:O107,\"D\")","v":0},null,null,"00:00:00","00:00:00",0,{"$f":"SpellNumber((AI95))","v":"No Dollars and No Cents"},3,"No "]
["00:00:00",null,null,null,null,0,null,null,0,null,null,{"$f":"IFERROR(VLOOKUP(K96,$AD$7:AE98,2,FALSE),0)","v":0},null,null,0,null,null,null,null,"E",{"$f":"COUNTIF(E8:E108,\"E\")","v":0},null,"E",{"$f":"COUNTIF(H8:H108,\"E\")","v":0},null,null,null,null,"E",{"$f":"COUNTIF(O8:O108,\"E\")","v":0},null,null,"00:00:00","00:00:00",0,{"$f":"SpellNumber((AI96))","v":"No Dollars and No Cents"},3,"No "]
["00:00:00",null,null,null,null,0,null,null,0,null,null,{"$f":"IFERROR(VLOOKUP(K97,$AD$7:AE99,2,FALSE),0)","v":0},null,null,0,null,null,null,null,"F",{"$f":"COUNTIF(E9:E109,\"F\")","v":0},null,"F",{"$f":"COUNTIF(H9:H109,\"F\")","v":0},null,null,null,null,"F",{"$f":"COUNTIF(O9:O109,\"F\")","v":0},null,null,"00:00:00","00:00:00",0,{"$f":"SpellNumber((AI97))","v":"No Dollars and No Cents"},3,"No "]
["00:00:00",null,null,null,null,0,null,null,0,null,null,{"$f":"IFERROR(VLOOKUP(K98,$AD$7:AE100,2,FALSE),0)","v":0},null,null,0,null,null,null,null,"G",{"$f":"COUNTIF(E10:E110,\"G\")","v":0},null,"G",{"$f":"COUNTIF(H10:H110,\"G\")","v":0},null,null,null,null,"G",{"$f":"COUNTIF(O10:O110,\"G\")","v":0},null,null,"00:00:00","00:00:00",0,{"$f":"SpellNumber((AI98))","v":"No Dollars and No Cents"},3,"No "]
["00:00:00",null,null,null,null,0,null,null,0,null,null,{"$f":"IFERROR(VLOOKUP(K99,$AD$7:AE101,2,FALSE),0)","v":0},null,null,0,null,null,null,null,"H",{"$f":"COUNTIF(E11:E111,\"H\")","v":0},null,"H",{"$f":"COUNTIF(H11:H111,\"H\")","v":0},null,null,null,null,"H",{"$f":"COUNTIF(O11:O111,\"H\")","v":0},null,null,"00:00:00","00:00:00",0,{"$f":"SpellNumber((AI99))","v":"No Dollars and No Cents"},3,"No "]
["00:00:00",null,null,null,null,0,null,null,0,null,null,{"$f":"IFERROR(VLOOKUP(K100,$AD$7:AE102,2,FALSE),0)","v":0},null,null,0,null,null,null,null,"I",{"$f":"COUNTIF(E12:E112,\"I\")","v":0},null,"I",{"$f":"COUNTIF(H12:H112,\"I\")","v":0},null,null,null,null,"I",{"$f":"COUNTIF(O12:O112,\"I\")","v":0},null,null,"00:00:00","00:00:00",0,{"$f":"SpellNumber((AI100))","v":"No Dollars and No Cents"},3,"No "]
["00:00:00",null,null,null,null,0,null,null,0,null,null,{"$f":"IFERROR(VLOOKUP(K101,$AD$7:AE103,2,FALSE),0)","v":0},null,null,0,null,null,null,null,"J",{"$f":"COUNTIF(E13:E113,\"J\")","v":0},null,"J",{"$f":"COUNTIF(H13:H113,\"J\")","v":0},null,null,null,null,"J",{"$f":"COUNTIF(O13:O113,\"J\")","v":0},null,null,"00:00:00","00:00:00",0,{"$f":"SpellNumber((AI101))","v":"No Dollars and No Cents"},3,"No "]
["00:00:00",null,null,null,null,0,null,null,0,null,null,{"$f":"IFERROR(VLOOKUP(K102,$AD$7:AE104,2,FALSE),0)","v":0},null,null,0,null,null,null,null,"K",{"$f":"COUNTIF(E14:E114,\"K\")","v":0},null,"K",{"$f":"COUNTIF(H14:H114,\"K\")","v":0},null,null,null,null,"K",{"$f":"COUNTIF(O14:O114,\"K\")","v":0},null,null,"00:00:00","00:00:00",0,{"$f":"SpellNumber((AI102))","v":"No Dollars and No Cents"},3,"No "]
["00:00:00",null,null,null,null,0,null,null,0,null,null,{"$f":"IFERROR(VLOOKUP(K103,$AD$7:AE105,2,FALSE),0)","v":0},null,null,0,null,null,null,null,"L",{"$f":"COUNTIF(E15:E115,\"L\")","v":0},null,"L",{"$f":"COUNTIF(H15:H115,\"L\")","v":0},null,null,null,null,"L",{"$f":"COUNTIF(O15:O115,\"L\")","v":0},null,null,"00:00:00","00:00:00",0,{"$f":"SpellNumber((AI103))","v":"No Dollars and No Cents"},3,"No "]
["00:00:00",null,null,null,null,0,null,null,0,null,null,{"$f":"IFERROR(VLOOKUP(K104,$AD$7:AE106,2,FALSE),0)","v":0},null,null,0,null,null,null,null,null,null,null,null,null,null,null,null,null,null,null,null,null,"00:00:00","00:00:00",0,{"$f":"SpellNumber((AI104))","v":"No Dollars and No Cents"},3,"No "]

{"sheet":"Data 17","index":25,"n_rows":104,"n_cols":38,"rows_kept":104,"cut":false,"hidden":false,"merged":[[0,7,3,14]]}
["ATTENDANCE",null,null,null,null,null,null,"Data Collection"]
["If tardy, arrival time",null,null,null,null,null,null,null,null,null,null,null,null,null,null,null,null,null,null,null,null,null,"Date",{"$f":"Calendar!E7","v":{"$error":"#N/A"}},{"$f":"TEXT(X2,\"ddd\")","v":{"$error":"#N/A"}}]
["If left early, time",null,null,null,null,null,null,null,null,null,null,null,null,null,null,null,null,null,null,null,null,null,"Frq. Of bx",{"$f":"AA22","v":0}]
[]
[]
["Mins.","Start Time","End Time",null,null,null,null,null,null,null,null,null,null,null,null,null,null,null,null,null,null,null,"Setting",null,null,"Ant",null,null,null,"Beh",null,null,"Raw Data","Time in text","Decimal"]
[{"$f":"C7-B7","v":"00:00:00"},null,null,null,null,{"$f":"IFERROR(VLOOKUP(E7,$V$7:$W$18,2,FALSE),0)","v":0},null,null,{"$f":"IFERROR(VLOOKUP(H7,$Z$7:$AA$18,2,FALSE),0)","v":0},null,null,{"$f":"IFERROR(VLOOKUP(K7,$AD$7:AE9,2,FALSE),0)","v":0},null,null,{"$f":"IFERROR(VLOOKUP(N7,$V$22:$W$33,2,FALSE),0)","v":0},null,null,null,null,null,null,"A",{"$f":"Criteria!C4","v":"Transition"},null,null,"A",{"$f":"Criteria!E4","v":"Transition"},null,null,"A",{"$f":"Criteria!G4","v":0},null,{"$f":"B7","v":"00:00:00"},{"$f":"TEXT(AG7,\"hh:mm:ss\")","v":"00:00:00"},{"$f":"AG7*24","v":0},{"$f":"SpellNumber((AI7))","v":"No Dollars and No Cents"},{"$f":"FIND(\" Dollar\",AJ7)","v":3},{"$f":"LEFT(AJ7,AK7)","v":"No "}]
[{"$f":"C8-B8","v":"00:00:00"},null,null,null,null,{"$f":"IFERROR(VLOOKUP(E8,$V$7:$W$18,2,FALSE),0)","v":0},null,null,{"$f":"IFERROR(VLOOKUP(H8,$Z$7:$AA$18,2,FALSE),0)","v":0},null,null,{"$f":"IFERROR(VLOOKUP(K8,$AD$7:AE10,2,FALSE),0)","v":0},null,null,{"$f":"IFERROR(VLOOKUP(N8,$V$22:$W$33,2,FALSE),0)","v":0},null,null,null,null,null,null,"B",{"$f":"Criteria!C5","v":"Morning Routine"},null,null,"B",{"$f":"Criteria!E5","v":"Denied access ('No')"},null,null,"B",{"$f":"Criteria!G5","v":0},null,{"$f":"B8","v":"00:00:00"},{"$f":"TEXT(AG8,\"hh:mm:ss\")","v":"00:00:00"},{"$f":"AG8*24","v":0},{"$f":"SpellNumber((AI8))","v":"No Dollars and No Cents"},{"$f":"FIND(\" Dollar\",AJ8)","v":3},{"$f":"LEFT(AJ8,AK8)","v":"No "}]
["00:00:00",null,null,null,null,{"$f":"IFERROR(VLOOKUP(E9,$V$7:$W$18,2,FALSE),0)","v":0},null,null,0,null,null,{"$f":"IFERROR(VLOOKUP(K9,$AD$7:AE11,2,FALSE),0)","v":0},null,null,0,null,null,null,null,null,null,"C",{"$f":"Criteria!C6","v":"Group Work"},null,null,"C",{"$f":"Criteria!E6","v":"Instruction/ Directions"},null,null,"C",{"$f":"Criteria!G6","v":0},null,"00:00:00","00:00:00",0,{"$f":"SpellNumber((AI9))","v":"No Dollars and No Cents"},3,"No "]
["00:00:00",null,null,null,null,0,null,null,0,null,null,{"$f":"IFERROR(VLOOKUP(K10,$AD$7:AE12,2,FALSE),0)","v":0},null,null,0,null,null,null,null,null,null,"D",{"$f":"Criteria!C7","v":"Ind. Seat/Work Time"},null,null,"D",{"$f":"Criteria!E7","v":"New Task"},null,null,null,null,null,"00:00:00","00:00:00",0,{"$f":"SpellNumber((AI10))","v":"No Dollars and No Cents"},3,"No "]
["00:00:00",null,null,null,null,0,null,null,0,null,null,{"$f":"IFERROR(VLOOKUP(K11,$AD$7:AE13,2,FALSE),0)","v":0},null,null,0,null,null,null,null,null,null,"E",{"$f":"Criteria!C8","v":"Language Arts"},null,null,"E",{"$f":"Criteria!E8","v":"Tcher attn to other"},null,null,null,null,null,"00:00:00","00:00:00",0,{"$f":"SpellNumber((AI11))","v":"No Dollars and No Cents"},3,"No "]
["00:00:00",null,null,null,null,0,null,null,0,null,null,{"$f":"IFERROR(VLOOKUP(K12,$AD$7:AE14,2,FALSE),0)","v":0},null,null,0,null,null,null,null,null,null,"F",{"$f":"Criteria!C9","v":"Mathematics"},null,null,"F",{"$f":"Criteria!E9","v":"Choice given"},null,null,null,null,null,"00:00:00","00:00:00",0,{"$f":"SpellNumber((AI12))","v":"No Dollars and No Cents"},3,"No "]
["00:00:00",null,null,null,null,0,null,null,0,null,null,{"$f":"IFERROR(VLOOKUP(K13,$AD$7:AE15,2,FALSE),0)","v":0},null,null,0,null,null,null,null,null,null,"G",{"$f":"Criteria!C10","v":"Physical Education"},null,null,"G",{"$f":"Criteria!E10","v":"Redirection"},null,null,null,null,null,"00:00:00","00:00:00",0,{"$f":"SpellNumber((AI13))","v":"No Dollars and No Cents"},3,"No "]
["00:00:00",null,null,null,null,0,null,null,0,null,null,{"$f":"IFERROR(VLOOKUP(K14,$AD$7:AE16,2,FALSE),0)","v":0},null,null,0,null,null,null,null,null,null,"H",{"$f":"Criteria!C11","v":"Music/Art"},null,null,"H",{"$f":"Criteria!E11","v":"Routine Task"},null,null,null,null,null,"00:00:00","00:00:00",0,{"$f":"SpellNumber((AI14))","v":"No Dollars and No Cents"},3,"No "]
["00:00:00",null,null,null,null,0,null,null,0,null,null,{"$f":"IFERROR(VLOOKUP(K15,$AD$7:AE17,2,FALSE),0)","v":0},null,null,0,null,null,null,null,null,null,"I",{"$f":"Criteria!C12","v":"Speech"},null,null,"I",{"$f":"Criteria!E12","v":"Waiting"},null,null,null,null,null,"00:00:00","00:00:00",0,{"$f":"SpellNumber((AI15))","v":"No Dollars and No Cents"},3,"No "]
["00:00:00",null,null,null,null,0,null,null,0,null,null,{"$f":"IFERROR(VLOOKUP(K16,$AD$7:AE18,2,FALSE),0)","v":0},null,null,0,null,null,null,null,null,null,"J",{"$f":"Criteria!C13","v":"OT/PT"},null,null,"J",{"$f":"Criteria!E13","v":"Unknown"},null,null,null,null,null,"00:00:00","00:00:00",0,{"$f":"SpellNumber((AI16))","v":"No Dollars and No Cents"},3,"No "]
["00:00:00",null,null,null,null,0,null,null,0,null,null,{"$f":"IFERROR(VLOOKUP(K17,$AD$7:AE19,2,FALSE),0)","v":0},null,null,0,null,null,null,null,null,null,"K",{"$f":"Criteria!C14","v":"Center"},null,null,"K",{"$f":"Criteria!E14","v":"Ignored"},null,null,null,null,null,"00:00:00","00:00:00",0,{"$f":"SpellNumber((AI17))","v":"No Dollars and No Cents"},3,"No "]
["00:00:00",null,null,null,null,0,null,null,0,null,null,{"$f":"IFERROR(VLOOKUP(K18,$AD$7:AE20,2,FALSE),0)","v":0},null,null,0,null,null,null,null,null,null,"L",{"$f":"Criteria!C15","v":"Other"},null,null,"L",{"$f":"Criteria!E15","v":"Other"},null,null,null,null,null,"00:00:00","00:00:00",0,{"$f":"SpellNumber((AI18))","v":"No Dollars and No Cents"},3,"No "]
["00:00:00",null,null,null,null,0,null,null,0,null,null,{"$f":"IFERROR(VLOOKUP(K19,$AD$7:AE21,2,FALSE),0)","v":0},null,null,0,null,null,null,null,null,null,null,null,null,null,null,null,null,null,null,null,null,"00:00:00","00:00:00",0,{"$f":"SpellNumber((AI19))","v":"No Dollars and No Cents"},3,"No "]
["00:00:00",null,null,null,null,0,null,null,0,null,null,{"$f":"IFERROR(VLOOKUP(K20,$AD$7:AE22,2,FALSE),0)","v":0},null,null,0,null,null,null,null,null,null,null,null,null,null,null,null,null,null,null,null,null,"00:00:00","00:00:00",0,{"$f":"SpellNumber((AI20))","v":"No Dollars and No Cents"},3,"No "]
["00:00:00",null,null,null,null,0,null,null,0,null,null,{"$f":"IFERROR(VLOOKUP(K21,$AD$7:AE23,2,FALSE),0)","v":0},null,null,0,null,null,null,null,null,null,null,"Con",null,"Bx Frequency Per Day",null,null,null,null,null,null,null,"00:00:00","00:00:00",0,{"$f":"SpellNumber((AI21))","v":"No Dollars and No Cents"},3,"No "]
["00:00:00",null,null,null,null,0,null,null,0,null,null,{"$f":"IFERROR(VLOOKUP(K22,$AD$7:AE24,2,FALSE),0)","v":0},null,null,0,null,null,null,null,null,null,"A",{"$f":"Criteria!I4","v":"Choice Given"},"A",{"$f":"COUNTIF(K7:K104,\"A\")","v":0},null,{"$f":"SUM(Y22:Y24)","v":0},null,"Bin Dec","Frequency of Time",null,null,"00:00:00","00:00:00",0,{"$f":"SpellNumber((AI22))","v":"No Dollars and No Cents"},3,"No "]
["00:00:00",null,null,null,null,0,null,null,0,null,null,{"$f":"IFERROR(VLOOKUP(K23,$AD$7:AE25,2,FALSE),0)","v":0},null,null,0,null,null,null,null,null,null,"B",{"$f":"Criteria!I5","v":"Ignored"},"B",{"$f":"COUNTIF(K7:K104,\"B\")","v":0},null,null,null,"Seven",{"$f":"COUNTIF(AL7:AL104,\"*Seven*\")","v":0},null,null,"00:00:00","00:00:00",0,{"$f":"SpellNumber((AI23))","v":"No Dollars and No Cents"},3,"No "]
["00:00:00",null,null,null,null,0,null,null,0,null,null,{"$f":"IFERROR(VLOOKUP(K24,$AD$7:AE26,2,FALSE),0)","v":0},null,null,0,null,null,null,null,null,null,"C",{"$f":"Criteria!I6","v":"Redirection"},"C",{"$f":"COUNTIF(K7:K104,\"C\")","v":0},null,null,null,"Eight",{"$f":"COUNTIF(AL7:AL104,\"*Eight*\")","v":0},null,null,"00:00:00","00:00:00",0,{"$f":"SpellNumber((AI24))","v":"No Dollars and No Cents"},3,"No "]
["00:00:00",null,null,null,null,0,null,null,0,null,null,{"$f":"IFERROR(VLOOKUP(K25,$AD$7:AE27,2,FALSE),0)","v":0},null,null,0,null,null,null,null,null,null,"D",{"$f":"Criteria!I7","v":"Kept the demand"},null,"Bx Druation Per Day",null,null,null,"Nine",{"$f":"COUNTIF(AL7:AL104,\"*Nine*\")","v":0},null,null,"00:00:00","00:00:00",0,{"$f":"SpellNumber((AI25))","v":"No Dollars and No Cents"},3,"No "]
["00:00:00",null,null,null,null,0,null,null,0,null,null,{"$f":"IFERROR(VLOOKUP(K26,$AD$7:AE28,2,FALSE),0)","v":0},null,null,0,null,null,null,null,null,null,"E",{"$f":"Criteria!I8","v":"Changed activity"},"A",{"$f":"SUMIF(K7:K104,\"A\",A7:A104)","v":"00:00:00"},null,null,null,"Ten",{"$f":"COUNTIF(AL7:AL12,\"*Ten*\")","v":0},null,null,"00:00:00","00:00:00",0,{"$f":"SpellNumber((AI26))","v":"No Dollars and No Cents"},3,"No "]
["00:00:00",null,null,null,null,0,null,null,0,null,null,{"$f":"IFERROR(VLOOKUP(K27,$AD$7:AE29,2,FALSE),0)","v":0},null,null,0,null,null,null,null,null,null,"F",{"$f":"Criteria!I9","v":"Verbal reprimand"},"B",{"$f":"SUMIF(K7:K104,\"B\",A7:A104)","v":"00:00:00"},null,null,null,"Eleven",{"$f":"COUNTIF(AL7:AL104,\"*Eleven*\")","v":0},null,null,"00:00:00","00:00:00",0,{"$f":"SpellNumber((AI27))","v":"No Dollars and No Cents"},3,"No "]
["00:00:00",null,null,null,null,0,null,null,0,null,null,{"$f":"IFERROR(VLOOKUP(K28,$AD$7:AE30,2,FALSE),0)","v":0},null,null,0,null,null,null,null,null,null,"G",{"$f":"Criteria!I10","v":"Told to wait"},"C",{"$f":"SUMIF(K7:K104,\"C\",A7:A104)","v":"00:00:00"},null,null,null,"Twelve",{"$f":"COUNTIF(AL7:AL104,\"*Twelve*\")","v":0},null,null,"00:00:00","00:00:00",0,{"$f":"SpellNumber((AI28))","v":"No Dollars and No Cents"},3,"No "]
["00:00:00",null,null,null,null,0,null,null,0,null,null,{"$f":"IFERROR(VLOOKUP(K29,$AD$7:AE31,2,FALSE),0)","v":0},null,null,0,null,null,null,null,null,null,"H",{"$f":"Criteria!I11","v":"Physical Prompt"},null,null,null,null,null,"One",{"$f":"COUNTIF(AL7:AL104,\"*One*\")","v":0},null,null,"00:00:00","00:00:00",0,{"$f":"SpellNumber((AI29))","v":"No Dollars and No Cents"},3,"No "]
["00:00:00",null,null,null,null,0,null,null,0,null,null,{"$f":"IFERROR(VLOOKUP(K30,$AD$7:AE32,2,FALSE),0)","v":0},null,null,0,null,null,null,null,null,null,"I",{"$f":"Criteria!I12","v":"Verbal prompt"},null,null,null,null,null,"Two",{"$f":"COUNTIF(AL7:AL104,\"*Two*\")","v":0},null,null,"00:00:00","00:00:00",0,{"$f":"SpellNumber((AI30))","v":"No Dollars and No Cents"},3,"No "]
["00:00:00",null,null,null,null,0,null,null,0,null,null,{"$f":"IFERROR(VLOOKUP(K31,$AD$7:AE33,2,FALSE),0)","v":0},null,null,0,null,null,null,null,null,null,"J",{"$f":"Criteria!I13","v":"Told to wait"},null,null,null,null,null,"Three",{"$f":"COUNTIF(AL7:AL104,\"*Three*\")","v":0},null,null,"00:00:00","00:00:00",0,{"$f":"SpellNumber((AI31))","v":"No Dollars and No Cents"},3,"No "]
["00:00:00",null,null,null,null,0,null,null,0,null,null,{"$f":"IFERROR(VLOOKUP(K32,$AD$7:AE34,2,FALSE),0)","v":0},null,null,0,null,null,null,null,null,null,"K",{"$f":"Criteria!I14","v":"Unknown"},null,null,null,null,null,"Four",{"$f":"COUNTIF(AL7:AL104,\"*Four*\")","v":0},null,null,"00:00:00","00:00:00",0,{"$f":"SpellNumber((AI32))","v":"No Dollars and No Cents"},3,"No "]
["00:00:00",null,null,null,null,0,null,null,0,null,null,{"$f":"IFERROR(VLOOKUP(K33,$AD$7:AE35,2,FALSE),0)","v":0},null,null,0,null,null,null,null,null,null,"L",{"$f":"Criteria!I15","v":"Other"},null,null,null,null,null,null,null,null,null,"00:00:00","00:00:00",0,{"$f":"SpellNumber((AI33))","v":"No Dollars and No Cents"},3,"No "]
["00:00:00",null,null,null,null,0,null,null,0,null,null,{"$f":"IFERROR(VLOOKUP(K34,$AD$7:AE36,2,FALSE),0)","v":0},null,null,0,null,null,null,null,null,null,null,null,null,null,null,null,null,null,null,null,null,"00:00:00","00:00:00",0,{"$f":"SpellNumber((AI34))","v":"No Dollars and No Cents"},3,"No "]
["00:00:00",null,null,null,null,0,null,null,0,null,null,{"$f":"IFERROR(VLOOKUP(K35,$AD$7:AE37,2,FALSE),0)","v":0},null,null,0,null,null,null,null,null,null,null,"Context Frequency","Consequence","Antedencents",null,null,null,null,null,null,null,"00:00:00","00:00:00",0,{"$f":"SpellNumber((AI35))","v":"No Dollars and No Cents"},3,"No "]
["00:00:00",null,null,null,null,0,null,null,0,null,null,{"$f":"IFERROR(VLOOKUP(K36,$AD$7:AE38,2,FALSE),0)","v":0},null,null,0,null,null,null,null,null,null,"A",{"$f":"COUNTIF(E7:E104,\"A\")","v":0},{"$f":"COUNTIF(N7:N104,\"A\")","v":0},{"$f":"COUNTIF(H7:H104,\"A\")","v":0},null,null,null,null,null,null,null,"00:00:00","00:00:00",0,{"$f":"SpellNumber((AI36))","v":"No Dollars and No Cents"},3,"No "]
["00:00:00",null,null,null,null,0,null,null,0,null,null,{"$f":"IFERROR(VLOOKUP(K37,$AD$7:AE39,2,FALSE),0)","v":0},null,null,0,null,null,null,null,null,null,"B",{"$f":"COUNTIF(E8:E105,\"B\")","v":0},{"$f":"COUNTIF(N7:N104,\"B\")","v":0},{"$f":"COUNTIF(H7:H104,\"B\")","v":0},null,null,null,null,null,null,null,"00:00:00","00:00:00",0,{"$f":"SpellNumber((AI37))","v":"No Dollars and No Cents"},3,"No "]
["00:00:00",null,null,null,null,0,null,null,0,null,null,{"$f":"IFERROR(VLOOKUP(K38,$AD$7:AE40,2,FALSE),0)","v":0},null,null,0,null,null,null,null,null,null,"C",{"$f":"COUNTIF(E8:E105,\"C\")","v":0},{"$f":"COUNTIF(N7:N104,\"C\")","v":0},{"$f":"COUNTIF(H7:H104,\"C\")","v":0},null,null,null,null,null,null,null,"00:00:00","00:00:00",0,{"$f":"SpellNumber((AI38))","v":"No Dollars and No Cents"},3,"No "]
["00:00:00",null,null,null,null,0,null,null,0,null,null,{"$f":"IFERROR(VLOOKUP(K39,$AD$7:AE41,2,FALSE),0)","v":0},null,null,0,null,null,null,null,null,null,"D",{"$f":"COUNTIF(E8:E105,\"D\")","v":0},{"$f":"COUNTIF(N7:N104,\"D\")","v":0},{"$f":"COUNTIF(H7:H104,\"D\")","v":0},null,null,null,null,null,null,null,"00:00:00","00:00:00",0,{"$f":"SpellNumber((AI39))","v":"No Dollars and No Cents"},3,"No "]
["00:00:00",null,null,null,null,0,null,null,0,null,null,{"$f":"IFERROR(VLOOKUP(K40,$AD$7:AE42,2,FALSE),0)","v":0},null,null,0,null,null,null,null,null,null,"E",{"$f":"COUNTIF(E8:E105,\"E\")","v":0},{"$f":"COUNTIF(N7:N104,\"E\")","v":0},{"$f":"COUNTIF(H7:H104,\"E\")","v":0},null,null,null,null,null,null,null,"00:00:00","00:00:00",0,{"$f":"SpellNumber((AI40))","v":"No Dollars and No Cents"},3,"No "]
["00:00:00",null,null,null,null,0,null,null,0,null,null,{"$f":"IFERROR(VLOOKUP(K41,$AD$7:AE43,2,FALSE),0)","v":0},null,null,0,null,null,null,null,null,null,"F",{"$f":"COUNTIF(E8:E105,\"F\")","v":0},{"$f":"COUNTIF(N7:N104,\"F\")","v":0},{"$f":"COUNTIF(H7:H104,\"F\")","v":0},null,null,null,null,null,null,null,"00:00:00","00:00:00",0,{"$f":"SpellNumber((AI41))","v":"No Dollars and No Cents"},3,"No "]
["00:00:00",null,null,null,null,0,null,null,0,null,null,{"$f":"IFERROR(VLOOKUP(K42,$AD$7:AE44,2,FALSE),0)","v":0},null,null,0,null,null,null,null,null,null,"G",{"$f":"COUNTIF(E8:E105,\"G\")","v":0},{"$f":"COUNTIF(N7:N104,\"G\")","v":0},{"$f":"COUNTIF(H7:H104,\"G\")","v":0},null,null,null,null,null,null,null,"00:00:00","00:00:00",0,{"$f":"SpellNumber((AI42))","v":"No Dollars and No Cents"},3,"No "]
["00:00:00",null,null,null,null,0,null,null,0,null,null,{"$f":"IFERROR(VLOOKUP(K43,$AD$7:AE45,2,FALSE),0)","v":0},null,null,0,null,null,null,null,null,null,"H",{"$f":"COUNTIF(E8:E105,\"H\")","v":0},{"$f":"COUNTIF(N7:N104,\"H\")","v":0},{"$f":"COUNTIF(H7:H104,\"H\")","v":0},null,null,null,null,null,null,null,"00:00:00","00:00:00",0,{"$f":"SpellNumber((AI43))","v":"No Dollars and No Cents"},3,"No "]
["00:00:00",null,null,null,null,0,null,null,0,null,null,{"$f":"IFERROR(VLOOKUP(K44,$AD$7:AE46,2,FALSE),0)","v":0},null,null,0,null,null,null,null,null,null,"I",{"$f":"COUNTIF(E8:E105,\"I\")","v":0},{"$f":"COUNTIF(N7:N104,\"I\")","v":0},{"$f":"COUNTIF(H7:H104,\"I\")","v":0},null,null,null,null,null,null,null,"00:00:00","00:00:00",0,{"$f":"SpellNumber((AI44))","v":"No Dollars and No Cents"},3,"No "]
["00:00:00",null,null,null,null,0,null,null,0,null,null,{"$f":"IFERROR(VLOOKUP(K45,$AD$7:AE47,2,FALSE),0)","v":0},null,null,0,null,null,null,null,null,null,"J",{"$f":"COUNTIF(E8:E105,\"J\")","v":0},{"$f":"COUNTIF(N7:N104,\"J\")","v":0},{"$f":"COUNTIF(H7:H104,\"J\")","v":0},null,null,null,null,null,null,null,"00:00:00","00:00:00",0,{"$f":"SpellNumber((AI45))","v":"No Dollars and No Cents"},3,"No "]
["00:00:00",null,null,null,null,0,null,null,0,null,null,{"$f":"IFERROR(VLOOKUP(K46,$AD$7:AE48,2,FALSE),0)","v":0},null,null,0,null,null,null,null,null,null,"K",{"$f":"COUNTIF(E8:E105,\"K\")","v":0},{"$f":"COUNTIF(N7:N104,\"K\")","v":0},{"$f":"COUNTIF(H7:H104,\"K\")","v":0},null,null,null,null,null,null,null,"00:00:00","00:00:00",0,{"$f":"SpellNumber((AI46))","v":"No Dollars and No Cents"},3,"No "]
["00:00:00",null,null,null,null,0,null,null,0,null,null,{"$f":"IFERROR(VLOOKUP(K47,$AD$7:AE49,2,FALSE),0)","v":0},null,null,0,null,null,null,null,null,null,"L",{"$f":"COUNTIF(E8:E105,\"l\")","v":0},{"$f":"COUNTIF(N7:N104,\"L\")","v":0},{"$f":"COUNTIF(H7:H104,\"L\")","v":0},null,null,null,null,null,null,null,"00:00:00","00:00:00",0,{"$f":"SpellNumber((AI47))","v":"No Dollars and No Cents"},3,"No "]
["00:00:00",null,null,null,null,0,null,null,0,null,null,{"$f":"IFERROR(VLOOKUP(K48,$AD$7:AE50,2,FALSE),0)","v":0},null,null,0,null,null,null,null,null,null,null,null,null,null,null,null,null,null,null,null,null,"00:00:00","00:00:00",0,{"$f":"SpellNumber((AI48))","v":"No Dollars and No Cents"},3,"No "]
["00:00:00",null,null,null,null,0,null,null,0,null,null,{"$f":"IFERROR(VLOOKUP(K49,$AD$7:AE51,2,FALSE),0)","v":0},null,null,0,null,null,null,null,null,null,null,"Beh & Setting ",null,null,null,"Beh & Antecedents",null,null,null,null,null,"00:00:00","00:00:00",0,{"$f":"SpellNumber((AI49))","v":"No Dollars and No Cents"},3,"No "]
["00:00:00",null,null,null,null,0,null,null,0,null,null,{"$f":"IFERROR(VLOOKUP(K50,$AD$7:AE52,2,FALSE),0)","v":0},null,null,0,null,null,null,null,null,null,null,"A","B","C",null,null,"A","B","C",null,null,"00:00:00","00:00:00",0,{"$f":"SpellNumber((AI50))","v":"No Dollars and No Cents"},3,"No "]
["00:00:00",null,null,null,null,0,null,null,0,null,null,{"$f":"IFERROR(VLOOKUP(K51,$AD$7:AE53,2,FALSE),0)","v":0},null,null,0,null,null,null,null,null,null,"A",{"$f":"COUNTIFS(E7:E104,\"A\",K7:K104,\"A\")","v":0},{"$f":"COUNTIFS(E7:E104,\"A\",K7:K104,\"B\")","v":0},{"$f":"COUNTIFS(E7:E104,\"A\",K7:K104,\"C\")","v":0},null,"A",{"$f":"COUNTIFS(H7:H104,\"a\",K7:K104,\"A\")","v":0},{"$f":"COUNTIFS(H7:H104,\"A\",K7:K104,\"B\")","v":0},{"$f":"COUNTIFS(H7:H104,\"A\",K7:K104,\"C\")","v":0},null,null,"00:00:00","00:00:00",0,{"$f":"SpellNumber((AI51))","v":"No Dollars and No Cents"},3,"No "]
["00:00:00",null,null,null,null,0,null,null,0,null,null,{"$f":"IFERROR(VLOOKUP(K52,$AD$7:AE54,2,FALSE),0)","v":0},null,null,0,null,null,null,null,null,null,"B",{"$f":"COUNTIFS(E7:E104,\"B\",K7:K104,\"A\")","v":0},{"$f":"COUNTIFS(E7:E104,\"B\",K7:K104,\"B\")","v":0},{"$f":"COUNTIFS(E7:E104,\"B\",K7:K104,\"C\")","v":0},null,"B",{"$f":"COUNTIFS(H7:H104,\"B\",K7:K104,\"A\")","v":0},{"$f":"COUNTIFS(H7:H104,\"B\",K7:K104,\"B\")","v":0},{"$f":"COUNTIFS(H7:H104,\"B\",K7:K104,\"C\")","v":0},null,null,"00:00:00","00:00:00",0,{"$f":"SpellNumber((AI52))","v":"No Dollars and No Cents"},3,"No "]
["00:00:00",null,null,null,null,0,null,null,0,null,null,{"$f":"IFERROR(VLOOKUP(K53,$AD$7:AE55,2,FALSE),0)","v":0},null,null,0,null,null,null,null,null,null,"C",{"$f":"COUNTIFS(K7:K104,\"C\",K7:K104,\"A\")","v":0},{"$f":"COUNTIFS(E7:E104,\"C\",K7:K104,\"B\")","v":0},{"$f":"COUNTIFS(E7:E104,\"C\",K7:K104,\"C\")","v":0},null,"C",{"$f":"COUNTIFS(H7:H104,\"C\",K7:K104,\"A\")","v":0},{"$f":"COUNTIFS(H7:H104,\"C\",K7:K104,\"B\")","v":0},{"$f":"COUNTIFS(H7:H104,\"C\",K7:K104,\"C\")","v":0},null,null,"00:00:00","00:00:00",0,{"$f":"SpellNumber((AI53))","v":"No Dollars and No Cents"},3,"No "]
["00:00:00",null,null,null,null,0,null,null,0,null,null,{"$f":"IFERROR(VLOOKUP(K54,$AD$7:AE56,2,FALSE),0)","v":0},null,null,0,null,null,null,null,null,null,"D",{"$f":"COUNTIFS(E7:E104,\"D\",K7:K104,\"A\")","v":0},{"$f":"COUNTIFS(E7:E104,\"D\",K7:K104,\"B\")","v":0},{"$f":"COUNTIFS(E7:E104,\"D\",K7:K104,\"C\")","v":0},null,"D",{"$f":"COUNTIFS(H7:H104,\"D\",K7:K104,\"A\")","v":0},{"$f":"COUNTIFS(H7:H104,\"D\",K7:K104,\"B\")","v":0},{"$f":"COUNTIFS(H7:H104,\"D\",K7:K104,\"C\")","v":0},null,null,"00:00:00","00:00:00",0,{"$f":"SpellNumber((AI54))","v":"No Dollars and No Cents"},3,"No "]
["00:00:00",null,null,null,null,0,null,null,0,null,null,{"$f":"IFERROR(VLOOKUP(K55,$AD$7:AE57,2,FALSE),0)","v":0},null,null,0,null,null,null,null,null,null,"E",{"$f":"COUNTIFS(E7:E104,\"E\",K7:K104,\"A\")","v":0},{"$f":"COUNTIFS(E7:E104,\"E\",K7:K104,\"B\")","v":0},{"$f":"COUNTIFS(E7:E104,\"E\",K7:K104,\"C\")","v":0},null,"E",{"$f":"COUNTIFS(H7:H104,\"E\",K7:K104,\"A\")","v":0},{"$f":"COUNTIFS(H7:H104,\"E\",K7:K104,\"B\")","v":0},{"$f":"COUNTIFS(H7:H104,\"E\",K7:K104,\"C\")","v":0},null,null,"00:00:00","00:00:00",0,{"$f":"SpellNumber((AI55))","v":"No Dollars and No Cents"},3,"No "]
["00:00:00",null,null,null,null,0,null,null,0,null,null,{"$f":"IFERROR(VLOOKUP(K56,$AD$7:AE58,2,FALSE),0)","v":0},null,null,0,null,null,null,null,null,null,"F",{"$f":"COUNTIFS(E7:E104,\"F\",K7:K104,\"A\")","v":0},{"$f":"COUNTIFS(E7:E104,\"F\",K7:K104,\"B\")","v":0},{"$f":"COUNTIFS(E7:E104,\"F\",K7:K104,\"C\")","v":0},null,"F",{"$f":"COUNTIFS(H7:H104,\"F\",K7:K104,\"A\")","v":0},{"$f":"COUNTIFS(H7:H104,\"F\",K7:K104,\"B\")","v":0},{"$f":"COUNTIFS(H7:H104,\"F\",K7:K104,\"C\")","v":0},null,null,"00:00:00","00:00:00",0,{"$f":"SpellNumber((AI56))","v":"No Dollars and No Cents"},3,"No "]
["00:00:00",null,null,null,null,0,null,null,0,null,null,{"$f":"IFERROR(VLOOKUP(K57,$AD$7:AE59,2,FALSE),0)","v":0},null,null,0,null,null,null,null,null,null,"G",{"$f":"COUNTIFS(E7:E104,\"G\",K7:K104,\"A\")","v":0},{"$f":"COUNTIFS(E7:E104,\"G\",K7:K104,\"B\")","v":0},{"$f":"COUNTIFS(E7:E104,\"G\",K7:K104,\"C\")","v":0},null,"G",{"$f":"COUNTIFS(H7:H104,\"G\",K7:K104,\"A\")","v":0},{"$f":"COUNTIFS(H7:H104,\"G\",K7:K104,\"B\")","v":0},{"$f":"COUNTIFS(H7:H104,\"G\",K7:K104,\"C\")","v":0},null,null,"00:00:00","00:00:00",0,{"$f":"SpellNumber((AI57))","v":"No Dollars and No Cents"},3,"No "]
["00:00:00",null,null,null,null,0,null,null,0,null,null,{"$f":"IFERROR(VLOOKUP(K58,$AD$7:AE60,2,FALSE),0)","v":0},null,null,0,null,null,null,null,null,null,"H",{"$f":"COUNTIFS(E7:E104,\"H\",K7:K104,\"A\")","v":0},{"$f":"COUNTIFS(E7:E104,\"H\",K7:K104,\"B\")","v":0},{"$f":"COUNTIFS(E7:E104,\"H\",K7:K104,\"C\")","v":0},null,"H",{"$f":"COUNTIFS(H7:H104,\"H\",K7:K104,\"A\")","v":0},{"$f":"COUNTIFS(H7:H104,\"H\",K7:K104,\"B\")","v":0},{"$f":"COUNTIFS(H7:H104,\"H\",K7:K104,\"C\")","v":0},null,null,"00:00:00","00:00:00",0,{"$f":"SpellNumber((AI58))","v":"No Dollars and No Cents"},3,"No "]
["00:00:00",null,null,null,null,0,null,null,0,null,null,{"$f":"IFERROR(VLOOKUP(K59,$AD$7:AE61,2,FALSE),0)","v":0},null,null,0,null,null,null,null,null,null,"I",{"$f":"COUNTIFS(E7:E104,\"I\",K7:K104,\"A\")","v":0},{"$f":"COUNTIFS(E7:E104,\"I\",K7:K104,\"B\")","v":0},{"$f":"COUNTIFS(E7:E104,\"I\",K7:K104,\"C\")","v":0},null,"I",{"$f":"COUNTIFS(H7:H104,\"I\",K7:K104,\"A\")","v":0},{"$f":"COUNTIFS(H7:H104,\"I\",K7:K104,\"B\")","v":0},{"$f":"COUNTIFS(H7:H104,\"I\",K7:K104,\"C\")","v":0},null,null,"00:00:00","00:00:00",0,{"$f":"SpellNumber((AI59))","v":"No Dollars and No Cents"},3,"No "]
["00:00:00",null,null,null,null,0,null,null,0,null,null,{"$f":"IFERROR(VLOOKUP(K60,$AD$7:AE62,2,FALSE),0)","v":0},null,null,0,null,null,null,null,null,null,"J",{"$f":"COUNTIFS(E7:E104,\"J\",K7:K104,\"A\")","v":0},{"$f":"COUNTIFS(E7:E104,\"J\",K7:K104,\"B\")","v":0},{"$f":"COUNTIFS(E7:E104,\"J\",K7:K104,\"C\")","v":0},null,"J",{"$f":"COUNTIFS(H7:H104,\"J\",K7:K104,\"A\")","v":0},{"$f":"COUNTIFS(H7:H104,\"J\",K7:K104,\"B\")","v":0},{"$f":"COUNTIFS(H7:H104,\"J\",K7:K104,\"C\")","v":0},null,null,"00:00:00","00:00:00",0,{"$f":"SpellNumber((AI60))","v":"No Dollars and No Cents"},3,"No "]
["00:00:00",null,null,null,null,0,null,null,0,null,null,{"$f":"IFERROR(VLOOKUP(K61,$AD$7:AE63,2,FALSE),0)","v":0},null,null,0,null,null,null,null,null,null,"K",{"$f":"COUNTIFS(E7:E104,\"K\",K7:K104,\"A\")","v":0},{"$f":"COUNTIFS(E7:E104,\"K\",K7:K104,\"B\")","v":0},{"$f":"COUNTIFS(E7:E104,\"K\",K7:K104,\"C\")","v":0},null,"K",{"$f":"COUNTIFS(H7:H104,\"K\",K7:K104,\"A\")","v":0},{"$f":"COUNTIFS(H7:H104,\"K\",K7:K104,\"B\")","v":0},{"$f":"COUNTIFS(H7:H104,\"K\",K7:K104,\"C\")","v":0},null,null,"00:00:00","00:00:00",0,{"$f":"SpellNumber((AI61))","v":"No Dollars and No Cents"},3,"No "]
["00:00:00",null,null,null,null,0,null,null,0,null,null,{"$f":"IFERROR(VLOOKUP(K62,$AD$7:AE64,2,FALSE),0)","v":0},null,null,0,null,null,null,null,null,null,"L",{"$f":"COUNTIFS(E7:E104,\"L\",K7:K104,\"A\")","v":0},{"$f":"COUNTIFS(E7:E104,\"L\",K7:K104,\"B\")","v":0},{"$f":"COUNTIFS(E7:E104,\"L\",K7:K104,\"C\")","v":0},null,"L",{"$f":"COUNTIFS(H7:H104,\"L\",K7:K104,\"A\")","v":0},{"$f":"COUNTIFS(H7:H104,\"L\",K7:K104,\"B\")","v":0},{"$f":"COUNTIFS(H7:H104,\"L\",K7:K104,\"C\")","v":0},null,null,"00:00:00","00:00:00",0,{"$f":"SpellNumber((AI62))","v":"No Dollars and No Cents"},3,"No "]
["00:00:00",null,null,null,null,0,null,null,0,null,null,{"$f":"IFERROR(VLOOKUP(K63,$AD$7:AE65,2,FALSE),0)","v":0},null,null,0,null,null,null,null,null,null,null,"Beh & Consequences",null,null,null,null,null,null,null,null,null,"00:00:00","00:00:00",0,{"$f":"SpellNumber((AI63))","v":"No Dollars and No Cents"},3,"No "]
["00:00:00",null,null,null,null,0,null,null,0,null,null,{"$f":"IFERROR(VLOOKUP(K64,$AD$7:AE66,2,FALSE),0)","v":0},null,null,0,null,null,null,null,null,null,null,"A","B","C",null,null,null,null,null,null,null,"00:00:00","00:00:00",0,{"$f":"SpellNumber((AI64))","v":"No Dollars and No Cents"},3,"No "]
["00:00:00",null,null,null,null,0,null,null,0,null,null,{"$f":"IFERROR(VLOOKUP(K65,$AD$7:AE67,2,FALSE),0)","v":0},null,null,0,null,null,null,null,null,null,"A",{"$f":"COUNTIFS(N7:N104,\"A\",K7:K104,\"A\")","v":0},{"$f":"COUNTIFS(N7:N104,\"A\",K7:K104,\"B\")","v":0},{"$f":"COUNTIFS(N7:N104,\"A\",K7:K104,\"C\")","v":0},null,null,null,null,null,null,null,"00:00:00","00:00:00",0,{"$f":"SpellNumber((AI65))","v":"No Dollars and No Cents"},3,"No "]
["00:00:00",null,null,null,null,0,null,null,0,null,null,{"$f":"IFERROR(VLOOKUP(K66,$AD$7:AE68,2,FALSE),0)","v":0},null,null,0,null,null,null,null,null,null,"B",{"$f":"COUNTIFS(N7:N104,\"B\",K7:K104,\"A\")","v":0},{"$f":"COUNTIFS(N7:N104,\"B\",K7:K104,\"B\")","v":0},{"$f":"COUNTIFS(N7:N104,\"B\",K7:K104,\"C\")","v":0},null,null,null,null,null,null,null,"00:00:00","00:00:00",0,{"$f":"SpellNumber((AI66))","v":"No Dollars and No Cents"},3,"No "]
["00:00:00",null,null,null,null,0,null,null,0,null,null,{"$f":"IFERROR(VLOOKUP(K67,$AD$7:AE69,2,FALSE),0)","v":0},null,null,0,null,null,null,null,null,null,"C",{"$f":"COUNTIFS(N7:N104,\"C\",K7:K104,\"A\")","v":0},{"$f":"COUNTIFS(N7:N104,\"C\",K7:K104,\"B\")","v":0},{"$f":"COUNTIFS(N7:N104,\"C\",K7:K104,\"C\")","v":0},null,null,null,null,null,null,null,"00:00:00","00:00:00",0,{"$f":"SpellNumber((AI67))","v":"No Dollars and No Cents"},3,"No "]
["00:00:00",null,null,null,null,0,null,null,0,null,null,{"$f":"IFERROR(VLOOKUP(K68,$AD$7:AE70,2,FALSE),0)","v":0},null,null,0,null,null,null,null,null,null,"D",{"$f":"COUNTIFS(N7:N104,\"D\",K7:K104,\"A\")","v":0},{"$f":"COUNTIFS(N7:N104,\"D\",K7:K104,\"B\")","v":0},{"$f":"COUNTIFS(N7:N104,\"D\",K7:K104,\"C\")","v":0},null,null,null,null,null,null,null,"00:00:00","00:00:00",0,{"$f":"SpellNumber((AI68))","v":"No Dollars and No Cents"},3,"No "]
["00:00:00",null,null,null,null,0,null,null,0,null,null,{"$f":"IFERROR(VLOOKUP(K69,$AD$7:AE71,2,FALSE),0)","v":0},null,null,0,null,null,null,null,null,null,"E",{"$f":"COUNTIFS(N7:N104,\"E\",K7:K104,\"A\")","v":0},{"$f":"COUNTIFS(N7:N104,\"E\",K7:K104,\"B\")","v":0},{"$f":"COUNTIFS(N7:N104,\"E\",K7:K104,\"C\")","v":0},null,null,null,null,null,null,null,"00:00:00","00:00:00",0,{"$f":"SpellNumber((AI69))","v":"No Dollars and No Cents"},3,"No "]
["00:00:00",null,null,null,null,0,null,null,0,null,null,{"$f":"IFERROR(VLOOKUP(K70,$AD$7:AE72,2,FALSE),0)","v":0},null,null,0,null,null,null,null,null,null,"F",{"$f":"COUNTIFS(N7:N104,\"F\",K7:K104,\"A\")","v":0},{"$f":"COUNTIFS(N7:N104,\"F\",K7:K104,\"B\")","v":0},{"$f":"COUNTIFS(N7:N104,\"F\",K7:K104,\"C\")","v":0},null,null,null,null,null,null,null,"00:00:00","00:00:00",0,{"$f":"SpellNumber((AI70))","v":"No Dollars and No Cents"},3,"No "]
["00:00:00",null,null,null,null,0,null,null,0,null,null,{"$f":"IFERROR(VLOOKUP(K71,$AD$7:AE73,2,FALSE),0)","v":0},null,null,0,null,null,null,null,null,null,"G",{"$f":"COUNTIFS(N7:N104,\"G\",K7:K104,\"A\")","v":0},{"$f":"COUNTIFS(N7:N104,\"G\",K7:K104,\"B\")","v":0},{"$f":"COUNTIFS(N7:N104,\"G\",K7:K104,\"C\")","v":0},null,null,null,null,null,null,null,"00:00:00","00:00:00",0,{"$f":"SpellNumber((AI71))","v":"No Dollars and No Cents"},3,"No "]
[{"$f":"C72-B72","v":"00:00:00"},null,null,null,null,0,null,null,{"$f":"IFERROR(VLOOKUP(H72,$Z$7:$AA$18,2,FALSE),0)","v":0},null,null,{"$f":"IFERROR(VLOOKUP(K72,$AD$7:AE74,2,FALSE),0)","v":0},null,null,{"$f":"IFERROR(VLOOKUP(N72,$V$22:$W$33,2,FALSE),0)","v":0},null,null,null,null,null,null,"H",{"$f":"COUNTIFS(N7:N104,\"H\",K7:K104,\"A\")","v":0},{"$f":"COUNTIFS(N7:N104,\"H\",K7:K104,\"B\")","v":0},{"$f":"COUNTIFS(N7:N104,\"H\",K7:K104,\"C\")","v":0},null,null,null,null,null,null,null,{"$f":"B72","v":"00:00:00"},{"$f":"TEXT(AG72,\"hh:mm:ss\")","v":"00:00:00"},{"$f":"AG72*24","v":0},{"$f":"SpellNumber((AI72))","v":"No Dollars and No Cents"},{"$f":"FIND(\" Dollar\",AJ72)","v":3},{"$f":"LEFT(AJ72,AK72)","v":"No "}]
["00:00:00",null,null,null,null,{"$f":"IFERROR(VLOOKUP(E73,$V$7:$W$18,2,FALSE),0)","v":0},null,null,0,null,null,{"$f":"IFERROR(VLOOKUP(K73,$AD$7:AE75,2,FALSE),0)","v":0},null,null,0,null,null,null,null,null,null,"I",{"$f":"COUNTIFS(N7:N104,\"I\",K7:K104,\"A\")","v":0},{"$f":"COUNTIFS(N7:N104,\"I\",K7:K104,\"B\")","v":0},{"$f":"COUNTIFS(N7:N104,\"I\",K7:K104,\"C\")","v":0},null,null,null,null,null,null,null,"00:00:00","00:00:00",0,{"$f":"SpellNumber((AI73))","v":"No Dollars and No Cents"},3,"No "]
["00:00:00",null,null,null,null,0,null,null,0,null,null,{"$f":"IFERROR(VLOOKUP(K74,$AD$7:AE76,2,FALSE),0)","v":0},null,null,0,null,null,null,null,null,null,"J",{"$f":"COUNTIFS(N7:N104,\"J\",K7:K104,\"A\")","v":0},{"$f":"COUNTIFS(N7:N104,\"J\",K7:K104,\"B\")","v":0},{"$f":"COUNTIFS(N7:N104,\"J\",K7:K104,\"C\")","v":0},null,null,null,null,null,null,null,"00:00:00","00:00:00",0,{"$f":"SpellNumber((AI74))","v":"No Dollars and No Cents"},3,"No "]
["00:00:00",null,null,null,null,0,null,null,0,null,null,{"$f":"IFERROR(VLOOKUP(K75,$AD$7:AE77,2,FALSE),0)","v":0},null,null,0,null,null,null,null,null,null,"K",{"$f":"COUNTIFS(N7:N104,\"K\",K7:K104,\"A\")","v":0},{"$f":"COUNTIFS(N7:N104,\"K\",K7:K104,\"B\")","v":0},{"$f":"COUNTIFS(N7:N104,\"K\",K7:K104,\"C\")","v":0},null,null,null,null,null,null,null,"00:00:00","00:00:00",0,{"$f":"SpellNumber((AI75))","v":"No Dollars and No Cents"},3,"No "]
["00:00:00",null,null,null,null,0,null,null,0,null,null,{"$f":"IFERROR(VLOOKUP(K76,$AD$7:AE78,2,FALSE),0)","v":0},null,null,0,null,null,null,null,null,null,"L",{"$f":"COUNTIFS(N7:N104,\"L\",K7:K104,\"A\")","v":0},{"$f":"COUNTIFS(N7:N104,\"L\",K7:K104,\"B\")","v":0},{"$f":"COUNTIFS(N7:N104,\"L\",K7:K104,\"C\")","v":0},null,null,null,null,null,null,null,"00:00:00","00:00:00",0,{"$f":"SpellNumber((AI76))","v":"No Dollars and No Cents"},3,"No "]
["00:00:00",null,null,null,null,0,null,null,0,null,null,{"$f":"IFERROR(VLOOKUP(K77,$AD$7:AE79,2,FALSE),0)","v":0},null,null,0,null,null,null,null,null,null,null,null,null,null,null,null,null,null,null,null,null,"00:00:00","00:00:00",0,{"$f":"SpellNumber((AI77))","v":"No Dollars and No Cents"},3,"No "]
["00:00:00",null,null,null,null,0,null,null,0,null,null,{"$f":"IFERROR(VLOOKUP(K78,$AD$7:AE80,2,FALSE),0)","v":0},null,null,0,null,null,null,null,null,null,null,null,null,null,null,null,null,null,null,null,null,"00:00:00","00:00:00",0,{"$f":"SpellNumber((AI78))","v":"No Dollars and No Cents"},3,"No "]
["00:00:00",null,null,null,null,0,null,null,0,null,null,{"$f":"IFERROR(VLOOKUP(K79,$AD$7:AE81,2,FALSE),0)","v":0},null,null,0,null,null,null,null,null,null,null,null,null,null,null,null,null,null,null,null,null,"00:00:00","00:00:00",0,{"$f":"SpellNumber((AI79))","v":"No Dollars and No Cents"},3,"No "]
["00:00:00",null,null,null,null,0,null,null,0,null,null,{"$f":"IFERROR(VLOOKUP(K80,$AD$7:AE82,2,FALSE),0)","v":0},null,null,0,null,null,null,null,null,null,null,null,null,null,null,null,null,null,null,null,null,"00:00:00","00:00:00",0,{"$f":"SpellNumber((AI80))","v":"No Dollars and No Cents"},3,"No "]
["00:00:00",null,null,null,null,0,null,null,0,null,null,{"$f":"IFERROR(VLOOKUP(K81,$AD$7:AE83,2,FALSE),0)","v":0},null,null,0,null,null,null,null,null,null,null,null,null,null,null,null,null,null,null,null,null,"00:00:00","00:00:00",0,{"$f":"SpellNumber((AI81))","v":"No Dollars and No Cents"},3,"No "]
["00:00:00",null,null,null,null,0,null,null,0,null,null,{"$f":"IFERROR(VLOOKUP(K82,$AD$7:AE84,2,FALSE),0)","v":0},null,null,0,null,null,null,null,null,null,null,null,null,null,null,null,null,null,null,null,null,"00:00:00","00:00:00",0,{"$f":"SpellNumber((AI82))","v":"No Dollars and No Cents"},3,"No "]
["00:00:00",null,null,null,null,0,null,null,0,null,null,{"$f":"IFERROR(VLOOKUP(K83,$AD$7:AE85,2,FALSE),0)","v":0},null,null,0,null,null,null,null,null,null,null,null,null,null,null,null,null,null,null,null,null,"00:00:00","00:00:00",0,{"$f":"SpellNumber((AI83))","v":"No Dollars and No Cents"},3,"No "]
["00:00:00",null,null,null,null,0,null,null,0,null,null,{"$f":"IFERROR(VLOOKUP(K84,$AD$7:AE86,2,FALSE),0)","v":0},null,null,0,null,null,null,null,null,null,null,null,null,null,null,null,null,null,null,null,null,"00:00:00","00:00:00",0,{"$f":"SpellNumber((AI84))","v":"No Dollars and No Cents"},3,"No "]
["00:00:00",null,null,null,null,0,null,null,0,null,null,{"$f":"IFERROR(VLOOKUP(K85,$AD$7:AE87,2,FALSE),0)","v":0},null,null,0,null,null,null,null,null,null,null,null,null,null,null,null,null,null,null,null,null,"00:00:00","00:00:00",0,{"$f":"SpellNumber((AI85))","v":"No Dollars and No Cents"},3,"No "]
["00:00:00",null,null,null,null,0,null,null,0,null,null,{"$f":"IFERROR(VLOOKUP(K86,$AD$7:AE88,2,FALSE),0)","v":0},null,null,0,null,null,null,null,null,null,null,null,null,null,null,null,null,null,null,null,null,"00:00:00","00:00:00",0,{"$f":"SpellNumber((AI86))","v":"No Dollars and No Cents"},3,"No "]
["00:00:00",null,null,null,null,0,null,null,0,null,null,{"$f":"IFERROR(VLOOKUP(K87,$AD$7:AE89,2,FALSE),0)","v":0},null,null,0,null,null,null,null,null,null,null,null,null,null,null,null,null,null,null,null,null,"00:00:00","00:00:00",0,{"$f":"SpellNumber((AI87))","v":"No Dollars and No Cents"},3,"No "]
["00:00:00",null,null,null,null,0,null,null,0,null,null,{"$f":"IFERROR(VLOOKUP(K88,$AD$7:AE90,2,FALSE),0)","v":0},null,null,0,null,null,null,null,null,null,null,null,null,null,null,null,null,null,null,null,null,"00:00:00","00:00:00",0,{"$f":"SpellNumber((AI88))","v":"No Dollars and No Cents"},3,"No "]
["00:00:00",null,null,null,null,0,null,null,0,null,null,{"$f":"IFERROR(VLOOKUP(K89,$AD$7:AE91,2,FALSE),0)","v":0},null,null,0,null,null,null,null,null,null,null,null,null,null,null,null,null,null,null,null,null,"00:00:00","00:00:00",0,{"$f":"SpellNumber((AI89))","v":"No Dollars and No Cents"},3,"No "]
["00:00:00",null,null,null,null,0,null,null,0,null,null,{"$f":"IFERROR(VLOOKUP(K90,$AD$7:AE92,2,FALSE),0)","v":0},null,null,0,null,null,null,null,null,null,null,null,null,null,null,null,null,null,null,null,null,"00:00:00","00:00:00",0,{"$f":"SpellNumber((AI90))","v":"No Dollars and No Cents"},3,"No "]
["00:00:00",null,null,null,null,0,null,null,0,null,null,{"$f":"IFERROR(VLOOKUP(K91,$AD$7:AE93,2,FALSE),0)","v":0},null,null,0,null,null,null,"Total Mins",{"$f":"SUM(A7:A104)","v":"00:00:00"},null,null,null,null,null,null,null,null,null,null,null,null,"00:00:00","00:00:00",0,{"$f":"SpellNumber((AI91))","v":"No Dollars and No Cents"},3,"No "]
["00:00:00",null,null,null,null,0,null,null,0,null,null,{"$f":"IFERROR(VLOOKUP(K92,$AD$7:AE94,2,FALSE),0)","v":0},null,null,0,null,null,null,"Settings:","A",{"$f":"COUNTIF(E4:E104,\"A\")","v":0},"Antec.","A",{"$f":"COUNTIF(H4:H104,\"A\")","v":0},"Beh","A",{"$f":"COUNTIF(L4:L104,\"A\")","v":0},"Conse.","A",{"$f":"COUNTIF(O4:O104,\"A\")","v":0},null,null,"00:00:00","00:00:00",0,{"$f":"SpellNumber((AI92))","v":"No Dollars and No Cents"},3,"No "]
["00:00:00",null,null,null,null,0,null,null,0,null,null,{"$f":"IFERROR(VLOOKUP(K93,$AD$7:AE95,2,FALSE),0)","v":0},null,null,0,null,null,null,null,"B",{"$f":"COUNTIF(E5:E105,\"B\")","v":0},null,"B",{"$f":"COUNTIF(H5:H105,\"B\")","v":0},null,"B",{"$f":"COUNTIF(L5:L105,\"B\")","v":0},null,"B",{"$f":"COUNTIF(O5:O105,\"B\")","v":0},null,null,"00:00:00","00:00:00",0,{"$f":"SpellNumber((AI93))","v":"No Dollars and No Cents"},3,"No "]
["00:00:00",null,null,null,null,0,null,null,0,null,null,{"$f":"IFERROR(VLOOKUP(K94,$AD$7:AE96,2,FALSE),0)","v":0},null,null,0,null,null,null,null,"C",{"$f":"COUNTIF(E6:E106,\"C\")","v":0},null,"C",{"$f":"COUNTIF(H6:H106,\"C\")","v":0},null,"C",{"$f":"COUNTIF(L6:L106,\"C\")","v":0},null,"C",{"$f":"COUNTIF(O6:O106,\"C\")","v":0},null,null,"00:00:00","00:00:00",0,{"$f":"SpellNumber((AI94))","v":"No Dollars and No Cents"},3,"No "]
["00:00:00",null,null,null,null,0,null,null,0,null,null,{"$f":"IFERROR(VLOOKUP(K95,$AD$7:AE97,2,FALSE),0)","v":0},null,null,0,null,null,null,null,"D",{"$f":"COUNTIF(E7:E107,\"D\")","v":0},null,"D",{"$f":"COUNTIF(H7:H107,\"D\")","v":0},null,null,null,null,"D",{"$f":"COUNTIF(O7:O107,\"D\")","v":0},null,null,"00:00:00","00:00:00",0,{"$f":"SpellNumber((AI95))","v":"No Dollars and No Cents"},3,"No "]
["00:00:00",null,null,null,null,0,null,null,0,null,null,{"$f":"IFERROR(VLOOKUP(K96,$AD$7:AE98,2,FALSE),0)","v":0},null,null,0,null,null,null,null,"E",{"$f":"COUNTIF(E8:E108,\"E\")","v":0},null,"E",{"$f":"COUNTIF(H8:H108,\"E\")","v":0},null,null,null,null,"E",{"$f":"COUNTIF(O8:O108,\"E\")","v":0},null,null,"00:00:00","00:00:00",0,{"$f":"SpellNumber((AI96))","v":"No Dollars and No Cents"},3,"No "]
["00:00:00",null,null,null,null,0,null,null,0,null,null,{"$f":"IFERROR(VLOOKUP(K97,$AD$7:AE99,2,FALSE),0)","v":0},null,null,0,null,null,null,null,"F",{"$f":"COUNTIF(E9:E109,\"F\")","v":0},null,"F",{"$f":"COUNTIF(H9:H109,\"F\")","v":0},null,null,null,null,"F",{"$f":"COUNTIF(O9:O109,\"F\")","v":0},null,null,"00:00:00","00:00:00",0,{"$f":"SpellNumber((AI97))","v":"No Dollars and No Cents"},3,"No "]
["00:00:00",null,null,null,null,0,null,null,0,null,null,{"$f":"IFERROR(VLOOKUP(K98,$AD$7:AE100,2,FALSE),0)","v":0},null,null,0,null,null,null,null,"G",{"$f":"COUNTIF(E10:E110,\"G\")","v":0},null,"G",{"$f":"COUNTIF(H10:H110,\"G\")","v":0},null,null,null,null,"G",{"$f":"COUNTIF(O10:O110,\"G\")","v":0},null,null,"00:00:00","00:00:00",0,{"$f":"SpellNumber((AI98))","v":"No Dollars and No Cents"},3,"No "]
["00:00:00",null,null,null,null,0,null,null,0,null,null,{"$f":"IFERROR(VLOOKUP(K99,$AD$7:AE101,2,FALSE),0)","v":0},null,null,0,null,null,null,null,"H",{"$f":"COUNTIF(E11:E111,\"H\")","v":0},null,"H",{"$f":"COUNTIF(H11:H111,\"H\")","v":0},null,null,null,null,"H",{"$f":"COUNTIF(O11:O111,\"H\")","v":0},null,null,"00:00:00","00:00:00",0,{"$f":"SpellNumber((AI99))","v":"No Dollars and No Cents"},3,"No "]
["00:00:00",null,null,null,null,0,null,null,0,null,null,{"$f":"IFERROR(VLOOKUP(K100,$AD$7:AE102,2,FALSE),0)","v":0},null,null,0,null,null,null,null,"I",{"$f":"COUNTIF(E12:E112,\"I\")","v":0},null,"I",{"$f":"COUNTIF(H12:H112,\"I\")","v":0},null,null,null,null,"I",{"$f":"COUNTIF(O12:O112,\"I\")","v":0},null,null,"00:00:00","00:00:00",0,{"$f":"SpellNumber((AI100))","v":"No Dollars and No Cents"},3,"No "]
["00:00:00",null,null,null,null,0,null,null,0,null,null,{"$f":"IFERROR(VLOOKUP(K101,$AD$7:AE103,2,FALSE),0)","v":0},null,null,0,null,null,null,null,"J",{"$f":"COUNTIF(E13:E113,\"J\")","v":0},null,"J",{"$f":"COUNTIF(H13:H113,\"J\")","v":0},null,null,null,null,"J",{"$f":"COUNTIF(O13:O113,\"J\")","v":0},null,null,"00:00:00","00:00:00",0,{"$f":"SpellNumber((AI101))","v":"No Dollars and No Cents"},3,"No "]
["00:00:00",null,null,null,null,0,null,null,0,null,null,{"$f":"IFERROR(VLOOKUP(K102,$AD$7:AE104,2,FALSE),0)","v":0},null,null,0,null,null,null,null,"K",{"$f":"COUNTIF(E14:E114,\"K\")","v":0},null,"K",{"$f":"COUNTIF(H14:H114,\"K\")","v":0},null,null,null,null,"K",{"$f":"COUNTIF(O14:O114,\"K\")","v":0},null,null,"00:00:00","00:00:00",0,{"$f":"SpellNumber((AI102))","v":"No Dollars and No Cents"},3,"No "]
["00:00:00",null,null,null,null,0,null,null,0,null,null,{"$f":"IFERROR(VLOOKUP(K103,$AD$7:AE105,2,FALSE),0)","v":0},null,null,0,null,null,null,null,"L",{"$f":"COUNTIF(E15:E115,\"L\")","v":0},null,"L",{"$f":"COUNTIF(H15:H115,\"L\")","v":0},null,null,null,null,"L",{"$f":"COUNTIF(O15:O115,\"L\")","v":0},null,null,"00:00:00","00:00:00",0,{"$f":"SpellNumber((AI103))","v":"No Dollars and No Cents"},3,"No "]
["00:00:00",null,null,null,null,0,null,null,0,null,null,{"$f":"IFERROR(VLOOKUP(K104,$AD$7:AE106,2,FALSE),0)","v":0},null,null,0,null,null,null,null,null,null,null,null,null,null,null,null,null,null,null,null,null,"00:00:00","00:00:00",0,{"$f":"SpellNumber((AI104))","v":"No Dollars and No Cents"},3,"No "]

{"sheet":"Data 18","index":26,"n_rows":104,"n_cols":38,"rows_kept":104,"cut":false,"hidden":false,"merged":[[0,7,3,14]]}
["ATTENDANCE",null,null,null,null,null,null,"Data Collection"]
["If tardy, arrival time",null,null,null,null,null,null,null,null,null,null,null,null,null,null,null,null,null,null,null,null,null,"Date",{"$f":"Calendar!F7","v":{"$error":"#N/A"}},{"$f":"TEXT(X2,\"ddd\")","v":{"$error":"#N/A"}}]
["If left early, time",null,null,null,null,null,null,null,null,null,null,null,null,null,null,null,null,null,null,null,null,null,"Frq. Of bx",{"$f":"AA22","v":0}]
[]
[]
["Mins.","Start Time","End Time",null,null,null,null,null,null,null,null,null,null,null,null,null,null,null,null,null,null,null,"Setting",null,null,"Ant",null,null,null,"Beh",null,null,"Raw Data","Time in text","Decimal"]
[{"$f":"C7-B7","v":"00:00:00"},null,null,null,null,{"$f":"IFERROR(VLOOKUP(E7,$V$7:$W$18,2,FALSE),0)","v":0},null,null,{"$f":"IFERROR(VLOOKUP(H7,$Z$7:$AA$18,2,FALSE),0)","v":0},null,null,{"$f":"IFERROR(VLOOKUP(K7,$AD$7:AE9,2,FALSE),0)","v":0},null,null,{"$f":"IFERROR(VLOOKUP(N7,$V$22:$W$33,2,FALSE),0)","v":0},null,null,null,null,null,null,"A",{"$f":"Criteria!C4","v":"Transition"},null,null,"A",{"$f":"Criteria!E4","v":"Transition"},null,null,"A",{"$f":"Criteria!G4","v":0},null,{"$f":"B7","v":"00:00:00"},{"$f":"TEXT(AG7,\"hh:mm:ss\")","v":"00:00:00"},{"$f":"AG7*24","v":0},{"$f":"SpellNumber((AI7))","v":"No Dollars and No Cents"},{"$f":"FIND(\" Dollar\",AJ7)","v":3},{"$f":"LEFT(AJ7,AK7)","v":"No "}]
[{"$f":"C8-B8","v":"00:00:00"},null,null,null,null,{"$f":"IFERROR(VLOOKUP(E8,$V$7:$W$18,2,FALSE),0)","v":0},null,null,{"$f":"IFERROR(VLOOKUP(H8,$Z$7:$AA$18,2,FALSE),0)","v":0},null,null,{"$f":"IFERROR(VLOOKUP(K8,$AD$7:AE10,2,FALSE),0)","v":0},null,null,{"$f":"IFERROR(VLOOKUP(N8,$V$22:$W$33,2,FALSE),0)","v":0},null,null,null,null,null,null,"B",{"$f":"Criteria!C5","v":"Morning Routine"},null,null,"B",{"$f":"Criteria!E5","v":"Denied access ('No')"},null,null,"B",{"$f":"Criteria!G5","v":0},null,{"$f":"B8","v":"00:00:00"},{"$f":"TEXT(AG8,\"hh:mm:ss\")","v":"00:00:00"},{"$f":"AG8*24","v":0},{"$f":"SpellNumber((AI8))","v":"No Dollars and No Cents"},{"$f":"FIND(\" Dollar\",AJ8)","v":3},{"$f":"LEFT(AJ8,AK8)","v":"No "}]
["00:00:00",null,null,null,null,{"$f":"IFERROR(VLOOKUP(E9,$V$7:$W$18,2,FALSE),0)","v":0},null,null,0,null,null,{"$f":"IFERROR(VLOOKUP(K9,$AD$7:AE11,2,FALSE),0)","v":0},null,null,0,null,null,null,null,null,null,"C",{"$f":"Criteria!C6","v":"Group Work"},null,null,"C",{"$f":"Criteria!E6","v":"Instruction/ Directions"},null,null,"C",{"$f":"Criteria!G6","v":0},null,"00:00:00","00:00:00",0,{"$f":"SpellNumber((AI9))","v":"No Dollars and No Cents"},3,"No "]
["00:00:00",null,null,null,null,0,null,null,0,null,null,{"$f":"IFERROR(VLOOKUP(K10,$AD$7:AE12,2,FALSE),0)","v":0},null,null,0,null,null,null,null,null,null,"D",{"$f":"Criteria!C7","v":"Ind. Seat/Work Time"},null,null,"D",{"$f":"Criteria!E7","v":"New Task"},null,null,null,null,null,"00:00:00","00:00:00",0,{"$f":"SpellNumber((AI10))","v":"No Dollars and No Cents"},3,"No "]
["00:00:00",null,null,null,null,0,null,null,0,null,null,{"$f":"IFERROR(VLOOKUP(K11,$AD$7:AE13,2,FALSE),0)","v":0},null,null,0,null,null,null,null,null,null,"E",{"$f":"Criteria!C8","v":"Language Arts"},null,null,"E",{"$f":"Criteria!E8","v":"Tcher attn to other"},null,null,null,null,null,"00:00:00","00:00:00",0,{"$f":"SpellNumber((AI11))","v":"No Dollars and No Cents"},3,"No "]
["00:00:00",null,null,null,null,0,null,null,0,null,null,{"$f":"IFERROR(VLOOKUP(K12,$AD$7:AE14,2,FALSE),0)","v":0},null,null,0,null,null,null,null,null,null,"F",{"$f":"Criteria!C9","v":"Mathematics"},null,null,"F",{"$f":"Criteria!E9","v":"Choice given"},null,null,null,null,null,"00:00:00","00:00:00",0,{"$f":"SpellNumber((AI12))","v":"No Dollars and No Cents"},3,"No "]
["00:00:00",null,null,null,null,0,null,null,0,null,null,{"$f":"IFERROR(VLOOKUP(K13,$AD$7:AE15,2,FALSE),0)","v":0},null,null,0,null,null,null,null,null,null,"G",{"$f":"Criteria!C10","v":"Physical Education"},null,null,"G",{"$f":"Criteria!E10","v":"Redirection"},null,null,null,null,null,"00:00:00","00:00:00",0,{"$f":"SpellNumber((AI13))","v":"No Dollars and No Cents"},3,"No "]
["00:00:00",null,null,null,null,0,null,null,0,null,null,{"$f":"IFERROR(VLOOKUP(K14,$AD$7:AE16,2,FALSE),0)","v":0},null,null,0,null,null,null,null,null,null,"H",{"$f":"Criteria!C11","v":"Music/Art"},null,null,"H",{"$f":"Criteria!E11","v":"Routine Task"},null,null,null,null,null,"00:00:00","00:00:00",0,{"$f":"SpellNumber((AI14))","v":"No Dollars and No Cents"},3,"No "]
["00:00:00",null,null,null,null,0,null,null,0,null,null,{"$f":"IFERROR(VLOOKUP(K15,$AD$7:AE17,2,FALSE),0)","v":0},null,null,0,null,null,null,null,null,null,"I",{"$f":"Criteria!C12","v":"Speech"},null,null,"I",{"$f":"Criteria!E12","v":"Waiting"},null,null,null,null,null,"00:00:00","00:00:00",0,{"$f":"SpellNumber((AI15))","v":"No Dollars and No Cents"},3,"No "]
["00:00:00",null,null,null,null,0,null,null,0,null,null,{"$f":"IFERROR(VLOOKUP(K16,$AD$7:AE18,2,FALSE),0)","v":0},null,null,0,null,null,null,null,null,null,"J",{"$f":"Criteria!C13","v":"OT/PT"},null,null,"J",{"$f":"Criteria!E13","v":"Unknown"},null,null,null,null,null,"00:00:00","00:00:00",0,{"$f":"SpellNumber((AI16))","v":"No Dollars and No Cents"},3,"No "]
["00:00:00",null,null,null,null,0,null,null,0,null,null,{"$f":"IFERROR(VLOOKUP(K17,$AD$7:AE19,2,FALSE),0)","v":0},null,null,0,null,null,null,null,null,null,"K",{"$f":"Criteria!C14","v":"Center"},null,null,"K",{"$f":"Criteria!E14","v":"Ignored"},null,null,null,null,null,"00:00:00","00:00:00",0,{"$f":"SpellNumber((AI17))","v":"No Dollars and No Cents"},3,"No "]
["00:00:00",null,null,null,null,0,null,null,0,null,null,{"$f":"IFERROR(VLOOKUP(K18,$AD$7:AE20,2,FALSE),0)","v":0},null,null,0,null,null,null,null,null,null,"L",{"$f":"Criteria!C15","v":"Other"},null,null,"L",{"$f":"Criteria!E15","v":"Other"},null,null,null,null,null,"00:00:00","00:00:00",0,{"$f":"SpellNumber((AI18))","v":"No Dollars and No Cents"},3,"No "]
["00:00:00",null,null,null,null,0,null,null,0,null,null,{"$f":"IFERROR(VLOOKUP(K19,$AD$7:AE21,2,FALSE),0)","v":0},null,null,0,null,null,null,null,null,null,null,null,null,null,null,null,null,null,null,null,null,"00:00:00","00:00:00",0,{"$f":"SpellNumber((AI19))","v":"No Dollars and No Cents"},3,"No "]
["00:00:00",null,null,null,null,0,null,null,0,null,null,{"$f":"IFERROR(VLOOKUP(K20,$AD$7:AE22,2,FALSE),0)","v":0},null,null,0,null,null,null,null,null,null,null,null,null,null,null,null,null,null,null,null,null,"00:00:00","00:00:00",0,{"$f":"SpellNumber((AI20))","v":"No Dollars and No Cents"},3,"No "]
["00:00:00",null,null,null,null,0,null,null,0,null,null,{"$f":"IFERROR(VLOOKUP(K21,$AD$7:AE23,2,FALSE),0)","v":0},null,null,0,null,null,null,null,null,null,null,"Con",null,"Bx Frequency Per Day",null,null,null,null,null,null,null,"00:00:00","00:00:00",0,{"$f":"SpellNumber((AI21))","v":"No Dollars and No Cents"},3,"No "]
["00:00:00",null,null,null,null,0,null,null,0,null,null,{"$f":"IFERROR(VLOOKUP(K22,$AD$7:AE24,2,FALSE),0)","v":0},null,null,0,null,null,null,null,null,null,"A",{"$f":"Criteria!I4","v":"Choice Given"},"A",{"$f":"COUNTIF(K7:K104,\"A\")","v":0},null,{"$f":"SUM(Y22:Y24)","v":0},null,"Bin Dec","Frequency of Time",null,null,"00:00:00","00:00:00",0,{"$f":"SpellNumber((AI22))","v":"No Dollars and No Cents"},3,"No "]
["00:00:00",null,null,null,null,0,null,null,0,null,null,{"$f":"IFERROR(VLOOKUP(K23,$AD$7:AE25,2,FALSE),0)","v":0},null,null,0,null,null,null,null,null,null,"B",{"$f":"Criteria!I5","v":"Ignored"},"B",{"$f":"COUNTIF(K7:K104,\"B\")","v":0},null,null,null,"Seven",{"$f":"COUNTIF(AL7:AL104,\"*Seven*\")","v":0},null,null,"00:00:00","00:00:00",0,{"$f":"SpellNumber((AI23))","v":"No Dollars and No Cents"},3,"No "]
["00:00:00",null,null,null,null,0,null,null,0,null,null,{"$f":"IFERROR(VLOOKUP(K24,$AD$7:AE26,2,FALSE),0)","v":0},null,null,0,null,null,null,null,null,null,"C",{"$f":"Criteria!I6","v":"Redirection"},"C",{"$f":"COUNTIF(K7:K104,\"C\")","v":0},null,null,null,"Eight",{"$f":"COUNTIF(AL7:AL104,\"*Eight*\")","v":0},null,null,"00:00:00","00:00:00",0,{"$f":"SpellNumber((AI24))","v":"No Dollars and No Cents"},3,"No "]
["00:00:00",null,null,null,null,0,null,null,0,null,null,{"$f":"IFERROR(VLOOKUP(K25,$AD$7:AE27,2,FALSE),0)","v":0},null,null,0,null,null,null,null,null,null,"D",{"$f":"Criteria!I7","v":"Kept the demand"},null,"Bx Druation Per Day",null,null,null,"Nine",{"$f":"COUNTIF(AL7:AL104,\"*Nine*\")","v":0},null,null,"00:00:00","00:00:00",0,{"$f":"SpellNumber((AI25))","v":"No Dollars and No Cents"},3,"No "]
["00:00:00",null,null,null,null,0,null,null,0,null,null,{"$f":"IFERROR(VLOOKUP(K26,$AD$7:AE28,2,FALSE),0)","v":0},null,null,0,null,null,null,null,null,null,"E",{"$f":"Criteria!I8","v":"Changed activity"},"A",{"$f":"SUMIF(K7:K104,\"A\",A7:A104)","v":"00:00:00"},null,null,null,"Ten",{"$f":"COUNTIF(AL7:AL12,\"*Ten*\")","v":0},null,null,"00:00:00","00:00:00",0,{"$f":"SpellNumber((AI26))","v":"No Dollars and No Cents"},3,"No "]
["00:00:00",null,null,null,null,0,null,null,0,null,null,{"$f":"IFERROR(VLOOKUP(K27,$AD$7:AE29,2,FALSE),0)","v":0},null,null,0,null,null,null,null,null,null,"F",{"$f":"Criteria!I9","v":"Verbal reprimand"},"B",{"$f":"SUMIF(K7:K104,\"B\",A7:A104)","v":"00:00:00"},null,null,null,"Eleven",{"$f":"COUNTIF(AL7:AL104,\"*Eleven*\")","v":0},null,null,"00:00:00","00:00:00",0,{"$f":"SpellNumber((AI27))","v":"No Dollars and No Cents"},3,"No "]
["00:00:00",null,null,null,null,0,null,null,0,null,null,{"$f":"IFERROR(VLOOKUP(K28,$AD$7:AE30,2,FALSE),0)","v":0},null,null,0,null,null,null,null,null,null,"G",{"$f":"Criteria!I10","v":"Told to wait"},"C",{"$f":"SUMIF(K7:K104,\"C\",A7:A104)","v":"00:00:00"},null,null,null,"Twelve",{"$f":"COUNTIF(AL7:AL104,\"*Twelve*\")","v":0},null,null,"00:00:00","00:00:00",0,{"$f":"SpellNumber((AI28))","v":"No Dollars and No Cents"},3,"No "]
["00:00:00",null,null,null,null,0,null,null,0,null,null,{"$f":"IFERROR(VLOOKUP(K29,$AD$7:AE31,2,FALSE),0)","v":0},null,null,0,null,null,null,null,null,null,"H",{"$f":"Criteria!I11","v":"Physical Prompt"},null,null,null,null,null,"One",{"$f":"COUNTIF(AL7:AL104,\"*One*\")","v":0},null,null,"00:00:00","00:00:00",0,{"$f":"SpellNumber((AI29))","v":"No Dollars and No Cents"},3,"No "]
["00:00:00",null,null,null,null,0,null,null,0,null,null,{"$f":"IFERROR(VLOOKUP(K30,$AD$7:AE32,2,FALSE),0)","v":0},null,null,0,null,null,null,null,null,null,"I",{"$f":"Criteria!I12","v":"Verbal prompt"},null,null,null,null,null,"Two",{"$f":"COUNTIF(AL7:AL104,\"*Two*\")","v":0},null,null,"00:00:00","00:00:00",0,{"$f":"SpellNumber((AI30))","v":"No Dollars and No Cents"},3,"No "]
["00:00:00",null,null,null,null,0,null,null,0,null,null,{"$f":"IFERROR(VLOOKUP(K31,$AD$7:AE33,2,FALSE),0)","v":0},null,null,0,null,null,null,null,null,null,"J",{"$f":"Criteria!I13","v":"Told to wait"},null,null,null,null,null,"Three",{"$f":"COUNTIF(AL7:AL104,\"*Three*\")","v":0},null,null,"00:00:00","00:00:00",0,{"$f":"SpellNumber((AI31))","v":"No Dollars and No Cents"},3,"No "]
["00:00:00",null,null,null,null,0,null,null,0,null,null,{"$f":"IFERROR(VLOOKUP(K32,$AD$7:AE34,2,FALSE),0)","v":0},null,null,0,null,null,null,null,null,null,"K",{"$f":"Criteria!I14","v":"Unknown"},null,null,null,null,null,"Four",{"$f":"COUNTIF(AL7:AL104,\"*Four*\")","v":0},null,null,"00:00:00","00:00:00",0,{"$f":"SpellNumber((AI32))","v":"No Dollars and No Cents"},3,"No "]
["00:00:00",null,null,null,null,0,null,null,0,null,null,{"$f":"IFERROR(VLOOKUP(K33,$AD$7:AE35,2,FALSE),0)","v":0},null,null,0,null,null,null,null,null,null,"L",{"$f":"Criteria!I15","v":"Other"},null,null,null,null,null,null,null,null,null,"00:00:00","00:00:00",0,{"$f":"SpellNumber((AI33))","v":"No Dollars and No Cents"},3,"No "]
["00:00:00",null,null,null,null,0,null,null,0,null,null,{"$f":"IFERROR(VLOOKUP(K34,$AD$7:AE36,2,FALSE),0)","v":0},null,null,0,null,null,null,null,null,null,null,null,null,null,null,null,null,null,null,null,null,"00:00:00","00:00:00",0,{"$f":"SpellNumber((AI34))","v":"No Dollars and No Cents"},3,"No "]
["00:00:00",null,null,null,null,0,null,null,0,null,null,{"$f":"IFERROR(VLOOKUP(K35,$AD$7:AE37,2,FALSE),0)","v":0},null,null,0,null,null,null,null,null,null,null,"Context Frequency","Consequence","Antedencents",null,null,null,null,null,null,null,"00:00:00","00:00:00",0,{"$f":"SpellNumber((AI35))","v":"No Dollars and No Cents"},3,"No "]
["00:00:00",null,null,null,null,0,null,null,0,null,null,{"$f":"IFERROR(VLOOKUP(K36,$AD$7:AE38,2,FALSE),0)","v":0},null,null,0,null,null,null,null,null,null,"A",{"$f":"COUNTIF(E7:E104,\"A\")","v":0},{"$f":"COUNTIF(N7:N104,\"A\")","v":0},{"$f":"COUNTIF(H7:H104,\"A\")","v":0},null,null,null,null,null,null,null,"00:00:00","00:00:00",0,{"$f":"SpellNumber((AI36))","v":"No Dollars and No Cents"},3,"No "]
["00:00:00",null,null,null,null,0,null,null,0,null,null,{"$f":"IFERROR(VLOOKUP(K37,$AD$7:AE39,2,FALSE),0)","v":0},null,null,0,null,null,null,null,null,null,"B",{"$f":"COUNTIF(E8:E105,\"B\")","v":0},{"$f":"COUNTIF(N7:N104,\"B\")","v":0},{"$f":"COUNTIF(H7:H104,\"B\")","v":0},null,null,null,null,null,null,null,"00:00:00","00:00:00",0,{"$f":"SpellNumber((AI37))","v":"No Dollars and No Cents"},3,"No "]
["00:00:00",null,null,null,null,0,null,null,0,null,null,{"$f":"IFERROR(VLOOKUP(K38,$AD$7:AE40,2,FALSE),0)","v":0},null,null,0,null,null,null,null,null,null,"C",{"$f":"COUNTIF(E8:E105,\"C\")","v":0},{"$f":"COUNTIF(N7:N104,\"C\")","v":0},{"$f":"COUNTIF(H7:H104,\"C\")","v":0},null,null,null,null,null,null,null,"00:00:00","00:00:00",0,{"$f":"SpellNumber((AI38))","v":"No Dollars and No Cents"},3,"No "]
["00:00:00",null,null,null,null,0,null,null,0,null,null,{"$f":"IFERROR(VLOOKUP(K39,$AD$7:AE41,2,FALSE),0)","v":0},null,null,0,null,null,null,null,null,null,"D",{"$f":"COUNTIF(E8:E105,\"D\")","v":0},{"$f":"COUNTIF(N7:N104,\"D\")","v":0},{"$f":"COUNTIF(H7:H104,\"D\")","v":0},null,null,null,null,null,null,null,"00:00:00","00:00:00",0,{"$f":"SpellNumber((AI39))","v":"No Dollars and No Cents"},3,"No "]
["00:00:00",null,null,null,null,0,null,null,0,null,null,{"$f":"IFERROR(VLOOKUP(K40,$AD$7:AE42,2,FALSE),0)","v":0},null,null,0,null,null,null,null,null,null,"E",{"$f":"COUNTIF(E8:E105,\"E\")","v":0},{"$f":"COUNTIF(N7:N104,\"E\")","v":0},{"$f":"COUNTIF(H7:H104,\"E\")","v":0},null,null,null,null,null,null,null,"00:00:00","00:00:00",0,{"$f":"SpellNumber((AI40))","v":"No Dollars and No Cents"},3,"No "]
["00:00:00",null,null,null,null,0,null,null,0,null,null,{"$f":"IFERROR(VLOOKUP(K41,$AD$7:AE43,2,FALSE),0)","v":0},null,null,0,null,null,null,null,null,null,"F",{"$f":"COUNTIF(E8:E105,\"F\")","v":0},{"$f":"COUNTIF(N7:N104,\"F\")","v":0},{"$f":"COUNTIF(H7:H104,\"F\")","v":0},null,null,null,null,null,null,null,"00:00:00","00:00:00",0,{"$f":"SpellNumber((AI41))","v":"No Dollars and No Cents"},3,"No "]
["00:00:00",null,null,null,null,0,null,null,0,null,null,{"$f":"IFERROR(VLOOKUP(K42,$AD$7:AE44,2,FALSE),0)","v":0},null,null,0,null,null,null,null,null,null,"G",{"$f":"COUNTIF(E8:E105,\"G\")","v":0},{"$f":"COUNTIF(N7:N104,\"G\")","v":0},{"$f":"COUNTIF(H7:H104,\"G\")","v":0},null,null,null,null,null,null,null,"00:00:00","00:00:00",0,{"$f":"SpellNumber((AI42))","v":"No Dollars and No Cents"},3,"No "]
["00:00:00",null,null,null,null,0,null,null,0,null,null,{"$f":"IFERROR(VLOOKUP(K43,$AD$7:AE45,2,FALSE),0)","v":0},null,null,0,null,null,null,null,null,null,"H",{"$f":"COUNTIF(E8:E105,\"H\")","v":0},{"$f":"COUNTIF(N7:N104,\"H\")","v":0},{"$f":"COUNTIF(H7:H104,\"H\")","v":0},null,null,null,null,null,null,null,"00:00:00","00:00:00",0,{"$f":"SpellNumber((AI43))","v":"No Dollars and No Cents"},3,"No "]
["00:00:00",null,null,null,null,0,null,null,0,null,null,{"$f":"IFERROR(VLOOKUP(K44,$AD$7:AE46,2,FALSE),0)","v":0},null,null,0,null,null,null,null,null,null,"I",{"$f":"COUNTIF(E8:E105,\"I\")","v":0},{"$f":"COUNTIF(N7:N104,\"I\")","v":0},{"$f":"COUNTIF(H7:H104,\"I\")","v":0},null,null,null,null,null,null,null,"00:00:00","00:00:00",0,{"$f":"SpellNumber((AI44))","v":"No Dollars and No Cents"},3,"No "]
["00:00:00",null,null,null,null,0,null,null,0,null,null,{"$f":"IFERROR(VLOOKUP(K45,$AD$7:AE47,2,FALSE),0)","v":0},null,null,0,null,null,null,null,null,null,"J",{"$f":"COUNTIF(E8:E105,\"J\")","v":0},{"$f":"COUNTIF(N7:N104,\"J\")","v":0},{"$f":"COUNTIF(H7:H104,\"J\")","v":0},null,null,null,null,null,null,null,"00:00:00","00:00:00",0,{"$f":"SpellNumber((AI45))","v":"No Dollars and No Cents"},3,"No "]
["00:00:00",null,null,null,null,0,null,null,0,null,null,{"$f":"IFERROR(VLOOKUP(K46,$AD$7:AE48,2,FALSE),0)","v":0},null,null,0,null,null,null,null,null,null,"K",{"$f":"COUNTIF(E8:E105,\"K\")","v":0},{"$f":"COUNTIF(N7:N104,\"K\")","v":0},{"$f":"COUNTIF(H7:H104,\"K\")","v":0},null,null,null,null,null,null,null,"00:00:00","00:00:00",0,{"$f":"SpellNumber((AI46))","v":"No Dollars and No Cents"},3,"No "]
["00:00:00",null,null,null,null,0,null,null,0,null,null,{"$f":"IFERROR(VLOOKUP(K47,$AD$7:AE49,2,FALSE),0)","v":0},null,null,0,null,null,null,null,null,null,"L",{"$f":"COUNTIF(E8:E105,\"l\")","v":0},{"$f":"COUNTIF(N7:N104,\"L\")","v":0},{"$f":"COUNTIF(H7:H104,\"L\")","v":0},null,null,null,null,null,null,null,"00:00:00","00:00:00",0,{"$f":"SpellNumber((AI47))","v":"No Dollars and No Cents"},3,"No "]
["00:00:00",null,null,null,null,0,null,null,0,null,null,{"$f":"IFERROR(VLOOKUP(K48,$AD$7:AE50,2,FALSE),0)","v":0},null,null,0,null,null,null,null,null,null,null,null,null,null,null,null,null,null,null,null,null,"00:00:00","00:00:00",0,{"$f":"SpellNumber((AI48))","v":"No Dollars and No Cents"},3,"No "]
["00:00:00",null,null,null,null,0,null,null,0,null,null,{"$f":"IFERROR(VLOOKUP(K49,$AD$7:AE51,2,FALSE),0)","v":0},null,null,0,null,null,null,null,null,null,null,"Beh & Setting ",null,null,null,"Beh & Antecedents",null,null,null,null,null,"00:00:00","00:00:00",0,{"$f":"SpellNumber((AI49))","v":"No Dollars and No Cents"},3,"No "]
["00:00:00",null,null,null,null,0,null,null,0,null,null,{"$f":"IFERROR(VLOOKUP(K50,$AD$7:AE52,2,FALSE),0)","v":0},null,null,0,null,null,null,null,null,null,null,"A","B","C",null,null,"A","B","C",null,null,"00:00:00","00:00:00",0,{"$f":"SpellNumber((AI50))","v":"No Dollars and No Cents"},3,"No "]
["00:00:00",null,null,null,null,0,null,null,0,null,null,{"$f":"IFERROR(VLOOKUP(K51,$AD$7:AE53,2,FALSE),0)","v":0},null,null,0,null,null,null,null,null,null,"A",{"$f":"COUNTIFS(E7:E104,\"A\",K7:K104,\"A\")","v":0},{"$f":"COUNTIFS(E7:E104,\"A\",K7:K104,\"B\")","v":0},{"$f":"COUNTIFS(E7:E104,\"A\",K7:K104,\"C\")","v":0},null,"A",{"$f":"COUNTIFS(H7:H104,\"a\",K7:K104,\"A\")","v":0},{"$f":"COUNTIFS(H7:H104,\"A\",K7:K104,\"B\")","v":0},{"$f":"COUNTIFS(H7:H104,\"A\",K7:K104,\"C\")","v":0},null,null,"00:00:00","00:00:00",0,{"$f":"SpellNumber((AI51))","v":"No Dollars and No Cents"},3,"No "]
["00:00:00",null,null,null,null,0,null,null,0,null,null,{"$f":"IFERROR(VLOOKUP(K52,$AD$7:AE54,2,FALSE),0)","v":0},null,null,0,null,null,null,null,null,null,"B",{"$f":"COUNTIFS(E7:E104,\"B\",K7:K104,\"A\")","v":0},{"$f":"COUNTIFS(E7:E104,\"B\",K7:K104,\"B\")","v":0},{"$f":"COUNTIFS(E7:E104,\"B\",K7:K104,\"C\")","v":0},null,"B",{"$f":"COUNTIFS(H7:H104,\"B\",K7:K104,\"A\")","v":0},{"$f":"COUNTIFS(H7:H104,\"B\",K7:K104,\"B\")","v":0},{"$f":"COUNTIFS(H7:H104,\"B\",K7:K104,\"C\")","v":0},null,null,"00:00:00","00:00:00",0,{"$f":"SpellNumber((AI52))","v":"No Dollars and No Cents"},3,"No "]
["00:00:00",null,null,null,null,0,null,null,0,null,null,{"$f":"IFERROR(VLOOKUP(K53,$AD$7:AE55,2,FALSE),0)","v":0},null,null,0,null,null,null,null,null,null,"C",{"$f":"COUNTIFS(K7:K104,\"C\",K7:K104,\"A\")","v":0},{"$f":"COUNTIFS(E7:E104,\"C\",K7:K104,\"B\")","v":0},{"$f":"COUNTIFS(E7:E104,\"C\",K7:K104,\"C\")","v":0},null,"C",{"$f":"COUNTIFS(H7:H104,\"C\",K7:K104,\"A\")","v":0},{"$f":"COUNTIFS(H7:H104,\"C\",K7:K104,\"B\")","v":0},{"$f":"COUNTIFS(H7:H104,\"C\",K7:K104,\"C\")","v":0},null,null,"00:00:00","00:00:00",0,{"$f":"SpellNumber((AI53))","v":"No Dollars and No Cents"},3,"No "]
["00:00:00",null,null,null,null,0,null,null,0,null,null,{"$f":"IFERROR(VLOOKUP(K54,$AD$7:AE56,2,FALSE),0)","v":0},null,null,0,null,null,null,null,null,null,"D",{"$f":"COUNTIFS(E7:E104,\"D\",K7:K104,\"A\")","v":0},{"$f":"COUNTIFS(E7:E104,\"D\",K7:K104,\"B\")","v":0},{"$f":"COUNTIFS(E7:E104,\"D\",K7:K104,\"C\")","v":0},null,"D",{"$f":"COUNTIFS(H7:H104,\"D\",K7:K104,\"A\")","v":0},{"$f":"COUNTIFS(H7:H104,\"D\",K7:K104,\"B\")","v":0},{"$f":"COUNTIFS(H7:H104,\"D\",K7:K104,\"C\")","v":0},null,null,"00:00:00","00:00:00",0,{"$f":"SpellNumber((AI54))","v":"No Dollars and No Cents"},3,"No "]
["00:00:00",null,null,null,null,0,null,null,0,null,null,{"$f":"IFERROR(VLOOKUP(K55,$AD$7:AE57,2,FALSE),0)","v":0},null,null,0,null,null,null,null,null,null,"E",{"$f":"COUNTIFS(E7:E104,\"E\",K7:K104,\"A\")","v":0},{"$f":"COUNTIFS(E7:E104,\"E\",K7:K104,\"B\")","v":0},{"$f":"COUNTIFS(E7:E104,\"E\",K7:K104,\"C\")","v":0},null,"E",{"$f":"COUNTIFS(H7:H104,\"E\",K7:K104,\"A\")","v":0},{"$f":"COUNTIFS(H7:H104,\"E\",K7:K104,\"B\")","v":0},{"$f":"COUNTIFS(H7:H104,\"E\",K7:K104,\"C\")","v":0},null,null,"00:00:00","00:00:00",0,{"$f":"SpellNumber((AI55))","v":"No Dollars and No Cents"},3,"No "]
["00:00:00",null,null,null,null,0,null,null,0,null,null,{"$f":"IFERROR(VLOOKUP(K56,$AD$7:AE58,2,FALSE),0)","v":0},null,null,0,null,null,null,null,null,null,"F",{"$f":"COUNTIFS(E7:E104,\"F\",K7:K104,\"A\")","v":0},{"$f":"COUNTIFS(E7:E104,\"F\",K7:K104,\"B\")","v":0},{"$f":"COUNTIFS(E7:E104,\"F\",K7:K104,\"C\")","v":0},null,"F",{"$f":"COUNTIFS(H7:H104,\"F\",K7:K104,\"A\")","v":0},{"$f":"COUNTIFS(H7:H104,\"F\",K7:K104,\"B\")","v":0},{"$f":"COUNTIFS(H7:H104,\"F\",K7:K104,\"C\")","v":0},null,null,"00:00:00","00:00:00",0,{"$f":"SpellNumber((AI56))","v":"No Dollars and No Cents"},3,"No "]
["00:00:00",null,null,null,null,0,null,null,0,null,null,{"$f":"IFERROR(VLOOKUP(K57,$AD$7:AE59,2,FALSE),0)","v":0},null,null,0,null,null,null,null,null,null,"G",{"$f":"COUNTIFS(E7:E104,\"G\",K7:K104,\"A\")","v":0},{"$f":"COUNTIFS(E7:E104,\"G\",K7:K104,\"B\")","v":0},{"$f":"COUNTIFS(E7:E104,\"G\",K7:K104,\"C\")","v":0},null,"G",{"$f":"COUNTIFS(H7:H104,\"G\",K7:K104,\"A\")","v":0},{"$f":"COUNTIFS(H7:H104,\"G\",K7:K104,\"B\")","v":0},{"$f":"COUNTIFS(H7:H104,\"G\",K7:K104,\"C\")","v":0},null,null,"00:00:00","00:00:00",0,{"$f":"SpellNumber((AI57))","v":"No Dollars and No Cents"},3,"No "]
["00:00:00",null,null,null,null,0,null,null,0,null,null,{"$f":"IFERROR(VLOOKUP(K58,$AD$7:AE60,2,FALSE),0)","v":0},null,null,0,null,null,null,null,null,null,"H",{"$f":"COUNTIFS(E7:E104,\"H\",K7:K104,\"A\")","v":0},{"$f":"COUNTIFS(E7:E104,\"H\",K7:K104,\"B\")","v":0},{"$f":"COUNTIFS(E7:E104,\"H\",K7:K104,\"C\")","v":0},null,"H",{"$f":"COUNTIFS(H7:H104,\"H\",K7:K104,\"A\")","v":0},{"$f":"COUNTIFS(H7:H104,\"H\",K7:K104,\"B\")","v":0},{"$f":"COUNTIFS(H7:H104,\"H\",K7:K104,\"C\")","v":0},null,null,"00:00:00","00:00:00",0,{"$f":"SpellNumber((AI58))","v":"No Dollars and No Cents"},3,"No "]
["00:00:00",null,null,null,null,0,null,null,0,null,null,{"$f":"IFERROR(VLOOKUP(K59,$AD$7:AE61,2,FALSE),0)","v":0},null,null,0,null,null,null,null,null,null,"I",{"$f":"COUNTIFS(E7:E104,\"I\",K7:K104,\"A\")","v":0},{"$f":"COUNTIFS(E7:E104,\"I\",K7:K104,\"B\")","v":0},{"$f":"COUNTIFS(E7:E104,\"I\",K7:K104,\"C\")","v":0},null,"I",{"$f":"COUNTIFS(H7:H104,\"I\",K7:K104,\"A\")","v":0},{"$f":"COUNTIFS(H7:H104,\"I\",K7:K104,\"B\")","v":0},{"$f":"COUNTIFS(H7:H104,\"I\",K7:K104,\"C\")","v":0},null,null,"00:00:00","00:00:00",0,{"$f":"SpellNumber((AI59))","v":"No Dollars and No Cents"},3,"No "]
["00:00:00",null,null,null,null,0,null,null,0,null,null,{"$f":"IFERROR(VLOOKUP(K60,$AD$7:AE62,2,FALSE),0)","v":0},null,null,0,null,null,null,null,null,null,"J",{"$f":"COUNTIFS(E7:E104,\"J\",K7:K104,\"A\")","v":0},{"$f":"COUNTIFS(E7:E104,\"J\",K7:K104,\"B\")","v":0},{"$f":"COUNTIFS(E7:E104,\"J\",K7:K104,\"C\")","v":0},null,"J",{"$f":"COUNTIFS(H7:H104,\"J\",K7:K104,\"A\")","v":0},{"$f":"COUNTIFS(H7:H104,\"J\",K7:K104,\"B\")","v":0},{"$f":"COUNTIFS(H7:H104,\"J\",K7:K104,\"C\")","v":0},null,null,"00:00:00","00:00:00",0,{"$f":"SpellNumber((AI60))","v":"No Dollars and No Cents"},3,"No "]
["00:00:00",null,null,null,null,0,null,null,0,null,null,{"$f":"IFERROR(VLOOKUP(K61,$AD$7:AE63,2,FALSE),0)","v":0},null,null,0,null,null,null,null,null,null,"K",{"$f":"COUNTIFS(E7:E104,\"K\",K7:K104,\"A\")","v":0},{"$f":"COUNTIFS(E7:E104,\"K\",K7:K104,\"B\")","v":0},{"$f":"COUNTIFS(E7:E104,\"K\",K7:K104,\"C\")","v":0},null,"K",{"$f":"COUNTIFS(H7:H104,\"K\",K7:K104,\"A\")","v":0},{"$f":"COUNTIFS(H7:H104,\"K\",K7:K104,\"B\")","v":0},{"$f":"COUNTIFS(H7:H104,\"K\",K7:K104,\"C\")","v":0},null,null,"00:00:00","00:00:00",0,{"$f":"SpellNumber((AI61))","v":"No Dollars and No Cents"},3,"No "]
["00:00:00",null,null,null,null,0,null,null,0,null,null,{"$f":"IFERROR(VLOOKUP(K62,$AD$7:AE64,2,FALSE),0)","v":0},null,null,0,null,null,null,null,null,null,"L",{"$f":"COUNTIFS(E7:E104,\"L\",K7:K104,\"A\")","v":0},{"$f":"COUNTIFS(E7:E104,\"L\",K7:K104,\"B\")","v":0},{"$f":"COUNTIFS(E7:E104,\"L\",K7:K104,\"C\")","v":0},null,"L",{"$f":"COUNTIFS(H7:H104,\"L\",K7:K104,\"A\")","v":0},{"$f":"COUNTIFS(H7:H104,\"L\",K7:K104,\"B\")","v":0},{"$f":"COUNTIFS(H7:H104,\"L\",K7:K104,\"C\")","v":0},null,null,"00:00:00","00:00:00",0,{"$f":"SpellNumber((AI62))","v":"No Dollars and No Cents"},3,"No "]
["00:00:00",null,null,null,null,0,null,null,0,null,null,{"$f":"IFERROR(VLOOKUP(K63,$AD$7:AE65,2,FALSE),0)","v":0},null,null,0,null,null,null,null,null,null,null,"Beh & Consequences",null,null,null,null,null,null,null,null,null,"00:00:00","00:00:00",0,{"$f":"SpellNumber((AI63))","v":"No Dollars and No Cents"},3,"No "]
["00:00:00",null,null,null,null,0,null,null,0,null,null,{"$f":"IFERROR(VLOOKUP(K64,$AD$7:AE66,2,FALSE),0)","v":0},null,null,0,null,null,null,null,null,null,null,"A","B","C",null,null,null,null,null,null,null,"00:00:00","00:00:00",0,{"$f":"SpellNumber((AI64))","v":"No Dollars and No Cents"},3,"No "]
["00:00:00",null,null,null,null,0,null,null,0,null,null,{"$f":"IFERROR(VLOOKUP(K65,$AD$7:AE67,2,FALSE),0)","v":0},null,null,0,null,null,null,null,null,null,"A",{"$f":"COUNTIFS(N7:N104,\"A\",K7:K104,\"A\")","v":0},{"$f":"COUNTIFS(N7:N104,\"A\",K7:K104,\"B\")","v":0},{"$f":"COUNTIFS(N7:N104,\"A\",K7:K104,\"C\")","v":0},null,null,null,null,null,null,null,"00:00:00","00:00:00",0,{"$f":"SpellNumber((AI65))","v":"No Dollars and No Cents"},3,"No "]
["00:00:00",null,null,null,null,0,null,null,0,null,null,{"$f":"IFERROR(VLOOKUP(K66,$AD$7:AE68,2,FALSE),0)","v":0},null,null,0,null,null,null,null,null,null,"B",{"$f":"COUNTIFS(N7:N104,\"B\",K7:K104,\"A\")","v":0},{"$f":"COUNTIFS(N7:N104,\"B\",K7:K104,\"B\")","v":0},{"$f":"COUNTIFS(N7:N104,\"B\",K7:K104,\"C\")","v":0},null,null,null,null,null,null,null,"00:00:00","00:00:00",0,{"$f":"SpellNumber((AI66))","v":"No Dollars and No Cents"},3,"No "]
["00:00:00",null,null,null,null,0,null,null,0,null,null,{"$f":"IFERROR(VLOOKUP(K67,$AD$7:AE69,2,FALSE),0)","v":0},null,null,0,null,null,null,null,null,null,"C",{"$f":"COUNTIFS(N7:N104,\"C\",K7:K104,\"A\")","v":0},{"$f":"COUNTIFS(N7:N104,\"C\",K7:K104,\"B\")","v":0},{"$f":"COUNTIFS(N7:N104,\"C\",K7:K104,\"C\")","v":0},null,null,null,null,null,null,null,"00:00:00","00:00:00",0,{"$f":"SpellNumber((AI67))","v":"No Dollars and No Cents"},3,"No "]
["00:00:00",null,null,null,null,0,null,null,0,null,null,{"$f":"IFERROR(VLOOKUP(K68,$AD$7:AE70,2,FALSE),0)","v":0},null,null,0,null,null,null,null,null,null,"D",{"$f":"COUNTIFS(N7:N104,\"D\",K7:K104,\"A\")","v":0},{"$f":"COUNTIFS(N7:N104,\"D\",K7:K104,\"B\")","v":0},{"$f":"COUNTIFS(N7:N104,\"D\",K7:K104,\"C\")","v":0},null,null,null,null,null,null,null,"00:00:00","00:00:00",0,{"$f":"SpellNumber((AI68))","v":"No Dollars and No Cents"},3,"No "]
["00:00:00",null,null,null,null,0,null,null,0,null,null,{"$f":"IFERROR(VLOOKUP(K69,$AD$7:AE71,2,FALSE),0)","v":0},null,null,0,null,null,null,null,null,null,"E",{"$f":"COUNTIFS(N7:N104,\"E\",K7:K104,\"A\")","v":0},{"$f":"COUNTIFS(N7:N104,\"E\",K7:K104,\"B\")","v":0},{"$f":"COUNTIFS(N7:N104,\"E\",K7:K104,\"C\")","v":0},null,null,null,null,null,null,null,"00:00:00","00:00:00",0,{"$f":"SpellNumber((AI69))","v":"No Dollars and No Cents"},3,"No "]
["00:00:00",null,null,null,null,0,null,null,0,null,null,{"$f":"IFERROR(VLOOKUP(K70,$AD$7:AE72,2,FALSE),0)","v":0},null,null,0,null,null,null,null,null,null,"F",{"$f":"COUNTIFS(N7:N104,\"F\",K7:K104,\"A\")","v":0},{"$f":"COUNTIFS(N7:N104,\"F\",K7:K104,\"B\")","v":0},{"$f":"COUNTIFS(N7:N104,\"F\",K7:K104,\"C\")","v":0},null,null,null,null,null,null,null,"00:00:00","00:00:00",0,{"$f":"SpellNumber((AI70))","v":"No Dollars and No Cents"},3,"No "]
["00:00:00",null,null,null,null,0,null,null,0,null,null,{"$f":"IFERROR(VLOOKUP(K71,$AD$7:AE73,2,FALSE),0)","v":0},null,null,0,null,null,null,null,null,null,"G",{"$f":"COUNTIFS(N7:N104,\"G\",K7:K104,\"A\")","v":0},{"$f":"COUNTIFS(N7:N104,\"G\",K7:K104,\"B\")","v":0},{"$f":"COUNTIFS(N7:N104,\"G\",K7:K104,\"C\")","v":0},null,null,null,null,null,null,null,"00:00:00","00:00:00",0,{"$f":"SpellNumber((AI71))","v":"No Dollars and No Cents"},3,"No "]
[{"$f":"C72-B72","v":"00:00:00"},null,null,null,null,0,null,null,{"$f":"IFERROR(VLOOKUP(H72,$Z$7:$AA$18,2,FALSE),0)","v":0},null,null,{"$f":"IFERROR(VLOOKUP(K72,$AD$7:AE74,2,FALSE),0)","v":0},null,null,{"$f":"IFERROR(VLOOKUP(N72,$V$22:$W$33,2,FALSE),0)","v":0},null,null,null,null,null,null,"H",{"$f":"COUNTIFS(N7:N104,\"H\",K7:K104,\"A\")","v":0},{"$f":"COUNTIFS(N7:N104,\"H\",K7:K104,\"B\")","v":0},{"$f":"COUNTIFS(N7:N104,\"H\",K7:K104,\"C\")","v":0},null,null,null,null,null,null,null,{"$f":"B72","v":"00:00:00"},{"$f":"TEXT(AG72,\"hh:mm:ss\")","v":"00:00:00"},{"$f":"AG72*24","v":0},{"$f":"SpellNumber((AI72))","v":"No Dollars and No Cents"},{"$f":"FIND(\" Dollar\",AJ72)","v":3},{"$f":"LEFT(AJ72,AK72)","v":"No "}]
["00:00:00",null,null,null,null,{"$f":"IFERROR(VLOOKUP(E73,$V$7:$W$18,2,FALSE),0)","v":0},null,null,0,null,null,{"$f":"IFERROR(VLOOKUP(K73,$AD$7:AE75,2,FALSE),0)","v":0},null,null,0,null,null,null,null,null,null,"I",{"$f":"COUNTIFS(N7:N104,\"I\",K7:K104,\"A\")","v":0},{"$f":"COUNTIFS(N7:N104,\"I\",K7:K104,\"B\")","v":0},{"$f":"COUNTIFS(N7:N104,\"I\",K7:K104,\"C\")","v":0},null,null,null,null,null,null,null,"00:00:00","00:00:00",0,{"$f":"SpellNumber((AI73))","v":"No Dollars and No Cents"},3,"No "]
["00:00:00",null,null,null,null,0,null,null,0,null,null,{"$f":"IFERROR(VLOOKUP(K74,$AD$7:AE76,2,FALSE),0)","v":0},null,null,0,null,null,null,null,null,null,"J",{"$f":"COUNTIFS(N7:N104,\"J\",K7:K104,\"A\")","v":0},{"$f":"COUNTIFS(N7:N104,\"J\",K7:K104,\"B\")","v":0},{"$f":"COUNTIFS(N7:N104,\"J\",K7:K104,\"C\")","v":0},null,null,null,null,null,null,null,"00:00:00","00:00:00",0,{"$f":"SpellNumber((AI74))","v":"No Dollars and No Cents"},3,"No "]
["00:00:00",null,null,null,null,0,null,null,0,null,null,{"$f":"IFERROR(VLOOKUP(K75,$AD$7:AE77,2,FALSE),0)","v":0},null,null,0,null,null,null,null,null,null,"K",{"$f":"COUNTIFS(N7:N104,\"K\",K7:K104,\"A\")","v":0},{"$f":"COUNTIFS(N7:N104,\"K\",K7:K104,\"B\")","v":0},{"$f":"COUNTIFS(N7:N104,\"K\",K7:K104,\"C\")","v":0},null,null,null,null,null,null,null,"00:00:00","00:00:00",0,{"$f":"SpellNumber((AI75))","v":"No Dollars and No Cents"},3,"No "]
["00:00:00",null,null,null,null,0,null,null,0,null,null,{"$f":"IFERROR(VLOOKUP(K76,$AD$7:AE78,2,FALSE),0)","v":0},null,null,0,null,null,null,null,null,null,"L",{"$f":"COUNTIFS(N7:N104,\"L\",K7:K104,\"A\")","v":0},{"$f":"COUNTIFS(N7:N104,\"L\",K7:K104,\"B\")","v":0},{"$f":"COUNTIFS(N7:N104,\"L\",K7:K104,\"C\")","v":0},null,null,null,null,null,null,null,"00:00:00","00:00:00",0,{"$f":"SpellNumber((AI76))","v":"No Dollars and No Cents"},3,"No "]
["00:00:00",null,null,null,null,0,null,null,0,null,null,{"$f":"IFERROR(VLOOKUP(K77,$AD$7:AE79,2,FALSE),0)","v":0},null,null,0,null,null,null,null,null,null,null,null,null,null,null,null,null,null,null,null,null,"00:00:00","00:00:00",0,{"$f":"SpellNumber((AI77))","v":"No Dollars and No Cents"},3,"No "]
["00:00:00",null,null,null,null,0,null,null,0,null,null,{"$f":"IFERROR(VLOOKUP(K78,$AD$7:AE80,2,FALSE),0)","v":0},null,null,0,null,null,null,null,null,null,null,null,null,null,null,null,null,null,null,null,null,"00:00:00","00:00:00",0,{"$f":"SpellNumber((AI78))","v":"No Dollars and No Cents"},3,"No "]
["00:00:00",null,null,null,null,0,null,null,0,null,null,{"$f":"IFERROR(VLOOKUP(K79,$AD$7:AE81,2,FALSE),0)","v":0},null,null,0,null,null,null,null,null,null,null,null,null,null,null,null,null,null,null,null,null,"00:00:00","00:00:00",0,{"$f":"SpellNumber((AI79))","v":"No Dollars and No Cents"},3,"No "]
["00:00:00",null,null,null,null,0,null,null,0,null,null,{"$f":"IFERROR(VLOOKUP(K80,$AD$7:AE82,2,FALSE),0)","v":0},null,null,0,null,null,null,null,null,null,null,null,null,null,null,null,null,null,null,null,null,"00:00:00","00:00:00",0,{"$f":"SpellNumber((AI80))","v":"No Dollars and No Cents"},3,"No "]
["00:00:00",null,null,null,null,0,null,null,0,null,null,{"$f":"IFERROR(VLOOKUP(K81,$AD$7:AE83,2,FALSE),0)","v":0},null,null,0,null,null,null,null,null,null,null,null,null,null,null,null,null,null,null,null,null,"00:00:00","00:00:00",0,{"$f":"SpellNumber((AI81))","v":"No Dollars and No Cents"},3,"No "]
["00:00:00",null,null,null,null,0,null,null,0,null,null,{"$f":"IFERROR(VLOOKUP(K82,$AD$7:AE84,2,FALSE),0)","v":0},null,null,0,null,null,null,null,null,null,null,null,null,null,null,null,null,null,null,null,null,"00:00:00","00:00:00",0,{"$f":"SpellNumber((AI82))","v":"No Dollars and No Cents"},3,"No "]
["00:00:00",null,null,null,null,0,null,null,0,null,null,{"$f":"IFERROR(VLOOKUP(K83,$AD$7:AE85,2,FALSE),0)","v":0},null,null,0,null,null,null,null,null,null,null,null,null,null,null,null,null,null,null,null,null,"00:00:00","00:00:00",0,{"$f":"SpellNumber((AI83))","v":"No Dollars and No Cents"},3,"No "]
["00:00:00",null,null,null,null,0,null,null,0,null,null,{"$f":"IFERROR(VLOOKUP(K84,$AD$7:AE86,2,FALSE),0)","v":0},null,null,0,null,null,null,null,null,null,null,null,null,null,null,null,null,null,null,null,null,"00:00:00","00:00:00",0,{"$f":"SpellNumber((AI84))","v":"No Dollars and No Cents"},3,"No "]
["00:00:00",null,null,null,null,0,null,null,0,null,null,{"$f":"IFERROR(VLOOKUP(K85,$AD$7:AE87,2,FALSE),0)","v":0},null,null,0,null,null,null,null,null,null,null,null,null,null,null,null,null,null,null,null,null,"00:00:00","00:00:00",0,{"$f":"SpellNumber((AI85))","v":"No Dollars and No Cents"},3,"No "]
["00:00:00",null,null,null,null,0,null,null,0,null,null,{"$f":"IFERROR(VLOOKUP(K86,$AD$7:AE88,2,FALSE),0)","v":0},null,null,0,null,null,null,null,null,null,null,null,null,null,null,null,null,null,null,null,null,"00:00:00","00:00:00",0,{"$f":"SpellNumber((AI86))","v":"No Dollars and No Cents"},3,"No "]
["00:00:00",null,null,null,null,0,null,null,0,null,null,{"$f":"IFERROR(VLOOKUP(K87,$AD$7:AE89,2,FALSE),0)","v":0},null,null,0,null,null,null,null,null,null,null,null,null,null,null,null,null,null,null,null,null,"00:00:00","00:00:00",0,{"$f":"SpellNumber((AI87))","v":"No Dollars and No Cents"},3,"No "]
["00:00:00",null,null,null,null,0,null,null,0,null,null,{"$f":"IFERROR(VLOOKUP(K88,$AD$7:AE90,2,FALSE),0)","v":0},null,null,0,null,null,null,null,null,null,null,null,null,null,null,null,null,null,null,null,null,"00:00:00","00:00:00",0,{"$f":"SpellNumber((AI88))","v":"No Dollars and No Cents"},3,"No "]
["00:00:00",null,null,null,null,0,null,null,0,null,null,{"$f":"IFERROR(VLOOKUP(K89,$AD$7:AE91,2,FALSE),0)","v":0},null,null,0,null,null,null,null,null,null,null,null,null,null,null,null,null,null,null,null,null,"00:00:00","00:00:00",0,{"$f":"SpellNumber((AI89))","v":"No Dollars and No Cents"},3,"No "]
["00:00:00",null,null,null,null,0,null,null,0,null,null,{"$f":"IFERROR(VLOOKUP(K90,$AD$7:AE92,2,FALSE),0)","v":0},null,null,0,null,null,null,null,null,null,null,null,null,null,null,null,null,null,null,null,null,"00:00:00","00:00:00",0,{"$f":"SpellNumber((AI90))","v":"No Dollars and No Cents"},3,"No "]
["00:00:00",null,null,null,null,0,null,null,0,null,null,{"$f":"IFERROR(VLOOKUP(K91,$AD$7:AE93,2,FALSE),0)","v":0},null,null,0,null,null,null,"Total Mins",{"$f":"SUM(A7:A104)","v":"00:00:00"},null,null,null,null,null,null,null,null,null,null,null,null,"00:00:00","00:00:00",0,{"$f":"SpellNumber((AI91))","v":"No Dollars and No Cents"},3,"No "]
["00:00:00",null,null,null,null,0,null,null,0,null,null,{"$f":"IFERROR(VLOOKUP(K92,$AD$7:AE94,2,FALSE),0)","v":0},null,null,0,null,null,null,"Settings:","A",{"$f":"COUNTIF(E4:E104,\"A\")","v":0},"Antec.","A",{"$f":"COUNTIF(H4:H104,\"A\")","v":0},"Beh","A",{"$f":"COUNTIF(L4:L104,\"A\")","v":0},"Conse.","A",{"$f":"COUNTIF(O4:O104,\"A\")","v":0},null,null,"00:00:00","00:00:00",0,{"$f":"SpellNumber((AI92))","v":"No Dollars and No Cents"},3,"No "]
["00:00:00",null,null,null,null,0,null,null,0,null,null,{"$f":"IFERROR(VLOOKUP(K93,$AD$7:AE95,2,FALSE),0)","v":0},null,null,0,null,null,null,null,"B",{"$f":"COUNTIF(E5:E105,\"B\")","v":0},null,"B",{"$f":"COUNTIF(H5:H105,\"B\")","v":0},null,"B",{"$f":"COUNTIF(L5:L105,\"B\")","v":0},null,"B",{"$f":"COUNTIF(O5:O105,\"B\")","v":0},null,null,"00:00:00","00:00:00",0,{"$f":"SpellNumber((AI93))","v":"No Dollars and No Cents"},3,"No "]
["00:00:00",null,null,null,null,0,null,null,0,null,null,{"$f":"IFERROR(VLOOKUP(K94,$AD$7:AE96,2,FALSE),0)","v":0},null,null,0,null,null,null,null,"C",{"$f":"COUNTIF(E6:E106,\"C\")","v":0},null,"C",{"$f":"COUNTIF(H6:H106,\"C\")","v":0},null,"C",{"$f":"COUNTIF(L6:L106,\"C\")","v":0},null,"C",{"$f":"COUNTIF(O6:O106,\"C\")","v":0},null,null,"00:00:00","00:00:00",0,{"$f":"SpellNumber((AI94))","v":"No Dollars and No Cents"},3,"No "]
["00:00:00",null,null,null,null,0,null,null,0,null,null,{"$f":"IFERROR(VLOOKUP(K95,$AD$7:AE97,2,FALSE),0)","v":0},null,null,0,null,null,null,null,"D",{"$f":"COUNTIF(E7:E107,\"D\")","v":0},null,"D",{"$f":"COUNTIF(H7:H107,\"D\")","v":0},null,null,null,null,"D",{"$f":"COUNTIF(O7:O107,\"D\")","v":0},null,null,"00:00:00","00:00:00",0,{"$f":"SpellNumber((AI95))","v":"No Dollars and No Cents"},3,"No "]
["00:00:00",null,null,null,null,0,null,null,0,null,null,{"$f":"IFERROR(VLOOKUP(K96,$AD$7:AE98,2,FALSE),0)","v":0},null,null,0,null,null,null,null,"E",{"$f":"COUNTIF(E8:E108,\"E\")","v":0},null,"E",{"$f":"COUNTIF(H8:H108,\"E\")","v":0},null,null,null,null,"E",{"$f":"COUNTIF(O8:O108,\"E\")","v":0},null,null,"00:00:00","00:00:00",0,{"$f":"SpellNumber((AI96))","v":"No Dollars and No Cents"},3,"No "]
["00:00:00",null,null,null,null,0,null,null,0,null,null,{"$f":"IFERROR(VLOOKUP(K97,$AD$7:AE99,2,FALSE),0)","v":0},null,null,0,null,null,null,null,"F",{"$f":"COUNTIF(E9:E109,\"F\")","v":0},null,"F",{"$f":"COUNTIF(H9:H109,\"F\")","v":0},null,null,null,null,"F",{"$f":"COUNTIF(O9:O109,\"F\")","v":0},null,null,"00:00:00","00:00:00",0,{"$f":"SpellNumber((AI97))","v":"No Dollars and No Cents"},3,"No "]
["00:00:00",null,null,null,null,0,null,null,0,null,null,{"$f":"IFERROR(VLOOKUP(K98,$AD$7:AE100,2,FALSE),0)","v":0},null,null,0,null,null,null,null,"G",{"$f":"COUNTIF(E10:E110,\"G\")","v":0},null,"G",{"$f":"COUNTIF(H10:H110,\"G\")","v":0},null,null,null,null,"G",{"$f":"COUNTIF(O10:O110,\"G\")","v":0},null,null,"00:00:00","00:00:00",0,{"$f":"SpellNumber((AI98))","v":"No Dollars and No Cents"},3,"No "]
["00:00:00",null,null,null,null,0,null,null,0,null,null,{"$f":"IFERROR(VLOOKUP(K99,$AD$7:AE101,2,FALSE),0)","v":0},null,null,0,null,null,null,null,"H",{"$f":"COUNTIF(E11:E111,\"H\")","v":0},null,"H",{"$f":"COUNTIF(H11:H111,\"H\")","v":0},null,null,null,null,"H",{"$f":"COUNTIF(O11:O111,\"H\")","v":0},null,null,"00:00:00","00:00:00",0,{"$f":"SpellNumber((AI99))","v":"No Dollars and No Cents"},3,"No "]
["00:00:00",null,null,null,null,0,null,null,0,null,null,{"$f":"IFERROR(VLOOKUP(K100,$AD$7:AE102,2,FALSE),0)","v":0},null,null,0,null,null,null,null,"I",{"$f":"COUNTIF(E12:E112,\"I\")","v":0},null,"I",{"$f":"COUNTIF(H12:H112,\"I\")","v":0},null,null,null,null,"I",{"$f":"COUNTIF(O12:O112,\"I\")","v":0},null,null,"00:00:00","00:00:00",0,{"$f":"SpellNumber((AI100))","v":"No Dollars and No Cents"},3,"No "]
["00:00:00",null,null,null,null,0,null,null,0,null,null,{"$f":"IFERROR(VLOOKUP(K101,$AD$7:AE103,2,FALSE),0)","v":0},null,null,0,null,null,null,null,"J",{"$f":"COUNTIF(E13:E113,\"J\")","v":0},null,"J",{"$f":"COUNTIF(H13:H113,\"J\")","v":0},null,null,null,null,"J",{"$f":"COUNTIF(O13:O113,\"J\")","v":0},null,null,"00:00:00","00:00:00",0,{"$f":"SpellNumber((AI101))","v":"No Dollars and No Cents"},3,"No "]
["00:00:00",null,null,null,null,0,null,null,0,null,null,{"$f":"IFERROR(VLOOKUP(K102,$AD$7:AE104,2,FALSE),0)","v":0},null,null,0,null,null,null,null,"K",{"$f":"COUNTIF(E14:E114,\"K\")","v":0},null,"K",{"$f":"COUNTIF(H14:H114,\"K\")","v":0},null,null,null,null,"K",{"$f":"COUNTIF(O14:O114,\"K\")","v":0},null,null,"00:00:00","00:00:00",0,{"$f":"SpellNumber((AI102))","v":"No Dollars and No Cents"},3,"No "]
["00:00:00",null,null,null,null,0,null,null,0,null,null,{"$f":"IFERROR(VLOOKUP(K103,$AD$7:AE105,2,FALSE),0)","v":0},null,null,0,null,null,null,null,"L",{"$f":"COUNTIF(E15:E115,\"L\")","v":0},null,"L",{"$f":"COUNTIF(H15:H115,\"L\")","v":0},null,null,null,null,"L",{"$f":"COUNTIF(O15:O115,\"L\")","v":0},null,null,"00:00:00","00:00:00",0,{"$f":"SpellNumber((AI103))","v":"No Dollars and No Cents"},3,"No "]
["00:00:00",null,null,null,null,0,null,null,0,null,null,{"$f":"IFERROR(VLOOKUP(K104,$AD$7:AE106,2,FALSE),0)","v":0},null,null,0,null,null,null,null,null,null,null,null,null,null,null,null,null,null,null,null,null,"00:00:00","00:00:00",0,{"$f":"SpellNumber((AI104))","v":"No Dollars and No Cents"},3,"No "]

{"sheet":"Data 19","index":27,"n_rows":104,"n_cols":38,"rows_kept":104,"cut":false,"hidden":false,"merged":[[0,7,3,14]]}
["ATTENDANCE",null,null,null,null,null,null,"Data Collection"]
["If tardy, arrival time",null,null,null,null,null,null,null,null,null,null,null,null,null,null,null,null,null,null,null,null,null,"Date",{"$f":"Calendar!G7","v":{"$error":"#N/A"}},{"$f":"TEXT(X2,\"ddd\")","v":{"$error":"#N/A"}}]
["If left early, time",null,null,null,null,null,null,null,null,null,null,null,null,null,null,null,null,null,null,null,null,null,"Frq. Of bx",{"$f":"AA22","v":0}]
[]
[]
["Mins.","Start Time","End Time",null,null,null,null,null,null,null,null,null,null,null,null,null,null,null,null,null,null,null,"Setting",null,null,"Ant",null,null,null,"Beh",null,null,"Raw Data","Time in text","Decimal"]
[{"$f":"C7-B7","v":"00:00:00"},null,null,null,null,{"$f":"IFERROR(VLOOKUP(E7,$V$7:$W$18,2,FALSE),0)","v":0},null,null,{"$f":"IFERROR(VLOOKUP(H7,$Z$7:$AA$18,2,FALSE),0)","v":0},null,null,{"$f":"IFERROR(VLOOKUP(K7,$AD$7:AE9,2,FALSE),0)","v":0},null,null,{"$f":"IFERROR(VLOOKUP(N7,$V$22:$W$33,2,FALSE),0)","v":0},null,null,null,null,null,null,"A",{"$f":"Criteria!C4","v":"Transition"},null,null,"A",{"$f":"Criteria!E4","v":"Transition"},null,null,"A",{"$f":"Criteria!G4","v":0},null,{"$f":"B7","v":"00:00:00"},{"$f":"TEXT(AG7,\"hh:mm:ss\")","v":"00:00:00"},{"$f":"AG7*24","v":0},{"$f":"SpellNumber((AI7))","v":"No Dollars and No Cents"},{"$f":"FIND(\" Dollar\",AJ7)","v":3},{"$f":"LEFT(AJ7,AK7)","v":"No "}]
[{"$f":"C8-B8","v":"00:00:00"},null,null,null,null,{"$f":"IFERROR(VLOOKUP(E8,$V$7:$W$18,2,FALSE),0)","v":0},null,null,{"$f":"IFERROR(VLOOKUP(H8,$Z$7:$AA$18,2,FALSE),0)","v":0},null,null,{"$f":"IFERROR(VLOOKUP(K8,$AD$7:AE10,2,FALSE),0)","v":0},null,null,{"$f":"IFERROR(VLOOKUP(N8,$V$22:$W$33,2,FALSE),0)","v":0},null,null,null,null,null,null,"B",{"$f":"Criteria!C5","v":"Morning Routine"},null,null,"B",{"$f":"Criteria!E5","v":"Denied access ('No')"},null,null,"B",{"$f":"Criteria!G5","v":0},null,{"$f":"B8","v":"00:00:00"},{"$f":"TEXT(AG8,\"hh:mm:ss\")","v":"00:00:00"},{"$f":"AG8*24","v":0},{"$f":"SpellNumber((AI8))","v":"No Dollars and No Cents"},{"$f":"FIND(\" Dollar\",AJ8)","v":3},{"$f":"LEFT(AJ8,AK8)","v":"No "}]
["00:00:00",null,null,null,null,{"$f":"IFERROR(VLOOKUP(E9,$V$7:$W$18,2,FALSE),0)","v":0},null,null,0,null,null,{"$f":"IFERROR(VLOOKUP(K9,$AD$7:AE11,2,FALSE),0)","v":0},null,null,0,null,null,null,null,null,null,"C",{"$f":"Criteria!C6","v":"Group Work"},null,null,"C",{"$f":"Criteria!E6","v":"Instruction/ Directions"},null,null,"C",{"$f":"Criteria!G6","v":0},null,"00:00:00","00:00:00",0,{"$f":"SpellNumber((AI9))","v":"No Dollars and No Cents"},3,"No "]
["00:00:00",null,null,null,null,0,null,null,0,null,null,{"$f":"IFERROR(VLOOKUP(K10,$AD$7:AE12,2,FALSE),0)","v":0},null,null,0,null,null,null,null,null,null,"D",{"$f":"Criteria!C7","v":"Ind. Seat/Work Time"},null,null,"D",{"$f":"Criteria!E7","v":"New Task"},null,null,null,null,null,"00:00:00","00:00:00",0,{"$f":"SpellNumber((AI10))","v":"No Dollars and No Cents"},3,"No "]
["00:00:00",null,null,null,null,0,null,null,0,null,null,{"$f":"IFERROR(VLOOKUP(K11,$AD$7:AE13,2,FALSE),0)","v":0},null,null,0,null,null,null,null,null,null,"E",{"$f":"Criteria!C8","v":"Language Arts"},null,null,"E",{"$f":"Criteria!E8","v":"Tcher attn to other"},null,null,null,null,null,"00:00:00","00:00:00",0,{"$f":"SpellNumber((AI11))","v":"No Dollars and No Cents"},3,"No "]
["00:00:00",null,null,null,null,0,null,null,0,null,null,{"$f":"IFERROR(VLOOKUP(K12,$AD$7:AE14,2,FALSE),0)","v":0},null,null,0,null,null,null,null,null,null,"F",{"$f":"Criteria!C9","v":"Mathematics"},null,null,"F",{"$f":"Criteria!E9","v":"Choice given"},null,null,null,null,null,"00:00:00","00:00:00",0,{"$f":"SpellNumber((AI12))","v":"No Dollars and No Cents"},3,"No "]
["00:00:00",null,null,null,null,0,null,null,0,null,null,{"$f":"IFERROR(VLOOKUP(K13,$AD$7:AE15,2,FALSE),0)","v":0},null,null,0,null,null,null,null,null,null,"G",{"$f":"Criteria!C10","v":"Physical Education"},null,null,"G",{"$f":"Criteria!E10","v":"Redirection"},null,null,null,null,null,"00:00:00","00:00:00",0,{"$f":"SpellNumber((AI13))","v":"No Dollars and No Cents"},3,"No "]
["00:00:00",null,null,null,null,0,null,null,0,null,null,{"$f":"IFERROR(VLOOKUP(K14,$AD$7:AE16,2,FALSE),0)","v":0},null,null,0,null,null,null,null,null,null,"H",{"$f":"Criteria!C11","v":"Music/Art"},null,null,"H",{"$f":"Criteria!E11","v":"Routine Task"},null,null,null,null,null,"00:00:00","00:00:00",0,{"$f":"SpellNumber((AI14))","v":"No Dollars and No Cents"},3,"No "]
["00:00:00",null,null,null,null,0,null,null,0,null,null,{"$f":"IFERROR(VLOOKUP(K15,$AD$7:AE17,2,FALSE),0)","v":0},null,null,0,null,null,null,null,null,null,"I",{"$f":"Criteria!C12","v":"Speech"},null,null,"I",{"$f":"Criteria!E12","v":"Waiting"},null,null,null,null,null,"00:00:00","00:00:00",0,{"$f":"SpellNumber((AI15))","v":"No Dollars and No Cents"},3,"No "]
["00:00:00",null,null,null,null,0,null,null,0,null,null,{"$f":"IFERROR(VLOOKUP(K16,$AD$7:AE18,2,FALSE),0)","v":0},null,null,0,null,null,null,null,null,null,"J",{"$f":"Criteria!C13","v":"OT/PT"},null,null,"J",{"$f":"Criteria!E13","v":"Unknown"},null,null,null,null,null,"00:00:00","00:00:00",0,{"$f":"SpellNumber((AI16))","v":"No Dollars and No Cents"},3,"No "]
["00:00:00",null,null,null,null,0,null,null,0,null,null,{"$f":"IFERROR(VLOOKUP(K17,$AD$7:AE19,2,FALSE),0)","v":0},null,null,0,null,null,null,null,null,null,"K",{"$f":"Criteria!C14","v":"Center"},null,null,"K",{"$f":"Criteria!E14","v":"Ignored"},null,null,null,null,null,"00:00:00","00:00:00",0,{"$f":"SpellNumber((AI17))","v":"No Dollars and No Cents"},3,"No "]
["00:00:00",null,null,null,null,0,null,null,0,null,null,{"$f":"IFERROR(VLOOKUP(K18,$AD$7:AE20,2,FALSE),0)","v":0},null,null,0,null,null,null,null,null,null,"L",{"$f":"Criteria!C15","v":"Other"},null,null,"L",{"$f":"Criteria!E15","v":"Other"},null,null,null,null,null,"00:00:00","00:00:00",0,{"$f":"SpellNumber((AI18))","v":"No Dollars and No Cents"},3,"No "]
["00:00:00",null,null,null,null,0,null,null,0,null,null,{"$f":"IFERROR(VLOOKUP(K19,$AD$7:AE21,2,FALSE),0)","v":0},null,null,0,null,null,null,null,null,null,null,null,null,null,null,null,null,null,null,null,null,"00:00:00","00:00:00",0,{"$f":"SpellNumber((AI19))","v":"No Dollars and No Cents"},3,"No "]
["00:00:00",null,null,null,null,0,null,null,0,null,null,{"$f":"IFERROR(VLOOKUP(K20,$AD$7:AE22,2,FALSE),0)","v":0},null,null,0,null,null,null,null,null,null,null,null,null,null,null,null,null,null,null,null,null,"00:00:00","00:00:00",0,{"$f":"SpellNumber((AI20))","v":"No Dollars and No Cents"},3,"No "]
["00:00:00",null,null,null,null,0,null,null,0,null,null,{"$f":"IFERROR(VLOOKUP(K21,$AD$7:AE23,2,FALSE),0)","v":0},null,null,0,null,null,null,null,null,null,null,"Con",null,"Bx Frequency Per Day",null,null,null,null,null,null,null,"00:00:00","00:00:00",0,{"$f":"SpellNumber((AI21))","v":"No Dollars and No Cents"},3,"No "]
["00:00:00",null,null,null,null,0,null,null,0,null,null,{"$f":"IFERROR(VLOOKUP(K22,$AD$7:AE24,2,FALSE),0)","v":0},null,null,0,null,null,null,null,null,null,"A",{"$f":"Criteria!I4","v":"Choice Given"},"A",{"$f":"COUNTIF(K7:K104,\"A\")","v":0},null,{"$f":"SUM(Y22:Y24)","v":0},null,"Bin Dec","Frequency of Time",null,null,"00:00:00","00:00:00",0,{"$f":"SpellNumber((AI22))","v":"No Dollars and No Cents"},3,"No "]
["00:00:00",null,null,null,null,0,null,null,0,null,null,{"$f":"IFERROR(VLOOKUP(K23,$AD$7:AE25,2,FALSE),0)","v":0},null,null,0,null,null,null,null,null,null,"B",{"$f":"Criteria!I5","v":"Ignored"},"B",{"$f":"COUNTIF(K7:K104,\"B\")","v":0},null,null,null,"Seven",{"$f":"COUNTIF(AL7:AL104,\"*Seven*\")","v":0},null,null,"00:00:00","00:00:00",0,{"$f":"SpellNumber((AI23))","v":"No Dollars and No Cents"},3,"No "]
["00:00:00",null,null,null,null,0,null,null,0,null,null,{"$f":"IFERROR(VLOOKUP(K24,$AD$7:AE26,2,FALSE),0)","v":0},null,null,0,null,null,null,null,null,null,"C",{"$f":"Criteria!I6","v":"Redirection"},"C",{"$f":"COUNTIF(K7:K104,\"C\")","v":0},null,null,null,"Eight",{"$f":"COUNTIF(AL7:AL104,\"*Eight*\")","v":0},null,null,"00:00:00","00:00:00",0,{"$f":"SpellNumber((AI24))","v":"No Dollars and No Cents"},3,"No "]
["00:00:00",null,null,null,null,0,null,null,0,null,null,{"$f":"IFERROR(VLOOKUP(K25,$AD$7:AE27,2,FALSE),0)","v":0},null,null,0,null,null,null,null,null,null,"D",{"$f":"Criteria!I7","v":"Kept the demand"},null,"Bx Druation Per Day",null,null,null,"Nine",{"$f":"COUNTIF(AL7:AL104,\"*Nine*\")","v":0},null,null,"00:00:00","00:00:00",0,{"$f":"SpellNumber((AI25))","v":"No Dollars and No Cents"},3,"No "]
["00:00:00",null,null,null,null,0,null,null,0,null,null,{"$f":"IFERROR(VLOOKUP(K26,$AD$7:AE28,2,FALSE),0)","v":0},null,null,0,null,null,null,null,null,null,"E",{"$f":"Criteria!I8","v":"Changed activity"},"A",{"$f":"SUMIF(K7:K104,\"A\",A7:A104)","v":"00:00:00"},null,null,null,"Ten",{"$f":"COUNTIF(AL7:AL12,\"*Ten*\")","v":0},null,null,"00:00:00","00:00:00",0,{"$f":"SpellNumber((AI26))","v":"No Dollars and No Cents"},3,"No "]
["00:00:00",null,null,null,null,0,null,null,0,null,null,{"$f":"IFERROR(VLOOKUP(K27,$AD$7:AE29,2,FALSE),0)","v":0},null,null,0,null,null,null,null,null,null,"F",{"$f":"Criteria!I9","v":"Verbal reprimand"},"B",{"$f":"SUMIF(K7:K104,\"B\",A7:A104)","v":"00:00:00"},null,null,null,"Eleven",{"$f":"COUNTIF(AL7:AL104,\"*Eleven*\")","v":0},null,null,"00:00:00","00:00:00",0,{"$f":"SpellNumber((AI27))","v":"No Dollars and No Cents"},3,"No "]
["00:00:00",null,null,null,null,0,null,null,0,null,null,{"$f":"IFERROR(VLOOKUP(K28,$AD$7:AE30,2,FALSE),0)","v":0},null,null,0,null,null,null,null,null,null,"G",{"$f":"Criteria!I10","v":"Told to wait"},"C",{"$f":"SUMIF(K7:K104,\"C\",A7:A104)","v":"00:00:00"},null,null,null,"Twelve",{"$f":"COUNTIF(AL7:AL104,\"*Twelve*\")","v":0},null,null,"00:00:00","00:00:00",0,{"$f":"SpellNumber((AI28))","v":"No Dollars and No Cents"},3,"No "]
["00:00:00",null,null,null,null,0,null,null,0,null,null,{"$f":"IFERROR(VLOOKUP(K29,$AD$7:AE31,2,FALSE),0)","v":0},null,null,0,null,null,null,null,null,null,"H",{"$f":"Criteria!I11","v":"Physical Prompt"},null,null,null,null,null,"One",{"$f":"COUNTIF(AL7:AL104,\"*One*\")","v":0},null,null,"00:00:00","00:00:00",0,{"$f":"SpellNumber((AI29))","v":"No Dollars and No Cents"},3,"No "]
["00:00:00",null,null,null,null,0,null,null,0,null,null,{"$f":"IFERROR(VLOOKUP(K30,$AD$7:AE32,2,FALSE),0)","v":0},null,null,0,null,null,null,null,null,null,"I",{"$f":"Criteria!I12","v":"Verbal prompt"},null,null,null,null,null,"Two",{"$f":"COUNTIF(AL7:AL104,\"*Two*\")","v":0},null,null,"00:00:00","00:00:00",0,{"$f":"SpellNumber((AI30))","v":"No Dollars and No Cents"},3,"No "]
["00:00:00",null,null,null,null,0,null,null,0,null,null,{"$f":"IFERROR(VLOOKUP(K31,$AD$7:AE33,2,FALSE),0)","v":0},null,null,0,null,null,null,null,null,null,"J",{"$f":"Criteria!I13","v":"Told to wait"},null,null,null,null,null,"Three",{"$f":"COUNTIF(AL7:AL104,\"*Three*\")","v":0},null,null,"00:00:00","00:00:00",0,{"$f":"SpellNumber((AI31))","v":"No Dollars and No Cents"},3,"No "]
["00:00:00",null,null,null,null,0,null,null,0,null,null,{"$f":"IFERROR(VLOOKUP(K32,$AD$7:AE34,2,FALSE),0)","v":0},null,null,0,null,null,null,null,null,null,"K",{"$f":"Criteria!I14","v":"Unknown"},null,null,null,null,null,"Four",{"$f":"COUNTIF(AL7:AL104,\"*Four*\")","v":0},null,null,"00:00:00","00:00:00",0,{"$f":"SpellNumber((AI32))","v":"No Dollars and No Cents"},3,"No "]
["00:00:00",null,null,null,null,0,null,null,0,null,null,{"$f":"IFERROR(VLOOKUP(K33,$AD$7:AE35,2,FALSE),0)","v":0},null,null,0,null,null,null,null,null,null,"L",{"$f":"Criteria!I15","v":"Other"},null,null,null,null,null,null,null,null,null,"00:00:00","00:00:00",0,{"$f":"SpellNumber((AI33))","v":"No Dollars and No Cents"},3,"No "]
["00:00:00",null,null,null,null,0,null,null,0,null,null,{"$f":"IFERROR(VLOOKUP(K34,$AD$7:AE36,2,FALSE),0)","v":0},null,null,0,null,null,null,null,null,null,null,null,null,null,null,null,null,null,null,null,null,"00:00:00","00:00:00",0,{"$f":"SpellNumber((AI34))","v":"No Dollars and No Cents"},3,"No "]
["00:00:00",null,null,null,null,0,null,null,0,null,null,{"$f":"IFERROR(VLOOKUP(K35,$AD$7:AE37,2,FALSE),0)","v":0},null,null,0,null,null,null,null,null,null,null,"Context Frequency","Consequence","Antedencents",null,null,null,null,null,null,null,"00:00:00","00:00:00",0,{"$f":"SpellNumber((AI35))","v":"No Dollars and No Cents"},3,"No "]
["00:00:00",null,null,null,null,0,null,null,0,null,null,{"$f":"IFERROR(VLOOKUP(K36,$AD$7:AE38,2,FALSE),0)","v":0},null,null,0,null,null,null,null,null,null,"A",{"$f":"COUNTIF(E7:E104,\"A\")","v":0},{"$f":"COUNTIF(N7:N104,\"A\")","v":0},{"$f":"COUNTIF(H7:H104,\"A\")","v":0},null,null,null,null,null,null,null,"00:00:00","00:00:00",0,{"$f":"SpellNumber((AI36))","v":"No Dollars and No Cents"},3,"No "]
["00:00:00",null,null,null,null,0,null,null,0,null,null,{"$f":"IFERROR(VLOOKUP(K37,$AD$7:AE39,2,FALSE),0)","v":0},null,null,0,null,null,null,null,null,null,"B",{"$f":"COUNTIF(E8:E105,\"B\")","v":0},{"$f":"COUNTIF(N7:N104,\"B\")","v":0},{"$f":"COUNTIF(H7:H104,\"B\")","v":0},null,null,null,null,null,null,null,"00:00:00","00:00:00",0,{"$f":"SpellNumber((AI37))","v":"No Dollars and No Cents"},3,"No "]
["00:00:00",null,null,null,null,0,null,null,0,null,null,{"$f":"IFERROR(VLOOKUP(K38,$AD$7:AE40,2,FALSE),0)","v":0},null,null,0,null,null,null,null,null,null,"C",{"$f":"COUNTIF(E8:E105,\"C\")","v":0},{"$f":"COUNTIF(N7:N104,\"C\")","v":0},{"$f":"COUNTIF(H7:H104,\"C\")","v":0},null,null,null,null,null,null,null,"00:00:00","00:00:00",0,{"$f":"SpellNumber((AI38))","v":"No Dollars and No Cents"},3,"No "]
["00:00:00",null,null,null,null,0,null,null,0,null,null,{"$f":"IFERROR(VLOOKUP(K39,$AD$7:AE41,2,FALSE),0)","v":0},null,null,0,null,null,null,null,null,null,"D",{"$f":"COUNTIF(E8:E105,\"D\")","v":0},{"$f":"COUNTIF(N7:N104,\"D\")","v":0},{"$f":"COUNTIF(H7:H104,\"D\")","v":0},null,null,null,null,null,null,null,"00:00:00","00:00:00",0,{"$f":"SpellNumber((AI39))","v":"No Dollars and No Cents"},3,"No "]
["00:00:00",null,null,null,null,0,null,null,0,null,null,{"$f":"IFERROR(VLOOKUP(K40,$AD$7:AE42,2,FALSE),0)","v":0},null,null,0,null,null,null,null,null,null,"E",{"$f":"COUNTIF(E8:E105,\"E\")","v":0},{"$f":"COUNTIF(N7:N104,\"E\")","v":0},{"$f":"COUNTIF(H7:H104,\"E\")","v":0},null,null,null,null,null,null,null,"00:00:00","00:00:00",0,{"$f":"SpellNumber((AI40))","v":"No Dollars and No Cents"},3,"No "]
["00:00:00",null,null,null,null,0,null,null,0,null,null,{"$f":"IFERROR(VLOOKUP(K41,$AD$7:AE43,2,FALSE),0)","v":0},null,null,0,null,null,null,null,null,null,"F",{"$f":"COUNTIF(E8:E105,\"F\")","v":0},{"$f":"COUNTIF(N7:N104,\"F\")","v":0},{"$f":"COUNTIF(H7:H104,\"F\")","v":0},null,null,null,null,null,null,null,"00:00:00","00:00:00",0,{"$f":"SpellNumber((AI41))","v":"No Dollars and No Cents"},3,"No "]
["00:00:00",null,null,null,null,0,null,null,0,null,null,{"$f":"IFERROR(VLOOKUP(K42,$AD$7:AE44,2,FALSE),0)","v":0},null,null,0,null,null,null,null,null,null,"G",{"$f":"COUNTIF(E8:E105,\"G\")","v":0},{"$f":"COUNTIF(N7:N104,\"G\")","v":0},{"$f":"COUNTIF(H7:H104,\"G\")","v":0},null,null,null,null,null,null,null,"00:00:00","00:00:00",0,{"$f":"SpellNumber((AI42))","v":"No Dollars and No Cents"},3,"No "]
["00:00:00",null,null,null,null,0,null,null,0,null,null,{"$f":"IFERROR(VLOOKUP(K43,$AD$7:AE45,2,FALSE),0)","v":0},null,null,0,null,null,null,null,null,null,"H",{"$f":"COUNTIF(E8:E105,\"H\")","v":0},{"$f":"COUNTIF(N7:N104,\"H\")","v":0},{"$f":"COUNTIF(H7:H104,\"H\")","v":0},null,null,null,null,null,null,null,"00:00:00","00:00:00",0,{"$f":"SpellNumber((AI43))","v":"No Dollars and No Cents"},3,"No "]
["00:00:00",null,null,null,null,0,null,null,0,null,null,{"$f":"IFERROR(VLOOKUP(K44,$AD$7:AE46,2,FALSE),0)","v":0},null,null,0,null,null,null,null,null,null,"I",{"$f":"COUNTIF(E8:E105,\"I\")","v":0},{"$f":"COUNTIF(N7:N104,\"I\")","v":0},{"$f":"COUNTIF(H7:H104,\"I\")","v":0},null,null,null,null,null,null,null,"00:00:00","00:00:00",0,{"$f":"SpellNumber((AI44))","v":"No Dollars and No Cents"},3,"No "]
["00:00:00",null,null,null,null,0,null,null,0,null,null,{"$f":"IFERROR(VLOOKUP(K45,$AD$7:AE47,2,FALSE),0)","v":0},null,null,0,null,null,null,null,null,null,"J",{"$f":"COUNTIF(E8:E105,\"J\")","v":0},{"$f":"COUNTIF(N7:N104,\"J\")","v":0},{"$f":"COUNTIF(H7:H104,\"J\")","v":0},null,null,null,null,null,null,null,"00:00:00","00:00:00",0,{"$f":"SpellNumber((AI45))","v":"No Dollars and No Cents"},3,"No "]
["00:00:00",null,null,null,null,0,null,null,0,null,null,{"$f":"IFERROR(VLOOKUP(K46,$AD$7:AE48,2,FALSE),0)","v":0},null,null,0,null,null,null,null,null,null,"K",{"$f":"COUNTIF(E8:E105,\"K\")","v":0},{"$f":"COUNTIF(N7:N104,\"K\")","v":0},{"$f":"COUNTIF(H7:H104,\"K\")","v":0},null,null,null,null,null,null,null,"00:00:00","00:00:00",0,{"$f":"SpellNumber((AI46))","v":"No Dollars and No Cents"},3,"No "]
["00:00:00",null,null,null,null,0,null,null,0,null,null,{"$f":"IFERROR(VLOOKUP(K47,$AD$7:AE49,2,FALSE),0)","v":0},null,null,0,null,null,null,null,null,null,"L",{"$f":"COUNTIF(E8:E105,\"l\")","v":0},{"$f":"COUNTIF(N7:N104,\"L\")","v":0},{"$f":"COUNTIF(H7:H104,\"L\")","v":0},null,null,null,null,null,null,null,"00:00:00","00:00:00",0,{"$f":"SpellNumber((AI47))","v":"No Dollars and No Cents"},3,"No "]
["00:00:00",null,null,null,null,0,null,null,0,null,null,{"$f":"IFERROR(VLOOKUP(K48,$AD$7:AE50,2,FALSE),0)","v":0},null,null,0,null,null,null,null,null,null,null,null,null,null,null,null,null,null,null,null,null,"00:00:00","00:00:00",0,{"$f":"SpellNumber((AI48))","v":"No Dollars and No Cents"},3,"No "]
["00:00:00",null,null,null,null,0,null,null,0,null,null,{"$f":"IFERROR(VLOOKUP(K49,$AD$7:AE51,2,FALSE),0)","v":0},null,null,0,null,null,null,null,null,null,null,"Beh & Setting ",null,null,null,"Beh & Antecedents",null,null,null,null,null,"00:00:00","00:00:00",0,{"$f":"SpellNumber((AI49))","v":"No Dollars and No Cents"},3,"No "]
["00:00:00",null,null,null,null,0,null,null,0,null,null,{"$f":"IFERROR(VLOOKUP(K50,$AD$7:AE52,2,FALSE),0)","v":0},null,null,0,null,null,null,null,null,null,null,"A","B","C",null,null,"A","B","C",null,null,"00:00:00","00:00:00",0,{"$f":"SpellNumber((AI50))","v":"No Dollars and No Cents"},3,"No "]
["00:00:00",null,null,null,null,0,null,null,0,null,null,{"$f":"IFERROR(VLOOKUP(K51,$AD$7:AE53,2,FALSE),0)","v":0},null,null,0,null,null,null,null,null,null,"A",{"$f":"COUNTIFS(E7:E104,\"A\",K7:K104,\"A\")","v":0},{"$f":"COUNTIFS(E7:E104,\"A\",K7:K104,\"B\")","v":0},{"$f":"COUNTIFS(E7:E104,\"A\",K7:K104,\"C\")","v":0},null,"A",{"$f":"COUNTIFS(H7:H104,\"a\",K7:K104,\"A\")","v":0},{"$f":"COUNTIFS(H7:H104,\"A\",K7:K104,\"B\")","v":0},{"$f":"COUNTIFS(H7:H104,\"A\",K7:K104,\"C\")","v":0},null,null,"00:00:00","00:00:00",0,{"$f":"SpellNumber((AI51))","v":"No Dollars and No Cents"},3,"No "]
["00:00:00",null,null,null,null,0,null,null,0,null,null,{"$f":"IFERROR(VLOOKUP(K52,$AD$7:AE54,2,FALSE),0)","v":0},null,null,0,null,null,null,null,null,null,"B",{"$f":"COUNTIFS(E7:E104,\"B\",K7:K104,\"A\")","v":0},{"$f":"COUNTIFS(E7:E104,\"B\",K7:K104,\"B\")","v":0},{"$f":"COUNTIFS(E7:E104,\"B\",K7:K104,\"C\")","v":0},null,"B",{"$f":"COUNTIFS(H7:H104,\"B\",K7:K104,\"A\")","v":0},{"$f":"COUNTIFS(H7:H104,\"B\",K7:K104,\"B\")","v":0},{"$f":"COUNTIFS(H7:H104,\"B\",K7:K104,\"C\")","v":0},null,null,"00:00:00","00:00:00",0,{"$f":"SpellNumber((AI52))","v":"No Dollars and No Cents"},3,"No "]
["00:00:00",null,null,null,null,0,null,null,0,null,null,{"$f":"IFERROR(VLOOKUP(K53,$AD$7:AE55,2,FALSE),0)","v":0},null,null,0,null,null,null,null,null,null,"C",{"$f":"COUNTIFS(K7:K104,\"C\",K7:K104,\"A\")","v":0},{"$f":"COUNTIFS(E7:E104,\"C\",K7:K104,\"B\")","v":0},{"$f":"COUNTIFS(E7:E104,\"C\",K7:K104,\"C\")","v":0},null,"C",{"$f":"COUNTIFS(H7:H104,\"C\",K7:K104,\"A\")","v":0},{"$f":"COUNTIFS(H7:H104,\"C\",K7:K104,\"B\")","v":0},{"$f":"COUNTIFS(H7:H104,\"C\",K7:K104,\"C\")","v":0},null,null,"00:00:00","00:00:00",0,{"$f":"SpellNumber((AI53))","v":"No Dollars and No Cents"},3,"No "]
["00:00:00",null,null,null,null,0,null,null,0,null,null,{"$f":"IFERROR(VLOOKUP(K54,$AD$7:AE56,2,FALSE),0)","v":0},null,null,0,null,null,null,null,null,null,"D",{"$f":"COUNTIFS(E7:E104,\"D\",K7:K104,\"A\")","v":0},{"$f":"COUNTIFS(E7:E104,\"D\",K7:K104,\"B\")","v":0},{"$f":"COUNTIFS(E7:E104,\"D\",K7:K104,\"C\")","v":0},null,"D",{"$f":"COUNTIFS(H7:H104,\"D\",K7:K104,\"A\")","v":0},{"$f":"COUNTIFS(H7:H104,\"D\",K7:K104,\"B\")","v":0},{"$f":"COUNTIFS(H7:H104,\"D\",K7:K104,\"C\")","v":0},null,null,"00:00:00","00:00:00",0,{"$f":"SpellNumber((AI54))","v":"No Dollars and No Cents"},3,"No "]
["00:00:00",null,null,null,null,0,null,null,0,null,null,{"$f":"IFERROR(VLOOKUP(K55,$AD$7:AE57,2,FALSE),0)","v":0},null,null,0,null,null,null,null,null,null,"E",{"$f":"COUNTIFS(E7:E104,\"E\",K7:K104,\"A\")","v":0},{"$f":"COUNTIFS(E7:E104,\"E\",K7:K104,\"B\")","v":0},{"$f":"COUNTIFS(E7:E104,\"E\",K7:K104,\"C\")","v":0},null,"E",{"$f":"COUNTIFS(H7:H104,\"E\",K7:K104,\"A\")","v":0},{"$f":"COUNTIFS(H7:H104,\"E\",K7:K104,\"B\")","v":0},{"$f":"COUNTIFS(H7:H104,\"E\",K7:K104,\"C\")","v":0},null,null,"00:00:00","00:00:00",0,{"$f":"SpellNumber((AI55))","v":"No Dollars and No Cents"},3,"No "]
["00:00:00",null,null,null,null,0,null,null,0,null,null,{"$f":"IFERROR(VLOOKUP(K56,$AD$7:AE58,2,FALSE),0)","v":0},null,null,0,null,null,null,null,null,null,"F",{"$f":"COUNTIFS(E7:E104,\"F\",K7:K104,\"A\")","v":0},{"$f":"COUNTIFS(E7:E104,\"F\",K7:K104,\"B\")","v":0},{"$f":"COUNTIFS(E7:E104,\"F\",K7:K104,\"C\")","v":0},null,"F",{"$f":"COUNTIFS(H7:H104,\"F\",K7:K104,\"A\")","v":0},{"$f":"COUNTIFS(H7:H104,\"F\",K7:K104,\"B\")","v":0},{"$f":"COUNTIFS(H7:H104,\"F\",K7:K104,\"C\")","v":0},null,null,"00:00:00","00:00:00",0,{"$f":"SpellNumber((AI56))","v":"No Dollars and No Cents"},3,"No "]
["00:00:00",null,null,null,null,0,null,null,0,null,null,{"$f":"IFERROR(VLOOKUP(K57,$AD$7:AE59,2,FALSE),0)","v":0},null,null,0,null,null,null,null,null,null,"G",{"$f":"COUNTIFS(E7:E104,\"G\",K7:K104,\"A\")","v":0},{"$f":"COUNTIFS(E7:E104,\"G\",K7:K104,\"B\")","v":0},{"$f":"COUNTIFS(E7:E104,\"G\",K7:K104,\"C\")","v":0},null,"G",{"$f":"COUNTIFS(H7:H104,\"G\",K7:K104,\"A\")","v":0},{"$f":"COUNTIFS(H7:H104,\"G\",K7:K104,\"B\")","v":0},{"$f":"COUNTIFS(H7:H104,\"G\",K7:K104,\"C\")","v":0},null,null,"00:00:00","00:00:00",0,{"$f":"SpellNumber((AI57))","v":"No Dollars and No Cents"},3,"No "]
["00:00:00",null,null,null,null,0,null,null,0,null,null,{"$f":"IFERROR(VLOOKUP(K58,$AD$7:AE60,2,FALSE),0)","v":0},null,null,0,null,null,null,null,null,null,"H",{"$f":"COUNTIFS(E7:E104,\"H\",K7:K104,\"A\")","v":0},{"$f":"COUNTIFS(E7:E104,\"H\",K7:K104,\"B\")","v":0},{"$f":"COUNTIFS(E7:E104,\"H\",K7:K104,\"C\")","v":0},null,"H",{"$f":"COUNTIFS(H7:H104,\"H\",K7:K104,\"A\")","v":0},{"$f":"COUNTIFS(H7:H104,\"H\",K7:K104,\"B\")","v":0},{"$f":"COUNTIFS(H7:H104,\"H\",K7:K104,\"C\")","v":0},null,null,"00:00:00","00:00:00",0,{"$f":"SpellNumber((AI58))","v":"No Dollars and No Cents"},3,"No "]
["00:00:00",null,null,null,null,0,null,null,0,null,null,{"$f":"IFERROR(VLOOKUP(K59,$AD$7:AE61,2,FALSE),0)","v":0},null,null,0,null,null,null,null,null,null,"I",{"$f":"COUNTIFS(E7:E104,\"I\",K7:K104,\"A\")","v":0},{"$f":"COUNTIFS(E7:E104,\"I\",K7:K104,\"B\")","v":0},{"$f":"COUNTIFS(E7:E104,\"I\",K7:K104,\"C\")","v":0},null,"I",{"$f":"COUNTIFS(H7:H104,\"I\",K7:K104,\"A\")","v":0},{"$f":"COUNTIFS(H7:H104,\"I\",K7:K104,\"B\")","v":0},{"$f":"COUNTIFS(H7:H104,\"I\",K7:K104,\"C\")","v":0},null,null,"00:00:00","00:00:00",0,{"$f":"SpellNumber((AI59))","v":"No Dollars and No Cents"},3,"No "]
["00:00:00",null,null,null,null,0,null,null,0,null,null,{"$f":"IFERROR(VLOOKUP(K60,$AD$7:AE62,2,FALSE),0)","v":0},null,null,0,null,null,null,null,null,null,"J",{"$f":"COUNTIFS(E7:E104,\"J\",K7:K104,\"A\")","v":0},{"$f":"COUNTIFS(E7:E104,\"J\",K7:K104,\"B\")","v":0},{"$f":"COUNTIFS(E7:E104,\"J\",K7:K104,\"C\")","v":0},null,"J",{"$f":"COUNTIFS(H7:H104,\"J\",K7:K104,\"A\")","v":0},{"$f":"COUNTIFS(H7:H104,\"J\",K7:K104,\"B\")","v":0},{"$f":"COUNTIFS(H7:H104,\"J\",K7:K104,\"C\")","v":0},null,null,"00:00:00","00:00:00",0,{"$f":"SpellNumber((AI60))","v":"No Dollars and No Cents"},3,"No "]
["00:00:00",null,null,null,null,0,null,null,0,null,null,{"$f":"IFERROR(VLOOKUP(K61,$AD$7:AE63,2,FALSE),0)","v":0},null,null,0,null,null,null,null,null,null,"K",{"$f":"COUNTIFS(E7:E104,\"K\",K7:K104,\"A\")","v":0},{"$f":"COUNTIFS(E7:E104,\"K\",K7:K104,\"B\")","v":0},{"$f":"COUNTIFS(E7:E104,\"K\",K7:K104,\"C\")","v":0},null,"K",{"$f":"COUNTIFS(H7:H104,\"K\",K7:K104,\"A\")","v":0},{"$f":"COUNTIFS(H7:H104,\"K\",K7:K104,\"B\")","v":0},{"$f":"COUNTIFS(H7:H104,\"K\",K7:K104,\"C\")","v":0},null,null,"00:00:00","00:00:00",0,{"$f":"SpellNumber((AI61))","v":"No Dollars and No Cents"},3,"No "]
["00:00:00",null,null,null,null,0,null,null,0,null,null,{"$f":"IFERROR(VLOOKUP(K62,$AD$7:AE64,2,FALSE),0)","v":0},null,null,0,null,null,null,null,null,null,"L",{"$f":"COUNTIFS(E7:E104,\"L\",K7:K104,\"A\")","v":0},{"$f":"COUNTIFS(E7:E104,\"L\",K7:K104,\"B\")","v":0},{"$f":"COUNTIFS(E7:E104,\"L\",K7:K104,\"C\")","v":0},null,"L",{"$f":"COUNTIFS(H7:H104,\"L\",K7:K104,\"A\")","v":0},{"$f":"COUNTIFS(H7:H104,\"L\",K7:K104,\"B\")","v":0},{"$f":"COUNTIFS(H7:H104,\"L\",K7:K104,\"C\")","v":0},null,null,"00:00:00","00:00:00",0,{"$f":"SpellNumber((AI62))","v":"No Dollars and No Cents"},3,"No "]
["00:00:00",null,null,null,null,0,null,null,0,null,null,{"$f":"IFERROR(VLOOKUP(K63,$AD$7:AE65,2,FALSE),0)","v":0},null,null,0,null,null,null,null,null,null,null,"Beh & Consequences",null,null,null,null,null,null,null,null,null,"00:00:00","00:00:00",0,{"$f":"SpellNumber((AI63))","v":"No Dollars and No Cents"},3,"No "]
["00:00:00",null,null,null,null,0,null,null,0,null,null,{"$f":"IFERROR(VLOOKUP(K64,$AD$7:AE66,2,FALSE),0)","v":0},null,null,0,null,null,null,null,null,null,null,"A","B","C",null,null,null,null,null,null,null,"00:00:00","00:00:00",0,{"$f":"SpellNumber((AI64))","v":"No Dollars and No Cents"},3,"No "]
["00:00:00",null,null,null,null,0,null,null,0,null,null,{"$f":"IFERROR(VLOOKUP(K65,$AD$7:AE67,2,FALSE),0)","v":0},null,null,0,null,null,null,null,null,null,"A",{"$f":"COUNTIFS(N7:N104,\"A\",K7:K104,\"A\")","v":0},{"$f":"COUNTIFS(N7:N104,\"A\",K7:K104,\"B\")","v":0},{"$f":"COUNTIFS(N7:N104,\"A\",K7:K104,\"C\")","v":0},null,null,null,null,null,null,null,"00:00:00","00:00:00",0,{"$f":"SpellNumber((AI65))","v":"No Dollars and No Cents"},3,"No "]
["00:00:00",null,null,null,null,0,null,null,0,null,null,{"$f":"IFERROR(VLOOKUP(K66,$AD$7:AE68,2,FALSE),0)","v":0},null,null,0,null,null,null,null,null,null,"B",{"$f":"COUNTIFS(N7:N104,\"B\",K7:K104,\"A\")","v":0},{"$f":"COUNTIFS(N7:N104,\"B\",K7:K104,\"B\")","v":0},{"$f":"COUNTIFS(N7:N104,\"B\",K7:K104,\"C\")","v":0},null,null,null,null,null,null,null,"00:00:00","00:00:00",0,{"$f":"SpellNumber((AI66))","v":"No Dollars and No Cents"},3,"No "]
["00:00:00",null,null,null,null,0,null,null,0,null,null,{"$f":"IFERROR(VLOOKUP(K67,$AD$7:AE69,2,FALSE),0)","v":0},null,null,0,null,null,null,null,null,null,"C",{"$f":"COUNTIFS(N7:N104,\"C\",K7:K104,\"A\")","v":0},{"$f":"COUNTIFS(N7:N104,\"C\",K7:K104,\"B\")","v":0},{"$f":"COUNTIFS(N7:N104,\"C\",K7:K104,\"C\")","v":0},null,null,null,null,null,null,null,"00:00:00","00:00:00",0,{"$f":"SpellNumber((AI67))","v":"No Dollars and No Cents"},3,"No "]
["00:00:00",null,null,null,null,0,null,null,0,null,null,{"$f":"IFERROR(VLOOKUP(K68,$AD$7:AE70,2,FALSE),0)","v":0},null,null,0,null,null,null,null,null,null,"D",{"$f":"COUNTIFS(N7:N104,\"D\",K7:K104,\"A\")","v":0},{"$f":"COUNTIFS(N7:N104,\"D\",K7:K104,\"B\")","v":0},{"$f":"COUNTIFS(N7:N104,\"D\",K7:K104,\"C\")","v":0},null,null,null,null,null,null,null,"00:00:00","00:00:00",0,{"$f":"SpellNumber((AI68))","v":"No Dollars and No Cents"},3,"No "]
["00:00:00",null,null,null,null,0,null,null,0,null,null,{"$f":"IFERROR(VLOOKUP(K69,$AD$7:AE71,2,FALSE),0)","v":0},null,null,0,null,null,null,null,null,null,"E",{"$f":"COUNTIFS(N7:N104,\"E\",K7:K104,\"A\")","v":0},{"$f":"COUNTIFS(N7:N104,\"E\",K7:K104,\"B\")","v":0},{"$f":"COUNTIFS(N7:N104,\"E\",K7:K104,\"C\")","v":0},null,null,null,null,null,null,null,"00:00:00","00:00:00",0,{"$f":"SpellNumber((AI69))","v":"No Dollars and No Cents"},3,"No "]
["00:00:00",null,null,null,null,0,null,null,0,null,null,{"$f":"IFERROR(VLOOKUP(K70,$AD$7:AE72,2,FALSE),0)","v":0},null,null,0,null,null,null,null,null,null,"F",{"$f":"COUNTIFS(N7:N104,\"F\",K7:K104,\"A\")","v":0},{"$f":"COUNTIFS(N7:N104,\"F\",K7:K104,\"B\")","v":0},{"$f":"COUNTIFS(N7:N104,\"F\",K7:K104,\"C\")","v":0},null,null,null,null,null,null,null,"00:00:00","00:00:00",0,{"$f":"SpellNumber((AI70))","v":"No Dollars and No Cents"},3,"No "]
["00:00:00",null,null,null,null,0,null,null,0,null,null,{"$f":"IFERROR(VLOOKUP(K71,$AD$7:AE73,2,FALSE),0)","v":0},null,null,0,null,null,null,null,null,null,"G",{"$f":"COUNTIFS(N7:N104,\"G\",K7:K104,\"A\")","v":0},{"$f":"COUNTIFS(N7:N104,\"G\",K7:K104,\"B\")","v":0},{"$f":"COUNTIFS(N7:N104,\"G\",K7:K104,\"C\")","v":0},null,null,null,null,null,null,null,"00:00:00","00:00:00",0,{"$f":"SpellNumber((AI71))","v":"No Dollars and No Cents"},3,"No "]
[{"$f":"C72-B72","v":"00:00:00"},null,null,null,null,0,null,null,{"$f":"IFERROR(VLOOKUP(H72,$Z$7:$AA$18,2,FALSE),0)","v":0},null,null,{"$f":"IFERROR(VLOOKUP(K72,$AD$7:AE74,2,FALSE),0)","v":0},null,null,{"$f":"IFERROR(VLOOKUP(N72,$V$22:$W$33,2,FALSE),0)","v":0},null,null,null,null,null,null,"H",{"$f":"COUNTIFS(N7:N104,\"H\",K7:K104,\"A\")","v":0},{"$f":"COUNTIFS(N7:N104,\"H\",K7:K104,\"B\")","v":0},{"$f":"COUNTIFS(N7:N104,\"H\",K7:K104,\"C\")","v":0},null,null,null,null,null,null,null,{"$f":"B72","v":"00:00:00"},{"$f":"TEXT(AG72,\"hh:mm:ss\")","v":"00:00:00"},{"$f":"AG72*24","v":0},{"$f":"SpellNumber((AI72))","v":"No Dollars and No Cents"},{"$f":"FIND(\" Dollar\",AJ72)","v":3},{"$f":"LEFT(AJ72,AK72)","v":"No "}]
["00:00:00",null,null,null,null,{"$f":"IFERROR(VLOOKUP(E73,$V$7:$W$18,2,FALSE),0)","v":0},null,null,0,null,null,{"$f":"IFERROR(VLOOKUP(K73,$AD$7:AE75,2,FALSE),0)","v":0},null,null,0,null,null,null,null,null,null,"I",{"$f":"COUNTIFS(N7:N104,\"I\",K7:K104,\"A\")","v":0},{"$f":"COUNTIFS(N7:N104,\"I\",K7:K104,\"B\")","v":0},{"$f":"COUNTIFS(N7:N104,\"I\",K7:K104,\"C\")","v":0},null,null,null,null,null,null,null,"00:00:00","00:00:00",0,{"$f":"SpellNumber((AI73))","v":"No Dollars and No Cents"},3,"No "]
["00:00:00",null,null,null,null,0,null,null,0,null,null,{"$f":"IFERROR(VLOOKUP(K74,$AD$7:AE76,2,FALSE),0)","v":0},null,null,0,null,null,null,null,null,null,"J",{"$f":"COUNTIFS(N7:N104,\"J\",K7:K104,\"A\")","v":0},{"$f":"COUNTIFS(N7:N104,\"J\",K7:K104,\"B\")","v":0},{"$f":"COUNTIFS(N7:N104,\"J\",K7:K104,\"C\")","v":0},null,null,null,null,null,null,null,"00:00:00","00:00:00",0,{"$f":"SpellNumber((AI74))","v":"No Dollars and No Cents"},3,"No "]
["00:00:00",null,null,null,null,0,null,null,0,null,null,{"$f":"IFERROR(VLOOKUP(K75,$AD$7:AE77,2,FALSE),0)","v":0},null,null,0,null,null,null,null,null,null,"K",{"$f":"COUNTIFS(N7:N104,\"K\",K7:K104,\"A\")","v":0},{"$f":"COUNTIFS(N7:N104,\"K\",K7:K104,\"B\")","v":0},{"$f":"COUNTIFS(N7:N104,\"K\",K7:K104,\"C\")","v":0},null,null,null,null,null,null,null,"00:00:00","00:00:00",0,{"$f":"SpellNumber((AI75))","v":"No Dollars and No Cents"},3,"No "]
["00:00:00",null,null,null,null,0,null,null,0,null,null,{"$f":"IFERROR(VLOOKUP(K76,$AD$7:AE78,2,FALSE),0)","v":0},null,null,0,null,null,null,null,null,null,"L",{"$f":"COUNTIFS(N7:N104,\"L\",K7:K104,\"A\")","v":0},{"$f":"COUNTIFS(N7:N104,\"L\",K7:K104,\"B\")","v":0},{"$f":"COUNTIFS(N7:N104,\"L\",K7:K104,\"C\")","v":0},null,null,null,null,null,null,null,"00:00:00","00:00:00",0,{"$f":"SpellNumber((AI76))","v":"No Dollars and No Cents"},3,"No "]
["00:00:00",null,null,null,null,0,null,null,0,null,null,{"$f":"IFERROR(VLOOKUP(K77,$AD$7:AE79,2,FALSE),0)","v":0},null,null,0,null,null,null,null,null,null,null,null,null,null,null,null,null,null,null,null,null,"00:00:00","00:00:00",0,{"$f":"SpellNumber((AI77))","v":"No Dollars and No Cents"},3,"No "]
["00:00:00",null,null,null,null,0,null,null,0,null,null,{"$f":"IFERROR(VLOOKUP(K78,$AD$7:AE80,2,FALSE),0)","v":0},null,null,0,null,null,null,null,null,null,null,null,null,null,null,null,null,null,null,null,null,"00:00:00","00:00:00",0,{"$f":"SpellNumber((AI78))","v":"No Dollars and No Cents"},3,"No "]
["00:00:00",null,null,null,null,0,null,null,0,null,null,{"$f":"IFERROR(VLOOKUP(K79,$AD$7:AE81,2,FALSE),0)","v":0},null,null,0,null,null,null,null,null,null,null,null,null,null,null,null,null,null,null,null,null,"00:00:00","00:00:00",0,{"$f":"SpellNumber((AI79))","v":"No Dollars and No Cents"},3,"No "]
["00:00:00",null,null,null,null,0,null,null,0,null,null,{"$f":"IFERROR(VLOOKUP(K80,$AD$7:AE82,2,FALSE),0)","v":0},null,null,0,null,null,null,null,null,null,null,null,null,null,null,null,null,null,null,null,null,"00:00:00","00:00:00",0,{"$f":"SpellNumber((AI80))","v":"No Dollars and No Cents"},3,"No "]
["00:00:00",null,null,null,null,0,null,null,0,null,null,{"$f":"IFERROR(VLOOKUP(K81,$AD$7:AE83,2,FALSE),0)","v":0},null,null,0,null,null,null,null,null,null,null,null,null,null,null,null,null,null,null,null,null,"00:00:00","00:00:00",0,{"$f":"SpellNumber((AI81))","v":"No Dollars and No Cents"},3,"No "]
["00:00:00",null,null,null,null,0,null,null,0,null,null,{"$f":"IFERROR(VLOOKUP(K82,$AD$7:AE84,2,FALSE),0)","v":0},null,null,0,null,null,null,null,null,null,null,null,null,null,null,null,null,null,null,null,null,"00:00:00","00:00:00",0,{"$f":"SpellNumber((AI82))","v":"No Dollars and No Cents"},3,"No "]
["00:00:00",null,null,null,null,0,null,null,0,null,null,{"$f":"IFERROR(VLOOKUP(K83,$AD$7:AE85,2,FALSE),0)","v":0},null,null,0,null,null,null,null,null,null,null,null,null,null,null,null,null,null,null,null,null,"00:00:00","00:00:00",0,{"$f":"SpellNumber((AI83))","v":"No Dollars and No Cents"},3,"No "]
["00:00:00",null,null,null,null,0,null,null,0,null,null,{"$f":"IFERROR(VLOOKUP(K84,$AD$7:AE86,2,FALSE),0)","v":0},null,null,0,null,null,null,null,null,null,null,null,null,null,null,null,null,null,null,null,null,"00:00:00","00:00:00",0,{"$f":"SpellNumber((AI84))","v":"No Dollars and No Cents"},3,"No "]
["00:00:00",null,null,null,null,0,null,null,0,null,null,{"$f":"IFERROR(VLOOKUP(K85,$AD$7:AE87,2,FALSE),0)","v":0},null,null,0,null,null,null,null,null,null,null,null,null,null,null,null,null,null,null,null,null,"00:00:00","00:00:00",0,{"$f":"SpellNumber((AI85))","v":"No Dollars and No Cents"},3,"No "]
["00:00:00",null,null,null,null,0,null,null,0,null,null,{"$f":"IFERROR(VLOOKUP(K86,$AD$7:AE88,2,FALSE),0)","v":0},null,null,0,null,null,null,null,null,null,null,null,null,null,null,null,null,null,null,null,null,"00:00:00","00:00:00",0,{"$f":"SpellNumber((AI86))","v":"No Dollars and No Cents"},3,"No "]
["00:00:00",null,null,null,null,0,null,null,0,null,null,{"$f":"IFERROR(VLOOKUP(K87,$AD$7:AE89,2,FALSE),0)","v":0},null,null,0,null,null,null,null,null,null,null,null,null,null,null,null,null,null,null,null,null,"00:00:00","00:00:00",0,{"$f":"SpellNumber((AI87))","v":"No Dollars and No Cents"},3,"No "]
["00:00:00",null,null,null,null,0,null,null,0,null,null,{"$f":"IFERROR(VLOOKUP(K88,$AD$7:AE90,2,FALSE),0)","v":0},null,null,0,null,null,null,null,null,null,null,null,null,null,null,null,null,null,null,null,null,"00:00:00","00:00:00",0,{"$f":"SpellNumber((AI88))","v":"No Dollars and No Cents"},3,"No "]
["00:00:00",null,null,null,null,0,null,null,0,null,null,{"$f":"IFERROR(VLOOKUP(K89,$AD$7:AE91,2,FALSE),0)","v":0},null,null,0,null,null,null,null,null,null,null,null,null,null,null,null,null,null,null,null,null,"00:00:00","00:00:00",0,{"$f":"SpellNumber((AI89))","v":"No Dollars and No Cents"},3,"No "]
["00:00:00",null,null,null,null,0,null,null,0,null,null,{"$f":"IFERROR(VLOOKUP(K90,$AD$7:AE92,2,FALSE),0)","v":0},null,null,0,null,null,null,null,null,null,null,null,null,null,null,null,null,null,null,null,null,"00:00:00","00:00:00",0,{"$f":"SpellNumber((AI90))","v":"No Dollars and No Cents"},3,"No "]
["00:00:00",null,null,null,null,0,null,null,0,null,null,{"$f":"IFERROR(VLOOKUP(K91,$AD$7:AE93,2,FALSE),0)","v":0},null,null,0,null,null,null,"Total Mins",{"$f":"SUM(A7:A104)","v":"00:00:00"},null,null,null,null,null,null,null,null,null,null,null,null,"00:00:00","00:00:00",0,{"$f":"SpellNumber((AI91))","v":"No Dollars and No Cents"},3,"No "]
["00:00:00",null,null,null,null,0,null,null,0,null,null,{"$f":"IFERROR(VLOOKUP(K92,$AD$7:AE94,2,FALSE),0)","v":0},null,null,0,null,null,null,"Settings:","A",{"$f":"COUNTIF(E4:E104,\"A\")","v":0},"Antec.","A",{"$f":"COUNTIF(H4:H104,\"A\")","v":0},"Beh","A",{"$f":"COUNTIF(L4:L104,\"A\")","v":0},"Conse.","A",{"$f":"COUNTIF(O4:O104,\"A\")","v":0},null,null,"00:00:00","00:00:00",0,{"$f":"SpellNumber((AI92))","v":"No Dollars and No Cents"},3,"No "]
["00:00:00",null,null,null,null,0,null,null,0,null,null,{"$f":"IFERROR(VLOOKUP(K93,$AD$7:AE95,2,FALSE),0)","v":0},null,null,0,null,null,null,null,"B",{"$f":"COUNTIF(E5:E105,\"B\")","v":0},null,"B",{"$f":"COUNTIF(H5:H105,\"B\")","v":0},null,"B",{"$f":"COUNTIF(L5:L105,\"B\")","v":0},null,"B",{"$f":"COUNTIF(O5:O105,\"B\")","v":0},null,null,"00:00:00","00:00:00",0,{"$f":"SpellNumber((AI93))","v":"No Dollars and No Cents"},3,"No "]
["00:00:00",null,null,null,null,0,null,null,0,null,null,{"$f":"IFERROR(VLOOKUP(K94,$AD$7:AE96,2,FALSE),0)","v":0},null,null,0,null,null,null,null,"C",{"$f":"COUNTIF(E6:E106,\"C\")","v":0},null,"C",{"$f":"COUNTIF(H6:H106,\"C\")","v":0},null,"C",{"$f":"COUNTIF(L6:L106,\"C\")","v":0},null,"C",{"$f":"COUNTIF(O6:O106,\"C\")","v":0},null,null,"00:00:00","00:00:00",0,{"$f":"SpellNumber((AI94))","v":"No Dollars and No Cents"},3,"No "]
["00:00:00",null,null,null,null,0,null,null,0,null,null,{"$f":"IFERROR(VLOOKUP(K95,$AD$7:AE97,2,FALSE),0)","v":0},null,null,0,null,null,null,null,"D",{"$f":"COUNTIF(E7:E107,\"D\")","v":0},null,"D",{"$f":"COUNTIF(H7:H107,\"D\")","v":0},null,null,null,null,"D",{"$f":"COUNTIF(O7:O107,\"D\")","v":0},null,null,"00:00:00","00:00:00",0,{"$f":"SpellNumber((AI95))","v":"No Dollars and No Cents"},3,"No "]
["00:00:00",null,null,null,null,0,null,null,0,null,null,{"$f":"IFERROR(VLOOKUP(K96,$AD$7:AE98,2,FALSE),0)","v":0},null,null,0,null,null,null,null,"E",{"$f":"COUNTIF(E8:E108,\"E\")","v":0},null,"E",{"$f":"COUNTIF(H8:H108,\"E\")","v":0},null,null,null,null,"E",{"$f":"COUNTIF(O8:O108,\"E\")","v":0},null,null,"00:00:00","00:00:00",0,{"$f":"SpellNumber((AI96))","v":"No Dollars and No Cents"},3,"No "]
["00:00:00",null,null,null,null,0,null,null,0,null,null,{"$f":"IFERROR(VLOOKUP(K97,$AD$7:AE99,2,FALSE),0)","v":0},null,null,0,null,null,null,null,"F",{"$f":"COUNTIF(E9:E109,\"F\")","v":0},null,"F",{"$f":"COUNTIF(H9:H109,\"F\")","v":0},null,null,null,null,"F",{"$f":"COUNTIF(O9:O109,\"F\")","v":0},null,null,"00:00:00","00:00:00",0,{"$f":"SpellNumber((AI97))","v":"No Dollars and No Cents"},3,"No "]
["00:00:00",null,null,null,null,0,null,null,0,null,null,{"$f":"IFERROR(VLOOKUP(K98,$AD$7:AE100,2,FALSE),0)","v":0},null,null,0,null,null,null,null,"G",{"$f":"COUNTIF(E10:E110,\"G\")","v":0},null,"G",{"$f":"COUNTIF(H10:H110,\"G\")","v":0},null,null,null,null,"G",{"$f":"COUNTIF(O10:O110,\"G\")","v":0},null,null,"00:00:00","00:00:00",0,{"$f":"SpellNumber((AI98))","v":"No Dollars and No Cents"},3,"No "]
["00:00:00",null,null,null,null,0,null,null,0,null,null,{"$f":"IFERROR(VLOOKUP(K99,$AD$7:AE101,2,FALSE),0)","v":0},null,null,0,null,null,null,null,"H",{"$f":"COUNTIF(E11:E111,\"H\")","v":0},null,"H",{"$f":"COUNTIF(H11:H111,\"H\")","v":0},null,null,null,null,"H",{"$f":"COUNTIF(O11:O111,\"H\")","v":0},null,null,"00:00:00","00:00:00",0,{"$f":"SpellNumber((AI99))","v":"No Dollars and No Cents"},3,"No "]
["00:00:00",null,null,null,null,0,null,null,0,null,null,{"$f":"IFERROR(VLOOKUP(K100,$AD$7:AE102,2,FALSE),0)","v":0},null,null,0,null,null,null,null,"I",{"$f":"COUNTIF(E12:E112,\"I\")","v":0},null,"I",{"$f":"COUNTIF(H12:H112,\"I\")","v":0},null,null,null,null,"I",{"$f":"COUNTIF(O12:O112,\"I\")","v":0},null,null,"00:00:00","00:00:00",0,{"$f":"SpellNumber((AI100))","v":"No Dollars and No Cents"},3,"No "]
["00:00:00",null,null,null,null,0,null,null,0,null,null,{"$f":"IFERROR(VLOOKUP(K101,$AD$7:AE103,2,FALSE),0)","v":0},null,null,0,null,null,null,null,"J",{"$f":"COUNTIF(E13:E113,\"J\")","v":0},null,"J",{"$f":"COUNTIF(H13:H113,\"J\")","v":0},null,null,null,null,"J",{"$f":"COUNTIF(O13:O113,\"J\")","v":0},null,null,"00:00:00","00:00:00",0,{"$f":"SpellNumber((AI101))","v":"No Dollars and No Cents"},3,"No "]
["00:00:00",null,null,null,null,0,null,null,0,null,null,{"$f":"IFERROR(VLOOKUP(K102,$AD$7:AE104,2,FALSE),0)","v":0},null,null,0,null,null,null,null,"K",{"$f":"COUNTIF(E14:E114,\"K\")","v":0},null,"K",{"$f":"COUNTIF(H14:H114,\"K\")","v":0},null,null,null,null,"K",{"$f":"COUNTIF(O14:O114,\"K\")","v":0},null,null,"00:00:00","00:00:00",0,{"$f":"SpellNumber((AI102))","v":"No Dollars and No Cents"},3,"No "]
["00:00:00",null,null,null,null,0,null,null,0,null,null,{"$f":"IFERROR(VLOOKUP(K103,$AD$7:AE105,2,FALSE),0)","v":0},null,null,0,null,null,null,null,"L",{"$f":"COUNTIF(E15:E115,\"L\")","v":0},null,"L",{"$f":"COUNTIF(H15:H115,\"L\")","v":0},null,null,null,null,"L",{"$f":"COUNTIF(O15:O115,\"L\")","v":0},null,null,"00:00:00","00:00:00",0,{"$f":"SpellNumber((AI103))","v":"No Dollars and No Cents"},3,"No "]
["00:00:00",null,null,null,null,0,null,null,0,null,null,{"$f":"IFERROR(VLOOKUP(K104,$AD$7:AE106,2,FALSE),0)","v":0},null,null,0,null,null,null,null,null,null,null,null,null,null,null,null,null,null,null,null,null,"00:00:00","00:00:00",0,{"$f":"SpellNumber((AI104))","v":"No Dollars and No Cents"},3,"No "]

{"sheet":"Data 20","index":28,"n_rows":104,"n_cols":38,"rows_kept":104,"cut":false,"hidden":false,"merged":[[0,7,3,14]]}
["ATTENDANCE",null,null,null,null,null,null,"Data Collection"]
["If tardy, arrival time",null,null,null,null,null,null,null,null,null,null,null,null,null,null,null,null,null,null,null,null,null,"Date",{"$f":"Calendar!H7","v":{"$error":"#N/A"}},{"$f":"TEXT(X2,\"ddd\")","v":{"$error":"#N/A"}}]
["If left early, time",null,null,null,null,null,null,null,null,null,null,null,null,null,null,null,null,null,null,null,null,null,"Frq. Of bx",{"$f":"AA22","v":0}]
[]
[]
["Mins.","Start Time","End Time",null,null,null,null,null,null,null,null,null,null,null,null,null,null,null,null,null,null,null,"Setting",null,null,"Ant",null,null,null,"Beh",null,null,"Raw Data","Time in text","Decimal"]
[{"$f":"C7-B7","v":"00:00:00"},null,null,null,null,{"$f":"IFERROR(VLOOKUP(E7,$V$7:$W$18,2,FALSE),0)","v":0},null,null,{"$f":"IFERROR(VLOOKUP(H7,$Z$7:$AA$18,2,FALSE),0)","v":0},null,null,{"$f":"IFERROR(VLOOKUP(K7,$AD$7:AE9,2,FALSE),0)","v":0},null,null,{"$f":"IFERROR(VLOOKUP(N7,$V$22:$W$33,2,FALSE),0)","v":0},null,null,null,null,null,null,"A",{"$f":"Criteria!C4","v":"Transition"},null,null,"A",{"$f":"Criteria!E4","v":"Transition"},null,null,"A",{"$f":"Criteria!G4","v":0},null,{"$f":"B7","v":"00:00:00"},{"$f":"TEXT(AG7,\"hh:mm:ss\")","v":"00:00:00"},{"$f":"AG7*24","v":0},{"$f":"SpellNumber((AI7))","v":"No Dollars and No Cents"},{"$f":"FIND(\" Dollar\",AJ7)","v":3},{"$f":"LEFT(AJ7,AK7)","v":"No "}]
[{"$f":"C8-B8","v":"00:00:00"},null,null,null,null,{"$f":"IFERROR(VLOOKUP(E8,$V$7:$W$18,2,FALSE),0)","v":0},null,null,{"$f":"IFERROR(VLOOKUP(H8,$Z$7:$AA$18,2,FALSE),0)","v":0},null,null,{"$f":"IFERROR(VLOOKUP(K8,$AD$7:AE10,2,FALSE),0)","v":0},null,null,{"$f":"IFERROR(VLOOKUP(N8,$V$22:$W$33,2,FALSE),0)","v":0},null,null,null,null,null,null,"B",{"$f":"Criteria!C5","v":"Morning Routine"},null,null,"B",{"$f":"Criteria!E5","v":"Denied access ('No')"},null,null,"B",{"$f":"Criteria!G5","v":0},null,{"$f":"B8","v":"00:00:00"},{"$f":"TEXT(AG8,\"hh:mm:ss\")","v":"00:00:00"},{"$f":"AG8*24","v":0},{"$f":"SpellNumber((AI8))","v":"No Dollars and No Cents"},{"$f":"FIND(\" Dollar\",AJ8)","v":3},{"$f":"LEFT(AJ8,AK8)","v":"No "}]
["00:00:00",null,null,null,null,{"$f":"IFERROR(VLOOKUP(E9,$V$7:$W$18,2,FALSE),0)","v":0},null,null,0,null,null,{"$f":"IFERROR(VLOOKUP(K9,$AD$7:AE11,2,FALSE),0)","v":0},null,null,0,null,null,null,null,null,null,"C",{"$f":"Criteria!C6","v":"Group Work"},null,null,"C",{"$f":"Criteria!E6","v":"Instruction/ Directions"},null,null,"C",{"$f":"Criteria!G6","v":0},null,"00:00:00","00:00:00",0,{"$f":"SpellNumber((AI9))","v":"No Dollars and No Cents"},3,"No "]
["00:00:00",null,null,null,null,0,null,null,0,null,null,{"$f":"IFERROR(VLOOKUP(K10,$AD$7:AE12,2,FALSE),0)","v":0},null,null,0,null,null,null,null,null,null,"D",{"$f":"Criteria!C7","v":"Ind. Seat/Work Time"},null,null,"D",{"$f":"Criteria!E7","v":"New Task"},null,null,null,null,null,"00:00:00","00:00:00",0,{"$f":"SpellNumber((AI10))","v":"No Dollars and No Cents"},3,"No "]
["00:00:00",null,null,null,null,0,null,null,0,null,null,{"$f":"IFERROR(VLOOKUP(K11,$AD$7:AE13,2,FALSE),0)","v":0},null,null,0,null,null,null,null,null,null,"E",{"$f":"Criteria!C8","v":"Language Arts"},null,null,"E",{"$f":"Criteria!E8","v":"Tcher attn to other"},null,null,null,null,null,"00:00:00","00:00:00",0,{"$f":"SpellNumber((AI11))","v":"No Dollars and No Cents"},3,"No "]
["00:00:00",null,null,null,null,0,null,null,0,null,null,{"$f":"IFERROR(VLOOKUP(K12,$AD$7:AE14,2,FALSE),0)","v":0},null,null,0,null,null,null,null,null,null,"F",{"$f":"Criteria!C9","v":"Mathematics"},null,null,"F",{"$f":"Criteria!E9","v":"Choice given"},null,null,null,null,null,"00:00:00","00:00:00",0,{"$f":"SpellNumber((AI12))","v":"No Dollars and No Cents"},3,"No "]
["00:00:00",null,null,null,null,0,null,null,0,null,null,{"$f":"IFERROR(VLOOKUP(K13,$AD$7:AE15,2,FALSE),0)","v":0},null,null,0,null,null,null,null,null,null,"G",{"$f":"Criteria!C10","v":"Physical Education"},null,null,"G",{"$f":"Criteria!E10","v":"Redirection"},null,null,null,null,null,"00:00:00","00:00:00",0,{"$f":"SpellNumber((AI13))","v":"No Dollars and No Cents"},3,"No "]
["00:00:00",null,null,null,null,0,null,null,0,null,null,{"$f":"IFERROR(VLOOKUP(K14,$AD$7:AE16,2,FALSE),0)","v":0},null,null,0,null,null,null,null,null,null,"H",{"$f":"Criteria!C11","v":"Music/Art"},null,null,"H",{"$f":"Criteria!E11","v":"Routine Task"},null,null,null,null,null,"00:00:00","00:00:00",0,{"$f":"SpellNumber((AI14))","v":"No Dollars and No Cents"},3,"No "]
["00:00:00",null,null,null,null,0,null,null,0,null,null,{"$f":"IFERROR(VLOOKUP(K15,$AD$7:AE17,2,FALSE),0)","v":0},null,null,0,null,null,null,null,null,null,"I",{"$f":"Criteria!C12","v":"Speech"},null,null,"I",{"$f":"Criteria!E12","v":"Waiting"},null,null,null,null,null,"00:00:00","00:00:00",0,{"$f":"SpellNumber((AI15))","v":"No Dollars and No Cents"},3,"No "]
["00:00:00",null,null,null,null,0,null,null,0,null,null,{"$f":"IFERROR(VLOOKUP(K16,$AD$7:AE18,2,FALSE),0)","v":0},null,null,0,null,null,null,null,null,null,"J",{"$f":"Criteria!C13","v":"OT/PT"},null,null,"J",{"$f":"Criteria!E13","v":"Unknown"},null,null,null,null,null,"00:00:00","00:00:00",0,{"$f":"SpellNumber((AI16))","v":"No Dollars and No Cents"},3,"No "]
["00:00:00",null,null,null,null,0,null,null,0,null,null,{"$f":"IFERROR(VLOOKUP(K17,$AD$7:AE19,2,FALSE),0)","v":0},null,null,0,null,null,null,null,null,null,"K",{"$f":"Criteria!C14","v":"Center"},null,null,"K",{"$f":"Criteria!E14","v":"Ignored"},null,null,null,null,null,"00:00:00","00:00:00",0,{"$f":"SpellNumber((AI17))","v":"No Dollars and No Cents"},3,"No "]
["00:00:00",null,null,null,null,0,null,null,0,null,null,{"$f":"IFERROR(VLOOKUP(K18,$AD$7:AE20,2,FALSE),0)","v":0},null,null,0,null,null,null,null,null,null,"L",{"$f":"Criteria!C15","v":"Other"},null,null,"L",{"$f":"Criteria!E15","v":"Other"},null,null,null,null,null,"00:00:00","00:00:00",0,{"$f":"SpellNumber((AI18))","v":"No Dollars and No Cents"},3,"No "]
["00:00:00",null,null,null,null,0,null,null,0,null,null,{"$f":"IFERROR(VLOOKUP(K19,$AD$7:AE21,2,FALSE),0)","v":0},null,null,0,null,null,null,null,null,null,null,null,null,null,null,null,null,null,null,null,null,"00:00:00","00:00:00",0,{"$f":"SpellNumber((AI19))","v":"No Dollars and No Cents"},3,"No "]
["00:00:00",null,null,null,null,0,null,null,0,null,null,{"$f":"IFERROR(VLOOKUP(K20,$AD$7:AE22,2,FALSE),0)","v":0},null,null,0,null,null,null,null,null,null,null,null,null,null,null,null,null,null,null,null,null,"00:00:00","00:00:00",0,{"$f":"SpellNumber((AI20))","v":"No Dollars and No Cents"},3,"No "]
["00:00:00",null,null,null,null,0,null,null,0,null,null,{"$f":"IFERROR(VLOOKUP(K21,$AD$7:AE23,2,FALSE),0)","v":0},null,null,0,null,null,null,null,null,null,null,"Con",null,"Bx Frequency Per Day",null,null,null,null,null,null,null,"00:00:00","00:00:00",0,{"$f":"SpellNumber((AI21))","v":"No Dollars and No Cents"},3,"No "]
["00:00:00",null,null,null,null,0,null,null,0,null,null,{"$f":"IFERROR(VLOOKUP(K22,$AD$7:AE24,2,FALSE),0)","v":0},null,null,0,null,null,null,null,null,null,"A",{"$f":"Criteria!I4","v":"Choice Given"},"A",{"$f":"COUNTIF(K7:K104,\"A\")","v":0},null,{"$f":"SUM(Y22:Y24)","v":0},null,"Bin Dec","Frequency of Time",null,null,"00:00:00","00:00:00",0,{"$f":"SpellNumber((AI22))","v":"No Dollars and No Cents"},3,"No "]
["00:00:00",null,null,null,null,0,null,null,0,null,null,{"$f":"IFERROR(VLOOKUP(K23,$AD$7:AE25,2,FALSE),0)","v":0},null,null,0,null,null,null,null,null,null,"B",{"$f":"Criteria!I5","v":"Ignored"},"B",{"$f":"COUNTIF(K7:K104,\"B\")","v":0},null,null,null,"Seven",{"$f":"COUNTIF(AL7:AL104,\"*Seven*\")","v":0},null,null,"00:00:00","00:00:00",0,{"$f":"SpellNumber((AI23))","v":"No Dollars and No Cents"},3,"No "]
["00:00:00",null,null,null,null,0,null,null,0,null,null,{"$f":"IFERROR(VLOOKUP(K24,$AD$7:AE26,2,FALSE),0)","v":0},null,null,0,null,null,null,null,null,null,"C",{"$f":"Criteria!I6","v":"Redirection"},"C",{"$f":"COUNTIF(K7:K104,\"C\")","v":0},null,null,null,"Eight",{"$f":"COUNTIF(AL7:AL104,\"*Eight*\")","v":0},null,null,"00:00:00","00:00:00",0,{"$f":"SpellNumber((AI24))","v":"No Dollars and No Cents"},3,"No "]
["00:00:00",null,null,null,null,0,null,null,0,null,null,{"$f":"IFERROR(VLOOKUP(K25,$AD$7:AE27,2,FALSE),0)","v":0},null,null,0,null,null,null,null,null,null,"D",{"$f":"Criteria!I7","v":"Kept the demand"},null,"Bx Druation Per Day",null,null,null,"Nine",{"$f":"COUNTIF(AL7:AL104,\"*Nine*\")","v":0},null,null,"00:00:00","00:00:00",0,{"$f":"SpellNumber((AI25))","v":"No Dollars and No Cents"},3,"No "]
["00:00:00",null,null,null,null,0,null,null,0,null,null,{"$f":"IFERROR(VLOOKUP(K26,$AD$7:AE28,2,FALSE),0)","v":0},null,null,0,null,null,null,null,null,null,"E",{"$f":"Criteria!I8","v":"Changed activity"},"A",{"$f":"SUMIF(K7:K104,\"A\",A7:A104)","v":"00:00:00"},null,null,null,"Ten",{"$f":"COUNTIF(AL7:AL12,\"*Ten*\")","v":0},null,null,"00:00:00","00:00:00",0,{"$f":"SpellNumber((AI26))","v":"No Dollars and No Cents"},3,"No "]
["00:00:00",null,null,null,null,0,null,null,0,null,null,{"$f":"IFERROR(VLOOKUP(K27,$AD$7:AE29,2,FALSE),0)","v":0},null,null,0,null,null,null,null,null,null,"F",{"$f":"Criteria!I9","v":"Verbal reprimand"},"B",{"$f":"SUMIF(K7:K104,\"B\",A7:A104)","v":"00:00:00"},null,null,null,"Eleven",{"$f":"COUNTIF(AL7:AL104,\"*Eleven*\")","v":0},null,null,"00:00:00","00:00:00",0,{"$f":"SpellNumber((AI27))","v":"No Dollars and No Cents"},3,"No "]
["00:00:00",null,null,null,null,0,null,null,0,null,null,{"$f":"IFERROR(VLOOKUP(K28,$AD$7:AE30,2,FALSE),0)","v":0},null,null,0,null,null,null,null,null,null,"G",{"$f":"Criteria!I10","v":"Told to wait"},"C",{"$f":"SUMIF(K7:K104,\"C\",A7:A104)","v":"00:00:00"},null,null,null,"Twelve",{"$f":"COUNTIF(AL7:AL104,\"*Twelve*\")","v":0},null,null,"00:00:00","00:00:00",0,{"$f":"SpellNumber((AI28))","v":"No Dollars and No Cents"},3,"No "]
["00:00:00",null,null,null,null,0,null,null,0,null,null,{"$f":"IFERROR(VLOOKUP(K29,$AD$7:AE31,2,FALSE),0)","v":0},null,null,0,null,null,null,null,null,null,"H",{"$f":"Criteria!I11","v":"Physical Prompt"},null,null,null,null,null,"One",{"$f":"COUNTIF(AL7:AL104,\"*One*\")","v":0},null,null,"00:00:00","00:00:00",0,{"$f":"SpellNumber((AI29))","v":"No Dollars and No Cents"},3,"No "]
["00:00:00",null,null,null,null,0,null,null,0,null,null,{"$f":"IFERROR(VLOOKUP(K30,$AD$7:AE32,2,FALSE),0)","v":0},null,null,0,null,null,null,null,null,null,"I",{"$f":"Criteria!I12","v":"Verbal prompt"},null,null,null,null,null,"Two",{"$f":"COUNTIF(AL7:AL104,\"*Two*\")","v":0},null,null,"00:00:00","00:00:00",0,{"$f":"SpellNumber((AI30))","v":"No Dollars and No Cents"},3,"No "]
["00:00:00",null,null,null,null,0,null,null,0,null,null,{"$f":"IFERROR(VLOOKUP(K31,$AD$7:AE33,2,FALSE),0)","v":0},null,null,0,null,null,null,null,null,null,"J",{"$f":"Criteria!I13","v":"Told to wait"},null,null,null,null,null,"Three",{"$f":"COUNTIF(AL7:AL104,\"*Three*\")","v":0},null,null,"00:00:00","00:00:00",0,{"$f":"SpellNumber((AI31))","v":"No Dollars and No Cents"},3,"No "]
["00:00:00",null,null,null,null,0,null,null,0,null,null,{"$f":"IFERROR(VLOOKUP(K32,$AD$7:AE34,2,FALSE),0)","v":0},null,null,0,null,null,null,null,null,null,"K",{"$f":"Criteria!I14","v":"Unknown"},null,null,null,null,null,"Four",{"$f":"COUNTIF(AL7:AL104,\"*Four*\")","v":0},null,null,"00:00:00","00:00:00",0,{"$f":"SpellNumber((AI32))","v":"No Dollars and No Cents"},3,"No "]
["00:00:00",null,null,null,null,0,null,null,0,null,null,{"$f":"IFERROR(VLOOKUP(K33,$AD$7:AE35,2,FALSE),0)","v":0},null,null,0,null,null,null,null,null,null,"L",{"$f":"Criteria!I15","v":"Other"},null,null,null,null,null,null,null,null,null,"00:00:00","00:00:00",0,{"$f":"SpellNumber((AI33))","v":"No Dollars and No Cents"},3,"No "]
["00:00:00",null,null,null,null,0,null,null,0,null,null,{"$f":"IFERROR(VLOOKUP(K34,$AD$7:AE36,2,FALSE),0)","v":0},null,null,0,null,null,null,null,null,null,null,null,null,null,null,null,null,null,null,null,null,"00:00:00","00:00:00",0,{"$f":"SpellNumber((AI34))","v":"No Dollars and No Cents"},3,"No "]
["00:00:00",null,null,null,null,0,null,null,0,null,null,{"$f":"IFERROR(VLOOKUP(K35,$AD$7:AE37,2,FALSE),0)","v":0},null,null,0,null,null,null,null,null,null,null,"Context Frequency","Consequence","Antedencents",null,null,null,null,null,null,null,"00:00:00","00:00:00",0,{"$f":"SpellNumber((AI35))","v":"No Dollars and No Cents"},3,"No "]
["00:00:00",null,null,null,null,0,null,null,0,null,null,{"$f":"IFERROR(VLOOKUP(K36,$AD$7:AE38,2,FALSE),0)","v":0},null,null,0,null,null,null,null,null,null,"A",{"$f":"COUNTIF(E7:E104,\"A\")","v":0},{"$f":"COUNTIF(N7:N104,\"A\")","v":0},{"$f":"COUNTIF(H7:H104,\"A\")","v":0},null,null,null,null,null,null,null,"00:00:00","00:00:00",0,{"$f":"SpellNumber((AI36))","v":"No Dollars and No Cents"},3,"No "]
["00:00:00",null,null,null,null,0,null,null,0,null,null,{"$f":"IFERROR(VLOOKUP(K37,$AD$7:AE39,2,FALSE),0)","v":0},null,null,0,null,null,null,null,null,null,"B",{"$f":"COUNTIF(E8:E105,\"B\")","v":0},{"$f":"COUNTIF(N7:N104,\"B\")","v":0},{"$f":"COUNTIF(H7:H104,\"B\")","v":0},null,null,null,null,null,null,null,"00:00:00","00:00:00",0,{"$f":"SpellNumber((AI37))","v":"No Dollars and No Cents"},3,"No "]
["00:00:00",null,null,null,null,0,null,null,0,null,null,{"$f":"IFERROR(VLOOKUP(K38,$AD$7:AE40,2,FALSE),0)","v":0},null,null,0,null,null,null,null,null,null,"C",{"$f":"COUNTIF(E8:E105,\"C\")","v":0},{"$f":"COUNTIF(N7:N104,\"C\")","v":0},{"$f":"COUNTIF(H7:H104,\"C\")","v":0},null,null,null,null,null,null,null,"00:00:00","00:00:00",0,{"$f":"SpellNumber((AI38))","v":"No Dollars and No Cents"},3,"No "]
["00:00:00",null,null,null,null,0,null,null,0,null,null,{"$f":"IFERROR(VLOOKUP(K39,$AD$7:AE41,2,FALSE),0)","v":0},null,null,0,null,null,null,null,null,null,"D",{"$f":"COUNTIF(E8:E105,\"D\")","v":0},{"$f":"COUNTIF(N7:N104,\"D\")","v":0},{"$f":"COUNTIF(H7:H104,\"D\")","v":0},null,null,null,null,null,null,null,"00:00:00","00:00:00",0,{"$f":"SpellNumber((AI39))","v":"No Dollars and No Cents"},3,"No "]
["00:00:00",null,null,null,null,0,null,null,0,null,null,{"$f":"IFERROR(VLOOKUP(K40,$AD$7:AE42,2,FALSE),0)","v":0},null,null,0,null,null,null,null,null,null,"E",{"$f":"COUNTIF(E8:E105,\"E\")","v":0},{"$f":"COUNTIF(N7:N104,\"E\")","v":0},{"$f":"COUNTIF(H7:H104,\"E\")","v":0},null,null,null,null,null,null,null,"00:00:00","00:00:00",0,{"$f":"SpellNumber((AI40))","v":"No Dollars and No Cents"},3,"No "]
["00:00:00",null,null,null,null,0,null,null,0,null,null,{"$f":"IFERROR(VLOOKUP(K41,$AD$7:AE43,2,FALSE),0)","v":0},null,null,0,null,null,null,null,null,null,"F",{"$f":"COUNTIF(E8:E105,\"F\")","v":0},{"$f":"COUNTIF(N7:N104,\"F\")","v":0},{"$f":"COUNTIF(H7:H104,\"F\")","v":0},null,null,null,null,null,null,null,"00:00:00","00:00:00",0,{"$f":"SpellNumber((AI41))","v":"No Dollars and No Cents"},3,"No "]
["00:00:00",null,null,null,null,0,null,null,0,null,null,{"$f":"IFERROR(VLOOKUP(K42,$AD$7:AE44,2,FALSE),0)","v":0},null,null,0,null,null,null,null,null,null,"G",{"$f":"COUNTIF(E8:E105,\"G\")","v":0},{"$f":"COUNTIF(N7:N104,\"G\")","v":0},{"$f":"COUNTIF(H7:H104,\"G\")","v":0},null,null,null,null,null,null,null,"00:00:00","00:00:00",0,{"$f":"SpellNumber((AI42))","v":"No Dollars and No Cents"},3,"No "]
["00:00:00",null,null,null,null,0,null,null,0,null,null,{"$f":"IFERROR(VLOOKUP(K43,$AD$7:AE45,2,FALSE),0)","v":0},null,null,0,null,null,null,null,null,null,"H",{"$f":"COUNTIF(E8:E105,\"H\")","v":0},{"$f":"COUNTIF(N7:N104,\"H\")","v":0},{"$f":"COUNTIF(H7:H104,\"H\")","v":0},null,null,null,null,null,null,null,"00:00:00","00:00:00",0,{"$f":"SpellNumber((AI43))","v":"No Dollars and No Cents"},3,"No "]
["00:00:00",null,null,null,null,0,null,null,0,null,null,{"$f":"IFERROR(VLOOKUP(K44,$AD$7:AE46,2,FALSE),0)","v":0},null,null,0,null,null,null,null,null,null,"I",{"$f":"COUNTIF(E8:E105,\"I\")","v":0},{"$f":"COUNTIF(N7:N104,\"I\")","v":0},{"$f":"COUNTIF(H7:H104,\"I\")","v":0},null,null,null,null,null,null,null,"00:00:00","00:00:00",0,{"$f":"SpellNumber((AI44))","v":"No Dollars and No Cents"},3,"No "]
["00:00:00",null,null,null,null,0,null,null,0,null,null,{"$f":"IFERROR(VLOOKUP(K45,$AD$7:AE47,2,FALSE),0)","v":0},null,null,0,null,null,null,null,null,null,"J",{"$f":"COUNTIF(E8:E105,\"J\")","v":0},{"$f":"COUNTIF(N7:N104,\"J\")","v":0},{"$f":"COUNTIF(H7:H104,\"J\")","v":0},null,null,null,null,null,null,null,"00:00:00","00:00:00",0,{"$f":"SpellNumber((AI45))","v":"No Dollars and No Cents"},3,"No "]
["00:00:00",null,null,null,null,0,null,null,0,null,null,{"$f":"IFERROR(VLOOKUP(K46,$AD$7:AE48,2,FALSE),0)","v":0},null,null,0,null,null,null,null,null,null,"K",{"$f":"COUNTIF(E8:E105,\"K\")","v":0},{"$f":"COUNTIF(N7:N104,\"K\")","v":0},{"$f":"COUNTIF(H7:H104,\"K\")","v":0},null,null,null,null,null,null,null,"00:00:00","00:00:00",0,{"$f":"SpellNumber((AI46))","v":"No Dollars and No Cents"},3,"No "]
["00:00:00",null,null,null,null,0,null,null,0,null,null,{"$f":"IFERROR(VLOOKUP(K47,$AD$7:AE49,2,FALSE),0)","v":0},null,null,0,null,null,null,null,null,null,"L",{"$f":"COUNTIF(E8:E105,\"l\")","v":0},{"$f":"COUNTIF(N7:N104,\"L\")","v":0},{"$f":"COUNTIF(H7:H104,\"L\")","v":0},null,null,null,null,null,null,null,"00:00:00","00:00:00",0,{"$f":"SpellNumber((AI47))","v":"No Dollars and No Cents"},3,"No "]
["00:00:00",null,null,null,null,0,null,null,0,null,null,{"$f":"IFERROR(VLOOKUP(K48,$AD$7:AE50,2,FALSE),0)","v":0},null,null,0,null,null,null,null,null,null,null,null,null,null,null,null,null,null,null,null,null,"00:00:00","00:00:00",0,{"$f":"SpellNumber((AI48))","v":"No Dollars and No Cents"},3,"No "]
["00:00:00",null,null,null,null,0,null,null,0,null,null,{"$f":"IFERROR(VLOOKUP(K49,$AD$7:AE51,2,FALSE),0)","v":0},null,null,0,null,null,null,null,null,null,null,"Beh & Setting ",null,null,null,"Beh & Antecedents",null,null,null,null,null,"00:00:00","00:00:00",0,{"$f":"SpellNumber((AI49))","v":"No Dollars and No Cents"},3,"No "]
["00:00:00",null,null,null,null,0,null,null,0,null,null,{"$f":"IFERROR(VLOOKUP(K50,$AD$7:AE52,2,FALSE),0)","v":0},null,null,0,null,null,null,null,null,null,null,"A","B","C",null,null,"A","B","C",null,null,"00:00:00","00:00:00",0,{"$f":"SpellNumber((AI50))","v":"No Dollars and No Cents"},3,"No "]
["00:00:00",null,null,null,null,0,null,null,0,null,null,{"$f":"IFERROR(VLOOKUP(K51,$AD$7:AE53,2,FALSE),0)","v":0},null,null,0,null,null,null,null,null,null,"A",{"$f":"COUNTIFS(E7:E104,\"A\",K7:K104,\"A\")","v":0},{"$f":"COUNTIFS(E7:E104,\"A\",K7:K104,\"B\")","v":0},{"$f":"COUNTIFS(E7:E104,\"A\",K7:K104,\"C\")","v":0},null,"A",{"$f":"COUNTIFS(H7:H104,\"a\",K7:K104,\"A\")","v":0},{"$f":"COUNTIFS(H7:H104,\"A\",K7:K104,\"B\")","v":0},{"$f":"COUNTIFS(H7:H104,\"A\",K7:K104,\"C\")","v":0},null,null,"00:00:00","00:00:00",0,{"$f":"SpellNumber((AI51))","v":"No Dollars and No Cents"},3,"No "]
["00:00:00",null,null,null,null,0,null,null,0,null,null,{"$f":"IFERROR(VLOOKUP(K52,$AD$7:AE54,2,FALSE),0)","v":0},null,null,0,null,null,null,null,null,null,"B",{"$f":"COUNTIFS(E7:E104,\"B\",K7:K104,\"A\")","v":0},{"$f":"COUNTIFS(E7:E104,\"B\",K7:K104,\"B\")","v":0},{"$f":"COUNTIFS(E7:E104,\"B\",K7:K104,\"C\")","v":0},null,"B",{"$f":"COUNTIFS(H7:H104,\"B\",K7:K104,\"A\")","v":0},{"$f":"COUNTIFS(H7:H104,\"B\",K7:K104,\"B\")","v":0},{"$f":"COUNTIFS(H7:H104,\"B\",K7:K104,\"C\")","v":0},null,null,"00:00:00","00:00:00",0,{"$f":"SpellNumber((AI52))","v":"No Dollars and No Cents"},3,"No "]
["00:00:00",null,null,null,null,0,null,null,0,null,null,{"$f":"IFERROR(VLOOKUP(K53,$AD$7:AE55,2,FALSE),0)","v":0},null,null,0,null,null,null,null,null,null,"C",{"$f":"COUNTIFS(K7:K104,\"C\",K7:K104,\"A\")","v":0},{"$f":"COUNTIFS(E7:E104,\"C\",K7:K104,\"B\")","v":0},{"$f":"COUNTIFS(E7:E104,\"C\",K7:K104,\"C\")","v":0},null,"C",{"$f":"COUNTIFS(H7:H104,\"C\",K7:K104,\"A\")","v":0},{"$f":"COUNTIFS(H7:H104,\"C\",K7:K104,\"B\")","v":0},{"$f":"COUNTIFS(H7:H104,\"C\",K7:K104,\"C\")","v":0},null,null,"00:00:00","00:00:00",0,{"$f":"SpellNumber((AI53))","v":"No Dollars and No Cents"},3,"No "]
["00:00:00",null,null,null,null,0,null,null,0,null,null,{"$f":"IFERROR(VLOOKUP(K54,$AD$7:AE56,2,FALSE),0)","v":0},null,null,0,null,null,null,null,null,null,"D",{"$f":"COUNTIFS(E7:E104,\"D\",K7:K104,\"A\")","v":0},{"$f":"COUNTIFS(E7:E104,\"D\",K7:K104,\"B\")","v":0},{"$f":"COUNTIFS(E7:E104,\"D\",K7:K104,\"C\")","v":0},null,"D",{"$f":"COUNTIFS(H7:H104,\"D\",K7:K104,\"A\")","v":0},{"$f":"COUNTIFS(H7:H104,\"D\",K7:K104,\"B\")","v":0},{"$f":"COUNTIFS(H7:H104,\"D\",K7:K104,\"C\")","v":0},null,null,"00:00:00","00:00:00",0,{"$f":"SpellNumber((AI54))","v":"No Dollars and No Cents"},3,"No "]
["00:00:00",null,null,null,null,0,null,null,0,null,null,{"$f":"IFERROR(VLOOKUP(K55,$AD$7:AE57,2,FALSE),0)","v":0},null,null,0,null,null,null,null,null,null,"E",{"$f":"COUNTIFS(E7:E104,\"E\",K7:K104,\"A\")","v":0},{"$f":"COUNTIFS(E7:E104,\"E\",K7:K104,\"B\")","v":0},{"$f":"COUNTIFS(E7:E104,\"E\",K7:K104,\"C\")","v":0},null,"E",{"$f":"COUNTIFS(H7:H104,\"E\",K7:K104,\"A\")","v":0},{"$f":"COUNTIFS(H7:H104,\"E\",K7:K104,\"B\")","v":0},{"$f":"COUNTIFS(H7:H104,\"E\",K7:K104,\"C\")","v":0},null,null,"00:00:00","00:00:00",0,{"$f":"SpellNumber((AI55))","v":"No Dollars and No Cents"},3,"No "]
["00:00:00",null,null,null,null,0,null,null,0,null,null,{"$f":"IFERROR(VLOOKUP(K56,$AD$7:AE58,2,FALSE),0)","v":0},null,null,0,null,null,null,null,null,null,"F",{"$f":"COUNTIFS(E7:E104,\"F\",K7:K104,\"A\")","v":0},{"$f":"COUNTIFS(E7:E104,\"F\",K7:K104,\"B\")","v":0},{"$f":"COUNTIFS(E7:E104,\"F\",K7:K104,\"C\")","v":0},null,"F",{"$f":"COUNTIFS(H7:H104,\"F\",K7:K104,\"A\")","v":0},{"$f":"COUNTIFS(H7:H104,\"F\",K7:K104,\"B\")","v":0},{"$f":"COUNTIFS(H7:H104,\"F\",K7:K104,\"C\")","v":0},null,null,"00:00:00","00:00:00",0,{"$f":"SpellNumber((AI56))","v":"No Dollars and No Cents"},3,"No "]
["00:00:00",null,null,null,null,0,null,null,0,null,null,{"$f":"IFERROR(VLOOKUP(K57,$AD$7:AE59,2,FALSE),0)","v":0},null,null,0,null,null,null,null,null,null,"G",{"$f":"COUNTIFS(E7:E104,\"G\",K7:K104,\"A\")","v":0},{"$f":"COUNTIFS(E7:E104,\"G\",K7:K104,\"B\")","v":0},{"$f":"COUNTIFS(E7:E104,\"G\",K7:K104,\"C\")","v":0},null,"G",{"$f":"COUNTIFS(H7:H104,\"G\",K7:K104,\"A\")","v":0},{"$f":"COUNTIFS(H7:H104,\"G\",K7:K104,\"B\")","v":0},{"$f":"COUNTIFS(H7:H104,\"G\",K7:K104,\"C\")","v":0},null,null,"00:00:00","00:00:00",0,{"$f":"SpellNumber((AI57))","v":"No Dollars and No Cents"},3,"No "]
["00:00:00",null,null,null,null,0,null,null,0,null,null,{"$f":"IFERROR(VLOOKUP(K58,$AD$7:AE60,2,FALSE),0)","v":0},null,null,0,null,null,null,null,null,null,"H",{"$f":"COUNTIFS(E7:E104,\"H\",K7:K104,\"A\")","v":0},{"$f":"COUNTIFS(E7:E104,\"H\",K7:K104,\"B\")","v":0},{"$f":"COUNTIFS(E7:E104,\"H\",K7:K104,\"C\")","v":0},null,"H",{"$f":"COUNTIFS(H7:H104,\"H\",K7:K104,\"A\")","v":0},{"$f":"COUNTIFS(H7:H104,\"H\",K7:K104,\"B\")","v":0},{"$f":"COUNTIFS(H7:H104,\"H\",K7:K104,\"C\")","v":0},null,null,"00:00:00","00:00:00",0,{"$f":"SpellNumber((AI58))","v":"No Dollars and No Cents"},3,"No "]
["00:00:00",null,null,null,null,0,null,null,0,null,null,{"$f":"IFERROR(VLOOKUP(K59,$AD$7:AE61,2,FALSE),0)","v":0},null,null,0,null,null,null,null,null,null,"I",{"$f":"COUNTIFS(E7:E104,\"I\",K7:K104,\"A\")","v":0},{"$f":"COUNTIFS(E7:E104,\"I\",K7:K104,\"B\")","v":0},{"$f":"COUNTIFS(E7:E104,\"I\",K7:K104,\"C\")","v":0},null,"I",{"$f":"COUNTIFS(H7:H104,\"I\",K7:K104,\"A\")","v":0},{"$f":"COUNTIFS(H7:H104,\"I\",K7:K104,\"B\")","v":0},{"$f":"COUNTIFS(H7:H104,\"I\",K7:K104,\"C\")","v":0},null,null,"00:00:00","00:00:00",0,{"$f":"SpellNumber((AI59))","v":"No Dollars and No Cents"},3,"No "]
["00:00:00",null,null,null,null,0,null,null,0,null,null,{"$f":"IFERROR(VLOOKUP(K60,$AD$7:AE62,2,FALSE),0)","v":0},null,null,0,null,null,null,null,null,null,"J",{"$f":"COUNTIFS(E7:E104,\"J\",K7:K104,\"A\")","v":0},{"$f":"COUNTIFS(E7:E104,\"J\",K7:K104,\"B\")","v":0},{"$f":"COUNTIFS(E7:E104,\"J\",K7:K104,\"C\")","v":0},null,"J",{"$f":"COUNTIFS(H7:H104,\"J\",K7:K104,\"A\")","v":0},{"$f":"COUNTIFS(H7:H104,\"J\",K7:K104,\"B\")","v":0},{"$f":"COUNTIFS(H7:H104,\"J\",K7:K104,\"C\")","v":0},null,null,"00:00:00","00:00:00",0,{"$f":"SpellNumber((AI60))","v":"No Dollars and No Cents"},3,"No "]
["00:00:00",null,null,null,null,0,null,null,0,null,null,{"$f":"IFERROR(VLOOKUP(K61,$AD$7:AE63,2,FALSE),0)","v":0},null,null,0,null,null,null,null,null,null,"K",{"$f":"COUNTIFS(E7:E104,\"K\",K7:K104,\"A\")","v":0},{"$f":"COUNTIFS(E7:E104,\"K\",K7:K104,\"B\")","v":0},{"$f":"COUNTIFS(E7:E104,\"K\",K7:K104,\"C\")","v":0},null,"K",{"$f":"COUNTIFS(H7:H104,\"K\",K7:K104,\"A\")","v":0},{"$f":"COUNTIFS(H7:H104,\"K\",K7:K104,\"B\")","v":0},{"$f":"COUNTIFS(H7:H104,\"K\",K7:K104,\"C\")","v":0},null,null,"00:00:00","00:00:00",0,{"$f":"SpellNumber((AI61))","v":"No Dollars and No Cents"},3,"No "]
["00:00:00",null,null,null,null,0,null,null,0,null,null,{"$f":"IFERROR(VLOOKUP(K62,$AD$7:AE64,2,FALSE),0)","v":0},null,null,0,null,null,null,null,null,null,"L",{"$f":"COUNTIFS(E7:E104,\"L\",K7:K104,\"A\")","v":0},{"$f":"COUNTIFS(E7:E104,\"L\",K7:K104,\"B\")","v":0},{"$f":"COUNTIFS(E7:E104,\"L\",K7:K104,\"C\")","v":0},null,"L",{"$f":"COUNTIFS(H7:H104,\"L\",K7:K104,\"A\")","v":0},{"$f":"COUNTIFS(H7:H104,\"L\",K7:K104,\"B\")","v":0},{"$f":"COUNTIFS(H7:H104,\"L\",K7:K104,\"C\")","v":0},null,null,"00:00:00","00:00:00",0,{"$f":"SpellNumber((AI62))","v":"No Dollars and No Cents"},3,"No "]
["00:00:00",null,null,null,null,0,null,null,0,null,null,{"$f":"IFERROR(VLOOKUP(K63,$AD$7:AE65,2,FALSE),0)","v":0},null,null,0,null,null,null,null,null,null,null,"Beh & Consequences",null,null,null,null,null,null,null,null,null,"00:00:00","00:00:00",0,{"$f":"SpellNumber((AI63))","v":"No Dollars and No Cents"},3,"No "]
["00:00:00",null,null,null,null,0,null,null,0,null,null,{"$f":"IFERROR(VLOOKUP(K64,$AD$7:AE66,2,FALSE),0)","v":0},null,null,0,null,null,null,null,null,null,null,"A","B","C",null,null,null,null,null,null,null,"00:00:00","00:00:00",0,{"$f":"SpellNumber((AI64))","v":"No Dollars and No Cents"},3,"No "]
["00:00:00",null,null,null,null,0,null,null,0,null,null,{"$f":"IFERROR(VLOOKUP(K65,$AD$7:AE67,2,FALSE),0)","v":0},null,null,0,null,null,null,null,null,null,"A",{"$f":"COUNTIFS(N7:N104,\"A\",K7:K104,\"A\")","v":0},{"$f":"COUNTIFS(N7:N104,\"A\",K7:K104,\"B\")","v":0},{"$f":"COUNTIFS(N7:N104,\"A\",K7:K104,\"C\")","v":0},null,null,null,null,null,null,null,"00:00:00","00:00:00",0,{"$f":"SpellNumber((AI65))","v":"No Dollars and No Cents"},3,"No "]
["00:00:00",null,null,null,null,0,null,null,0,null,null,{"$f":"IFERROR(VLOOKUP(K66,$AD$7:AE68,2,FALSE),0)","v":0},null,null,0,null,null,null,null,null,null,"B",{"$f":"COUNTIFS(N7:N104,\"B\",K7:K104,\"A\")","v":0},{"$f":"COUNTIFS(N7:N104,\"B\",K7:K104,\"B\")","v":0},{"$f":"COUNTIFS(N7:N104,\"B\",K7:K104,\"C\")","v":0},null,null,null,null,null,null,null,"00:00:00","00:00:00",0,{"$f":"SpellNumber((AI66))","v":"No Dollars and No Cents"},3,"No "]
["00:00:00",null,null,null,null,0,null,null,0,null,null,{"$f":"IFERROR(VLOOKUP(K67,$AD$7:AE69,2,FALSE),0)","v":0},null,null,0,null,null,null,null,null,null,"C",{"$f":"COUNTIFS(N7:N104,\"C\",K7:K104,\"A\")","v":0},{"$f":"COUNTIFS(N7:N104,\"C\",K7:K104,\"B\")","v":0},{"$f":"COUNTIFS(N7:N104,\"C\",K7:K104,\"C\")","v":0},null,null,null,null,null,null,null,"00:00:00","00:00:00",0,{"$f":"SpellNumber((AI67))","v":"No Dollars and No Cents"},3,"No "]
["00:00:00",null,null,null,null,0,null,null,0,null,null,{"$f":"IFERROR(VLOOKUP(K68,$AD$7:AE70,2,FALSE),0)","v":0},null,null,0,null,null,null,null,null,null,"D",{"$f":"COUNTIFS(N7:N104,\"D\",K7:K104,\"A\")","v":0},{"$f":"COUNTIFS(N7:N104,\"D\",K7:K104,\"B\")","v":0},{"$f":"COUNTIFS(N7:N104,\"D\",K7:K104,\"C\")","v":0},null,null,null,null,null,null,null,"00:00:00","00:00:00",0,{"$f":"SpellNumber((AI68))","v":"No Dollars and No Cents"},3,"No "]
["00:00:00",null,null,null,null,0,null,null,0,null,null,{"$f":"IFERROR(VLOOKUP(K69,$AD$7:AE71,2,FALSE),0)","v":0},null,null,0,null,null,null,null,null,null,"E",{"$f":"COUNTIFS(N7:N104,\"E\",K7:K104,\"A\")","v":0},{"$f":"COUNTIFS(N7:N104,\"E\",K7:K104,\"B\")","v":0},{"$f":"COUNTIFS(N7:N104,\"E\",K7:K104,\"C\")","v":0},null,null,null,null,null,null,null,"00:00:00","00:00:00",0,{"$f":"SpellNumber((AI69))","v":"No Dollars and No Cents"},3,"No "]
["00:00:00",null,null,null,null,0,null,null,0,null,null,{"$f":"IFERROR(VLOOKUP(K70,$AD$7:AE72,2,FALSE),0)","v":0},null,null,0,null,null,null,null,null,null,"F",{"$f":"COUNTIFS(N7:N104,\"F\",K7:K104,\"A\")","v":0},{"$f":"COUNTIFS(N7:N104,\"F\",K7:K104,\"B\")","v":0},{"$f":"COUNTIFS(N7:N104,\"F\",K7:K104,\"C\")","v":0},null,null,null,null,null,null,null,"00:00:00","00:00:00",0,{"$f":"SpellNumber((AI70))","v":"No Dollars and No Cents"},3,"No "]
["00:00:00",null,null,null,null,0,null,null,0,null,null,{"$f":"IFERROR(VLOOKUP(K71,$AD$7:AE73,2,FALSE),0)","v":0},null,null,0,null,null,null,null,null,null,"G",{"$f":"COUNTIFS(N7:N104,\"G\",K7:K104,\"A\")","v":0},{"$f":"COUNTIFS(N7:N104,\"G\",K7:K104,\"B\")","v":0},{"$f":"COUNTIFS(N7:N104,\"G\",K7:K104,\"C\")","v":0},null,null,null,null,null,null,null,"00:00:00","00:00:00",0,{"$f":"SpellNumber((AI71))","v":"No Dollars and No Cents"},3,"No "]
[{"$f":"C72-B72","v":"00:00:00"},null,null,null,null,0,null,null,{"$f":"IFERROR(VLOOKUP(H72,$Z$7:$AA$18,2,FALSE),0)","v":0},null,null,{"$f":"IFERROR(VLOOKUP(K72,$AD$7:AE74,2,FALSE),0)","v":0},null,null,{"$f":"IFERROR(VLOOKUP(N72,$V$22:$W$33,2,FALSE),0)","v":0},null,null,null,null,null,null,"H",{"$f":"COUNTIFS(N7:N104,\"H\",K7:K104,\"A\")","v":0},{"$f":"COUNTIFS(N7:N104,\"H\",K7:K104,\"B\")","v":0},{"$f":"COUNTIFS(N7:N104,\"H\",K7:K104,\"C\")","v":0},null,null,null,null,null,null,null,{"$f":"B72","v":"00:00:00"},{"$f":"TEXT(AG72,\"hh:mm:ss\")","v":"00:00:00"},{"$f":"AG72*24","v":0},{"$f":"SpellNumber((AI72))","v":"No Dollars and No Cents"},{"$f":"FIND(\" Dollar\",AJ72)","v":3},{"$f":"LEFT(AJ72,AK72)","v":"No "}]
["00:00:00",null,null,null,null,{"$f":"IFERROR(VLOOKUP(E73,$V$7:$W$18,2,FALSE),0)","v":0},null,null,0,null,null,{"$f":"IFERROR(VLOOKUP(K73,$AD$7:AE75,2,FALSE),0)","v":0},null,null,0,null,null,null,null,null,null,"I",{"$f":"COUNTIFS(N7:N104,\"I\",K7:K104,\"A\")","v":0},{"$f":"COUNTIFS(N7:N104,\"I\",K7:K104,\"B\")","v":0},{"$f":"COUNTIFS(N7:N104,\"I\",K7:K104,\"C\")","v":0},null,null,null,null,null,null,null,"00:00:00","00:00:00",0,{"$f":"SpellNumber((AI73))","v":"No Dollars and No Cents"},3,"No "]
["00:00:00",null,null,null,null,0,null,null,0,null,null,{"$f":"IFERROR(VLOOKUP(K74,$AD$7:AE76,2,FALSE),0)","v":0},null,null,0,null,null,null,null,null,null,"J",{"$f":"COUNTIFS(N7:N104,\"J\",K7:K104,\"A\")","v":0},{"$f":"COUNTIFS(N7:N104,\"J\",K7:K104,\"B\")","v":0},{"$f":"COUNTIFS(N7:N104,\"J\",K7:K104,\"C\")","v":0},null,null,null,null,null,null,null,"00:00:00","00:00:00",0,{"$f":"SpellNumber((AI74))","v":"No Dollars and No Cents"},3,"No "]
["00:00:00",null,null,null,null,0,null,null,0,null,null,{"$f":"IFERROR(VLOOKUP(K75,$AD$7:AE77,2,FALSE),0)","v":0},null,null,0,null,null,null,null,null,null,"K",{"$f":"COUNTIFS(N7:N104,\"K\",K7:K104,\"A\")","v":0},{"$f":"COUNTIFS(N7:N104,\"K\",K7:K104,\"B\")","v":0},{"$f":"COUNTIFS(N7:N104,\"K\",K7:K104,\"C\")","v":0},null,null,null,null,null,null,null,"00:00:00","00:00:00",0,{"$f":"SpellNumber((AI75))","v":"No Dollars and No Cents"},3,"No "]
["00:00:00",null,null,null,null,0,null,null,0,null,null,{"$f":"IFERROR(VLOOKUP(K76,$AD$7:AE78,2,FALSE),0)","v":0},null,null,0,null,null,null,null,null,null,"L",{"$f":"COUNTIFS(N7:N104,\"L\",K7:K104,\"A\")","v":0},{"$f":"COUNTIFS(N7:N104,\"L\",K7:K104,\"B\")","v":0},{"$f":"COUNTIFS(N7:N104,\"L\",K7:K104,\"C\")","v":0},null,null,null,null,null,null,null,"00:00:00","00:00:00",0,{"$f":"SpellNumber((AI76))","v":"No Dollars and No Cents"},3,"No "]
["00:00:00",null,null,null,null,0,null,null,0,null,null,{"$f":"IFERROR(VLOOKUP(K77,$AD$7:AE79,2,FALSE),0)","v":0},null,null,0,null,null,null,null,null,null,null,null,null,null,null,null,null,null,null,null,null,"00:00:00","00:00:00",0,{"$f":"SpellNumber((AI77))","v":"No Dollars and No Cents"},3,"No "]
["00:00:00",null,null,null,null,0,null,null,0,null,null,{"$f":"IFERROR(VLOOKUP(K78,$AD$7:AE80,2,FALSE),0)","v":0},null,null,0,null,null,null,null,null,null,null,null,null,null,null,null,null,null,null,null,null,"00:00:00","00:00:00",0,{"$f":"SpellNumber((AI78))","v":"No Dollars and No Cents"},3,"No "]
["00:00:00",null,null,null,null,0,null,null,0,null,null,{"$f":"IFERROR(VLOOKUP(K79,$AD$7:AE81,2,FALSE),0)","v":0},null,null,0,null,null,null,null,null,null,null,null,null,null,null,null,null,null,null,null,null,"00:00:00","00:00:00",0,{"$f":"SpellNumber((AI79))","v":"No Dollars and No Cents"},3,"No "]
["00:00:00",null,null,null,null,0,null,null,0,null,null,{"$f":"IFERROR(VLOOKUP(K80,$AD$7:AE82,2,FALSE),0)","v":0},null,null,0,null,null,null,null,null,null,null,null,null,null,null,null,null,null,null,null,null,"00:00:00","00:00:00",0,{"$f":"SpellNumber((AI80))","v":"No Dollars and No Cents"},3,"No "]
["00:00:00",null,null,null,null,0,null,null,0,null,null,{"$f":"IFERROR(VLOOKUP(K81,$AD$7:AE83,2,FALSE),0)","v":0},null,null,0,null,null,null,null,null,null,null,null,null,null,null,null,null,null,null,null,null,"00:00:00","00:00:00",0,{"$f":"SpellNumber((AI81))","v":"No Dollars and No Cents"},3,"No "]
["00:00:00",null,null,null,null,0,null,null,0,null,null,{"$f":"IFERROR(VLOOKUP(K82,$AD$7:AE84,2,FALSE),0)","v":0},null,null,0,null,null,null,null,null,null,null,null,null,null,null,null,null,null,null,null,null,"00:00:00","00:00:00",0,{"$f":"SpellNumber((AI82))","v":"No Dollars and No Cents"},3,"No "]
["00:00:00",null,null,null,null,0,null,null,0,null,null,{"$f":"IFERROR(VLOOKUP(K83,$AD$7:AE85,2,FALSE),0)","v":0},null,null,0,null,null,null,null,null,null,null,null,null,null,null,null,null,null,null,null,null,"00:00:00","00:00:00",0,{"$f":"SpellNumber((AI83))","v":"No Dollars and No Cents"},3,"No "]
["00:00:00",null,null,null,null,0,null,null,0,null,null,{"$f":"IFERROR(VLOOKUP(K84,$AD$7:AE86,2,FALSE),0)","v":0},null,null,0,null,null,null,null,null,null,null,null,null,null,null,null,null,null,null,null,null,"00:00:00","00:00:00",0,{"$f":"SpellNumber((AI84))","v":"No Dollars and No Cents"},3,"No "]
["00:00:00",null,null,null,null,0,null,null,0,null,null,{"$f":"IFERROR(VLOOKUP(K85,$AD$7:AE87,2,FALSE),0)","v":0},null,null,0,null,null,null,null,null,null,null,null,null,null,null,null,null,null,null,null,null,"00:00:00","00:00:00",0,{"$f":"SpellNumber((AI85))","v":"No Dollars and No Cents"},3,"No "]
["00:00:00",null,null,null,null,0,null,null,0,null,null,{"$f":"IFERROR(VLOOKUP(K86,$AD$7:AE88,2,FALSE),0)","v":0},null,null,0,null,null,null,null,null,null,null,null,null,null,null,null,null,null,null,null,null,"00:00:00","00:00:00",0,{"$f":"SpellNumber((AI86))","v":"No Dollars and No Cents"},3,"No "]
["00:00:00",null,null,null,null,0,null,null,0,null,null,{"$f":"IFERROR(VLOOKUP(K87,$AD$7:AE89,2,FALSE),0)","v":0},null,null,0,null,null,null,null,null,null,null,null,null,null,null,null,null,null,null,null,null,"00:00:00","00:00:00",0,{"$f":"SpellNumber((AI87))","v":"No Dollars and No Cents"},3,"No "]
["00:00:00",null,null,null,null,0,null,null,0,null,null,{"$f":"IFERROR(VLOOKUP(K88,$AD$7:AE90,2,FALSE),0)","v":0},null,null,0,null,null,null,null,null,null,null,null,null,null,null,null,null,null,null,null,null,"00:00:00","00:00:00",0,{"$f":"SpellNumber((AI88))","v":"No Dollars and No Cents"},3,"No "]
["00:00:00",null,null,null,null,0,null,null,0,null,null,{"$f":"IFERROR(VLOOKUP(K89,$AD$7:AE91,2,FALSE),0)","v":0},null,null,0,null,null,null,null,null,null,null,null,null,null,null,null,null,null,null,null,null,"00:00:00","00:00:00",0,{"$f":"SpellNumber((AI89))","v":"No Dollars and No Cents"},3,"No "]
["00:00:00",null,null,null,null,0,null,null,0,null,null,{"$f":"IFERROR(VLOOKUP(K90,$AD$7:AE92,2,FALSE),0)","v":0},null,null,0,null,null,null,null,null,null,null,null,null,null,null,null,null,null,null,null,null,"00:00:00","00:00:00",0,{"$f":"SpellNumber((AI90))","v":"No Dollars and No Cents"},3,"No "]
["00:00:00",null,null,null,null,0,null,null,0,null,null,{"$f":"IFERROR(VLOOKUP(K91,$AD$7:AE93,2,FALSE),0)","v":0},null,null,0,null,null,null,"Total Mins",{"$f":"SUM(A7:A104)","v":"00:00:00"},null,null,null,null,null,null,null,null,null,null,null,null,"00:00:00","00:00:00",0,{"$f":"SpellNumber((AI91))","v":"No Dollars and No Cents"},3,"No "]
["00:00:00",null,null,null,null,0,null,null,0,null,null,{"$f":"IFERROR(VLOOKUP(K92,$AD$7:AE94,2,FALSE),0)","v":0},null,null,0,null,null,null,"Settings:","A",{"$f":"COUNTIF(E4:E104,\"A\")","v":0},"Antec.","A",{"$f":"COUNTIF(H4:H104,\"A\")","v":0},"Beh","A",{"$f":"COUNTIF(L4:L104,\"A\")","v":0},"Conse.","A",{"$f":"COUNTIF(O4:O104,\"A\")","v":0},null,null,"00:00:00","00:00:00",0,{"$f":"SpellNumber((AI92))","v":"No Dollars and No Cents"},3,"No "]
["00:00:00",null,null,null,null,0,null,null,0,null,null,{"$f":"IFERROR(VLOOKUP(K93,$AD$7:AE95,2,FALSE),0)","v":0},null,null,0,null,null,null,null,"B",{"$f":"COUNTIF(E5:E105,\"B\")","v":0},null,"B",{"$f":"COUNTIF(H5:H105,\"B\")","v":0},null,"B",{"$f":"COUNTIF(L5:L105,\"B\")","v":0},null,"B",{"$f":"COUNTIF(O5:O105,\"B\")","v":0},null,null,"00:00:00","00:00:00",0,{"$f":"SpellNumber((AI93))","v":"No Dollars and No Cents"},3,"No "]
["00:00:00",null,null,null,null,0,null,null,0,null,null,{"$f":"IFERROR(VLOOKUP(K94,$AD$7:AE96,2,FALSE),0)","v":0},null,null,0,null,null,null,null,"C",{"$f":"COUNTIF(E6:E106,\"C\")","v":0},null,"C",{"$f":"COUNTIF(H6:H106,\"C\")","v":0},null,"C",{"$f":"COUNTIF(L6:L106,\"C\")","v":0},null,"C",{"$f":"COUNTIF(O6:O106,\"C\")","v":0},null,null,"00:00:00","00:00:00",0,{"$f":"SpellNumber((AI94))","v":"No Dollars and No Cents"},3,"No "]
["00:00:00",null,null,null,null,0,null,null,0,null,null,{"$f":"IFERROR(VLOOKUP(K95,$AD$7:AE97,2,FALSE),0)","v":0},null,null,0,null,null,null,null,"D",{"$f":"COUNTIF(E7:E107,\"D\")","v":0},null,"D",{"$f":"COUNTIF(H7:H107,\"D\")","v":0},null,null,null,null,"D",{"$f":"COUNTIF(O7:O107,\"D\")","v":0},null,null,"00:00:00","00:00:00",0,{"$f":"SpellNumber((AI95))","v":"No Dollars and No Cents"},3,"No "]
["00:00:00",null,null,null,null,0,null,null,0,null,null,{"$f":"IFERROR(VLOOKUP(K96,$AD$7:AE98,2,FALSE),0)","v":0},null,null,0,null,null,null,null,"E",{"$f":"COUNTIF(E8:E108,\"E\")","v":0},null,"E",{"$f":"COUNTIF(H8:H108,\"E\")","v":0},null,null,null,null,"E",{"$f":"COUNTIF(O8:O108,\"E\")","v":0},null,null,"00:00:00","00:00:00",0,{"$f":"SpellNumber((AI96))","v":"No Dollars and No Cents"},3,"No "]
["00:00:00",null,null,null,null,0,null,null,0,null,null,{"$f":"IFERROR(VLOOKUP(K97,$AD$7:AE99,2,FALSE),0)","v":0},null,null,0,null,null,null,null,"F",{"$f":"COUNTIF(E9:E109,\"F\")","v":0},null,"F",{"$f":"COUNTIF(H9:H109,\"F\")","v":0},null,null,null,null,"F",{"$f":"COUNTIF(O9:O109,\"F\")","v":0},null,null,"00:00:00","00:00:00",0,{"$f":"SpellNumber((AI97))","v":"No Dollars and No Cents"},3,"No "]
["00:00:00",null,null,null,null,0,null,null,0,null,null,{"$f":"IFERROR(VLOOKUP(K98,$AD$7:AE100,2,FALSE),0)","v":0},null,null,0,null,null,null,null,"G",{"$f":"COUNTIF(E10:E110,\"G\")","v":0},null,"G",{"$f":"COUNTIF(H10:H110,\"G\")","v":0},null,null,null,null,"G",{"$f":"COUNTIF(O10:O110,\"G\")","v":0},null,null,"00:00:00","00:00:00",0,{"$f":"SpellNumber((AI98))","v":"No Dollars and No Cents"},3,"No "]
["00:00:00",null,null,null,null,0,null,null,0,null,null,{"$f":"IFERROR(VLOOKUP(K99,$AD$7:AE101,2,FALSE),0)","v":0},null,null,0,null,null,null,null,"H",{"$f":"COUNTIF(E11:E111,\"H\")","v":0},null,"H",{"$f":"COUNTIF(H11:H111,\"H\")","v":0},null,null,null,null,"H",{"$f":"COUNTIF(O11:O111,\"H\")","v":0},null,null,"00:00:00","00:00:00",0,{"$f":"SpellNumber((AI99))","v":"No Dollars and No Cents"},3,"No "]
["00:00:00",null,null,null,null,0,null,null,0,null,null,{"$f":"IFERROR(VLOOKUP(K100,$AD$7:AE102,2,FALSE),0)","v":0},null,null,0,null,null,null,null,"I",{"$f":"COUNTIF(E12:E112,\"I\")","v":0},null,"I",{"$f":"COUNTIF(H12:H112,\"I\")","v":0},null,null,null,null,"I",{"$f":"COUNTIF(O12:O112,\"I\")","v":0},null,null,"00:00:00","00:00:00",0,{"$f":"SpellNumber((AI100))","v":"No Dollars and No Cents"},3,"No "]
["00:00:00",null,null,null,null,0,null,null,0,null,null,{"$f":"IFERROR(VLOOKUP(K101,$AD$7:AE103,2,FALSE),0)","v":0},null,null,0,null,null,null,null,"J",{"$f":"COUNTIF(E13:E113,\"J\")","v":0},null,"J",{"$f":"COUNTIF(H13:H113,\"J\")","v":0},null,null,null,null,"J",{"$f":"COUNTIF(O13:O113,\"J\")","v":0},null,null,"00:00:00","00:00:00",0,{"$f":"SpellNumber((AI101))","v":"No Dollars and No Cents"},3,"No "]
["00:00:00",null,null,null,null,0,null,null,0,null,null,{"$f":"IFERROR(VLOOKUP(K102,$AD$7:AE104,2,FALSE),0)","v":0},null,null,0,null,null,null,null,"K",{"$f":"COUNTIF(E14:E114,\"K\")","v":0},null,"K",{"$f":"COUNTIF(H14:H114,\"K\")","v":0},null,null,null,null,"K",{"$f":"COUNTIF(O14:O114,\"K\")","v":0},null,null,"00:00:00","00:00:00",0,{"$f":"SpellNumber((AI102))","v":"No Dollars and No Cents"},3,"No "]
["00:00:00",null,null,null,null,0,null,null,0,null,null,{"$f":"IFERROR(VLOOKUP(K103,$AD$7:AE105,2,FALSE),0)","v":0},null,null,0,null,null,null,null,"L",{"$f":"COUNTIF(E15:E115,\"L\")","v":0},null,"L",{"$f":"COUNTIF(H15:H115,\"L\")","v":0},null,null,null,null,"L",{"$f":"COUNTIF(O15:O115,\"L\")","v":0},null,null,"00:00:00","00:00:00",0,{"$f":"SpellNumber((AI103))","v":"No Dollars and No Cents"},3,"No "]
["00:00:00",null,null,null,null,0,null,null,0,null,null,{"$f":"IFERROR(VLOOKUP(K104,$AD$7:AE106,2,FALSE),0)","v":0},null,null,0,null,null,null,null,null,null,null,null,null,null,null,null,null,null,null,null,null,"00:00:00","00:00:00",0,{"$f":"SpellNumber((AI104))","v":"No Dollars and No Cents"},3,"No "]

{"sheet":"Data 21","index":29,"n_rows":104,"n_cols":38,"rows_kept":104,"cut":false,"hidden":false,"merged":[[0,7,3,14]]}
["ATTENDANCE",null,null,null,null,null,null,"Data Collection"]
["If tardy, arrival time",null,null,null,null,null,null,null,null,null,null,null,null,null,null,null,null,null,null,null,null,null,"Date",{"$f":"Calendar!B8","v":{"$error":"#N/A"}},{"$f":"TEXT(X2,\"ddd\")","v":{"$error":"#N/A"}}]
["If left early, time",null,null,null,null,null,null,null,null,null,null,null,null,null,null,null,null,null,null,null,null,null,"Frq. Of bx",{"$f":"AA22","v":0}]
[]
[]
["Mins.","Start Time","End Time",null,null,null,null,null,null,null,null,null,null,null,null,null,null,null,null,null,null,null,"Setting",null,null,"Ant",null,null,null,"Beh",null,null,"Raw Data","Time in text","Decimal"]
[{"$f":"C7-B7","v":"00:00:00"},null,null,null,null,{"$f":"IFERROR(VLOOKUP(E7,$V$7:$W$18,2,FALSE),0)","v":0},null,null,{"$f":"IFERROR(VLOOKUP(H7,$Z$7:$AA$18,2,FALSE),0)","v":0},null,null,{"$f":"IFERROR(VLOOKUP(K7,$AD$7:AE9,2,FALSE),0)","v":0},null,null,{"$f":"IFERROR(VLOOKUP(N7,$V$22:$W$33,2,FALSE),0)","v":0},null,null,null,null,null,null,"A",{"$f":"Criteria!C4","v":"Transition"},null,null,"A",{"$f":"Criteria!E4","v":"Transition"},null,null,"A",{"$f":"Criteria!G4","v":0},null,{"$f":"B7","v":"00:00:00"},{"$f":"TEXT(AG7,\"hh:mm:ss\")","v":"00:00:00"},{"$f":"AG7*24","v":0},{"$f":"SpellNumber((AI7))","v":"No Dollars and No Cents"},{"$f":"FIND(\" Dollar\",AJ7)","v":3},{"$f":"LEFT(AJ7,AK7)","v":"No "}]
[{"$f":"C8-B8","v":"00:00:00"},null,null,null,null,{"$f":"IFERROR(VLOOKUP(E8,$V$7:$W$18,2,FALSE),0)","v":0},null,null,{"$f":"IFERROR(VLOOKUP(H8,$Z$7:$AA$18,2,FALSE),0)","v":0},null,null,{"$f":"IFERROR(VLOOKUP(K8,$AD$7:AE10,2,FALSE),0)","v":0},null,null,{"$f":"IFERROR(VLOOKUP(N8,$V$22:$W$33,2,FALSE),0)","v":0},null,null,null,null,null,null,"B",{"$f":"Criteria!C5","v":"Morning Routine"},null,null,"B",{"$f":"Criteria!E5","v":"Denied access ('No')"},null,null,"B",{"$f":"Criteria!G5","v":0},null,{"$f":"B8","v":"00:00:00"},{"$f":"TEXT(AG8,\"hh:mm:ss\")","v":"00:00:00"},{"$f":"AG8*24","v":0},{"$f":"SpellNumber((AI8))","v":"No Dollars and No Cents"},{"$f":"FIND(\" Dollar\",AJ8)","v":3},{"$f":"LEFT(AJ8,AK8)","v":"No "}]
["00:00:00",null,null,null,null,{"$f":"IFERROR(VLOOKUP(E9,$V$7:$W$18,2,FALSE),0)","v":0},null,null,0,null,null,{"$f":"IFERROR(VLOOKUP(K9,$AD$7:AE11,2,FALSE),0)","v":0},null,null,0,null,null,null,null,null,null,"C",{"$f":"Criteria!C6","v":"Group Work"},null,null,"C",{"$f":"Criteria!E6","v":"Instruction/ Directions"},null,null,"C",{"$f":"Criteria!G6","v":0},null,"00:00:00","00:00:00",0,{"$f":"SpellNumber((AI9))","v":"No Dollars and No Cents"},3,"No "]
["00:00:00",null,null,null,null,0,null,null,0,null,null,{"$f":"IFERROR(VLOOKUP(K10,$AD$7:AE12,2,FALSE),0)","v":0},null,null,0,null,null,null,null,null,null,"D",{"$f":"Criteria!C7","v":"Ind. Seat/Work Time"},null,null,"D",{"$f":"Criteria!E7","v":"New Task"},null,null,null,null,null,"00:00:00","00:00:00",0,{"$f":"SpellNumber((AI10))","v":"No Dollars and No Cents"},3,"No "]
["00:00:00",null,null,null,null,0,null,null,0,null,null,{"$f":"IFERROR(VLOOKUP(K11,$AD$7:AE13,2,FALSE),0)","v":0},null,null,0,null,null,null,null,null,null,"E",{"$f":"Criteria!C8","v":"Language Arts"},null,null,"E",{"$f":"Criteria!E8","v":"Tcher attn to other"},null,null,null,null,null,"00:00:00","00:00:00",0,{"$f":"SpellNumber((AI11))","v":"No Dollars and No Cents"},3,"No "]
["00:00:00",null,null,null,null,0,null,null,0,null,null,{"$f":"IFERROR(VLOOKUP(K12,$AD$7:AE14,2,FALSE),0)","v":0},null,null,0,null,null,null,null,null,null,"F",{"$f":"Criteria!C9","v":"Mathematics"},null,null,"F",{"$f":"Criteria!E9","v":"Choice given"},null,null,null,null,null,"00:00:00","00:00:00",0,{"$f":"SpellNumber((AI12))","v":"No Dollars and No Cents"},3,"No "]
["00:00:00",null,null,null,null,0,null,null,0,null,null,{"$f":"IFERROR(VLOOKUP(K13,$AD$7:AE15,2,FALSE),0)","v":0},null,null,0,null,null,null,null,null,null,"G",{"$f":"Criteria!C10","v":"Physical Education"},null,null,"G",{"$f":"Criteria!E10","v":"Redirection"},null,null,null,null,null,"00:00:00","00:00:00",0,{"$f":"SpellNumber((AI13))","v":"No Dollars and No Cents"},3,"No "]
["00:00:00",null,null,null,null,0,null,null,0,null,null,{"$f":"IFERROR(VLOOKUP(K14,$AD$7:AE16,2,FALSE),0)","v":0},null,null,0,null,null,null,null,null,null,"H",{"$f":"Criteria!C11","v":"Music/Art"},null,null,"H",{"$f":"Criteria!E11","v":"Routine Task"},null,null,null,null,null,"00:00:00","00:00:00",0,{"$f":"SpellNumber((AI14))","v":"No Dollars and No Cents"},3,"No "]
["00:00:00",null,null,null,null,0,null,null,0,null,null,{"$f":"IFERROR(VLOOKUP(K15,$AD$7:AE17,2,FALSE),0)","v":0},null,null,0,null,null,null,null,null,null,"I",{"$f":"Criteria!C12","v":"Speech"},null,null,"I",{"$f":"Criteria!E12","v":"Waiting"},null,null,null,null,null,"00:00:00","00:00:00",0,{"$f":"SpellNumber((AI15))","v":"No Dollars and No Cents"},3,"No "]
["00:00:00",null,null,null,null,0,null,null,0,null,null,{"$f":"IFERROR(VLOOKUP(K16,$AD$7:AE18,2,FALSE),0)","v":0},null,null,0,null,null,null,null,null,null,"J",{"$f":"Criteria!C13","v":"OT/PT"},null,null,"J",{"$f":"Criteria!E13","v":"Unknown"},null,null,null,null,null,"00:00:00","00:00:00",0,{"$f":"SpellNumber((AI16))","v":"No Dollars and No Cents"},3,"No "]
["00:00:00",null,null,null,null,0,null,null,0,null,null,{"$f":"IFERROR(VLOOKUP(K17,$AD$7:AE19,2,FALSE),0)","v":0},null,null,0,null,null,null,null,null,null,"K",{"$f":"Criteria!C14","v":"Center"},null,null,"K",{"$f":"Criteria!E14","v":"Ignored"},null,null,null,null,null,"00:00:00","00:00:00",0,{"$f":"SpellNumber((AI17))","v":"No Dollars and No Cents"},3,"No "]
["00:00:00",null,null,null,null,0,null,null,0,null,null,{"$f":"IFERROR(VLOOKUP(K18,$AD$7:AE20,2,FALSE),0)","v":0},null,null,0,null,null,null,null,null,null,"L",{"$f":"Criteria!C15","v":"Other"},null,null,"L",{"$f":"Criteria!E15","v":"Other"},null,null,null,null,null,"00:00:00","00:00:00",0,{"$f":"SpellNumber((AI18))","v":"No Dollars and No Cents"},3,"No "]
["00:00:00",null,null,null,null,0,null,null,0,null,null,{"$f":"IFERROR(VLOOKUP(K19,$AD$7:AE21,2,FALSE),0)","v":0},null,null,0,null,null,null,null,null,null,null,null,null,null,null,null,null,null,null,null,null,"00:00:00","00:00:00",0,{"$f":"SpellNumber((AI19))","v":"No Dollars and No Cents"},3,"No "]
["00:00:00",null,null,null,null,0,null,null,0,null,null,{"$f":"IFERROR(VLOOKUP(K20,$AD$7:AE22,2,FALSE),0)","v":0},null,null,0,null,null,null,null,null,null,null,null,null,null,null,null,null,null,null,null,null,"00:00:00","00:00:00",0,{"$f":"SpellNumber((AI20))","v":"No Dollars and No Cents"},3,"No "]
["00:00:00",null,null,null,null,0,null,null,0,null,null,{"$f":"IFERROR(VLOOKUP(K21,$AD$7:AE23,2,FALSE),0)","v":0},null,null,0,null,null,null,null,null,null,null,"Con",null,"Bx Frequency Per Day",null,null,null,null,null,null,null,"00:00:00","00:00:00",0,{"$f":"SpellNumber((AI21))","v":"No Dollars and No Cents"},3,"No "]
["00:00:00",null,null,null,null,0,null,null,0,null,null,{"$f":"IFERROR(VLOOKUP(K22,$AD$7:AE24,2,FALSE),0)","v":0},null,null,0,null,null,null,null,null,null,"A",{"$f":"Criteria!I4","v":"Choice Given"},"A",{"$f":"COUNTIF(K7:K104,\"A\")","v":0},null,{"$f":"SUM(Y22:Y24)","v":0},null,"Bin Dec","Frequency of Time",null,null,"00:00:00","00:00:00",0,{"$f":"SpellNumber((AI22))","v":"No Dollars and No Cents"},3,"No "]
["00:00:00",null,null,null,null,0,null,null,0,null,null,{"$f":"IFERROR(VLOOKUP(K23,$AD$7:AE25,2,FALSE),0)","v":0},null,null,0,null,null,null,null,null,null,"B",{"$f":"Criteria!I5","v":"Ignored"},"B",{"$f":"COUNTIF(K7:K104,\"B\")","v":0},null,null,null,"Seven",{"$f":"COUNTIF(AL7:AL104,\"*Seven*\")","v":0},null,null,"00:00:00","00:00:00",0,{"$f":"SpellNumber((AI23))","v":"No Dollars and No Cents"},3,"No "]
["00:00:00",null,null,null,null,0,null,null,0,null,null,{"$f":"IFERROR(VLOOKUP(K24,$AD$7:AE26,2,FALSE),0)","v":0},null,null,0,null,null,null,null,null,null,"C",{"$f":"Criteria!I6","v":"Redirection"},"C",{"$f":"COUNTIF(K7:K104,\"C\")","v":0},null,null,null,"Eight",{"$f":"COUNTIF(AL7:AL104,\"*Eight*\")","v":0},null,null,"00:00:00","00:00:00",0,{"$f":"SpellNumber((AI24))","v":"No Dollars and No Cents"},3,"No "]
["00:00:00",null,null,null,null,0,null,null,0,null,null,{"$f":"IFERROR(VLOOKUP(K25,$AD$7:AE27,2,FALSE),0)","v":0},null,null,0,null,null,null,null,null,null,"D",{"$f":"Criteria!I7","v":"Kept the demand"},null,"Bx Druation Per Day",null,null,null,"Nine",{"$f":"COUNTIF(AL7:AL104,\"*Nine*\")","v":0},null,null,"00:00:00","00:00:00",0,{"$f":"SpellNumber((AI25))","v":"No Dollars and No Cents"},3,"No "]
["00:00:00",null,null,null,null,0,null,null,0,null,null,{"$f":"IFERROR(VLOOKUP(K26,$AD$7:AE28,2,FALSE),0)","v":0},null,null,0,null,null,null,null,null,null,"E",{"$f":"Criteria!I8","v":"Changed activity"},"A",{"$f":"SUMIF(K7:K104,\"A\",A7:A104)","v":"00:00:00"},null,null,null,"Ten",{"$f":"COUNTIF(AL7:AL12,\"*Ten*\")","v":0},null,null,"00:00:00","00:00:00",0,{"$f":"SpellNumber((AI26))","v":"No Dollars and No Cents"},3,"No "]
["00:00:00",null,null,null,null,0,null,null,0,null,null,{"$f":"IFERROR(VLOOKUP(K27,$AD$7:AE29,2,FALSE),0)","v":0},null,null,0,null,null,null,null,null,null,"F",{"$f":"Criteria!I9","v":"Verbal reprimand"},"B",{"$f":"SUMIF(K7:K104,\"B\",A7:A104)","v":"00:00:00"},null,null,null,"Eleven",{"$f":"COUNTIF(AL7:AL104,\"*Eleven*\")","v":0},null,null,"00:00:00","00:00:00",0,{"$f":"SpellNumber((AI27))","v":"No Dollars and No Cents"},3,"No "]
["00:00:00",null,null,null,null,0,null,null,0,null,null,{"$f":"IFERROR(VLOOKUP(K28,$AD$7:AE30,2,FALSE),0)","v":0},null,null,0,null,null,null,null,null,null,"G",{"$f":"Criteria!I10","v":"Told to wait"},"C",{"$f":"SUMIF(K7:K104,\"C\",A7:A104)","v":"00:00:00"},null,null,null,"Twelve",{"$f":"COUNTIF(AL7:AL104,\"*Twelve*\")","v":0},null,null,"00:00:00","00:00:00",0,{"$f":"SpellNumber((AI28))","v":"No Dollars and No Cents"},3,"No "]
["00:00:00",null,null,null,null,0,null,null,0,null,null,{"$f":"IFERROR(VLOOKUP(K29,$AD$7:AE31,2,FALSE),0)","v":0},null,null,0,null,null,null,null,null,null,"H",{"$f":"Criteria!I11","v":"Physical Prompt"},null,null,null,null,null,"One",{"$f":"COUNTIF(AL7:AL104,\"*One*\")","v":0},null,null,"00:00:00","00:00:00",0,{"$f":"SpellNumber((AI29))","v":"No Dollars and No Cents"},3,"No "]
["00:00:00",null,null,null,null,0,null,null,0,null,null,{"$f":"IFERROR(VLOOKUP(K30,$AD$7:AE32,2,FALSE),0)","v":0},null,null,0,null,null,null,null,null,null,"I",{"$f":"Criteria!I12","v":"Verbal prompt"},null,null,null,null,null,"Two",{"$f":"COUNTIF(AL7:AL104,\"*Two*\")","v":0},null,null,"00:00:00","00:00:00",0,{"$f":"SpellNumber((AI30))","v":"No Dollars and No Cents"},3,"No "]
["00:00:00",null,null,null,null,0,null,null,0,null,null,{"$f":"IFERROR(VLOOKUP(K31,$AD$7:AE33,2,FALSE),0)","v":0},null,null,0,null,null,null,null,null,null,"J",{"$f":"Criteria!I13","v":"Told to wait"},null,null,null,null,null,"Three",{"$f":"COUNTIF(AL7:AL104,\"*Three*\")","v":0},null,null,"00:00:00","00:00:00",0,{"$f":"SpellNumber((AI31))","v":"No Dollars and No Cents"},3,"No "]
["00:00:00",null,null,null,null,0,null,null,0,null,null,{"$f":"IFERROR(VLOOKUP(K32,$AD$7:AE34,2,FALSE),0)","v":0},null,null,0,null,null,null,null,null,null,"K",{"$f":"Criteria!I14","v":"Unknown"},null,null,null,null,null,"Four",{"$f":"COUNTIF(AL7:AL104,\"*Four*\")","v":0},null,null,"00:00:00","00:00:00",0,{"$f":"SpellNumber((AI32))","v":"No Dollars and No Cents"},3,"No "]
["00:00:00",null,null,null,null,0,null,null,0,null,null,{"$f":"IFERROR(VLOOKUP(K33,$AD$7:AE35,2,FALSE),0)","v":0},null,null,0,null,null,null,null,null,null,"L",{"$f":"Criteria!I15","v":"Other"},null,null,null,null,null,null,null,null,null,"00:00:00","00:00:00",0,{"$f":"SpellNumber((AI33))","v":"No Dollars and No Cents"},3,"No "]
["00:00:00",null,null,null,null,0,null,null,0,null,null,{"$f":"IFERROR(VLOOKUP(K34,$AD$7:AE36,2,FALSE),0)","v":0},null,null,0,null,null,null,null,null,null,null,null,null,null,null,null,null,null,null,null,null,"00:00:00","00:00:00",0,{"$f":"SpellNumber((AI34))","v":"No Dollars and No Cents"},3,"No "]
["00:00:00",null,null,null,null,0,null,null,0,null,null,{"$f":"IFERROR(VLOOKUP(K35,$AD$7:AE37,2,FALSE),0)","v":0},null,null,0,null,null,null,null,null,null,null,"Context Frequency","Consequence","Antedencents",null,null,null,null,null,null,null,"00:00:00","00:00:00",0,{"$f":"SpellNumber((AI35))","v":"No Dollars and No Cents"},3,"No "]
["00:00:00",null,null,null,null,0,null,null,0,null,null,{"$f":"IFERROR(VLOOKUP(K36,$AD$7:AE38,2,FALSE),0)","v":0},null,null,0,null,null,null,null,null,null,"A",{"$f":"COUNTIF(E7:E104,\"A\")","v":0},{"$f":"COUNTIF(N7:N104,\"A\")","v":0},{"$f":"COUNTIF(H7:H104,\"A\")","v":0},null,null,null,null,null,null,null,"00:00:00","00:00:00",0,{"$f":"SpellNumber((AI36))","v":"No Dollars and No Cents"},3,"No "]
["00:00:00",null,null,null,null,0,null,null,0,null,null,{"$f":"IFERROR(VLOOKUP(K37,$AD$7:AE39,2,FALSE),0)","v":0},null,null,0,null,null,null,null,null,null,"B",{"$f":"COUNTIF(E8:E105,\"B\")","v":0},{"$f":"COUNTIF(N7:N104,\"B\")","v":0},{"$f":"COUNTIF(H7:H104,\"B\")","v":0},null,null,null,null,null,null,null,"00:00:00","00:00:00",0,{"$f":"SpellNumber((AI37))","v":"No Dollars and No Cents"},3,"No "]
["00:00:00",null,null,null,null,0,null,null,0,null,null,{"$f":"IFERROR(VLOOKUP(K38,$AD$7:AE40,2,FALSE),0)","v":0},null,null,0,null,null,null,null,null,null,"C",{"$f":"COUNTIF(E8:E105,\"C\")","v":0},{"$f":"COUNTIF(N7:N104,\"C\")","v":0},{"$f":"COUNTIF(H7:H104,\"C\")","v":0},null,null,null,null,null,null,null,"00:00:00","00:00:00",0,{"$f":"SpellNumber((AI38))","v":"No Dollars and No Cents"},3,"No "]
["00:00:00",null,null,null,null,0,null,null,0,null,null,{"$f":"IFERROR(VLOOKUP(K39,$AD$7:AE41,2,FALSE),0)","v":0},null,null,0,null,null,null,null,null,null,"D",{"$f":"COUNTIF(E8:E105,\"D\")","v":0},{"$f":"COUNTIF(N7:N104,\"D\")","v":0},{"$f":"COUNTIF(H7:H104,\"D\")","v":0},null,null,null,null,null,null,null,"00:00:00","00:00:00",0,{"$f":"SpellNumber((AI39))","v":"No Dollars and No Cents"},3,"No "]
["00:00:00",null,null,null,null,0,null,null,0,null,null,{"$f":"IFERROR(VLOOKUP(K40,$AD$7:AE42,2,FALSE),0)","v":0},null,null,0,null,null,null,null,null,null,"E",{"$f":"COUNTIF(E8:E105,\"E\")","v":0},{"$f":"COUNTIF(N7:N104,\"E\")","v":0},{"$f":"COUNTIF(H7:H104,\"E\")","v":0},null,null,null,null,null,null,null,"00:00:00","00:00:00",0,{"$f":"SpellNumber((AI40))","v":"No Dollars and No Cents"},3,"No "]
["00:00:00",null,null,null,null,0,null,null,0,null,null,{"$f":"IFERROR(VLOOKUP(K41,$AD$7:AE43,2,FALSE),0)","v":0},null,null,0,null,null,null,null,null,null,"F",{"$f":"COUNTIF(E8:E105,\"F\")","v":0},{"$f":"COUNTIF(N7:N104,\"F\")","v":0},{"$f":"COUNTIF(H7:H104,\"F\")","v":0},null,null,null,null,null,null,null,"00:00:00","00:00:00",0,{"$f":"SpellNumber((AI41))","v":"No Dollars and No Cents"},3,"No "]
["00:00:00",null,null,null,null,0,null,null,0,null,null,{"$f":"IFERROR(VLOOKUP(K42,$AD$7:AE44,2,FALSE),0)","v":0},null,null,0,null,null,null,null,null,null,"G",{"$f":"COUNTIF(E8:E105,\"G\")","v":0},{"$f":"COUNTIF(N7:N104,\"G\")","v":0},{"$f":"COUNTIF(H7:H104,\"G\")","v":0},null,null,null,null,null,null,null,"00:00:00","00:00:00",0,{"$f":"SpellNumber((AI42))","v":"No Dollars and No Cents"},3,"No "]
["00:00:00",null,null,null,null,0,null,null,0,null,null,{"$f":"IFERROR(VLOOKUP(K43,$AD$7:AE45,2,FALSE),0)","v":0},null,null,0,null,null,null,null,null,null,"H",{"$f":"COUNTIF(E8:E105,\"H\")","v":0},{"$f":"COUNTIF(N7:N104,\"H\")","v":0},{"$f":"COUNTIF(H7:H104,\"H\")","v":0},null,null,null,null,null,null,null,"00:00:00","00:00:00",0,{"$f":"SpellNumber((AI43))","v":"No Dollars and No Cents"},3,"No "]
["00:00:00",null,null,null,null,0,null,null,0,null,null,{"$f":"IFERROR(VLOOKUP(K44,$AD$7:AE46,2,FALSE),0)","v":0},null,null,0,null,null,null,null,null,null,"I",{"$f":"COUNTIF(E8:E105,\"I\")","v":0},{"$f":"COUNTIF(N7:N104,\"I\")","v":0},{"$f":"COUNTIF(H7:H104,\"I\")","v":0},null,null,null,null,null,null,null,"00:00:00","00:00:00",0,{"$f":"SpellNumber((AI44))","v":"No Dollars and No Cents"},3,"No "]
["00:00:00",null,null,null,null,0,null,null,0,null,null,{"$f":"IFERROR(VLOOKUP(K45,$AD$7:AE47,2,FALSE),0)","v":0},null,null,0,null,null,null,null,null,null,"J",{"$f":"COUNTIF(E8:E105,\"J\")","v":0},{"$f":"COUNTIF(N7:N104,\"J\")","v":0},{"$f":"COUNTIF(H7:H104,\"J\")","v":0},null,null,null,null,null,null,null,"00:00:00","00:00:00",0,{"$f":"SpellNumber((AI45))","v":"No Dollars and No Cents"},3,"No "]
["00:00:00",null,null,null,null,0,null,null,0,null,null,{"$f":"IFERROR(VLOOKUP(K46,$AD$7:AE48,2,FALSE),0)","v":0},null,null,0,null,null,null,null,null,null,"K",{"$f":"COUNTIF(E8:E105,\"K\")","v":0},{"$f":"COUNTIF(N7:N104,\"K\")","v":0},{"$f":"COUNTIF(H7:H104,\"K\")","v":0},null,null,null,null,null,null,null,"00:00:00","00:00:00",0,{"$f":"SpellNumber((AI46))","v":"No Dollars and No Cents"},3,"No "]
["00:00:00",null,null,null,null,0,null,null,0,null,null,{"$f":"IFERROR(VLOOKUP(K47,$AD$7:AE49,2,FALSE),0)","v":0},null,null,0,null,null,null,null,null,null,"L",{"$f":"COUNTIF(E8:E105,\"l\")","v":0},{"$f":"COUNTIF(N7:N104,\"L\")","v":0},{"$f":"COUNTIF(H7:H104,\"L\")","v":0},null,null,null,null,null,null,null,"00:00:00","00:00:00",0,{"$f":"SpellNumber((AI47))","v":"No Dollars and No Cents"},3,"No "]
["00:00:00",null,null,null,null,0,null,null,0,null,null,{"$f":"IFERROR(VLOOKUP(K48,$AD$7:AE50,2,FALSE),0)","v":0},null,null,0,null,null,null,null,null,null,null,null,null,null,null,null,null,null,null,null,null,"00:00:00","00:00:00",0,{"$f":"SpellNumber((AI48))","v":"No Dollars and No Cents"},3,"No "]
["00:00:00",null,null,null,null,0,null,null,0,null,null,{"$f":"IFERROR(VLOOKUP(K49,$AD$7:AE51,2,FALSE),0)","v":0},null,null,0,null,null,null,null,null,null,null,"Beh & Setting ",null,null,null,"Beh & Antecedents",null,null,null,null,null,"00:00:00","00:00:00",0,{"$f":"SpellNumber((AI49))","v":"No Dollars and No Cents"},3,"No "]
["00:00:00",null,null,null,null,0,null,null,0,null,null,{"$f":"IFERROR(VLOOKUP(K50,$AD$7:AE52,2,FALSE),0)","v":0},null,null,0,null,null,null,null,null,null,null,"A","B","C",null,null,"A","B","C",null,null,"00:00:00","00:00:00",0,{"$f":"SpellNumber((AI50))","v":"No Dollars and No Cents"},3,"No "]
["00:00:00",null,null,null,null,0,null,null,0,null,null,{"$f":"IFERROR(VLOOKUP(K51,$AD$7:AE53,2,FALSE),0)","v":0},null,null,0,null,null,null,null,null,null,"A",{"$f":"COUNTIFS(E7:E104,\"A\",K7:K104,\"A\")","v":0},{"$f":"COUNTIFS(E7:E104,\"A\",K7:K104,\"B\")","v":0},{"$f":"COUNTIFS(E7:E104,\"A\",K7:K104,\"C\")","v":0},null,"A",{"$f":"COUNTIFS(H7:H104,\"a\",K7:K104,\"A\")","v":0},{"$f":"COUNTIFS(H7:H104,\"A\",K7:K104,\"B\")","v":0},{"$f":"COUNTIFS(H7:H104,\"A\",K7:K104,\"C\")","v":0},null,null,"00:00:00","00:00:00",0,{"$f":"SpellNumber((AI51))","v":"No Dollars and No Cents"},3,"No "]
["00:00:00",null,null,null,null,0,null,null,0,null,null,{"$f":"IFERROR(VLOOKUP(K52,$AD$7:AE54,2,FALSE),0)","v":0},null,null,0,null,null,null,null,null,null,"B",{"$f":"COUNTIFS(E7:E104,\"B\",K7:K104,\"A\")","v":0},{"$f":"COUNTIFS(E7:E104,\"B\",K7:K104,\"B\")","v":0},{"$f":"COUNTIFS(E7:E104,\"B\",K7:K104,\"C\")","v":0},null,"B",{"$f":"COUNTIFS(H7:H104,\"B\",K7:K104,\"A\")","v":0},{"$f":"COUNTIFS(H7:H104,\"B\",K7:K104,\"B\")","v":0},{"$f":"COUNTIFS(H7:H104,\"B\",K7:K104,\"C\")","v":0},null,null,"00:00:00","00:00:00",0,{"$f":"SpellNumber((AI52))","v":"No Dollars and No Cents"},3,"No "]
["00:00:00",null,null,null,null,0,null,null,0,null,null,{"$f":"IFERROR(VLOOKUP(K53,$AD$7:AE55,2,FALSE),0)","v":0},null,null,0,null,null,null,null,null,null,"C",{"$f":"COUNTIFS(K7:K104,\"C\",K7:K104,\"A\")","v":0},{"$f":"COUNTIFS(E7:E104,\"C\",K7:K104,\"B\")","v":0},{"$f":"COUNTIFS(E7:E104,\"C\",K7:K104,\"C\")","v":0},null,"C",{"$f":"COUNTIFS(H7:H104,\"C\",K7:K104,\"A\")","v":0},{"$f":"COUNTIFS(H7:H104,\"C\",K7:K104,\"B\")","v":0},{"$f":"COUNTIFS(H7:H104,\"C\",K7:K104,\"C\")","v":0},null,null,"00:00:00","00:00:00",0,{"$f":"SpellNumber((AI53))","v":"No Dollars and No Cents"},3,"No "]
["00:00:00",null,null,null,null,0,null,null,0,null,null,{"$f":"IFERROR(VLOOKUP(K54,$AD$7:AE56,2,FALSE),0)","v":0},null,null,0,null,null,null,null,null,null,"D",{"$f":"COUNTIFS(E7:E104,\"D\",K7:K104,\"A\")","v":0},{"$f":"COUNTIFS(E7:E104,\"D\",K7:K104,\"B\")","v":0},{"$f":"COUNTIFS(E7:E104,\"D\",K7:K104,\"C\")","v":0},null,"D",{"$f":"COUNTIFS(H7:H104,\"D\",K7:K104,\"A\")","v":0},{"$f":"COUNTIFS(H7:H104,\"D\",K7:K104,\"B\")","v":0},{"$f":"COUNTIFS(H7:H104,\"D\",K7:K104,\"C\")","v":0},null,null,"00:00:00","00:00:00",0,{"$f":"SpellNumber((AI54))","v":"No Dollars and No Cents"},3,"No "]
["00:00:00",null,null,null,null,0,null,null,0,null,null,{"$f":"IFERROR(VLOOKUP(K55,$AD$7:AE57,2,FALSE),0)","v":0},null,null,0,null,null,null,null,null,null,"E",{"$f":"COUNTIFS(E7:E104,\"E\",K7:K104,\"A\")","v":0},{"$f":"COUNTIFS(E7:E104,\"E\",K7:K104,\"B\")","v":0},{"$f":"COUNTIFS(E7:E104,\"E\",K7:K104,\"C\")","v":0},null,"E",{"$f":"COUNTIFS(H7:H104,\"E\",K7:K104,\"A\")","v":0},{"$f":"COUNTIFS(H7:H104,\"E\",K7:K104,\"B\")","v":0},{"$f":"COUNTIFS(H7:H104,\"E\",K7:K104,\"C\")","v":0},null,null,"00:00:00","00:00:00",0,{"$f":"SpellNumber((AI55))","v":"No Dollars and No Cents"},3,"No "]
["00:00:00",null,null,null,null,0,null,null,0,null,null,{"$f":"IFERROR(VLOOKUP(K56,$AD$7:AE58,2,FALSE),0)","v":0},null,null,0,null,null,null,null,null,null,"F",{"$f":"COUNTIFS(E7:E104,\"F\",K7:K104,\"A\")","v":0},{"$f":"COUNTIFS(E7:E104,\"F\",K7:K104,\"B\")","v":0},{"$f":"COUNTIFS(E7:E104,\"F\",K7:K104,\"C\")","v":0},null,"F",{"$f":"COUNTIFS(H7:H104,\"F\",K7:K104,\"A\")","v":0},{"$f":"COUNTIFS(H7:H104,\"F\",K7:K104,\"B\")","v":0},{"$f":"COUNTIFS(H7:H104,\"F\",K7:K104,\"C\")","v":0},null,null,"00:00:00","00:00:00",0,{"$f":"SpellNumber((AI56))","v":"No Dollars and No Cents"},3,"No "]
["00:00:00",null,null,null,null,0,null,null,0,null,null,{"$f":"IFERROR(VLOOKUP(K57,$AD$7:AE59,2,FALSE),0)","v":0},null,null,0,null,null,null,null,null,null,"G",{"$f":"COUNTIFS(E7:E104,\"G\",K7:K104,\"A\")","v":0},{"$f":"COUNTIFS(E7:E104,\"G\",K7:K104,\"B\")","v":0},{"$f":"COUNTIFS(E7:E104,\"G\",K7:K104,\"C\")","v":0},null,"G",{"$f":"COUNTIFS(H7:H104,\"G\",K7:K104,\"A\")","v":0},{"$f":"COUNTIFS(H7:H104,\"G\",K7:K104,\"B\")","v":0},{"$f":"COUNTIFS(H7:H104,\"G\",K7:K104,\"C\")","v":0},null,null,"00:00:00","00:00:00",0,{"$f":"SpellNumber((AI57))","v":"No Dollars and No Cents"},3,"No "]
["00:00:00",null,null,null,null,0,null,null,0,null,null,{"$f":"IFERROR(VLOOKUP(K58,$AD$7:AE60,2,FALSE),0)","v":0},null,null,0,null,null,null,null,null,null,"H",{"$f":"COUNTIFS(E7:E104,\"H\",K7:K104,\"A\")","v":0},{"$f":"COUNTIFS(E7:E104,\"H\",K7:K104,\"B\")","v":0},{"$f":"COUNTIFS(E7:E104,\"H\",K7:K104,\"C\")","v":0},null,"H",{"$f":"COUNTIFS(H7:H104,\"H\",K7:K104,\"A\")","v":0},{"$f":"COUNTIFS(H7:H104,\"H\",K7:K104,\"B\")","v":0},{"$f":"COUNTIFS(H7:H104,\"H\",K7:K104,\"C\")","v":0},null,null,"00:00:00","00:00:00",0,{"$f":"SpellNumber((AI58))","v":"No Dollars and No Cents"},3,"No "]
["00:00:00",null,null,null,null,0,null,null,0,null,null,{"$f":"IFERROR(VLOOKUP(K59,$AD$7:AE61,2,FALSE),0)","v":0},null,null,0,null,null,null,null,null,null,"I",{"$f":"COUNTIFS(E7:E104,\"I\",K7:K104,\"A\")","v":0},{"$f":"COUNTIFS(E7:E104,\"I\",K7:K104,\"B\")","v":0},{"$f":"COUNTIFS(E7:E104,\"I\",K7:K104,\"C\")","v":0},null,"I",{"$f":"COUNTIFS(H7:H104,\"I\",K7:K104,\"A\")","v":0},{"$f":"COUNTIFS(H7:H104,\"I\",K7:K104,\"B\")","v":0},{"$f":"COUNTIFS(H7:H104,\"I\",K7:K104,\"C\")","v":0},null,null,"00:00:00","00:00:00",0,{"$f":"SpellNumber((AI59))","v":"No Dollars and No Cents"},3,"No "]
["00:00:00",null,null,null,null,0,null,null,0,null,null,{"$f":"IFERROR(VLOOKUP(K60,$AD$7:AE62,2,FALSE),0)","v":0},null,null,0,null,null,null,null,null,null,"J",{"$f":"COUNTIFS(E7:E104,\"J\",K7:K104,\"A\")","v":0},{"$f":"COUNTIFS(E7:E104,\"J\",K7:K104,\"B\")","v":0},{"$f":"COUNTIFS(E7:E104,\"J\",K7:K104,\"C\")","v":0},null,"J",{"$f":"COUNTIFS(H7:H104,\"J\",K7:K104,\"A\")","v":0},{"$f":"COUNTIFS(H7:H104,\"J\",K7:K104,\"B\")","v":0},{"$f":"COUNTIFS(H7:H104,\"J\",K7:K104,\"C\")","v":0},null,null,"00:00:00","00:00:00",0,{"$f":"SpellNumber((AI60))","v":"No Dollars and No Cents"},3,"No "]
["00:00:00",null,null,null,null,0,null,null,0,null,null,{"$f":"IFERROR(VLOOKUP(K61,$AD$7:AE63,2,FALSE),0)","v":0},null,null,0,null,null,null,null,null,null,"K",{"$f":"COUNTIFS(E7:E104,\"K\",K7:K104,\"A\")","v":0},{"$f":"COUNTIFS(E7:E104,\"K\",K7:K104,\"B\")","v":0},{"$f":"COUNTIFS(E7:E104,\"K\",K7:K104,\"C\")","v":0},null,"K",{"$f":"COUNTIFS(H7:H104,\"K\",K7:K104,\"A\")","v":0},{"$f":"COUNTIFS(H7:H104,\"K\",K7:K104,\"B\")","v":0},{"$f":"COUNTIFS(H7:H104,\"K\",K7:K104,\"C\")","v":0},null,null,"00:00:00","00:00:00",0,{"$f":"SpellNumber((AI61))","v":"No Dollars and No Cents"},3,"No "]
["00:00:00",null,null,null,null,0,null,null,0,null,null,{"$f":"IFERROR(VLOOKUP(K62,$AD$7:AE64,2,FALSE),0)","v":0},null,null,0,null,null,null,null,null,null,"L",{"$f":"COUNTIFS(E7:E104,\"L\",K7:K104,\"A\")","v":0},{"$f":"COUNTIFS(E7:E104,\"L\",K7:K104,\"B\")","v":0},{"$f":"COUNTIFS(E7:E104,\"L\",K7:K104,\"C\")","v":0},null,"L",{"$f":"COUNTIFS(H7:H104,\"L\",K7:K104,\"A\")","v":0},{"$f":"COUNTIFS(H7:H104,\"L\",K7:K104,\"B\")","v":0},{"$f":"COUNTIFS(H7:H104,\"L\",K7:K104,\"C\")","v":0},null,null,"00:00:00","00:00:00",0,{"$f":"SpellNumber((AI62))","v":"No Dollars and No Cents"},3,"No "]
["00:00:00",null,null,null,null,0,null,null,0,null,null,{"$f":"IFERROR(VLOOKUP(K63,$AD$7:AE65,2,FALSE),0)","v":0},null,null,0,null,null,null,null,null,null,null,"Beh & Consequences",null,null,null,null,null,null,null,null,null,"00:00:00","00:00:00",0,{"$f":"SpellNumber((AI63))","v":"No Dollars and No Cents"},3,"No "]
["00:00:00",null,null,null,null,0,null,null,0,null,null,{"$f":"IFERROR(VLOOKUP(K64,$AD$7:AE66,2,FALSE),0)","v":0},null,null,0,null,null,null,null,null,null,null,"A","B","C",null,null,null,null,null,null,null,"00:00:00","00:00:00",0,{"$f":"SpellNumber((AI64))","v":"No Dollars and No Cents"},3,"No "]
["00:00:00",null,null,null,null,0,null,null,0,null,null,{"$f":"IFERROR(VLOOKUP(K65,$AD$7:AE67,2,FALSE),0)","v":0},null,null,0,null,null,null,null,null,null,"A",{"$f":"COUNTIFS(N7:N104,\"A\",K7:K104,\"A\")","v":0},{"$f":"COUNTIFS(N7:N104,\"A\",K7:K104,\"B\")","v":0},{"$f":"COUNTIFS(N7:N104,\"A\",K7:K104,\"C\")","v":0},null,null,null,null,null,null,null,"00:00:00","00:00:00",0,{"$f":"SpellNumber((AI65))","v":"No Dollars and No Cents"},3,"No "]
["00:00:00",null,null,null,null,0,null,null,0,null,null,{"$f":"IFERROR(VLOOKUP(K66,$AD$7:AE68,2,FALSE),0)","v":0},null,null,0,null,null,null,null,null,null,"B",{"$f":"COUNTIFS(N7:N104,\"B\",K7:K104,\"A\")","v":0},{"$f":"COUNTIFS(N7:N104,\"B\",K7:K104,\"B\")","v":0},{"$f":"COUNTIFS(N7:N104,\"B\",K7:K104,\"C\")","v":0},null,null,null,null,null,null,null,"00:00:00","00:00:00",0,{"$f":"SpellNumber((AI66))","v":"No Dollars and No Cents"},3,"No "]
["00:00:00",null,null,null,null,0,null,null,0,null,null,{"$f":"IFERROR(VLOOKUP(K67,$AD$7:AE69,2,FALSE),0)","v":0},null,null,0,null,null,null,null,null,null,"C",{"$f":"COUNTIFS(N7:N104,\"C\",K7:K104,\"A\")","v":0},{"$f":"COUNTIFS(N7:N104,\"C\",K7:K104,\"B\")","v":0},{"$f":"COUNTIFS(N7:N104,\"C\",K7:K104,\"C\")","v":0},null,null,null,null,null,null,null,"00:00:00","00:00:00",0,{"$f":"SpellNumber((AI67))","v":"No Dollars and No Cents"},3,"No "]
["00:00:00",null,null,null,null,0,null,null,0,null,null,{"$f":"IFERROR(VLOOKUP(K68,$AD$7:AE70,2,FALSE),0)","v":0},null,null,0,null,null,null,null,null,null,"D",{"$f":"COUNTIFS(N7:N104,\"D\",K7:K104,\"A\")","v":0},{"$f":"COUNTIFS(N7:N104,\"D\",K7:K104,\"B\")","v":0},{"$f":"COUNTIFS(N7:N104,\"D\",K7:K104,\"C\")","v":0},null,null,null,null,null,null,null,"00:00:00","00:00:00",0,{"$f":"SpellNumber((AI68))","v":"No Dollars and No Cents"},3,"No "]
["00:00:00",null,null,null,null,0,null,null,0,null,null,{"$f":"IFERROR(VLOOKUP(K69,$AD$7:AE71,2,FALSE),0)","v":0},null,null,0,null,null,null,null,null,null,"E",{"$f":"COUNTIFS(N7:N104,\"E\",K7:K104,\"A\")","v":0},{"$f":"COUNTIFS(N7:N104,\"E\",K7:K104,\"B\")","v":0},{"$f":"COUNTIFS(N7:N104,\"E\",K7:K104,\"C\")","v":0},null,null,null,null,null,null,null,"00:00:00","00:00:00",0,{"$f":"SpellNumber((AI69))","v":"No Dollars and No Cents"},3,"No "]
["00:00:00",null,null,null,null,0,null,null,0,null,null,{"$f":"IFERROR(VLOOKUP(K70,$AD$7:AE72,2,FALSE),0)","v":0},null,null,0,null,null,null,null,null,null,"F",{"$f":"COUNTIFS(N7:N104,\"F\",K7:K104,\"A\")","v":0},{"$f":"COUNTIFS(N7:N104,\"F\",K7:K104,\"B\")","v":0},{"$f":"COUNTIFS(N7:N104,\"F\",K7:K104,\"C\")","v":0},null,null,null,null,null,null,null,"00:00:00","00:00:00",0,{"$f":"SpellNumber((AI70))","v":"No Dollars and No Cents"},3,"No "]
["00:00:00",null,null,null,null,0,null,null,0,null,null,{"$f":"IFERROR(VLOOKUP(K71,$AD$7:AE73,2,FALSE),0)","v":0},null,null,0,null,null,null,null,null,null,"G",{"$f":"COUNTIFS(N7:N104,\"G\",K7:K104,\"A\")","v":0},{"$f":"COUNTIFS(N7:N104,\"G\",K7:K104,\"B\")","v":0},{"$f":"COUNTIFS(N7:N104,\"G\",K7:K104,\"C\")","v":0},null,null,null,null,null,null,null,"00:00:00","00:00:00",0,{"$f":"SpellNumber((AI71))","v":"No Dollars and No Cents"},3,"No "]
[{"$f":"C72-B72","v":"00:00:00"},null,null,null,null,0,null,null,{"$f":"IFERROR(VLOOKUP(H72,$Z$7:$AA$18,2,FALSE),0)","v":0},null,null,{"$f":"IFERROR(VLOOKUP(K72,$AD$7:AE74,2,FALSE),0)","v":0},null,null,{"$f":"IFERROR(VLOOKUP(N72,$V$22:$W$33,2,FALSE),0)","v":0},null,null,null,null,null,null,"H",{"$f":"COUNTIFS(N7:N104,\"H\",K7:K104,\"A\")","v":0},{"$f":"COUNTIFS(N7:N104,\"H\",K7:K104,\"B\")","v":0},{"$f":"COUNTIFS(N7:N104,\"H\",K7:K104,\"C\")","v":0},null,null,null,null,null,null,null,{"$f":"B72","v":"00:00:00"},{"$f":"TEXT(AG72,\"hh:mm:ss\")","v":"00:00:00"},{"$f":"AG72*24","v":0},{"$f":"SpellNumber((AI72))","v":"No Dollars and No Cents"},{"$f":"FIND(\" Dollar\",AJ72)","v":3},{"$f":"LEFT(AJ72,AK72)","v":"No "}]
["00:00:00",null,null,null,null,{"$f":"IFERROR(VLOOKUP(E73,$V$7:$W$18,2,FALSE),0)","v":0},null,null,0,null,null,{"$f":"IFERROR(VLOOKUP(K73,$AD$7:AE75,2,FALSE),0)","v":0},null,null,0,null,null,null,null,null,null,"I",{"$f":"COUNTIFS(N7:N104,\"I\",K7:K104,\"A\")","v":0},{"$f":"COUNTIFS(N7:N104,\"I\",K7:K104,\"B\")","v":0},{"$f":"COUNTIFS(N7:N104,\"I\",K7:K104,\"C\")","v":0},null,null,null,null,null,null,null,"00:00:00","00:00:00",0,{"$f":"SpellNumber((AI73))","v":"No Dollars and No Cents"},3,"No "]
["00:00:00",null,null,null,null,0,null,null,0,null,null,{"$f":"IFERROR(VLOOKUP(K74,$AD$7:AE76,2,FALSE),0)","v":0},null,null,0,null,null,null,null,null,null,"J",{"$f":"COUNTIFS(N7:N104,\"J\",K7:K104,\"A\")","v":0},{"$f":"COUNTIFS(N7:N104,\"J\",K7:K104,\"B\")","v":0},{"$f":"COUNTIFS(N7:N104,\"J\",K7:K104,\"C\")","v":0},null,null,null,null,null,null,null,"00:00:00","00:00:00",0,{"$f":"SpellNumber((AI74))","v":"No Dollars and No Cents"},3,"No "]
["00:00:00",null,null,null,null,0,null,null,0,null,null,{"$f":"IFERROR(VLOOKUP(K75,$AD$7:AE77,2,FALSE),0)","v":0},null,null,0,null,null,null,null,null,null,"K",{"$f":"COUNTIFS(N7:N104,\"K\",K7:K104,\"A\")","v":0},{"$f":"COUNTIFS(N7:N104,\"K\",K7:K104,\"B\")","v":0},{"$f":"COUNTIFS(N7:N104,\"K\",K7:K104,\"C\")","v":0},null,null,null,null,null,null,null,"00:00:00","00:00:00",0,{"$f":"SpellNumber((AI75))","v":"No Dollars and No Cents"},3,"No "]
["00:00:00",null,null,null,null,0,null,null,0,null,null,{"$f":"IFERROR(VLOOKUP(K76,$AD$7:AE78,2,FALSE),0)","v":0},null,null,0,null,null,null,null,null,null,"L",{"$f":"COUNTIFS(N7:N104,\"L\",K7:K104,\"A\")","v":0},{"$f":"COUNTIFS(N7:N104,\"L\",K7:K104,\"B\")","v":0},{"$f":"COUNTIFS(N7:N104,\"L\",K7:K104,\"C\")","v":0},null,null,null,null,null,null,null,"00:00:00","00:00:00",0,{"$f":"SpellNumber((AI76))","v":"No Dollars and No Cents"},3,"No "]
["00:00:00",null,null,null,null,0,null,null,0,null,null,{"$f":"IFERROR(VLOOKUP(K77,$AD$7:AE79,2,FALSE),0)","v":0},null,null,0,null,null,null,null,null,null,null,null,null,null,null,null,null,null,null,null,null,"00:00:00","00:00:00",0,{"$f":"SpellNumber((AI77))","v":"No Dollars and No Cents"},3,"No "]
["00:00:00",null,null,null,null,0,null,null,0,null,null,{"$f":"IFERROR(VLOOKUP(K78,$AD$7:AE80,2,FALSE),0)","v":0},null,null,0,null,null,null,null,null,null,null,null,null,null,null,null,null,null,null,null,null,"00:00:00","00:00:00",0,{"$f":"SpellNumber((AI78))","v":"No Dollars and No Cents"},3,"No "]
["00:00:00",null,null,null,null,0,null,null,0,null,null,{"$f":"IFERROR(VLOOKUP(K79,$AD$7:AE81,2,FALSE),0)","v":0},null,null,0,null,null,null,null,null,null,null,null,null,null,null,null,null,null,null,null,null,"00:00:00","00:00:00",0,{"$f":"SpellNumber((AI79))","v":"No Dollars and No Cents"},3,"No "]
["00:00:00",null,null,null,null,0,null,null,0,null,null,{"$f":"IFERROR(VLOOKUP(K80,$AD$7:AE82,2,FALSE),0)","v":0},null,null,0,null,null,null,null,null,null,null,null,null,null,null,null,null,null,null,null,null,"00:00:00","00:00:00",0,{"$f":"SpellNumber((AI80))","v":"No Dollars and No Cents"},3,"No "]
["00:00:00",null,null,null,null,0,null,null,0,null,null,{"$f":"IFERROR(VLOOKUP(K81,$AD$7:AE83,2,FALSE),0)","v":0},null,null,0,null,null,null,null,null,null,null,null,null,null,null,null,null,null,null,null,null,"00:00:00","00:00:00",0,{"$f":"SpellNumber((AI81))","v":"No Dollars and No Cents"},3,"No "]
["00:00:00",null,null,null,null,0,null,null,0,null,null,{"$f":"IFERROR(VLOOKUP(K82,$AD$7:AE84,2,FALSE),0)","v":0},null,null,0,null,null,null,null,null,null,null,null,null,null,null,null,null,null,null,null,null,"00:00:00","00:00:00",0,{"$f":"SpellNumber((AI82))","v":"No Dollars and No Cents"},3,"No "]
["00:00:00",null,null,null,null,0,null,null,0,null,null,{"$f":"IFERROR(VLOOKUP(K83,$AD$7:AE85,2,FALSE),0)","v":0},null,null,0,null,null,null,null,null,null,null,null,null,null,null,null,null,null,null,null,null,"00:00:00","00:00:00",0,{"$f":"SpellNumber((AI83))","v":"No Dollars and No Cents"},3,"No "]
["00:00:00",null,null,null,null,0,null,null,0,null,null,{"$f":"IFERROR(VLOOKUP(K84,$AD$7:AE86,2,FALSE),0)","v":0},null,null,0,null,null,null,null,null,null,null,null,null,null,null,null,null,null,null,null,null,"00:00:00","00:00:00",0,{"$f":"SpellNumber((AI84))","v":"No Dollars and No Cents"},3,"No "]
["00:00:00",null,null,null,null,0,null,null,0,null,null,{"$f":"IFERROR(VLOOKUP(K85,$AD$7:AE87,2,FALSE),0)","v":0},null,null,0,null,null,null,null,null,null,null,null,null,null,null,null,null,null,null,null,null,"00:00:00","00:00:00",0,{"$f":"SpellNumber((AI85))","v":"No Dollars and No Cents"},3,"No "]
["00:00:00",null,null,null,null,0,null,null,0,null,null,{"$f":"IFERROR(VLOOKUP(K86,$AD$7:AE88,2,FALSE),0)","v":0},null,null,0,null,null,null,null,null,null,null,null,null,null,null,null,null,null,null,null,null,"00:00:00","00:00:00",0,{"$f":"SpellNumber((AI86))","v":"No Dollars and No Cents"},3,"No "]
["00:00:00",null,null,null,null,0,null,null,0,null,null,{"$f":"IFERROR(VLOOKUP(K87,$AD$7:AE89,2,FALSE),0)","v":0},null,null,0,null,null,null,null,null,null,null,null,null,null,null,null,null,null,null,null,null,"00:00:00","00:00:00",0,{"$f":"SpellNumber((AI87))","v":"No Dollars and No Cents"},3,"No "]
["00:00:00",null,null,null,null,0,null,null,0,null,null,{"$f":"IFERROR(VLOOKUP(K88,$AD$7:AE90,2,FALSE),0)","v":0},null,null,0,null,null,null,null,null,null,null,null,null,null,null,null,null,null,null,null,null,"00:00:00","00:00:00",0,{"$f":"SpellNumber((AI88))","v":"No Dollars and No Cents"},3,"No "]
["00:00:00",null,null,null,null,0,null,null,0,null,null,{"$f":"IFERROR(VLOOKUP(K89,$AD$7:AE91,2,FALSE),0)","v":0},null,null,0,null,null,null,null,null,null,null,null,null,null,null,null,null,null,null,null,null,"00:00:00","00:00:00",0,{"$f":"SpellNumber((AI89))","v":"No Dollars and No Cents"},3,"No "]
["00:00:00",null,null,null,null,0,null,null,0,null,null,{"$f":"IFERROR(VLOOKUP(K90,$AD$7:AE92,2,FALSE),0)","v":0},null,null,0,null,null,null,null,null,null,null,null,null,null,null,null,null,null,null,null,null,"00:00:00","00:00:00",0,{"$f":"SpellNumber((AI90))","v":"No Dollars and No Cents"},3,"No "]
["00:00:00",null,null,null,null,0,null,null,0,null,null,{"$f":"IFERROR(VLOOKUP(K91,$AD$7:AE93,2,FALSE),0)","v":0},null,null,0,null,null,null,"Total Mins",{"$f":"SUM(A7:A104)","v":"00:00:00"},null,null,null,null,null,null,null,null,null,null,null,null,"00:00:00","00:00:00",0,{"$f":"SpellNumber((AI91))","v":"No Dollars and No Cents"},3,"No "]
["00:00:00",null,null,null,null,0,null,null,0,null,null,{"$f":"IFERROR(VLOOKUP(K92,$AD$7:AE94,2,FALSE),0)","v":0},null,null,0,null,null,null,"Settings:","A",{"$f":"COUNTIF(E4:E104,\"A\")","v":0},"Antec.","A",{"$f":"COUNTIF(H4:H104,\"A\")","v":0},"Beh","A",{"$f":"COUNTIF(L4:L104,\"A\")","v":0},"Conse.","A",{"$f":"COUNTIF(O4:O104,\"A\")","v":0},null,null,"00:00:00","00:00:00",0,{"$f":"SpellNumber((AI92))","v":"No Dollars and No Cents"},3,"No "]
["00:00:00",null,null,null,null,0,null,null,0,null,null,{"$f":"IFERROR(VLOOKUP(K93,$AD$7:AE95,2,FALSE),0)","v":0},null,null,0,null,null,null,null,"B",{"$f":"COUNTIF(E5:E105,\"B\")","v":0},null,"B",{"$f":"COUNTIF(H5:H105,\"B\")","v":0},null,"B",{"$f":"COUNTIF(L5:L105,\"B\")","v":0},null,"B",{"$f":"COUNTIF(O5:O105,\"B\")","v":0},null,null,"00:00:00","00:00:00",0,{"$f":"SpellNumber((AI93))","v":"No Dollars and No Cents"},3,"No "]
["00:00:00",null,null,null,null,0,null,null,0,null,null,{"$f":"IFERROR(VLOOKUP(K94,$AD$7:AE96,2,FALSE),0)","v":0},null,null,0,null,null,null,null,"C",{"$f":"COUNTIF(E6:E106,\"C\")","v":0},null,"C",{"$f":"COUNTIF(H6:H106,\"C\")","v":0},null,"C",{"$f":"COUNTIF(L6:L106,\"C\")","v":0},null,"C",{"$f":"COUNTIF(O6:O106,\"C\")","v":0},null,null,"00:00:00","00:00:00",0,{"$f":"SpellNumber((AI94))","v":"No Dollars and No Cents"},3,"No "]
["00:00:00",null,null,null,null,0,null,null,0,null,null,{"$f":"IFERROR(VLOOKUP(K95,$AD$7:AE97,2,FALSE),0)","v":0},null,null,0,null,null,null,null,"D",{"$f":"COUNTIF(E7:E107,\"D\")","v":0},null,"D",{"$f":"COUNTIF(H7:H107,\"D\")","v":0},null,null,null,null,"D",{"$f":"COUNTIF(O7:O107,\"D\")","v":0},null,null,"00:00:00","00:00:00",0,{"$f":"SpellNumber((AI95))","v":"No Dollars and No Cents"},3,"No "]
["00:00:00",null,null,null,null,0,null,null,0,null,null,{"$f":"IFERROR(VLOOKUP(K96,$AD$7:AE98,2,FALSE),0)","v":0},null,null,0,null,null,null,null,"E",{"$f":"COUNTIF(E8:E108,\"E\")","v":0},null,"E",{"$f":"COUNTIF(H8:H108,\"E\")","v":0},null,null,null,null,"E",{"$f":"COUNTIF(O8:O108,\"E\")","v":0},null,null,"00:00:00","00:00:00",0,{"$f":"SpellNumber((AI96))","v":"No Dollars and No Cents"},3,"No "]
["00:00:00",null,null,null,null,0,null,null,0,null,null,{"$f":"IFERROR(VLOOKUP(K97,$AD$7:AE99,2,FALSE),0)","v":0},null,null,0,null,null,null,null,"F",{"$f":"COUNTIF(E9:E109,\"F\")","v":0},null,"F",{"$f":"COUNTIF(H9:H109,\"F\")","v":0},null,null,null,null,"F",{"$f":"COUNTIF(O9:O109,\"F\")","v":0},null,null,"00:00:00","00:00:00",0,{"$f":"SpellNumber((AI97))","v":"No Dollars and No Cents"},3,"No "]
["00:00:00",null,null,null,null,0,null,null,0,null,null,{"$f":"IFERROR(VLOOKUP(K98,$AD$7:AE100,2,FALSE),0)","v":0},null,null,0,null,null,null,null,"G",{"$f":"COUNTIF(E10:E110,\"G\")","v":0},null,"G",{"$f":"COUNTIF(H10:H110,\"G\")","v":0},null,null,null,null,"G",{"$f":"COUNTIF(O10:O110,\"G\")","v":0},null,null,"00:00:00","00:00:00",0,{"$f":"SpellNumber((AI98))","v":"No Dollars and No Cents"},3,"No "]
["00:00:00",null,null,null,null,0,null,null,0,null,null,{"$f":"IFERROR(VLOOKUP(K99,$AD$7:AE101,2,FALSE),0)","v":0},null,null,0,null,null,null,null,"H",{"$f":"COUNTIF(E11:E111,\"H\")","v":0},null,"H",{"$f":"COUNTIF(H11:H111,\"H\")","v":0},null,null,null,null,"H",{"$f":"COUNTIF(O11:O111,\"H\")","v":0},null,null,"00:00:00","00:00:00",0,{"$f":"SpellNumber((AI99))","v":"No Dollars and No Cents"},3,"No "]
["00:00:00",null,null,null,null,0,null,null,0,null,null,{"$f":"IFERROR(VLOOKUP(K100,$AD$7:AE102,2,FALSE),0)","v":0},null,null,0,null,null,null,null,"I",{"$f":"COUNTIF(E12:E112,\"I\")","v":0},null,"I",{"$f":"COUNTIF(H12:H112,\"I\")","v":0},null,null,null,null,"I",{"$f":"COUNTIF(O12:O112,\"I\")","v":0},null,null,"00:00:00","00:00:00",0,{"$f":"SpellNumber((AI100))","v":"No Dollars and No Cents"},3,"No "]
["00:00:00",null,null,null,null,0,null,null,0,null,null,{"$f":"IFERROR(VLOOKUP(K101,$AD$7:AE103,2,FALSE),0)","v":0},null,null,0,null,null,null,null,"J",{"$f":"COUNTIF(E13:E113,\"J\")","v":0},null,"J",{"$f":"COUNTIF(H13:H113,\"J\")","v":0},null,null,null,null,"J",{"$f":"COUNTIF(O13:O113,\"J\")","v":0},null,null,"00:00:00","00:00:00",0,{"$f":"SpellNumber((AI101))","v":"No Dollars and No Cents"},3,"No "]
["00:00:00",null,null,null,null,0,null,null,0,null,null,{"$f":"IFERROR(VLOOKUP(K102,$AD$7:AE104,2,FALSE),0)","v":0},null,null,0,null,null,null,null,"K",{"$f":"COUNTIF(E14:E114,\"K\")","v":0},null,"K",{"$f":"COUNTIF(H14:H114,\"K\")","v":0},null,null,null,null,"K",{"$f":"COUNTIF(O14:O114,\"K\")","v":0},null,null,"00:00:00","00:00:00",0,{"$f":"SpellNumber((AI102))","v":"No Dollars and No Cents"},3,"No "]
["00:00:00",null,null,null,null,0,null,null,0,null,null,{"$f":"IFERROR(VLOOKUP(K103,$AD$7:AE105,2,FALSE),0)","v":0},null,null,0,null,null,null,null,"L",{"$f":"COUNTIF(E15:E115,\"L\")","v":0},null,"L",{"$f":"COUNTIF(H15:H115,\"L\")","v":0},null,null,null,null,"L",{"$f":"COUNTIF(O15:O115,\"L\")","v":0},null,null,"00:00:00","00:00:00",0,{"$f":"SpellNumber((AI103))","v":"No Dollars and No Cents"},3,"No "]
["00:00:00",null,null,null,null,0,null,null,0,null,null,{"$f":"IFERROR(VLOOKUP(K104,$AD$7:AE106,2,FALSE),0)","v":0},null,null,0,null,null,null,null,null,null,null,null,null,null,null,null,null,null,null,null,null,"00:00:00","00:00:00",0,{"$f":"SpellNumber((AI104))","v":"No Dollars and No Cents"},3,"No "]

{"sheet":"Data 22","index":30,"n_rows":104,"n_cols":38,"rows_kept":104,"cut":false,"hidden":false,"merged":[[0,7,3,14]]}
["ATTENDANCE",null,null,null,null,null,null,"Data Collection"]
["If tardy, arrival time",null,null,null,null,null,null,null,null,null,null,null,null,null,null,null,null,null,null,null,null,null,"Date",{"$f":"Calendar!C8","v":{"$error":"#N/A"}},{"$f":"TEXT(X2,\"ddd\")","v":{"$error":"#N/A"}}]
["If left early, time",null,null,null,null,null,null,null,null,null,null,null,null,null,null,null,null,null,null,null,null,null,"Frq. Of bx",{"$f":"AA22","v":0}]
[]
[]
["Mins.","Start Time","End Time",null,null,null,null,null,null,null,null,null,null,null,null,null,null,null,null,null,null,null,"Setting",null,null,"Ant",null,null,null,"Beh",null,null,"Raw Data","Time in text","Decimal"]
[{"$f":"C7-B7","v":"00:00:00"},null,null,null,null,{"$f":"IFERROR(VLOOKUP(E7,$V$7:$W$18,2,FALSE),0)","v":0},null,null,{"$f":"IFERROR(VLOOKUP(H7,$Z$7:$AA$18,2,FALSE),0)","v":0},null,null,{"$f":"IFERROR(VLOOKUP(K7,$AD$7:AE9,2,FALSE),0)","v":0},null,null,{"$f":"IFERROR(VLOOKUP(N7,$V$22:$W$33,2,FALSE),0)","v":0},null,null,null,null,null,null,"A",{"$f":"Criteria!C4","v":"Transition"},null,null,"A",{"$f":"Criteria!E4","v":"Transition"},null,null,"A",{"$f":"Criteria!G4","v":0},null,{"$f":"B7","v":"00:00:00"},{"$f":"TEXT(AG7,\"hh:mm:ss\")","v":"00:00:00"},{"$f":"AG7*24","v":0},{"$f":"SpellNumber((AI7))","v":"No Dollars and No Cents"},{"$f":"FIND(\" Dollar\",AJ7)","v":3},{"$f":"LEFT(AJ7,AK7)","v":"No "}]
[{"$f":"C8-B8","v":"00:00:00"},null,null,null,null,{"$f":"IFERROR(VLOOKUP(E8,$V$7:$W$18,2,FALSE),0)","v":0},null,null,{"$f":"IFERROR(VLOOKUP(H8,$Z$7:$AA$18,2,FALSE),0)","v":0},null,null,{"$f":"IFERROR(VLOOKUP(K8,$AD$7:AE10,2,FALSE),0)","v":0},null,null,{"$f":"IFERROR(VLOOKUP(N8,$V$22:$W$33,2,FALSE),0)","v":0},null,null,null,null,null,null,"B",{"$f":"Criteria!C5","v":"Morning Routine"},null,null,"B",{"$f":"Criteria!E5","v":"Denied access ('No')"},null,null,"B",{"$f":"Criteria!G5","v":0},null,{"$f":"B8","v":"00:00:00"},{"$f":"TEXT(AG8,\"hh:mm:ss\")","v":"00:00:00"},{"$f":"AG8*24","v":0},{"$f":"SpellNumber((AI8))","v":"No Dollars and No Cents"},{"$f":"FIND(\" Dollar\",AJ8)","v":3},{"$f":"LEFT(AJ8,AK8)","v":"No "}]
["00:00:00",null,null,null,null,{"$f":"IFERROR(VLOOKUP(E9,$V$7:$W$18,2,FALSE),0)","v":0},null,null,0,null,null,{"$f":"IFERROR(VLOOKUP(K9,$AD$7:AE11,2,FALSE),0)","v":0},null,null,0,null,null,null,null,null,null,"C",{"$f":"Criteria!C6","v":"Group Work"},null,null,"C",{"$f":"Criteria!E6","v":"Instruction/ Directions"},null,null,"C",{"$f":"Criteria!G6","v":0},null,"00:00:00","00:00:00",0,{"$f":"SpellNumber((AI9))","v":"No Dollars and No Cents"},3,"No "]
["00:00:00",null,null,null,null,0,null,null,0,null,null,{"$f":"IFERROR(VLOOKUP(K10,$AD$7:AE12,2,FALSE),0)","v":0},null,null,0,null,null,null,null,null,null,"D",{"$f":"Criteria!C7","v":"Ind. Seat/Work Time"},null,null,"D",{"$f":"Criteria!E7","v":"New Task"},null,null,null,null,null,"00:00:00","00:00:00",0,{"$f":"SpellNumber((AI10))","v":"No Dollars and No Cents"},3,"No "]
["00:00:00",null,null,null,null,0,null,null,0,null,null,{"$f":"IFERROR(VLOOKUP(K11,$AD$7:AE13,2,FALSE),0)","v":0},null,null,0,null,null,null,null,null,null,"E",{"$f":"Criteria!C8","v":"Language Arts"},null,null,"E",{"$f":"Criteria!E8","v":"Tcher attn to other"},null,null,null,null,null,"00:00:00","00:00:00",0,{"$f":"SpellNumber((AI11))","v":"No Dollars and No Cents"},3,"No "]
["00:00:00",null,null,null,null,0,null,null,0,null,null,{"$f":"IFERROR(VLOOKUP(K12,$AD$7:AE14,2,FALSE),0)","v":0},null,null,0,null,null,null,null,null,null,"F",{"$f":"Criteria!C9","v":"Mathematics"},null,null,"F",{"$f":"Criteria!E9","v":"Choice given"},null,null,null,null,null,"00:00:00","00:00:00",0,{"$f":"SpellNumber((AI12))","v":"No Dollars and No Cents"},3,"No "]
["00:00:00",null,null,null,null,0,null,null,0,null,null,{"$f":"IFERROR(VLOOKUP(K13,$AD$7:AE15,2,FALSE),0)","v":0},null,null,0,null,null,null,null,null,null,"G",{"$f":"Criteria!C10","v":"Physical Education"},null,null,"G",{"$f":"Criteria!E10","v":"Redirection"},null,null,null,null,null,"00:00:00","00:00:00",0,{"$f":"SpellNumber((AI13))","v":"No Dollars and No Cents"},3,"No "]
["00:00:00",null,null,null,null,0,null,null,0,null,null,{"$f":"IFERROR(VLOOKUP(K14,$AD$7:AE16,2,FALSE),0)","v":0},null,null,0,null,null,null,null,null,null,"H",{"$f":"Criteria!C11","v":"Music/Art"},null,null,"H",{"$f":"Criteria!E11","v":"Routine Task"},null,null,null,null,null,"00:00:00","00:00:00",0,{"$f":"SpellNumber((AI14))","v":"No Dollars and No Cents"},3,"No "]
["00:00:00",null,null,null,null,0,null,null,0,null,null,{"$f":"IFERROR(VLOOKUP(K15,$AD$7:AE17,2,FALSE),0)","v":0},null,null,0,null,null,null,null,null,null,"I",{"$f":"Criteria!C12","v":"Speech"},null,null,"I",{"$f":"Criteria!E12","v":"Waiting"},null,null,null,null,null,"00:00:00","00:00:00",0,{"$f":"SpellNumber((AI15))","v":"No Dollars and No Cents"},3,"No "]
["00:00:00",null,null,null,null,0,null,null,0,null,null,{"$f":"IFERROR(VLOOKUP(K16,$AD$7:AE18,2,FALSE),0)","v":0},null,null,0,null,null,null,null,null,null,"J",{"$f":"Criteria!C13","v":"OT/PT"},null,null,"J",{"$f":"Criteria!E13","v":"Unknown"},null,null,null,null,null,"00:00:00","00:00:00",0,{"$f":"SpellNumber((AI16))","v":"No Dollars and No Cents"},3,"No "]
["00:00:00",null,null,null,null,0,null,null,0,null,null,{"$f":"IFERROR(VLOOKUP(K17,$AD$7:AE19,2,FALSE),0)","v":0},null,null,0,null,null,null,null,null,null,"K",{"$f":"Criteria!C14","v":"Center"},null,null,"K",{"$f":"Criteria!E14","v":"Ignored"},null,null,null,null,null,"00:00:00","00:00:00",0,{"$f":"SpellNumber((AI17))","v":"No Dollars and No Cents"},3,"No "]
["00:00:00",null,null,null,null,0,null,null,0,null,null,{"$f":"IFERROR(VLOOKUP(K18,$AD$7:AE20,2,FALSE),0)","v":0},null,null,0,null,null,null,null,null,null,"L",{"$f":"Criteria!C15","v":"Other"},null,null,"L",{"$f":"Criteria!E15","v":"Other"},null,null,null,null,null,"00:00:00","00:00:00",0,{"$f":"SpellNumber((AI18))","v":"No Dollars and No Cents"},3,"No "]
["00:00:00",null,null,null,null,0,null,null,0,null,null,{"$f":"IFERROR(VLOOKUP(K19,$AD$7:AE21,2,FALSE),0)","v":0},null,null,0,null,null,null,null,null,null,null,null,null,null,null,null,null,null,null,null,null,"00:00:00","00:00:00",0,{"$f":"SpellNumber((AI19))","v":"No Dollars and No Cents"},3,"No "]
["00:00:00",null,null,null,null,0,null,null,0,null,null,{"$f":"IFERROR(VLOOKUP(K20,$AD$7:AE22,2,FALSE),0)","v":0},null,null,0,null,null,null,null,null,null,null,null,null,null,null,null,null,null,null,null,null,"00:00:00","00:00:00",0,{"$f":"SpellNumber((AI20))","v":"No Dollars and No Cents"},3,"No "]
["00:00:00",null,null,null,null,0,null,null,0,null,null,{"$f":"IFERROR(VLOOKUP(K21,$AD$7:AE23,2,FALSE),0)","v":0},null,null,0,null,null,null,null,null,null,null,"Con",null,"Bx Frequency Per Day",null,null,null,null,null,null,null,"00:00:00","00:00:00",0,{"$f":"SpellNumber((AI21))","v":"No Dollars and No Cents"},3,"No "]
["00:00:00",null,null,null,null,0,null,null,0,null,null,{"$f":"IFERROR(VLOOKUP(K22,$AD$7:AE24,2,FALSE),0)","v":0},null,null,0,null,null,null,null,null,null,"A",{"$f":"Criteria!I4","v":"Choice Given"},"A",{"$f":"COUNTIF(K7:K104,\"A\")","v":0},null,{"$f":"SUM(Y22:Y24)","v":0},null,"Bin Dec","Frequency of Time",null,null,"00:00:00","00:00:00",0,{"$f":"SpellNumber((AI22))","v":"No Dollars and No Cents"},3,"No "]
["00:00:00",null,null,null,null,0,null,null,0,null,null,{"$f":"IFERROR(VLOOKUP(K23,$AD$7:AE25,2,FALSE),0)","v":0},null,null,0,null,null,null,null,null,null,"B",{"$f":"Criteria!I5","v":"Ignored"},"B",{"$f":"COUNTIF(K7:K104,\"B\")","v":0},null,null,null,"Seven",{"$f":"COUNTIF(AL7:AL104,\"*Seven*\")","v":0},null,null,"00:00:00","00:00:00",0,{"$f":"SpellNumber((AI23))","v":"No Dollars and No Cents"},3,"No "]
["00:00:00",null,null,null,null,0,null,null,0,null,null,{"$f":"IFERROR(VLOOKUP(K24,$AD$7:AE26,2,FALSE),0)","v":0},null,null,0,null,null,null,null,null,null,"C",{"$f":"Criteria!I6","v":"Redirection"},"C",{"$f":"COUNTIF(K7:K104,\"C\")","v":0},null,null,null,"Eight",{"$f":"COUNTIF(AL7:AL104,\"*Eight*\")","v":0},null,null,"00:00:00","00:00:00",0,{"$f":"SpellNumber((AI24))","v":"No Dollars and No Cents"},3,"No "]
["00:00:00",null,null,null,null,0,null,null,0,null,null,{"$f":"IFERROR(VLOOKUP(K25,$AD$7:AE27,2,FALSE),0)","v":0},null,null,0,null,null,null,null,null,null,"D",{"$f":"Criteria!I7","v":"Kept the demand"},null,"Bx Druation Per Day",null,null,null,"Nine",{"$f":"COUNTIF(AL7:AL104,\"*Nine*\")","v":0},null,null,"00:00:00","00:00:00",0,{"$f":"SpellNumber((AI25))","v":"No Dollars and No Cents"},3,"No "]
["00:00:00",null,null,null,null,0,null,null,0,null,null,{"$f":"IFERROR(VLOOKUP(K26,$AD$7:AE28,2,FALSE),0)","v":0},null,null,0,null,null,null,null,null,null,"E",{"$f":"Criteria!I8","v":"Changed activity"},"A",{"$f":"SUMIF(K7:K104,\"A\",A7:A104)","v":"00:00:00"},null,null,null,"Ten",{"$f":"COUNTIF(AL7:AL12,\"*Ten*\")","v":0},null,null,"00:00:00","00:00:00",0,{"$f":"SpellNumber((AI26))","v":"No Dollars and No Cents"},3,"No "]
["00:00:00",null,null,null,null,0,null,null,0,null,null,{"$f":"IFERROR(VLOOKUP(K27,$AD$7:AE29,2,FALSE),0)","v":0},null,null,0,null,null,null,null,null,null,"F",{"$f":"Criteria!I9","v":"Verbal reprimand"},"B",{"$f":"SUMIF(K7:K104,\"B\",A7:A104)","v":"00:00:00"},null,null,null,"Eleven",{"$f":"COUNTIF(AL7:AL104,\"*Eleven*\")","v":0},null,null,"00:00:00","00:00:00",0,{"$f":"SpellNumber((AI27))","v":"No Dollars and No Cents"},3,"No "]
["00:00:00",null,null,null,null,0,null,null,0,null,null,{"$f":"IFERROR(VLOOKUP(K28,$AD$7:AE30,2,FALSE),0)","v":0},null,null,0,null,null,null,null,null,null,"G",{"$f":"Criteria!I10","v":"Told to wait"},"C",{"$f":"SUMIF(K7:K104,\"C\",A7:A104)","v":"00:00:00"},null,null,null,"Twelve",{"$f":"COUNTIF(AL7:AL104,\"*Twelve*\")","v":0},null,null,"00:00:00","00:00:00",0,{"$f":"SpellNumber((AI28))","v":"No Dollars and No Cents"},3,"No "]
["00:00:00",null,null,null,null,0,null,null,0,null,null,{"$f":"IFERROR(VLOOKUP(K29,$AD$7:AE31,2,FALSE),0)","v":0},null,null,0,null,null,null,null,null,null,"H",{"$f":"Criteria!I11","v":"Physical Prompt"},null,null,null,null,null,"One",{"$f":"COUNTIF(AL7:AL104,\"*One*\")","v":0},null,null,"00:00:00","00:00:00",0,{"$f":"SpellNumber((AI29))","v":"No Dollars and No Cents"},3,"No "]
["00:00:00",null,null,null,null,0,null,null,0,null,null,{"$f":"IFERROR(VLOOKUP(K30,$AD$7:AE32,2,FALSE),0)","v":0},null,null,0,null,null,null,null,null,null,"I",{"$f":"Criteria!I12","v":"Verbal prompt"},null,null,null,null,null,"Two",{"$f":"COUNTIF(AL7:AL104,\"*Two*\")","v":0},null,null,"00:00:00","00:00:00",0,{"$f":"SpellNumber((AI30))","v":"No Dollars and No Cents"},3,"No "]
["00:00:00",null,null,null,null,0,null,null,0,null,null,{"$f":"IFERROR(VLOOKUP(K31,$AD$7:AE33,2,FALSE),0)","v":0},null,null,0,null,null,null,null,null,null,"J",{"$f":"Criteria!I13","v":"Told to wait"},null,null,null,null,null,"Three",{"$f":"COUNTIF(AL7:AL104,\"*Three*\")","v":0},null,null,"00:00:00","00:00:00",0,{"$f":"SpellNumber((AI31))","v":"No Dollars and No Cents"},3,"No "]
["00:00:00",null,null,null,null,0,null,null,0,null,null,{"$f":"IFERROR(VLOOKUP(K32,$AD$7:AE34,2,FALSE),0)","v":0},null,null,0,null,null,null,null,null,null,"K",{"$f":"Criteria!I14","v":"Unknown"},null,null,null,null,null,"Four",{"$f":"COUNTIF(AL7:AL104,\"*Four*\")","v":0},null,null,"00:00:00","00:00:00",0,{"$f":"SpellNumber((AI32))","v":"No Dollars and No Cents"},3,"No "]
["00:00:00",null,null,null,null,0,null,null,0,null,null,{"$f":"IFERROR(VLOOKUP(K33,$AD$7:AE35,2,FALSE),0)","v":0},null,null,0,null,null,null,null,null,null,"L",{"$f":"Criteria!I15","v":"Other"},null,null,null,null,null,null,null,null,null,"00:00:00","00:00:00",0,{"$f":"SpellNumber((AI33))","v":"No Dollars and No Cents"},3,"No "]
["00:00:00",null,null,null,null,0,null,null,0,null,null,{"$f":"IFERROR(VLOOKUP(K34,$AD$7:AE36,2,FALSE),0)","v":0},null,null,0,null,null,null,null,null,null,null,null,null,null,null,null,null,null,null,null,null,"00:00:00","00:00:00",0,{"$f":"SpellNumber((AI34))","v":"No Dollars and No Cents"},3,"No "]
["00:00:00",null,null,null,null,0,null,null,0,null,null,{"$f":"IFERROR(VLOOKUP(K35,$AD$7:AE37,2,FALSE),0)","v":0},null,null,0,null,null,null,null,null,null,null,"Context Frequency","Consequence","Antedencents",null,null,null,null,null,null,null,"00:00:00","00:00:00",0,{"$f":"SpellNumber((AI35))","v":"No Dollars and No Cents"},3,"No "]
["00:00:00",null,null,null,null,0,null,null,0,null,null,{"$f":"IFERROR(VLOOKUP(K36,$AD$7:AE38,2,FALSE),0)","v":0},null,null,0,null,null,null,null,null,null,"A",{"$f":"COUNTIF(E7:E104,\"A\")","v":0},{"$f":"COUNTIF(N7:N104,\"A\")","v":0},{"$f":"COUNTIF(H7:H104,\"A\")","v":0},null,null,null,null,null,null,null,"00:00:00","00:00:00",0,{"$f":"SpellNumber((AI36))","v":"No Dollars and No Cents"},3,"No "]
["00:00:00",null,null,null,null,0,null,null,0,null,null,{"$f":"IFERROR(VLOOKUP(K37,$AD$7:AE39,2,FALSE),0)","v":0},null,null,0,null,null,null,null,null,null,"B",{"$f":"COUNTIF(E8:E105,\"B\")","v":0},{"$f":"COUNTIF(N7:N104,\"B\")","v":0},{"$f":"COUNTIF(H7:H104,\"B\")","v":0},null,null,null,null,null,null,null,"00:00:00","00:00:00",0,{"$f":"SpellNumber((AI37))","v":"No Dollars and No Cents"},3,"No "]
["00:00:00",null,null,null,null,0,null,null,0,null,null,{"$f":"IFERROR(VLOOKUP(K38,$AD$7:AE40,2,FALSE),0)","v":0},null,null,0,null,null,null,null,null,null,"C",{"$f":"COUNTIF(E8:E105,\"C\")","v":0},{"$f":"COUNTIF(N7:N104,\"C\")","v":0},{"$f":"COUNTIF(H7:H104,\"C\")","v":0},null,null,null,null,null,null,null,"00:00:00","00:00:00",0,{"$f":"SpellNumber((AI38))","v":"No Dollars and No Cents"},3,"No "]
["00:00:00",null,null,null,null,0,null,null,0,null,null,{"$f":"IFERROR(VLOOKUP(K39,$AD$7:AE41,2,FALSE),0)","v":0},null,null,0,null,null,null,null,null,null,"D",{"$f":"COUNTIF(E8:E105,\"D\")","v":0},{"$f":"COUNTIF(N7:N104,\"D\")","v":0},{"$f":"COUNTIF(H7:H104,\"D\")","v":0},null,null,null,null,null,null,null,"00:00:00","00:00:00",0,{"$f":"SpellNumber((AI39))","v":"No Dollars and No Cents"},3,"No "]
["00:00:00",null,null,null,null,0,null,null,0,null,null,{"$f":"IFERROR(VLOOKUP(K40,$AD$7:AE42,2,FALSE),0)","v":0},null,null,0,null,null,null,null,null,null,"E",{"$f":"COUNTIF(E8:E105,\"E\")","v":0},{"$f":"COUNTIF(N7:N104,\"E\")","v":0},{"$f":"COUNTIF(H7:H104,\"E\")","v":0},null,null,null,null,null,null,null,"00:00:00","00:00:00",0,{"$f":"SpellNumber((AI40))","v":"No Dollars and No Cents"},3,"No "]
["00:00:00",null,null,null,null,0,null,null,0,null,null,{"$f":"IFERROR(VLOOKUP(K41,$AD$7:AE43,2,FALSE),0)","v":0},null,null,0,null,null,null,null,null,null,"F",{"$f":"COUNTIF(E8:E105,\"F\")","v":0},{"$f":"COUNTIF(N7:N104,\"F\")","v":0},{"$f":"COUNTIF(H7:H104,\"F\")","v":0},null,null,null,null,null,null,null,"00:00:00","00:00:00",0,{"$f":"SpellNumber((AI41))","v":"No Dollars and No Cents"},3,"No "]
["00:00:00",null,null,null,null,0,null,null,0,null,null,{"$f":"IFERROR(VLOOKUP(K42,$AD$7:AE44,2,FALSE),0)","v":0},null,null,0,null,null,null,null,null,null,"G",{"$f":"COUNTIF(E8:E105,\"G\")","v":0},{"$f":"COUNTIF(N7:N104,\"G\")","v":0},{"$f":"COUNTIF(H7:H104,\"G\")","v":0},null,null,null,null,null,null,null,"00:00:00","00:00:00",0,{"$f":"SpellNumber((AI42))","v":"No Dollars and No Cents"},3,"No "]
["00:00:00",null,null,null,null,0,null,null,0,null,null,{"$f":"IFERROR(VLOOKUP(K43,$AD$7:AE45,2,FALSE),0)","v":0},null,null,0,null,null,null,null,null,null,"H",{"$f":"COUNTIF(E8:E105,\"H\")","v":0},{"$f":"COUNTIF(N7:N104,\"H\")","v":0},{"$f":"COUNTIF(H7:H104,\"H\")","v":0},null,null,null,null,null,null,null,"00:00:00","00:00:00",0,{"$f":"SpellNumber((AI43))","v":"No Dollars and No Cents"},3,"No "]
["00:00:00",null,null,null,null,0,null,null,0,null,null,{"$f":"IFERROR(VLOOKUP(K44,$AD$7:AE46,2,FALSE),0)","v":0},null,null,0,null,null,null,null,null,null,"I",{"$f":"COUNTIF(E8:E105,\"I\")","v":0},{"$f":"COUNTIF(N7:N104,\"I\")","v":0},{"$f":"COUNTIF(H7:H104,\"I\")","v":0},null,null,null,null,null,null,null,"00:00:00","00:00:00",0,{"$f":"SpellNumber((AI44))","v":"No Dollars and No Cents"},3,"No "]
["00:00:00",null,null,null,null,0,null,null,0,null,null,{"$f":"IFERROR(VLOOKUP(K45,$AD$7:AE47,2,FALSE),0)","v":0},null,null,0,null,null,null,null,null,null,"J",{"$f":"COUNTIF(E8:E105,\"J\")","v":0},{"$f":"COUNTIF(N7:N104,\"J\")","v":0},{"$f":"COUNTIF(H7:H104,\"J\")","v":0},null,null,null,null,null,null,null,"00:00:00","00:00:00",0,{"$f":"SpellNumber((AI45))","v":"No Dollars and No Cents"},3,"No "]
["00:00:00",null,null,null,null,0,null,null,0,null,null,{"$f":"IFERROR(VLOOKUP(K46,$AD$7:AE48,2,FALSE),0)","v":0},null,null,0,null,null,null,null,null,null,"K",{"$f":"COUNTIF(E8:E105,\"K\")","v":0},{"$f":"COUNTIF(N7:N104,\"K\")","v":0},{"$f":"COUNTIF(H7:H104,\"K\")","v":0},null,null,null,null,null,null,null,"00:00:00","00:00:00",0,{"$f":"SpellNumber((AI46))","v":"No Dollars and No Cents"},3,"No "]
["00:00:00",null,null,null,null,0,null,null,0,null,null,{"$f":"IFERROR(VLOOKUP(K47,$AD$7:AE49,2,FALSE),0)","v":0},null,null,0,null,null,null,null,null,null,"L",{"$f":"COUNTIF(E8:E105,\"l\")","v":0},{"$f":"COUNTIF(N7:N104,\"L\")","v":0},{"$f":"COUNTIF(H7:H104,\"L\")","v":0},null,null,null,null,null,null,null,"00:00:00","00:00:00",0,{"$f":"SpellNumber((AI47))","v":"No Dollars and No Cents"},3,"No "]
["00:00:00",null,null,null,null,0,null,null,0,null,null,{"$f":"IFERROR(VLOOKUP(K48,$AD$7:AE50,2,FALSE),0)","v":0},null,null,0,null,null,null,null,null,null,null,null,null,null,null,null,null,null,null,null,null,"00:00:00","00:00:00",0,{"$f":"SpellNumber((AI48))","v":"No Dollars and No Cents"},3,"No "]
["00:00:00",null,null,null,null,0,null,null,0,null,null,{"$f":"IFERROR(VLOOKUP(K49,$AD$7:AE51,2,FALSE),0)","v":0},null,null,0,null,null,null,null,null,null,null,"Beh & Setting ",null,null,null,"Beh & Antecedents",null,null,null,null,null,"00:00:00","00:00:00",0,{"$f":"SpellNumber((AI49))","v":"No Dollars and No Cents"},3,"No "]
["00:00:00",null,null,null,null,0,null,null,0,null,null,{"$f":"IFERROR(VLOOKUP(K50,$AD$7:AE52,2,FALSE),0)","v":0},null,null,0,null,null,null,null,null,null,null,"A","B","C",null,null,"A","B","C",null,null,"00:00:00","00:00:00",0,{"$f":"SpellNumber((AI50))","v":"No Dollars and No Cents"},3,"No "]
["00:00:00",null,null,null,null,0,null,null,0,null,null,{"$f":"IFERROR(VLOOKUP(K51,$AD$7:AE53,2,FALSE),0)","v":0},null,null,0,null,null,null,null,null,null,"A",{"$f":"COUNTIFS(E7:E104,\"A\",K7:K104,\"A\")","v":0},{"$f":"COUNTIFS(E7:E104,\"A\",K7:K104,\"B\")","v":0},{"$f":"COUNTIFS(E7:E104,\"A\",K7:K104,\"C\")","v":0},null,"A",{"$f":"COUNTIFS(H7:H104,\"a\",K7:K104,\"A\")","v":0},{"$f":"COUNTIFS(H7:H104,\"A\",K7:K104,\"B\")","v":0},{"$f":"COUNTIFS(H7:H104,\"A\",K7:K104,\"C\")","v":0},null,null,"00:00:00","00:00:00",0,{"$f":"SpellNumber((AI51))","v":"No Dollars and No Cents"},3,"No "]
["00:00:00",null,null,null,null,0,null,null,0,null,null,{"$f":"IFERROR(VLOOKUP(K52,$AD$7:AE54,2,FALSE),0)","v":0},null,null,0,null,null,null,null,null,null,"B",{"$f":"COUNTIFS(E7:E104,\"B\",K7:K104,\"A\")","v":0},{"$f":"COUNTIFS(E7:E104,\"B\",K7:K104,\"B\")","v":0},{"$f":"COUNTIFS(E7:E104,\"B\",K7:K104,\"C\")","v":0},null,"B",{"$f":"COUNTIFS(H7:H104,\"B\",K7:K104,\"A\")","v":0},{"$f":"COUNTIFS(H7:H104,\"B\",K7:K104,\"B\")","v":0},{"$f":"COUNTIFS(H7:H104,\"B\",K7:K104,\"C\")","v":0},null,null,"00:00:00","00:00:00",0,{"$f":"SpellNumber((AI52))","v":"No Dollars and No Cents"},3,"No "]
["00:00:00",null,null,null,null,0,null,null,0,null,null,{"$f":"IFERROR(VLOOKUP(K53,$AD$7:AE55,2,FALSE),0)","v":0},null,null,0,null,null,null,null,null,null,"C",{"$f":"COUNTIFS(K7:K104,\"C\",K7:K104,\"A\")","v":0},{"$f":"COUNTIFS(E7:E104,\"C\",K7:K104,\"B\")","v":0},{"$f":"COUNTIFS(E7:E104,\"C\",K7:K104,\"C\")","v":0},null,"C",{"$f":"COUNTIFS(H7:H104,\"C\",K7:K104,\"A\")","v":0},{"$f":"COUNTIFS(H7:H104,\"C\",K7:K104,\"B\")","v":0},{"$f":"COUNTIFS(H7:H104,\"C\",K7:K104,\"C\")","v":0},null,null,"00:00:00","00:00:00",0,{"$f":"SpellNumber((AI53))","v":"No Dollars and No Cents"},3,"No "]
["00:00:00",null,null,null,null,0,null,null,0,null,null,{"$f":"IFERROR(VLOOKUP(K54,$AD$7:AE56,2,FALSE),0)","v":0},null,null,0,null,null,null,null,null,null,"D",{"$f":"COUNTIFS(E7:E104,\"D\",K7:K104,\"A\")","v":0},{"$f":"COUNTIFS(E7:E104,\"D\",K7:K104,\"B\")","v":0},{"$f":"COUNTIFS(E7:E104,\"D\",K7:K104,\"C\")","v":0},null,"D",{"$f":"COUNTIFS(H7:H104,\"D\",K7:K104,\"A\")","v":0},{"$f":"COUNTIFS(H7:H104,\"D\",K7:K104,\"B\")","v":0},{"$f":"COUNTIFS(H7:H104,\"D\",K7:K104,\"C\")","v":0},null,null,"00:00:00","00:00:00",0,{"$f":"SpellNumber((AI54))","v":"No Dollars and No Cents"},3,"No "]
["00:00:00",null,null,null,null,0,null,null,0,null,null,{"$f":"IFERROR(VLOOKUP(K55,$AD$7:AE57,2,FALSE),0)","v":0},null,null,0,null,null,null,null,null,null,"E",{"$f":"COUNTIFS(E7:E104,\"E\",K7:K104,\"A\")","v":0},{"$f":"COUNTIFS(E7:E104,\"E\",K7:K104,\"B\")","v":0},{"$f":"COUNTIFS(E7:E104,\"E\",K7:K104,\"C\")","v":0},null,"E",{"$f":"COUNTIFS(H7:H104,\"E\",K7:K104,\"A\")","v":0},{"$f":"COUNTIFS(H7:H104,\"E\",K7:K104,\"B\")","v":0},{"$f":"COUNTIFS(H7:H104,\"E\",K7:K104,\"C\")","v":0},null,null,"00:00:00","00:00:00",0,{"$f":"SpellNumber((AI55))","v":"No Dollars and No Cents"},3,"No "]
["00:00:00",null,null,null,null,0,null,null,0,null,null,{"$f":"IFERROR(VLOOKUP(K56,$AD$7:AE58,2,FALSE),0)","v":0},null,null,0,null,null,null,null,null,null,"F",{"$f":"COUNTIFS(E7:E104,\"F\",K7:K104,\"A\")","v":0},{"$f":"COUNTIFS(E7:E104,\"F\",K7:K104,\"B\")","v":0},{"$f":"COUNTIFS(E7:E104,\"F\",K7:K104,\"C\")","v":0},null,"F",{"$f":"COUNTIFS(H7:H104,\"F\",K7:K104,\"A\")","v":0},{"$f":"COUNTIFS(H7:H104,\"F\",K7:K104,\"B\")","v":0},{"$f":"COUNTIFS(H7:H104,\"F\",K7:K104,\"C\")","v":0},null,null,"00:00:00","00:00:00",0,{"$f":"SpellNumber((AI56))","v":"No Dollars and No Cents"},3,"No "]
["00:00:00",null,null,null,null,0,null,null,0,null,null,{"$f":"IFERROR(VLOOKUP(K57,$AD$7:AE59,2,FALSE),0)","v":0},null,null,0,null,null,null,null,null,null,"G",{"$f":"COUNTIFS(E7:E104,\"G\",K7:K104,\"A\")","v":0},{"$f":"COUNTIFS(E7:E104,\"G\",K7:K104,\"B\")","v":0},{"$f":"COUNTIFS(E7:E104,\"G\",K7:K104,\"C\")","v":0},null,"G",{"$f":"COUNTIFS(H7:H104,\"G\",K7:K104,\"A\")","v":0},{"$f":"COUNTIFS(H7:H104,\"G\",K7:K104,\"B\")","v":0},{"$f":"COUNTIFS(H7:H104,\"G\",K7:K104,\"C\")","v":0},null,null,"00:00:00","00:00:00",0,{"$f":"SpellNumber((AI57))","v":"No Dollars and No Cents"},3,"No "]
["00:00:00",null,null,null,null,0,null,null,0,null,null,{"$f":"IFERROR(VLOOKUP(K58,$AD$7:AE60,2,FALSE),0)","v":0},null,null,0,null,null,null,null,null,null,"H",{"$f":"COUNTIFS(E7:E104,\"H\",K7:K104,\"A\")","v":0},{"$f":"COUNTIFS(E7:E104,\"H\",K7:K104,\"B\")","v":0},{"$f":"COUNTIFS(E7:E104,\"H\",K7:K104,\"C\")","v":0},null,"H",{"$f":"COUNTIFS(H7:H104,\"H\",K7:K104,\"A\")","v":0},{"$f":"COUNTIFS(H7:H104,\"H\",K7:K104,\"B\")","v":0},{"$f":"COUNTIFS(H7:H104,\"H\",K7:K104,\"C\")","v":0},null,null,"00:00:00","00:00:00",0,{"$f":"SpellNumber((AI58))","v":"No Dollars and No Cents"},3,"No "]
["00:00:00",null,null,null,null,0,null,null,0,null,null,{"$f":"IFERROR(VLOOKUP(K59,$AD$7:AE61,2,FALSE),0)","v":0},null,null,0,null,null,null,null,null,null,"I",{"$f":"COUNTIFS(E7:E104,\"I\",K7:K104,\"A\")","v":0},{"$f":"COUNTIFS(E7:E104,\"I\",K7:K104,\"B\")","v":0},{"$f":"COUNTIFS(E7:E104,\"I\",K7:K104,\"C\")","v":0},null,"I",{"$f":"COUNTIFS(H7:H104,\"I\",K7:K104,\"A\")","v":0},{"$f":"COUNTIFS(H7:H104,\"I\",K7:K104,\"B\")","v":0},{"$f":"COUNTIFS(H7:H104,\"I\",K7:K104,\"C\")","v":0},null,null,"00:00:00","00:00:00",0,{"$f":"SpellNumber((AI59))","v":"No Dollars and No Cents"},3,"No "]
["00:00:00",null,null,null,null,0,null,null,0,null,null,{"$f":"IFERROR(VLOOKUP(K60,$AD$7:AE62,2,FALSE),0)","v":0},null,null,0,null,null,null,null,null,null,"J",{"$f":"COUNTIFS(E7:E104,\"J\",K7:K104,\"A\")","v":0},{"$f":"COUNTIFS(E7:E104,\"J\",K7:K104,\"B\")","v":0},{"$f":"COUNTIFS(E7:E104,\"J\",K7:K104,\"C\")","v":0},null,"J",{"$f":"COUNTIFS(H7:H104,\"J\",K7:K104,\"A\")","v":0},{"$f":"COUNTIFS(H7:H104,\"J\",K7:K104,\"B\")","v":0},{"$f":"COUNTIFS(H7:H104,\"J\",K7:K104,\"C\")","v":0},null,null,"00:00:00","00:00:00",0,{"$f":"SpellNumber((AI60))","v":"No Dollars and No Cents"},3,"No "]
["00:00:00",null,null,null,null,0,null,null,0,null,null,{"$f":"IFERROR(VLOOKUP(K61,$AD$7:AE63,2,FALSE),0)","v":0},null,null,0,null,null,null,null,null,null,"K",{"$f":"COUNTIFS(E7:E104,\"K\",K7:K104,\"A\")","v":0},{"$f":"COUNTIFS(E7:E104,\"K\",K7:K104,\"B\")","v":0},{"$f":"COUNTIFS(E7:E104,\"K\",K7:K104,\"C\")","v":0},null,"K",{"$f":"COUNTIFS(H7:H104,\"K\",K7:K104,\"A\")","v":0},{"$f":"COUNTIFS(H7:H104,\"K\",K7:K104,\"B\")","v":0},{"$f":"COUNTIFS(H7:H104,\"K\",K7:K104,\"C\")","v":0},null,null,"00:00:00","00:00:00",0,{"$f":"SpellNumber((AI61))","v":"No Dollars and No Cents"},3,"No "]
["00:00:00",null,null,null,null,0,null,null,0,null,null,{"$f":"IFERROR(VLOOKUP(K62,$AD$7:AE64,2,FALSE),0)","v":0},null,null,0,null,null,null,null,null,null,"L",{"$f":"COUNTIFS(E7:E104,\"L\",K7:K104,\"A\")","v":0},{"$f":"COUNTIFS(E7:E104,\"L\",K7:K104,\"B\")","v":0},{"$f":"COUNTIFS(E7:E104,\"L\",K7:K104,\"C\")","v":0},null,"L",{"$f":"COUNTIFS(H7:H104,\"L\",K7:K104,\"A\")","v":0},{"$f":"COUNTIFS(H7:H104,\"L\",K7:K104,\"B\")","v":0},{"$f":"COUNTIFS(H7:H104,\"L\",K7:K104,\"C\")","v":0},null,null,"00:00:00","00:00:00",0,{"$f":"SpellNumber((AI62))","v":"No Dollars and No Cents"},3,"No "]
["00:00:00",null,null,null,null,0,null,null,0,null,null,{"$f":"IFERROR(VLOOKUP(K63,$AD$7:AE65,2,FALSE),0)","v":0},null,null,0,null,null,null,null,null,null,null,"Beh & Consequences",null,null,null,null,null,null,null,null,null,"00:00:00","00:00:00",0,{"$f":"SpellNumber((AI63))","v":"No Dollars and No Cents"},3,"No "]
["00:00:00",null,null,null,null,0,null,null,0,null,null,{"$f":"IFERROR(VLOOKUP(K64,$AD$7:AE66,2,FALSE),0)","v":0},null,null,0,null,null,null,null,null,null,null,"A","B","C",null,null,null,null,null,null,null,"00:00:00","00:00:00",0,{"$f":"SpellNumber((AI64))","v":"No Dollars and No Cents"},3,"No "]
["00:00:00",null,null,null,null,0,null,null,0,null,null,{"$f":"IFERROR(VLOOKUP(K65,$AD$7:AE67,2,FALSE),0)","v":0},null,null,0,null,null,null,null,null,null,"A",{"$f":"COUNTIFS(N7:N104,\"A\",K7:K104,\"A\")","v":0},{"$f":"COUNTIFS(N7:N104,\"A\",K7:K104,\"B\")","v":0},{"$f":"COUNTIFS(N7:N104,\"A\",K7:K104,\"C\")","v":0},null,null,null,null,null,null,null,"00:00:00","00:00:00",0,{"$f":"SpellNumber((AI65))","v":"No Dollars and No Cents"},3,"No "]
["00:00:00",null,null,null,null,0,null,null,0,null,null,{"$f":"IFERROR(VLOOKUP(K66,$AD$7:AE68,2,FALSE),0)","v":0},null,null,0,null,null,null,null,null,null,"B",{"$f":"COUNTIFS(N7:N104,\"B\",K7:K104,\"A\")","v":0},{"$f":"COUNTIFS(N7:N104,\"B\",K7:K104,\"B\")","v":0},{"$f":"COUNTIFS(N7:N104,\"B\",K7:K104,\"C\")","v":0},null,null,null,null,null,null,null,"00:00:00","00:00:00",0,{"$f":"SpellNumber((AI66))","v":"No Dollars and No Cents"},3,"No "]
["00:00:00",null,null,null,null,0,null,null,0,null,null,{"$f":"IFERROR(VLOOKUP(K67,$AD$7:AE69,2,FALSE),0)","v":0},null,null,0,null,null,null,null,null,null,"C",{"$f":"COUNTIFS(N7:N104,\"C\",K7:K104,\"A\")","v":0},{"$f":"COUNTIFS(N7:N104,\"C\",K7:K104,\"B\")","v":0},{"$f":"COUNTIFS(N7:N104,\"C\",K7:K104,\"C\")","v":0},null,null,null,null,null,null,null,"00:00:00","00:00:00",0,{"$f":"SpellNumber((AI67))","v":"No Dollars and No Cents"},3,"No "]
["00:00:00",null,null,null,null,0,null,null,0,null,null,{"$f":"IFERROR(VLOOKUP(K68,$AD$7:AE70,2,FALSE),0)","v":0},null,null,0,null,null,null,null,null,null,"D",{"$f":"COUNTIFS(N7:N104,\"D\",K7:K104,\"A\")","v":0},{"$f":"COUNTIFS(N7:N104,\"D\",K7:K104,\"B\")","v":0},{"$f":"COUNTIFS(N7:N104,\"D\",K7:K104,\"C\")","v":0},null,null,null,null,null,null,null,"00:00:00","00:00:00",0,{"$f":"SpellNumber((AI68))","v":"No Dollars and No Cents"},3,"No "]
["00:00:00",null,null,null,null,0,null,null,0,null,null,{"$f":"IFERROR(VLOOKUP(K69,$AD$7:AE71,2,FALSE),0)","v":0},null,null,0,null,null,null,null,null,null,"E",{"$f":"COUNTIFS(N7:N104,\"E\",K7:K104,\"A\")","v":0},{"$f":"COUNTIFS(N7:N104,\"E\",K7:K104,\"B\")","v":0},{"$f":"COUNTIFS(N7:N104,\"E\",K7:K104,\"C\")","v":0},null,null,null,null,null,null,null,"00:00:00","00:00:00",0,{"$f":"SpellNumber((AI69))","v":"No Dollars and No Cents"},3,"No "]
["00:00:00",null,null,null,null,0,null,null,0,null,null,{"$f":"IFERROR(VLOOKUP(K70,$AD$7:AE72,2,FALSE),0)","v":0},null,null,0,null,null,null,null,null,null,"F",{"$f":"COUNTIFS(N7:N104,\"F\",K7:K104,\"A\")","v":0},{"$f":"COUNTIFS(N7:N104,\"F\",K7:K104,\"B\")","v":0},{"$f":"COUNTIFS(N7:N104,\"F\",K7:K104,\"C\")","v":0},null,null,null,null,null,null,null,"00:00:00","00:00:00",0,{"$f":"SpellNumber((AI70))","v":"No Dollars and No Cents"},3,"No "]
["00:00:00",null,null,null,null,0,null,null,0,null,null,{"$f":"IFERROR(VLOOKUP(K71,$AD$7:AE73,2,FALSE),0)","v":0},null,null,0,null,null,null,null,null,null,"G",{"$f":"COUNTIFS(N7:N104,\"G\",K7:K104,\"A\")","v":0},{"$f":"COUNTIFS(N7:N104,\"G\",K7:K104,\"B\")","v":0},{"$f":"COUNTIFS(N7:N104,\"G\",K7:K104,\"C\")","v":0},null,null,null,null,null,null,null,"00:00:00","00:00:00",0,{"$f":"SpellNumber((AI71))","v":"No Dollars and No Cents"},3,"No "]
[{"$f":"C72-B72","v":"00:00:00"},null,null,null,null,0,null,null,{"$f":"IFERROR(VLOOKUP(H72,$Z$7:$AA$18,2,FALSE),0)","v":0},null,null,{"$f":"IFERROR(VLOOKUP(K72,$AD$7:AE74,2,FALSE),0)","v":0},null,null,{"$f":"IFERROR(VLOOKUP(N72,$V$22:$W$33,2,FALSE),0)","v":0},null,null,null,null,null,null,"H",{"$f":"COUNTIFS(N7:N104,\"H\",K7:K104,\"A\")","v":0},{"$f":"COUNTIFS(N7:N104,\"H\",K7:K104,\"B\")","v":0},{"$f":"COUNTIFS(N7:N104,\"H\",K7:K104,\"C\")","v":0},null,null,null,null,null,null,null,{"$f":"B72","v":"00:00:00"},{"$f":"TEXT(AG72,\"hh:mm:ss\")","v":"00:00:00"},{"$f":"AG72*24","v":0},{"$f":"SpellNumber((AI72))","v":"No Dollars and No Cents"},{"$f":"FIND(\" Dollar\",AJ72)","v":3},{"$f":"LEFT(AJ72,AK72)","v":"No "}]
["00:00:00",null,null,null,null,{"$f":"IFERROR(VLOOKUP(E73,$V$7:$W$18,2,FALSE),0)","v":0},null,null,0,null,null,{"$f":"IFERROR(VLOOKUP(K73,$AD$7:AE75,2,FALSE),0)","v":0},null,null,0,null,null,null,null,null,null,"I",{"$f":"COUNTIFS(N7:N104,\"I\",K7:K104,\"A\")","v":0},{"$f":"COUNTIFS(N7:N104,\"I\",K7:K104,\"B\")","v":0},{"$f":"COUNTIFS(N7:N104,\"I\",K7:K104,\"C\")","v":0},null,null,null,null,null,null,null,"00:00:00","00:00:00",0,{"$f":"SpellNumber((AI73))","v":"No Dollars and No Cents"},3,"No "]
["00:00:00",null,null,null,null,0,null,null,0,null,null,{"$f":"IFERROR(VLOOKUP(K74,$AD$7:AE76,2,FALSE),0)","v":0},null,null,0,null,null,null,null,null,null,"J",{"$f":"COUNTIFS(N7:N104,\"J\",K7:K104,\"A\")","v":0},{"$f":"COUNTIFS(N7:N104,\"J\",K7:K104,\"B\")","v":0},{"$f":"COUNTIFS(N7:N104,\"J\",K7:K104,\"C\")","v":0},null,null,null,null,null,null,null,"00:00:00","00:00:00",0,{"$f":"SpellNumber((AI74))","v":"No Dollars and No Cents"},3,"No "]
["00:00:00",null,null,null,null,0,null,null,0,null,null,{"$f":"IFERROR(VLOOKUP(K75,$AD$7:AE77,2,FALSE),0)","v":0},null,null,0,null,null,null,null,null,null,"K",{"$f":"COUNTIFS(N7:N104,\"K\",K7:K104,\"A\")","v":0},{"$f":"COUNTIFS(N7:N104,\"K\",K7:K104,\"B\")","v":0},{"$f":"COUNTIFS(N7:N104,\"K\",K7:K104,\"C\")","v":0},null,null,null,null,null,null,null,"00:00:00","00:00:00",0,{"$f":"SpellNumber((AI75))","v":"No Dollars and No Cents"},3,"No "]
["00:00:00",null,null,null,null,0,null,null,0,null,null,{"$f":"IFERROR(VLOOKUP(K76,$AD$7:AE78,2,FALSE),0)","v":0},null,null,0,null,null,null,null,null,null,"L",{"$f":"COUNTIFS(N7:N104,\"L\",K7:K104,\"A\")","v":0},{"$f":"COUNTIFS(N7:N104,\"L\",K7:K104,\"B\")","v":0},{"$f":"COUNTIFS(N7:N104,\"L\",K7:K104,\"C\")","v":0},null,null,null,null,null,null,null,"00:00:00","00:00:00",0,{"$f":"SpellNumber((AI76))","v":"No Dollars and No Cents"},3,"No "]
["00:00:00",null,null,null,null,0,null,null,0,null,null,{"$f":"IFERROR(VLOOKUP(K77,$AD$7:AE79,2,FALSE),0)","v":0},null,null,0,null,null,null,null,null,null,null,null,null,null,null,null,null,null,null,null,null,"00:00:00","00:00:00",0,{"$f":"SpellNumber((AI77))","v":"No Dollars and No Cents"},3,"No "]
["00:00:00",null,null,null,null,0,null,null,0,null,null,{"$f":"IFERROR(VLOOKUP(K78,$AD$7:AE80,2,FALSE),0)","v":0},null,null,0,null,null,null,null,null,null,null,null,null,null,null,null,null,null,null,null,null,"00:00:00","00:00:00",0,{"$f":"SpellNumber((AI78))","v":"No Dollars and No Cents"},3,"No "]
["00:00:00",null,null,null,null,0,null,null,0,null,null,{"$f":"IFERROR(VLOOKUP(K79,$AD$7:AE81,2,FALSE),0)","v":0},null,null,0,null,null,null,null,null,null,null,null,null,null,null,null,null,null,null,null,null,"00:00:00","00:00:00",0,{"$f":"SpellNumber((AI79))","v":"No Dollars and No Cents"},3,"No "]
["00:00:00",null,null,null,null,0,null,null,0,null,null,{"$f":"IFERROR(VLOOKUP(K80,$AD$7:AE82,2,FALSE),0)","v":0},null,null,0,null,null,null,null,null,null,null,null,null,null,null,null,null,null,null,null,null,"00:00:00","00:00:00",0,{"$f":"SpellNumber((AI80))","v":"No Dollars and No Cents"},3,"No "]
["00:00:00",null,null,null,null,0,null,null,0,null,null,{"$f":"IFERROR(VLOOKUP(K81,$AD$7:AE83,2,FALSE),0)","v":0},null,null,0,null,null,null,null,null,null,null,null,null,null,null,null,null,null,null,null,null,"00:00:00","00:00:00",0,{"$f":"SpellNumber((AI81))","v":"No Dollars and No Cents"},3,"No "]
["00:00:00",null,null,null,null,0,null,null,0,null,null,{"$f":"IFERROR(VLOOKUP(K82,$AD$7:AE84,2,FALSE),0)","v":0},null,null,0,null,null,null,null,null,null,null,null,null,null,null,null,null,null,null,null,null,"00:00:00","00:00:00",0,{"$f":"SpellNumber((AI82))","v":"No Dollars and No Cents"},3,"No "]
["00:00:00",null,null,null,null,0,null,null,0,null,null,{"$f":"IFERROR(VLOOKUP(K83,$AD$7:AE85,2,FALSE),0)","v":0},null,null,0,null,null,null,null,null,null,null,null,null,null,null,null,null,null,null,null,null,"00:00:00","00:00:00",0,{"$f":"SpellNumber((AI83))","v":"No Dollars and No Cents"},3,"No "]
["00:00:00",null,null,null,null,0,null,null,0,null,null,{"$f":"IFERROR(VLOOKUP(K84,$AD$7:AE86,2,FALSE),0)","v":0},null,null,0,null,null,null,null,null,null,null,null,null,null,null,null,null,null,null,null,null,"00:00:00","00:00:00",0,{"$f":"SpellNumber((AI84))","v":"No Dollars and No Cents"},3,"No "]
["00:00:00",null,null,null,null,0,null,null,0,null,null,{"$f":"IFERROR(VLOOKUP(K85,$AD$7:AE87,2,FALSE),0)","v":0},null,null,0,null,null,null,null,null,null,null,null,null,null,null,null,null,null,null,null,null,"00:00:00","00:00:00",0,{"$f":"SpellNumber((AI85))","v":"No Dollars and No Cents"},3,"No "]
["00:00:00",null,null,null,null,0,null,null,0,null,null,{"$f":"IFERROR(VLOOKUP(K86,$AD$7:AE88,2,FALSE),0)","v":0},null,null,0,null,null,null,null,null,null,null,null,null,null,null,null,null,null,null,null,null,"00:00:00","00:00:00",0,{"$f":"SpellNumber((AI86))","v":"No Dollars and No Cents"},3,"No "]
["00:00:00",null,null,null,null,0,null,null,0,null,null,{"$f":"IFERROR(VLOOKUP(K87,$AD$7:AE89,2,FALSE),0)","v":0},null,null,0,null,null,null,null,null,null,null,null,null,null,null,null,null,null,null,null,null,"00:00:00","00:00:00",0,{"$f":"SpellNumber((AI87))","v":"No Dollars and No Cents"},3,"No "]
["00:00:00",null,null,null,null,0,null,null,0,null,null,{"$f":"IFERROR(VLOOKUP(K88,$AD$7:AE90,2,FALSE),0)","v":0},null,null,0,null,null,null,null,null,null,null,null,null,null,null,null,null,null,null,null,null,"00:00:00","00:00:00",0,{"$f":"SpellNumber((AI88))","v":"No Dollars and No Cents"},3,"No "]
["00:00:00",null,null,null,null,0,null,null,0,null,null,{"$f":"IFERROR(VLOOKUP(K89,$AD$7:AE91,2,FALSE),0)","v":0},null,null,0,null,null,null,null,null,null,null,null,null,null,null,null,null,null,null,null,null,"00:00:00","00:00:00",0,{"$f":"SpellNumber((AI89))","v":"No Dollars and No Cents"},3,"No "]
["00:00:00",null,null,null,null,0,null,null,0,null,null,{"$f":"IFERROR(VLOOKUP(K90,$AD$7:AE92,2,FALSE),0)","v":0},null,null,0,null,null,null,null,null,null,null,null,null,null,null,null,null,null,null,null,null,"00:00:00","00:00:00",0,{"$f":"SpellNumber((AI90))","v":"No Dollars and No Cents"},3,"No "]
["00:00:00",null,null,null,null,0,null,null,0,null,null,{"$f":"IFERROR(VLOOKUP(K91,$AD$7:AE93,2,FALSE),0)","v":0},null,null,0,null,null,null,"Total Mins",{"$f":"SUM(A7:A104)","v":"00:00:00"},null,null,null,null,null,null,null,null,null,null,null,null,"00:00:00","00:00:00",0,{"$f":"SpellNumber((AI91))","v":"No Dollars and No Cents"},3,"No "]
["00:00:00",null,null,null,null,0,null,null,0,null,null,{"$f":"IFERROR(VLOOKUP(K92,$AD$7:AE94,2,FALSE),0)","v":0},null,null,0,null,null,null,"Settings:","A",{"$f":"COUNTIF(E4:E104,\"A\")","v":0},"Antec.","A",{"$f":"COUNTIF(H4:H104,\"A\")","v":0},"Beh","A",{"$f":"COUNTIF(L4:L104,\"A\")","v":0},"Conse.","A",{"$f":"COUNTIF(O4:O104,\"A\")","v":0},null,null,"00:00:00","00:00:00",0,{"$f":"SpellNumber((AI92))","v":"No Dollars and No Cents"},3,"No "]
["00:00:00",null,null,null,null,0,null,null,0,null,null,{"$f":"IFERROR(VLOOKUP(K93,$AD$7:AE95,2,FALSE),0)","v":0},null,null,0,null,null,null,null,"B",{"$f":"COUNTIF(E5:E105,\"B\")","v":0},null,"B",{"$f":"COUNTIF(H5:H105,\"B\")","v":0},null,"B",{"$f":"COUNTIF(L5:L105,\"B\")","v":0},null,"B",{"$f":"COUNTIF(O5:O105,\"B\")","v":0},null,null,"00:00:00","00:00:00",0,{"$f":"SpellNumber((AI93))","v":"No Dollars and No Cents"},3,"No "]
["00:00:00",null,null,null,null,0,null,null,0,null,null,{"$f":"IFERROR(VLOOKUP(K94,$AD$7:AE96,2,FALSE),0)","v":0},null,null,0,null,null,null,null,"C",{"$f":"COUNTIF(E6:E106,\"C\")","v":0},null,"C",{"$f":"COUNTIF(H6:H106,\"C\")","v":0},null,"C",{"$f":"COUNTIF(L6:L106,\"C\")","v":0},null,"C",{"$f":"COUNTIF(O6:O106,\"C\")","v":0},null,null,"00:00:00","00:00:00",0,{"$f":"SpellNumber((AI94))","v":"No Dollars and No Cents"},3,"No "]
["00:00:00",null,null,null,null,0,null,null,0,null,null,{"$f":"IFERROR(VLOOKUP(K95,$AD$7:AE97,2,FALSE),0)","v":0},null,null,0,null,null,null,null,"D",{"$f":"COUNTIF(E7:E107,\"D\")","v":0},null,"D",{"$f":"COUNTIF(H7:H107,\"D\")","v":0},null,null,null,null,"D",{"$f":"COUNTIF(O7:O107,\"D\")","v":0},null,null,"00:00:00","00:00:00",0,{"$f":"SpellNumber((AI95))","v":"No Dollars and No Cents"},3,"No "]
["00:00:00",null,null,null,null,0,null,null,0,null,null,{"$f":"IFERROR(VLOOKUP(K96,$AD$7:AE98,2,FALSE),0)","v":0},null,null,0,null,null,null,null,"E",{"$f":"COUNTIF(E8:E108,\"E\")","v":0},null,"E",{"$f":"COUNTIF(H8:H108,\"E\")","v":0},null,null,null,null,"E",{"$f":"COUNTIF(O8:O108,\"E\")","v":0},null,null,"00:00:00","00:00:00",0,{"$f":"SpellNumber((AI96))","v":"No Dollars and No Cents"},3,"No "]
["00:00:00",null,null,null,null,0,null,null,0,null,null,{"$f":"IFERROR(VLOOKUP(K97,$AD$7:AE99,2,FALSE),0)","v":0},null,null,0,null,null,null,null,"F",{"$f":"COUNTIF(E9:E109,\"F\")","v":0},null,"F",{"$f":"COUNTIF(H9:H109,\"F\")","v":0},null,null,null,null,"F",{"$f":"COUNTIF(O9:O109,\"F\")","v":0},null,null,"00:00:00","00:00:00",0,{"$f":"SpellNumber((AI97))","v":"No Dollars and No Cents"},3,"No "]
["00:00:00",null,null,null,null,0,null,null,0,null,null,{"$f":"IFERROR(VLOOKUP(K98,$AD$7:AE100,2,FALSE),0)","v":0},null,null,0,null,null,null,null,"G",{"$f":"COUNTIF(E10:E110,\"G\")","v":0},null,"G",{"$f":"COUNTIF(H10:H110,\"G\")","v":0},null,null,null,null,"G",{"$f":"COUNTIF(O10:O110,\"G\")","v":0},null,null,"00:00:00","00:00:00",0,{"$f":"SpellNumber((AI98))","v":"No Dollars and No Cents"},3,"No "]
["00:00:00",null,null,null,null,0,null,null,0,null,null,{"$f":"IFERROR(VLOOKUP(K99,$AD$7:AE101,2,FALSE),0)","v":0},null,null,0,null,null,null,null,"H",{"$f":"COUNTIF(E11:E111,\"H\")","v":0},null,"H",{"$f":"COUNTIF(H11:H111,\"H\")","v":0},null,null,null,null,"H",{"$f":"COUNTIF(O11:O111,\"H\")","v":0},null,null,"00:00:00","00:00:00",0,{"$f":"SpellNumber((AI99))","v":"No Dollars and No Cents"},3,"No "]
["00:00:00",null,null,null,null,0,null,null,0,null,null,{"$f":"IFERROR(VLOOKUP(K100,$AD$7:AE102,2,FALSE),0)","v":0},null,null,0,null,null,null,null,"I",{"$f":"COUNTIF(E12:E112,\"I\")","v":0},null,"I",{"$f":"COUNTIF(H12:H112,\"I\")","v":0},null,null,null,null,"I",{"$f":"COUNTIF(O12:O112,\"I\")","v":0},null,null,"00:00:00","00:00:00",0,{"$f":"SpellNumber((AI100))","v":"No Dollars and No Cents"},3,"No "]
["00:00:00",null,null,null,null,0,null,null,0,null,null,{"$f":"IFERROR(VLOOKUP(K101,$AD$7:AE103,2,FALSE),0)","v":0},null,null,0,null,null,null,null,"J",{"$f":"COUNTIF(E13:E113,\"J\")","v":0},null,"J",{"$f":"COUNTIF(H13:H113,\"J\")","v":0},null,null,null,null,"J",{"$f":"COUNTIF(O13:O113,\"J\")","v":0},null,null,"00:00:00","00:00:00",0,{"$f":"SpellNumber((AI101))","v":"No Dollars and No Cents"},3,"No "]
["00:00:00",null,null,null,null,0,null,null,0,null,null,{"$f":"IFERROR(VLOOKUP(K102,$AD$7:AE104,2,FALSE),0)","v":0},null,null,0,null,null,null,null,"K",{"$f":"COUNTIF(E14:E114,\"K\")","v":0},null,"K",{"$f":"COUNTIF(H14:H114,\"K\")","v":0},null,null,null,null,"K",{"$f":"COUNTIF(O14:O114,\"K\")","v":0},null,null,"00:00:00","00:00:00",0,{"$f":"SpellNumber((AI102))","v":"No Dollars and No Cents"},3,"No "]
["00:00:00",null,null,null,null,0,null,null,0,null,null,{"$f":"IFERROR(VLOOKUP(K103,$AD$7:AE105,2,FALSE),0)","v":0},null,null,0,null,null,null,null,"L",{"$f":"COUNTIF(E15:E115,\"L\")","v":0},null,"L",{"$f":"COUNTIF(H15:H115,\"L\")","v":0},null,null,null,null,"L",{"$f":"COUNTIF(O15:O115,\"L\")","v":0},null,null,"00:00:00","00:00:00",0,{"$f":"SpellNumber((AI103))","v":"No Dollars and No Cents"},3,"No "]
["00:00:00",null,null,null,null,0,null,null,0,null,null,{"$f":"IFERROR(VLOOKUP(K104,$AD$7:AE106,2,FALSE),0)","v":0},null,null,0,null,null,null,null,null,null,null,null,null,null,null,null,null,null,null,null,null,"00:00:00","00:00:00",0,{"$f":"SpellNumber((AI104))","v":"No Dollars and No Cents"},3,"No "]

{"sheet":"Data 23","index":31,"n_rows":104,"n_cols":38,"rows_kept":104,"cut":false,"hidden":false,"merged":[[0,7,3,14]]}
["ATTENDANCE",null,null,null,null,null,null,"Data Collection"]
["If tardy, arrival time",null,null,null,null,null,null,null,null,null,null,null,null,null,null,null,null,null,null,null,null,null,"Date",{"$f":"Calendar!D8","v":{"$error":"#N/A"}},{"$f":"TEXT(X2,\"ddd\")","v":{"$error":"#N/A"}}]
["If left early, time",null,null,null,null,null,null,null,null,null,null,null,null,null,null,null,null,null,null,null,null,null,"Frq. Of bx",{"$f":"AA22","v":0}]
[]
[]
["Mins.","Start Time","End Time",null,null,null,null,null,null,null,null,null,null,null,null,null,null,null,null,null,null,null,"Setting",null,null,"Ant",null,null,null,"Beh",null,null,"Raw Data","Time in text","Decimal"]
[{"$f":"C7-B7","v":"00:00:00"},null,null,null,null,{"$f":"IFERROR(VLOOKUP(E7,$V$7:$W$18,2,FALSE),0)","v":0},null,null,{"$f":"IFERROR(VLOOKUP(H7,$Z$7:$AA$18,2,FALSE),0)","v":0},null,null,{"$f":"IFERROR(VLOOKUP(K7,$AD$7:AE9,2,FALSE),0)","v":0},null,null,{"$f":"IFERROR(VLOOKUP(N7,$V$22:$W$33,2,FALSE),0)","v":0},null,null,null,null,null,null,"A",{"$f":"Criteria!C4","v":"Transition"},null,null,"A",{"$f":"Criteria!E4","v":"Transition"},null,null,"A",{"$f":"Criteria!G4","v":0},null,{"$f":"B7","v":"00:00:00"},{"$f":"TEXT(AG7,\"hh:mm:ss\")","v":"00:00:00"},{"$f":"AG7*24","v":0},{"$f":"SpellNumber((AI7))","v":"No Dollars and No Cents"},{"$f":"FIND(\" Dollar\",AJ7)","v":3},{"$f":"LEFT(AJ7,AK7)","v":"No "}]
[{"$f":"C8-B8","v":"00:00:00"},null,null,null,null,{"$f":"IFERROR(VLOOKUP(E8,$V$7:$W$18,2,FALSE),0)","v":0},null,null,{"$f":"IFERROR(VLOOKUP(H8,$Z$7:$AA$18,2,FALSE),0)","v":0},null,null,{"$f":"IFERROR(VLOOKUP(K8,$AD$7:AE10,2,FALSE),0)","v":0},null,null,{"$f":"IFERROR(VLOOKUP(N8,$V$22:$W$33,2,FALSE),0)","v":0},null,null,null,null,null,null,"B",{"$f":"Criteria!C5","v":"Morning Routine"},null,null,"B",{"$f":"Criteria!E5","v":"Denied access ('No')"},null,null,"B",{"$f":"Criteria!G5","v":0},null,{"$f":"B8","v":"00:00:00"},{"$f":"TEXT(AG8,\"hh:mm:ss\")","v":"00:00:00"},{"$f":"AG8*24","v":0},{"$f":"SpellNumber((AI8))","v":"No Dollars and No Cents"},{"$f":"FIND(\" Dollar\",AJ8)","v":3},{"$f":"LEFT(AJ8,AK8)","v":"No "}]
["00:00:00",null,null,null,null,{"$f":"IFERROR(VLOOKUP(E9,$V$7:$W$18,2,FALSE),0)","v":0},null,null,0,null,null,{"$f":"IFERROR(VLOOKUP(K9,$AD$7:AE11,2,FALSE),0)","v":0},null,null,0,null,null,null,null,null,null,"C",{"$f":"Criteria!C6","v":"Group Work"},null,null,"C",{"$f":"Criteria!E6","v":"Instruction/ Directions"},null,null,"C",{"$f":"Criteria!G6","v":0},null,"00:00:00","00:00:00",0,{"$f":"SpellNumber((AI9))","v":"No Dollars and No Cents"},3,"No "]
["00:00:00",null,null,null,null,0,null,null,0,null,null,{"$f":"IFERROR(VLOOKUP(K10,$AD$7:AE12,2,FALSE),0)","v":0},null,null,0,null,null,null,null,null,null,"D",{"$f":"Criteria!C7","v":"Ind. Seat/Work Time"},null,null,"D",{"$f":"Criteria!E7","v":"New Task"},null,null,null,null,null,"00:00:00","00:00:00",0,{"$f":"SpellNumber((AI10))","v":"No Dollars and No Cents"},3,"No "]
["00:00:00",null,null,null,null,0,null,null,0,null,null,{"$f":"IFERROR(VLOOKUP(K11,$AD$7:AE13,2,FALSE),0)","v":0},null,null,0,null,null,null,null,null,null,"E",{"$f":"Criteria!C8","v":"Language Arts"},null,null,"E",{"$f":"Criteria!E8","v":"Tcher attn to other"},null,null,null,null,null,"00:00:00","00:00:00",0,{"$f":"SpellNumber((AI11))","v":"No Dollars and No Cents"},3,"No "]
["00:00:00",null,null,null,null,0,null,null,0,null,null,{"$f":"IFERROR(VLOOKUP(K12,$AD$7:AE14,2,FALSE),0)","v":0},null,null,0,null,null,null,null,null,null,"F",{"$f":"Criteria!C9","v":"Mathematics"},null,null,"F",{"$f":"Criteria!E9","v":"Choice given"},null,null,null,null,null,"00:00:00","00:00:00",0,{"$f":"SpellNumber((AI12))","v":"No Dollars and No Cents"},3,"No "]
["00:00:00",null,null,null,null,0,null,null,0,null,null,{"$f":"IFERROR(VLOOKUP(K13,$AD$7:AE15,2,FALSE),0)","v":0},null,null,0,null,null,null,null,null,null,"G",{"$f":"Criteria!C10","v":"Physical Education"},null,null,"G",{"$f":"Criteria!E10","v":"Redirection"},null,null,null,null,null,"00:00:00","00:00:00",0,{"$f":"SpellNumber((AI13))","v":"No Dollars and No Cents"},3,"No "]
["00:00:00",null,null,null,null,0,null,null,0,null,null,{"$f":"IFERROR(VLOOKUP(K14,$AD$7:AE16,2,FALSE),0)","v":0},null,null,0,null,null,null,null,null,null,"H",{"$f":"Criteria!C11","v":"Music/Art"},null,null,"H",{"$f":"Criteria!E11","v":"Routine Task"},null,null,null,null,null,"00:00:00","00:00:00",0,{"$f":"SpellNumber((AI14))","v":"No Dollars and No Cents"},3,"No "]
["00:00:00",null,null,null,null,0,null,null,0,null,null,{"$f":"IFERROR(VLOOKUP(K15,$AD$7:AE17,2,FALSE),0)","v":0},null,null,0,null,null,null,null,null,null,"I",{"$f":"Criteria!C12","v":"Speech"},null,null,"I",{"$f":"Criteria!E12","v":"Waiting"},null,null,null,null,null,"00:00:00","00:00:00",0,{"$f":"SpellNumber((AI15))","v":"No Dollars and No Cents"},3,"No "]
["00:00:00",null,null,null,null,0,null,null,0,null,null,{"$f":"IFERROR(VLOOKUP(K16,$AD$7:AE18,2,FALSE),0)","v":0},null,null,0,null,null,null,null,null,null,"J",{"$f":"Criteria!C13","v":"OT/PT"},null,null,"J",{"$f":"Criteria!E13","v":"Unknown"},null,null,null,null,null,"00:00:00","00:00:00",0,{"$f":"SpellNumber((AI16))","v":"No Dollars and No Cents"},3,"No "]
["00:00:00",null,null,null,null,0,null,null,0,null,null,{"$f":"IFERROR(VLOOKUP(K17,$AD$7:AE19,2,FALSE),0)","v":0},null,null,0,null,null,null,null,null,null,"K",{"$f":"Criteria!C14","v":"Center"},null,null,"K",{"$f":"Criteria!E14","v":"Ignored"},null,null,null,null,null,"00:00:00","00:00:00",0,{"$f":"SpellNumber((AI17))","v":"No Dollars and No Cents"},3,"No "]
["00:00:00",null,null,null,null,0,null,null,0,null,null,{"$f":"IFERROR(VLOOKUP(K18,$AD$7:AE20,2,FALSE),0)","v":0},null,null,0,null,null,null,null,null,null,"L",{"$f":"Criteria!C15","v":"Other"},null,null,"L",{"$f":"Criteria!E15","v":"Other"},null,null,null,null,null,"00:00:00","00:00:00",0,{"$f":"SpellNumber((AI18))","v":"No Dollars and No Cents"},3,"No "]
["00:00:00",null,null,null,null,0,null,null,0,null,null,{"$f":"IFERROR(VLOOKUP(K19,$AD$7:AE21,2,FALSE),0)","v":0},null,null,0,null,null,null,null,null,null,null,null,null,null,null,null,null,null,null,null,null,"00:00:00","00:00:00",0,{"$f":"SpellNumber((AI19))","v":"No Dollars and No Cents"},3,"No "]
["00:00:00",null,null,null,null,0,null,null,0,null,null,{"$f":"IFERROR(VLOOKUP(K20,$AD$7:AE22,2,FALSE),0)","v":0},null,null,0,null,null,null,null,null,null,null,null,null,null,null,null,null,null,null,null,null,"00:00:00","00:00:00",0,{"$f":"SpellNumber((AI20))","v":"No Dollars and No Cents"},3,"No "]
["00:00:00",null,null,null,null,0,null,null,0,null,null,{"$f":"IFERROR(VLOOKUP(K21,$AD$7:AE23,2,FALSE),0)","v":0},null,null,0,null,null,null,null,null,null,null,"Con",null,"Bx Frequency Per Day",null,null,null,null,null,null,null,"00:00:00","00:00:00",0,{"$f":"SpellNumber((AI21))","v":"No Dollars and No Cents"},3,"No "]
["00:00:00",null,null,null,null,0,null,null,0,null,null,{"$f":"IFERROR(VLOOKUP(K22,$AD$7:AE24,2,FALSE),0)","v":0},null,null,0,null,null,null,null,null,null,"A",{"$f":"Criteria!I4","v":"Choice Given"},"A",{"$f":"COUNTIF(K7:K104,\"A\")","v":0},null,{"$f":"SUM(Y22:Y24)","v":0},null,"Bin Dec","Frequency of Time",null,null,"00:00:00","00:00:00",0,{"$f":"SpellNumber((AI22))","v":"No Dollars and No Cents"},3,"No "]
["00:00:00",null,null,null,null,0,null,null,0,null,null,{"$f":"IFERROR(VLOOKUP(K23,$AD$7:AE25,2,FALSE),0)","v":0},null,null,0,null,null,null,null,null,null,"B",{"$f":"Criteria!I5","v":"Ignored"},"B",{"$f":"COUNTIF(K7:K104,\"B\")","v":0},null,null,null,"Seven",{"$f":"COUNTIF(AL7:AL104,\"*Seven*\")","v":0},null,null,"00:00:00","00:00:00",0,{"$f":"SpellNumber((AI23))","v":"No Dollars and No Cents"},3,"No "]
["00:00:00",null,null,null,null,0,null,null,0,null,null,{"$f":"IFERROR(VLOOKUP(K24,$AD$7:AE26,2,FALSE),0)","v":0},null,null,0,null,null,null,null,null,null,"C",{"$f":"Criteria!I6","v":"Redirection"},"C",{"$f":"COUNTIF(K7:K104,\"C\")","v":0},null,null,null,"Eight",{"$f":"COUNTIF(AL7:AL104,\"*Eight*\")","v":0},null,null,"00:00:00","00:00:00",0,{"$f":"SpellNumber((AI24))","v":"No Dollars and No Cents"},3,"No "]
["00:00:00",null,null,null,null,0,null,null,0,null,null,{"$f":"IFERROR(VLOOKUP(K25,$AD$7:AE27,2,FALSE),0)","v":0},null,null,0,null,null,null,null,null,null,"D",{"$f":"Criteria!I7","v":"Kept the demand"},null,"Bx Druation Per Day",null,null,null,"Nine",{"$f":"COUNTIF(AL7:AL104,\"*Nine*\")","v":0},null,null,"00:00:00","00:00:00",0,{"$f":"SpellNumber((AI25))","v":"No Dollars and No Cents"},3,"No "]
["00:00:00",null,null,null,null,0,null,null,0,null,null,{"$f":"IFERROR(VLOOKUP(K26,$AD$7:AE28,2,FALSE),0)","v":0},null,null,0,null,null,null,null,null,null,"E",{"$f":"Criteria!I8","v":"Changed activity"},"A",{"$f":"SUMIF(K7:K104,\"A\",A7:A104)","v":"00:00:00"},null,null,null,"Ten",{"$f":"COUNTIF(AL7:AL12,\"*Ten*\")","v":0},null,null,"00:00:00","00:00:00",0,{"$f":"SpellNumber((AI26))","v":"No Dollars and No Cents"},3,"No "]
["00:00:00",null,null,null,null,0,null,null,0,null,null,{"$f":"IFERROR(VLOOKUP(K27,$AD$7:AE29,2,FALSE),0)","v":0},null,null,0,null,null,null,null,null,null,"F",{"$f":"Criteria!I9","v":"Verbal reprimand"},"B",{"$f":"SUMIF(K7:K104,\"B\",A7:A104)","v":"00:00:00"},null,null,null,"Eleven",{"$f":"COUNTIF(AL7:AL104,\"*Eleven*\")","v":0},null,null,"00:00:00","00:00:00",0,{"$f":"SpellNumber((AI27))","v":"No Dollars and No Cents"},3,"No "]
["00:00:00",null,null,null,null,0,null,null,0,null,null,{"$f":"IFERROR(VLOOKUP(K28,$AD$7:AE30,2,FALSE),0)","v":0},null,null,0,null,null,null,null,null,null,"G",{"$f":"Criteria!I10","v":"Told to wait"},"C",{"$f":"SUMIF(K7:K104,\"C\",A7:A104)","v":"00:00:00"},null,null,null,"Twelve",{"$f":"COUNTIF(AL7:AL104,\"*Twelve*\")","v":0},null,null,"00:00:00","00:00:00",0,{"$f":"SpellNumber((AI28))","v":"No Dollars and No Cents"},3,"No "]
["00:00:00",null,null,null,null,0,null,null,0,null,null,{"$f":"IFERROR(VLOOKUP(K29,$AD$7:AE31,2,FALSE),0)","v":0},null,null,0,null,null,null,null,null,null,"H",{"$f":"Criteria!I11","v":"Physical Prompt"},null,null,null,null,null,"One",{"$f":"COUNTIF(AL7:AL104,\"*One*\")","v":0},null,null,"00:00:00","00:00:00",0,{"$f":"SpellNumber((AI29))","v":"No Dollars and No Cents"},3,"No "]
["00:00:00",null,null,null,null,0,null,null,0,null,null,{"$f":"IFERROR(VLOOKUP(K30,$AD$7:AE32,2,FALSE),0)","v":0},null,null,0,null,null,null,null,null,null,"I",{"$f":"Criteria!I12","v":"Verbal prompt"},null,null,null,null,null,"Two",{"$f":"COUNTIF(AL7:AL104,\"*Two*\")","v":0},null,null,"00:00:00","00:00:00",0,{"$f":"SpellNumber((AI30))","v":"No Dollars and No Cents"},3,"No "]
["00:00:00",null,null,null,null,0,null,null,0,null,null,{"$f":"IFERROR(VLOOKUP(K31,$AD$7:AE33,2,FALSE),0)","v":0},null,null,0,null,null,null,null,null,null,"J",{"$f":"Criteria!I13","v":"Told to wait"},null,null,null,null,null,"Three",{"$f":"COUNTIF(AL7:AL104,\"*Three*\")","v":0},null,null,"00:00:00","00:00:00",0,{"$f":"SpellNumber((AI31))","v":"No Dollars and No Cents"},3,"No "]
["00:00:00",null,null,null,null,0,null,null,0,null,null,{"$f":"IFERROR(VLOOKUP(K32,$AD$7:AE34,2,FALSE),0)","v":0},null,null,0,null,null,null,null,null,null,"K",{"$f":"Criteria!I14","v":"Unknown"},null,null,null,null,null,"Four",{"$f":"COUNTIF(AL7:AL104,\"*Four*\")","v":0},null,null,"00:00:00","00:00:00",0,{"$f":"SpellNumber((AI32))","v":"No Dollars and No Cents"},3,"No "]
["00:00:00",null,null,null,null,0,null,null,0,null,null,{"$f":"IFERROR(VLOOKUP(K33,$AD$7:AE35,2,FALSE),0)","v":0},null,null,0,null,null,null,null,null,null,"L",{"$f":"Criteria!I15","v":"Other"},null,null,null,null,null,null,null,null,null,"00:00:00","00:00:00",0,{"$f":"SpellNumber((AI33))","v":"No Dollars and No Cents"},3,"No "]
["00:00:00",null,null,null,null,0,null,null,0,null,null,{"$f":"IFERROR(VLOOKUP(K34,$AD$7:AE36,2,FALSE),0)","v":0},null,null,0,null,null,null,null,null,null,null,null,null,null,null,null,null,null,null,null,null,"00:00:00","00:00:00",0,{"$f":"SpellNumber((AI34))","v":"No Dollars and No Cents"},3,"No "]
["00:00:00",null,null,null,null,0,null,null,0,null,null,{"$f":"IFERROR(VLOOKUP(K35,$AD$7:AE37,2,FALSE),0)","v":0},null,null,0,null,null,null,null,null,null,null,"Context Frequency","Consequence","Antedencents",null,null,null,null,null,null,null,"00:00:00","00:00:00",0,{"$f":"SpellNumber((AI35))","v":"No Dollars and No Cents"},3,"No "]
["00:00:00",null,null,null,null,0,null,null,0,null,null,{"$f":"IFERROR(VLOOKUP(K36,$AD$7:AE38,2,FALSE),0)","v":0},null,null,0,null,null,null,null,null,null,"A",{"$f":"COUNTIF(E7:E104,\"A\")","v":0},{"$f":"COUNTIF(N7:N104,\"A\")","v":0},{"$f":"COUNTIF(H7:H104,\"A\")","v":0},null,null,null,null,null,null,null,"00:00:00","00:00:00",0,{"$f":"SpellNumber((AI36))","v":"No Dollars and No Cents"},3,"No "]
["00:00:00",null,null,null,null,0,null,null,0,null,null,{"$f":"IFERROR(VLOOKUP(K37,$AD$7:AE39,2,FALSE),0)","v":0},null,null,0,null,null,null,null,null,null,"B",{"$f":"COUNTIF(E8:E105,\"B\")","v":0},{"$f":"COUNTIF(N7:N104,\"B\")","v":0},{"$f":"COUNTIF(H7:H104,\"B\")","v":0},null,null,null,null,null,null,null,"00:00:00","00:00:00",0,{"$f":"SpellNumber((AI37))","v":"No Dollars and No Cents"},3,"No "]
["00:00:00",null,null,null,null,0,null,null,0,null,null,{"$f":"IFERROR(VLOOKUP(K38,$AD$7:AE40,2,FALSE),0)","v":0},null,null,0,null,null,null,null,null,null,"C",{"$f":"COUNTIF(E8:E105,\"C\")","v":0},{"$f":"COUNTIF(N7:N104,\"C\")","v":0},{"$f":"COUNTIF(H7:H104,\"C\")","v":0},null,null,null,null,null,null,null,"00:00:00","00:00:00",0,{"$f":"SpellNumber((AI38))","v":"No Dollars and No Cents"},3,"No "]
["00:00:00",null,null,null,null,0,null,null,0,null,null,{"$f":"IFERROR(VLOOKUP(K39,$AD$7:AE41,2,FALSE),0)","v":0},null,null,0,null,null,null,null,null,null,"D",{"$f":"COUNTIF(E8:E105,\"D\")","v":0},{"$f":"COUNTIF(N7:N104,\"D\")","v":0},{"$f":"COUNTIF(H7:H104,\"D\")","v":0},null,null,null,null,null,null,null,"00:00:00","00:00:00",0,{"$f":"SpellNumber((AI39))","v":"No Dollars and No Cents"},3,"No "]
["00:00:00",null,null,null,null,0,null,null,0,null,null,{"$f":"IFERROR(VLOOKUP(K40,$AD$7:AE42,2,FALSE),0)","v":0},null,null,0,null,null,null,null,null,null,"E",{"$f":"COUNTIF(E8:E105,\"E\")","v":0},{"$f":"COUNTIF(N7:N104,\"E\")","v":0},{"$f":"COUNTIF(H7:H104,\"E\")","v":0},null,null,null,null,null,null,null,"00:00:00","00:00:00",0,{"$f":"SpellNumber((AI40))","v":"No Dollars and No Cents"},3,"No "]
["00:00:00",null,null,null,null,0,null,null,0,null,null,{"$f":"IFERROR(VLOOKUP(K41,$AD$7:AE43,2,FALSE),0)","v":0},null,null,0,null,null,null,null,null,null,"F",{"$f":"COUNTIF(E8:E105,\"F\")","v":0},{"$f":"COUNTIF(N7:N104,\"F\")","v":0},{"$f":"COUNTIF(H7:H104,\"F\")","v":0},null,null,null,null,null,null,null,"00:00:00","00:00:00",0,{"$f":"SpellNumber((AI41))","v":"No Dollars and No Cents"},3,"No "]
["00:00:00",null,null,null,null,0,null,null,0,null,null,{"$f":"IFERROR(VLOOKUP(K42,$AD$7:AE44,2,FALSE),0)","v":0},null,null,0,null,null,null,null,null,null,"G",{"$f":"COUNTIF(E8:E105,\"G\")","v":0},{"$f":"COUNTIF(N7:N104,\"G\")","v":0},{"$f":"COUNTIF(H7:H104,\"G\")","v":0},null,null,null,null,null,null,null,"00:00:00","00:00:00",0,{"$f":"SpellNumber((AI42))","v":"No Dollars and No Cents"},3,"No "]
["00:00:00",null,null,null,null,0,null,null,0,null,null,{"$f":"IFERROR(VLOOKUP(K43,$AD$7:AE45,2,FALSE),0)","v":0},null,null,0,null,null,null,null,null,null,"H",{"$f":"COUNTIF(E8:E105,\"H\")","v":0},{"$f":"COUNTIF(N7:N104,\"H\")","v":0},{"$f":"COUNTIF(H7:H104,\"H\")","v":0},null,null,null,null,null,null,null,"00:00:00","00:00:00",0,{"$f":"SpellNumber((AI43))","v":"No Dollars and No Cents"},3,"No "]
["00:00:00",null,null,null,null,0,null,null,0,null,null,{"$f":"IFERROR(VLOOKUP(K44,$AD$7:AE46,2,FALSE),0)","v":0},null,null,0,null,null,null,null,null,null,"I",{"$f":"COUNTIF(E8:E105,\"I\")","v":0},{"$f":"COUNTIF(N7:N104,\"I\")","v":0},{"$f":"COUNTIF(H7:H104,\"I\")","v":0},null,null,null,null,null,null,null,"00:00:00","00:00:00",0,{"$f":"SpellNumber((AI44))","v":"No Dollars and No Cents"},3,"No "]
["00:00:00",null,null,null,null,0,null,null,0,null,null,{"$f":"IFERROR(VLOOKUP(K45,$AD$7:AE47,2,FALSE),0)","v":0},null,null,0,null,null,null,null,null,null,"J",{"$f":"COUNTIF(E8:E105,\"J\")","v":0},{"$f":"COUNTIF(N7:N104,\"J\")","v":0},{"$f":"COUNTIF(H7:H104,\"J\")","v":0},null,null,null,null,null,null,null,"00:00:00","00:00:00",0,{"$f":"SpellNumber((AI45))","v":"No Dollars and No Cents"},3,"No "]
["00:00:00",null,null,null,null,0,null,null,0,null,null,{"$f":"IFERROR(VLOOKUP(K46,$AD$7:AE48,2,FALSE),0)","v":0},null,null,0,null,null,null,null,null,null,"K",{"$f":"COUNTIF(E8:E105,\"K\")","v":0},{"$f":"COUNTIF(N7:N104,\"K\")","v":0},{"$f":"COUNTIF(H7:H104,\"K\")","v":0},null,null,null,null,null,null,null,"00:00:00","00:00:00",0,{"$f":"SpellNumber((AI46))","v":"No Dollars and No Cents"},3,"No "]
["00:00:00",null,null,null,null,0,null,null,0,null,null,{"$f":"IFERROR(VLOOKUP(K47,$AD$7:AE49,2,FALSE),0)","v":0},null,null,0,null,null,null,null,null,null,"L",{"$f":"COUNTIF(E8:E105,\"l\")","v":0},{"$f":"COUNTIF(N7:N104,\"L\")","v":0},{"$f":"COUNTIF(H7:H104,\"L\")","v":0},null,null,null,null,null,null,null,"00:00:00","00:00:00",0,{"$f":"SpellNumber((AI47))","v":"No Dollars and No Cents"},3,"No "]
["00:00:00",null,null,null,null,0,null,null,0,null,null,{"$f":"IFERROR(VLOOKUP(K48,$AD$7:AE50,2,FALSE),0)","v":0},null,null,0,null,null,null,null,null,null,null,null,null,null,null,null,null,null,null,null,null,"00:00:00","00:00:00",0,{"$f":"SpellNumber((AI48))","v":"No Dollars and No Cents"},3,"No "]
["00:00:00",null,null,null,null,0,null,null,0,null,null,{"$f":"IFERROR(VLOOKUP(K49,$AD$7:AE51,2,FALSE),0)","v":0},null,null,0,null,null,null,null,null,null,null,"Beh & Setting ",null,null,null,"Beh & Antecedents",null,null,null,null,null,"00:00:00","00:00:00",0,{"$f":"SpellNumber((AI49))","v":"No Dollars and No Cents"},3,"No "]
["00:00:00",null,null,null,null,0,null,null,0,null,null,{"$f":"IFERROR(VLOOKUP(K50,$AD$7:AE52,2,FALSE),0)","v":0},null,null,0,null,null,null,null,null,null,null,"A","B","C",null,null,"A","B","C",null,null,"00:00:00","00:00:00",0,{"$f":"SpellNumber((AI50))","v":"No Dollars and No Cents"},3,"No "]
["00:00:00",null,null,null,null,0,null,null,0,null,null,{"$f":"IFERROR(VLOOKUP(K51,$AD$7:AE53,2,FALSE),0)","v":0},null,null,0,null,null,null,null,null,null,"A",{"$f":"COUNTIFS(E7:E104,\"A\",K7:K104,\"A\")","v":0},{"$f":"COUNTIFS(E7:E104,\"A\",K7:K104,\"B\")","v":0},{"$f":"COUNTIFS(E7:E104,\"A\",K7:K104,\"C\")","v":0},null,"A",{"$f":"COUNTIFS(H7:H104,\"a\",K7:K104,\"A\")","v":0},{"$f":"COUNTIFS(H7:H104,\"A\",K7:K104,\"B\")","v":0},{"$f":"COUNTIFS(H7:H104,\"A\",K7:K104,\"C\")","v":0},null,null,"00:00:00","00:00:00",0,{"$f":"SpellNumber((AI51))","v":"No Dollars and No Cents"},3,"No "]
["00:00:00",null,null,null,null,0,null,null,0,null,null,{"$f":"IFERROR(VLOOKUP(K52,$AD$7:AE54,2,FALSE),0)","v":0},null,null,0,null,null,null,null,null,null,"B",{"$f":"COUNTIFS(E7:E104,\"B\",K7:K104,\"A\")","v":0},{"$f":"COUNTIFS(E7:E104,\"B\",K7:K104,\"B\")","v":0},{"$f":"COUNTIFS(E7:E104,\"B\",K7:K104,\"C\")","v":0},null,"B",{"$f":"COUNTIFS(H7:H104,\"B\",K7:K104,\"A\")","v":0},{"$f":"COUNTIFS(H7:H104,\"B\",K7:K104,\"B\")","v":0},{"$f":"COUNTIFS(H7:H104,\"B\",K7:K104,\"C\")","v":0},null,null,"00:00:00","00:00:00",0,{"$f":"SpellNumber((AI52))","v":"No Dollars and No Cents"},3,"No "]
["00:00:00",null,null,null,null,0,null,null,0,null,null,{"$f":"IFERROR(VLOOKUP(K53,$AD$7:AE55,2,FALSE),0)","v":0},null,null,0,null,null,null,null,null,null,"C",{"$f":"COUNTIFS(K7:K104,\"C\",K7:K104,\"A\")","v":0},{"$f":"COUNTIFS(E7:E104,\"C\",K7:K104,\"B\")","v":0},{"$f":"COUNTIFS(E7:E104,\"C\",K7:K104,\"C\")","v":0},null,"C",{"$f":"COUNTIFS(H7:H104,\"C\",K7:K104,\"A\")","v":0},{"$f":"COUNTIFS(H7:H104,\"C\",K7:K104,\"B\")","v":0},{"$f":"COUNTIFS(H7:H104,\"C\",K7:K104,\"C\")","v":0},null,null,"00:00:00","00:00:00",0,{"$f":"SpellNumber((AI53))","v":"No Dollars and No Cents"},3,"No "]
["00:00:00",null,null,null,null,0,null,null,0,null,null,{"$f":"IFERROR(VLOOKUP(K54,$AD$7:AE56,2,FALSE),0)","v":0},null,null,0,null,null,null,null,null,null,"D",{"$f":"COUNTIFS(E7:E104,\"D\",K7:K104,\"A\")","v":0},{"$f":"COUNTIFS(E7:E104,\"D\",K7:K104,\"B\")","v":0},{"$f":"COUNTIFS(E7:E104,\"D\",K7:K104,\"C\")","v":0},null,"D",{"$f":"COUNTIFS(H7:H104,\"D\",K7:K104,\"A\")","v":0},{"$f":"COUNTIFS(H7:H104,\"D\",K7:K104,\"B\")","v":0},{"$f":"COUNTIFS(H7:H104,\"D\",K7:K104,\"C\")","v":0},null,null,"00:00:00","00:00:00",0,{"$f":"SpellNumber((AI54))","v":"No Dollars and No Cents"},3,"No "]
["00:00:00",null,null,null,null,0,null,null,0,null,null,{"$f":"IFERROR(VLOOKUP(K55,$AD$7:AE57,2,FALSE),0)","v":0},null,null,0,null,null,null,null,null,null,"E",{"$f":"COUNTIFS(E7:E104,\"E\",K7:K104,\"A\")","v":0},{"$f":"COUNTIFS(E7:E104,\"E\",K7:K104,\"B\")","v":0},{"$f":"COUNTIFS(E7:E104,\"E\",K7:K104,\"C\")","v":0},null,"E",{"$f":"COUNTIFS(H7:H104,\"E\",K7:K104,\"A\")","v":0},{"$f":"COUNTIFS(H7:H104,\"E\",K7:K104,\"B\")","v":0},{"$f":"COUNTIFS(H7:H104,\"E\",K7:K104,\"C\")","v":0},null,null,"00:00:00","00:00:00",0,{"$f":"SpellNumber((AI55))","v":"No Dollars and No Cents"},3,"No "]
["00:00:00",null,null,null,null,0,null,null,0,null,null,{"$f":"IFERROR(VLOOKUP(K56,$AD$7:AE58,2,FALSE),0)","v":0},null,null,0,null,null,null,null,null,null,"F",{"$f":"COUNTIFS(E7:E104,\"F\",K7:K104,\"A\")","v":0},{"$f":"COUNTIFS(E7:E104,\"F\",K7:K104,\"B\")","v":0},{"$f":"COUNTIFS(E7:E104,\"F\",K7:K104,\"C\")","v":0},null,"F",{"$f":"COUNTIFS(H7:H104,\"F\",K7:K104,\"A\")","v":0},{"$f":"COUNTIFS(H7:H104,\"F\",K7:K104,\"B\")","v":0},{"$f":"COUNTIFS(H7:H104,\"F\",K7:K104,\"C\")","v":0},null,null,"00:00:00","00:00:00",0,{"$f":"SpellNumber((AI56))","v":"No Dollars and No Cents"},3,"No "]
["00:00:00",null,null,null,null,0,null,null,0,null,null,{"$f":"IFERROR(VLOOKUP(K57,$AD$7:AE59,2,FALSE),0)","v":0},null,null,0,null,null,null,null,null,null,"G",{"$f":"COUNTIFS(E7:E104,\"G\",K7:K104,\"A\")","v":0},{"$f":"COUNTIFS(E7:E104,\"G\",K7:K104,\"B\")","v":0},{"$f":"COUNTIFS(E7:E104,\"G\",K7:K104,\"C\")","v":0},null,"G",{"$f":"COUNTIFS(H7:H104,\"G\",K7:K104,\"A\")","v":0},{"$f":"COUNTIFS(H7:H104,\"G\",K7:K104,\"B\")","v":0},{"$f":"COUNTIFS(H7:H104,\"G\",K7:K104,\"C\")","v":0},null,null,"00:00:00","00:00:00",0,{"$f":"SpellNumber((AI57))","v":"No Dollars and No Cents"},3,"No "]
["00:00:00",null,null,null,null,0,null,null,0,null,null,{"$f":"IFERROR(VLOOKUP(K58,$AD$7:AE60,2,FALSE),0)","v":0},null,null,0,null,null,null,null,null,null,"H",{"$f":"COUNTIFS(E7:E104,\"H\",K7:K104,\"A\")","v":0},{"$f":"COUNTIFS(E7:E104,\"H\",K7:K104,\"B\")","v":0},{"$f":"COUNTIFS(E7:E104,\"H\",K7:K104,\"C\")","v":0},null,"H",{"$f":"COUNTIFS(H7:H104,\"H\",K7:K104,\"A\")","v":0},{"$f":"COUNTIFS(H7:H104,\"H\",K7:K104,\"B\")","v":0},{"$f":"COUNTIFS(H7:H104,\"H\",K7:K104,\"C\")","v":0},null,null,"00:00:00","00:00:00",0,{"$f":"SpellNumber((AI58))","v":"No Dollars and No Cents"},3,"No "]
["00:00:00",null,null,null,null,0,null,null,0,null,null,{"$f":"IFERROR(VLOOKUP(K59,$AD$7:AE61,2,FALSE),0)","v":0},null,null,0,null,null,null,null,null,null,"I",{"$f":"COUNTIFS(E7:E104,\"I\",K7:K104,\"A\")","v":0},{"$f":"COUNTIFS(E7:E104,\"I\",K7:K104,\"B\")","v":0},{"$f":"COUNTIFS(E7:E104,\"I\",K7:K104,\"C\")","v":0},null,"I",{"$f":"COUNTIFS(H7:H104,\"I\",K7:K104,\"A\")","v":0},{"$f":"COUNTIFS(H7:H104,\"I\",K7:K104,\"B\")","v":0},{"$f":"COUNTIFS(H7:H104,\"I\",K7:K104,\"C\")","v":0},null,null,"00:00:00","00:00:00",0,{"$f":"SpellNumber((AI59))","v":"No Dollars and No Cents"},3,"No "]
["00:00:00",null,null,null,null,0,null,null,0,null,null,{"$f":"IFERROR(VLOOKUP(K60,$AD$7:AE62,2,FALSE),0)","v":0},null,null,0,null,null,null,null,null,null,"J",{"$f":"COUNTIFS(E7:E104,\"J\",K7:K104,\"A\")","v":0},{"$f":"COUNTIFS(E7:E104,\"J\",K7:K104,\"B\")","v":0},{"$f":"COUNTIFS(E7:E104,\"J\",K7:K104,\"C\")","v":0},null,"J",{"$f":"COUNTIFS(H7:H104,\"J\",K7:K104,\"A\")","v":0},{"$f":"COUNTIFS(H7:H104,\"J\",K7:K104,\"B\")","v":0},{"$f":"COUNTIFS(H7:H104,\"J\",K7:K104,\"C\")","v":0},null,null,"00:00:00","00:00:00",0,{"$f":"SpellNumber((AI60))","v":"No Dollars and No Cents"},3,"No "]
["00:00:00",null,null,null,null,0,null,null,0,null,null,{"$f":"IFERROR(VLOOKUP(K61,$AD$7:AE63,2,FALSE),0)","v":0},null,null,0,null,null,null,null,null,null,"K",{"$f":"COUNTIFS(E7:E104,\"K\",K7:K104,\"A\")","v":0},{"$f":"COUNTIFS(E7:E104,\"K\",K7:K104,\"B\")","v":0},{"$f":"COUNTIFS(E7:E104,\"K\",K7:K104,\"C\")","v":0},null,"K",{"$f":"COUNTIFS(H7:H104,\"K\",K7:K104,\"A\")","v":0},{"$f":"COUNTIFS(H7:H104,\"K\",K7:K104,\"B\")","v":0},{"$f":"COUNTIFS(H7:H104,\"K\",K7:K104,\"C\")","v":0},null,null,"00:00:00","00:00:00",0,{"$f":"SpellNumber((AI61))","v":"No Dollars and No Cents"},3,"No "]
["00:00:00",null,null,null,null,0,null,null,0,null,null,{"$f":"IFERROR(VLOOKUP(K62,$AD$7:AE64,2,FALSE),0)","v":0},null,null,0,null,null,null,null,null,null,"L",{"$f":"COUNTIFS(E7:E104,\"L\",K7:K104,\"A\")","v":0},{"$f":"COUNTIFS(E7:E104,\"L\",K7:K104,\"B\")","v":0},{"$f":"COUNTIFS(E7:E104,\"L\",K7:K104,\"C\")","v":0},null,"L",{"$f":"COUNTIFS(H7:H104,\"L\",K7:K104,\"A\")","v":0},{"$f":"COUNTIFS(H7:H104,\"L\",K7:K104,\"B\")","v":0},{"$f":"COUNTIFS(H7:H104,\"L\",K7:K104,\"C\")","v":0},null,null,"00:00:00","00:00:00",0,{"$f":"SpellNumber((AI62))","v":"No Dollars and No Cents"},3,"No "]
["00:00:00",null,null,null,null,0,null,null,0,null,null,{"$f":"IFERROR(VLOOKUP(K63,$AD$7:AE65,2,FALSE),0)","v":0},null,null,0,null,null,null,null,null,null,null,"Beh & Consequences",null,null,null,null,null,null,null,null,null,"00:00:00","00:00:00",0,{"$f":"SpellNumber((AI63))","v":"No Dollars and No Cents"},3,"No "]
["00:00:00",null,null,null,null,0,null,null,0,null,null,{"$f":"IFERROR(VLOOKUP(K64,$AD$7:AE66,2,FALSE),0)","v":0},null,null,0,null,null,null,null,null,null,null,"A","B","C",null,null,null,null,null,null,null,"00:00:00","00:00:00",0,{"$f":"SpellNumber((AI64))","v":"No Dollars and No Cents"},3,"No "]
["00:00:00",null,null,null,null,0,null,null,0,null,null,{"$f":"IFERROR(VLOOKUP(K65,$AD$7:AE67,2,FALSE),0)","v":0},null,null,0,null,null,null,null,null,null,"A",{"$f":"COUNTIFS(N7:N104,\"A\",K7:K104,\"A\")","v":0},{"$f":"COUNTIFS(N7:N104,\"A\",K7:K104,\"B\")","v":0},{"$f":"COUNTIFS(N7:N104,\"A\",K7:K104,\"C\")","v":0},null,null,null,null,null,null,null,"00:00:00","00:00:00",0,{"$f":"SpellNumber((AI65))","v":"No Dollars and No Cents"},3,"No "]
["00:00:00",null,null,null,null,0,null,null,0,null,null,{"$f":"IFERROR(VLOOKUP(K66,$AD$7:AE68,2,FALSE),0)","v":0},null,null,0,null,null,null,null,null,null,"B",{"$f":"COUNTIFS(N7:N104,\"B\",K7:K104,\"A\")","v":0},{"$f":"COUNTIFS(N7:N104,\"B\",K7:K104,\"B\")","v":0},{"$f":"COUNTIFS(N7:N104,\"B\",K7:K104,\"C\")","v":0},null,null,null,null,null,null,null,"00:00:00","00:00:00",0,{"$f":"SpellNumber((AI66))","v":"No Dollars and No Cents"},3,"No "]
["00:00:00",null,null,null,null,0,null,null,0,null,null,{"$f":"IFERROR(VLOOKUP(K67,$AD$7:AE69,2,FALSE),0)","v":0},null,null,0,null,null,null,null,null,null,"C",{"$f":"COUNTIFS(N7:N104,\"C\",K7:K104,\"A\")","v":0},{"$f":"COUNTIFS(N7:N104,\"C\",K7:K104,\"B\")","v":0},{"$f":"COUNTIFS(N7:N104,\"C\",K7:K104,\"C\")","v":0},null,null,null,null,null,null,null,"00:00:00","00:00:00",0,{"$f":"SpellNumber((AI67))","v":"No Dollars and No Cents"},3,"No "]
["00:00:00",null,null,null,null,0,null,null,0,null,null,{"$f":"IFERROR(VLOOKUP(K68,$AD$7:AE70,2,FALSE),0)","v":0},null,null,0,null,null,null,null,null,null,"D",{"$f":"COUNTIFS(N7:N104,\"D\",K7:K104,\"A\")","v":0},{"$f":"COUNTIFS(N7:N104,\"D\",K7:K104,\"B\")","v":0},{"$f":"COUNTIFS(N7:N104,\"D\",K7:K104,\"C\")","v":0},null,null,null,null,null,null,null,"00:00:00","00:00:00",0,{"$f":"SpellNumber((AI68))","v":"No Dollars and No Cents"},3,"No "]
["00:00:00",null,null,null,null,0,null,null,0,null,null,{"$f":"IFERROR(VLOOKUP(K69,$AD$7:AE71,2,FALSE),0)","v":0},null,null,0,null,null,null,null,null,null,"E",{"$f":"COUNTIFS(N7:N104,\"E\",K7:K104,\"A\")","v":0},{"$f":"COUNTIFS(N7:N104,\"E\",K7:K104,\"B\")","v":0},{"$f":"COUNTIFS(N7:N104,\"E\",K7:K104,\"C\")","v":0},null,null,null,null,null,null,null,"00:00:00","00:00:00",0,{"$f":"SpellNumber((AI69))","v":"No Dollars and No Cents"},3,"No "]
["00:00:00",null,null,null,null,0,null,null,0,null,null,{"$f":"IFERROR(VLOOKUP(K70,$AD$7:AE72,2,FALSE),0)","v":0},null,null,0,null,null,null,null,null,null,"F",{"$f":"COUNTIFS(N7:N104,\"F\",K7:K104,\"A\")","v":0},{"$f":"COUNTIFS(N7:N104,\"F\",K7:K104,\"B\")","v":0},{"$f":"COUNTIFS(N7:N104,\"F\",K7:K104,\"C\")","v":0},null,null,null,null,null,null,null,"00:00:00","00:00:00",0,{"$f":"SpellNumber((AI70))","v":"No Dollars and No Cents"},3,"No "]
["00:00:00",null,null,null,null,0,null,null,0,null,null,{"$f":"IFERROR(VLOOKUP(K71,$AD$7:AE73,2,FALSE),0)","v":0},null,null,0,null,null,null,null,null,null,"G",{"$f":"COUNTIFS(N7:N104,\"G\",K7:K104,\"A\")","v":0},{"$f":"COUNTIFS(N7:N104,\"G\",K7:K104,\"B\")","v":0},{"$f":"COUNTIFS(N7:N104,\"G\",K7:K104,\"C\")","v":0},null,null,null,null,null,null,null,"00:00:00","00:00:00",0,{"$f":"SpellNumber((AI71))","v":"No Dollars and No Cents"},3,"No "]
[{"$f":"C72-B72","v":"00:00:00"},null,null,null,null,0,null,null,{"$f":"IFERROR(VLOOKUP(H72,$Z$7:$AA$18,2,FALSE),0)","v":0},null,null,{"$f":"IFERROR(VLOOKUP(K72,$AD$7:AE74,2,FALSE),0)","v":0},null,null,{"$f":"IFERROR(VLOOKUP(N72,$V$22:$W$33,2,FALSE),0)","v":0},null,null,null,null,null,null,"H",{"$f":"COUNTIFS(N7:N104,\"H\",K7:K104,\"A\")","v":0},{"$f":"COUNTIFS(N7:N104,\"H\",K7:K104,\"B\")","v":0},{"$f":"COUNTIFS(N7:N104,\"H\",K7:K104,\"C\")","v":0},null,null,null,null,null,null,null,{"$f":"B72","v":"00:00:00"},{"$f":"TEXT(AG72,\"hh:mm:ss\")","v":"00:00:00"},{"$f":"AG72*24","v":0},{"$f":"SpellNumber((AI72))","v":"No Dollars and No Cents"},{"$f":"FIND(\" Dollar\",AJ72)","v":3},{"$f":"LEFT(AJ72,AK72)","v":"No "}]
["00:00:00",null,null,null,null,{"$f":"IFERROR(VLOOKUP(E73,$V$7:$W$18,2,FALSE),0)","v":0},null,null,0,null,null,{"$f":"IFERROR(VLOOKUP(K73,$AD$7:AE75,2,FALSE),0)","v":0},null,null,0,null,null,null,null,null,null,"I",{"$f":"COUNTIFS(N7:N104,\"I\",K7:K104,\"A\")","v":0},{"$f":"COUNTIFS(N7:N104,\"I\",K7:K104,\"B\")","v":0},{"$f":"COUNTIFS(N7:N104,\"I\",K7:K104,\"C\")","v":0},null,null,null,null,null,null,null,"00:00:00","00:00:00",0,{"$f":"SpellNumber((AI73))","v":"No Dollars and No Cents"},3,"No "]
["00:00:00",null,null,null,null,0,null,null,0,null,null,{"$f":"IFERROR(VLOOKUP(K74,$AD$7:AE76,2,FALSE),0)","v":0},null,null,0,null,null,null,null,null,null,"J",{"$f":"COUNTIFS(N7:N104,\"J\",K7:K104,\"A\")","v":0},{"$f":"COUNTIFS(N7:N104,\"J\",K7:K104,\"B\")","v":0},{"$f":"COUNTIFS(N7:N104,\"J\",K7:K104,\"C\")","v":0},null,null,null,null,null,null,null,"00:00:00","00:00:00",0,{"$f":"SpellNumber((AI74))","v":"No Dollars and No Cents"},3,"No "]
["00:00:00",null,null,null,null,0,null,null,0,null,null,{"$f":"IFERROR(VLOOKUP(K75,$AD$7:AE77,2,FALSE),0)","v":0},null,null,0,null,null,null,null,null,null,"K",{"$f":"COUNTIFS(N7:N104,\"K\",K7:K104,\"A\")","v":0},{"$f":"COUNTIFS(N7:N104,\"K\",K7:K104,\"B\")","v":0},{"$f":"COUNTIFS(N7:N104,\"K\",K7:K104,\"C\")","v":0},null,null,null,null,null,null,null,"00:00:00","00:00:00",0,{"$f":"SpellNumber((AI75))","v":"No Dollars and No Cents"},3,"No "]
["00:00:00",null,null,null,null,0,null,null,0,null,null,{"$f":"IFERROR(VLOOKUP(K76,$AD$7:AE78,2,FALSE),0)","v":0},null,null,0,null,null,null,null,null,null,"L",{"$f":"COUNTIFS(N7:N104,\"L\",K7:K104,\"A\")","v":0},{"$f":"COUNTIFS(N7:N104,\"L\",K7:K104,\"B\")","v":0},{"$f":"COUNTIFS(N7:N104,\"L\",K7:K104,\"C\")","v":0},null,null,null,null,null,null,null,"00:00:00","00:00:00",0,{"$f":"SpellNumber((AI76))","v":"No Dollars and No Cents"},3,"No "]
["00:00:00",null,null,null,null,0,null,null,0,null,null,{"$f":"IFERROR(VLOOKUP(K77,$AD$7:AE79,2,FALSE),0)","v":0},null,null,0,null,null,null,null,null,null,null,null,null,null,null,null,null,null,null,null,null,"00:00:00","00:00:00",0,{"$f":"SpellNumber((AI77))","v":"No Dollars and No Cents"},3,"No "]
["00:00:00",null,null,null,null,0,null,null,0,null,null,{"$f":"IFERROR(VLOOKUP(K78,$AD$7:AE80,2,FALSE),0)","v":0},null,null,0,null,null,null,null,null,null,null,null,null,null,null,null,null,null,null,null,null,"00:00:00","00:00:00",0,{"$f":"SpellNumber((AI78))","v":"No Dollars and No Cents"},3,"No "]
["00:00:00",null,null,null,null,0,null,null,0,null,null,{"$f":"IFERROR(VLOOKUP(K79,$AD$7:AE81,2,FALSE),0)","v":0},null,null,0,null,null,null,null,null,null,null,null,null,null,null,null,null,null,null,null,null,"00:00:00","00:00:00",0,{"$f":"SpellNumber((AI79))","v":"No Dollars and No Cents"},3,"No "]
["00:00:00",null,null,null,null,0,null,null,0,null,null,{"$f":"IFERROR(VLOOKUP(K80,$AD$7:AE82,2,FALSE),0)","v":0},null,null,0,null,null,null,null,null,null,null,null,null,null,null,null,null,null,null,null,null,"00:00:00","00:00:00",0,{"$f":"SpellNumber((AI80))","v":"No Dollars and No Cents"},3,"No "]
["00:00:00",null,null,null,null,0,null,null,0,null,null,{"$f":"IFERROR(VLOOKUP(K81,$AD$7:AE83,2,FALSE),0)","v":0},null,null,0,null,null,null,null,null,null,null,null,null,null,null,null,null,null,null,null,null,"00:00:00","00:00:00",0,{"$f":"SpellNumber((AI81))","v":"No Dollars and No Cents"},3,"No "]
["00:00:00",null,null,null,null,0,null,null,0,null,null,{"$f":"IFERROR(VLOOKUP(K82,$AD$7:AE84,2,FALSE),0)","v":0},null,null,0,null,null,null,null,null,null,null,null,null,null,null,null,null,null,null,null,null,"00:00:00","00:00:00",0,{"$f":"SpellNumber((AI82))","v":"No Dollars and No Cents"},3,"No "]
["00:00:00",null,null,null,null,0,null,null,0,null,null,{"$f":"IFERROR(VLOOKUP(K83,$AD$7:AE85,2,FALSE),0)","v":0},null,null,0,null,null,null,null,null,null,null,null,null,null,null,null,null,null,null,null,null,"00:00:00","00:00:00",0,{"$f":"SpellNumber((AI83))","v":"No Dollars and No Cents"},3,"No "]
["00:00:00",null,null,null,null,0,null,null,0,null,null,{"$f":"IFERROR(VLOOKUP(K84,$AD$7:AE86,2,FALSE),0)","v":0},null,null,0,null,null,null,null,null,null,null,null,null,null,null,null,null,null,null,null,null,"00:00:00","00:00:00",0,{"$f":"SpellNumber((AI84))","v":"No Dollars and No Cents"},3,"No "]
["00:00:00",null,null,null,null,0,null,null,0,null,null,{"$f":"IFERROR(VLOOKUP(K85,$AD$7:AE87,2,FALSE),0)","v":0},null,null,0,null,null,null,null,null,null,null,null,null,null,null,null,null,null,null,null,null,"00:00:00","00:00:00",0,{"$f":"SpellNumber((AI85))","v":"No Dollars and No Cents"},3,"No "]
["00:00:00",null,null,null,null,0,null,null,0,null,null,{"$f":"IFERROR(VLOOKUP(K86,$AD$7:AE88,2,FALSE),0)","v":0},null,null,0,null,null,null,null,null,null,null,null,null,null,null,null,null,null,null,null,null,"00:00:00","00:00:00",0,{"$f":"SpellNumber((AI86))","v":"No Dollars and No Cents"},3,"No "]
["00:00:00",null,null,null,null,0,null,null,0,null,null,{"$f":"IFERROR(VLOOKUP(K87,$AD$7:AE89,2,FALSE),0)","v":0},null,null,0,null,null,null,null,null,null,null,null,null,null,null,null,null,null,null,null,null,"00:00:00","00:00:00",0,{"$f":"SpellNumber((AI87))","v":"No Dollars and No Cents"},3,"No "]
["00:00:00",null,null,null,null,0,null,null,0,null,null,{"$f":"IFERROR(VLOOKUP(K88,$AD$7:AE90,2,FALSE),0)","v":0},null,null,0,null,null,null,null,null,null,null,null,null,null,null,null,null,null,null,null,null,"00:00:00","00:00:00",0,{"$f":"SpellNumber((AI88))","v":"No Dollars and No Cents"},3,"No "]
["00:00:00",null,null,null,null,0,null,null,0,null,null,{"$f":"IFERROR(VLOOKUP(K89,$AD$7:AE91,2,FALSE),0)","v":0},null,null,0,null,null,null,null,null,null,null,null,null,null,null,null,null,null,null,null,null,"00:00:00","00:00:00",0,{"$f":"SpellNumber((AI89))","v":"No Dollars and No Cents"},3,"No "]
["00:00:00",null,null,null,null,0,null,null,0,null,null,{"$f":"IFERROR(VLOOKUP(K90,$AD$7:AE92,2,FALSE),0)","v":0},null,null,0,null,null,null,null,null,null,null,null,null,null,null,null,null,null,null,null,null,"00:00:00","00:00:00",0,{"$f":"SpellNumber((AI90))","v":"No Dollars and No Cents"},3,"No "]
["00:00:00",null,null,null,null,0,null,null,0,null,null,{"$f":"IFERROR(VLOOKUP(K91,$AD$7:AE93,2,FALSE),0)","v":0},null,null,0,null,null,null,"Total Mins",{"$f":"SUM(A7:A104)","v":"00:00:00"},null,null,null,null,null,null,null,null,null,null,null,null,"00:00:00","00:00:00",0,{"$f":"SpellNumber((AI91))","v":"No Dollars and No Cents"},3,"No "]
["00:00:00",null,null,null,null,0,null,null,0,null,null,{"$f":"IFERROR(VLOOKUP(K92,$AD$7:AE94,2,FALSE),0)","v":0},null,null,0,null,null,null,"Settings:","A",{"$f":"COUNTIF(E4:E104,\"A\")","v":0},"Antec.","A",{"$f":"COUNTIF(H4:H104,\"A\")","v":0},"Beh","A",{"$f":"COUNTIF(L4:L104,\"A\")","v":0},"Conse.","A",{"$f":"COUNTIF(O4:O104,\"A\")","v":0},null,null,"00:00:00","00:00:00",0,{"$f":"SpellNumber((AI92))","v":"No Dollars and No Cents"},3,"No "]
["00:00:00",null,null,null,null,0,null,null,0,null,null,{"$f":"IFERROR(VLOOKUP(K93,$AD$7:AE95,2,FALSE),0)","v":0},null,null,0,null,null,null,null,"B",{"$f":"COUNTIF(E5:E105,\"B\")","v":0},null,"B",{"$f":"COUNTIF(H5:H105,\"B\")","v":0},null,"B",{"$f":"COUNTIF(L5:L105,\"B\")","v":0},null,"B",{"$f":"COUNTIF(O5:O105,\"B\")","v":0},null,null,"00:00:00","00:00:00",0,{"$f":"SpellNumber((AI93))","v":"No Dollars and No Cents"},3,"No "]
["00:00:00",null,null,null,null,0,null,null,0,null,null,{"$f":"IFERROR(VLOOKUP(K94,$AD$7:AE96,2,FALSE),0)","v":0},null,null,0,null,null,null,null,"C",{"$f":"COUNTIF(E6:E106,\"C\")","v":0},null,"C",{"$f":"COUNTIF(H6:H106,\"C\")","v":0},null,"C",{"$f":"COUNTIF(L6:L106,\"C\")","v":0},null,"C",{"$f":"COUNTIF(O6:O106,\"C\")","v":0},null,null,"00:00:00","00:00:00",0,{"$f":"SpellNumber((AI94))","v":"No Dollars and No Cents"},3,"No "]
["00:00:00",null,null,null,null,0,null,null,0,null,null,{"$f":"IFERROR(VLOOKUP(K95,$AD$7:AE97,2,FALSE),0)","v":0},null,null,0,null,null,null,null,"D",{"$f":"COUNTIF(E7:E107,\"D\")","v":0},null,"D",{"$f":"COUNTIF(H7:H107,\"D\")","v":0},null,null,null,null,"D",{"$f":"COUNTIF(O7:O107,\"D\")","v":0},null,null,"00:00:00","00:00:00",0,{"$f":"SpellNumber((AI95))","v":"No Dollars and No Cents"},3,"No "]
["00:00:00",null,null,null,null,0,null,null,0,null,null,{"$f":"IFERROR(VLOOKUP(K96,$AD$7:AE98,2,FALSE),0)","v":0},null,null,0,null,null,null,null,"E",{"$f":"COUNTIF(E8:E108,\"E\")","v":0},null,"E",{"$f":"COUNTIF(H8:H108,\"E\")","v":0},null,null,null,null,"E",{"$f":"COUNTIF(O8:O108,\"E\")","v":0},null,null,"00:00:00","00:00:00",0,{"$f":"SpellNumber((AI96))","v":"No Dollars and No Cents"},3,"No "]
["00:00:00",null,null,null,null,0,null,null,0,null,null,{"$f":"IFERROR(VLOOKUP(K97,$AD$7:AE99,2,FALSE),0)","v":0},null,null,0,null,null,null,null,"F",{"$f":"COUNTIF(E9:E109,\"F\")","v":0},null,"F",{"$f":"COUNTIF(H9:H109,\"F\")","v":0},null,null,null,null,"F",{"$f":"COUNTIF(O9:O109,\"F\")","v":0},null,null,"00:00:00","00:00:00",0,{"$f":"SpellNumber((AI97))","v":"No Dollars and No Cents"},3,"No "]
["00:00:00",null,null,null,null,0,null,null,0,null,null,{"$f":"IFERROR(VLOOKUP(K98,$AD$7:AE100,2,FALSE),0)","v":0},null,null,0,null,null,null,null,"G",{"$f":"COUNTIF(E10:E110,\"G\")","v":0},null,"G",{"$f":"COUNTIF(H10:H110,\"G\")","v":0},null,null,null,null,"G",{"$f":"COUNTIF(O10:O110,\"G\")","v":0},null,null,"00:00:00","00:00:00",0,{"$f":"SpellNumber((AI98))","v":"No Dollars and No Cents"},3,"No "]
["00:00:00",null,null,null,null,0,null,null,0,null,null,{"$f":"IFERROR(VLOOKUP(K99,$AD$7:AE101,2,FALSE),0)","v":0},null,null,0,null,null,null,null,"H",{"$f":"COUNTIF(E11:E111,\"H\")","v":0},null,"H",{"$f":"COUNTIF(H11:H111,\"H\")","v":0},null,null,null,null,"H",{"$f":"COUNTIF(O11:O111,\"H\")","v":0},null,null,"00:00:00","00:00:00",0,{"$f":"SpellNumber((AI99))","v":"No Dollars and No Cents"},3,"No "]
["00:00:00",null,null,null,null,0,null,null,0,null,null,{"$f":"IFERROR(VLOOKUP(K100,$AD$7:AE102,2,FALSE),0)","v":0},null,null,0,null,null,null,null,"I",{"$f":"COUNTIF(E12:E112,\"I\")","v":0},null,"I",{"$f":"COUNTIF(H12:H112,\"I\")","v":0},null,null,null,null,"I",{"$f":"COUNTIF(O12:O112,\"I\")","v":0},null,null,"00:00:00","00:00:00",0,{"$f":"SpellNumber((AI100))","v":"No Dollars and No Cents"},3,"No "]
["00:00:00",null,null,null,null,0,null,null,0,null,null,{"$f":"IFERROR(VLOOKUP(K101,$AD$7:AE103,2,FALSE),0)","v":0},null,null,0,null,null,null,null,"J",{"$f":"COUNTIF(E13:E113,\"J\")","v":0},null,"J",{"$f":"COUNTIF(H13:H113,\"J\")","v":0},null,null,null,null,"J",{"$f":"COUNTIF(O13:O113,\"J\")","v":0},null,null,"00:00:00","00:00:00",0,{"$f":"SpellNumber((AI101))","v":"No Dollars and No Cents"},3,"No "]
["00:00:00",null,null,null,null,0,null,null,0,null,null,{"$f":"IFERROR(VLOOKUP(K102,$AD$7:AE104,2,FALSE),0)","v":0},null,null,0,null,null,null,null,"K",{"$f":"COUNTIF(E14:E114,\"K\")","v":0},null,"K",{"$f":"COUNTIF(H14:H114,\"K\")","v":0},null,null,null,null,"K",{"$f":"COUNTIF(O14:O114,\"K\")","v":0},null,null,"00:00:00","00:00:00",0,{"$f":"SpellNumber((AI102))","v":"No Dollars and No Cents"},3,"No "]
["00:00:00",null,null,null,null,0,null,null,0,null,null,{"$f":"IFERROR(VLOOKUP(K103,$AD$7:AE105,2,FALSE),0)","v":0},null,null,0,null,null,null,null,"L",{"$f":"COUNTIF(E15:E115,\"L\")","v":0},null,"L",{"$f":"COUNTIF(H15:H115,\"L\")","v":0},null,null,null,null,"L",{"$f":"COUNTIF(O15:O115,\"L\")","v":0},null,null,"00:00:00","00:00:00",0,{"$f":"SpellNumber((AI103))","v":"No Dollars and No Cents"},3,"No "]
["00:00:00",null,null,null,null,0,null,null,0,null,null,{"$f":"IFERROR(VLOOKUP(K104,$AD$7:AE106,2,FALSE),0)","v":0},null,null,0,null,null,null,null,null,null,null,null,null,null,null,null,null,null,null,null,null,"00:00:00","00:00:00",0,{"$f":"SpellNumber((AI104))","v":"No Dollars and No Cents"},3,"No "]

{"sheet":"Data 24","index":32,"n_rows":104,"n_cols":38,"rows_kept":104,"cut":false,"hidden":false,"merged":[[0,7,3,14]]}
["ATTENDANCE",null,null,null,null,null,null,"Data Collection"]
["If tardy, arrival time",null,null,null,null,null,null,null,null,null,null,null,null,null,null,null,null,null,null,null,null,null,"Date",{"$f":"Calendar!E8","v":{"$error":"#N/A"}},{"$f":"TEXT(X2,\"ddd\")","v":{"$error":"#N/A"}}]
["If left early, time",null,null,null,null,null,null,null,null,null,null,null,null,null,null,null,null,null,null,null,null,null,"Frq. Of bx",{"$f":"AA22","v":0}]
[]
[]
["Mins.","Start Time","End Time",null,null,null,null,null,null,null,null,null,null,null,null,null,null,null,null,null,null,null,"Setting",null,null,"Ant",null,null,null,"Beh",null,null,"Raw Data","Time in text","Decimal"]
[{"$f":"C7-B7","v":"00:00:00"},null,null,null,null,{"$f":"IFERROR(VLOOKUP(E7,$V$7:$W$18,2,FALSE),0)","v":0},null,null,{"$f":"IFERROR(VLOOKUP(H7,$Z$7:$AA$18,2,FALSE),0)","v":0},null,null,{"$f":"IFERROR(VLOOKUP(K7,$AD$7:AE9,2,FALSE),0)","v":0},null,null,{"$f":"IFERROR(VLOOKUP(N7,$V$22:$W$33,2,FALSE),0)","v":0},null,null,null,null,null,null,"A",{"$f":"Criteria!C4","v":"Transition"},null,null,"A",{"$f":"Criteria!E4","v":"Transition"},null,null,"A",{"$f":"Criteria!G4","v":0},null,{"$f":"B7","v":"00:00:00"},{"$f":"TEXT(AG7,\"hh:mm:ss\")","v":"00:00:00"},{"$f":"AG7*24","v":0},{"$f":"SpellNumber((AI7))","v":"No Dollars and No Cents"},{"$f":"FIND(\" Dollar\",AJ7)","v":3},{"$f":"LEFT(AJ7,AK7)","v":"No "}]
[{"$f":"C8-B8","v":"00:00:00"},null,null,null,null,{"$f":"IFERROR(VLOOKUP(E8,$V$7:$W$18,2,FALSE),0)","v":0},null,null,{"$f":"IFERROR(VLOOKUP(H8,$Z$7:$AA$18,2,FALSE),0)","v":0},null,null,{"$f":"IFERROR(VLOOKUP(K8,$AD$7:AE10,2,FALSE),0)","v":0},null,null,{"$f":"IFERROR(VLOOKUP(N8,$V$22:$W$33,2,FALSE),0)","v":0},null,null,null,null,null,null,"B",{"$f":"Criteria!C5","v":"Morning Routine"},null,null,"B",{"$f":"Criteria!E5","v":"Denied access ('No')"},null,null,"B",{"$f":"Criteria!G5","v":0},null,{"$f":"B8","v":"00:00:00"},{"$f":"TEXT(AG8,\"hh:mm:ss\")","v":"00:00:00"},{"$f":"AG8*24","v":0},{"$f":"SpellNumber((AI8))","v":"No Dollars and No Cents"},{"$f":"FIND(\" Dollar\",AJ8)","v":3},{"$f":"LEFT(AJ8,AK8)","v":"No "}]
["00:00:00",null,null,null,null,{"$f":"IFERROR(VLOOKUP(E9,$V$7:$W$18,2,FALSE),0)","v":0},null,null,0,null,null,{"$f":"IFERROR(VLOOKUP(K9,$AD$7:AE11,2,FALSE),0)","v":0},null,null,0,null,null,null,null,null,null,"C",{"$f":"Criteria!C6","v":"Group Work"},null,null,"C",{"$f":"Criteria!E6","v":"Instruction/ Directions"},null,null,"C",{"$f":"Criteria!G6","v":0},null,"00:00:00","00:00:00",0,{"$f":"SpellNumber((AI9))","v":"No Dollars and No Cents"},3,"No "]
["00:00:00",null,null,null,null,0,null,null,0,null,null,{"$f":"IFERROR(VLOOKUP(K10,$AD$7:AE12,2,FALSE),0)","v":0},null,null,0,null,null,null,null,null,null,"D",{"$f":"Criteria!C7","v":"Ind. Seat/Work Time"},null,null,"D",{"$f":"Criteria!E7","v":"New Task"},null,null,null,null,null,"00:00:00","00:00:00",0,{"$f":"SpellNumber((AI10))","v":"No Dollars and No Cents"},3,"No "]
["00:00:00",null,null,null,null,0,null,null,0,null,null,{"$f":"IFERROR(VLOOKUP(K11,$AD$7:AE13,2,FALSE),0)","v":0},null,null,0,null,null,null,null,null,null,"E",{"$f":"Criteria!C8","v":"Language Arts"},null,null,"E",{"$f":"Criteria!E8","v":"Tcher attn to other"},null,null,null,null,null,"00:00:00","00:00:00",0,{"$f":"SpellNumber((AI11))","v":"No Dollars and No Cents"},3,"No "]
["00:00:00",null,null,null,null,0,null,null,0,null,null,{"$f":"IFERROR(VLOOKUP(K12,$AD$7:AE14,2,FALSE),0)","v":0},null,null,0,null,null,null,null,null,null,"F",{"$f":"Criteria!C9","v":"Mathematics"},null,null,"F",{"$f":"Criteria!E9","v":"Choice given"},null,null,null,null,null,"00:00:00","00:00:00",0,{"$f":"SpellNumber((AI12))","v":"No Dollars and No Cents"},3,"No "]
["00:00:00",null,null,null,null,0,null,null,0,null,null,{"$f":"IFERROR(VLOOKUP(K13,$AD$7:AE15,2,FALSE),0)","v":0},null,null,0,null,null,null,null,null,null,"G",{"$f":"Criteria!C10","v":"Physical Education"},null,null,"G",{"$f":"Criteria!E10","v":"Redirection"},null,null,null,null,null,"00:00:00","00:00:00",0,{"$f":"SpellNumber((AI13))","v":"No Dollars and No Cents"},3,"No "]
["00:00:00",null,null,null,null,0,null,null,0,null,null,{"$f":"IFERROR(VLOOKUP(K14,$AD$7:AE16,2,FALSE),0)","v":0},null,null,0,null,null,null,null,null,null,"H",{"$f":"Criteria!C11","v":"Music/Art"},null,null,"H",{"$f":"Criteria!E11","v":"Routine Task"},null,null,null,null,null,"00:00:00","00:00:00",0,{"$f":"SpellNumber((AI14))","v":"No Dollars and No Cents"},3,"No "]
["00:00:00",null,null,null,null,0,null,null,0,null,null,{"$f":"IFERROR(VLOOKUP(K15,$AD$7:AE17,2,FALSE),0)","v":0},null,null,0,null,null,null,null,null,null,"I",{"$f":"Criteria!C12","v":"Speech"},null,null,"I",{"$f":"Criteria!E12","v":"Waiting"},null,null,null,null,null,"00:00:00","00:00:00",0,{"$f":"SpellNumber((AI15))","v":"No Dollars and No Cents"},3,"No "]
["00:00:00",null,null,null,null,0,null,null,0,null,null,{"$f":"IFERROR(VLOOKUP(K16,$AD$7:AE18,2,FALSE),0)","v":0},null,null,0,null,null,null,null,null,null,"J",{"$f":"Criteria!C13","v":"OT/PT"},null,null,"J",{"$f":"Criteria!E13","v":"Unknown"},null,null,null,null,null,"00:00:00","00:00:00",0,{"$f":"SpellNumber((AI16))","v":"No Dollars and No Cents"},3,"No "]
["00:00:00",null,null,null,null,0,null,null,0,null,null,{"$f":"IFERROR(VLOOKUP(K17,$AD$7:AE19,2,FALSE),0)","v":0},null,null,0,null,null,null,null,null,null,"K",{"$f":"Criteria!C14","v":"Center"},null,null,"K",{"$f":"Criteria!E14","v":"Ignored"},null,null,null,null,null,"00:00:00","00:00:00",0,{"$f":"SpellNumber((AI17))","v":"No Dollars and No Cents"},3,"No "]
["00:00:00",null,null,null,null,0,null,null,0,null,null,{"$f":"IFERROR(VLOOKUP(K18,$AD$7:AE20,2,FALSE),0)","v":0},null,null,0,null,null,null,null,null,null,"L",{"$f":"Criteria!C15","v":"Other"},null,null,"L",{"$f":"Criteria!E15","v":"Other"},null,null,null,null,null,"00:00:00","00:00:00",0,{"$f":"SpellNumber((AI18))","v":"No Dollars and No Cents"},3,"No "]
["00:00:00",null,null,null,null,0,null,null,0,null,null,{"$f":"IFERROR(VLOOKUP(K19,$AD$7:AE21,2,FALSE),0)","v":0},null,null,0,null,null,null,null,null,null,null,null,null,null,null,null,null,null,null,null,null,"00:00:00","00:00:00",0,{"$f":"SpellNumber((AI19))","v":"No Dollars and No Cents"},3,"No "]
["00:00:00",null,null,null,null,0,null,null,0,null,null,{"$f":"IFERROR(VLOOKUP(K20,$AD$7:AE22,2,FALSE),0)","v":0},null,null,0,null,null,null,null,null,null,null,null,null,null,null,null,null,null,null,null,null,"00:00:00","00:00:00",0,{"$f":"SpellNumber((AI20))","v":"No Dollars and No Cents"},3,"No "]
["00:00:00",null,null,null,null,0,null,null,0,null,null,{"$f":"IFERROR(VLOOKUP(K21,$AD$7:AE23,2,FALSE),0)","v":0},null,null,0,null,null,null,null,null,null,null,"Con",null,"Bx Frequency Per Day",null,null,null,null,null,null,null,"00:00:00","00:00:00",0,{"$f":"SpellNumber((AI21))","v":"No Dollars and No Cents"},3,"No "]
["00:00:00",null,null,null,null,0,null,null,0,null,null,{"$f":"IFERROR(VLOOKUP(K22,$AD$7:AE24,2,FALSE),0)","v":0},null,null,0,null,null,null,null,null,null,"A",{"$f":"Criteria!I4","v":"Choice Given"},"A",{"$f":"COUNTIF(K7:K104,\"A\")","v":0},null,{"$f":"SUM(Y22:Y24)","v":0},null,"Bin Dec","Frequency of Time",null,null,"00:00:00","00:00:00",0,{"$f":"SpellNumber((AI22))","v":"No Dollars and No Cents"},3,"No "]
["00:00:00",null,null,null,null,0,null,null,0,null,null,{"$f":"IFERROR(VLOOKUP(K23,$AD$7:AE25,2,FALSE),0)","v":0},null,null,0,null,null,null,null,null,null,"B",{"$f":"Criteria!I5","v":"Ignored"},"B",{"$f":"COUNTIF(K7:K104,\"B\")","v":0},null,null,null,"Seven",{"$f":"COUNTIF(AL7:AL104,\"*Seven*\")","v":0},null,null,"00:00:00","00:00:00",0,{"$f":"SpellNumber((AI23))","v":"No Dollars and No Cents"},3,"No "]
["00:00:00",null,null,null,null,0,null,null,0,null,null,{"$f":"IFERROR(VLOOKUP(K24,$AD$7:AE26,2,FALSE),0)","v":0},null,null,0,null,null,null,null,null,null,"C",{"$f":"Criteria!I6","v":"Redirection"},"C",{"$f":"COUNTIF(K7:K104,\"C\")","v":0},null,null,null,"Eight",{"$f":"COUNTIF(AL7:AL104,\"*Eight*\")","v":0},null,null,"00:00:00","00:00:00",0,{"$f":"SpellNumber((AI24))","v":"No Dollars and No Cents"},3,"No "]
["00:00:00",null,null,null,null,0,null,null,0,null,null,{"$f":"IFERROR(VLOOKUP(K25,$AD$7:AE27,2,FALSE),0)","v":0},null,null,0,null,null,null,null,null,null,"D",{"$f":"Criteria!I7","v":"Kept the demand"},null,"Bx Druation Per Day",null,null,null,"Nine",{"$f":"COUNTIF(AL7:AL104,\"*Nine*\")","v":0},null,null,"00:00:00","00:00:00",0,{"$f":"SpellNumber((AI25))","v":"No Dollars and No Cents"},3,"No "]
["00:00:00",null,null,null,null,0,null,null,0,null,null,{"$f":"IFERROR(VLOOKUP(K26,$AD$7:AE28,2,FALSE),0)","v":0},null,null,0,null,null,null,null,null,null,"E",{"$f":"Criteria!I8","v":"Changed activity"},"A",{"$f":"SUMIF(K7:K104,\"A\",A7:A104)","v":"00:00:00"},null,null,null,"Ten",{"$f":"COUNTIF(AL7:AL12,\"*Ten*\")","v":0},null,null,"00:00:00","00:00:00",0,{"$f":"SpellNumber((AI26))","v":"No Dollars and No Cents"},3,"No "]
["00:00:00",null,null,null,null,0,null,null,0,null,null,{"$f":"IFERROR(VLOOKUP(K27,$AD$7:AE29,2,FALSE),0)","v":0},null,null,0,null,null,null,null,null,null,"F",{"$f":"Criteria!I9","v":"Verbal reprimand"},"B",{"$f":"SUMIF(K7:K104,\"B\",A7:A104)","v":"00:00:00"},null,null,null,"Eleven",{"$f":"COUNTIF(AL7:AL104,\"*Eleven*\")","v":0},null,null,"00:00:00","00:00:00",0,{"$f":"SpellNumber((AI27))","v":"No Dollars and No Cents"},3,"No "]
["00:00:00",null,null,null,null,0,null,null,0,null,null,{"$f":"IFERROR(VLOOKUP(K28,$AD$7:AE30,2,FALSE),0)","v":0},null,null,0,null,null,null,null,null,null,"G",{"$f":"Criteria!I10","v":"Told to wait"},"C",{"$f":"SUMIF(K7:K104,\"C\",A7:A104)","v":"00:00:00"},null,null,null,"Twelve",{"$f":"COUNTIF(AL7:AL104,\"*Twelve*\")","v":0},null,null,"00:00:00","00:00:00",0,{"$f":"SpellNumber((AI28))","v":"No Dollars and No Cents"},3,"No "]
["00:00:00",null,null,null,null,0,null,null,0,null,null,{"$f":"IFERROR(VLOOKUP(K29,$AD$7:AE31,2,FALSE),0)","v":0},null,null,0,null,null,null,null,null,null,"H",{"$f":"Criteria!I11","v":"Physical Prompt"},null,null,null,null,null,"One",{"$f":"COUNTIF(AL7:AL104,\"*One*\")","v":0},null,null,"00:00:00","00:00:00",0,{"$f":"SpellNumber((AI29))","v":"No Dollars and No Cents"},3,"No "]
["00:00:00",null,null,null,null,0,null,null,0,null,null,{"$f":"IFERROR(VLOOKUP(K30,$AD$7:AE32,2,FALSE),0)","v":0},null,null,0,null,null,null,null,null,null,"I",{"$f":"Criteria!I12","v":"Verbal prompt"},null,null,null,null,null,"Two",{"$f":"COUNTIF(AL7:AL104,\"*Two*\")","v":0},null,null,"00:00:00","00:00:00",0,{"$f":"SpellNumber((AI30))","v":"No Dollars and No Cents"},3,"No "]
["00:00:00",null,null,null,null,0,null,null,0,null,null,{"$f":"IFERROR(VLOOKUP(K31,$AD$7:AE33,2,FALSE),0)","v":0},null,null,0,null,null,null,null,null,null,"J",{"$f":"Criteria!I13","v":"Told to wait"},null,null,null,null,null,"Three",{"$f":"COUNTIF(AL7:AL104,\"*Three*\")","v":0},null,null,"00:00:00","00:00:00",0,{"$f":"SpellNumber((AI31))","v":"No Dollars and No Cents"},3,"No "]
["00:00:00",null,null,null,null,0,null,null,0,null,null,{"$f":"IFERROR(VLOOKUP(K32,$AD$7:AE34,2,FALSE),0)","v":0},null,null,0,null,null,null,null,null,null,"K",{"$f":"Criteria!I14","v":"Unknown"},null,null,null,null,null,"Four",{"$f":"COUNTIF(AL7:AL104,\"*Four*\")","v":0},null,null,"00:00:00","00:00:00",0,{"$f":"SpellNumber((AI32))","v":"No Dollars and No Cents"},3,"No "]
["00:00:00",null,null,null,null,0,null,null,0,null,null,{"$f":"IFERROR(VLOOKUP(K33,$AD$7:AE35,2,FALSE),0)","v":0},null,null,0,null,null,null,null,null,null,"L",{"$f":"Criteria!I15","v":"Other"},null,null,null,null,null,null,null,null,null,"00:00:00","00:00:00",0,{"$f":"SpellNumber((AI33))","v":"No Dollars and No Cents"},3,"No "]
["00:00:00",null,null,null,null,0,null,null,0,null,null,{"$f":"IFERROR(VLOOKUP(K34,$AD$7:AE36,2,FALSE),0)","v":0},null,null,0,null,null,null,null,null,null,null,null,null,null,null,null,null,null,null,null,null,"00:00:00","00:00:00",0,{"$f":"SpellNumber((AI34))","v":"No Dollars and No Cents"},3,"No "]
["00:00:00",null,null,null,null,0,null,null,0,null,null,{"$f":"IFERROR(VLOOKUP(K35,$AD$7:AE37,2,FALSE),0)","v":0},null,null,0,null,null,null,null,null,null,null,"Context Frequency","Consequence","Antedencents",null,null,null,null,null,null,null,"00:00:00","00:00:00",0,{"$f":"SpellNumber((AI35))","v":"No Dollars and No Cents"},3,"No "]
["00:00:00",null,null,null,null,0,null,null,0,null,null,{"$f":"IFERROR(VLOOKUP(K36,$AD$7:AE38,2,FALSE),0)","v":0},null,null,0,null,null,null,null,null,null,"A",{"$f":"COUNTIF(E7:E104,\"A\")","v":0},{"$f":"COUNTIF(N7:N104,\"A\")","v":0},{"$f":"COUNTIF(H7:H104,\"A\")","v":0},null,null,null,null,null,null,null,"00:00:00","00:00:00",0,{"$f":"SpellNumber((AI36))","v":"No Dollars and No Cents"},3,"No "]
["00:00:00",null,null,null,null,0,null,null,0,null,null,{"$f":"IFERROR(VLOOKUP(K37,$AD$7:AE39,2,FALSE),0)","v":0},null,null,0,null,null,null,null,null,null,"B",{"$f":"COUNTIF(E8:E105,\"B\")","v":0},{"$f":"COUNTIF(N7:N104,\"B\")","v":0},{"$f":"COUNTIF(H7:H104,\"B\")","v":0},null,null,null,null,null,null,null,"00:00:00","00:00:00",0,{"$f":"SpellNumber((AI37))","v":"No Dollars and No Cents"},3,"No "]
["00:00:00",null,null,null,null,0,null,null,0,null,null,{"$f":"IFERROR(VLOOKUP(K38,$AD$7:AE40,2,FALSE),0)","v":0},null,null,0,null,null,null,null,null,null,"C",{"$f":"COUNTIF(E8:E105,\"C\")","v":0},{"$f":"COUNTIF(N7:N104,\"C\")","v":0},{"$f":"COUNTIF(H7:H104,\"C\")","v":0},null,null,null,null,null,null,null,"00:00:00","00:00:00",0,{"$f":"SpellNumber((AI38))","v":"No Dollars and No Cents"},3,"No "]
["00:00:00",null,null,null,null,0,null,null,0,null,null,{"$f":"IFERROR(VLOOKUP(K39,$AD$7:AE41,2,FALSE),0)","v":0},null,null,0,null,null,null,null,null,null,"D",{"$f":"COUNTIF(E8:E105,\"D\")","v":0},{"$f":"COUNTIF(N7:N104,\"D\")","v":0},{"$f":"COUNTIF(H7:H104,\"D\")","v":0},null,null,null,null,null,null,null,"00:00:00","00:00:00",0,{"$f":"SpellNumber((AI39))","v":"No Dollars and No Cents"},3,"No "]
["00:00:00",null,null,null,null,0,null,null,0,null,null,{"$f":"IFERROR(VLOOKUP(K40,$AD$7:AE42,2,FALSE),0)","v":0},null,null,0,null,null,null,null,null,null,"E",{"$f":"COUNTIF(E8:E105,\"E\")","v":0},{"$f":"COUNTIF(N7:N104,\"E\")","v":0},{"$f":"COUNTIF(H7:H104,\"E\")","v":0},null,null,null,null,null,null,null,"00:00:00","00:00:00",0,{"$f":"SpellNumber((AI40))","v":"No Dollars and No Cents"},3,"No "]
["00:00:00",null,null,null,null,0,null,null,0,null,null,{"$f":"IFERROR(VLOOKUP(K41,$AD$7:AE43,2,FALSE),0)","v":0},null,null,0,null,null,null,null,null,null,"F",{"$f":"COUNTIF(E8:E105,\"F\")","v":0},{"$f":"COUNTIF(N7:N104,\"F\")","v":0},{"$f":"COUNTIF(H7:H104,\"F\")","v":0},null,null,null,null,null,null,null,"00:00:00","00:00:00",0,{"$f":"SpellNumber((AI41))","v":"No Dollars and No Cents"},3,"No "]
["00:00:00",null,null,null,null,0,null,null,0,null,null,{"$f":"IFERROR(VLOOKUP(K42,$AD$7:AE44,2,FALSE),0)","v":0},null,null,0,null,null,null,null,null,null,"G",{"$f":"COUNTIF(E8:E105,\"G\")","v":0},{"$f":"COUNTIF(N7:N104,\"G\")","v":0},{"$f":"COUNTIF(H7:H104,\"G\")","v":0},null,null,null,null,null,null,null,"00:00:00","00:00:00",0,{"$f":"SpellNumber((AI42))","v":"No Dollars and No Cents"},3,"No "]
["00:00:00",null,null,null,null,0,null,null,0,null,null,{"$f":"IFERROR(VLOOKUP(K43,$AD$7:AE45,2,FALSE),0)","v":0},null,null,0,null,null,null,null,null,null,"H",{"$f":"COUNTIF(E8:E105,\"H\")","v":0},{"$f":"COUNTIF(N7:N104,\"H\")","v":0},{"$f":"COUNTIF(H7:H104,\"H\")","v":0},null,null,null,null,null,null,null,"00:00:00","00:00:00",0,{"$f":"SpellNumber((AI43))","v":"No Dollars and No Cents"},3,"No "]
["00:00:00",null,null,null,null,0,null,null,0,null,null,{"$f":"IFERROR(VLOOKUP(K44,$AD$7:AE46,2,FALSE),0)","v":0},null,null,0,null,null,null,null,null,null,"I",{"$f":"COUNTIF(E8:E105,\"I\")","v":0},{"$f":"COUNTIF(N7:N104,\"I\")","v":0},{"$f":"COUNTIF(H7:H104,\"I\")","v":0},null,null,null,null,null,null,null,"00:00:00","00:00:00",0,{"$f":"SpellNumber((AI44))","v":"No Dollars and No Cents"},3,"No "]
["00:00:00",null,null,null,null,0,null,null,0,null,null,{"$f":"IFERROR(VLOOKUP(K45,$AD$7:AE47,2,FALSE),0)","v":0},null,null,0,null,null,null,null,null,null,"J",{"$f":"COUNTIF(E8:E105,\"J\")","v":0},{"$f":"COUNTIF(N7:N104,\"J\")","v":0},{"$f":"COUNTIF(H7:H104,\"J\")","v":0},null,null,null,null,null,null,null,"00:00:00","00:00:00",0,{"$f":"SpellNumber((AI45))","v":"No Dollars and No Cents"},3,"No "]
["00:00:00",null,null,null,null,0,null,null,0,null,null,{"$f":"IFERROR(VLOOKUP(K46,$AD$7:AE48,2,FALSE),0)","v":0},null,null,0,null,null,null,null,null,null,"K",{"$f":"COUNTIF(E8:E105,\"K\")","v":0},{"$f":"COUNTIF(N7:N104,\"K\")","v":0},{"$f":"COUNTIF(H7:H104,\"K\")","v":0},null,null,null,null,null,null,null,"00:00:00","00:00:00",0,{"$f":"SpellNumber((AI46))","v":"No Dollars and No Cents"},3,"No "]
["00:00:00",null,null,null,null,0,null,null,0,null,null,{"$f":"IFERROR(VLOOKUP(K47,$AD$7:AE49,2,FALSE),0)","v":0},null,null,0,null,null,null,null,null,null,"L",{"$f":"COUNTIF(E8:E105,\"l\")","v":0},{"$f":"COUNTIF(N7:N104,\"L\")","v":0},{"$f":"COUNTIF(H7:H104,\"L\")","v":0},null,null,null,null,null,null,null,"00:00:00","00:00:00",0,{"$f":"SpellNumber((AI47))","v":"No Dollars and No Cents"},3,"No "]
["00:00:00",null,null,null,null,0,null,null,0,null,null,{"$f":"IFERROR(VLOOKUP(K48,$AD$7:AE50,2,FALSE),0)","v":0},null,null,0,null,null,null,null,null,null,null,null,null,null,null,null,null,null,null,null,null,"00:00:00","00:00:00",0,{"$f":"SpellNumber((AI48))","v":"No Dollars and No Cents"},3,"No "]
["00:00:00",null,null,null,null,0,null,null,0,null,null,{"$f":"IFERROR(VLOOKUP(K49,$AD$7:AE51,2,FALSE),0)","v":0},null,null,0,null,null,null,null,null,null,null,"Beh & Setting ",null,null,null,"Beh & Antecedents",null,null,null,null,null,"00:00:00","00:00:00",0,{"$f":"SpellNumber((AI49))","v":"No Dollars and No Cents"},3,"No "]
["00:00:00",null,null,null,null,0,null,null,0,null,null,{"$f":"IFERROR(VLOOKUP(K50,$AD$7:AE52,2,FALSE),0)","v":0},null,null,0,null,null,null,null,null,null,null,"A","B","C",null,null,"A","B","C",null,null,"00:00:00","00:00:00",0,{"$f":"SpellNumber((AI50))","v":"No Dollars and No Cents"},3,"No "]
["00:00:00",null,null,null,null,0,null,null,0,null,null,{"$f":"IFERROR(VLOOKUP(K51,$AD$7:AE53,2,FALSE),0)","v":0},null,null,0,null,null,null,null,null,null,"A",{"$f":"COUNTIFS(E7:E104,\"A\",K7:K104,\"A\")","v":0},{"$f":"COUNTIFS(E7:E104,\"A\",K7:K104,\"B\")","v":0},{"$f":"COUNTIFS(E7:E104,\"A\",K7:K104,\"C\")","v":0},null,"A",{"$f":"COUNTIFS(H7:H104,\"a\",K7:K104,\"A\")","v":0},{"$f":"COUNTIFS(H7:H104,\"A\",K7:K104,\"B\")","v":0},{"$f":"COUNTIFS(H7:H104,\"A\",K7:K104,\"C\")","v":0},null,null,"00:00:00","00:00:00",0,{"$f":"SpellNumber((AI51))","v":"No Dollars and No Cents"},3,"No "]
["00:00:00",null,null,null,null,0,null,null,0,null,null,{"$f":"IFERROR(VLOOKUP(K52,$AD$7:AE54,2,FALSE),0)","v":0},null,null,0,null,null,null,null,null,null,"B",{"$f":"COUNTIFS(E7:E104,\"B\",K7:K104,\"A\")","v":0},{"$f":"COUNTIFS(E7:E104,\"B\",K7:K104,\"B\")","v":0},{"$f":"COUNTIFS(E7:E104,\"B\",K7:K104,\"C\")","v":0},null,"B",{"$f":"COUNTIFS(H7:H104,\"B\",K7:K104,\"A\")","v":0},{"$f":"COUNTIFS(H7:H104,\"B\",K7:K104,\"B\")","v":0},{"$f":"COUNTIFS(H7:H104,\"B\",K7:K104,\"C\")","v":0},null,null,"00:00:00","00:00:00",0,{"$f":"SpellNumber((AI52))","v":"No Dollars and No Cents"},3,"No "]
["00:00:00",null,null,null,null,0,null,null,0,null,null,{"$f":"IFERROR(VLOOKUP(K53,$AD$7:AE55,2,FALSE),0)","v":0},null,null,0,null,null,null,null,null,null,"C",{"$f":"COUNTIFS(K7:K104,\"C\",K7:K104,\"A\")","v":0},{"$f":"COUNTIFS(E7:E104,\"C\",K7:K104,\"B\")","v":0},{"$f":"COUNTIFS(E7:E104,\"C\",K7:K104,\"C\")","v":0},null,"C",{"$f":"COUNTIFS(H7:H104,\"C\",K7:K104,\"A\")","v":0},{"$f":"COUNTIFS(H7:H104,\"C\",K7:K104,\"B\")","v":0},{"$f":"COUNTIFS(H7:H104,\"C\",K7:K104,\"C\")","v":0},null,null,"00:00:00","00:00:00",0,{"$f":"SpellNumber((AI53))","v":"No Dollars and No Cents"},3,"No "]
["00:00:00",null,null,null,null,0,null,null,0,null,null,{"$f":"IFERROR(VLOOKUP(K54,$AD$7:AE56,2,FALSE),0)","v":0},null,null,0,null,null,null,null,null,null,"D",{"$f":"COUNTIFS(E7:E104,\"D\",K7:K104,\"A\")","v":0},{"$f":"COUNTIFS(E7:E104,\"D\",K7:K104,\"B\")","v":0},{"$f":"COUNTIFS(E7:E104,\"D\",K7:K104,\"C\")","v":0},null,"D",{"$f":"COUNTIFS(H7:H104,\"D\",K7:K104,\"A\")","v":0},{"$f":"COUNTIFS(H7:H104,\"D\",K7:K104,\"B\")","v":0},{"$f":"COUNTIFS(H7:H104,\"D\",K7:K104,\"C\")","v":0},null,null,"00:00:00","00:00:00",0,{"$f":"SpellNumber((AI54))","v":"No Dollars and No Cents"},3,"No "]
["00:00:00",null,null,null,null,0,null,null,0,null,null,{"$f":"IFERROR(VLOOKUP(K55,$AD$7:AE57,2,FALSE),0)","v":0},null,null,0,null,null,null,null,null,null,"E",{"$f":"COUNTIFS(E7:E104,\"E\",K7:K104,\"A\")","v":0},{"$f":"COUNTIFS(E7:E104,\"E\",K7:K104,\"B\")","v":0},{"$f":"COUNTIFS(E7:E104,\"E\",K7:K104,\"C\")","v":0},null,"E",{"$f":"COUNTIFS(H7:H104,\"E\",K7:K104,\"A\")","v":0},{"$f":"COUNTIFS(H7:H104,\"E\",K7:K104,\"B\")","v":0},{"$f":"COUNTIFS(H7:H104,\"E\",K7:K104,\"C\")","v":0},null,null,"00:00:00","00:00:00",0,{"$f":"SpellNumber((AI55))","v":"No Dollars and No Cents"},3,"No "]
["00:00:00",null,null,null,null,0,null,null,0,null,null,{"$f":"IFERROR(VLOOKUP(K56,$AD$7:AE58,2,FALSE),0)","v":0},null,null,0,null,null,null,null,null,null,"F",{"$f":"COUNTIFS(E7:E104,\"F\",K7:K104,\"A\")","v":0},{"$f":"COUNTIFS(E7:E104,\"F\",K7:K104,\"B\")","v":0},{"$f":"COUNTIFS(E7:E104,\"F\",K7:K104,\"C\")","v":0},null,"F",{"$f":"COUNTIFS(H7:H104,\"F\",K7:K104,\"A\")","v":0},{"$f":"COUNTIFS(H7:H104,\"F\",K7:K104,\"B\")","v":0},{"$f":"COUNTIFS(H7:H104,\"F\",K7:K104,\"C\")","v":0},null,null,"00:00:00","00:00:00",0,{"$f":"SpellNumber((AI56))","v":"No Dollars and No Cents"},3,"No "]
["00:00:00",null,null,null,null,0,null,null,0,null,null,{"$f":"IFERROR(VLOOKUP(K57,$AD$7:AE59,2,FALSE),0)","v":0},null,null,0,null,null,null,null,null,null,"G",{"$f":"COUNTIFS(E7:E104,\"G\",K7:K104,\"A\")","v":0},{"$f":"COUNTIFS(E7:E104,\"G\",K7:K104,\"B\")","v":0},{"$f":"COUNTIFS(E7:E104,\"G\",K7:K104,\"C\")","v":0},null,"G",{"$f":"COUNTIFS(H7:H104,\"G\",K7:K104,\"A\")","v":0},{"$f":"COUNTIFS(H7:H104,\"G\",K7:K104,\"B\")","v":0},{"$f":"COUNTIFS(H7:H104,\"G\",K7:K104,\"C\")","v":0},null,null,"00:00:00","00:00:00",0,{"$f":"SpellNumber((AI57))","v":"No Dollars and No Cents"},3,"No "]
["00:00:00",null,null,null,null,0,null,null,0,null,null,{"$f":"IFERROR(VLOOKUP(K58,$AD$7:AE60,2,FALSE),0)","v":0},null,null,0,null,null,null,null,null,null,"H",{"$f":"COUNTIFS(E7:E104,\"H\",K7:K104,\"A\")","v":0},{"$f":"COUNTIFS(E7:E104,\"H\",K7:K104,\"B\")","v":0},{"$f":"COUNTIFS(E7:E104,\"H\",K7:K104,\"C\")","v":0},null,"H",{"$f":"COUNTIFS(H7:H104,\"H\",K7:K104,\"A\")","v":0},{"$f":"COUNTIFS(H7:H104,\"H\",K7:K104,\"B\")","v":0},{"$f":"COUNTIFS(H7:H104,\"H\",K7:K104,\"C\")","v":0},null,null,"00:00:00","00:00:00",0,{"$f":"SpellNumber((AI58))","v":"No Dollars and No Cents"},3,"No "]
["00:00:00",null,null,null,null,0,null,null,0,null,null,{"$f":"IFERROR(VLOOKUP(K59,$AD$7:AE61,2,FALSE),0)","v":0},null,null,0,null,null,null,null,null,null,"I",{"$f":"COUNTIFS(E7:E104,\"I\",K7:K104,\"A\")","v":0},{"$f":"COUNTIFS(E7:E104,\"I\",K7:K104,\"B\")","v":0},{"$f":"COUNTIFS(E7:E104,\"I\",K7:K104,\"C\")","v":0},null,"I",{"$f":"COUNTIFS(H7:H104,\"I\",K7:K104,\"A\")","v":0},{"$f":"COUNTIFS(H7:H104,\"I\",K7:K104,\"B\")","v":0},{"$f":"COUNTIFS(H7:H104,\"I\",K7:K104,\"C\")","v":0},null,null,"00:00:00","00:00:00",0,{"$f":"SpellNumber((AI59))","v":"No Dollars and No Cents"},3,"No "]
["00:00:00",null,null,null,null,0,null,null,0,null,null,{"$f":"IFERROR(VLOOKUP(K60,$AD$7:AE62,2,FALSE),0)","v":0},null,null,0,null,null,null,null,null,null,"J",{"$f":"COUNTIFS(E7:E104,\"J\",K7:K104,\"A\")","v":0},{"$f":"COUNTIFS(E7:E104,\"J\",K7:K104,\"B\")","v":0},{"$f":"COUNTIFS(E7:E104,\"J\",K7:K104,\"C\")","v":0},null,"J",{"$f":"COUNTIFS(H7:H104,\"J\",K7:K104,\"A\")","v":0},{"$f":"COUNTIFS(H7:H104,\"J\",K7:K104,\"B\")","v":0},{"$f":"COUNTIFS(H7:H104,\"J\",K7:K104,\"C\")","v":0},null,null,"00:00:00","00:00:00",0,{"$f":"SpellNumber((AI60))","v":"No Dollars and No Cents"},3,"No "]
["00:00:00",null,null,null,null,0,null,null,0,null,null,{"$f":"IFERROR(VLOOKUP(K61,$AD$7:AE63,2,FALSE),0)","v":0},null,null,0,null,null,null,null,null,null,"K",{"$f":"COUNTIFS(E7:E104,\"K\",K7:K104,\"A\")","v":0},{"$f":"COUNTIFS(E7:E104,\"K\",K7:K104,\"B\")","v":0},{"$f":"COUNTIFS(E7:E104,\"K\",K7:K104,\"C\")","v":0},null,"K",{"$f":"COUNTIFS(H7:H104,\"K\",K7:K104,\"A\")","v":0},{"$f":"COUNTIFS(H7:H104,\"K\",K7:K104,\"B\")","v":0},{"$f":"COUNTIFS(H7:H104,\"K\",K7:K104,\"C\")","v":0},null,null,"00:00:00","00:00:00",0,{"$f":"SpellNumber((AI61))","v":"No Dollars and No Cents"},3,"No "]
["00:00:00",null,null,null,null,0,null,null,0,null,null,{"$f":"IFERROR(VLOOKUP(K62,$AD$7:AE64,2,FALSE),0)","v":0},null,null,0,null,null,null,null,null,null,"L",{"$f":"COUNTIFS(E7:E104,\"L\",K7:K104,\"A\")","v":0},{"$f":"COUNTIFS(E7:E104,\"L\",K7:K104,\"B\")","v":0},{"$f":"COUNTIFS(E7:E104,\"L\",K7:K104,\"C\")","v":0},null,"L",{"$f":"COUNTIFS(H7:H104,\"L\",K7:K104,\"A\")","v":0},{"$f":"COUNTIFS(H7:H104,\"L\",K7:K104,\"B\")","v":0},{"$f":"COUNTIFS(H7:H104,\"L\",K7:K104,\"C\")","v":0},null,null,"00:00:00","00:00:00",0,{"$f":"SpellNumber((AI62))","v":"No Dollars and No Cents"},3,"No "]
["00:00:00",null,null,null,null,0,null,null,0,null,null,{"$f":"IFERROR(VLOOKUP(K63,$AD$7:AE65,2,FALSE),0)","v":0},null,null,0,null,null,null,null,null,null,null,"Beh & Consequences",null,null,null,null,null,null,null,null,null,"00:00:00","00:00:00",0,{"$f":"SpellNumber((AI63))","v":"No Dollars and No Cents"},3,"No "]
["00:00:00",null,null,null,null,0,null,null,0,null,null,{"$f":"IFERROR(VLOOKUP(K64,$AD$7:AE66,2,FALSE),0)","v":0},null,null,0,null,null,null,null,null,null,null,"A","B","C",null,null,null,null,null,null,null,"00:00:00","00:00:00",0,{"$f":"SpellNumber((AI64))","v":"No Dollars and No Cents"},3,"No "]
["00:00:00",null,null,null,null,0,null,null,0,null,null,{"$f":"IFERROR(VLOOKUP(K65,$AD$7:AE67,2,FALSE),0)","v":0},null,null,0,null,null,null,null,null,null,"A",{"$f":"COUNTIFS(N7:N104,\"A\",K7:K104,\"A\")","v":0},{"$f":"COUNTIFS(N7:N104,\"A\",K7:K104,\"B\")","v":0},{"$f":"COUNTIFS(N7:N104,\"A\",K7:K104,\"C\")","v":0},null,null,null,null,null,null,null,"00:00:00","00:00:00",0,{"$f":"SpellNumber((AI65))","v":"No Dollars and No Cents"},3,"No "]
["00:00:00",null,null,null,null,0,null,null,0,null,null,{"$f":"IFERROR(VLOOKUP(K66,$AD$7:AE68,2,FALSE),0)","v":0},null,null,0,null,null,null,null,null,null,"B",{"$f":"COUNTIFS(N7:N104,\"B\",K7:K104,\"A\")","v":0},{"$f":"COUNTIFS(N7:N104,\"B\",K7:K104,\"B\")","v":0},{"$f":"COUNTIFS(N7:N104,\"B\",K7:K104,\"C\")","v":0},null,null,null,null,null,null,null,"00:00:00","00:00:00",0,{"$f":"SpellNumber((AI66))","v":"No Dollars and No Cents"},3,"No "]
["00:00:00",null,null,null,null,0,null,null,0,null,null,{"$f":"IFERROR(VLOOKUP(K67,$AD$7:AE69,2,FALSE),0)","v":0},null,null,0,null,null,null,null,null,null,"C",{"$f":"COUNTIFS(N7:N104,\"C\",K7:K104,\"A\")","v":0},{"$f":"COUNTIFS(N7:N104,\"C\",K7:K104,\"B\")","v":0},{"$f":"COUNTIFS(N7:N104,\"C\",K7:K104,\"C\")","v":0},null,null,null,null,null,null,null,"00:00:00","00:00:00",0,{"$f":"SpellNumber((AI67))","v":"No Dollars and No Cents"},3,"No "]
["00:00:00",null,null,null,null,0,null,null,0,null,null,{"$f":"IFERROR(VLOOKUP(K68,$AD$7:AE70,2,FALSE),0)","v":0},null,null,0,null,null,null,null,null,null,"D",{"$f":"COUNTIFS(N7:N104,\"D\",K7:K104,\"A\")","v":0},{"$f":"COUNTIFS(N7:N104,\"D\",K7:K104,\"B\")","v":0},{"$f":"COUNTIFS(N7:N104,\"D\",K7:K104,\"C\")","v":0},null,null,null,null,null,null,null,"00:00:00","00:00:00",0,{"$f":"SpellNumber((AI68))","v":"No Dollars and No Cents"},3,"No "]
["00:00:00",null,null,null,null,0,null,null,0,null,null,{"$f":"IFERROR(VLOOKUP(K69,$AD$7:AE71,2,FALSE),0)","v":0},null,null,0,null,null,null,null,null,null,"E",{"$f":"COUNTIFS(N7:N104,\"E\",K7:K104,\"A\")","v":0},{"$f":"COUNTIFS(N7:N104,\"E\",K7:K104,\"B\")","v":0},{"$f":"COUNTIFS(N7:N104,\"E\",K7:K104,\"C\")","v":0},null,null,null,null,null,null,null,"00:00:00","00:00:00",0,{"$f":"SpellNumber((AI69))","v":"No Dollars and No Cents"},3,"No "]
["00:00:00",null,null,null,null,0,null,null,0,null,null,{"$f":"IFERROR(VLOOKUP(K70,$AD$7:AE72,2,FALSE),0)","v":0},null,null,0,null,null,null,null,null,null,"F",{"$f":"COUNTIFS(N7:N104,\"F\",K7:K104,\"A\")","v":0},{"$f":"COUNTIFS(N7:N104,\"F\",K7:K104,\"B\")","v":0},{"$f":"COUNTIFS(N7:N104,\"F\",K7:K104,\"C\")","v":0},null,null,null,null,null,null,null,"00:00:00","00:00:00",0,{"$f":"SpellNumber((AI70))","v":"No Dollars and No Cents"},3,"No "]
["00:00:00",null,null,null,null,0,null,null,0,null,null,{"$f":"IFERROR(VLOOKUP(K71,$AD$7:AE73,2,FALSE),0)","v":0},null,null,0,null,null,null,null,null,null,"G",{"$f":"COUNTIFS(N7:N104,\"G\",K7:K104,\"A\")","v":0},{"$f":"COUNTIFS(N7:N104,\"G\",K7:K104,\"B\")","v":0},{"$f":"COUNTIFS(N7:N104,\"G\",K7:K104,\"C\")","v":0},null,null,null,null,null,null,null,"00:00:00","00:00:00",0,{"$f":"SpellNumber((AI71))","v":"No Dollars and No Cents"},3,"No "]
[{"$f":"C72-B72","v":"00:00:00"},null,null,null,null,0,null,null,{"$f":"IFERROR(VLOOKUP(H72,$Z$7:$AA$18,2,FALSE),0)","v":0},null,null,{"$f":"IFERROR(VLOOKUP(K72,$AD$7:AE74,2,FALSE),0)","v":0},null,null,{"$f":"IFERROR(VLOOKUP(N72,$V$22:$W$33,2,FALSE),0)","v":0},null,null,null,null,null,null,"H",{"$f":"COUNTIFS(N7:N104,\"H\",K7:K104,\"A\")","v":0},{"$f":"COUNTIFS(N7:N104,\"H\",K7:K104,\"B\")","v":0},{"$f":"COUNTIFS(N7:N104,\"H\",K7:K104,\"C\")","v":0},null,null,null,null,null,null,null,{"$f":"B72","v":"00:00:00"},{"$f":"TEXT(AG72,\"hh:mm:ss\")","v":"00:00:00"},{"$f":"AG72*24","v":0},{"$f":"SpellNumber((AI72))","v":"No Dollars and No Cents"},{"$f":"FIND(\" Dollar\",AJ72)","v":3},{"$f":"LEFT(AJ72,AK72)","v":"No "}]
["00:00:00",null,null,null,null,{"$f":"IFERROR(VLOOKUP(E73,$V$7:$W$18,2,FALSE),0)","v":0},null,null,0,null,null,{"$f":"IFERROR(VLOOKUP(K73,$AD$7:AE75,2,FALSE),0)","v":0},null,null,0,null,null,null,null,null,null,"I",{"$f":"COUNTIFS(N7:N104,\"I\",K7:K104,\"A\")","v":0},{"$f":"COUNTIFS(N7:N104,\"I\",K7:K104,\"B\")","v":0},{"$f":"COUNTIFS(N7:N104,\"I\",K7:K104,\"C\")","v":0},null,null,null,null,null,null,null,"00:00:00","00:00:00",0,{"$f":"SpellNumber((AI73))","v":"No Dollars and No Cents"},3,"No "]
["00:00:00",null,null,null,null,0,null,null,0,null,null,{"$f":"IFERROR(VLOOKUP(K74,$AD$7:AE76,2,FALSE),0)","v":0},null,null,0,null,null,null,null,null,null,"J",{"$f":"COUNTIFS(N7:N104,\"J\",K7:K104,\"A\")","v":0},{"$f":"COUNTIFS(N7:N104,\"J\",K7:K104,\"B\")","v":0},{"$f":"COUNTIFS(N7:N104,\"J\",K7:K104,\"C\")","v":0},null,null,null,null,null,null,null,"00:00:00","00:00:00",0,{"$f":"SpellNumber((AI74))","v":"No Dollars and No Cents"},3,"No "]
["00:00:00",null,null,null,null,0,null,null,0,null,null,{"$f":"IFERROR(VLOOKUP(K75,$AD$7:AE77,2,FALSE),0)","v":0},null,null,0,null,null,null,null,null,null,"K",{"$f":"COUNTIFS(N7:N104,\"K\",K7:K104,\"A\")","v":0},{"$f":"COUNTIFS(N7:N104,\"K\",K7:K104,\"B\")","v":0},{"$f":"COUNTIFS(N7:N104,\"K\",K7:K104,\"C\")","v":0},null,null,null,null,null,null,null,"00:00:00","00:00:00",0,{"$f":"SpellNumber((AI75))","v":"No Dollars and No Cents"},3,"No "]
["00:00:00",null,null,null,null,0,null,null,0,null,null,{"$f":"IFERROR(VLOOKUP(K76,$AD$7:AE78,2,FALSE),0)","v":0},null,null,0,null,null,null,null,null,null,"L",{"$f":"COUNTIFS(N7:N104,\"L\",K7:K104,\"A\")","v":0},{"$f":"COUNTIFS(N7:N104,\"L\",K7:K104,\"B\")","v":0},{"$f":"COUNTIFS(N7:N104,\"L\",K7:K104,\"C\")","v":0},null,null,null,null,null,null,null,"00:00:00","00:00:00",0,{"$f":"SpellNumber((AI76))","v":"No Dollars and No Cents"},3,"No "]
["00:00:00",null,null,null,null,0,null,null,0,null,null,{"$f":"IFERROR(VLOOKUP(K77,$AD$7:AE79,2,FALSE),0)","v":0},null,null,0,null,null,null,null,null,null,null,null,null,null,null,null,null,null,null,null,null,"00:00:00","00:00:00",0,{"$f":"SpellNumber((AI77))","v":"No Dollars and No Cents"},3,"No "]
["00:00:00",null,null,null,null,0,null,null,0,null,null,{"$f":"IFERROR(VLOOKUP(K78,$AD$7:AE80,2,FALSE),0)","v":0},null,null,0,null,null,null,null,null,null,null,null,null,null,null,null,null,null,null,null,null,"00:00:00","00:00:00",0,{"$f":"SpellNumber((AI78))","v":"No Dollars and No Cents"},3,"No "]
["00:00:00",null,null,null,null,0,null,null,0,null,null,{"$f":"IFERROR(VLOOKUP(K79,$AD$7:AE81,2,FALSE),0)","v":0},null,null,0,null,null,null,null,null,null,null,null,null,null,null,null,null,null,null,null,null,"00:00:00","00:00:00",0,{"$f":"SpellNumber((AI79))","v":"No Dollars and No Cents"},3,"No "]
["00:00:00",null,null,null,null,0,null,null,0,null,null,{"$f":"IFERROR(VLOOKUP(K80,$AD$7:AE82,2,FALSE),0)","v":0},null,null,0,null,null,null,null,null,null,null,null,null,null,null,null,null,null,null,null,null,"00:00:00","00:00:00",0,{"$f":"SpellNumber((AI80))","v":"No Dollars and No Cents"},3,"No "]
["00:00:00",null,null,null,null,0,null,null,0,null,null,{"$f":"IFERROR(VLOOKUP(K81,$AD$7:AE83,2,FALSE),0)","v":0},null,null,0,null,null,null,null,null,null,null,null,null,null,null,null,null,null,null,null,null,"00:00:00","00:00:00",0,{"$f":"SpellNumber((AI81))","v":"No Dollars and No Cents"},3,"No "]
["00:00:00",null,null,null,null,0,null,null,0,null,null,{"$f":"IFERROR(VLOOKUP(K82,$AD$7:AE84,2,FALSE),0)","v":0},null,null,0,null,null,null,null,null,null,null,null,null,null,null,null,null,null,null,null,null,"00:00:00","00:00:00",0,{"$f":"SpellNumber((AI82))","v":"No Dollars and No Cents"},3,"No "]
["00:00:00",null,null,null,null,0,null,null,0,null,null,{"$f":"IFERROR(VLOOKUP(K83,$AD$7:AE85,2,FALSE),0)","v":0},null,null,0,null,null,null,null,null,null,null,null,null,null,null,null,null,null,null,null,null,"00:00:00","00:00:00",0,{"$f":"SpellNumber((AI83))","v":"No Dollars and No Cents"},3,"No "]
["00:00:00",null,null,null,null,0,null,null,0,null,null,{"$f":"IFERROR(VLOOKUP(K84,$AD$7:AE86,2,FALSE),0)","v":0},null,null,0,null,null,null,null,null,null,null,null,null,null,null,null,null,null,null,null,null,"00:00:00","00:00:00",0,{"$f":"SpellNumber((AI84))","v":"No Dollars and No Cents"},3,"No "]
["00:00:00",null,null,null,null,0,null,null,0,null,null,{"$f":"IFERROR(VLOOKUP(K85,$AD$7:AE87,2,FALSE),0)","v":0},null,null,0,null,null,null,null,null,null,null,null,null,null,null,null,null,null,null,null,null,"00:00:00","00:00:00",0,{"$f":"SpellNumber((AI85))","v":"No Dollars and No Cents"},3,"No "]
["00:00:00",null,null,null,null,0,null,null,0,null,null,{"$f":"IFERROR(VLOOKUP(K86,$AD$7:AE88,2,FALSE),0)","v":0},null,null,0,null,null,null,null,null,null,null,null,null,null,null,null,null,null,null,null,null,"00:00:00","00:00:00",0,{"$f":"SpellNumber((AI86))","v":"No Dollars and No Cents"},3,"No "]
["00:00:00",null,null,null,null,0,null,null,0,null,null,{"$f":"IFERROR(VLOOKUP(K87,$AD$7:AE89,2,FALSE),0)","v":0},null,null,0,null,null,null,null,null,null,null,null,null,null,null,null,null,null,null,null,null,"00:00:00","00:00:00",0,{"$f":"SpellNumber((AI87))","v":"No Dollars and No Cents"},3,"No "]
["00:00:00",null,null,null,null,0,null,null,0,null,null,{"$f":"IFERROR(VLOOKUP(K88,$AD$7:AE90,2,FALSE),0)","v":0},null,null,0,null,null,null,null,null,null,null,null,null,null,null,null,null,null,null,null,null,"00:00:00","00:00:00",0,{"$f":"SpellNumber((AI88))","v":"No Dollars and No Cents"},3,"No "]
["00:00:00",null,null,null,null,0,null,null,0,null,null,{"$f":"IFERROR(VLOOKUP(K89,$AD$7:AE91,2,FALSE),0)","v":0},null,null,0,null,null,null,null,null,null,null,null,null,null,null,null,null,null,null,null,null,"00:00:00","00:00:00",0,{"$f":"SpellNumber((AI89))","v":"No Dollars and No Cents"},3,"No "]
["00:00:00",null,null,null,null,0,null,null,0,null,null,{"$f":"IFERROR(VLOOKUP(K90,$AD$7:AE92,2,FALSE),0)","v":0},null,null,0,null,null,null,null,null,null,null,null,null,null,null,null,null,null,null,null,null,"00:00:00","00:00:00",0,{"$f":"SpellNumber((AI90))","v":"No Dollars and No Cents"},3,"No "]
["00:00:00",null,null,null,null,0,null,null,0,null,null,{"$f":"IFERROR(VLOOKUP(K91,$AD$7:AE93,2,FALSE),0)","v":0},null,null,0,null,null,null,"Total Mins",{"$f":"SUM(A7:A104)","v":"00:00:00"},null,null,null,null,null,null,null,null,null,null,null,null,"00:00:00","00:00:00",0,{"$f":"SpellNumber((AI91))","v":"No Dollars and No Cents"},3,"No "]
["00:00:00",null,null,null,null,0,null,null,0,null,null,{"$f":"IFERROR(VLOOKUP(K92,$AD$7:AE94,2,FALSE),0)","v":0},null,null,0,null,null,null,"Settings:","A",{"$f":"COUNTIF(E4:E104,\"A\")","v":0},"Antec.","A",{"$f":"COUNTIF(H4:H104,\"A\")","v":0},"Beh","A",{"$f":"COUNTIF(L4:L104,\"A\")","v":0},"Conse.","A",{"$f":"COUNTIF(O4:O104,\"A\")","v":0},null,null,"00:00:00","00:00:00",0,{"$f":"SpellNumber((AI92))","v":"No Dollars and No Cents"},3,"No "]
["00:00:00",null,null,null,null,0,null,null,0,null,null,{"$f":"IFERROR(VLOOKUP(K93,$AD$7:AE95,2,FALSE),0)","v":0},null,null,0,null,null,null,null,"B",{"$f":"COUNTIF(E5:E105,\"B\")","v":0},null,"B",{"$f":"COUNTIF(H5:H105,\"B\")","v":0},null,"B",{"$f":"COUNTIF(L5:L105,\"B\")","v":0},null,"B",{"$f":"COUNTIF(O5:O105,\"B\")","v":0},null,null,"00:00:00","00:00:00",0,{"$f":"SpellNumber((AI93))","v":"No Dollars and No Cents"},3,"No "]
["00:00:00",null,null,null,null,0,null,null,0,null,null,{"$f":"IFERROR(VLOOKUP(K94,$AD$7:AE96,2,FALSE),0)","v":0},null,null,0,null,null,null,null,"C",{"$f":"COUNTIF(E6:E106,\"C\")","v":0},null,"C",{"$f":"COUNTIF(H6:H106,\"C\")","v":0},null,"C",{"$f":"COUNTIF(L6:L106,\"C\")","v":0},null,"C",{"$f":"COUNTIF(O6:O106,\"C\")","v":0},null,null,"00:00:00","00:00:00",0,{"$f":"SpellNumber((AI94))","v":"No Dollars and No Cents"},3,"No "]
["00:00:00",null,null,null,null,0,null,null,0,null,null,{"$f":"IFERROR(VLOOKUP(K95,$AD$7:AE97,2,FALSE),0)","v":0},null,null,0,null,null,null,null,"D",{"$f":"COUNTIF(E7:E107,\"D\")","v":0},null,"D",{"$f":"COUNTIF(H7:H107,\"D\")","v":0},null,null,null,null,"D",{"$f":"COUNTIF(O7:O107,\"D\")","v":0},null,null,"00:00:00","00:00:00",0,{"$f":"SpellNumber((AI95))","v":"No Dollars and No Cents"},3,"No "]
["00:00:00",null,null,null,null,0,null,null,0,null,null,{"$f":"IFERROR(VLOOKUP(K96,$AD$7:AE98,2,FALSE),0)","v":0},null,null,0,null,null,null,null,"E",{"$f":"COUNTIF(E8:E108,\"E\")","v":0},null,"E",{"$f":"COUNTIF(H8:H108,\"E\")","v":0},null,null,null,null,"E",{"$f":"COUNTIF(O8:O108,\"E\")","v":0},null,null,"00:00:00","00:00:00",0,{"$f":"SpellNumber((AI96))","v":"No Dollars and No Cents"},3,"No "]
["00:00:00",null,null,null,null,0,null,null,0,null,null,{"$f":"IFERROR(VLOOKUP(K97,$AD$7:AE99,2,FALSE),0)","v":0},null,null,0,null,null,null,null,"F",{"$f":"COUNTIF(E9:E109,\"F\")","v":0},null,"F",{"$f":"COUNTIF(H9:H109,\"F\")","v":0},null,null,null,null,"F",{"$f":"COUNTIF(O9:O109,\"F\")","v":0},null,null,"00:00:00","00:00:00",0,{"$f":"SpellNumber((AI97))","v":"No Dollars and No Cents"},3,"No "]
["00:00:00",null,null,null,null,0,null,null,0,null,null,{"$f":"IFERROR(VLOOKUP(K98,$AD$7:AE100,2,FALSE),0)","v":0},null,null,0,null,null,null,null,"G",{"$f":"COUNTIF(E10:E110,\"G\")","v":0},null,"G",{"$f":"COUNTIF(H10:H110,\"G\")","v":0},null,null,null,null,"G",{"$f":"COUNTIF(O10:O110,\"G\")","v":0},null,null,"00:00:00","00:00:00",0,{"$f":"SpellNumber((AI98))","v":"No Dollars and No Cents"},3,"No "]
["00:00:00",null,null,null,null,0,null,null,0,null,null,{"$f":"IFERROR(VLOOKUP(K99,$AD$7:AE101,2,FALSE),0)","v":0},null,null,0,null,null,null,null,"H",{"$f":"COUNTIF(E11:E111,\"H\")","v":0},null,"H",{"$f":"COUNTIF(H11:H111,\"H\")","v":0},null,null,null,null,"H",{"$f":"COUNTIF(O11:O111,\"H\")","v":0},null,null,"00:00:00","00:00:00",0,{"$f":"SpellNumber((AI99))","v":"No Dollars and No Cents"},3,"No "]
["00:00:00",null,null,null,null,0,null,null,0,null,null,{"$f":"IFERROR(VLOOKUP(K100,$AD$7:AE102,2,FALSE),0)","v":0},null,null,0,null,null,null,null,"I",{"$f":"COUNTIF(E12:E112,\"I\")","v":0},null,"I",{"$f":"COUNTIF(H12:H112,\"I\")","v":0},null,null,null,null,"I",{"$f":"COUNTIF(O12:O112,\"I\")","v":0},null,null,"00:00:00","00:00:00",0,{"$f":"SpellNumber((AI100))","v":"No Dollars and No Cents"},3,"No "]
["00:00:00",null,null,null,null,0,null,null,0,null,null,{"$f":"IFERROR(VLOOKUP(K101,$AD$7:AE103,2,FALSE),0)","v":0},null,null,0,null,null,null,null,"J",{"$f":"COUNTIF(E13:E113,\"J\")","v":0},null,"J",{"$f":"COUNTIF(H13:H113,\"J\")","v":0},null,null,null,null,"J",{"$f":"COUNTIF(O13:O113,\"J\")","v":0},null,null,"00:00:00","00:00:00",0,{"$f":"SpellNumber((AI101))","v":"No Dollars and No Cents"},3,"No "]
["00:00:00",null,null,null,null,0,null,null,0,null,null,{"$f":"IFERROR(VLOOKUP(K102,$AD$7:AE104,2,FALSE),0)","v":0},null,null,0,null,null,null,null,"K",{"$f":"COUNTIF(E14:E114,\"K\")","v":0},null,"K",{"$f":"COUNTIF(H14:H114,\"K\")","v":0},null,null,null,null,"K",{"$f":"COUNTIF(O14:O114,\"K\")","v":0},null,null,"00:00:00","00:00:00",0,{"$f":"SpellNumber((AI102))","v":"No Dollars and No Cents"},3,"No "]
["00:00:00",null,null,null,null,0,null,null,0,null,null,{"$f":"IFERROR(VLOOKUP(K103,$AD$7:AE105,2,FALSE),0)","v":0},null,null,0,null,null,null,null,"L",{"$f":"COUNTIF(E15:E115,\"L\")","v":0},null,"L",{"$f":"COUNTIF(H15:H115,\"L\")","v":0},null,null,null,null,"L",{"$f":"COUNTIF(O15:O115,\"L\")","v":0},null,null,"00:00:00","00:00:00",0,{"$f":"SpellNumber((AI103))","v":"No Dollars and No Cents"},3,"No "]
["00:00:00",null,null,null,null,0,null,null,0,null,null,{"$f":"IFERROR(VLOOKUP(K104,$AD$7:AE106,2,FALSE),0)","v":0},null,null,0,null,null,null,null,null,null,null,null,null,null,null,null,null,null,null,null,null,"00:00:00","00:00:00",0,{"$f":"SpellNumber((AI104))","v":"No Dollars and No Cents"},3,"No "]

{"sheet":"Data 25","index":33,"n_rows":104,"n_cols":38,"rows_kept":104,"cut":false,"hidden":false,"merged":[[0,7,3,14]]}
["ATTENDANCE",null,null,null,null,null,null,"Data Collection"]
["If tardy, arrival time",null,null,null,null,null,null,null,null,null,null,null,null,null,null,null,null,null,null,null,null,null,"Date",{"$f":"Calendar!F8","v":{"$error":"#N/A"}},{"$f":"TEXT(X2,\"ddd\")","v":{"$error":"#N/A"}}]
["If left early, time",null,null,null,null,null,null,null,null,null,null,null,null,null,null,null,null,null,null,null,null,null,"Frq. Of bx",{"$f":"AA22","v":0}]
[]
[]
["Mins.","Start Time","End Time",null,null,null,null,null,null,null,null,null,null,null,null,null,null,null,null,null,null,null,"Setting",null,null,"Ant",null,null,null,"Beh",null,null,"Raw Data","Time in text","Decimal"]
[{"$f":"C7-B7","v":"00:00:00"},null,null,null,null,{"$f":"IFERROR(VLOOKUP(E7,$V$7:$W$18,2,FALSE),0)","v":0},null,null,{"$f":"IFERROR(VLOOKUP(H7,$Z$7:$AA$18,2,FALSE),0)","v":0},null,null,{"$f":"IFERROR(VLOOKUP(K7,$AD$7:AE9,2,FALSE),0)","v":0},null,null,{"$f":"IFERROR(VLOOKUP(N7,$V$22:$W$33,2,FALSE),0)","v":0},null,null,null,null,null,null,"A",{"$f":"Criteria!C4","v":"Transition"},null,null,"A",{"$f":"Criteria!E4","v":"Transition"},null,null,"A",{"$f":"Criteria!G4","v":0},null,{"$f":"B7","v":"00:00:00"},{"$f":"TEXT(AG7,\"hh:mm:ss\")","v":"00:00:00"},{"$f":"AG7*24","v":0},{"$f":"SpellNumber((AI7))","v":"No Dollars and No Cents"},{"$f":"FIND(\" Dollar\",AJ7)","v":3},{"$f":"LEFT(AJ7,AK7)","v":"No "}]
[{"$f":"C8-B8","v":"00:00:00"},null,null,null,null,{"$f":"IFERROR(VLOOKUP(E8,$V$7:$W$18,2,FALSE),0)","v":0},null,null,{"$f":"IFERROR(VLOOKUP(H8,$Z$7:$AA$18,2,FALSE),0)","v":0},null,null,{"$f":"IFERROR(VLOOKUP(K8,$AD$7:AE10,2,FALSE),0)","v":0},null,null,{"$f":"IFERROR(VLOOKUP(N8,$V$22:$W$33,2,FALSE),0)","v":0},null,null,null,null,null,null,"B",{"$f":"Criteria!C5","v":"Morning Routine"},null,null,"B",{"$f":"Criteria!E5","v":"Denied access ('No')"},null,null,"B",{"$f":"Criteria!G5","v":0},null,{"$f":"B8","v":"00:00:00"},{"$f":"TEXT(AG8,\"hh:mm:ss\")","v":"00:00:00"},{"$f":"AG8*24","v":0},{"$f":"SpellNumber((AI8))","v":"No Dollars and No Cents"},{"$f":"FIND(\" Dollar\",AJ8)","v":3},{"$f":"LEFT(AJ8,AK8)","v":"No "}]
["00:00:00",null,null,null,null,{"$f":"IFERROR(VLOOKUP(E9,$V$7:$W$18,2,FALSE),0)","v":0},null,null,0,null,null,{"$f":"IFERROR(VLOOKUP(K9,$AD$7:AE11,2,FALSE),0)","v":0},null,null,0,null,null,null,null,null,null,"C",{"$f":"Criteria!C6","v":"Group Work"},null,null,"C",{"$f":"Criteria!E6","v":"Instruction/ Directions"},null,null,"C",{"$f":"Criteria!G6","v":0},null,"00:00:00","00:00:00",0,{"$f":"SpellNumber((AI9))","v":"No Dollars and No Cents"},3,"No "]
["00:00:00",null,null,null,null,0,null,null,0,null,null,{"$f":"IFERROR(VLOOKUP(K10,$AD$7:AE12,2,FALSE),0)","v":0},null,null,0,null,null,null,null,null,null,"D",{"$f":"Criteria!C7","v":"Ind. Seat/Work Time"},null,null,"D",{"$f":"Criteria!E7","v":"New Task"},null,null,null,null,null,"00:00:00","00:00:00",0,{"$f":"SpellNumber((AI10))","v":"No Dollars and No Cents"},3,"No "]
["00:00:00",null,null,null,null,0,null,null,0,null,null,{"$f":"IFERROR(VLOOKUP(K11,$AD$7:AE13,2,FALSE),0)","v":0},null,null,0,null,null,null,null,null,null,"E",{"$f":"Criteria!C8","v":"Language Arts"},null,null,"E",{"$f":"Criteria!E8","v":"Tcher attn to other"},null,null,null,null,null,"00:00:00","00:00:00",0,{"$f":"SpellNumber((AI11))","v":"No Dollars and No Cents"},3,"No "]
["00:00:00",null,null,null,null,0,null,null,0,null,null,{"$f":"IFERROR(VLOOKUP(K12,$AD$7:AE14,2,FALSE),0)","v":0},null,null,0,null,null,null,null,null,null,"F",{"$f":"Criteria!C9","v":"Mathematics"},null,null,"F",{"$f":"Criteria!E9","v":"Choice given"},null,null,null,null,null,"00:00:00","00:00:00",0,{"$f":"SpellNumber((AI12))","v":"No Dollars and No Cents"},3,"No "]
["00:00:00",null,null,null,null,0,null,null,0,null,null,{"$f":"IFERROR(VLOOKUP(K13,$AD$7:AE15,2,FALSE),0)","v":0},null,null,0,null,null,null,null,null,null,"G",{"$f":"Criteria!C10","v":"Physical Education"},null,null,"G",{"$f":"Criteria!E10","v":"Redirection"},null,null,null,null,null,"00:00:00","00:00:00",0,{"$f":"SpellNumber((AI13))","v":"No Dollars and No Cents"},3,"No "]
["00:00:00",null,null,null,null,0,null,null,0,null,null,{"$f":"IFERROR(VLOOKUP(K14,$AD$7:AE16,2,FALSE),0)","v":0},null,null,0,null,null,null,null,null,null,"H",{"$f":"Criteria!C11","v":"Music/Art"},null,null,"H",{"$f":"Criteria!E11","v":"Routine Task"},null,null,null,null,null,"00:00:00","00:00:00",0,{"$f":"SpellNumber((AI14))","v":"No Dollars and No Cents"},3,"No "]
["00:00:00",null,null,null,null,0,null,null,0,null,null,{"$f":"IFERROR(VLOOKUP(K15,$AD$7:AE17,2,FALSE),0)","v":0},null,null,0,null,null,null,null,null,null,"I",{"$f":"Criteria!C12","v":"Speech"},null,null,"I",{"$f":"Criteria!E12","v":"Waiting"},null,null,null,null,null,"00:00:00","00:00:00",0,{"$f":"SpellNumber((AI15))","v":"No Dollars and No Cents"},3,"No "]
["00:00:00",null,null,null,null,0,null,null,0,null,null,{"$f":"IFERROR(VLOOKUP(K16,$AD$7:AE18,2,FALSE),0)","v":0},null,null,0,null,null,null,null,null,null,"J",{"$f":"Criteria!C13","v":"OT/PT"},null,null,"J",{"$f":"Criteria!E13","v":"Unknown"},null,null,null,null,null,"00:00:00","00:00:00",0,{"$f":"SpellNumber((AI16))","v":"No Dollars and No Cents"},3,"No "]
["00:00:00",null,null,null,null,0,null,null,0,null,null,{"$f":"IFERROR(VLOOKUP(K17,$AD$7:AE19,2,FALSE),0)","v":0},null,null,0,null,null,null,null,null,null,"K",{"$f":"Criteria!C14","v":"Center"},null,null,"K",{"$f":"Criteria!E14","v":"Ignored"},null,null,null,null,null,"00:00:00","00:00:00",0,{"$f":"SpellNumber((AI17))","v":"No Dollars and No Cents"},3,"No "]
["00:00:00",null,null,null,null,0,null,null,0,null,null,{"$f":"IFERROR(VLOOKUP(K18,$AD$7:AE20,2,FALSE),0)","v":0},null,null,0,null,null,null,null,null,null,"L",{"$f":"Criteria!C15","v":"Other"},null,null,"L",{"$f":"Criteria!E15","v":"Other"},null,null,null,null,null,"00:00:00","00:00:00",0,{"$f":"SpellNumber((AI18))","v":"No Dollars and No Cents"},3,"No "]
["00:00:00",null,null,null,null,0,null,null,0,null,null,{"$f":"IFERROR(VLOOKUP(K19,$AD$7:AE21,2,FALSE),0)","v":0},null,null,0,null,null,null,null,null,null,null,null,null,null,null,null,null,null,null,null,null,"00:00:00","00:00:00",0,{"$f":"SpellNumber((AI19))","v":"No Dollars and No Cents"},3,"No "]
["00:00:00",null,null,null,null,0,null,null,0,null,null,{"$f":"IFERROR(VLOOKUP(K20,$AD$7:AE22,2,FALSE),0)","v":0},null,null,0,null,null,null,null,null,null,null,null,null,null,null,null,null,null,null,null,null,"00:00:00","00:00:00",0,{"$f":"SpellNumber((AI20))","v":"No Dollars and No Cents"},3,"No "]
["00:00:00",null,null,null,null,0,null,null,0,null,null,{"$f":"IFERROR(VLOOKUP(K21,$AD$7:AE23,2,FALSE),0)","v":0},null,null,0,null,null,null,null,null,null,null,"Con",null,"Bx Frequency Per Day",null,null,null,null,null,null,null,"00:00:00","00:00:00",0,{"$f":"SpellNumber((AI21))","v":"No Dollars and No Cents"},3,"No "]
["00:00:00",null,null,null,null,0,null,null,0,null,null,{"$f":"IFERROR(VLOOKUP(K22,$AD$7:AE24,2,FALSE),0)","v":0},null,null,0,null,null,null,null,null,null,"A",{"$f":"Criteria!I4","v":"Choice Given"},"A",{"$f":"COUNTIF(K7:K104,\"A\")","v":0},null,{"$f":"SUM(Y22:Y24)","v":0},null,"Bin Dec","Frequency of Time",null,null,"00:00:00","00:00:00",0,{"$f":"SpellNumber((AI22))","v":"No Dollars and No Cents"},3,"No "]
["00:00:00",null,null,null,null,0,null,null,0,null,null,{"$f":"IFERROR(VLOOKUP(K23,$AD$7:AE25,2,FALSE),0)","v":0},null,null,0,null,null,null,null,null,null,"B",{"$f":"Criteria!I5","v":"Ignored"},"B",{"$f":"COUNTIF(K7:K104,\"B\")","v":0},null,null,null,"Seven",{"$f":"COUNTIF(AL7:AL104,\"*Seven*\")","v":0},null,null,"00:00:00","00:00:00",0,{"$f":"SpellNumber((AI23))","v":"No Dollars and No Cents"},3,"No "]
["00:00:00",null,null,null,null,0,null,null,0,null,null,{"$f":"IFERROR(VLOOKUP(K24,$AD$7:AE26,2,FALSE),0)","v":0},null,null,0,null,null,null,null,null,null,"C",{"$f":"Criteria!I6","v":"Redirection"},"C",{"$f":"COUNTIF(K7:K104,\"C\")","v":0},null,null,null,"Eight",{"$f":"COUNTIF(AL7:AL104,\"*Eight*\")","v":0},null,null,"00:00:00","00:00:00",0,{"$f":"SpellNumber((AI24))","v":"No Dollars and No Cents"},3,"No "]
["00:00:00",null,null,null,null,0,null,null,0,null,null,{"$f":"IFERROR(VLOOKUP(K25,$AD$7:AE27,2,FALSE),0)","v":0},null,null,0,null,null,null,null,null,null,"D",{"$f":"Criteria!I7","v":"Kept the demand"},null,"Bx Druation Per Day",null,null,null,"Nine",{"$f":"COUNTIF(AL7:AL104,\"*Nine*\")","v":0},null,null,"00:00:00","00:00:00",0,{"$f":"SpellNumber((AI25))","v":"No Dollars and No Cents"},3,"No "]
["00:00:00",null,null,null,null,0,null,null,0,null,null,{"$f":"IFERROR(VLOOKUP(K26,$AD$7:AE28,2,FALSE),0)","v":0},null,null,0,null,null,null,null,null,null,"E",{"$f":"Criteria!I8","v":"Changed activity"},"A",{"$f":"SUMIF(K7:K104,\"A\",A7:A104)","v":"00:00:00"},null,null,null,"Ten",{"$f":"COUNTIF(AL7:AL12,\"*Ten*\")","v":0},null,null,"00:00:00","00:00:00",0,{"$f":"SpellNumber((AI26))","v":"No Dollars and No Cents"},3,"No "]
["00:00:00",null,null,null,null,0,null,null,0,null,null,{"$f":"IFERROR(VLOOKUP(K27,$AD$7:AE29,2,FALSE),0)","v":0},null,null,0,null,null,null,null,null,null,"F",{"$f":"Criteria!I9","v":"Verbal reprimand"},"B",{"$f":"SUMIF(K7:K104,\"B\",A7:A104)","v":"00:00:00"},null,null,null,"Eleven",{"$f":"COUNTIF(AL7:AL104,\"*Eleven*\")","v":0},null,null,"00:00:00","00:00:00",0,{"$f":"SpellNumber((AI27))","v":"No Dollars and No Cents"},3,"No "]
["00:00:00",null,null,null,null,0,null,null,0,null,null,{"$f":"IFERROR(VLOOKUP(K28,$AD$7:AE30,2,FALSE),0)","v":0},null,null,0,null,null,null,null,null,null,"G",{"$f":"Criteria!I10","v":"Told to wait"},"C",{"$f":"SUMIF(K7:K104,\"C\",A7:A104)","v":"00:00:00"},null,null,null,"Twelve",{"$f":"COUNTIF(AL7:AL104,\"*Twelve*\")","v":0},null,null,"00:00:00","00:00:00",0,{"$f":"SpellNumber((AI28))","v":"No Dollars and No Cents"},3,"No "]
["00:00:00",null,null,null,null,0,null,null,0,null,null,{"$f":"IFERROR(VLOOKUP(K29,$AD$7:AE31,2,FALSE),0)","v":0},null,null,0,null,null,null,null,null,null,"H",{"$f":"Criteria!I11","v":"Physical Prompt"},null,null,null,null,null,"One",{"$f":"COUNTIF(AL7:AL104,\"*One*\")","v":0},null,null,"00:00:00","00:00:00",0,{"$f":"SpellNumber((AI29))","v":"No Dollars and No Cents"},3,"No "]
["00:00:00",null,null,null,null,0,null,null,0,null,null,{"$f":"IFERROR(VLOOKUP(K30,$AD$7:AE32,2,FALSE),0)","v":0},null,null,0,null,null,null,null,null,null,"I",{"$f":"Criteria!I12","v":"Verbal prompt"},null,null,null,null,null,"Two",{"$f":"COUNTIF(AL7:AL104,\"*Two*\")","v":0},null,null,"00:00:00","00:00:00",0,{"$f":"SpellNumber((AI30))","v":"No Dollars and No Cents"},3,"No "]
["00:00:00",null,null,null,null,0,null,null,0,null,null,{"$f":"IFERROR(VLOOKUP(K31,$AD$7:AE33,2,FALSE),0)","v":0},null,null,0,null,null,null,null,null,null,"J",{"$f":"Criteria!I13","v":"Told to wait"},null,null,null,null,null,"Three",{"$f":"COUNTIF(AL7:AL104,\"*Three*\")","v":0},null,null,"00:00:00","00:00:00",0,{"$f":"SpellNumber((AI31))","v":"No Dollars and No Cents"},3,"No "]
["00:00:00",null,null,null,null,0,null,null,0,null,null,{"$f":"IFERROR(VLOOKUP(K32,$AD$7:AE34,2,FALSE),0)","v":0},null,null,0,null,null,null,null,null,null,"K",{"$f":"Criteria!I14","v":"Unknown"},null,null,null,null,null,"Four",{"$f":"COUNTIF(AL7:AL104,\"*Four*\")","v":0},null,null,"00:00:00","00:00:00",0,{"$f":"SpellNumber((AI32))","v":"No Dollars and No Cents"},3,"No "]
["00:00:00",null,null,null,null,0,null,null,0,null,null,{"$f":"IFERROR(VLOOKUP(K33,$AD$7:AE35,2,FALSE),0)","v":0},null,null,0,null,null,null,null,null,null,"L",{"$f":"Criteria!I15","v":"Other"},null,null,null,null,null,null,null,null,null,"00:00:00","00:00:00",0,{"$f":"SpellNumber((AI33))","v":"No Dollars and No Cents"},3,"No "]
["00:00:00",null,null,null,null,0,null,null,0,null,null,{"$f":"IFERROR(VLOOKUP(K34,$AD$7:AE36,2,FALSE),0)","v":0},null,null,0,null,null,null,null,null,null,null,null,null,null,null,null,null,null,null,null,null,"00:00:00","00:00:00",0,{"$f":"SpellNumber((AI34))","v":"No Dollars and No Cents"},3,"No "]
["00:00:00",null,null,null,null,0,null,null,0,null,null,{"$f":"IFERROR(VLOOKUP(K35,$AD$7:AE37,2,FALSE),0)","v":0},null,null,0,null,null,null,null,null,null,null,"Context Frequency","Consequence","Antedencents",null,null,null,null,null,null,null,"00:00:00","00:00:00",0,{"$f":"SpellNumber((AI35))","v":"No Dollars and No Cents"},3,"No "]
["00:00:00",null,null,null,null,0,null,null,0,null,null,{"$f":"IFERROR(VLOOKUP(K36,$AD$7:AE38,2,FALSE),0)","v":0},null,null,0,null,null,null,null,null,null,"A",{"$f":"COUNTIF(E7:E104,\"A\")","v":0},{"$f":"COUNTIF(N7:N104,\"A\")","v":0},{"$f":"COUNTIF(H7:H104,\"A\")","v":0},null,null,null,null,null,null,null,"00:00:00","00:00:00",0,{"$f":"SpellNumber((AI36))","v":"No Dollars and No Cents"},3,"No "]
["00:00:00",null,null,null,null,0,null,null,0,null,null,{"$f":"IFERROR(VLOOKUP(K37,$AD$7:AE39,2,FALSE),0)","v":0},null,null,0,null,null,null,null,null,null,"B",{"$f":"COUNTIF(E8:E105,\"B\")","v":0},{"$f":"COUNTIF(N7:N104,\"B\")","v":0},{"$f":"COUNTIF(H7:H104,\"B\")","v":0},null,null,null,null,null,null,null,"00:00:00","00:00:00",0,{"$f":"SpellNumber((AI37))","v":"No Dollars and No Cents"},3,"No "]
["00:00:00",null,null,null,null,0,null,null,0,null,null,{"$f":"IFERROR(VLOOKUP(K38,$AD$7:AE40,2,FALSE),0)","v":0},null,null,0,null,null,null,null,null,null,"C",{"$f":"COUNTIF(E8:E105,\"C\")","v":0},{"$f":"COUNTIF(N7:N104,\"C\")","v":0},{"$f":"COUNTIF(H7:H104,\"C\")","v":0},null,null,null,null,null,null,null,"00:00:00","00:00:00",0,{"$f":"SpellNumber((AI38))","v":"No Dollars and No Cents"},3,"No "]
["00:00:00",null,null,null,null,0,null,null,0,null,null,{"$f":"IFERROR(VLOOKUP(K39,$AD$7:AE41,2,FALSE),0)","v":0},null,null,0,null,null,null,null,null,null,"D",{"$f":"COUNTIF(E8:E105,\"D\")","v":0},{"$f":"COUNTIF(N7:N104,\"D\")","v":0},{"$f":"COUNTIF(H7:H104,\"D\")","v":0},null,null,null,null,null,null,null,"00:00:00","00:00:00",0,{"$f":"SpellNumber((AI39))","v":"No Dollars and No Cents"},3,"No "]
["00:00:00",null,null,null,null,0,null,null,0,null,null,{"$f":"IFERROR(VLOOKUP(K40,$AD$7:AE42,2,FALSE),0)","v":0},null,null,0,null,null,null,null,null,null,"E",{"$f":"COUNTIF(E8:E105,\"E\")","v":0},{"$f":"COUNTIF(N7:N104,\"E\")","v":0},{"$f":"COUNTIF(H7:H104,\"E\")","v":0},null,null,null,null,null,null,null,"00:00:00","00:00:00",0,{"$f":"SpellNumber((AI40))","v":"No Dollars and No Cents"},3,"No "]
["00:00:00",null,null,null,null,0,null,null,0,null,null,{"$f":"IFERROR(VLOOKUP(K41,$AD$7:AE43,2,FALSE),0)","v":0},null,null,0,null,null,null,null,null,null,"F",{"$f":"COUNTIF(E8:E105,\"F\")","v":0},{"$f":"COUNTIF(N7:N104,\"F\")","v":0},{"$f":"COUNTIF(H7:H104,\"F\")","v":0},null,null,null,null,null,null,null,"00:00:00","00:00:00",0,{"$f":"SpellNumber((AI41))","v":"No Dollars and No Cents"},3,"No "]
["00:00:00",null,null,null,null,0,null,null,0,null,null,{"$f":"IFERROR(VLOOKUP(K42,$AD$7:AE44,2,FALSE),0)","v":0},null,null,0,null,null,null,null,null,null,"G",{"$f":"COUNTIF(E8:E105,\"G\")","v":0},{"$f":"COUNTIF(N7:N104,\"G\")","v":0},{"$f":"COUNTIF(H7:H104,\"G\")","v":0},null,null,null,null,null,null,null,"00:00:00","00:00:00",0,{"$f":"SpellNumber((AI42))","v":"No Dollars and No Cents"},3,"No "]
["00:00:00",null,null,null,null,0,null,null,0,null,null,{"$f":"IFERROR(VLOOKUP(K43,$AD$7:AE45,2,FALSE),0)","v":0},null,null,0,null,null,null,null,null,null,"H",{"$f":"COUNTIF(E8:E105,\"H\")","v":0},{"$f":"COUNTIF(N7:N104,\"H\")","v":0},{"$f":"COUNTIF(H7:H104,\"H\")","v":0},null,null,null,null,null,null,null,"00:00:00","00:00:00",0,{"$f":"SpellNumber((AI43))","v":"No Dollars and No Cents"},3,"No "]
["00:00:00",null,null,null,null,0,null,null,0,null,null,{"$f":"IFERROR(VLOOKUP(K44,$AD$7:AE46,2,FALSE),0)","v":0},null,null,0,null,null,null,null,null,null,"I",{"$f":"COUNTIF(E8:E105,\"I\")","v":0},{"$f":"COUNTIF(N7:N104,\"I\")","v":0},{"$f":"COUNTIF(H7:H104,\"I\")","v":0},null,null,null,null,null,null,null,"00:00:00","00:00:00",0,{"$f":"SpellNumber((AI44))","v":"No Dollars and No Cents"},3,"No "]
["00:00:00",null,null,null,null,0,null,null,0,null,null,{"$f":"IFERROR(VLOOKUP(K45,$AD$7:AE47,2,FALSE),0)","v":0},null,null,0,null,null,null,null,null,null,"J",{"$f":"COUNTIF(E8:E105,\"J\")","v":0},{"$f":"COUNTIF(N7:N104,\"J\")","v":0},{"$f":"COUNTIF(H7:H104,\"J\")","v":0},null,null,null,null,null,null,null,"00:00:00","00:00:00",0,{"$f":"SpellNumber((AI45))","v":"No Dollars and No Cents"},3,"No "]
["00:00:00",null,null,null,null,0,null,null,0,null,null,{"$f":"IFERROR(VLOOKUP(K46,$AD$7:AE48,2,FALSE),0)","v":0},null,null,0,null,null,null,null,null,null,"K",{"$f":"COUNTIF(E8:E105,\"K\")","v":0},{"$f":"COUNTIF(N7:N104,\"K\")","v":0},{"$f":"COUNTIF(H7:H104,\"K\")","v":0},null,null,null,null,null,null,null,"00:00:00","00:00:00",0,{"$f":"SpellNumber((AI46))","v":"No Dollars and No Cents"},3,"No "]
["00:00:00",null,null,null,null,0,null,null,0,null,null,{"$f":"IFERROR(VLOOKUP(K47,$AD$7:AE49,2,FALSE),0)","v":0},null,null,0,null,null,null,null,null,null,"L",{"$f":"COUNTIF(E8:E105,\"l\")","v":0},{"$f":"COUNTIF(N7:N104,\"L\")","v":0},{"$f":"COUNTIF(H7:H104,\"L\")","v":0},null,null,null,null,null,null,null,"00:00:00","00:00:00",0,{"$f":"SpellNumber((AI47))","v":"No Dollars and No Cents"},3,"No "]
["00:00:00",null,null,null,null,0,null,null,0,null,null,{"$f":"IFERROR(VLOOKUP(K48,$AD$7:AE50,2,FALSE),0)","v":0},null,null,0,null,null,null,null,null,null,null,null,null,null,null,null,null,null,null,null,null,"00:00:00","00:00:00",0,{"$f":"SpellNumber((AI48))","v":"No Dollars and No Cents"},3,"No "]
["00:00:00",null,null,null,null,0,null,null,0,null,null,{"$f":"IFERROR(VLOOKUP(K49,$AD$7:AE51,2,FALSE),0)","v":0},null,null,0,null,null,null,null,null,null,null,"Beh & Setting ",null,null,null,"Beh & Antecedents",null,null,null,null,null,"00:00:00","00:00:00",0,{"$f":"SpellNumber((AI49))","v":"No Dollars and No Cents"},3,"No "]
["00:00:00",null,null,null,null,0,null,null,0,null,null,{"$f":"IFERROR(VLOOKUP(K50,$AD$7:AE52,2,FALSE),0)","v":0},null,null,0,null,null,null,null,null,null,null,"A","B","C",null,null,"A","B","C",null,null,"00:00:00","00:00:00",0,{"$f":"SpellNumber((AI50))","v":"No Dollars and No Cents"},3,"No "]
["00:00:00",null,null,null,null,0,null,null,0,null,null,{"$f":"IFERROR(VLOOKUP(K51,$AD$7:AE53,2,FALSE),0)","v":0},null,null,0,null,null,null,null,null,null,"A",{"$f":"COUNTIFS(E7:E104,\"A\",K7:K104,\"A\")","v":0},{"$f":"COUNTIFS(E7:E104,\"A\",K7:K104,\"B\")","v":0},{"$f":"COUNTIFS(E7:E104,\"A\",K7:K104,\"C\")","v":0},null,"A",{"$f":"COUNTIFS(H7:H104,\"a\",K7:K104,\"A\")","v":0},{"$f":"COUNTIFS(H7:H104,\"A\",K7:K104,\"B\")","v":0},{"$f":"COUNTIFS(H7:H104,\"A\",K7:K104,\"C\")","v":0},null,null,"00:00:00","00:00:00",0,{"$f":"SpellNumber((AI51))","v":"No Dollars and No Cents"},3,"No "]
["00:00:00",null,null,null,null,0,null,null,0,null,null,{"$f":"IFERROR(VLOOKUP(K52,$AD$7:AE54,2,FALSE),0)","v":0},null,null,0,null,null,null,null,null,null,"B",{"$f":"COUNTIFS(E7:E104,\"B\",K7:K104,\"A\")","v":0},{"$f":"COUNTIFS(E7:E104,\"B\",K7:K104,\"B\")","v":0},{"$f":"COUNTIFS(E7:E104,\"B\",K7:K104,\"C\")","v":0},null,"B",{"$f":"COUNTIFS(H7:H104,\"B\",K7:K104,\"A\")","v":0},{"$f":"COUNTIFS(H7:H104,\"B\",K7:K104,\"B\")","v":0},{"$f":"COUNTIFS(H7:H104,\"B\",K7:K104,\"C\")","v":0},null,null,"00:00:00","00:00:00",0,{"$f":"SpellNumber((AI52))","v":"No Dollars and No Cents"},3,"No "]
["00:00:00",null,null,null,null,0,null,null,0,null,null,{"$f":"IFERROR(VLOOKUP(K53,$AD$7:AE55,2,FALSE),0)","v":0},null,null,0,null,null,null,null,null,null,"C",{"$f":"COUNTIFS(K7:K104,\"C\",K7:K104,\"A\")","v":0},{"$f":"COUNTIFS(E7:E104,\"C\",K7:K104,\"B\")","v":0},{"$f":"COUNTIFS(E7:E104,\"C\",K7:K104,\"C\")","v":0},null,"C",{"$f":"COUNTIFS(H7:H104,\"C\",K7:K104,\"A\")","v":0},{"$f":"COUNTIFS(H7:H104,\"C\",K7:K104,\"B\")","v":0},{"$f":"COUNTIFS(H7:H104,\"C\",K7:K104,\"C\")","v":0},null,null,"00:00:00","00:00:00",0,{"$f":"SpellNumber((AI53))","v":"No Dollars and No Cents"},3,"No "]
["00:00:00",null,null,null,null,0,null,null,0,null,null,{"$f":"IFERROR(VLOOKUP(K54,$AD$7:AE56,2,FALSE),0)","v":0},null,null,0,null,null,null,null,null,null,"D",{"$f":"COUNTIFS(E7:E104,\"D\",K7:K104,\"A\")","v":0},{"$f":"COUNTIFS(E7:E104,\"D\",K7:K104,\"B\")","v":0},{"$f":"COUNTIFS(E7:E104,\"D\",K7:K104,\"C\")","v":0},null,"D",{"$f":"COUNTIFS(H7:H104,\"D\",K7:K104,\"A\")","v":0},{"$f":"COUNTIFS(H7:H104,\"D\",K7:K104,\"B\")","v":0},{"$f":"COUNTIFS(H7:H104,\"D\",K7:K104,\"C\")","v":0},null,null,"00:00:00","00:00:00",0,{"$f":"SpellNumber((AI54))","v":"No Dollars and No Cents"},3,"No "]
["00:00:00",null,null,null,null,0,null,null,0,null,null,{"$f":"IFERROR(VLOOKUP(K55,$AD$7:AE57,2,FALSE),0)","v":0},null,null,0,null,null,null,null,null,null,"E",{"$f":"COUNTIFS(E7:E104,\"E\",K7:K104,\"A\")","v":0},{"$f":"COUNTIFS(E7:E104,\"E\",K7:K104,\"B\")","v":0},{"$f":"COUNTIFS(E7:E104,\"E\",K7:K104,\"C\")","v":0},null,"E",{"$f":"COUNTIFS(H7:H104,\"E\",K7:K104,\"A\")","v":0},{"$f":"COUNTIFS(H7:H104,\"E\",K7:K104,\"B\")","v":0},{"$f":"COUNTIFS(H7:H104,\"E\",K7:K104,\"C\")","v":0},null,null,"00:00:00","00:00:00",0,{"$f":"SpellNumber((AI55))","v":"No Dollars and No Cents"},3,"No "]
["00:00:00",null,null,null,null,0,null,null,0,null,null,{"$f":"IFERROR(VLOOKUP(K56,$AD$7:AE58,2,FALSE),0)","v":0},null,null,0,null,null,null,null,null,null,"F",{"$f":"COUNTIFS(E7:E104,\"F\",K7:K104,\"A\")","v":0},{"$f":"COUNTIFS(E7:E104,\"F\",K7:K104,\"B\")","v":0},{"$f":"COUNTIFS(E7:E104,\"F\",K7:K104,\"C\")","v":0},null,"F",{"$f":"COUNTIFS(H7:H104,\"F\",K7:K104,\"A\")","v":0},{"$f":"COUNTIFS(H7:H104,\"F\",K7:K104,\"B\")","v":0},{"$f":"COUNTIFS(H7:H104,\"F\",K7:K104,\"C\")","v":0},null,null,"00:00:00","00:00:00",0,{"$f":"SpellNumber((AI56))","v":"No Dollars and No Cents"},3,"No "]
["00:00:00",null,null,null,null,0,null,null,0,null,null,{"$f":"IFERROR(VLOOKUP(K57,$AD$7:AE59,2,FALSE),0)","v":0},null,null,0,null,null,null,null,null,null,"G",{"$f":"COUNTIFS(E7:E104,\"G\",K7:K104,\"A\")","v":0},{"$f":"COUNTIFS(E7:E104,\"G\",K7:K104,\"B\")","v":0},{"$f":"COUNTIFS(E7:E104,\"G\",K7:K104,\"C\")","v":0},null,"G",{"$f":"COUNTIFS(H7:H104,\"G\",K7:K104,\"A\")","v":0},{"$f":"COUNTIFS(H7:H104,\"G\",K7:K104,\"B\")","v":0},{"$f":"COUNTIFS(H7:H104,\"G\",K7:K104,\"C\")","v":0},null,null,"00:00:00","00:00:00",0,{"$f":"SpellNumber((AI57))","v":"No Dollars and No Cents"},3,"No "]
["00:00:00",null,null,null,null,0,null,null,0,null,null,{"$f":"IFERROR(VLOOKUP(K58,$AD$7:AE60,2,FALSE),0)","v":0},null,null,0,null,null,null,null,null,null,"H",{"$f":"COUNTIFS(E7:E104,\"H\",K7:K104,\"A\")","v":0},{"$f":"COUNTIFS(E7:E104,\"H\",K7:K104,\"B\")","v":0},{"$f":"COUNTIFS(E7:E104,\"H\",K7:K104,\"C\")","v":0},null,"H",{"$f":"COUNTIFS(H7:H104,\"H\",K7:K104,\"A\")","v":0},{"$f":"COUNTIFS(H7:H104,\"H\",K7:K104,\"B\")","v":0},{"$f":"COUNTIFS(H7:H104,\"H\",K7:K104,\"C\")","v":0},null,null,"00:00:00","00:00:00",0,{"$f":"SpellNumber((AI58))","v":"No Dollars and No Cents"},3,"No "]
["00:00:00",null,null,null,null,0,null,null,0,null,null,{"$f":"IFERROR(VLOOKUP(K59,$AD$7:AE61,2,FALSE),0)","v":0},null,null,0,null,null,null,null,null,null,"I",{"$f":"COUNTIFS(E7:E104,\"I\",K7:K104,\"A\")","v":0},{"$f":"COUNTIFS(E7:E104,\"I\",K7:K104,\"B\")","v":0},{"$f":"COUNTIFS(E7:E104,\"I\",K7:K104,\"C\")","v":0},null,"I",{"$f":"COUNTIFS(H7:H104,\"I\",K7:K104,\"A\")","v":0},{"$f":"COUNTIFS(H7:H104,\"I\",K7:K104,\"B\")","v":0},{"$f":"COUNTIFS(H7:H104,\"I\",K7:K104,\"C\")","v":0},null,null,"00:00:00","00:00:00",0,{"$f":"SpellNumber((AI59))","v":"No Dollars and No Cents"},3,"No "]
["00:00:00",null,null,null,null,0,null,null,0,null,null,{"$f":"IFERROR(VLOOKUP(K60,$AD$7:AE62,2,FALSE),0)","v":0},null,null,0,null,null,null,null,null,null,"J",{"$f":"COUNTIFS(E7:E104,\"J\",K7:K104,\"A\")","v":0},{"$f":"COUNTIFS(E7:E104,\"J\",K7:K104,\"B\")","v":0},{"$f":"COUNTIFS(E7:E104,\"J\",K7:K104,\"C\")","v":0},null,"J",{"$f":"COUNTIFS(H7:H104,\"J\",K7:K104,\"A\")","v":0},{"$f":"COUNTIFS(H7:H104,\"J\",K7:K104,\"B\")","v":0},{"$f":"COUNTIFS(H7:H104,\"J\",K7:K104,\"C\")","v":0},null,null,"00:00:00","00:00:00",0,{"$f":"SpellNumber((AI60))","v":"No Dollars and No Cents"},3,"No "]
["00:00:00",null,null,null,null,0,null,null,0,null,null,{"$f":"IFERROR(VLOOKUP(K61,$AD$7:AE63,2,FALSE),0)","v":0},null,null,0,null,null,null,null,null,null,"K",{"$f":"COUNTIFS(E7:E104,\"K\",K7:K104,\"A\")","v":0},{"$f":"COUNTIFS(E7:E104,\"K\",K7:K104,\"B\")","v":0},{"$f":"COUNTIFS(E7:E104,\"K\",K7:K104,\"C\")","v":0},null,"K",{"$f":"COUNTIFS(H7:H104,\"K\",K7:K104,\"A\")","v":0},{"$f":"COUNTIFS(H7:H104,\"K\",K7:K104,\"B\")","v":0},{"$f":"COUNTIFS(H7:H104,\"K\",K7:K104,\"C\")","v":0},null,null,"00:00:00","00:00:00",0,{"$f":"SpellNumber((AI61))","v":"No Dollars and No Cents"},3,"No "]
["00:00:00",null,null,null,null,0,null,null,0,null,null,{"$f":"IFERROR(VLOOKUP(K62,$AD$7:AE64,2,FALSE),0)","v":0},null,null,0,null,null,null,null,null,null,"L",{"$f":"COUNTIFS(E7:E104,\"L\",K7:K104,\"A\")","v":0},{"$f":"COUNTIFS(E7:E104,\"L\",K7:K104,\"B\")","v":0},{"$f":"COUNTIFS(E7:E104,\"L\",K7:K104,\"C\")","v":0},null,"L",{"$f":"COUNTIFS(H7:H104,\"L\",K7:K104,\"A\")","v":0},{"$f":"COUNTIFS(H7:H104,\"L\",K7:K104,\"B\")","v":0},{"$f":"COUNTIFS(H7:H104,\"L\",K7:K104,\"C\")","v":0},null,null,"00:00:00","00:00:00",0,{"$f":"SpellNumber((AI62))","v":"No Dollars and No Cents"},3,"No "]
["00:00:00",null,null,null,null,0,null,null,0,null,null,{"$f":"IFERROR(VLOOKUP(K63,$AD$7:AE65,2,FALSE),0)","v":0},null,null,0,null,null,null,null,null,null,null,"Beh & Consequences",null,null,null,null,null,null,null,null,null,"00:00:00","00:00:00",0,{"$f":"SpellNumber((AI63))","v":"No Dollars and No Cents"},3,"No "]
["00:00:00",null,null,null,null,0,null,null,0,null,null,{"$f":"IFERROR(VLOOKUP(K64,$AD$7:AE66,2,FALSE),0)","v":0},null,null,0,null,null,null,null,null,null,null,"A","B","C",null,null,null,null,null,null,null,"00:00:00","00:00:00",0,{"$f":"SpellNumber((AI64))","v":"No Dollars and No Cents"},3,"No "]
["00:00:00",null,null,null,null,0,null,null,0,null,null,{"$f":"IFERROR(VLOOKUP(K65,$AD$7:AE67,2,FALSE),0)","v":0},null,null,0,null,null,null,null,null,null,"A",{"$f":"COUNTIFS(N7:N104,\"A\",K7:K104,\"A\")","v":0},{"$f":"COUNTIFS(N7:N104,\"A\",K7:K104,\"B\")","v":0},{"$f":"COUNTIFS(N7:N104,\"A\",K7:K104,\"C\")","v":0},null,null,null,null,null,null,null,"00:00:00","00:00:00",0,{"$f":"SpellNumber((AI65))","v":"No Dollars and No Cents"},3,"No "]
["00:00:00",null,null,null,null,0,null,null,0,null,null,{"$f":"IFERROR(VLOOKUP(K66,$AD$7:AE68,2,FALSE),0)","v":0},null,null,0,null,null,null,null,null,null,"B",{"$f":"COUNTIFS(N7:N104,\"B\",K7:K104,\"A\")","v":0},{"$f":"COUNTIFS(N7:N104,\"B\",K7:K104,\"B\")","v":0},{"$f":"COUNTIFS(N7:N104,\"B\",K7:K104,\"C\")","v":0},null,null,null,null,null,null,null,"00:00:00","00:00:00",0,{"$f":"SpellNumber((AI66))","v":"No Dollars and No Cents"},3,"No "]
["00:00:00",null,null,null,null,0,null,null,0,null,null,{"$f":"IFERROR(VLOOKUP(K67,$AD$7:AE69,2,FALSE),0)","v":0},null,null,0,null,null,null,null,null,null,"C",{"$f":"COUNTIFS(N7:N104,\"C\",K7:K104,\"A\")","v":0},{"$f":"COUNTIFS(N7:N104,\"C\",K7:K104,\"B\")","v":0},{"$f":"COUNTIFS(N7:N104,\"C\",K7:K104,\"C\")","v":0},null,null,null,null,null,null,null,"00:00:00","00:00:00",0,{"$f":"SpellNumber((AI67))","v":"No Dollars and No Cents"},3,"No "]
["00:00:00",null,null,null,null,0,null,null,0,null,null,{"$f":"IFERROR(VLOOKUP(K68,$AD$7:AE70,2,FALSE),0)","v":0},null,null,0,null,null,null,null,null,null,"D",{"$f":"COUNTIFS(N7:N104,\"D\",K7:K104,\"A\")","v":0},{"$f":"COUNTIFS(N7:N104,\"D\",K7:K104,\"B\")","v":0},{"$f":"COUNTIFS(N7:N104,\"D\",K7:K104,\"C\")","v":0},null,null,null,null,null,null,null,"00:00:00","00:00:00",0,{"$f":"SpellNumber((AI68))","v":"No Dollars and No Cents"},3,"No "]
["00:00:00",null,null,null,null,0,null,null,0,null,null,{"$f":"IFERROR(VLOOKUP(K69,$AD$7:AE71,2,FALSE),0)","v":0},null,null,0,null,null,null,null,null,null,"E",{"$f":"COUNTIFS(N7:N104,\"E\",K7:K104,\"A\")","v":0},{"$f":"COUNTIFS(N7:N104,\"E\",K7:K104,\"B\")","v":0},{"$f":"COUNTIFS(N7:N104,\"E\",K7:K104,\"C\")","v":0},null,null,null,null,null,null,null,"00:00:00","00:00:00",0,{"$f":"SpellNumber((AI69))","v":"No Dollars and No Cents"},3,"No "]
["00:00:00",null,null,null,null,0,null,null,0,null,null,{"$f":"IFERROR(VLOOKUP(K70,$AD$7:AE72,2,FALSE),0)","v":0},null,null,0,null,null,null,null,null,null,"F",{"$f":"COUNTIFS(N7:N104,\"F\",K7:K104,\"A\")","v":0},{"$f":"COUNTIFS(N7:N104,\"F\",K7:K104,\"B\")","v":0},{"$f":"COUNTIFS(N7:N104,\"F\",K7:K104,\"C\")","v":0},null,null,null,null,null,null,null,"00:00:00","00:00:00",0,{"$f":"SpellNumber((AI70))","v":"No Dollars and No Cents"},3,"No "]
["00:00:00",null,null,null,null,0,null,null,0,null,null,{"$f":"IFERROR(VLOOKUP(K71,$AD$7:AE73,2,FALSE),0)","v":0},null,null,0,null,null,null,null,null,null,"G",{"$f":"COUNTIFS(N7:N104,\"G\",K7:K104,\"A\")","v":0},{"$f":"COUNTIFS(N7:N104,\"G\",K7:K104,\"B\")","v":0},{"$f":"COUNTIFS(N7:N104,\"G\",K7:K104,\"C\")","v":0},null,null,null,null,null,null,null,"00:00:00","00:00:00",0,{"$f":"SpellNumber((AI71))","v":"No Dollars and No Cents"},3,"No "]
[{"$f":"C72-B72","v":"00:00:00"},null,null,null,null,0,null,null,{"$f":"IFERROR(VLOOKUP(H72,$Z$7:$AA$18,2,FALSE),0)","v":0},null,null,{"$f":"IFERROR(VLOOKUP(K72,$AD$7:AE74,2,FALSE),0)","v":0},null,null,{"$f":"IFERROR(VLOOKUP(N72,$V$22:$W$33,2,FALSE),0)","v":0},null,null,null,null,null,null,"H",{"$f":"COUNTIFS(N7:N104,\"H\",K7:K104,\"A\")","v":0},{"$f":"COUNTIFS(N7:N104,\"H\",K7:K104,\"B\")","v":0},{"$f":"COUNTIFS(N7:N104,\"H\",K7:K104,\"C\")","v":0},null,null,null,null,null,null,null,{"$f":"B72","v":"00:00:00"},{"$f":"TEXT(AG72,\"hh:mm:ss\")","v":"00:00:00"},{"$f":"AG72*24","v":0},{"$f":"SpellNumber((AI72))","v":"No Dollars and No Cents"},{"$f":"FIND(\" Dollar\",AJ72)","v":3},{"$f":"LEFT(AJ72,AK72)","v":"No "}]
["00:00:00",null,null,null,null,{"$f":"IFERROR(VLOOKUP(E73,$V$7:$W$18,2,FALSE),0)","v":0},null,null,0,null,null,{"$f":"IFERROR(VLOOKUP(K73,$AD$7:AE75,2,FALSE),0)","v":0},null,null,0,null,null,null,null,null,null,"I",{"$f":"COUNTIFS(N7:N104,\"I\",K7:K104,\"A\")","v":0},{"$f":"COUNTIFS(N7:N104,\"I\",K7:K104,\"B\")","v":0},{"$f":"COUNTIFS(N7:N104,\"I\",K7:K104,\"C\")","v":0},null,null,null,null,null,null,null,"00:00:00","00:00:00",0,{"$f":"SpellNumber((AI73))","v":"No Dollars and No Cents"},3,"No "]
["00:00:00",null,null,null,null,0,null,null,0,null,null,{"$f":"IFERROR(VLOOKUP(K74,$AD$7:AE76,2,FALSE),0)","v":0},null,null,0,null,null,null,null,null,null,"J",{"$f":"COUNTIFS(N7:N104,\"J\",K7:K104,\"A\")","v":0},{"$f":"COUNTIFS(N7:N104,\"J\",K7:K104,\"B\")","v":0},{"$f":"COUNTIFS(N7:N104,\"J\",K7:K104,\"C\")","v":0},null,null,null,null,null,null,null,"00:00:00","00:00:00",0,{"$f":"SpellNumber((AI74))","v":"No Dollars and No Cents"},3,"No "]
["00:00:00",null,null,null,null,0,null,null,0,null,null,{"$f":"IFERROR(VLOOKUP(K75,$AD$7:AE77,2,FALSE),0)","v":0},null,null,0,null,null,null,null,null,null,"K",{"$f":"COUNTIFS(N7:N104,\"K\",K7:K104,\"A\")","v":0},{"$f":"COUNTIFS(N7:N104,\"K\",K7:K104,\"B\")","v":0},{"$f":"COUNTIFS(N7:N104,\"K\",K7:K104,\"C\")","v":0},null,null,null,null,null,null,null,"00:00:00","00:00:00",0,{"$f":"SpellNumber((AI75))","v":"No Dollars and No Cents"},3,"No "]
["00:00:00",null,null,null,null,0,null,null,0,null,null,{"$f":"IFERROR(VLOOKUP(K76,$AD$7:AE78,2,FALSE),0)","v":0},null,null,0,null,null,null,null,null,null,"L",{"$f":"COUNTIFS(N7:N104,\"L\",K7:K104,\"A\")","v":0},{"$f":"COUNTIFS(N7:N104,\"L\",K7:K104,\"B\")","v":0},{"$f":"COUNTIFS(N7:N104,\"L\",K7:K104,\"C\")","v":0},null,null,null,null,null,null,null,"00:00:00","00:00:00",0,{"$f":"SpellNumber((AI76))","v":"No Dollars and No Cents"},3,"No "]
["00:00:00",null,null,null,null,0,null,null,0,null,null,{"$f":"IFERROR(VLOOKUP(K77,$AD$7:AE79,2,FALSE),0)","v":0},null,null,0,null,null,null,null,null,null,null,null,null,null,null,null,null,null,null,null,null,"00:00:00","00:00:00",0,{"$f":"SpellNumber((AI77))","v":"No Dollars and No Cents"},3,"No "]
["00:00:00",null,null,null,null,0,null,null,0,null,null,{"$f":"IFERROR(VLOOKUP(K78,$AD$7:AE80,2,FALSE),0)","v":0},null,null,0,null,null,null,null,null,null,null,null,null,null,null,null,null,null,null,null,null,"00:00:00","00:00:00",0,{"$f":"SpellNumber((AI78))","v":"No Dollars and No Cents"},3,"No "]
["00:00:00",null,null,null,null,0,null,null,0,null,null,{"$f":"IFERROR(VLOOKUP(K79,$AD$7:AE81,2,FALSE),0)","v":0},null,null,0,null,null,null,null,null,null,null,null,null,null,null,null,null,null,null,null,null,"00:00:00","00:00:00",0,{"$f":"SpellNumber((AI79))","v":"No Dollars and No Cents"},3,"No "]
["00:00:00",null,null,null,null,0,null,null,0,null,null,{"$f":"IFERROR(VLOOKUP(K80,$AD$7:AE82,2,FALSE),0)","v":0},null,null,0,null,null,null,null,null,null,null,null,null,null,null,null,null,null,null,null,null,"00:00:00","00:00:00",0,{"$f":"SpellNumber((AI80))","v":"No Dollars and No Cents"},3,"No "]
["00:00:00",null,null,null,null,0,null,null,0,null,null,{"$f":"IFERROR(VLOOKUP(K81,$AD$7:AE83,2,FALSE),0)","v":0},null,null,0,null,null,null,null,null,null,null,null,null,null,null,null,null,null,null,null,null,"00:00:00","00:00:00",0,{"$f":"SpellNumber((AI81))","v":"No Dollars and No Cents"},3,"No "]
["00:00:00",null,null,null,null,0,null,null,0,null,null,{"$f":"IFERROR(VLOOKUP(K82,$AD$7:AE84,2,FALSE),0)","v":0},null,null,0,null,null,null,null,null,null,null,null,null,null,null,null,null,null,null,null,null,"00:00:00","00:00:00",0,{"$f":"SpellNumber((AI82))","v":"No Dollars and No Cents"},3,"No "]
["00:00:00",null,null,null,null,0,null,null,0,null,null,{"$f":"IFERROR(VLOOKUP(K83,$AD$7:AE85,2,FALSE),0)","v":0},null,null,0,null,null,null,null,null,null,null,null,null,null,null,null,null,null,null,null,null,"00:00:00","00:00:00",0,{"$f":"SpellNumber((AI83))","v":"No Dollars and No Cents"},3,"No "]
["00:00:00",null,null,null,null,0,null,null,0,null,null,{"$f":"IFERROR(VLOOKUP(K84,$AD$7:AE86,2,FALSE),0)","v":0},null,null,0,null,null,null,null,null,null,null,null,null,null,null,null,null,null,null,null,null,"00:00:00","00:00:00",0,{"$f":"SpellNumber((AI84))","v":"No Dollars and No Cents"},3,"No "]
["00:00:00",null,null,null,null,0,null,null,0,null,null,{"$f":"IFERROR(VLOOKUP(K85,$AD$7:AE87,2,FALSE),0)","v":0},null,null,0,null,null,null,null,null,null,null,null,null,null,null,null,null,null,null,null,null,"00:00:00","00:00:00",0,{"$f":"SpellNumber((AI85))","v":"No Dollars and No Cents"},3,"No "]
["00:00:00",null,null,null,null,0,null,null,0,null,null,{"$f":"IFERROR(VLOOKUP(K86,$AD$7:AE88,2,FALSE),0)","v":0},null,null,0,null,null,null,null,null,null,null,null,null,null,null,null,null,null,null,null,null,"00:00:00","00:00:00",0,{"$f":"SpellNumber((AI86))","v":"No Dollars and No Cents"},3,"No "]
["00:00:00",null,null,null,null,0,null,null,0,null,null,{"$f":"IFERROR(VLOOKUP(K87,$AD$7:AE89,2,FALSE),0)","v":0},null,null,0,null,null,null,null,null,null,null,null,null,null,null,null,null,null,null,null,null,"00:00:00","00:00:00",0,{"$f":"SpellNumber((AI87))","v":"No Dollars and No Cents"},3,"No "]
["00:00:00",null,null,null,null,0,null,null,0,null,null,{"$f":"IFERROR(VLOOKUP(K88,$AD$7:AE90,2,FALSE),0)","v":0},null,null,0,null,null,null,null,null,null,null,null,null,null,null,null,null,null,null,null,null,"00:00:00","00:00:00",0,{"$f":"SpellNumber((AI88))","v":"No Dollars and No Cents"},3,"No "]
["00:00:00",null,null,null,null,0,null,null,0,null,null,{"$f":"IFERROR(VLOOKUP(K89,$AD$7:AE91,2,FALSE),0)","v":0},null,null,0,null,null,null,null,null,null,null,null,null,null,null,null,null,null,null,null,null,"00:00:00","00:00:00",0,{"$f":"SpellNumber((AI89))","v":"No Dollars and No Cents"},3,"No "]
["00:00:00",null,null,null,null,0,null,null,0,null,null,{"$f":"IFERROR(VLOOKUP(K90,$AD$7:AE92,2,FALSE),0)","v":0},null,null,0,null,null,null,null,null,null,null,null,null,null,null,null,null,null,null,null,null,"00:00:00","00:00:00",0,{"$f":"SpellNumber((AI90))","v":"No Dollars and No Cents"},3,"No "]
["00:00:00",null,null,null,null,0,null,null,0,null,null,{"$f":"IFERROR(VLOOKUP(K91,$AD$7:AE93,2,FALSE),0)","v":0},null,null,0,null,null,null,"Total Mins",{"$f":"SUM(A7:A104)","v":"00:00:00"},null,null,null,null,null,null,null,null,null,null,null,null,"00:00:00","00:00:00",0,{"$f":"SpellNumber((AI91))","v":"No Dollars and No Cents"},3,"No "]
["00:00:00",null,null,null,null,0,null,null,0,null,null,{"$f":"IFERROR(VLOOKUP(K92,$AD$7:AE94,2,FALSE),0)","v":0},null,null,0,null,null,null,"Settings:","A",{"$f":"COUNTIF(E4:E104,\"A\")","v":0},"Antec.","A",{"$f":"COUNTIF(H4:H104,\"A\")","v":0},"Beh","A",{"$f":"COUNTIF(L4:L104,\"A\")","v":0},"Conse.","A",{"$f":"COUNTIF(O4:O104,\"A\")","v":0},null,null,"00:00:00","00:00:00",0,{"$f":"SpellNumber((AI92))","v":"No Dollars and No Cents"},3,"No "]
["00:00:00",null,null,null,null,0,null,null,0,null,null,{"$f":"IFERROR(VLOOKUP(K93,$AD$7:AE95,2,FALSE),0)","v":0},null,null,0,null,null,null,null,"B",{"$f":"COUNTIF(E5:E105,\"B\")","v":0},null,"B",{"$f":"COUNTIF(H5:H105,\"B\")","v":0},null,"B",{"$f":"COUNTIF(L5:L105,\"B\")","v":0},null,"B",{"$f":"COUNTIF(O5:O105,\"B\")","v":0},null,null,"00:00:00","00:00:00",0,{"$f":"SpellNumber((AI93))","v":"No Dollars and No Cents"},3,"No "]
["00:00:00",null,null,null,null,0,null,null,0,null,null,{"$f":"IFERROR(VLOOKUP(K94,$AD$7:AE96,2,FALSE),0)","v":0},null,null,0,null,null,null,null,"C",{"$f":"COUNTIF(E6:E106,\"C\")","v":0},null,"C",{"$f":"COUNTIF(H6:H106,\"C\")","v":0},null,"C",{"$f":"COUNTIF(L6:L106,\"C\")","v":0},null,"C",{"$f":"COUNTIF(O6:O106,\"C\")","v":0},null,null,"00:00:00","00:00:00",0,{"$f":"SpellNumber((AI94))","v":"No Dollars and No Cents"},3,"No "]
["00:00:00",null,null,null,null,0,null,null,0,null,null,{"$f":"IFERROR(VLOOKUP(K95,$AD$7:AE97,2,FALSE),0)","v":0},null,null,0,null,null,null,null,"D",{"$f":"COUNTIF(E7:E107,\"D\")","v":0},null,"D",{"$f":"COUNTIF(H7:H107,\"D\")","v":0},null,null,null,null,"D",{"$f":"COUNTIF(O7:O107,\"D\")","v":0},null,null,"00:00:00","00:00:00",0,{"$f":"SpellNumber((AI95))","v":"No Dollars and No Cents"},3,"No "]
["00:00:00",null,null,null,null,0,null,null,0,null,null,{"$f":"IFERROR(VLOOKUP(K96,$AD$7:AE98,2,FALSE),0)","v":0},null,null,0,null,null,null,null,"E",{"$f":"COUNTIF(E8:E108,\"E\")","v":0},null,"E",{"$f":"COUNTIF(H8:H108,\"E\")","v":0},null,null,null,null,"E",{"$f":"COUNTIF(O8:O108,\"E\")","v":0},null,null,"00:00:00","00:00:00",0,{"$f":"SpellNumber((AI96))","v":"No Dollars and No Cents"},3,"No "]
["00:00:00",null,null,null,null,0,null,null,0,null,null,{"$f":"IFERROR(VLOOKUP(K97,$AD$7:AE99,2,FALSE),0)","v":0},null,null,0,null,null,null,null,"F",{"$f":"COUNTIF(E9:E109,\"F\")","v":0},null,"F",{"$f":"COUNTIF(H9:H109,\"F\")","v":0},null,null,null,null,"F",{"$f":"COUNTIF(O9:O109,\"F\")","v":0},null,null,"00:00:00","00:00:00",0,{"$f":"SpellNumber((AI97))","v":"No Dollars and No Cents"},3,"No "]
["00:00:00",null,null,null,null,0,null,null,0,null,null,{"$f":"IFERROR(VLOOKUP(K98,$AD$7:AE100,2,FALSE),0)","v":0},null,null,0,null,null,null,null,"G",{"$f":"COUNTIF(E10:E110,\"G\")","v":0},null,"G",{"$f":"COUNTIF(H10:H110,\"G\")","v":0},null,null,null,null,"G",{"$f":"COUNTIF(O10:O110,\"G\")","v":0},null,null,"00:00:00","00:00:00",0,{"$f":"SpellNumber((AI98))","v":"No Dollars and No Cents"},3,"No "]
["00:00:00",null,null,null,null,0,null,null,0,null,null,{"$f":"IFERROR(VLOOKUP(K99,$AD$7:AE101,2,FALSE),0)","v":0},null,null,0,null,null,null,null,"H",{"$f":"COUNTIF(E11:E111,\"H\")","v":0},null,"H",{"$f":"COUNTIF(H11:H111,\"H\")","v":0},null,null,null,null,"H",{"$f":"COUNTIF(O11:O111,\"H\")","v":0},null,null,"00:00:00","00:00:00",0,{"$f":"SpellNumber((AI99))","v":"No Dollars and No Cents"},3,"No "]
["00:00:00",null,null,null,null,0,null,null,0,null,null,{"$f":"IFERROR(VLOOKUP(K100,$AD$7:AE102,2,FALSE),0)","v":0},null,null,0,null,null,null,null,"I",{"$f":"COUNTIF(E12:E112,\"I\")","v":0},null,"I",{"$f":"COUNTIF(H12:H112,\"I\")","v":0},null,null,null,null,"I",{"$f":"COUNTIF(O12:O112,\"I\")","v":0},null,null,"00:00:00","00:00:00",0,{"$f":"SpellNumber((AI100))","v":"No Dollars and No Cents"},3,"No "]
["00:00:00",null,null,null,null,0,null,null,0,null,null,{"$f":"IFERROR(VLOOKUP(K101,$AD$7:AE103,2,FALSE),0)","v":0},null,null,0,null,null,null,null,"J",{"$f":"COUNTIF(E13:E113,\"J\")","v":0},null,"J",{"$f":"COUNTIF(H13:H113,\"J\")","v":0},null,null,null,null,"J",{"$f":"COUNTIF(O13:O113,\"J\")","v":0},null,null,"00:00:00","00:00:00",0,{"$f":"SpellNumber((AI101))","v":"No Dollars and No Cents"},3,"No "]
["00:00:00",null,null,null,null,0,null,null,0,null,null,{"$f":"IFERROR(VLOOKUP(K102,$AD$7:AE104,2,FALSE),0)","v":0},null,null,0,null,null,null,null,"K",{"$f":"COUNTIF(E14:E114,\"K\")","v":0},null,"K",{"$f":"COUNTIF(H14:H114,\"K\")","v":0},null,null,null,null,"K",{"$f":"COUNTIF(O14:O114,\"K\")","v":0},null,null,"00:00:00","00:00:00",0,{"$f":"SpellNumber((AI102))","v":"No Dollars and No Cents"},3,"No "]
["00:00:00",null,null,null,null,0,null,null,0,null,null,{"$f":"IFERROR(VLOOKUP(K103,$AD$7:AE105,2,FALSE),0)","v":0},null,null,0,null,null,null,null,"L",{"$f":"COUNTIF(E15:E115,\"L\")","v":0},null,"L",{"$f":"COUNTIF(H15:H115,\"L\")","v":0},null,null,null,null,"L",{"$f":"COUNTIF(O15:O115,\"L\")","v":0},null,null,"00:00:00","00:00:00",0,{"$f":"SpellNumber((AI103))","v":"No Dollars and No Cents"},3,"No "]
["00:00:00",null,null,null,null,0,null,null,0,null,null,{"$f":"IFERROR(VLOOKUP(K104,$AD$7:AE106,2,FALSE),0)","v":0},null,null,0,null,null,null,null,null,null,null,null,null,null,null,null,null,null,null,null,null,"00:00:00","00:00:00",0,{"$f":"SpellNumber((AI104))","v":"No Dollars and No Cents"},3,"No "]

{"sheet":"Data 26","index":34,"n_rows":104,"n_cols":38,"rows_kept":104,"cut":false,"hidden":false,"merged":[[0,7,3,14]]}
["ATTENDANCE",null,null,null,null,null,null,"Data Collection"]
["If tardy, arrival time",null,null,null,null,null,null,null,null,null,null,null,null,null,null,null,null,null,null,null,null,null,"Date",{"$f":"Calendar!G8","v":{"$error":"#N/A"}},{"$f":"TEXT(X2,\"ddd\")","v":{"$error":"#N/A"}}]
["If left early, time",null,null,null,null,null,null,null,null,null,null,null,null,null,null,null,null,null,null,null,null,null,"Frq. Of bx",{"$f":"AA22","v":0}]
[]
[]
["Mins.","Start Time","End Time",null,null,null,null,null,null,null,null,null,null,null,null,null,null,null,null,null,null,null,"Setting",null,null,"Ant",null,null,null,"Beh",null,null,"Raw Data","Time in text","Decimal"]
[{"$f":"C7-B7","v":"00:00:00"},null,null,null,null,{"$f":"IFERROR(VLOOKUP(E7,$V$7:$W$18,2,FALSE),0)","v":0},null,null,{"$f":"IFERROR(VLOOKUP(H7,$Z$7:$AA$18,2,FALSE),0)","v":0},null,null,{"$f":"IFERROR(VLOOKUP(K7,$AD$7:AE9,2,FALSE),0)","v":0},null,null,{"$f":"IFERROR(VLOOKUP(N7,$V$22:$W$33,2,FALSE),0)","v":0},null,null,null,null,null,null,"A",{"$f":"Criteria!C4","v":"Transition"},null,null,"A",{"$f":"Criteria!E4","v":"Transition"},null,null,"A",{"$f":"Criteria!G4","v":0},null,{"$f":"B7","v":"00:00:00"},{"$f":"TEXT(AG7,\"hh:mm:ss\")","v":"00:00:00"},{"$f":"AG7*24","v":0},{"$f":"SpellNumber((AI7))","v":"No Dollars and No Cents"},{"$f":"FIND(\" Dollar\",AJ7)","v":3},{"$f":"LEFT(AJ7,AK7)","v":"No "}]
[{"$f":"C8-B8","v":"00:00:00"},null,null,null,null,{"$f":"IFERROR(VLOOKUP(E8,$V$7:$W$18,2,FALSE),0)","v":0},null,null,{"$f":"IFERROR(VLOOKUP(H8,$Z$7:$AA$18,2,FALSE),0)","v":0},null,null,{"$f":"IFERROR(VLOOKUP(K8,$AD$7:AE10,2,FALSE),0)","v":0},null,null,{"$f":"IFERROR(VLOOKUP(N8,$V$22:$W$33,2,FALSE),0)","v":0},null,null,null,null,null,null,"B",{"$f":"Criteria!C5","v":"Morning Routine"},null,null,"B",{"$f":"Criteria!E5","v":"Denied access ('No')"},null,null,"B",{"$f":"Criteria!G5","v":0},null,{"$f":"B8","v":"00:00:00"},{"$f":"TEXT(AG8,\"hh:mm:ss\")","v":"00:00:00"},{"$f":"AG8*24","v":0},{"$f":"SpellNumber((AI8))","v":"No Dollars and No Cents"},{"$f":"FIND(\" Dollar\",AJ8)","v":3},{"$f":"LEFT(AJ8,AK8)","v":"No "}]
["00:00:00",null,null,null,null,{"$f":"IFERROR(VLOOKUP(E9,$V$7:$W$18,2,FALSE),0)","v":0},null,null,0,null,null,{"$f":"IFERROR(VLOOKUP(K9,$AD$7:AE11,2,FALSE),0)","v":0},null,null,0,null,null,null,null,null,null,"C",{"$f":"Criteria!C6","v":"Group Work"},null,null,"C",{"$f":"Criteria!E6","v":"Instruction/ Directions"},null,null,"C",{"$f":"Criteria!G6","v":0},null,"00:00:00","00:00:00",0,{"$f":"SpellNumber((AI9))","v":"No Dollars and No Cents"},3,"No "]
["00:00:00",null,null,null,null,0,null,null,0,null,null,{"$f":"IFERROR(VLOOKUP(K10,$AD$7:AE12,2,FALSE),0)","v":0},null,null,0,null,null,null,null,null,null,"D",{"$f":"Criteria!C7","v":"Ind. Seat/Work Time"},null,null,"D",{"$f":"Criteria!E7","v":"New Task"},null,null,null,null,null,"00:00:00","00:00:00",0,{"$f":"SpellNumber((AI10))","v":"No Dollars and No Cents"},3,"No "]
["00:00:00",null,null,null,null,0,null,null,0,null,null,{"$f":"IFERROR(VLOOKUP(K11,$AD$7:AE13,2,FALSE),0)","v":0},null,null,0,null,null,null,null,null,null,"E",{"$f":"Criteria!C8","v":"Language Arts"},null,null,"E",{"$f":"Criteria!E8","v":"Tcher attn to other"},null,null,null,null,null,"00:00:00","00:00:00",0,{"$f":"SpellNumber((AI11))","v":"No Dollars and No Cents"},3,"No "]
["00:00:00",null,null,null,null,0,null,null,0,null,null,{"$f":"IFERROR(VLOOKUP(K12,$AD$7:AE14,2,FALSE),0)","v":0},null,null,0,null,null,null,null,null,null,"F",{"$f":"Criteria!C9","v":"Mathematics"},null,null,"F",{"$f":"Criteria!E9","v":"Choice given"},null,null,null,null,null,"00:00:00","00:00:00",0,{"$f":"SpellNumber((AI12))","v":"No Dollars and No Cents"},3,"No "]
["00:00:00",null,null,null,null,0,null,null,0,null,null,{"$f":"IFERROR(VLOOKUP(K13,$AD$7:AE15,2,FALSE),0)","v":0},null,null,0,null,null,null,null,null,null,"G",{"$f":"Criteria!C10","v":"Physical Education"},null,null,"G",{"$f":"Criteria!E10","v":"Redirection"},null,null,null,null,null,"00:00:00","00:00:00",0,{"$f":"SpellNumber((AI13))","v":"No Dollars and No Cents"},3,"No "]
["00:00:00",null,null,null,null,0,null,null,0,null,null,{"$f":"IFERROR(VLOOKUP(K14,$AD$7:AE16,2,FALSE),0)","v":0},null,null,0,null,null,null,null,null,null,"H",{"$f":"Criteria!C11","v":"Music/Art"},null,null,"H",{"$f":"Criteria!E11","v":"Routine Task"},null,null,null,null,null,"00:00:00","00:00:00",0,{"$f":"SpellNumber((AI14))","v":"No Dollars and No Cents"},3,"No "]
["00:00:00",null,null,null,null,0,null,null,0,null,null,{"$f":"IFERROR(VLOOKUP(K15,$AD$7:AE17,2,FALSE),0)","v":0},null,null,0,null,null,null,null,null,null,"I",{"$f":"Criteria!C12","v":"Speech"},null,null,"I",{"$f":"Criteria!E12","v":"Waiting"},null,null,null,null,null,"00:00:00","00:00:00",0,{"$f":"SpellNumber((AI15))","v":"No Dollars and No Cents"},3,"No "]
["00:00:00",null,null,null,null,0,null,null,0,null,null,{"$f":"IFERROR(VLOOKUP(K16,$AD$7:AE18,2,FALSE),0)","v":0},null,null,0,null,null,null,null,null,null,"J",{"$f":"Criteria!C13","v":"OT/PT"},null,null,"J",{"$f":"Criteria!E13","v":"Unknown"},null,null,null,null,null,"00:00:00","00:00:00",0,{"$f":"SpellNumber((AI16))","v":"No Dollars and No Cents"},3,"No "]
["00:00:00",null,null,null,null,0,null,null,0,null,null,{"$f":"IFERROR(VLOOKUP(K17,$AD$7:AE19,2,FALSE),0)","v":0},null,null,0,null,null,null,null,null,null,"K",{"$f":"Criteria!C14","v":"Center"},null,null,"K",{"$f":"Criteria!E14","v":"Ignored"},null,null,null,null,null,"00:00:00","00:00:00",0,{"$f":"SpellNumber((AI17))","v":"No Dollars and No Cents"},3,"No "]
["00:00:00",null,null,null,null,0,null,null,0,null,null,{"$f":"IFERROR(VLOOKUP(K18,$AD$7:AE20,2,FALSE),0)","v":0},null,null,0,null,null,null,null,null,null,"L",{"$f":"Criteria!C15","v":"Other"},null,null,"L",{"$f":"Criteria!E15","v":"Other"},null,null,null,null,null,"00:00:00","00:00:00",0,{"$f":"SpellNumber((AI18))","v":"No Dollars and No Cents"},3,"No "]
["00:00:00",null,null,null,null,0,null,null,0,null,null,{"$f":"IFERROR(VLOOKUP(K19,$AD$7:AE21,2,FALSE),0)","v":0},null,null,0,null,null,null,null,null,null,null,null,null,null,null,null,null,null,null,null,null,"00:00:00","00:00:00",0,{"$f":"SpellNumber((AI19))","v":"No Dollars and No Cents"},3,"No "]
["00:00:00",null,null,null,null,0,null,null,0,null,null,{"$f":"IFERROR(VLOOKUP(K20,$AD$7:AE22,2,FALSE),0)","v":0},null,null,0,null,null,null,null,null,null,null,null,null,null,null,null,null,null,null,null,null,"00:00:00","00:00:00",0,{"$f":"SpellNumber((AI20))","v":"No Dollars and No Cents"},3,"No "]
["00:00:00",null,null,null,null,0,null,null,0,null,null,{"$f":"IFERROR(VLOOKUP(K21,$AD$7:AE23,2,FALSE),0)","v":0},null,null,0,null,null,null,null,null,null,null,"Con",null,"Bx Frequency Per Day",null,null,null,null,null,null,null,"00:00:00","00:00:00",0,{"$f":"SpellNumber((AI21))","v":"No Dollars and No Cents"},3,"No "]
["00:00:00",null,null,null,null,0,null,null,0,null,null,{"$f":"IFERROR(VLOOKUP(K22,$AD$7:AE24,2,FALSE),0)","v":0},null,null,0,null,null,null,null,null,null,"A",{"$f":"Criteria!I4","v":"Choice Given"},"A",{"$f":"COUNTIF(K7:K104,\"A\")","v":0},null,{"$f":"SUM(Y22:Y24)","v":0},null,"Bin Dec","Frequency of Time",null,null,"00:00:00","00:00:00",0,{"$f":"SpellNumber((AI22))","v":"No Dollars and No Cents"},3,"No "]
["00:00:00",null,null,null,null,0,null,null,0,null,null,{"$f":"IFERROR(VLOOKUP(K23,$AD$7:AE25,2,FALSE),0)","v":0},null,null,0,null,null,null,null,null,null,"B",{"$f":"Criteria!I5","v":"Ignored"},"B",{"$f":"COUNTIF(K7:K104,\"B\")","v":0},null,null,null,"Seven",{"$f":"COUNTIF(AL7:AL104,\"*Seven*\")","v":0},null,null,"00:00:00","00:00:00",0,{"$f":"SpellNumber((AI23))","v":"No Dollars and No Cents"},3,"No "]
["00:00:00",null,null,null,null,0,null,null,0,null,null,{"$f":"IFERROR(VLOOKUP(K24,$AD$7:AE26,2,FALSE),0)","v":0},null,null,0,null,null,null,null,null,null,"C",{"$f":"Criteria!I6","v":"Redirection"},"C",{"$f":"COUNTIF(K7:K104,\"C\")","v":0},null,null,null,"Eight",{"$f":"COUNTIF(AL7:AL104,\"*Eight*\")","v":0},null,null,"00:00:00","00:00:00",0,{"$f":"SpellNumber((AI24))","v":"No Dollars and No Cents"},3,"No "]
["00:00:00",null,null,null,null,0,null,null,0,null,null,{"$f":"IFERROR(VLOOKUP(K25,$AD$7:AE27,2,FALSE),0)","v":0},null,null,0,null,null,null,null,null,null,"D",{"$f":"Criteria!I7","v":"Kept the demand"},null,"Bx Druation Per Day",null,null,null,"Nine",{"$f":"COUNTIF(AL7:AL104,\"*Nine*\")","v":0},null,null,"00:00:00","00:00:00",0,{"$f":"SpellNumber((AI25))","v":"No Dollars and No Cents"},3,"No "]
["00:00:00",null,null,null,null,0,null,null,0,null,null,{"$f":"IFERROR(VLOOKUP(K26,$AD$7:AE28,2,FALSE),0)","v":0},null,null,0,null,null,null,null,null,null,"E",{"$f":"Criteria!I8","v":"Changed activity"},"A",{"$f":"SUMIF(K7:K104,\"A\",A7:A104)","v":"00:00:00"},null,null,null,"Ten",{"$f":"COUNTIF(AL7:AL12,\"*Ten*\")","v":0},null,null,"00:00:00","00:00:00",0,{"$f":"SpellNumber((AI26))","v":"No Dollars and No Cents"},3,"No "]
["00:00:00",null,null,null,null,0,null,null,0,null,null,{"$f":"IFERROR(VLOOKUP(K27,$AD$7:AE29,2,FALSE),0)","v":0},null,null,0,null,null,null,null,null,null,"F",{"$f":"Criteria!I9","v":"Verbal reprimand"},"B",{"$f":"SUMIF(K7:K104,\"B\",A7:A104)","v":"00:00:00"},null,null,null,"Eleven",{"$f":"COUNTIF(AL7:AL104,\"*Eleven*\")","v":0},null,null,"00:00:00","00:00:00",0,{"$f":"SpellNumber((AI27))","v":"No Dollars and No Cents"},3,"No "]
["00:00:00",null,null,null,null,0,null,null,0,null,null,{"$f":"IFERROR(VLOOKUP(K28,$AD$7:AE30,2,FALSE),0)","v":0},null,null,0,null,null,null,null,null,null,"G",{"$f":"Criteria!I10","v":"Told to wait"},"C",{"$f":"SUMIF(K7:K104,\"C\",A7:A104)","v":"00:00:00"},null,null,null,"Twelve",{"$f":"COUNTIF(AL7:AL104,\"*Twelve*\")","v":0},null,null,"00:00:00","00:00:00",0,{"$f":"SpellNumber((AI28))","v":"No Dollars and No Cents"},3,"No "]
["00:00:00",null,null,null,null,0,null,null,0,null,null,{"$f":"IFERROR(VLOOKUP(K29,$AD$7:AE31,2,FALSE),0)","v":0},null,null,0,null,null,null,null,null,null,"H",{"$f":"Criteria!I11","v":"Physical Prompt"},null,null,null,null,null,"One",{"$f":"COUNTIF(AL7:AL104,\"*One*\")","v":0},null,null,"00:00:00","00:00:00",0,{"$f":"SpellNumber((AI29))","v":"No Dollars and No Cents"},3,"No "]
["00:00:00",null,null,null,null,0,null,null,0,null,null,{"$f":"IFERROR(VLOOKUP(K30,$AD$7:AE32,2,FALSE),0)","v":0},null,null,0,null,null,null,null,null,null,"I",{"$f":"Criteria!I12","v":"Verbal prompt"},null,null,null,null,null,"Two",{"$f":"COUNTIF(AL7:AL104,\"*Two*\")","v":0},null,null,"00:00:00","00:00:00",0,{"$f":"SpellNumber((AI30))","v":"No Dollars and No Cents"},3,"No "]
["00:00:00",null,null,null,null,0,null,null,0,null,null,{"$f":"IFERROR(VLOOKUP(K31,$AD$7:AE33,2,FALSE),0)","v":0},null,null,0,null,null,null,null,null,null,"J",{"$f":"Criteria!I13","v":"Told to wait"},null,null,null,null,null,"Three",{"$f":"COUNTIF(AL7:AL104,\"*Three*\")","v":0},null,null,"00:00:00","00:00:00",0,{"$f":"SpellNumber((AI31))","v":"No Dollars and No Cents"},3,"No "]
["00:00:00",null,null,null,null,0,null,null,0,null,null,{"$f":"IFERROR(VLOOKUP(K32,$AD$7:AE34,2,FALSE),0)","v":0},null,null,0,null,null,null,null,null,null,"K",{"$f":"Criteria!I14","v":"Unknown"},null,null,null,null,null,"Four",{"$f":"COUNTIF(AL7:AL104,\"*Four*\")","v":0},null,null,"00:00:00","00:00:00",0,{"$f":"SpellNumber((AI32))","v":"No Dollars and No Cents"},3,"No "]
["00:00:00",null,null,null,null,0,null,null,0,null,null,{"$f":"IFERROR(VLOOKUP(K33,$AD$7:AE35,2,FALSE),0)","v":0},null,null,0,null,null,null,null,null,null,"L",{"$f":"Criteria!I15","v":"Other"},null,null,null,null,null,null,null,null,null,"00:00:00","00:00:00",0,{"$f":"SpellNumber((AI33))","v":"No Dollars and No Cents"},3,"No "]
["00:00:00",null,null,null,null,0,null,null,0,null,null,{"$f":"IFERROR(VLOOKUP(K34,$AD$7:AE36,2,FALSE),0)","v":0},null,null,0,null,null,null,null,null,null,null,null,null,null,null,null,null,null,null,null,null,"00:00:00","00:00:00",0,{"$f":"SpellNumber((AI34))","v":"No Dollars and No Cents"},3,"No "]
["00:00:00",null,null,null,null,0,null,null,0,null,null,{"$f":"IFERROR(VLOOKUP(K35,$AD$7:AE37,2,FALSE),0)","v":0},null,null,0,null,null,null,null,null,null,null,"Context Frequency","Consequence","Antedencents",null,null,null,null,null,null,null,"00:00:00","00:00:00",0,{"$f":"SpellNumber((AI35))","v":"No Dollars and No Cents"},3,"No "]
["00:00:00",null,null,null,null,0,null,null,0,null,null,{"$f":"IFERROR(VLOOKUP(K36,$AD$7:AE38,2,FALSE),0)","v":0},null,null,0,null,null,null,null,null,null,"A",{"$f":"COUNTIF(E7:E104,\"A\")","v":0},{"$f":"COUNTIF(N7:N104,\"A\")","v":0},{"$f":"COUNTIF(H7:H104,\"A\")","v":0},null,null,null,null,null,null,null,"00:00:00","00:00:00",0,{"$f":"SpellNumber((AI36))","v":"No Dollars and No Cents"},3,"No "]
["00:00:00",null,null,null,null,0,null,null,0,null,null,{"$f":"IFERROR(VLOOKUP(K37,$AD$7:AE39,2,FALSE),0)","v":0},null,null,0,null,null,null,null,null,null,"B",{"$f":"COUNTIF(E8:E105,\"B\")","v":0},{"$f":"COUNTIF(N7:N104,\"B\")","v":0},{"$f":"COUNTIF(H7:H104,\"B\")","v":0},null,null,null,null,null,null,null,"00:00:00","00:00:00",0,{"$f":"SpellNumber((AI37))","v":"No Dollars and No Cents"},3,"No "]
["00:00:00",null,null,null,null,0,null,null,0,null,null,{"$f":"IFERROR(VLOOKUP(K38,$AD$7:AE40,2,FALSE),0)","v":0},null,null,0,null,null,null,null,null,null,"C",{"$f":"COUNTIF(E8:E105,\"C\")","v":0},{"$f":"COUNTIF(N7:N104,\"C\")","v":0},{"$f":"COUNTIF(H7:H104,\"C\")","v":0},null,null,null,null,null,null,null,"00:00:00","00:00:00",0,{"$f":"SpellNumber((AI38))","v":"No Dollars and No Cents"},3,"No "]
["00:00:00",null,null,null,null,0,null,null,0,null,null,{"$f":"IFERROR(VLOOKUP(K39,$AD$7:AE41,2,FALSE),0)","v":0},null,null,0,null,null,null,null,null,null,"D",{"$f":"COUNTIF(E8:E105,\"D\")","v":0},{"$f":"COUNTIF(N7:N104,\"D\")","v":0},{"$f":"COUNTIF(H7:H104,\"D\")","v":0},null,null,null,null,null,null,null,"00:00:00","00:00:00",0,{"$f":"SpellNumber((AI39))","v":"No Dollars and No Cents"},3,"No "]
["00:00:00",null,null,null,null,0,null,null,0,null,null,{"$f":"IFERROR(VLOOKUP(K40,$AD$7:AE42,2,FALSE),0)","v":0},null,null,0,null,null,null,null,null,null,"E",{"$f":"COUNTIF(E8:E105,\"E\")","v":0},{"$f":"COUNTIF(N7:N104,\"E\")","v":0},{"$f":"COUNTIF(H7:H104,\"E\")","v":0},null,null,null,null,null,null,null,"00:00:00","00:00:00",0,{"$f":"SpellNumber((AI40))","v":"No Dollars and No Cents"},3,"No "]
["00:00:00",null,null,null,null,0,null,null,0,null,null,{"$f":"IFERROR(VLOOKUP(K41,$AD$7:AE43,2,FALSE),0)","v":0},null,null,0,null,null,null,null,null,null,"F",{"$f":"COUNTIF(E8:E105,\"F\")","v":0},{"$f":"COUNTIF(N7:N104,\"F\")","v":0},{"$f":"COUNTIF(H7:H104,\"F\")","v":0},null,null,null,null,null,null,null,"00:00:00","00:00:00",0,{"$f":"SpellNumber((AI41))","v":"No Dollars and No Cents"},3,"No "]
["00:00:00",null,null,null,null,0,null,null,0,null,null,{"$f":"IFERROR(VLOOKUP(K42,$AD$7:AE44,2,FALSE),0)","v":0},null,null,0,null,null,null,null,null,null,"G",{"$f":"COUNTIF(E8:E105,\"G\")","v":0},{"$f":"COUNTIF(N7:N104,\"G\")","v":0},{"$f":"COUNTIF(H7:H104,\"G\")","v":0},null,null,null,null,null,null,null,"00:00:00","00:00:00",0,{"$f":"SpellNumber((AI42))","v":"No Dollars and No Cents"},3,"No "]
["00:00:00",null,null,null,null,0,null,null,0,null,null,{"$f":"IFERROR(VLOOKUP(K43,$AD$7:AE45,2,FALSE),0)","v":0},null,null,0,null,null,null,null,null,null,"H",{"$f":"COUNTIF(E8:E105,\"H\")","v":0},{"$f":"COUNTIF(N7:N104,\"H\")","v":0},{"$f":"COUNTIF(H7:H104,\"H\")","v":0},null,null,null,null,null,null,null,"00:00:00","00:00:00",0,{"$f":"SpellNumber((AI43))","v":"No Dollars and No Cents"},3,"No "]
["00:00:00",null,null,null,null,0,null,null,0,null,null,{"$f":"IFERROR(VLOOKUP(K44,$AD$7:AE46,2,FALSE),0)","v":0},null,null,0,null,null,null,null,null,null,"I",{"$f":"COUNTIF(E8:E105,\"I\")","v":0},{"$f":"COUNTIF(N7:N104,\"I\")","v":0},{"$f":"COUNTIF(H7:H104,\"I\")","v":0},null,null,null,null,null,null,null,"00:00:00","00:00:00",0,{"$f":"SpellNumber((AI44))","v":"No Dollars and No Cents"},3,"No "]
["00:00:00",null,null,null,null,0,null,null,0,null,null,{"$f":"IFERROR(VLOOKUP(K45,$AD$7:AE47,2,FALSE),0)","v":0},null,null,0,null,null,null,null,null,null,"J",{"$f":"COUNTIF(E8:E105,\"J\")","v":0},{"$f":"COUNTIF(N7:N104,\"J\")","v":0},{"$f":"COUNTIF(H7:H104,\"J\")","v":0},null,null,null,null,null,null,null,"00:00:00","00:00:00",0,{"$f":"SpellNumber((AI45))","v":"No Dollars and No Cents"},3,"No "]
["00:00:00",null,null,null,null,0,null,null,0,null,null,{"$f":"IFERROR(VLOOKUP(K46,$AD$7:AE48,2,FALSE),0)","v":0},null,null,0,null,null,null,null,null,null,"K",{"$f":"COUNTIF(E8:E105,\"K\")","v":0},{"$f":"COUNTIF(N7:N104,\"K\")","v":0},{"$f":"COUNTIF(H7:H104,\"K\")","v":0},null,null,null,null,null,null,null,"00:00:00","00:00:00",0,{"$f":"SpellNumber((AI46))","v":"No Dollars and No Cents"},3,"No "]
["00:00:00",null,null,null,null,0,null,null,0,null,null,{"$f":"IFERROR(VLOOKUP(K47,$AD$7:AE49,2,FALSE),0)","v":0},null,null,0,null,null,null,null,null,null,"L",{"$f":"COUNTIF(E8:E105,\"l\")","v":0},{"$f":"COUNTIF(N7:N104,\"L\")","v":0},{"$f":"COUNTIF(H7:H104,\"L\")","v":0},null,null,null,null,null,null,null,"00:00:00","00:00:00",0,{"$f":"SpellNumber((AI47))","v":"No Dollars and No Cents"},3,"No "]
["00:00:00",null,null,null,null,0,null,null,0,null,null,{"$f":"IFERROR(VLOOKUP(K48,$AD$7:AE50,2,FALSE),0)","v":0},null,null,0,null,null,null,null,null,null,null,null,null,null,null,null,null,null,null,null,null,"00:00:00","00:00:00",0,{"$f":"SpellNumber((AI48))","v":"No Dollars and No Cents"},3,"No "]
["00:00:00",null,null,null,null,0,null,null,0,null,null,{"$f":"IFERROR(VLOOKUP(K49,$AD$7:AE51,2,FALSE),0)","v":0},null,null,0,null,null,null,null,null,null,null,"Beh & Setting ",null,null,null,"Beh & Antecedents",null,null,null,null,null,"00:00:00","00:00:00",0,{"$f":"SpellNumber((AI49))","v":"No Dollars and No Cents"},3,"No "]
["00:00:00",null,null,null,null,0,null,null,0,null,null,{"$f":"IFERROR(VLOOKUP(K50,$AD$7:AE52,2,FALSE),0)","v":0},null,null,0,null,null,null,null,null,null,null,"A","B","C",null,null,"A","B","C",null,null,"00:00:00","00:00:00",0,{"$f":"SpellNumber((AI50))","v":"No Dollars and No Cents"},3,"No "]
["00:00:00",null,null,null,null,0,null,null,0,null,null,{"$f":"IFERROR(VLOOKUP(K51,$AD$7:AE53,2,FALSE),0)","v":0},null,null,0,null,null,null,null,null,null,"A",{"$f":"COUNTIFS(E7:E104,\"A\",K7:K104,\"A\")","v":0},{"$f":"COUNTIFS(E7:E104,\"A\",K7:K104,\"B\")","v":0},{"$f":"COUNTIFS(E7:E104,\"A\",K7:K104,\"C\")","v":0},null,"A",{"$f":"COUNTIFS(H7:H104,\"a\",K7:K104,\"A\")","v":0},{"$f":"COUNTIFS(H7:H104,\"A\",K7:K104,\"B\")","v":0},{"$f":"COUNTIFS(H7:H104,\"A\",K7:K104,\"C\")","v":0},null,null,"00:00:00","00:00:00",0,{"$f":"SpellNumber((AI51))","v":"No Dollars and No Cents"},3,"No "]
["00:00:00",null,null,null,null,0,null,null,0,null,null,{"$f":"IFERROR(VLOOKUP(K52,$AD$7:AE54,2,FALSE),0)","v":0},null,null,0,null,null,null,null,null,null,"B",{"$f":"COUNTIFS(E7:E104,\"B\",K7:K104,\"A\")","v":0},{"$f":"COUNTIFS(E7:E104,\"B\",K7:K104,\"B\")","v":0},{"$f":"COUNTIFS(E7:E104,\"B\",K7:K104,\"C\")","v":0},null,"B",{"$f":"COUNTIFS(H7:H104,\"B\",K7:K104,\"A\")","v":0},{"$f":"COUNTIFS(H7:H104,\"B\",K7:K104,\"B\")","v":0},{"$f":"COUNTIFS(H7:H104,\"B\",K7:K104,\"C\")","v":0},null,null,"00:00:00","00:00:00",0,{"$f":"SpellNumber((AI52))","v":"No Dollars and No Cents"},3,"No "]
["00:00:00",null,null,null,null,0,null,null,0,null,null,{"$f":"IFERROR(VLOOKUP(K53,$AD$7:AE55,2,FALSE),0)","v":0},null,null,0,null,null,null,null,null,null,"C",{"$f":"COUNTIFS(K7:K104,\"C\",K7:K104,\"A\")","v":0},{"$f":"COUNTIFS(E7:E104,\"C\",K7:K104,\"B\")","v":0},{"$f":"COUNTIFS(E7:E104,\"C\",K7:K104,\"C\")","v":0},null,"C",{"$f":"COUNTIFS(H7:H104,\"C\",K7:K104,\"A\")","v":0},{"$f":"COUNTIFS(H7:H104,\"C\",K7:K104,\"B\")","v":0},{"$f":"COUNTIFS(H7:H104,\"C\",K7:K104,\"C\")","v":0},null,null,"00:00:00","00:00:00",0,{"$f":"SpellNumber((AI53))","v":"No Dollars and No Cents"},3,"No "]
["00:00:00",null,null,null,null,0,null,null,0,null,null,{"$f":"IFERROR(VLOOKUP(K54,$AD$7:AE56,2,FALSE),0)","v":0},null,null,0,null,null,null,null,null,null,"D",{"$f":"COUNTIFS(E7:E104,\"D\",K7:K104,\"A\")","v":0},{"$f":"COUNTIFS(E7:E104,\"D\",K7:K104,\"B\")","v":0},{"$f":"COUNTIFS(E7:E104,\"D\",K7:K104,\"C\")","v":0},null,"D",{"$f":"COUNTIFS(H7:H104,\"D\",K7:K104,\"A\")","v":0},{"$f":"COUNTIFS(H7:H104,\"D\",K7:K104,\"B\")","v":0},{"$f":"COUNTIFS(H7:H104,\"D\",K7:K104,\"C\")","v":0},null,null,"00:00:00","00:00:00",0,{"$f":"SpellNumber((AI54))","v":"No Dollars and No Cents"},3,"No "]
["00:00:00",null,null,null,null,0,null,null,0,null,null,{"$f":"IFERROR(VLOOKUP(K55,$AD$7:AE57,2,FALSE),0)","v":0},null,null,0,null,null,null,null,null,null,"E",{"$f":"COUNTIFS(E7:E104,\"E\",K7:K104,\"A\")","v":0},{"$f":"COUNTIFS(E7:E104,\"E\",K7:K104,\"B\")","v":0},{"$f":"COUNTIFS(E7:E104,\"E\",K7:K104,\"C\")","v":0},null,"E",{"$f":"COUNTIFS(H7:H104,\"E\",K7:K104,\"A\")","v":0},{"$f":"COUNTIFS(H7:H104,\"E\",K7:K104,\"B\")","v":0},{"$f":"COUNTIFS(H7:H104,\"E\",K7:K104,\"C\")","v":0},null,null,"00:00:00","00:00:00",0,{"$f":"SpellNumber((AI55))","v":"No Dollars and No Cents"},3,"No "]
["00:00:00",null,null,null,null,0,null,null,0,null,null,{"$f":"IFERROR(VLOOKUP(K56,$AD$7:AE58,2,FALSE),0)","v":0},null,null,0,null,null,null,null,null,null,"F",{"$f":"COUNTIFS(E7:E104,\"F\",K7:K104,\"A\")","v":0},{"$f":"COUNTIFS(E7:E104,\"F\",K7:K104,\"B\")","v":0},{"$f":"COUNTIFS(E7:E104,\"F\",K7:K104,\"C\")","v":0},null,"F",{"$f":"COUNTIFS(H7:H104,\"F\",K7:K104,\"A\")","v":0},{"$f":"COUNTIFS(H7:H104,\"F\",K7:K104,\"B\")","v":0},{"$f":"COUNTIFS(H7:H104,\"F\",K7:K104,\"C\")","v":0},null,null,"00:00:00","00:00:00",0,{"$f":"SpellNumber((AI56))","v":"No Dollars and No Cents"},3,"No "]
["00:00:00",null,null,null,null,0,null,null,0,null,null,{"$f":"IFERROR(VLOOKUP(K57,$AD$7:AE59,2,FALSE),0)","v":0},null,null,0,null,null,null,null,null,null,"G",{"$f":"COUNTIFS(E7:E104,\"G\",K7:K104,\"A\")","v":0},{"$f":"COUNTIFS(E7:E104,\"G\",K7:K104,\"B\")","v":0},{"$f":"COUNTIFS(E7:E104,\"G\",K7:K104,\"C\")","v":0},null,"G",{"$f":"COUNTIFS(H7:H104,\"G\",K7:K104,\"A\")","v":0},{"$f":"COUNTIFS(H7:H104,\"G\",K7:K104,\"B\")","v":0},{"$f":"COUNTIFS(H7:H104,\"G\",K7:K104,\"C\")","v":0},null,null,"00:00:00","00:00:00",0,{"$f":"SpellNumber((AI57))","v":"No Dollars and No Cents"},3,"No "]
["00:00:00",null,null,null,null,0,null,null,0,null,null,{"$f":"IFERROR(VLOOKUP(K58,$AD$7:AE60,2,FALSE),0)","v":0},null,null,0,null,null,null,null,null,null,"H",{"$f":"COUNTIFS(E7:E104,\"H\",K7:K104,\"A\")","v":0},{"$f":"COUNTIFS(E7:E104,\"H\",K7:K104,\"B\")","v":0},{"$f":"COUNTIFS(E7:E104,\"H\",K7:K104,\"C\")","v":0},null,"H",{"$f":"COUNTIFS(H7:H104,\"H\",K7:K104,\"A\")","v":0},{"$f":"COUNTIFS(H7:H104,\"H\",K7:K104,\"B\")","v":0},{"$f":"COUNTIFS(H7:H104,\"H\",K7:K104,\"C\")","v":0},null,null,"00:00:00","00:00:00",0,{"$f":"SpellNumber((AI58))","v":"No Dollars and No Cents"},3,"No "]
["00:00:00",null,null,null,null,0,null,null,0,null,null,{"$f":"IFERROR(VLOOKUP(K59,$AD$7:AE61,2,FALSE),0)","v":0},null,null,0,null,null,null,null,null,null,"I",{"$f":"COUNTIFS(E7:E104,\"I\",K7:K104,\"A\")","v":0},{"$f":"COUNTIFS(E7:E104,\"I\",K7:K104,\"B\")","v":0},{"$f":"COUNTIFS(E7:E104,\"I\",K7:K104,\"C\")","v":0},null,"I",{"$f":"COUNTIFS(H7:H104,\"I\",K7:K104,\"A\")","v":0},{"$f":"COUNTIFS(H7:H104,\"I\",K7:K104,\"B\")","v":0},{"$f":"COUNTIFS(H7:H104,\"I\",K7:K104,\"C\")","v":0},null,null,"00:00:00","00:00:00",0,{"$f":"SpellNumber((AI59))","v":"No Dollars and No Cents"},3,"No "]
["00:00:00",null,null,null,null,0,null,null,0,null,null,{"$f":"IFERROR(VLOOKUP(K60,$AD$7:AE62,2,FALSE),0)","v":0},null,null,0,null,null,null,null,null,null,"J",{"$f":"COUNTIFS(E7:E104,\"J\",K7:K104,\"A\")","v":0},{"$f":"COUNTIFS(E7:E104,\"J\",K7:K104,\"B\")","v":0},{"$f":"COUNTIFS(E7:E104,\"J\",K7:K104,\"C\")","v":0},null,"J",{"$f":"COUNTIFS(H7:H104,\"J\",K7:K104,\"A\")","v":0},{"$f":"COUNTIFS(H7:H104,\"J\",K7:K104,\"B\")","v":0},{"$f":"COUNTIFS(H7:H104,\"J\",K7:K104,\"C\")","v":0},null,null,"00:00:00","00:00:00",0,{"$f":"SpellNumber((AI60))","v":"No Dollars and No Cents"},3,"No "]
["00:00:00",null,null,null,null,0,null,null,0,null,null,{"$f":"IFERROR(VLOOKUP(K61,$AD$7:AE63,2,FALSE),0)","v":0},null,null,0,null,null,null,null,null,null,"K",{"$f":"COUNTIFS(E7:E104,\"K\",K7:K104,\"A\")","v":0},{"$f":"COUNTIFS(E7:E104,\"K\",K7:K104,\"B\")","v":0},{"$f":"COUNTIFS(E7:E104,\"K\",K7:K104,\"C\")","v":0},null,"K",{"$f":"COUNTIFS(H7:H104,\"K\",K7:K104,\"A\")","v":0},{"$f":"COUNTIFS(H7:H104,\"K\",K7:K104,\"B\")","v":0},{"$f":"COUNTIFS(H7:H104,\"K\",K7:K104,\"C\")","v":0},null,null,"00:00:00","00:00:00",0,{"$f":"SpellNumber((AI61))","v":"No Dollars and No Cents"},3,"No "]
["00:00:00",null,null,null,null,0,null,null,0,null,null,{"$f":"IFERROR(VLOOKUP(K62,$AD$7:AE64,2,FALSE),0)","v":0},null,null,0,null,null,null,null,null,null,"L",{"$f":"COUNTIFS(E7:E104,\"L\",K7:K104,\"A\")","v":0},{"$f":"COUNTIFS(E7:E104,\"L\",K7:K104,\"B\")","v":0},{"$f":"COUNTIFS(E7:E104,\"L\",K7:K104,\"C\")","v":0},null,"L",{"$f":"COUNTIFS(H7:H104,\"L\",K7:K104,\"A\")","v":0},{"$f":"COUNTIFS(H7:H104,\"L\",K7:K104,\"B\")","v":0},{"$f":"COUNTIFS(H7:H104,\"L\",K7:K104,\"C\")","v":0},null,null,"00:00:00","00:00:00",0,{"$f":"SpellNumber((AI62))","v":"No Dollars and No Cents"},3,"No "]
["00:00:00",null,null,null,null,0,null,null,0,null,null,{"$f":"IFERROR(VLOOKUP(K63,$AD$7:AE65,2,FALSE),0)","v":0},null,null,0,null,null,null,null,null,null,null,"Beh & Consequences",null,null,null,null,null,null,null,null,null,"00:00:00","00:00:00",0,{"$f":"SpellNumber((AI63))","v":"No Dollars and No Cents"},3,"No "]
["00:00:00",null,null,null,null,0,null,null,0,null,null,{"$f":"IFERROR(VLOOKUP(K64,$AD$7:AE66,2,FALSE),0)","v":0},null,null,0,null,null,null,null,null,null,null,"A","B","C",null,null,null,null,null,null,null,"00:00:00","00:00:00",0,{"$f":"SpellNumber((AI64))","v":"No Dollars and No Cents"},3,"No "]
["00:00:00",null,null,null,null,0,null,null,0,null,null,{"$f":"IFERROR(VLOOKUP(K65,$AD$7:AE67,2,FALSE),0)","v":0},null,null,0,null,null,null,null,null,null,"A",{"$f":"COUNTIFS(N7:N104,\"A\",K7:K104,\"A\")","v":0},{"$f":"COUNTIFS(N7:N104,\"A\",K7:K104,\"B\")","v":0},{"$f":"COUNTIFS(N7:N104,\"A\",K7:K104,\"C\")","v":0},null,null,null,null,null,null,null,"00:00:00","00:00:00",0,{"$f":"SpellNumber((AI65))","v":"No Dollars and No Cents"},3,"No "]
["00:00:00",null,null,null,null,0,null,null,0,null,null,{"$f":"IFERROR(VLOOKUP(K66,$AD$7:AE68,2,FALSE),0)","v":0},null,null,0,null,null,null,null,null,null,"B",{"$f":"COUNTIFS(N7:N104,\"B\",K7:K104,\"A\")","v":0},{"$f":"COUNTIFS(N7:N104,\"B\",K7:K104,\"B\")","v":0},{"$f":"COUNTIFS(N7:N104,\"B\",K7:K104,\"C\")","v":0},null,null,null,null,null,null,null,"00:00:00","00:00:00",0,{"$f":"SpellNumber((AI66))","v":"No Dollars and No Cents"},3,"No "]
["00:00:00",null,null,null,null,0,null,null,0,null,null,{"$f":"IFERROR(VLOOKUP(K67,$AD$7:AE69,2,FALSE),0)","v":0},null,null,0,null,null,null,null,null,null,"C",{"$f":"COUNTIFS(N7:N104,\"C\",K7:K104,\"A\")","v":0},{"$f":"COUNTIFS(N7:N104,\"C\",K7:K104,\"B\")","v":0},{"$f":"COUNTIFS(N7:N104,\"C\",K7:K104,\"C\")","v":0},null,null,null,null,null,null,null,"00:00:00","00:00:00",0,{"$f":"SpellNumber((AI67))","v":"No Dollars and No Cents"},3,"No "]
["00:00:00",null,null,null,null,0,null,null,0,null,null,{"$f":"IFERROR(VLOOKUP(K68,$AD$7:AE70,2,FALSE),0)","v":0},null,null,0,null,null,null,null,null,null,"D",{"$f":"COUNTIFS(N7:N104,\"D\",K7:K104,\"A\")","v":0},{"$f":"COUNTIFS(N7:N104,\"D\",K7:K104,\"B\")","v":0},{"$f":"COUNTIFS(N7:N104,\"D\",K7:K104,\"C\")","v":0},null,null,null,null,null,null,null,"00:00:00","00:00:00",0,{"$f":"SpellNumber((AI68))","v":"No Dollars and No Cents"},3,"No "]
["00:00:00",null,null,null,null,0,null,null,0,null,null,{"$f":"IFERROR(VLOOKUP(K69,$AD$7:AE71,2,FALSE),0)","v":0},null,null,0,null,null,null,null,null,null,"E",{"$f":"COUNTIFS(N7:N104,\"E\",K7:K104,\"A\")","v":0},{"$f":"COUNTIFS(N7:N104,\"E\",K7:K104,\"B\")","v":0},{"$f":"COUNTIFS(N7:N104,\"E\",K7:K104,\"C\")","v":0},null,null,null,null,null,null,null,"00:00:00","00:00:00",0,{"$f":"SpellNumber((AI69))","v":"No Dollars and No Cents"},3,"No "]
["00:00:00",null,null,null,null,0,null,null,0,null,null,{"$f":"IFERROR(VLOOKUP(K70,$AD$7:AE72,2,FALSE),0)","v":0},null,null,0,null,null,null,null,null,null,"F",{"$f":"COUNTIFS(N7:N104,\"F\",K7:K104,\"A\")","v":0},{"$f":"COUNTIFS(N7:N104,\"F\",K7:K104,\"B\")","v":0},{"$f":"COUNTIFS(N7:N104,\"F\",K7:K104,\"C\")","v":0},null,null,null,null,null,null,null,"00:00:00","00:00:00",0,{"$f":"SpellNumber((AI70))","v":"No Dollars and No Cents"},3,"No "]
["00:00:00",null,null,null,null,0,null,null,0,null,null,{"$f":"IFERROR(VLOOKUP(K71,$AD$7:AE73,2,FALSE),0)","v":0},null,null,0,null,null,null,null,null,null,"G",{"$f":"COUNTIFS(N7:N104,\"G\",K7:K104,\"A\")","v":0},{"$f":"COUNTIFS(N7:N104,\"G\",K7:K104,\"B\")","v":0},{"$f":"COUNTIFS(N7:N104,\"G\",K7:K104,\"C\")","v":0},null,null,null,null,null,null,null,"00:00:00","00:00:00",0,{"$f":"SpellNumber((AI71))","v":"No Dollars and No Cents"},3,"No "]
[{"$f":"C72-B72","v":"00:00:00"},null,null,null,null,0,null,null,{"$f":"IFERROR(VLOOKUP(H72,$Z$7:$AA$18,2,FALSE),0)","v":0},null,null,{"$f":"IFERROR(VLOOKUP(K72,$AD$7:AE74,2,FALSE),0)","v":0},null,null,{"$f":"IFERROR(VLOOKUP(N72,$V$22:$W$33,2,FALSE),0)","v":0},null,null,null,null,null,null,"H",{"$f":"COUNTIFS(N7:N104,\"H\",K7:K104,\"A\")","v":0},{"$f":"COUNTIFS(N7:N104,\"H\",K7:K104,\"B\")","v":0},{"$f":"COUNTIFS(N7:N104,\"H\",K7:K104,\"C\")","v":0},null,null,null,null,null,null,null,{"$f":"B72","v":"00:00:00"},{"$f":"TEXT(AG72,\"hh:mm:ss\")","v":"00:00:00"},{"$f":"AG72*24","v":0},{"$f":"SpellNumber((AI72))","v":"No Dollars and No Cents"},{"$f":"FIND(\" Dollar\",AJ72)","v":3},{"$f":"LEFT(AJ72,AK72)","v":"No "}]
["00:00:00",null,null,null,null,{"$f":"IFERROR(VLOOKUP(E73,$V$7:$W$18,2,FALSE),0)","v":0},null,null,0,null,null,{"$f":"IFERROR(VLOOKUP(K73,$AD$7:AE75,2,FALSE),0)","v":0},null,null,0,null,null,null,null,null,null,"I",{"$f":"COUNTIFS(N7:N104,\"I\",K7:K104,\"A\")","v":0},{"$f":"COUNTIFS(N7:N104,\"I\",K7:K104,\"B\")","v":0},{"$f":"COUNTIFS(N7:N104,\"I\",K7:K104,\"C\")","v":0},null,null,null,null,null,null,null,"00:00:00","00:00:00",0,{"$f":"SpellNumber((AI73))","v":"No Dollars and No Cents"},3,"No "]
["00:00:00",null,null,null,null,0,null,null,0,null,null,{"$f":"IFERROR(VLOOKUP(K74,$AD$7:AE76,2,FALSE),0)","v":0},null,null,0,null,null,null,null,null,null,"J",{"$f":"COUNTIFS(N7:N104,\"J\",K7:K104,\"A\")","v":0},{"$f":"COUNTIFS(N7:N104,\"J\",K7:K104,\"B\")","v":0},{"$f":"COUNTIFS(N7:N104,\"J\",K7:K104,\"C\")","v":0},null,null,null,null,null,null,null,"00:00:00","00:00:00",0,{"$f":"SpellNumber((AI74))","v":"No Dollars and No Cents"},3,"No "]
["00:00:00",null,null,null,null,0,null,null,0,null,null,{"$f":"IFERROR(VLOOKUP(K75,$AD$7:AE77,2,FALSE),0)","v":0},null,null,0,null,null,null,null,null,null,"K",{"$f":"COUNTIFS(N7:N104,\"K\",K7:K104,\"A\")","v":0},{"$f":"COUNTIFS(N7:N104,\"K\",K7:K104,\"B\")","v":0},{"$f":"COUNTIFS(N7:N104,\"K\",K7:K104,\"C\")","v":0},null,null,null,null,null,null,null,"00:00:00","00:00:00",0,{"$f":"SpellNumber((AI75))","v":"No Dollars and No Cents"},3,"No "]
["00:00:00",null,null,null,null,0,null,null,0,null,null,{"$f":"IFERROR(VLOOKUP(K76,$AD$7:AE78,2,FALSE),0)","v":0},null,null,0,null,null,null,null,null,null,"L",{"$f":"COUNTIFS(N7:N104,\"L\",K7:K104,\"A\")","v":0},{"$f":"COUNTIFS(N7:N104,\"L\",K7:K104,\"B\")","v":0},{"$f":"COUNTIFS(N7:N104,\"L\",K7:K104,\"C\")","v":0},null,null,null,null,null,null,null,"00:00:00","00:00:00",0,{"$f":"SpellNumber((AI76))","v":"No Dollars and No Cents"},3,"No "]
["00:00:00",null,null,null,null,0,null,null,0,null,null,{"$f":"IFERROR(VLOOKUP(K77,$AD$7:AE79,2,FALSE),0)","v":0},null,null,0,null,null,null,null,null,null,null,null,null,null,null,null,null,null,null,null,null,"00:00:00","00:00:00",0,{"$f":"SpellNumber((AI77))","v":"No Dollars and No Cents"},3,"No "]
["00:00:00",null,null,null,null,0,null,null,0,null,null,{"$f":"IFERROR(VLOOKUP(K78,$AD$7:AE80,2,FALSE),0)","v":0},null,null,0,null,null,null,null,null,null,null,null,null,null,null,null,null,null,null,null,null,"00:00:00","00:00:00",0,{"$f":"SpellNumber((AI78))","v":"No Dollars and No Cents"},3,"No "]
["00:00:00",null,null,null,null,0,null,null,0,null,null,{"$f":"IFERROR(VLOOKUP(K79,$AD$7:AE81,2,FALSE),0)","v":0},null,null,0,null,null,null,null,null,null,null,null,null,null,null,null,null,null,null,null,null,"00:00:00","00:00:00",0,{"$f":"SpellNumber((AI79))","v":"No Dollars and No Cents"},3,"No "]
["00:00:00",null,null,null,null,0,null,null,0,null,null,{"$f":"IFERROR(VLOOKUP(K80,$AD$7:AE82,2,FALSE),0)","v":0},null,null,0,null,null,null,null,null,null,null,null,null,null,null,null,null,null,null,null,null,"00:00:00","00:00:00",0,{"$f":"SpellNumber((AI80))","v":"No Dollars and No Cents"},3,"No "]
["00:00:00",null,null,null,null,0,null,null,0,null,null,{"$f":"IFERROR(VLOOKUP(K81,$AD$7:AE83,2,FALSE),0)","v":0},null,null,0,null,null,null,null,null,null,null,null,null,null,null,null,null,null,null,null,null,"00:00:00","00:00:00",0,{"$f":"SpellNumber((AI81))","v":"No Dollars and No Cents"},3,"No "]
["00:00:00",null,null,null,null,0,null,null,0,null,null,{"$f":"IFERROR(VLOOKUP(K82,$AD$7:AE84,2,FALSE),0)","v":0},null,null,0,null,null,null,null,null,null,null,null,null,null,null,null,null,null,null,null,null,"00:00:00","00:00:00",0,{"$f":"SpellNumber((AI82))","v":"No Dollars and No Cents"},3,"No "]
["00:00:00",null,null,null,null,0,null,null,0,null,null,{"$f":"IFERROR(VLOOKUP(K83,$AD$7:AE85,2,FALSE),0)","v":0},null,null,0,null,null,null,null,null,null,null,null,null,null,null,null,null,null,null,null,null,"00:00:00","00:00:00",0,{"$f":"SpellNumber((AI83))","v":"No Dollars and No Cents"},3,"No "]
["00:00:00",null,null,null,null,0,null,null,0,null,null,{"$f":"IFERROR(VLOOKUP(K84,$AD$7:AE86,2,FALSE),0)","v":0},null,null,0,null,null,null,null,null,null,null,null,null,null,null,null,null,null,null,null,null,"00:00:00","00:00:00",0,{"$f":"SpellNumber((AI84))","v":"No Dollars and No Cents"},3,"No "]
["00:00:00",null,null,null,null,0,null,null,0,null,null,{"$f":"IFERROR(VLOOKUP(K85,$AD$7:AE87,2,FALSE),0)","v":0},null,null,0,null,null,null,null,null,null,null,null,null,null,null,null,null,null,null,null,null,"00:00:00","00:00:00",0,{"$f":"SpellNumber((AI85))","v":"No Dollars and No Cents"},3,"No "]
["00:00:00",null,null,null,null,0,null,null,0,null,null,{"$f":"IFERROR(VLOOKUP(K86,$AD$7:AE88,2,FALSE),0)","v":0},null,null,0,null,null,null,null,null,null,null,null,null,null,null,null,null,null,null,null,null,"00:00:00","00:00:00",0,{"$f":"SpellNumber((AI86))","v":"No Dollars and No Cents"},3,"No "]
["00:00:00",null,null,null,null,0,null,null,0,null,null,{"$f":"IFERROR(VLOOKUP(K87,$AD$7:AE89,2,FALSE),0)","v":0},null,null,0,null,null,null,null,null,null,null,null,null,null,null,null,null,null,null,null,null,"00:00:00","00:00:00",0,{"$f":"SpellNumber((AI87))","v":"No Dollars and No Cents"},3,"No "]
["00:00:00",null,null,null,null,0,null,null,0,null,null,{"$f":"IFERROR(VLOOKUP(K88,$AD$7:AE90,2,FALSE),0)","v":0},null,null,0,null,null,null,null,null,null,null,null,null,null,null,null,null,null,null,null,null,"00:00:00","00:00:00",0,{"$f":"SpellNumber((AI88))","v":"No Dollars and No Cents"},3,"No "]
["00:00:00",null,null,null,null,0,null,null,0,null,null,{"$f":"IFERROR(VLOOKUP(K89,$AD$7:AE91,2,FALSE),0)","v":0},null,null,0,null,null,null,null,null,null,null,null,null,null,null,null,null,null,null,null,null,"00:00:00","00:00:00",0,{"$f":"SpellNumber((AI89))","v":"No Dollars and No Cents"},3,"No "]
["00:00:00",null,null,null,null,0,null,null,0,null,null,{"$f":"IFERROR(VLOOKUP(K90,$AD$7:AE92,2,FALSE),0)","v":0},null,null,0,null,null,null,null,null,null,null,null,null,null,null,null,null,null,null,null,null,"00:00:00","00:00:00",0,{"$f":"SpellNumber((AI90))","v":"No Dollars and No Cents"},3,"No "]
["00:00:00",null,null,null,null,0,null,null,0,null,null,{"$f":"IFERROR(VLOOKUP(K91,$AD$7:AE93,2,FALSE),0)","v":0},null,null,0,null,null,null,"Total Mins",{"$f":"SUM(A7:A104)","v":"00:00:00"},null,null,null,null,null,null,null,null,null,null,null,null,"00:00:00","00:00:00",0,{"$f":"SpellNumber((AI91))","v":"No Dollars and No Cents"},3,"No "]
["00:00:00",null,null,null,null,0,null,null,0,null,null,{"$f":"IFERROR(VLOOKUP(K92,$AD$7:AE94,2,FALSE),0)","v":0},null,null,0,null,null,null,"Settings:","A",{"$f":"COUNTIF(E4:E104,\"A\")","v":0},"Antec.","A",{"$f":"COUNTIF(H4:H104,\"A\")","v":0},"Beh","A",{"$f":"COUNTIF(L4:L104,\"A\")","v":0},"Conse.","A",{"$f":"COUNTIF(O4:O104,\"A\")","v":0},null,null,"00:00:00","00:00:00",0,{"$f":"SpellNumber((AI92))","v":"No Dollars and No Cents"},3,"No "]
["00:00:00",null,null,null,null,0,null,null,0,null,null,{"$f":"IFERROR(VLOOKUP(K93,$AD$7:AE95,2,FALSE),0)","v":0},null,null,0,null,null,null,null,"B",{"$f":"COUNTIF(E5:E105,\"B\")","v":0},null,"B",{"$f":"COUNTIF(H5:H105,\"B\")","v":0},null,"B",{"$f":"COUNTIF(L5:L105,\"B\")","v":0},null,"B",{"$f":"COUNTIF(O5:O105,\"B\")","v":0},null,null,"00:00:00","00:00:00",0,{"$f":"SpellNumber((AI93))","v":"No Dollars and No Cents"},3,"No "]
["00:00:00",null,null,null,null,0,null,null,0,null,null,{"$f":"IFERROR(VLOOKUP(K94,$AD$7:AE96,2,FALSE),0)","v":0},null,null,0,null,null,null,null,"C",{"$f":"COUNTIF(E6:E106,\"C\")","v":0},null,"C",{"$f":"COUNTIF(H6:H106,\"C\")","v":0},null,"C",{"$f":"COUNTIF(L6:L106,\"C\")","v":0},null,"C",{"$f":"COUNTIF(O6:O106,\"C\")","v":0},null,null,"00:00:00","00:00:00",0,{"$f":"SpellNumber((AI94))","v":"No Dollars and No Cents"},3,"No "]
["00:00:00",null,null,null,null,0,null,null,0,null,null,{"$f":"IFERROR(VLOOKUP(K95,$AD$7:AE97,2,FALSE),0)","v":0},null,null,0,null,null,null,null,"D",{"$f":"COUNTIF(E7:E107,\"D\")","v":0},null,"D",{"$f":"COUNTIF(H7:H107,\"D\")","v":0},null,null,null,null,"D",{"$f":"COUNTIF(O7:O107,\"D\")","v":0},null,null,"00:00:00","00:00:00",0,{"$f":"SpellNumber((AI95))","v":"No Dollars and No Cents"},3,"No "]
["00:00:00",null,null,null,null,0,null,null,0,null,null,{"$f":"IFERROR(VLOOKUP(K96,$AD$7:AE98,2,FALSE),0)","v":0},null,null,0,null,null,null,null,"E",{"$f":"COUNTIF(E8:E108,\"E\")","v":0},null,"E",{"$f":"COUNTIF(H8:H108,\"E\")","v":0},null,null,null,null,"E",{"$f":"COUNTIF(O8:O108,\"E\")","v":0},null,null,"00:00:00","00:00:00",0,{"$f":"SpellNumber((AI96))","v":"No Dollars and No Cents"},3,"No "]
["00:00:00",null,null,null,null,0,null,null,0,null,null,{"$f":"IFERROR(VLOOKUP(K97,$AD$7:AE99,2,FALSE),0)","v":0},null,null,0,null,null,null,null,"F",{"$f":"COUNTIF(E9:E109,\"F\")","v":0},null,"F",{"$f":"COUNTIF(H9:H109,\"F\")","v":0},null,null,null,null,"F",{"$f":"COUNTIF(O9:O109,\"F\")","v":0},null,null,"00:00:00","00:00:00",0,{"$f":"SpellNumber((AI97))","v":"No Dollars and No Cents"},3,"No "]
["00:00:00",null,null,null,null,0,null,null,0,null,null,{"$f":"IFERROR(VLOOKUP(K98,$AD$7:AE100,2,FALSE),0)","v":0},null,null,0,null,null,null,null,"G",{"$f":"COUNTIF(E10:E110,\"G\")","v":0},null,"G",{"$f":"COUNTIF(H10:H110,\"G\")","v":0},null,null,null,null,"G",{"$f":"COUNTIF(O10:O110,\"G\")","v":0},null,null,"00:00:00","00:00:00",0,{"$f":"SpellNumber((AI98))","v":"No Dollars and No Cents"},3,"No "]
["00:00:00",null,null,null,null,0,null,null,0,null,null,{"$f":"IFERROR(VLOOKUP(K99,$AD$7:AE101,2,FALSE),0)","v":0},null,null,0,null,null,null,null,"H",{"$f":"COUNTIF(E11:E111,\"H\")","v":0},null,"H",{"$f":"COUNTIF(H11:H111,\"H\")","v":0},null,null,null,null,"H",{"$f":"COUNTIF(O11:O111,\"H\")","v":0},null,null,"00:00:00","00:00:00",0,{"$f":"SpellNumber((AI99))","v":"No Dollars and No Cents"},3,"No "]
["00:00:00",null,null,null,null,0,null,null,0,null,null,{"$f":"IFERROR(VLOOKUP(K100,$AD$7:AE102,2,FALSE),0)","v":0},null,null,0,null,null,null,null,"I",{"$f":"COUNTIF(E12:E112,\"I\")","v":0},null,"I",{"$f":"COUNTIF(H12:H112,\"I\")","v":0},null,null,null,null,"I",{"$f":"COUNTIF(O12:O112,\"I\")","v":0},null,null,"00:00:00","00:00:00",0,{"$f":"SpellNumber((AI100))","v":"No Dollars and No Cents"},3,"No "]
["00:00:00",null,null,null,null,0,null,null,0,null,null,{"$f":"IFERROR(VLOOKUP(K101,$AD$7:AE103,2,FALSE),0)","v":0},null,null,0,null,null,null,null,"J",{"$f":"COUNTIF(E13:E113,\"J\")","v":0},null,"J",{"$f":"COUNTIF(H13:H113,\"J\")","v":0},null,null,null,null,"J",{"$f":"COUNTIF(O13:O113,\"J\")","v":0},null,null,"00:00:00","00:00:00",0,{"$f":"SpellNumber((AI101))","v":"No Dollars and No Cents"},3,"No "]
["00:00:00",null,null,null,null,0,null,null,0,null,null,{"$f":"IFERROR(VLOOKUP(K102,$AD$7:AE104,2,FALSE),0)","v":0},null,null,0,null,null,null,null,"K",{"$f":"COUNTIF(E14:E114,\"K\")","v":0},null,"K",{"$f":"COUNTIF(H14:H114,\"K\")","v":0},null,null,null,null,"K",{"$f":"COUNTIF(O14:O114,\"K\")","v":0},null,null,"00:00:00","00:00:00",0,{"$f":"SpellNumber((AI102))","v":"No Dollars and No Cents"},3,"No "]
["00:00:00",null,null,null,null,0,null,null,0,null,null,{"$f":"IFERROR(VLOOKUP(K103,$AD$7:AE105,2,FALSE),0)","v":0},null,null,0,null,null,null,null,"L",{"$f":"COUNTIF(E15:E115,\"L\")","v":0},null,"L",{"$f":"COUNTIF(H15:H115,\"L\")","v":0},null,null,null,null,"L",{"$f":"COUNTIF(O15:O115,\"L\")","v":0},null,null,"00:00:00","00:00:00",0,{"$f":"SpellNumber((AI103))","v":"No Dollars and No Cents"},3,"No "]
["00:00:00",null,null,null,null,0,null,null,0,null,null,{"$f":"IFERROR(VLOOKUP(K104,$AD$7:AE106,2,FALSE),0)","v":0},null,null,0,null,null,null,null,null,null,null,null,null,null,null,null,null,null,null,null,null,"00:00:00","00:00:00",0,{"$f":"SpellNumber((AI104))","v":"No Dollars and No Cents"},3,"No "]

{"sheet":"Data 27","index":35,"n_rows":104,"n_cols":38,"rows_kept":104,"cut":false,"hidden":false,"merged":[[0,7,3,14]]}
["ATTENDANCE",null,null,null,null,null,null,"Data Collection"]
["If tardy, arrival time",null,null,null,null,null,null,null,null,null,null,null,null,null,null,null,null,null,null,null,null,null,"Date",{"$f":"Calendar!H8","v":{"$error":"#N/A"}},{"$f":"TEXT(X2,\"ddd\")","v":{"$error":"#N/A"}}]
["If left early, time",null,null,null,null,null,null,null,null,null,null,null,null,null,null,null,null,null,null,null,null,null,"Frq. Of bx",{"$f":"AA22","v":0}]
[]
[]
["Mins.","Start Time","End Time",null,null,null,null,null,null,null,null,null,null,null,null,null,null,null,null,null,null,null,"Setting",null,null,"Ant",null,null,null,"Beh",null,null,"Raw Data","Time in text","Decimal"]
[{"$f":"C7-B7","v":"00:00:00"},null,null,null,null,{"$f":"IFERROR(VLOOKUP(E7,$V$7:$W$18,2,FALSE),0)","v":0},null,null,{"$f":"IFERROR(VLOOKUP(H7,$Z$7:$AA$18,2,FALSE),0)","v":0},null,null,{"$f":"IFERROR(VLOOKUP(K7,$AD$7:AE9,2,FALSE),0)","v":0},null,null,{"$f":"IFERROR(VLOOKUP(N7,$V$22:$W$33,2,FALSE),0)","v":0},null,null,null,null,null,null,"A",{"$f":"Criteria!C4","v":"Transition"},null,null,"A",{"$f":"Criteria!E4","v":"Transition"},null,null,"A",{"$f":"Criteria!G4","v":0},null,{"$f":"B7","v":"00:00:00"},{"$f":"TEXT(AG7,\"hh:mm:ss\")","v":"00:00:00"},{"$f":"AG7*24","v":0},{"$f":"SpellNumber((AI7))","v":"No Dollars and No Cents"},{"$f":"FIND(\" Dollar\",AJ7)","v":3},{"$f":"LEFT(AJ7,AK7)","v":"No "}]
[{"$f":"C8-B8","v":"00:00:00"},null,null,null,null,{"$f":"IFERROR(VLOOKUP(E8,$V$7:$W$18,2,FALSE),0)","v":0},null,null,{"$f":"IFERROR(VLOOKUP(H8,$Z$7:$AA$18,2,FALSE),0)","v":0},null,null,{"$f":"IFERROR(VLOOKUP(K8,$AD$7:AE10,2,FALSE),0)","v":0},null,null,{"$f":"IFERROR(VLOOKUP(N8,$V$22:$W$33,2,FALSE),0)","v":0},null,null,null,null,null,null,"B",{"$f":"Criteria!C5","v":"Morning Routine"},null,null,"B",{"$f":"Criteria!E5","v":"Denied access ('No')"},null,null,"B",{"$f":"Criteria!G5","v":0},null,{"$f":"B8","v":"00:00:00"},{"$f":"TEXT(AG8,\"hh:mm:ss\")","v":"00:00:00"},{"$f":"AG8*24","v":0},{"$f":"SpellNumber((AI8))","v":"No Dollars and No Cents"},{"$f":"FIND(\" Dollar\",AJ8)","v":3},{"$f":"LEFT(AJ8,AK8)","v":"No "}]
["00:00:00",null,null,null,null,{"$f":"IFERROR(VLOOKUP(E9,$V$7:$W$18,2,FALSE),0)","v":0},null,null,0,null,null,{"$f":"IFERROR(VLOOKUP(K9,$AD$7:AE11,2,FALSE),0)","v":0},null,null,0,null,null,null,null,null,null,"C",{"$f":"Criteria!C6","v":"Group Work"},null,null,"C",{"$f":"Criteria!E6","v":"Instruction/ Directions"},null,null,"C",{"$f":"Criteria!G6","v":0},null,"00:00:00","00:00:00",0,{"$f":"SpellNumber((AI9))","v":"No Dollars and No Cents"},3,"No "]
["00:00:00",null,null,null,null,0,null,null,0,null,null,{"$f":"IFERROR(VLOOKUP(K10,$AD$7:AE12,2,FALSE),0)","v":0},null,null,0,null,null,null,null,null,null,"D",{"$f":"Criteria!C7","v":"Ind. Seat/Work Time"},null,null,"D",{"$f":"Criteria!E7","v":"New Task"},null,null,null,null,null,"00:00:00","00:00:00",0,{"$f":"SpellNumber((AI10))","v":"No Dollars and No Cents"},3,"No "]
["00:00:00",null,null,null,null,0,null,null,0,null,null,{"$f":"IFERROR(VLOOKUP(K11,$AD$7:AE13,2,FALSE),0)","v":0},null,null,0,null,null,null,null,null,null,"E",{"$f":"Criteria!C8","v":"Language Arts"},null,null,"E",{"$f":"Criteria!E8","v":"Tcher attn to other"},null,null,null,null,null,"00:00:00","00:00:00",0,{"$f":"SpellNumber((AI11))","v":"No Dollars and No Cents"},3,"No "]
["00:00:00",null,null,null,null,0,null,null,0,null,null,{"$f":"IFERROR(VLOOKUP(K12,$AD$7:AE14,2,FALSE),0)","v":0},null,null,0,null,null,null,null,null,null,"F",{"$f":"Criteria!C9","v":"Mathematics"},null,null,"F",{"$f":"Criteria!E9","v":"Choice given"},null,null,null,null,null,"00:00:00","00:00:00",0,{"$f":"SpellNumber((AI12))","v":"No Dollars and No Cents"},3,"No "]
["00:00:00",null,null,null,null,0,null,null,0,null,null,{"$f":"IFERROR(VLOOKUP(K13,$AD$7:AE15,2,FALSE),0)","v":0},null,null,0,null,null,null,null,null,null,"G",{"$f":"Criteria!C10","v":"Physical Education"},null,null,"G",{"$f":"Criteria!E10","v":"Redirection"},null,null,null,null,null,"00:00:00","00:00:00",0,{"$f":"SpellNumber((AI13))","v":"No Dollars and No Cents"},3,"No "]
["00:00:00",null,null,null,null,0,null,null,0,null,null,{"$f":"IFERROR(VLOOKUP(K14,$AD$7:AE16,2,FALSE),0)","v":0},null,null,0,null,null,null,null,null,null,"H",{"$f":"Criteria!C11","v":"Music/Art"},null,null,"H",{"$f":"Criteria!E11","v":"Routine Task"},null,null,null,null,null,"00:00:00","00:00:00",0,{"$f":"SpellNumber((AI14))","v":"No Dollars and No Cents"},3,"No "]
["00:00:00",null,null,null,null,0,null,null,0,null,null,{"$f":"IFERROR(VLOOKUP(K15,$AD$7:AE17,2,FALSE),0)","v":0},null,null,0,null,null,null,null,null,null,"I",{"$f":"Criteria!C12","v":"Speech"},null,null,"I",{"$f":"Criteria!E12","v":"Waiting"},null,null,null,null,null,"00:00:00","00:00:00",0,{"$f":"SpellNumber((AI15))","v":"No Dollars and No Cents"},3,"No "]
["00:00:00",null,null,null,null,0,null,null,0,null,null,{"$f":"IFERROR(VLOOKUP(K16,$AD$7:AE18,2,FALSE),0)","v":0},null,null,0,null,null,null,null,null,null,"J",{"$f":"Criteria!C13","v":"OT/PT"},null,null,"J",{"$f":"Criteria!E13","v":"Unknown"},null,null,null,null,null,"00:00:00","00:00:00",0,{"$f":"SpellNumber((AI16))","v":"No Dollars and No Cents"},3,"No "]
["00:00:00",null,null,null,null,0,null,null,0,null,null,{"$f":"IFERROR(VLOOKUP(K17,$AD$7:AE19,2,FALSE),0)","v":0},null,null,0,null,null,null,null,null,null,"K",{"$f":"Criteria!C14","v":"Center"},null,null,"K",{"$f":"Criteria!E14","v":"Ignored"},null,null,null,null,null,"00:00:00","00:00:00",0,{"$f":"SpellNumber((AI17))","v":"No Dollars and No Cents"},3,"No "]
["00:00:00",null,null,null,null,0,null,null,0,null,null,{"$f":"IFERROR(VLOOKUP(K18,$AD$7:AE20,2,FALSE),0)","v":0},null,null,0,null,null,null,null,null,null,"L",{"$f":"Criteria!C15","v":"Other"},null,null,"L",{"$f":"Criteria!E15","v":"Other"},null,null,null,null,null,"00:00:00","00:00:00",0,{"$f":"SpellNumber((AI18))","v":"No Dollars and No Cents"},3,"No "]
["00:00:00",null,null,null,null,0,null,null,0,null,null,{"$f":"IFERROR(VLOOKUP(K19,$AD$7:AE21,2,FALSE),0)","v":0},null,null,0,null,null,null,null,null,null,null,null,null,null,null,null,null,null,null,null,null,"00:00:00","00:00:00",0,{"$f":"SpellNumber((AI19))","v":"No Dollars and No Cents"},3,"No "]
["00:00:00",null,null,null,null,0,null,null,0,null,null,{"$f":"IFERROR(VLOOKUP(K20,$AD$7:AE22,2,FALSE),0)","v":0},null,null,0,null,null,null,null,null,null,null,null,null,null,null,null,null,null,null,null,null,"00:00:00","00:00:00",0,{"$f":"SpellNumber((AI20))","v":"No Dollars and No Cents"},3,"No "]
["00:00:00",null,null,null,null,0,null,null,0,null,null,{"$f":"IFERROR(VLOOKUP(K21,$AD$7:AE23,2,FALSE),0)","v":0},null,null,0,null,null,null,null,null,null,null,"Con",null,"Bx Frequency Per Day",null,null,null,null,null,null,null,"00:00:00","00:00:00",0,{"$f":"SpellNumber((AI21))","v":"No Dollars and No Cents"},3,"No "]
["00:00:00",null,null,null,null,0,null,null,0,null,null,{"$f":"IFERROR(VLOOKUP(K22,$AD$7:AE24,2,FALSE),0)","v":0},null,null,0,null,null,null,null,null,null,"A",{"$f":"Criteria!I4","v":"Choice Given"},"A",{"$f":"COUNTIF(K7:K104,\"A\")","v":0},null,{"$f":"SUM(Y22:Y24)","v":0},null,"Bin Dec","Frequency of Time",null,null,"00:00:00","00:00:00",0,{"$f":"SpellNumber((AI22))","v":"No Dollars and No Cents"},3,"No "]
["00:00:00",null,null,null,null,0,null,null,0,null,null,{"$f":"IFERROR(VLOOKUP(K23,$AD$7:AE25,2,FALSE),0)","v":0},null,null,0,null,null,null,null,null,null,"B",{"$f":"Criteria!I5","v":"Ignored"},"B",{"$f":"COUNTIF(K7:K104,\"B\")","v":0},null,null,null,"Seven",{"$f":"COUNTIF(AL7:AL104,\"*Seven*\")","v":0},null,null,"00:00:00","00:00:00",0,{"$f":"SpellNumber((AI23))","v":"No Dollars and No Cents"},3,"No "]
["00:00:00",null,null,null,null,0,null,null,0,null,null,{"$f":"IFERROR(VLOOKUP(K24,$AD$7:AE26,2,FALSE),0)","v":0},null,null,0,null,null,null,null,null,null,"C",{"$f":"Criteria!I6","v":"Redirection"},"C",{"$f":"COUNTIF(K7:K104,\"C\")","v":0},null,null,null,"Eight",{"$f":"COUNTIF(AL7:AL104,\"*Eight*\")","v":0},null,null,"00:00:00","00:00:00",0,{"$f":"SpellNumber((AI24))","v":"No Dollars and No Cents"},3,"No "]
["00:00:00",null,null,null,null,0,null,null,0,null,null,{"$f":"IFERROR(VLOOKUP(K25,$AD$7:AE27,2,FALSE),0)","v":0},null,null,0,null,null,null,null,null,null,"D",{"$f":"Criteria!I7","v":"Kept the demand"},null,"Bx Druation Per Day",null,null,null,"Nine",{"$f":"COUNTIF(AL7:AL104,\"*Nine*\")","v":0},null,null,"00:00:00","00:00:00",0,{"$f":"SpellNumber((AI25))","v":"No Dollars and No Cents"},3,"No "]
["00:00:00",null,null,null,null,0,null,null,0,null,null,{"$f":"IFERROR(VLOOKUP(K26,$AD$7:AE28,2,FALSE),0)","v":0},null,null,0,null,null,null,null,null,null,"E",{"$f":"Criteria!I8","v":"Changed activity"},"A",{"$f":"SUMIF(K7:K104,\"A\",A7:A104)","v":"00:00:00"},null,null,null,"Ten",{"$f":"COUNTIF(AL7:AL12,\"*Ten*\")","v":0},null,null,"00:00:00","00:00:00",0,{"$f":"SpellNumber((AI26))","v":"No Dollars and No Cents"},3,"No "]
["00:00:00",null,null,null,null,0,null,null,0,null,null,{"$f":"IFERROR(VLOOKUP(K27,$AD$7:AE29,2,FALSE),0)","v":0},null,null,0,null,null,null,null,null,null,"F",{"$f":"Criteria!I9","v":"Verbal reprimand"},"B",{"$f":"SUMIF(K7:K104,\"B\",A7:A104)","v":"00:00:00"},null,null,null,"Eleven",{"$f":"COUNTIF(AL7:AL104,\"*Eleven*\")","v":0},null,null,"00:00:00","00:00:00",0,{"$f":"SpellNumber((AI27))","v":"No Dollars and No Cents"},3,"No "]
["00:00:00",null,null,null,null,0,null,null,0,null,null,{"$f":"IFERROR(VLOOKUP(K28,$AD$7:AE30,2,FALSE),0)","v":0},null,null,0,null,null,null,null,null,null,"G",{"$f":"Criteria!I10","v":"Told to wait"},"C",{"$f":"SUMIF(K7:K104,\"C\",A7:A104)","v":"00:00:00"},null,null,null,"Twelve",{"$f":"COUNTIF(AL7:AL104,\"*Twelve*\")","v":0},null,null,"00:00:00","00:00:00",0,{"$f":"SpellNumber((AI28))","v":"No Dollars and No Cents"},3,"No "]
["00:00:00",null,null,null,null,0,null,null,0,null,null,{"$f":"IFERROR(VLOOKUP(K29,$AD$7:AE31,2,FALSE),0)","v":0},null,null,0,null,null,null,null,null,null,"H",{"$f":"Criteria!I11","v":"Physical Prompt"},null,null,null,null,null,"One",{"$f":"COUNTIF(AL7:AL104,\"*One*\")","v":0},null,null,"00:00:00","00:00:00",0,{"$f":"SpellNumber((AI29))","v":"No Dollars and No Cents"},3,"No "]
["00:00:00",null,null,null,null,0,null,null,0,null,null,{"$f":"IFERROR(VLOOKUP(K30,$AD$7:AE32,2,FALSE),0)","v":0},null,null,0,null,null,null,null,null,null,"I",{"$f":"Criteria!I12","v":"Verbal prompt"},null,null,null,null,null,"Two",{"$f":"COUNTIF(AL7:AL104,\"*Two*\")","v":0},null,null,"00:00:00","00:00:00",0,{"$f":"SpellNumber((AI30))","v":"No Dollars and No Cents"},3,"No "]
["00:00:00",null,null,null,null,0,null,null,0,null,null,{"$f":"IFERROR(VLOOKUP(K31,$AD$7:AE33,2,FALSE),0)","v":0},null,null,0,null,null,null,null,null,null,"J",{"$f":"Criteria!I13","v":"Told to wait"},null,null,null,null,null,"Three",{"$f":"COUNTIF(AL7:AL104,\"*Three*\")","v":0},null,null,"00:00:00","00:00:00",0,{"$f":"SpellNumber((AI31))","v":"No Dollars and No Cents"},3,"No "]
["00:00:00",null,null,null,null,0,null,null,0,null,null,{"$f":"IFERROR(VLOOKUP(K32,$AD$7:AE34,2,FALSE),0)","v":0},null,null,0,null,null,null,null,null,null,"K",{"$f":"Criteria!I14","v":"Unknown"},null,null,null,null,null,"Four",{"$f":"COUNTIF(AL7:AL104,\"*Four*\")","v":0},null,null,"00:00:00","00:00:00",0,{"$f":"SpellNumber((AI32))","v":"No Dollars and No Cents"},3,"No "]
["00:00:00",null,null,null,null,0,null,null,0,null,null,{"$f":"IFERROR(VLOOKUP(K33,$AD$7:AE35,2,FALSE),0)","v":0},null,null,0,null,null,null,null,null,null,"L",{"$f":"Criteria!I15","v":"Other"},null,null,null,null,null,null,null,null,null,"00:00:00","00:00:00",0,{"$f":"SpellNumber((AI33))","v":"No Dollars and No Cents"},3,"No "]
["00:00:00",null,null,null,null,0,null,null,0,null,null,{"$f":"IFERROR(VLOOKUP(K34,$AD$7:AE36,2,FALSE),0)","v":0},null,null,0,null,null,null,null,null,null,null,null,null,null,null,null,null,null,null,null,null,"00:00:00","00:00:00",0,{"$f":"SpellNumber((AI34))","v":"No Dollars and No Cents"},3,"No "]
["00:00:00",null,null,null,null,0,null,null,0,null,null,{"$f":"IFERROR(VLOOKUP(K35,$AD$7:AE37,2,FALSE),0)","v":0},null,null,0,null,null,null,null,null,null,null,"Context Frequency","Consequence","Antedencents",null,null,null,null,null,null,null,"00:00:00","00:00:00",0,{"$f":"SpellNumber((AI35))","v":"No Dollars and No Cents"},3,"No "]
["00:00:00",null,null,null,null,0,null,null,0,null,null,{"$f":"IFERROR(VLOOKUP(K36,$AD$7:AE38,2,FALSE),0)","v":0},null,null,0,null,null,null,null,null,null,"A",{"$f":"COUNTIF(E7:E104,\"A\")","v":0},{"$f":"COUNTIF(N7:N104,\"A\")","v":0},{"$f":"COUNTIF(H7:H104,\"A\")","v":0},null,null,null,null,null,null,null,"00:00:00","00:00:00",0,{"$f":"SpellNumber((AI36))","v":"No Dollars and No Cents"},3,"No "]
["00:00:00",null,null,null,null,0,null,null,0,null,null,{"$f":"IFERROR(VLOOKUP(K37,$AD$7:AE39,2,FALSE),0)","v":0},null,null,0,null,null,null,null,null,null,"B",{"$f":"COUNTIF(E8:E105,\"B\")","v":0},{"$f":"COUNTIF(N7:N104,\"B\")","v":0},{"$f":"COUNTIF(H7:H104,\"B\")","v":0},null,null,null,null,null,null,null,"00:00:00","00:00:00",0,{"$f":"SpellNumber((AI37))","v":"No Dollars and No Cents"},3,"No "]
["00:00:00",null,null,null,null,0,null,null,0,null,null,{"$f":"IFERROR(VLOOKUP(K38,$AD$7:AE40,2,FALSE),0)","v":0},null,null,0,null,null,null,null,null,null,"C",{"$f":"COUNTIF(E8:E105,\"C\")","v":0},{"$f":"COUNTIF(N7:N104,\"C\")","v":0},{"$f":"COUNTIF(H7:H104,\"C\")","v":0},null,null,null,null,null,null,null,"00:00:00","00:00:00",0,{"$f":"SpellNumber((AI38))","v":"No Dollars and No Cents"},3,"No "]
["00:00:00",null,null,null,null,0,null,null,0,null,null,{"$f":"IFERROR(VLOOKUP(K39,$AD$7:AE41,2,FALSE),0)","v":0},null,null,0,null,null,null,null,null,null,"D",{"$f":"COUNTIF(E8:E105,\"D\")","v":0},{"$f":"COUNTIF(N7:N104,\"D\")","v":0},{"$f":"COUNTIF(H7:H104,\"D\")","v":0},null,null,null,null,null,null,null,"00:00:00","00:00:00",0,{"$f":"SpellNumber((AI39))","v":"No Dollars and No Cents"},3,"No "]
["00:00:00",null,null,null,null,0,null,null,0,null,null,{"$f":"IFERROR(VLOOKUP(K40,$AD$7:AE42,2,FALSE),0)","v":0},null,null,0,null,null,null,null,null,null,"E",{"$f":"COUNTIF(E8:E105,\"E\")","v":0},{"$f":"COUNTIF(N7:N104,\"E\")","v":0},{"$f":"COUNTIF(H7:H104,\"E\")","v":0},null,null,null,null,null,null,null,"00:00:00","00:00:00",0,{"$f":"SpellNumber((AI40))","v":"No Dollars and No Cents"},3,"No "]
["00:00:00",null,null,null,null,0,null,null,0,null,null,{"$f":"IFERROR(VLOOKUP(K41,$AD$7:AE43,2,FALSE),0)","v":0},null,null,0,null,null,null,null,null,null,"F",{"$f":"COUNTIF(E8:E105,\"F\")","v":0},{"$f":"COUNTIF(N7:N104,\"F\")","v":0},{"$f":"COUNTIF(H7:H104,\"F\")","v":0},null,null,null,null,null,null,null,"00:00:00","00:00:00",0,{"$f":"SpellNumber((AI41))","v":"No Dollars and No Cents"},3,"No "]
["00:00:00",null,null,null,null,0,null,null,0,null,null,{"$f":"IFERROR(VLOOKUP(K42,$AD$7:AE44,2,FALSE),0)","v":0},null,null,0,null,null,null,null,null,null,"G",{"$f":"COUNTIF(E8:E105,\"G\")","v":0},{"$f":"COUNTIF(N7:N104,\"G\")","v":0},{"$f":"COUNTIF(H7:H104,\"G\")","v":0},null,null,null,null,null,null,null,"00:00:00","00:00:00",0,{"$f":"SpellNumber((AI42))","v":"No Dollars and No Cents"},3,"No "]
["00:00:00",null,null,null,null,0,null,null,0,null,null,{"$f":"IFERROR(VLOOKUP(K43,$AD$7:AE45,2,FALSE),0)","v":0},null,null,0,null,null,null,null,null,null,"H",{"$f":"COUNTIF(E8:E105,\"H\")","v":0},{"$f":"COUNTIF(N7:N104,\"H\")","v":0},{"$f":"COUNTIF(H7:H104,\"H\")","v":0},null,null,null,null,null,null,null,"00:00:00","00:00:00",0,{"$f":"SpellNumber((AI43))","v":"No Dollars and No Cents"},3,"No "]
["00:00:00",null,null,null,null,0,null,null,0,null,null,{"$f":"IFERROR(VLOOKUP(K44,$AD$7:AE46,2,FALSE),0)","v":0},null,null,0,null,null,null,null,null,null,"I",{"$f":"COUNTIF(E8:E105,\"I\")","v":0},{"$f":"COUNTIF(N7:N104,\"I\")","v":0},{"$f":"COUNTIF(H7:H104,\"I\")","v":0},null,null,null,null,null,null,null,"00:00:00","00:00:00",0,{"$f":"SpellNumber((AI44))","v":"No Dollars and No Cents"},3,"No "]
["00:00:00",null,null,null,null,0,null,null,0,null,null,{"$f":"IFERROR(VLOOKUP(K45,$AD$7:AE47,2,FALSE),0)","v":0},null,null,0,null,null,null,null,null,null,"J",{"$f":"COUNTIF(E8:E105,\"J\")","v":0},{"$f":"COUNTIF(N7:N104,\"J\")","v":0},{"$f":"COUNTIF(H7:H104,\"J\")","v":0},null,null,null,null,null,null,null,"00:00:00","00:00:00",0,{"$f":"SpellNumber((AI45))","v":"No Dollars and No Cents"},3,"No "]
["00:00:00",null,null,null,null,0,null,null,0,null,null,{"$f":"IFERROR(VLOOKUP(K46,$AD$7:AE48,2,FALSE),0)","v":0},null,null,0,null,null,null,null,null,null,"K",{"$f":"COUNTIF(E8:E105,\"K\")","v":0},{"$f":"COUNTIF(N7:N104,\"K\")","v":0},{"$f":"COUNTIF(H7:H104,\"K\")","v":0},null,null,null,null,null,null,null,"00:00:00","00:00:00",0,{"$f":"SpellNumber((AI46))","v":"No Dollars and No Cents"},3,"No "]
["00:00:00",null,null,null,null,0,null,null,0,null,null,{"$f":"IFERROR(VLOOKUP(K47,$AD$7:AE49,2,FALSE),0)","v":0},null,null,0,null,null,null,null,null,null,"L",{"$f":"COUNTIF(E8:E105,\"l\")","v":0},{"$f":"COUNTIF(N7:N104,\"L\")","v":0},{"$f":"COUNTIF(H7:H104,\"L\")","v":0},null,null,null,null,null,null,null,"00:00:00","00:00:00",0,{"$f":"SpellNumber((AI47))","v":"No Dollars and No Cents"},3,"No "]
["00:00:00",null,null,null,null,0,null,null,0,null,null,{"$f":"IFERROR(VLOOKUP(K48,$AD$7:AE50,2,FALSE),0)","v":0},null,null,0,null,null,null,null,null,null,null,null,null,null,null,null,null,null,null,null,null,"00:00:00","00:00:00",0,{"$f":"SpellNumber((AI48))","v":"No Dollars and No Cents"},3,"No "]
["00:00:00",null,null,null,null,0,null,null,0,null,null,{"$f":"IFERROR(VLOOKUP(K49,$AD$7:AE51,2,FALSE),0)","v":0},null,null,0,null,null,null,null,null,null,null,"Beh & Setting ",null,null,null,"Beh & Antecedents",null,null,null,null,null,"00:00:00","00:00:00",0,{"$f":"SpellNumber((AI49))","v":"No Dollars and No Cents"},3,"No "]
["00:00:00",null,null,null,null,0,null,null,0,null,null,{"$f":"IFERROR(VLOOKUP(K50,$AD$7:AE52,2,FALSE),0)","v":0},null,null,0,null,null,null,null,null,null,null,"A","B","C",null,null,"A","B","C",null,null,"00:00:00","00:00:00",0,{"$f":"SpellNumber((AI50))","v":"No Dollars and No Cents"},3,"No "]
["00:00:00",null,null,null,null,0,null,null,0,null,null,{"$f":"IFERROR(VLOOKUP(K51,$AD$7:AE53,2,FALSE),0)","v":0},null,null,0,null,null,null,null,null,null,"A",{"$f":"COUNTIFS(E7:E104,\"A\",K7:K104,\"A\")","v":0},{"$f":"COUNTIFS(E7:E104,\"A\",K7:K104,\"B\")","v":0},{"$f":"COUNTIFS(E7:E104,\"A\",K7:K104,\"C\")","v":0},null,"A",{"$f":"COUNTIFS(H7:H104,\"a\",K7:K104,\"A\")","v":0},{"$f":"COUNTIFS(H7:H104,\"A\",K7:K104,\"B\")","v":0},{"$f":"COUNTIFS(H7:H104,\"A\",K7:K104,\"C\")","v":0},null,null,"00:00:00","00:00:00",0,{"$f":"SpellNumber((AI51))","v":"No Dollars and No Cents"},3,"No "]
["00:00:00",null,null,null,null,0,null,null,0,null,null,{"$f":"IFERROR(VLOOKUP(K52,$AD$7:AE54,2,FALSE),0)","v":0},null,null,0,null,null,null,null,null,null,"B",{"$f":"COUNTIFS(E7:E104,\"B\",K7:K104,\"A\")","v":0},{"$f":"COUNTIFS(E7:E104,\"B\",K7:K104,\"B\")","v":0},{"$f":"COUNTIFS(E7:E104,\"B\",K7:K104,\"C\")","v":0},null,"B",{"$f":"COUNTIFS(H7:H104,\"B\",K7:K104,\"A\")","v":0},{"$f":"COUNTIFS(H7:H104,\"B\",K7:K104,\"B\")","v":0},{"$f":"COUNTIFS(H7:H104,\"B\",K7:K104,\"C\")","v":0},null,null,"00:00:00","00:00:00",0,{"$f":"SpellNumber((AI52))","v":"No Dollars and No Cents"},3,"No "]
["00:00:00",null,null,null,null,0,null,null,0,null,null,{"$f":"IFERROR(VLOOKUP(K53,$AD$7:AE55,2,FALSE),0)","v":0},null,null,0,null,null,null,null,null,null,"C",{"$f":"COUNTIFS(K7:K104,\"C\",K7:K104,\"A\")","v":0},{"$f":"COUNTIFS(E7:E104,\"C\",K7:K104,\"B\")","v":0},{"$f":"COUNTIFS(E7:E104,\"C\",K7:K104,\"C\")","v":0},null,"C",{"$f":"COUNTIFS(H7:H104,\"C\",K7:K104,\"A\")","v":0},{"$f":"COUNTIFS(H7:H104,\"C\",K7:K104,\"B\")","v":0},{"$f":"COUNTIFS(H7:H104,\"C\",K7:K104,\"C\")","v":0},null,null,"00:00:00","00:00:00",0,{"$f":"SpellNumber((AI53))","v":"No Dollars and No Cents"},3,"No "]
["00:00:00",null,null,null,null,0,null,null,0,null,null,{"$f":"IFERROR(VLOOKUP(K54,$AD$7:AE56,2,FALSE),0)","v":0},null,null,0,null,null,null,null,null,null,"D",{"$f":"COUNTIFS(E7:E104,\"D\",K7:K104,\"A\")","v":0},{"$f":"COUNTIFS(E7:E104,\"D\",K7:K104,\"B\")","v":0},{"$f":"COUNTIFS(E7:E104,\"D\",K7:K104,\"C\")","v":0},null,"D",{"$f":"COUNTIFS(H7:H104,\"D\",K7:K104,\"A\")","v":0},{"$f":"COUNTIFS(H7:H104,\"D\",K7:K104,\"B\")","v":0},{"$f":"COUNTIFS(H7:H104,\"D\",K7:K104,\"C\")","v":0},null,null,"00:00:00","00:00:00",0,{"$f":"SpellNumber((AI54))","v":"No Dollars and No Cents"},3,"No "]
["00:00:00",null,null,null,null,0,null,null,0,null,null,{"$f":"IFERROR(VLOOKUP(K55,$AD$7:AE57,2,FALSE),0)","v":0},null,null,0,null,null,null,null,null,null,"E",{"$f":"COUNTIFS(E7:E104,\"E\",K7:K104,\"A\")","v":0},{"$f":"COUNTIFS(E7:E104,\"E\",K7:K104,\"B\")","v":0},{"$f":"COUNTIFS(E7:E104,\"E\",K7:K104,\"C\")","v":0},null,"E",{"$f":"COUNTIFS(H7:H104,\"E\",K7:K104,\"A\")","v":0},{"$f":"COUNTIFS(H7:H104,\"E\",K7:K104,\"B\")","v":0},{"$f":"COUNTIFS(H7:H104,\"E\",K7:K104,\"C\")","v":0},null,null,"00:00:00","00:00:00",0,{"$f":"SpellNumber((AI55))","v":"No Dollars and No Cents"},3,"No "]
["00:00:00",null,null,null,null,0,null,null,0,null,null,{"$f":"IFERROR(VLOOKUP(K56,$AD$7:AE58,2,FALSE),0)","v":0},null,null,0,null,null,null,null,null,null,"F",{"$f":"COUNTIFS(E7:E104,\"F\",K7:K104,\"A\")","v":0},{"$f":"COUNTIFS(E7:E104,\"F\",K7:K104,\"B\")","v":0},{"$f":"COUNTIFS(E7:E104,\"F\",K7:K104,\"C\")","v":0},null,"F",{"$f":"COUNTIFS(H7:H104,\"F\",K7:K104,\"A\")","v":0},{"$f":"COUNTIFS(H7:H104,\"F\",K7:K104,\"B\")","v":0},{"$f":"COUNTIFS(H7:H104,\"F\",K7:K104,\"C\")","v":0},null,null,"00:00:00","00:00:00",0,{"$f":"SpellNumber((AI56))","v":"No Dollars and No Cents"},3,"No "]
["00:00:00",null,null,null,null,0,null,null,0,null,null,{"$f":"IFERROR(VLOOKUP(K57,$AD$7:AE59,2,FALSE),0)","v":0},null,null,0,null,null,null,null,null,null,"G",{"$f":"COUNTIFS(E7:E104,\"G\",K7:K104,\"A\")","v":0},{"$f":"COUNTIFS(E7:E104,\"G\",K7:K104,\"B\")","v":0},{"$f":"COUNTIFS(E7:E104,\"G\",K7:K104,\"C\")","v":0},null,"G",{"$f":"COUNTIFS(H7:H104,\"G\",K7:K104,\"A\")","v":0},{"$f":"COUNTIFS(H7:H104,\"G\",K7:K104,\"B\")","v":0},{"$f":"COUNTIFS(H7:H104,\"G\",K7:K104,\"C\")","v":0},null,null,"00:00:00","00:00:00",0,{"$f":"SpellNumber((AI57))","v":"No Dollars and No Cents"},3,"No "]
["00:00:00",null,null,null,null,0,null,null,0,null,null,{"$f":"IFERROR(VLOOKUP(K58,$AD$7:AE60,2,FALSE),0)","v":0},null,null,0,null,null,null,null,null,null,"H",{"$f":"COUNTIFS(E7:E104,\"H\",K7:K104,\"A\")","v":0},{"$f":"COUNTIFS(E7:E104,\"H\",K7:K104,\"B\")","v":0},{"$f":"COUNTIFS(E7:E104,\"H\",K7:K104,\"C\")","v":0},null,"H",{"$f":"COUNTIFS(H7:H104,\"H\",K7:K104,\"A\")","v":0},{"$f":"COUNTIFS(H7:H104,\"H\",K7:K104,\"B\")","v":0},{"$f":"COUNTIFS(H7:H104,\"H\",K7:K104,\"C\")","v":0},null,null,"00:00:00","00:00:00",0,{"$f":"SpellNumber((AI58))","v":"No Dollars and No Cents"},3,"No "]
["00:00:00",null,null,null,null,0,null,null,0,null,null,{"$f":"IFERROR(VLOOKUP(K59,$AD$7:AE61,2,FALSE),0)","v":0},null,null,0,null,null,null,null,null,null,"I",{"$f":"COUNTIFS(E7:E104,\"I\",K7:K104,\"A\")","v":0},{"$f":"COUNTIFS(E7:E104,\"I\",K7:K104,\"B\")","v":0},{"$f":"COUNTIFS(E7:E104,\"I\",K7:K104,\"C\")","v":0},null,"I",{"$f":"COUNTIFS(H7:H104,\"I\",K7:K104,\"A\")","v":0},{"$f":"COUNTIFS(H7:H104,\"I\",K7:K104,\"B\")","v":0},{"$f":"COUNTIFS(H7:H104,\"I\",K7:K104,\"C\")","v":0},null,null,"00:00:00","00:00:00",0,{"$f":"SpellNumber((AI59))","v":"No Dollars and No Cents"},3,"No "]
["00:00:00",null,null,null,null,0,null,null,0,null,null,{"$f":"IFERROR(VLOOKUP(K60,$AD$7:AE62,2,FALSE),0)","v":0},null,null,0,null,null,null,null,null,null,"J",{"$f":"COUNTIFS(E7:E104,\"J\",K7:K104,\"A\")","v":0},{"$f":"COUNTIFS(E7:E104,\"J\",K7:K104,\"B\")","v":0},{"$f":"COUNTIFS(E7:E104,\"J\",K7:K104,\"C\")","v":0},null,"J",{"$f":"COUNTIFS(H7:H104,\"J\",K7:K104,\"A\")","v":0},{"$f":"COUNTIFS(H7:H104,\"J\",K7:K104,\"B\")","v":0},{"$f":"COUNTIFS(H7:H104,\"J\",K7:K104,\"C\")","v":0},null,null,"00:00:00","00:00:00",0,{"$f":"SpellNumber((AI60))","v":"No Dollars and No Cents"},3,"No "]
["00:00:00",null,null,null,null,0,null,null,0,null,null,{"$f":"IFERROR(VLOOKUP(K61,$AD$7:AE63,2,FALSE),0)","v":0},null,null,0,null,null,null,null,null,null,"K",{"$f":"COUNTIFS(E7:E104,\"K\",K7:K104,\"A\")","v":0},{"$f":"COUNTIFS(E7:E104,\"K\",K7:K104,\"B\")","v":0},{"$f":"COUNTIFS(E7:E104,\"K\",K7:K104,\"C\")","v":0},null,"K",{"$f":"COUNTIFS(H7:H104,\"K\",K7:K104,\"A\")","v":0},{"$f":"COUNTIFS(H7:H104,\"K\",K7:K104,\"B\")","v":0},{"$f":"COUNTIFS(H7:H104,\"K\",K7:K104,\"C\")","v":0},null,null,"00:00:00","00:00:00",0,{"$f":"SpellNumber((AI61))","v":"No Dollars and No Cents"},3,"No "]
["00:00:00",null,null,null,null,0,null,null,0,null,null,{"$f":"IFERROR(VLOOKUP(K62,$AD$7:AE64,2,FALSE),0)","v":0},null,null,0,null,null,null,null,null,null,"L",{"$f":"COUNTIFS(E7:E104,\"L\",K7:K104,\"A\")","v":0},{"$f":"COUNTIFS(E7:E104,\"L\",K7:K104,\"B\")","v":0},{"$f":"COUNTIFS(E7:E104,\"L\",K7:K104,\"C\")","v":0},null,"L",{"$f":"COUNTIFS(H7:H104,\"L\",K7:K104,\"A\")","v":0},{"$f":"COUNTIFS(H7:H104,\"L\",K7:K104,\"B\")","v":0},{"$f":"COUNTIFS(H7:H104,\"L\",K7:K104,\"C\")","v":0},null,null,"00:00:00","00:00:00",0,{"$f":"SpellNumber((AI62))","v":"No Dollars and No Cents"},3,"No "]
["00:00:00",null,null,null,null,0,null,null,0,null,null,{"$f":"IFERROR(VLOOKUP(K63,$AD$7:AE65,2,FALSE),0)","v":0},null,null,0,null,null,null,null,null,null,null,"Beh & Consequences",null,null,null,null,null,null,null,null,null,"00:00:00","00:00:00",0,{"$f":"SpellNumber((AI63))","v":"No Dollars and No Cents"},3,"No "]
["00:00:00",null,null,null,null,0,null,null,0,null,null,{"$f":"IFERROR(VLOOKUP(K64,$AD$7:AE66,2,FALSE),0)","v":0},null,null,0,null,null,null,null,null,null,null,"A","B","C",null,null,null,null,null,null,null,"00:00:00","00:00:00",0,{"$f":"SpellNumber((AI64))","v":"No Dollars and No Cents"},3,"No "]
["00:00:00",null,null,null,null,0,null,null,0,null,null,{"$f":"IFERROR(VLOOKUP(K65,$AD$7:AE67,2,FALSE),0)","v":0},null,null,0,null,null,null,null,null,null,"A",{"$f":"COUNTIFS(N7:N104,\"A\",K7:K104,\"A\")","v":0},{"$f":"COUNTIFS(N7:N104,\"A\",K7:K104,\"B\")","v":0},{"$f":"COUNTIFS(N7:N104,\"A\",K7:K104,\"C\")","v":0},null,null,null,null,null,null,null,"00:00:00","00:00:00",0,{"$f":"SpellNumber((AI65))","v":"No Dollars and No Cents"},3,"No "]
["00:00:00",null,null,null,null,0,null,null,0,null,null,{"$f":"IFERROR(VLOOKUP(K66,$AD$7:AE68,2,FALSE),0)","v":0},null,null,0,null,null,null,null,null,null,"B",{"$f":"COUNTIFS(N7:N104,\"B\",K7:K104,\"A\")","v":0},{"$f":"COUNTIFS(N7:N104,\"B\",K7:K104,\"B\")","v":0},{"$f":"COUNTIFS(N7:N104,\"B\",K7:K104,\"C\")","v":0},null,null,null,null,null,null,null,"00:00:00","00:00:00",0,{"$f":"SpellNumber((AI66))","v":"No Dollars and No Cents"},3,"No "]
["00:00:00",null,null,null,null,0,null,null,0,null,null,{"$f":"IFERROR(VLOOKUP(K67,$AD$7:AE69,2,FALSE),0)","v":0},null,null,0,null,null,null,null,null,null,"C",{"$f":"COUNTIFS(N7:N104,\"C\",K7:K104,\"A\")","v":0},{"$f":"COUNTIFS(N7:N104,\"C\",K7:K104,\"B\")","v":0},{"$f":"COUNTIFS(N7:N104,\"C\",K7:K104,\"C\")","v":0},null,null,null,null,null,null,null,"00:00:00","00:00:00",0,{"$f":"SpellNumber((AI67))","v":"No Dollars and No Cents"},3,"No "]
["00:00:00",null,null,null,null,0,null,null,0,null,null,{"$f":"IFERROR(VLOOKUP(K68,$AD$7:AE70,2,FALSE),0)","v":0},null,null,0,null,null,null,null,null,null,"D",{"$f":"COUNTIFS(N7:N104,\"D\",K7:K104,\"A\")","v":0},{"$f":"COUNTIFS(N7:N104,\"D\",K7:K104,\"B\")","v":0},{"$f":"COUNTIFS(N7:N104,\"D\",K7:K104,\"C\")","v":0},null,null,null,null,null,null,null,"00:00:00","00:00:00",0,{"$f":"SpellNumber((AI68))","v":"No Dollars and No Cents"},3,"No "]
["00:00:00",null,null,null,null,0,null,null,0,null,null,{"$f":"IFERROR(VLOOKUP(K69,$AD$7:AE71,2,FALSE),0)","v":0},null,null,0,null,null,null,null,null,null,"E",{"$f":"COUNTIFS(N7:N104,\"E\",K7:K104,\"A\")","v":0},{"$f":"COUNTIFS(N7:N104,\"E\",K7:K104,\"B\")","v":0},{"$f":"COUNTIFS(N7:N104,\"E\",K7:K104,\"C\")","v":0},null,null,null,null,null,null,null,"00:00:00","00:00:00",0,{"$f":"SpellNumber((AI69))","v":"No Dollars and No Cents"},3,"No "]
["00:00:00",null,null,null,null,0,null,null,0,null,null,{"$f":"IFERROR(VLOOKUP(K70,$AD$7:AE72,2,FALSE),0)","v":0},null,null,0,null,null,null,null,null,null,"F",{"$f":"COUNTIFS(N7:N104,\"F\",K7:K104,\"A\")","v":0},{"$f":"COUNTIFS(N7:N104,\"F\",K7:K104,\"B\")","v":0},{"$f":"COUNTIFS(N7:N104,\"F\",K7:K104,\"C\")","v":0},null,null,null,null,null,null,null,"00:00:00","00:00:00",0,{"$f":"SpellNumber((AI70))","v":"No Dollars and No Cents"},3,"No "]
["00:00:00",null,null,null,null,0,null,null,0,null,null,{"$f":"IFERROR(VLOOKUP(K71,$AD$7:AE73,2,FALSE),0)","v":0},null,null,0,null,null,null,null,null,null,"G",{"$f":"COUNTIFS(N7:N104,\"G\",K7:K104,\"A\")","v":0},{"$f":"COUNTIFS(N7:N104,\"G\",K7:K104,\"B\")","v":0},{"$f":"COUNTIFS(N7:N104,\"G\",K7:K104,\"C\")","v":0},null,null,null,null,null,null,null,"00:00:00","00:00:00",0,{"$f":"SpellNumber((AI71))","v":"No Dollars and No Cents"},3,"No "]
[{"$f":"C72-B72","v":"00:00:00"},null,null,null,null,0,null,null,{"$f":"IFERROR(VLOOKUP(H72,$Z$7:$AA$18,2,FALSE),0)","v":0},null,null,{"$f":"IFERROR(VLOOKUP(K72,$AD$7:AE74,2,FALSE),0)","v":0},null,null,{"$f":"IFERROR(VLOOKUP(N72,$V$22:$W$33,2,FALSE),0)","v":0},null,null,null,null,null,null,"H",{"$f":"COUNTIFS(N7:N104,\"H\",K7:K104,\"A\")","v":0},{"$f":"COUNTIFS(N7:N104,\"H\",K7:K104,\"B\")","v":0},{"$f":"COUNTIFS(N7:N104,\"H\",K7:K104,\"C\")","v":0},null,null,null,null,null,null,null,{"$f":"B72","v":"00:00:00"},{"$f":"TEXT(AG72,\"hh:mm:ss\")","v":"00:00:00"},{"$f":"AG72*24","v":0},{"$f":"SpellNumber((AI72))","v":"No Dollars and No Cents"},{"$f":"FIND(\" Dollar\",AJ72)","v":3},{"$f":"LEFT(AJ72,AK72)","v":"No "}]
["00:00:00",null,null,null,null,{"$f":"IFERROR(VLOOKUP(E73,$V$7:$W$18,2,FALSE),0)","v":0},null,null,0,null,null,{"$f":"IFERROR(VLOOKUP(K73,$AD$7:AE75,2,FALSE),0)","v":0},null,null,0,null,null,null,null,null,null,"I",{"$f":"COUNTIFS(N7:N104,\"I\",K7:K104,\"A\")","v":0},{"$f":"COUNTIFS(N7:N104,\"I\",K7:K104,\"B\")","v":0},{"$f":"COUNTIFS(N7:N104,\"I\",K7:K104,\"C\")","v":0},null,null,null,null,null,null,null,"00:00:00","00:00:00",0,{"$f":"SpellNumber((AI73))","v":"No Dollars and No Cents"},3,"No "]
["00:00:00",null,null,null,null,0,null,null,0,null,null,{"$f":"IFERROR(VLOOKUP(K74,$AD$7:AE76,2,FALSE),0)","v":0},null,null,0,null,null,null,null,null,null,"J",{"$f":"COUNTIFS(N7:N104,\"J\",K7:K104,\"A\")","v":0},{"$f":"COUNTIFS(N7:N104,\"J\",K7:K104,\"B\")","v":0},{"$f":"COUNTIFS(N7:N104,\"J\",K7:K104,\"C\")","v":0},null,null,null,null,null,null,null,"00:00:00","00:00:00",0,{"$f":"SpellNumber((AI74))","v":"No Dollars and No Cents"},3,"No "]
["00:00:00",null,null,null,null,0,null,null,0,null,null,{"$f":"IFERROR(VLOOKUP(K75,$AD$7:AE77,2,FALSE),0)","v":0},null,null,0,null,null,null,null,null,null,"K",{"$f":"COUNTIFS(N7:N104,\"K\",K7:K104,\"A\")","v":0},{"$f":"COUNTIFS(N7:N104,\"K\",K7:K104,\"B\")","v":0},{"$f":"COUNTIFS(N7:N104,\"K\",K7:K104,\"C\")","v":0},null,null,null,null,null,null,null,"00:00:00","00:00:00",0,{"$f":"SpellNumber((AI75))","v":"No Dollars and No Cents"},3,"No "]
["00:00:00",null,null,null,null,0,null,null,0,null,null,{"$f":"IFERROR(VLOOKUP(K76,$AD$7:AE78,2,FALSE),0)","v":0},null,null,0,null,null,null,null,null,null,"L",{"$f":"COUNTIFS(N7:N104,\"L\",K7:K104,\"A\")","v":0},{"$f":"COUNTIFS(N7:N104,\"L\",K7:K104,\"B\")","v":0},{"$f":"COUNTIFS(N7:N104,\"L\",K7:K104,\"C\")","v":0},null,null,null,null,null,null,null,"00:00:00","00:00:00",0,{"$f":"SpellNumber((AI76))","v":"No Dollars and No Cents"},3,"No "]
["00:00:00",null,null,null,null,0,null,null,0,null,null,{"$f":"IFERROR(VLOOKUP(K77,$AD$7:AE79,2,FALSE),0)","v":0},null,null,0,null,null,null,null,null,null,null,null,null,null,null,null,null,null,null,null,null,"00:00:00","00:00:00",0,{"$f":"SpellNumber((AI77))","v":"No Dollars and No Cents"},3,"No "]
["00:00:00",null,null,null,null,0,null,null,0,null,null,{"$f":"IFERROR(VLOOKUP(K78,$AD$7:AE80,2,FALSE),0)","v":0},null,null,0,null,null,null,null,null,null,null,null,null,null,null,null,null,null,null,null,null,"00:00:00","00:00:00",0,{"$f":"SpellNumber((AI78))","v":"No Dollars and No Cents"},3,"No "]
["00:00:00",null,null,null,null,0,null,null,0,null,null,{"$f":"IFERROR(VLOOKUP(K79,$AD$7:AE81,2,FALSE),0)","v":0},null,null,0,null,null,null,null,null,null,null,null,null,null,null,null,null,null,null,null,null,"00:00:00","00:00:00",0,{"$f":"SpellNumber((AI79))","v":"No Dollars and No Cents"},3,"No "]
["00:00:00",null,null,null,null,0,null,null,0,null,null,{"$f":"IFERROR(VLOOKUP(K80,$AD$7:AE82,2,FALSE),0)","v":0},null,null,0,null,null,null,null,null,null,null,null,null,null,null,null,null,null,null,null,null,"00:00:00","00:00:00",0,{"$f":"SpellNumber((AI80))","v":"No Dollars and No Cents"},3,"No "]
["00:00:00",null,null,null,null,0,null,null,0,null,null,{"$f":"IFERROR(VLOOKUP(K81,$AD$7:AE83,2,FALSE),0)","v":0},null,null,0,null,null,null,null,null,null,null,null,null,null,null,null,null,null,null,null,null,"00:00:00","00:00:00",0,{"$f":"SpellNumber((AI81))","v":"No Dollars and No Cents"},3,"No "]
["00:00:00",null,null,null,null,0,null,null,0,null,null,{"$f":"IFERROR(VLOOKUP(K82,$AD$7:AE84,2,FALSE),0)","v":0},null,null,0,null,null,null,null,null,null,null,null,null,null,null,null,null,null,null,null,null,"00:00:00","00:00:00",0,{"$f":"SpellNumber((AI82))","v":"No Dollars and No Cents"},3,"No "]
["00:00:00",null,null,null,null,0,null,null,0,null,null,{"$f":"IFERROR(VLOOKUP(K83,$AD$7:AE85,2,FALSE),0)","v":0},null,null,0,null,null,null,null,null,null,null,null,null,null,null,null,null,null,null,null,null,"00:00:00","00:00:00",0,{"$f":"SpellNumber((AI83))","v":"No Dollars and No Cents"},3,"No "]
["00:00:00",null,null,null,null,0,null,null,0,null,null,{"$f":"IFERROR(VLOOKUP(K84,$AD$7:AE86,2,FALSE),0)","v":0},null,null,0,null,null,null,null,null,null,null,null,null,null,null,null,null,null,null,null,null,"00:00:00","00:00:00",0,{"$f":"SpellNumber((AI84))","v":"No Dollars and No Cents"},3,"No "]
["00:00:00",null,null,null,null,0,null,null,0,null,null,{"$f":"IFERROR(VLOOKUP(K85,$AD$7:AE87,2,FALSE),0)","v":0},null,null,0,null,null,null,null,null,null,null,null,null,null,null,null,null,null,null,null,null,"00:00:00","00:00:00",0,{"$f":"SpellNumber((AI85))","v":"No Dollars and No Cents"},3,"No "]
["00:00:00",null,null,null,null,0,null,null,0,null,null,{"$f":"IFERROR(VLOOKUP(K86,$AD$7:AE88,2,FALSE),0)","v":0},null,null,0,null,null,null,null,null,null,null,null,null,null,null,null,null,null,null,null,null,"00:00:00","00:00:00",0,{"$f":"SpellNumber((AI86))","v":"No Dollars and No Cents"},3,"No "]
["00:00:00",null,null,null,null,0,null,null,0,null,null,{"$f":"IFERROR(VLOOKUP(K87,$AD$7:AE89,2,FALSE),0)","v":0},null,null,0,null,null,null,null,null,null,null,null,null,null,null,null,null,null,null,null,null,"00:00:00","00:00:00",0,{"$f":"SpellNumber((AI87))","v":"No Dollars and No Cents"},3,"No "]
["00:00:00",null,null,null,null,0,null,null,0,null,null,{"$f":"IFERROR(VLOOKUP(K88,$AD$7:AE90,2,FALSE),0)","v":0},null,null,0,null,null,null,null,null,null,null,null,null,null,null,null,null,null,null,null,null,"00:00:00","00:00:00",0,{"$f":"SpellNumber((AI88))","v":"No Dollars and No Cents"},3,"No "]
["00:00:00",null,null,null,null,0,null,null,0,null,null,{"$f":"IFERROR(VLOOKUP(K89,$AD$7:AE91,2,FALSE),0)","v":0},null,null,0,null,null,null,null,null,null,null,null,null,null,null,null,null,null,null,null,null,"00:00:00","00:00:00",0,{"$f":"SpellNumber((AI89))","v":"No Dollars and No Cents"},3,"No "]
["00:00:00",null,null,null,null,0,null,null,0,null,null,{"$f":"IFERROR(VLOOKUP(K90,$AD$7:AE92,2,FALSE),0)","v":0},null,null,0,null,null,null,null,null,null,null,null,null,null,null,null,null,null,null,null,null,"00:00:00","00:00:00",0,{"$f":"SpellNumber((AI90))","v":"No Dollars and No Cents"},3,"No "]
["00:00:00",null,null,null,null,0,null,null,0,null,null,{"$f":"IFERROR(VLOOKUP(K91,$AD$7:AE93,2,FALSE),0)","v":0},null,null,0,null,null,null,"Total Mins",{"$f":"SUM(A7:A104)","v":"00:00:00"},null,null,null,null,null,null,null,null,null,null,null,null,"00:00:00","00:00:00",0,{"$f":"SpellNumber((AI91))","v":"No Dollars and No Cents"},3,"No "]
["00:00:00",null,null,null,null,0,null,null,0,null,null,{"$f":"IFERROR(VLOOKUP(K92,$AD$7:AE94,2,FALSE),0)","v":0},null,null,0,null,null,null,"Settings:","A",{"$f":"COUNTIF(E4:E104,\"A\")","v":0},"Antec.","A",{"$f":"COUNTIF(H4:H104,\"A\")","v":0},"Beh","A",{"$f":"COUNTIF(L4:L104,\"A\")","v":0},"Conse.","A",{"$f":"COUNTIF(O4:O104,\"A\")","v":0},null,null,"00:00:00","00:00:00",0,{"$f":"SpellNumber((AI92))","v":"No Dollars and No Cents"},3,"No "]
["00:00:00",null,null,null,null,0,null,null,0,null,null,{"$f":"IFERROR(VLOOKUP(K93,$AD$7:AE95,2,FALSE),0)","v":0},null,null,0,null,null,null,null,"B",{"$f":"COUNTIF(E5:E105,\"B\")","v":0},null,"B",{"$f":"COUNTIF(H5:H105,\"B\")","v":0},null,"B",{"$f":"COUNTIF(L5:L105,\"B\")","v":0},null,"B",{"$f":"COUNTIF(O5:O105,\"B\")","v":0},null,null,"00:00:00","00:00:00",0,{"$f":"SpellNumber((AI93))","v":"No Dollars and No Cents"},3,"No "]
["00:00:00",null,null,null,null,0,null,null,0,null,null,{"$f":"IFERROR(VLOOKUP(K94,$AD$7:AE96,2,FALSE),0)","v":0},null,null,0,null,null,null,null,"C",{"$f":"COUNTIF(E6:E106,\"C\")","v":0},null,"C",{"$f":"COUNTIF(H6:H106,\"C\")","v":0},null,"C",{"$f":"COUNTIF(L6:L106,\"C\")","v":0},null,"C",{"$f":"COUNTIF(O6:O106,\"C\")","v":0},null,null,"00:00:00","00:00:00",0,{"$f":"SpellNumber((AI94))","v":"No Dollars and No Cents"},3,"No "]
["00:00:00",null,null,null,null,0,null,null,0,null,null,{"$f":"IFERROR(VLOOKUP(K95,$AD$7:AE97,2,FALSE),0)","v":0},null,null,0,null,null,null,null,"D",{"$f":"COUNTIF(E7:E107,\"D\")","v":0},null,"D",{"$f":"COUNTIF(H7:H107,\"D\")","v":0},null,null,null,null,"D",{"$f":"COUNTIF(O7:O107,\"D\")","v":0},null,null,"00:00:00","00:00:00",0,{"$f":"SpellNumber((AI95))","v":"No Dollars and No Cents"},3,"No "]
["00:00:00",null,null,null,null,0,null,null,0,null,null,{"$f":"IFERROR(VLOOKUP(K96,$AD$7:AE98,2,FALSE),0)","v":0},null,null,0,null,null,null,null,"E",{"$f":"COUNTIF(E8:E108,\"E\")","v":0},null,"E",{"$f":"COUNTIF(H8:H108,\"E\")","v":0},null,null,null,null,"E",{"$f":"COUNTIF(O8:O108,\"E\")","v":0},null,null,"00:00:00","00:00:00",0,{"$f":"SpellNumber((AI96))","v":"No Dollars and No Cents"},3,"No "]
["00:00:00",null,null,null,null,0,null,null,0,null,null,{"$f":"IFERROR(VLOOKUP(K97,$AD$7:AE99,2,FALSE),0)","v":0},null,null,0,null,null,null,null,"F",{"$f":"COUNTIF(E9:E109,\"F\")","v":0},null,"F",{"$f":"COUNTIF(H9:H109,\"F\")","v":0},null,null,null,null,"F",{"$f":"COUNTIF(O9:O109,\"F\")","v":0},null,null,"00:00:00","00:00:00",0,{"$f":"SpellNumber((AI97))","v":"No Dollars and No Cents"},3,"No "]
["00:00:00",null,null,null,null,0,null,null,0,null,null,{"$f":"IFERROR(VLOOKUP(K98,$AD$7:AE100,2,FALSE),0)","v":0},null,null,0,null,null,null,null,"G",{"$f":"COUNTIF(E10:E110,\"G\")","v":0},null,"G",{"$f":"COUNTIF(H10:H110,\"G\")","v":0},null,null,null,null,"G",{"$f":"COUNTIF(O10:O110,\"G\")","v":0},null,null,"00:00:00","00:00:00",0,{"$f":"SpellNumber((AI98))","v":"No Dollars and No Cents"},3,"No "]
["00:00:00",null,null,null,null,0,null,null,0,null,null,{"$f":"IFERROR(VLOOKUP(K99,$AD$7:AE101,2,FALSE),0)","v":0},null,null,0,null,null,null,null,"H",{"$f":"COUNTIF(E11:E111,\"H\")","v":0},null,"H",{"$f":"COUNTIF(H11:H111,\"H\")","v":0},null,null,null,null,"H",{"$f":"COUNTIF(O11:O111,\"H\")","v":0},null,null,"00:00:00","00:00:00",0,{"$f":"SpellNumber((AI99))","v":"No Dollars and No Cents"},3,"No "]
["00:00:00",null,null,null,null,0,null,null,0,null,null,{"$f":"IFERROR(VLOOKUP(K100,$AD$7:AE102,2,FALSE),0)","v":0},null,null,0,null,null,null,null,"I",{"$f":"COUNTIF(E12:E112,\"I\")","v":0},null,"I",{"$f":"COUNTIF(H12:H112,\"I\")","v":0},null,null,null,null,"I",{"$f":"COUNTIF(O12:O112,\"I\")","v":0},null,null,"00:00:00","00:00:00",0,{"$f":"SpellNumber((AI100))","v":"No Dollars and No Cents"},3,"No "]
["00:00:00",null,null,null,null,0,null,null,0,null,null,{"$f":"IFERROR(VLOOKUP(K101,$AD$7:AE103,2,FALSE),0)","v":0},null,null,0,null,null,null,null,"J",{"$f":"COUNTIF(E13:E113,\"J\")","v":0},null,"J",{"$f":"COUNTIF(H13:H113,\"J\")","v":0},null,null,null,null,"J",{"$f":"COUNTIF(O13:O113,\"J\")","v":0},null,null,"00:00:00","00:00:00",0,{"$f":"SpellNumber((AI101))","v":"No Dollars and No Cents"},3,"No "]
["00:00:00",null,null,null,null,0,null,null,0,null,null,{"$f":"IFERROR(VLOOKUP(K102,$AD$7:AE104,2,FALSE),0)","v":0},null,null,0,null,null,null,null,"K",{"$f":"COUNTIF(E14:E114,\"K\")","v":0},null,"K",{"$f":"COUNTIF(H14:H114,\"K\")","v":0},null,null,null,null,"K",{"$f":"COUNTIF(O14:O114,\"K\")","v":0},null,null,"00:00:00","00:00:00",0,{"$f":"SpellNumber((AI102))","v":"No Dollars and No Cents"},3,"No "]
["00:00:00",null,null,null,null,0,null,null,0,null,null,{"$f":"IFERROR(VLOOKUP(K103,$AD$7:AE105,2,FALSE),0)","v":0},null,null,0,null,null,null,null,"L",{"$f":"COUNTIF(E15:E115,\"L\")","v":0},null,"L",{"$f":"COUNTIF(H15:H115,\"L\")","v":0},null,null,null,null,"L",{"$f":"COUNTIF(O15:O115,\"L\")","v":0},null,null,"00:00:00","00:00:00",0,{"$f":"SpellNumber((AI103))","v":"No Dollars and No Cents"},3,"No "]
["00:00:00",null,null,null,null,0,null,null,0,null,null,{"$f":"IFERROR(VLOOKUP(K104,$AD$7:AE106,2,FALSE),0)","v":0},null,null,0,null,null,null,null,null,null,null,null,null,null,null,null,null,null,null,null,null,"00:00:00","00:00:00",0,{"$f":"SpellNumber((AI104))","v":"No Dollars and No Cents"},3,"No "]

{"sheet":"Data 28","index":36,"n_rows":104,"n_cols":38,"rows_kept":104,"cut":false,"hidden":false,"merged":[[0,7,3,14]]}
["ATTENDANCE",null,null,null,null,null,null,"Data Collection"]
["If tardy, arrival time",null,null,null,null,null,null,null,null,null,null,null,null,null,null,null,null,null,null,null,null,null,"Date",{"$f":"Calendar!B9","v":{"$error":"#N/A"}},{"$f":"TEXT(X2,\"ddd\")","v":{"$error":"#N/A"}}]
["If left early, time",null,null,null,null,null,null,null,null,null,null,null,null,null,null,null,null,null,null,null,null,null,"Frq. Of bx",{"$f":"AA22","v":0}]
[]
[]
["Mins.","Start Time","End Time",null,null,null,null,null,null,null,null,null,null,null,null,null,null,null,null,null,null,null,"Setting",null,null,"Ant",null,null,null,"Beh",null,null,"Raw Data","Time in text","Decimal"]
[{"$f":"C7-B7","v":"00:00:00"},null,null,null,null,{"$f":"IFERROR(VLOOKUP(E7,$V$7:$W$18,2,FALSE),0)","v":0},null,null,{"$f":"IFERROR(VLOOKUP(H7,$Z$7:$AA$18,2,FALSE),0)","v":0},null,null,{"$f":"IFERROR(VLOOKUP(K7,$AD$7:AE9,2,FALSE),0)","v":0},null,null,{"$f":"IFERROR(VLOOKUP(N7,$V$22:$W$33,2,FALSE),0)","v":0},null,null,null,null,null,null,"A",{"$f":"Criteria!C4","v":"Transition"},null,null,"A",{"$f":"Criteria!E4","v":"Transition"},null,null,"A",{"$f":"Criteria!G4","v":0},null,{"$f":"B7","v":"00:00:00"},{"$f":"TEXT(AG7,\"hh:mm:ss\")","v":"00:00:00"},{"$f":"AG7*24","v":0},{"$f":"SpellNumber((AI7))","v":"No Dollars and No Cents"},{"$f":"FIND(\" Dollar\",AJ7)","v":3},{"$f":"LEFT(AJ7,AK7)","v":"No "}]
[{"$f":"C8-B8","v":"00:00:00"},null,null,null,null,{"$f":"IFERROR(VLOOKUP(E8,$V$7:$W$18,2,FALSE),0)","v":0},null,null,{"$f":"IFERROR(VLOOKUP(H8,$Z$7:$AA$18,2,FALSE),0)","v":0},null,null,{"$f":"IFERROR(VLOOKUP(K8,$AD$7:AE10,2,FALSE),0)","v":0},null,null,{"$f":"IFERROR(VLOOKUP(N8,$V$22:$W$33,2,FALSE),0)","v":0},null,null,null,null,null,null,"B",{"$f":"Criteria!C5","v":"Morning Routine"},null,null,"B",{"$f":"Criteria!E5","v":"Denied access ('No')"},null,null,"B",{"$f":"Criteria!G5","v":0},null,{"$f":"B8","v":"00:00:00"},{"$f":"TEXT(AG8,\"hh:mm:ss\")","v":"00:00:00"},{"$f":"AG8*24","v":0},{"$f":"SpellNumber((AI8))","v":"No Dollars and No Cents"},{"$f":"FIND(\" Dollar\",AJ8)","v":3},{"$f":"LEFT(AJ8,AK8)","v":"No "}]
["00:00:00",null,null,null,null,{"$f":"IFERROR(VLOOKUP(E9,$V$7:$W$18,2,FALSE),0)","v":0},null,null,0,null,null,{"$f":"IFERROR(VLOOKUP(K9,$AD$7:AE11,2,FALSE),0)","v":0},null,null,0,null,null,null,null,null,null,"C",{"$f":"Criteria!C6","v":"Group Work"},null,null,"C",{"$f":"Criteria!E6","v":"Instruction/ Directions"},null,null,"C",{"$f":"Criteria!G6","v":0},null,"00:00:00","00:00:00",0,{"$f":"SpellNumber((AI9))","v":"No Dollars and No Cents"},3,"No "]
["00:00:00",null,null,null,null,0,null,null,0,null,null,{"$f":"IFERROR(VLOOKUP(K10,$AD$7:AE12,2,FALSE),0)","v":0},null,null,0,null,null,null,null,null,null,"D",{"$f":"Criteria!C7","v":"Ind. Seat/Work Time"},null,null,"D",{"$f":"Criteria!E7","v":"New Task"},null,null,null,null,null,"00:00:00","00:00:00",0,{"$f":"SpellNumber((AI10))","v":"No Dollars and No Cents"},3,"No "]
["00:00:00",null,null,null,null,0,null,null,0,null,null,{"$f":"IFERROR(VLOOKUP(K11,$AD$7:AE13,2,FALSE),0)","v":0},null,null,0,null,null,null,null,null,null,"E",{"$f":"Criteria!C8","v":"Language Arts"},null,null,"E",{"$f":"Criteria!E8","v":"Tcher attn to other"},null,null,null,null,null,"00:00:00","00:00:00",0,{"$f":"SpellNumber((AI11))","v":"No Dollars and No Cents"},3,"No "]
["00:00:00",null,null,null,null,0,null,null,0,null,null,{"$f":"IFERROR(VLOOKUP(K12,$AD$7:AE14,2,FALSE),0)","v":0},null,null,0,null,null,null,null,null,null,"F",{"$f":"Criteria!C9","v":"Mathematics"},null,null,"F",{"$f":"Criteria!E9","v":"Choice given"},null,null,null,null,null,"00:00:00","00:00:00",0,{"$f":"SpellNumber((AI12))","v":"No Dollars and No Cents"},3,"No "]
["00:00:00",null,null,null,null,0,null,null,0,null,null,{"$f":"IFERROR(VLOOKUP(K13,$AD$7:AE15,2,FALSE),0)","v":0},null,null,0,null,null,null,null,null,null,"G",{"$f":"Criteria!C10","v":"Physical Education"},null,null,"G",{"$f":"Criteria!E10","v":"Redirection"},null,null,null,null,null,"00:00:00","00:00:00",0,{"$f":"SpellNumber((AI13))","v":"No Dollars and No Cents"},3,"No "]
["00:00:00",null,null,null,null,0,null,null,0,null,null,{"$f":"IFERROR(VLOOKUP(K14,$AD$7:AE16,2,FALSE),0)","v":0},null,null,0,null,null,null,null,null,null,"H",{"$f":"Criteria!C11","v":"Music/Art"},null,null,"H",{"$f":"Criteria!E11","v":"Routine Task"},null,null,null,null,null,"00:00:00","00:00:00",0,{"$f":"SpellNumber((AI14))","v":"No Dollars and No Cents"},3,"No "]
["00:00:00",null,null,null,null,0,null,null,0,null,null,{"$f":"IFERROR(VLOOKUP(K15,$AD$7:AE17,2,FALSE),0)","v":0},null,null,0,null,null,null,null,null,null,"I",{"$f":"Criteria!C12","v":"Speech"},null,null,"I",{"$f":"Criteria!E12","v":"Waiting"},null,null,null,null,null,"00:00:00","00:00:00",0,{"$f":"SpellNumber((AI15))","v":"No Dollars and No Cents"},3,"No "]
["00:00:00",null,null,null,null,0,null,null,0,null,null,{"$f":"IFERROR(VLOOKUP(K16,$AD$7:AE18,2,FALSE),0)","v":0},null,null,0,null,null,null,null,null,null,"J",{"$f":"Criteria!C13","v":"OT/PT"},null,null,"J",{"$f":"Criteria!E13","v":"Unknown"},null,null,null,null,null,"00:00:00","00:00:00",0,{"$f":"SpellNumber((AI16))","v":"No Dollars and No Cents"},3,"No "]
["00:00:00",null,null,null,null,0,null,null,0,null,null,{"$f":"IFERROR(VLOOKUP(K17,$AD$7:AE19,2,FALSE),0)","v":0},null,null,0,null,null,null,null,null,null,"K",{"$f":"Criteria!C14","v":"Center"},null,null,"K",{"$f":"Criteria!E14","v":"Ignored"},null,null,null,null,null,"00:00:00","00:00:00",0,{"$f":"SpellNumber((AI17))","v":"No Dollars and No Cents"},3,"No "]
["00:00:00",null,null,null,null,0,null,null,0,null,null,{"$f":"IFERROR(VLOOKUP(K18,$AD$7:AE20,2,FALSE),0)","v":0},null,null,0,null,null,null,null,null,null,"L",{"$f":"Criteria!C15","v":"Other"},null,null,"L",{"$f":"Criteria!E15","v":"Other"},null,null,null,null,null,"00:00:00","00:00:00",0,{"$f":"SpellNumber((AI18))","v":"No Dollars and No Cents"},3,"No "]
["00:00:00",null,null,null,null,0,null,null,0,null,null,{"$f":"IFERROR(VLOOKUP(K19,$AD$7:AE21,2,FALSE),0)","v":0},null,null,0,null,null,null,null,null,null,null,null,null,null,null,null,null,null,null,null,null,"00:00:00","00:00:00",0,{"$f":"SpellNumber((AI19))","v":"No Dollars and No Cents"},3,"No "]
["00:00:00",null,null,null,null,0,null,null,0,null,null,{"$f":"IFERROR(VLOOKUP(K20,$AD$7:AE22,2,FALSE),0)","v":0},null,null,0,null,null,null,null,null,null,null,null,null,null,null,null,null,null,null,null,null,"00:00:00","00:00:00",0,{"$f":"SpellNumber((AI20))","v":"No Dollars and No Cents"},3,"No "]
["00:00:00",null,null,null,null,0,null,null,0,null,null,{"$f":"IFERROR(VLOOKUP(K21,$AD$7:AE23,2,FALSE),0)","v":0},null,null,0,null,null,null,null,null,null,null,"Con",null,"Bx Frequency Per Day",null,null,null,null,null,null,null,"00:00:00","00:00:00",0,{"$f":"SpellNumber((AI21))","v":"No Dollars and No Cents"},3,"No "]
["00:00:00",null,null,null,null,0,null,null,0,null,null,{"$f":"IFERROR(VLOOKUP(K22,$AD$7:AE24,2,FALSE),0)","v":0},null,null,0,null,null,null,null,null,null,"A",{"$f":"Criteria!I4","v":"Choice Given"},"A",{"$f":"COUNTIF(K7:K104,\"A\")","v":0},null,{"$f":"SUM(Y22:Y24)","v":0},null,"Bin Dec","Frequency of Time",null,null,"00:00:00","00:00:00",0,{"$f":"SpellNumber((AI22))","v":"No Dollars and No Cents"},3,"No "]
["00:00:00",null,null,null,null,0,null,null,0,null,null,{"$f":"IFERROR(VLOOKUP(K23,$AD$7:AE25,2,FALSE),0)","v":0},null,null,0,null,null,null,null,null,null,"B",{"$f":"Criteria!I5","v":"Ignored"},"B",{"$f":"COUNTIF(K7:K104,\"B\")","v":0},null,null,null,"Seven",{"$f":"COUNTIF(AL7:AL104,\"*Seven*\")","v":0},null,null,"00:00:00","00:00:00",0,{"$f":"SpellNumber((AI23))","v":"No Dollars and No Cents"},3,"No "]
["00:00:00",null,null,null,null,0,null,null,0,null,null,{"$f":"IFERROR(VLOOKUP(K24,$AD$7:AE26,2,FALSE),0)","v":0},null,null,0,null,null,null,null,null,null,"C",{"$f":"Criteria!I6","v":"Redirection"},"C",{"$f":"COUNTIF(K7:K104,\"C\")","v":0},null,null,null,"Eight",{"$f":"COUNTIF(AL7:AL104,\"*Eight*\")","v":0},null,null,"00:00:00","00:00:00",0,{"$f":"SpellNumber((AI24))","v":"No Dollars and No Cents"},3,"No "]
["00:00:00",null,null,null,null,0,null,null,0,null,null,{"$f":"IFERROR(VLOOKUP(K25,$AD$7:AE27,2,FALSE),0)","v":0},null,null,0,null,null,null,null,null,null,"D",{"$f":"Criteria!I7","v":"Kept the demand"},null,"Bx Druation Per Day",null,null,null,"Nine",{"$f":"COUNTIF(AL7:AL104,\"*Nine*\")","v":0},null,null,"00:00:00","00:00:00",0,{"$f":"SpellNumber((AI25))","v":"No Dollars and No Cents"},3,"No "]
["00:00:00",null,null,null,null,0,null,null,0,null,null,{"$f":"IFERROR(VLOOKUP(K26,$AD$7:AE28,2,FALSE),0)","v":0},null,null,0,null,null,null,null,null,null,"E",{"$f":"Criteria!I8","v":"Changed activity"},"A",{"$f":"SUMIF(K7:K104,\"A\",A7:A104)","v":"00:00:00"},null,null,null,"Ten",{"$f":"COUNTIF(AL7:AL12,\"*Ten*\")","v":0},null,null,"00:00:00","00:00:00",0,{"$f":"SpellNumber((AI26))","v":"No Dollars and No Cents"},3,"No "]
["00:00:00",null,null,null,null,0,null,null,0,null,null,{"$f":"IFERROR(VLOOKUP(K27,$AD$7:AE29,2,FALSE),0)","v":0},null,null,0,null,null,null,null,null,null,"F",{"$f":"Criteria!I9","v":"Verbal reprimand"},"B",{"$f":"SUMIF(K7:K104,\"B\",A7:A104)","v":"00:00:00"},null,null,null,"Eleven",{"$f":"COUNTIF(AL7:AL104,\"*Eleven*\")","v":0},null,null,"00:00:00","00:00:00",0,{"$f":"SpellNumber((AI27))","v":"No Dollars and No Cents"},3,"No "]
["00:00:00",null,null,null,null,0,null,null,0,null,null,{"$f":"IFERROR(VLOOKUP(K28,$AD$7:AE30,2,FALSE),0)","v":0},null,null,0,null,null,null,null,null,null,"G",{"$f":"Criteria!I10","v":"Told to wait"},"C",{"$f":"SUMIF(K7:K104,\"C\",A7:A104)","v":"00:00:00"},null,null,null,"Twelve",{"$f":"COUNTIF(AL7:AL104,\"*Twelve*\")","v":0},null,null,"00:00:00","00:00:00",0,{"$f":"SpellNumber((AI28))","v":"No Dollars and No Cents"},3,"No "]
["00:00:00",null,null,null,null,0,null,null,0,null,null,{"$f":"IFERROR(VLOOKUP(K29,$AD$7:AE31,2,FALSE),0)","v":0},null,null,0,null,null,null,null,null,null,"H",{"$f":"Criteria!I11","v":"Physical Prompt"},null,null,null,null,null,"One",{"$f":"COUNTIF(AL7:AL104,\"*One*\")","v":0},null,null,"00:00:00","00:00:00",0,{"$f":"SpellNumber((AI29))","v":"No Dollars and No Cents"},3,"No "]
["00:00:00",null,null,null,null,0,null,null,0,null,null,{"$f":"IFERROR(VLOOKUP(K30,$AD$7:AE32,2,FALSE),0)","v":0},null,null,0,null,null,null,null,null,null,"I",{"$f":"Criteria!I12","v":"Verbal prompt"},null,null,null,null,null,"Two",{"$f":"COUNTIF(AL7:AL104,\"*Two*\")","v":0},null,null,"00:00:00","00:00:00",0,{"$f":"SpellNumber((AI30))","v":"No Dollars and No Cents"},3,"No "]
["00:00:00",null,null,null,null,0,null,null,0,null,null,{"$f":"IFERROR(VLOOKUP(K31,$AD$7:AE33,2,FALSE),0)","v":0},null,null,0,null,null,null,null,null,null,"J",{"$f":"Criteria!I13","v":"Told to wait"},null,null,null,null,null,"Three",{"$f":"COUNTIF(AL7:AL104,\"*Three*\")","v":0},null,null,"00:00:00","00:00:00",0,{"$f":"SpellNumber((AI31))","v":"No Dollars and No Cents"},3,"No "]
["00:00:00",null,null,null,null,0,null,null,0,null,null,{"$f":"IFERROR(VLOOKUP(K32,$AD$7:AE34,2,FALSE),0)","v":0},null,null,0,null,null,null,null,null,null,"K",{"$f":"Criteria!I14","v":"Unknown"},null,null,null,null,null,"Four",{"$f":"COUNTIF(AL7:AL104,\"*Four*\")","v":0},null,null,"00:00:00","00:00:00",0,{"$f":"SpellNumber((AI32))","v":"No Dollars and No Cents"},3,"No "]
["00:00:00",null,null,null,null,0,null,null,0,null,null,{"$f":"IFERROR(VLOOKUP(K33,$AD$7:AE35,2,FALSE),0)","v":0},null,null,0,null,null,null,null,null,null,"L",{"$f":"Criteria!I15","v":"Other"},null,null,null,null,null,null,null,null,null,"00:00:00","00:00:00",0,{"$f":"SpellNumber((AI33))","v":"No Dollars and No Cents"},3,"No "]
["00:00:00",null,null,null,null,0,null,null,0,null,null,{"$f":"IFERROR(VLOOKUP(K34,$AD$7:AE36,2,FALSE),0)","v":0},null,null,0,null,null,null,null,null,null,null,null,null,null,null,null,null,null,null,null,null,"00:00:00","00:00:00",0,{"$f":"SpellNumber((AI34))","v":"No Dollars and No Cents"},3,"No "]
["00:00:00",null,null,null,null,0,null,null,0,null,null,{"$f":"IFERROR(VLOOKUP(K35,$AD$7:AE37,2,FALSE),0)","v":0},null,null,0,null,null,null,null,null,null,null,"Context Frequency","Consequence","Antedencents",null,null,null,null,null,null,null,"00:00:00","00:00:00",0,{"$f":"SpellNumber((AI35))","v":"No Dollars and No Cents"},3,"No "]
["00:00:00",null,null,null,null,0,null,null,0,null,null,{"$f":"IFERROR(VLOOKUP(K36,$AD$7:AE38,2,FALSE),0)","v":0},null,null,0,null,null,null,null,null,null,"A",{"$f":"COUNTIF(E7:E104,\"A\")","v":0},{"$f":"COUNTIF(N7:N104,\"A\")","v":0},{"$f":"COUNTIF(H7:H104,\"A\")","v":0},null,null,null,null,null,null,null,"00:00:00","00:00:00",0,{"$f":"SpellNumber((AI36))","v":"No Dollars and No Cents"},3,"No "]
["00:00:00",null,null,null,null,0,null,null,0,null,null,{"$f":"IFERROR(VLOOKUP(K37,$AD$7:AE39,2,FALSE),0)","v":0},null,null,0,null,null,null,null,null,null,"B",{"$f":"COUNTIF(E8:E105,\"B\")","v":0},{"$f":"COUNTIF(N7:N104,\"B\")","v":0},{"$f":"COUNTIF(H7:H104,\"B\")","v":0},null,null,null,null,null,null,null,"00:00:00","00:00:00",0,{"$f":"SpellNumber((AI37))","v":"No Dollars and No Cents"},3,"No "]
["00:00:00",null,null,null,null,0,null,null,0,null,null,{"$f":"IFERROR(VLOOKUP(K38,$AD$7:AE40,2,FALSE),0)","v":0},null,null,0,null,null,null,null,null,null,"C",{"$f":"COUNTIF(E8:E105,\"C\")","v":0},{"$f":"COUNTIF(N7:N104,\"C\")","v":0},{"$f":"COUNTIF(H7:H104,\"C\")","v":0},null,null,null,null,null,null,null,"00:00:00","00:00:00",0,{"$f":"SpellNumber((AI38))","v":"No Dollars and No Cents"},3,"No "]
["00:00:00",null,null,null,null,0,null,null,0,null,null,{"$f":"IFERROR(VLOOKUP(K39,$AD$7:AE41,2,FALSE),0)","v":0},null,null,0,null,null,null,null,null,null,"D",{"$f":"COUNTIF(E8:E105,\"D\")","v":0},{"$f":"COUNTIF(N7:N104,\"D\")","v":0},{"$f":"COUNTIF(H7:H104,\"D\")","v":0},null,null,null,null,null,null,null,"00:00:00","00:00:00",0,{"$f":"SpellNumber((AI39))","v":"No Dollars and No Cents"},3,"No "]
["00:00:00",null,null,null,null,0,null,null,0,null,null,{"$f":"IFERROR(VLOOKUP(K40,$AD$7:AE42,2,FALSE),0)","v":0},null,null,0,null,null,null,null,null,null,"E",{"$f":"COUNTIF(E8:E105,\"E\")","v":0},{"$f":"COUNTIF(N7:N104,\"E\")","v":0},{"$f":"COUNTIF(H7:H104,\"E\")","v":0},null,null,null,null,null,null,null,"00:00:00","00:00:00",0,{"$f":"SpellNumber((AI40))","v":"No Dollars and No Cents"},3,"No "]
["00:00:00",null,null,null,null,0,null,null,0,null,null,{"$f":"IFERROR(VLOOKUP(K41,$AD$7:AE43,2,FALSE),0)","v":0},null,null,0,null,null,null,null,null,null,"F",{"$f":"COUNTIF(E8:E105,\"F\")","v":0},{"$f":"COUNTIF(N7:N104,\"F\")","v":0},{"$f":"COUNTIF(H7:H104,\"F\")","v":0},null,null,null,null,null,null,null,"00:00:00","00:00:00",0,{"$f":"SpellNumber((AI41))","v":"No Dollars and No Cents"},3,"No "]
["00:00:00",null,null,null,null,0,null,null,0,null,null,{"$f":"IFERROR(VLOOKUP(K42,$AD$7:AE44,2,FALSE),0)","v":0},null,null,0,null,null,null,null,null,null,"G",{"$f":"COUNTIF(E8:E105,\"G\")","v":0},{"$f":"COUNTIF(N7:N104,\"G\")","v":0},{"$f":"COUNTIF(H7:H104,\"G\")","v":0},null,null,null,null,null,null,null,"00:00:00","00:00:00",0,{"$f":"SpellNumber((AI42))","v":"No Dollars and No Cents"},3,"No "]
["00:00:00",null,null,null,null,0,null,null,0,null,null,{"$f":"IFERROR(VLOOKUP(K43,$AD$7:AE45,2,FALSE),0)","v":0},null,null,0,null,null,null,null,null,null,"H",{"$f":"COUNTIF(E8:E105,\"H\")","v":0},{"$f":"COUNTIF(N7:N104,\"H\")","v":0},{"$f":"COUNTIF(H7:H104,\"H\")","v":0},null,null,null,null,null,null,null,"00:00:00","00:00:00",0,{"$f":"SpellNumber((AI43))","v":"No Dollars and No Cents"},3,"No "]
["00:00:00",null,null,null,null,0,null,null,0,null,null,{"$f":"IFERROR(VLOOKUP(K44,$AD$7:AE46,2,FALSE),0)","v":0},null,null,0,null,null,null,null,null,null,"I",{"$f":"COUNTIF(E8:E105,\"I\")","v":0},{"$f":"COUNTIF(N7:N104,\"I\")","v":0},{"$f":"COUNTIF(H7:H104,\"I\")","v":0},null,null,null,null,null,null,null,"00:00:00","00:00:00",0,{"$f":"SpellNumber((AI44))","v":"No Dollars and No Cents"},3,"No "]
["00:00:00",null,null,null,null,0,null,null,0,null,null,{"$f":"IFERROR(VLOOKUP(K45,$AD$7:AE47,2,FALSE),0)","v":0},null,null,0,null,null,null,null,null,null,"J",{"$f":"COUNTIF(E8:E105,\"J\")","v":0},{"$f":"COUNTIF(N7:N104,\"J\")","v":0},{"$f":"COUNTIF(H7:H104,\"J\")","v":0},null,null,null,null,null,null,null,"00:00:00","00:00:00",0,{"$f":"SpellNumber((AI45))","v":"No Dollars and No Cents"},3,"No "]
["00:00:00",null,null,null,null,0,null,null,0,null,null,{"$f":"IFERROR(VLOOKUP(K46,$AD$7:AE48,2,FALSE),0)","v":0},null,null,0,null,null,null,null,null,null,"K",{"$f":"COUNTIF(E8:E105,\"K\")","v":0},{"$f":"COUNTIF(N7:N104,\"K\")","v":0},{"$f":"COUNTIF(H7:H104,\"K\")","v":0},null,null,null,null,null,null,null,"00:00:00","00:00:00",0,{"$f":"SpellNumber((AI46))","v":"No Dollars and No Cents"},3,"No "]
["00:00:00",null,null,null,null,0,null,null,0,null,null,{"$f":"IFERROR(VLOOKUP(K47,$AD$7:AE49,2,FALSE),0)","v":0},null,null,0,null,null,null,null,null,null,"L",{"$f":"COUNTIF(E8:E105,\"l\")","v":0},{"$f":"COUNTIF(N7:N104,\"L\")","v":0},{"$f":"COUNTIF(H7:H104,\"L\")","v":0},null,null,null,null,null,null,null,"00:00:00","00:00:00",0,{"$f":"SpellNumber((AI47))","v":"No Dollars and No Cents"},3,"No "]
["00:00:00",null,null,null,null,0,null,null,0,null,null,{"$f":"IFERROR(VLOOKUP(K48,$AD$7:AE50,2,FALSE),0)","v":0},null,null,0,null,null,null,null,null,null,null,null,null,null,null,null,null,null,null,null,null,"00:00:00","00:00:00",0,{"$f":"SpellNumber((AI48))","v":"No Dollars and No Cents"},3,"No "]
["00:00:00",null,null,null,null,0,null,null,0,null,null,{"$f":"IFERROR(VLOOKUP(K49,$AD$7:AE51,2,FALSE),0)","v":0},null,null,0,null,null,null,null,null,null,null,"Beh & Setting ",null,null,null,"Beh & Antecedents",null,null,null,null,null,"00:00:00","00:00:00",0,{"$f":"SpellNumber((AI49))","v":"No Dollars and No Cents"},3,"No "]
["00:00:00",null,null,null,null,0,null,null,0,null,null,{"$f":"IFERROR(VLOOKUP(K50,$AD$7:AE52,2,FALSE),0)","v":0},null,null,0,null,null,null,null,null,null,null,"A","B","C",null,null,"A","B","C",null,null,"00:00:00","00:00:00",0,{"$f":"SpellNumber((AI50))","v":"No Dollars and No Cents"},3,"No "]
["00:00:00",null,null,null,null,0,null,null,0,null,null,{"$f":"IFERROR(VLOOKUP(K51,$AD$7:AE53,2,FALSE),0)","v":0},null,null,0,null,null,null,null,null,null,"A",{"$f":"COUNTIFS(E7:E104,\"A\",K7:K104,\"A\")","v":0},{"$f":"COUNTIFS(E7:E104,\"A\",K7:K104,\"B\")","v":0},{"$f":"COUNTIFS(E7:E104,\"A\",K7:K104,\"C\")","v":0},null,"A",{"$f":"COUNTIFS(H7:H104,\"a\",K7:K104,\"A\")","v":0},{"$f":"COUNTIFS(H7:H104,\"A\",K7:K104,\"B\")","v":0},{"$f":"COUNTIFS(H7:H104,\"A\",K7:K104,\"C\")","v":0},null,null,"00:00:00","00:00:00",0,{"$f":"SpellNumber((AI51))","v":"No Dollars and No Cents"},3,"No "]
["00:00:00",null,null,null,null,0,null,null,0,null,null,{"$f":"IFERROR(VLOOKUP(K52,$AD$7:AE54,2,FALSE),0)","v":0},null,null,0,null,null,null,null,null,null,"B",{"$f":"COUNTIFS(E7:E104,\"B\",K7:K104,\"A\")","v":0},{"$f":"COUNTIFS(E7:E104,\"B\",K7:K104,\"B\")","v":0},{"$f":"COUNTIFS(E7:E104,\"B\",K7:K104,\"C\")","v":0},null,"B",{"$f":"COUNTIFS(H7:H104,\"B\",K7:K104,\"A\")","v":0},{"$f":"COUNTIFS(H7:H104,\"B\",K7:K104,\"B\")","v":0},{"$f":"COUNTIFS(H7:H104,\"B\",K7:K104,\"C\")","v":0},null,null,"00:00:00","00:00:00",0,{"$f":"SpellNumber((AI52))","v":"No Dollars and No Cents"},3,"No "]
["00:00:00",null,null,null,null,0,null,null,0,null,null,{"$f":"IFERROR(VLOOKUP(K53,$AD$7:AE55,2,FALSE),0)","v":0},null,null,0,null,null,null,null,null,null,"C",{"$f":"COUNTIFS(K7:K104,\"C\",K7:K104,\"A\")","v":0},{"$f":"COUNTIFS(E7:E104,\"C\",K7:K104,\"B\")","v":0},{"$f":"COUNTIFS(E7:E104,\"C\",K7:K104,\"C\")","v":0},null,"C",{"$f":"COUNTIFS(H7:H104,\"C\",K7:K104,\"A\")","v":0},{"$f":"COUNTIFS(H7:H104,\"C\",K7:K104,\"B\")","v":0},{"$f":"COUNTIFS(H7:H104,\"C\",K7:K104,\"C\")","v":0},null,null,"00:00:00","00:00:00",0,{"$f":"SpellNumber((AI53))","v":"No Dollars and No Cents"},3,"No "]
["00:00:00",null,null,null,null,0,null,null,0,null,null,{"$f":"IFERROR(VLOOKUP(K54,$AD$7:AE56,2,FALSE),0)","v":0},null,null,0,null,null,null,null,null,null,"D",{"$f":"COUNTIFS(E7:E104,\"D\",K7:K104,\"A\")","v":0},{"$f":"COUNTIFS(E7:E104,\"D\",K7:K104,\"B\")","v":0},{"$f":"COUNTIFS(E7:E104,\"D\",K7:K104,\"C\")","v":0},null,"D",{"$f":"COUNTIFS(H7:H104,\"D\",K7:K104,\"A\")","v":0},{"$f":"COUNTIFS(H7:H104,\"D\",K7:K104,\"B\")","v":0},{"$f":"COUNTIFS(H7:H104,\"D\",K7:K104,\"C\")","v":0},null,null,"00:00:00","00:00:00",0,{"$f":"SpellNumber((AI54))","v":"No Dollars and No Cents"},3,"No "]
["00:00:00",null,null,null,null,0,null,null,0,null,null,{"$f":"IFERROR(VLOOKUP(K55,$AD$7:AE57,2,FALSE),0)","v":0},null,null,0,null,null,null,null,null,null,"E",{"$f":"COUNTIFS(E7:E104,\"E\",K7:K104,\"A\")","v":0},{"$f":"COUNTIFS(E7:E104,\"E\",K7:K104,\"B\")","v":0},{"$f":"COUNTIFS(E7:E104,\"E\",K7:K104,\"C\")","v":0},null,"E",{"$f":"COUNTIFS(H7:H104,\"E\",K7:K104,\"A\")","v":0},{"$f":"COUNTIFS(H7:H104,\"E\",K7:K104,\"B\")","v":0},{"$f":"COUNTIFS(H7:H104,\"E\",K7:K104,\"C\")","v":0},null,null,"00:00:00","00:00:00",0,{"$f":"SpellNumber((AI55))","v":"No Dollars and No Cents"},3,"No "]
["00:00:00",null,null,null,null,0,null,null,0,null,null,{"$f":"IFERROR(VLOOKUP(K56,$AD$7:AE58,2,FALSE),0)","v":0},null,null,0,null,null,null,null,null,null,"F",{"$f":"COUNTIFS(E7:E104,\"F\",K7:K104,\"A\")","v":0},{"$f":"COUNTIFS(E7:E104,\"F\",K7:K104,\"B\")","v":0},{"$f":"COUNTIFS(E7:E104,\"F\",K7:K104,\"C\")","v":0},null,"F",{"$f":"COUNTIFS(H7:H104,\"F\",K7:K104,\"A\")","v":0},{"$f":"COUNTIFS(H7:H104,\"F\",K7:K104,\"B\")","v":0},{"$f":"COUNTIFS(H7:H104,\"F\",K7:K104,\"C\")","v":0},null,null,"00:00:00","00:00:00",0,{"$f":"SpellNumber((AI56))","v":"No Dollars and No Cents"},3,"No "]
["00:00:00",null,null,null,null,0,null,null,0,null,null,{"$f":"IFERROR(VLOOKUP(K57,$AD$7:AE59,2,FALSE),0)","v":0},null,null,0,null,null,null,null,null,null,"G",{"$f":"COUNTIFS(E7:E104,\"G\",K7:K104,\"A\")","v":0},{"$f":"COUNTIFS(E7:E104,\"G\",K7:K104,\"B\")","v":0},{"$f":"COUNTIFS(E7:E104,\"G\",K7:K104,\"C\")","v":0},null,"G",{"$f":"COUNTIFS(H7:H104,\"G\",K7:K104,\"A\")","v":0},{"$f":"COUNTIFS(H7:H104,\"G\",K7:K104,\"B\")","v":0},{"$f":"COUNTIFS(H7:H104,\"G\",K7:K104,\"C\")","v":0},null,null,"00:00:00","00:00:00",0,{"$f":"SpellNumber((AI57))","v":"No Dollars and No Cents"},3,"No "]
["00:00:00",null,null,null,null,0,null,null,0,null,null,{"$f":"IFERROR(VLOOKUP(K58,$AD$7:AE60,2,FALSE),0)","v":0},null,null,0,null,null,null,null,null,null,"H",{"$f":"COUNTIFS(E7:E104,\"H\",K7:K104,\"A\")","v":0},{"$f":"COUNTIFS(E7:E104,\"H\",K7:K104,\"B\")","v":0},{"$f":"COUNTIFS(E7:E104,\"H\",K7:K104,\"C\")","v":0},null,"H",{"$f":"COUNTIFS(H7:H104,\"H\",K7:K104,\"A\")","v":0},{"$f":"COUNTIFS(H7:H104,\"H\",K7:K104,\"B\")","v":0},{"$f":"COUNTIFS(H7:H104,\"H\",K7:K104,\"C\")","v":0},null,null,"00:00:00","00:00:00",0,{"$f":"SpellNumber((AI58))","v":"No Dollars and No Cents"},3,"No "]
["00:00:00",null,null,null,null,0,null,null,0,null,null,{"$f":"IFERROR(VLOOKUP(K59,$AD$7:AE61,2,FALSE),0)","v":0},null,null,0,null,null,null,null,null,null,"I",{"$f":"COUNTIFS(E7:E104,\"I\",K7:K104,\"A\")","v":0},{"$f":"COUNTIFS(E7:E104,\"I\",K7:K104,\"B\")","v":0},{"$f":"COUNTIFS(E7:E104,\"I\",K7:K104,\"C\")","v":0},null,"I",{"$f":"COUNTIFS(H7:H104,\"I\",K7:K104,\"A\")","v":0},{"$f":"COUNTIFS(H7:H104,\"I\",K7:K104,\"B\")","v":0},{"$f":"COUNTIFS(H7:H104,\"I\",K7:K104,\"C\")","v":0},null,null,"00:00:00","00:00:00",0,{"$f":"SpellNumber((AI59))","v":"No Dollars and No Cents"},3,"No "]
["00:00:00",null,null,null,null,0,null,null,0,null,null,{"$f":"IFERROR(VLOOKUP(K60,$AD$7:AE62,2,FALSE),0)","v":0},null,null,0,null,null,null,null,null,null,"J",{"$f":"COUNTIFS(E7:E104,\"J\",K7:K104,\"A\")","v":0},{"$f":"COUNTIFS(E7:E104,\"J\",K7:K104,\"B\")","v":0},{"$f":"COUNTIFS(E7:E104,\"J\",K7:K104,\"C\")","v":0},null,"J",{"$f":"COUNTIFS(H7:H104,\"J\",K7:K104,\"A\")","v":0},{"$f":"COUNTIFS(H7:H104,\"J\",K7:K104,\"B\")","v":0},{"$f":"COUNTIFS(H7:H104,\"J\",K7:K104,\"C\")","v":0},null,null,"00:00:00","00:00:00",0,{"$f":"SpellNumber((AI60))","v":"No Dollars and No Cents"},3,"No "]
["00:00:00",null,null,null,null,0,null,null,0,null,null,{"$f":"IFERROR(VLOOKUP(K61,$AD$7:AE63,2,FALSE),0)","v":0},null,null,0,null,null,null,null,null,null,"K",{"$f":"COUNTIFS(E7:E104,\"K\",K7:K104,\"A\")","v":0},{"$f":"COUNTIFS(E7:E104,\"K\",K7:K104,\"B\")","v":0},{"$f":"COUNTIFS(E7:E104,\"K\",K7:K104,\"C\")","v":0},null,"K",{"$f":"COUNTIFS(H7:H104,\"K\",K7:K104,\"A\")","v":0},{"$f":"COUNTIFS(H7:H104,\"K\",K7:K104,\"B\")","v":0},{"$f":"COUNTIFS(H7:H104,\"K\",K7:K104,\"C\")","v":0},null,null,"00:00:00","00:00:00",0,{"$f":"SpellNumber((AI61))","v":"No Dollars and No Cents"},3,"No "]
["00:00:00",null,null,null,null,0,null,null,0,null,null,{"$f":"IFERROR(VLOOKUP(K62,$AD$7:AE64,2,FALSE),0)","v":0},null,null,0,null,null,null,null,null,null,"L",{"$f":"COUNTIFS(E7:E104,\"L\",K7:K104,\"A\")","v":0},{"$f":"COUNTIFS(E7:E104,\"L\",K7:K104,\"B\")","v":0},{"$f":"COUNTIFS(E7:E104,\"L\",K7:K104,\"C\")","v":0},null,"L",{"$f":"COUNTIFS(H7:H104,\"L\",K7:K104,\"A\")","v":0},{"$f":"COUNTIFS(H7:H104,\"L\",K7:K104,\"B\")","v":0},{"$f":"COUNTIFS(H7:H104,\"L\",K7:K104,\"C\")","v":0},null,null,"00:00:00","00:00:00",0,{"$f":"SpellNumber((AI62))","v":"No Dollars and No Cents"},3,"No "]
["00:00:00",null,null,null,null,0,null,null,0,null,null,{"$f":"IFERROR(VLOOKUP(K63,$AD$7:AE65,2,FALSE),0)","v":0},null,null,0,null,null,null,null,null,null,null,"Beh & Consequences",null,null,null,null,null,null,null,null,null,"00:00:00","00:00:00",0,{"$f":"SpellNumber((AI63))","v":"No Dollars and No Cents"},3,"No "]
["00:00:00",null,null,null,null,0,null,null,0,null,null,{"$f":"IFERROR(VLOOKUP(K64,$AD$7:AE66,2,FALSE),0)","v":0},null,null,0,null,null,null,null,null,null,null,"A","B","C",null,null,null,null,null,null,null,"00:00:00","00:00:00",0,{"$f":"SpellNumber((AI64))","v":"No Dollars and No Cents"},3,"No "]
["00:00:00",null,null,null,null,0,null,null,0,null,null,{"$f":"IFERROR(VLOOKUP(K65,$AD$7:AE67,2,FALSE),0)","v":0},null,null,0,null,null,null,null,null,null,"A",{"$f":"COUNTIFS(N7:N104,\"A\",K7:K104,\"A\")","v":0},{"$f":"COUNTIFS(N7:N104,\"A\",K7:K104,\"B\")","v":0},{"$f":"COUNTIFS(N7:N104,\"A\",K7:K104,\"C\")","v":0},null,null,null,null,null,null,null,"00:00:00","00:00:00",0,{"$f":"SpellNumber((AI65))","v":"No Dollars and No Cents"},3,"No "]
["00:00:00",null,null,null,null,0,null,null,0,null,null,{"$f":"IFERROR(VLOOKUP(K66,$AD$7:AE68,2,FALSE),0)","v":0},null,null,0,null,null,null,null,null,null,"B",{"$f":"COUNTIFS(N7:N104,\"B\",K7:K104,\"A\")","v":0},{"$f":"COUNTIFS(N7:N104,\"B\",K7:K104,\"B\")","v":0},{"$f":"COUNTIFS(N7:N104,\"B\",K7:K104,\"C\")","v":0},null,null,null,null,null,null,null,"00:00:00","00:00:00",0,{"$f":"SpellNumber((AI66))","v":"No Dollars and No Cents"},3,"No "]
["00:00:00",null,null,null,null,0,null,null,0,null,null,{"$f":"IFERROR(VLOOKUP(K67,$AD$7:AE69,2,FALSE),0)","v":0},null,null,0,null,null,null,null,null,null,"C",{"$f":"COUNTIFS(N7:N104,\"C\",K7:K104,\"A\")","v":0},{"$f":"COUNTIFS(N7:N104,\"C\",K7:K104,\"B\")","v":0},{"$f":"COUNTIFS(N7:N104,\"C\",K7:K104,\"C\")","v":0},null,null,null,null,null,null,null,"00:00:00","00:00:00",0,{"$f":"SpellNumber((AI67))","v":"No Dollars and No Cents"},3,"No "]
["00:00:00",null,null,null,null,0,null,null,0,null,null,{"$f":"IFERROR(VLOOKUP(K68,$AD$7:AE70,2,FALSE),0)","v":0},null,null,0,null,null,null,null,null,null,"D",{"$f":"COUNTIFS(N7:N104,\"D\",K7:K104,\"A\")","v":0},{"$f":"COUNTIFS(N7:N104,\"D\",K7:K104,\"B\")","v":0},{"$f":"COUNTIFS(N7:N104,\"D\",K7:K104,\"C\")","v":0},null,null,null,null,null,null,null,"00:00:00","00:00:00",0,{"$f":"SpellNumber((AI68))","v":"No Dollars and No Cents"},3,"No "]
["00:00:00",null,null,null,null,0,null,null,0,null,null,{"$f":"IFERROR(VLOOKUP(K69,$AD$7:AE71,2,FALSE),0)","v":0},null,null,0,null,null,null,null,null,null,"E",{"$f":"COUNTIFS(N7:N104,\"E\",K7:K104,\"A\")","v":0},{"$f":"COUNTIFS(N7:N104,\"E\",K7:K104,\"B\")","v":0},{"$f":"COUNTIFS(N7:N104,\"E\",K7:K104,\"C\")","v":0},null,null,null,null,null,null,null,"00:00:00","00:00:00",0,{"$f":"SpellNumber((AI69))","v":"No Dollars and No Cents"},3,"No "]
["00:00:00",null,null,null,null,0,null,null,0,null,null,{"$f":"IFERROR(VLOOKUP(K70,$AD$7:AE72,2,FALSE),0)","v":0},null,null,0,null,null,null,null,null,null,"F",{"$f":"COUNTIFS(N7:N104,\"F\",K7:K104,\"A\")","v":0},{"$f":"COUNTIFS(N7:N104,\"F\",K7:K104,\"B\")","v":0},{"$f":"COUNTIFS(N7:N104,\"F\",K7:K104,\"C\")","v":0},null,null,null,null,null,null,null,"00:00:00","00:00:00",0,{"$f":"SpellNumber((AI70))","v":"No Dollars and No Cents"},3,"No "]
["00:00:00",null,null,null,null,0,null,null,0,null,null,{"$f":"IFERROR(VLOOKUP(K71,$AD$7:AE73,2,FALSE),0)","v":0},null,null,0,null,null,null,null,null,null,"G",{"$f":"COUNTIFS(N7:N104,\"G\",K7:K104,\"A\")","v":0},{"$f":"COUNTIFS(N7:N104,\"G\",K7:K104,\"B\")","v":0},{"$f":"COUNTIFS(N7:N104,\"G\",K7:K104,\"C\")","v":0},null,null,null,null,null,null,null,"00:00:00","00:00:00",0,{"$f":"SpellNumber((AI71))","v":"No Dollars and No Cents"},3,"No "]
[{"$f":"C72-B72","v":"00:00:00"},null,null,null,null,0,null,null,{"$f":"IFERROR(VLOOKUP(H72,$Z$7:$AA$18,2,FALSE),0)","v":0},null,null,{"$f":"IFERROR(VLOOKUP(K72,$AD$7:AE74,2,FALSE),0)","v":0},null,null,{"$f":"IFERROR(VLOOKUP(N72,$V$22:$W$33,2,FALSE),0)","v":0},null,null,null,null,null,null,"H",{"$f":"COUNTIFS(N7:N104,\"H\",K7:K104,\"A\")","v":0},{"$f":"COUNTIFS(N7:N104,\"H\",K7:K104,\"B\")","v":0},{"$f":"COUNTIFS(N7:N104,\"H\",K7:K104,\"C\")","v":0},null,null,null,null,null,null,null,{"$f":"B72","v":"00:00:00"},{"$f":"TEXT(AG72,\"hh:mm:ss\")","v":"00:00:00"},{"$f":"AG72*24","v":0},{"$f":"SpellNumber((AI72))","v":"No Dollars and No Cents"},{"$f":"FIND(\" Dollar\",AJ72)","v":3},{"$f":"LEFT(AJ72,AK72)","v":"No "}]
["00:00:00",null,null,null,null,{"$f":"IFERROR(VLOOKUP(E73,$V$7:$W$18,2,FALSE),0)","v":0},null,null,0,null,null,{"$f":"IFERROR(VLOOKUP(K73,$AD$7:AE75,2,FALSE),0)","v":0},null,null,0,null,null,null,null,null,null,"I",{"$f":"COUNTIFS(N7:N104,\"I\",K7:K104,\"A\")","v":0},{"$f":"COUNTIFS(N7:N104,\"I\",K7:K104,\"B\")","v":0},{"$f":"COUNTIFS(N7:N104,\"I\",K7:K104,\"C\")","v":0},null,null,null,null,null,null,null,"00:00:00","00:00:00",0,{"$f":"SpellNumber((AI73))","v":"No Dollars and No Cents"},3,"No "]
["00:00:00",null,null,null,null,0,null,null,0,null,null,{"$f":"IFERROR(VLOOKUP(K74,$AD$7:AE76,2,FALSE),0)","v":0},null,null,0,null,null,null,null,null,null,"J",{"$f":"COUNTIFS(N7:N104,\"J\",K7:K104,\"A\")","v":0},{"$f":"COUNTIFS(N7:N104,\"J\",K7:K104,\"B\")","v":0},{"$f":"COUNTIFS(N7:N104,\"J\",K7:K104,\"C\")","v":0},null,null,null,null,null,null,null,"00:00:00","00:00:00",0,{"$f":"SpellNumber((AI74))","v":"No Dollars and No Cents"},3,"No "]
["00:00:00",null,null,null,null,0,null,null,0,null,null,{"$f":"IFERROR(VLOOKUP(K75,$AD$7:AE77,2,FALSE),0)","v":0},null,null,0,null,null,null,null,null,null,"K",{"$f":"COUNTIFS(N7:N104,\"K\",K7:K104,\"A\")","v":0},{"$f":"COUNTIFS(N7:N104,\"K\",K7:K104,\"B\")","v":0},{"$f":"COUNTIFS(N7:N104,\"K\",K7:K104,\"C\")","v":0},null,null,null,null,null,null,null,"00:00:00","00:00:00",0,{"$f":"SpellNumber((AI75))","v":"No Dollars and No Cents"},3,"No "]
["00:00:00",null,null,null,null,0,null,null,0,null,null,{"$f":"IFERROR(VLOOKUP(K76,$AD$7:AE78,2,FALSE),0)","v":0},null,null,0,null,null,null,null,null,null,"L",{"$f":"COUNTIFS(N7:N104,\"L\",K7:K104,\"A\")","v":0},{"$f":"COUNTIFS(N7:N104,\"L\",K7:K104,\"B\")","v":0},{"$f":"COUNTIFS(N7:N104,\"L\",K7:K104,\"C\")","v":0},null,null,null,null,null,null,null,"00:00:00","00:00:00",0,{"$f":"SpellNumber((AI76))","v":"No Dollars and No Cents"},3,"No "]
["00:00:00",null,null,null,null,0,null,null,0,null,null,{"$f":"IFERROR(VLOOKUP(K77,$AD$7:AE79,2,FALSE),0)","v":0},null,null,0,null,null,null,null,null,null,null,null,null,null,null,null,null,null,null,null,null,"00:00:00","00:00:00",0,{"$f":"SpellNumber((AI77))","v":"No Dollars and No Cents"},3,"No "]
["00:00:00",null,null,null,null,0,null,null,0,null,null,{"$f":"IFERROR(VLOOKUP(K78,$AD$7:AE80,2,FALSE),0)","v":0},null,null,0,null,null,null,null,null,null,null,null,null,null,null,null,null,null,null,null,null,"00:00:00","00:00:00",0,{"$f":"SpellNumber((AI78))","v":"No Dollars and No Cents"},3,"No "]
["00:00:00",null,null,null,null,0,null,null,0,null,null,{"$f":"IFERROR(VLOOKUP(K79,$AD$7:AE81,2,FALSE),0)","v":0},null,null,0,null,null,null,null,null,null,null,null,null,null,null,null,null,null,null,null,null,"00:00:00","00:00:00",0,{"$f":"SpellNumber((AI79))","v":"No Dollars and No Cents"},3,"No "]
["00:00:00",null,null,null,null,0,null,null,0,null,null,{"$f":"IFERROR(VLOOKUP(K80,$AD$7:AE82,2,FALSE),0)","v":0},null,null,0,null,null,null,null,null,null,null,null,null,null,null,null,null,null,null,null,null,"00:00:00","00:00:00",0,{"$f":"SpellNumber((AI80))","v":"No Dollars and No Cents"},3,"No "]
["00:00:00",null,null,null,null,0,null,null,0,null,null,{"$f":"IFERROR(VLOOKUP(K81,$AD$7:AE83,2,FALSE),0)","v":0},null,null,0,null,null,null,null,null,null,null,null,null,null,null,null,null,null,null,null,null,"00:00:00","00:00:00",0,{"$f":"SpellNumber((AI81))","v":"No Dollars and No Cents"},3,"No "]
["00:00:00",null,null,null,null,0,null,null,0,null,null,{"$f":"IFERROR(VLOOKUP(K82,$AD$7:AE84,2,FALSE),0)","v":0},null,null,0,null,null,null,null,null,null,null,null,null,null,null,null,null,null,null,null,null,"00:00:00","00:00:00",0,{"$f":"SpellNumber((AI82))","v":"No Dollars and No Cents"},3,"No "]
["00:00:00",null,null,null,null,0,null,null,0,null,null,{"$f":"IFERROR(VLOOKUP(K83,$AD$7:AE85,2,FALSE),0)","v":0},null,null,0,null,null,null,null,null,null,null,null,null,null,null,null,null,null,null,null,null,"00:00:00","00:00:00",0,{"$f":"SpellNumber((AI83))","v":"No Dollars and No Cents"},3,"No "]
["00:00:00",null,null,null,null,0,null,null,0,null,null,{"$f":"IFERROR(VLOOKUP(K84,$AD$7:AE86,2,FALSE),0)","v":0},null,null,0,null,null,null,null,null,null,null,null,null,null,null,null,null,null,null,null,null,"00:00:00","00:00:00",0,{"$f":"SpellNumber((AI84))","v":"No Dollars and No Cents"},3,"No "]
["00:00:00",null,null,null,null,0,null,null,0,null,null,{"$f":"IFERROR(VLOOKUP(K85,$AD$7:AE87,2,FALSE),0)","v":0},null,null,0,null,null,null,null,null,null,null,null,null,null,null,null,null,null,null,null,null,"00:00:00","00:00:00",0,{"$f":"SpellNumber((AI85))","v":"No Dollars and No Cents"},3,"No "]
["00:00:00",null,null,null,null,0,null,null,0,null,null,{"$f":"IFERROR(VLOOKUP(K86,$AD$7:AE88,2,FALSE),0)","v":0},null,null,0,null,null,null,null,null,null,null,null,null,null,null,null,null,null,null,null,null,"00:00:00","00:00:00",0,{"$f":"SpellNumber((AI86))","v":"No Dollars and No Cents"},3,"No "]
["00:00:00",null,null,null,null,0,null,null,0,null,null,{"$f":"IFERROR(VLOOKUP(K87,$AD$7:AE89,2,FALSE),0)","v":0},null,null,0,null,null,null,null,null,null,null,null,null,null,null,null,null,null,null,null,null,"00:00:00","00:00:00",0,{"$f":"SpellNumber((AI87))","v":"No Dollars and No Cents"},3,"No "]
["00:00:00",null,null,null,null,0,null,null,0,null,null,{"$f":"IFERROR(VLOOKUP(K88,$AD$7:AE90,2,FALSE),0)","v":0},null,null,0,null,null,null,null,null,null,null,null,null,null,null,null,null,null,null,null,null,"00:00:00","00:00:00",0,{"$f":"SpellNumber((AI88))","v":"No Dollars and No Cents"},3,"No "]
["00:00:00",null,null,null,null,0,null,null,0,null,null,{"$f":"IFERROR(VLOOKUP(K89,$AD$7:AE91,2,FALSE),0)","v":0},null,null,0,null,null,null,null,null,null,null,null,null,null,null,null,null,null,null,null,null,"00:00:00","00:00:00",0,{"$f":"SpellNumber((AI89))","v":"No Dollars and No Cents"},3,"No "]
["00:00:00",null,null,null,null,0,null,null,0,null,null,{"$f":"IFERROR(VLOOKUP(K90,$AD$7:AE92,2,FALSE),0)","v":0},null,null,0,null,null,null,null,null,null,null,null,null,null,null,null,null,null,null,null,null,"00:00:00","00:00:00",0,{"$f":"SpellNumber((AI90))","v":"No Dollars and No Cents"},3,"No "]
["00:00:00",null,null,null,null,0,null,null,0,null,null,{"$f":"IFERROR(VLOOKUP(K91,$AD$7:AE93,2,FALSE),0)","v":0},null,null,0,null,null,null,"Total Mins",{"$f":"SUM(A7:A104)","v":"00:00:00"},null,null,null,null,null,null,null,null,null,null,null,null,"00:00:00","00:00:00",0,{"$f":"SpellNumber((AI91))","v":"No Dollars and No Cents"},3,"No "]
["00:00:00",null,null,null,null,0,null,null,0,null,null,{"$f":"IFERROR(VLOOKUP(K92,$AD$7:AE94,2,FALSE),0)","v":0},null,null,0,null,null,null,"Settings:","A",{"$f":"COUNTIF(E4:E104,\"A\")","v":0},"Antec.","A",{"$f":"COUNTIF(H4:H104,\"A\")","v":0},"Beh","A",{"$f":"COUNTIF(L4:L104,\"A\")","v":0},"Conse.","A",{"$f":"COUNTIF(O4:O104,\"A\")","v":0},null,null,"00:00:00","00:00:00",0,{"$f":"SpellNumber((AI92))","v":"No Dollars and No Cents"},3,"No "]
["00:00:00",null,null,null,null,0,null,null,0,null,null,{"$f":"IFERROR(VLOOKUP(K93,$AD$7:AE95,2,FALSE),0)","v":0},null,null,0,null,null,null,null,"B",{"$f":"COUNTIF(E5:E105,\"B\")","v":0},null,"B",{"$f":"COUNTIF(H5:H105,\"B\")","v":0},null,"B",{"$f":"COUNTIF(L5:L105,\"B\")","v":0},null,"B",{"$f":"COUNTIF(O5:O105,\"B\")","v":0},null,null,"00:00:00","00:00:00",0,{"$f":"SpellNumber((AI93))","v":"No Dollars and No Cents"},3,"No "]
["00:00:00",null,null,null,null,0,null,null,0,null,null,{"$f":"IFERROR(VLOOKUP(K94,$AD$7:AE96,2,FALSE),0)","v":0},null,null,0,null,null,null,null,"C",{"$f":"COUNTIF(E6:E106,\"C\")","v":0},null,"C",{"$f":"COUNTIF(H6:H106,\"C\")","v":0},null,"C",{"$f":"COUNTIF(L6:L106,\"C\")","v":0},null,"C",{"$f":"COUNTIF(O6:O106,\"C\")","v":0},null,null,"00:00:00","00:00:00",0,{"$f":"SpellNumber((AI94))","v":"No Dollars and No Cents"},3,"No "]
["00:00:00",null,null,null,null,0,null,null,0,null,null,{"$f":"IFERROR(VLOOKUP(K95,$AD$7:AE97,2,FALSE),0)","v":0},null,null,0,null,null,null,null,"D",{"$f":"COUNTIF(E7:E107,\"D\")","v":0},null,"D",{"$f":"COUNTIF(H7:H107,\"D\")","v":0},null,null,null,null,"D",{"$f":"COUNTIF(O7:O107,\"D\")","v":0},null,null,"00:00:00","00:00:00",0,{"$f":"SpellNumber((AI95))","v":"No Dollars and No Cents"},3,"No "]
["00:00:00",null,null,null,null,0,null,null,0,null,null,{"$f":"IFERROR(VLOOKUP(K96,$AD$7:AE98,2,FALSE),0)","v":0},null,null,0,null,null,null,null,"E",{"$f":"COUNTIF(E8:E108,\"E\")","v":0},null,"E",{"$f":"COUNTIF(H8:H108,\"E\")","v":0},null,null,null,null,"E",{"$f":"COUNTIF(O8:O108,\"E\")","v":0},null,null,"00:00:00","00:00:00",0,{"$f":"SpellNumber((AI96))","v":"No Dollars and No Cents"},3,"No "]
["00:00:00",null,null,null,null,0,null,null,0,null,null,{"$f":"IFERROR(VLOOKUP(K97,$AD$7:AE99,2,FALSE),0)","v":0},null,null,0,null,null,null,null,"F",{"$f":"COUNTIF(E9:E109,\"F\")","v":0},null,"F",{"$f":"COUNTIF(H9:H109,\"F\")","v":0},null,null,null,null,"F",{"$f":"COUNTIF(O9:O109,\"F\")","v":0},null,null,"00:00:00","00:00:00",0,{"$f":"SpellNumber((AI97))","v":"No Dollars and No Cents"},3,"No "]
["00:00:00",null,null,null,null,0,null,null,0,null,null,{"$f":"IFERROR(VLOOKUP(K98,$AD$7:AE100,2,FALSE),0)","v":0},null,null,0,null,null,null,null,"G",{"$f":"COUNTIF(E10:E110,\"G\")","v":0},null,"G",{"$f":"COUNTIF(H10:H110,\"G\")","v":0},null,null,null,null,"G",{"$f":"COUNTIF(O10:O110,\"G\")","v":0},null,null,"00:00:00","00:00:00",0,{"$f":"SpellNumber((AI98))","v":"No Dollars and No Cents"},3,"No "]
["00:00:00",null,null,null,null,0,null,null,0,null,null,{"$f":"IFERROR(VLOOKUP(K99,$AD$7:AE101,2,FALSE),0)","v":0},null,null,0,null,null,null,null,"H",{"$f":"COUNTIF(E11:E111,\"H\")","v":0},null,"H",{"$f":"COUNTIF(H11:H111,\"H\")","v":0},null,null,null,null,"H",{"$f":"COUNTIF(O11:O111,\"H\")","v":0},null,null,"00:00:00","00:00:00",0,{"$f":"SpellNumber((AI99))","v":"No Dollars and No Cents"},3,"No "]
["00:00:00",null,null,null,null,0,null,null,0,null,null,{"$f":"IFERROR(VLOOKUP(K100,$AD$7:AE102,2,FALSE),0)","v":0},null,null,0,null,null,null,null,"I",{"$f":"COUNTIF(E12:E112,\"I\")","v":0},null,"I",{"$f":"COUNTIF(H12:H112,\"I\")","v":0},null,null,null,null,"I",{"$f":"COUNTIF(O12:O112,\"I\")","v":0},null,null,"00:00:00","00:00:00",0,{"$f":"SpellNumber((AI100))","v":"No Dollars and No Cents"},3,"No "]
["00:00:00",null,null,null,null,0,null,null,0,null,null,{"$f":"IFERROR(VLOOKUP(K101,$AD$7:AE103,2,FALSE),0)","v":0},null,null,0,null,null,null,null,"J",{"$f":"COUNTIF(E13:E113,\"J\")","v":0},null,"J",{"$f":"COUNTIF(H13:H113,\"J\")","v":0},null,null,null,null,"J",{"$f":"COUNTIF(O13:O113,\"J\")","v":0},null,null,"00:00:00","00:00:00",0,{"$f":"SpellNumber((AI101))","v":"No Dollars and No Cents"},3,"No "]
["00:00:00",null,null,null,null,0,null,null,0,null,null,{"$f":"IFERROR(VLOOKUP(K102,$AD$7:AE104,2,FALSE),0)","v":0},null,null,0,null,null,null,null,"K",{"$f":"COUNTIF(E14:E114,\"K\")","v":0},null,"K",{"$f":"COUNTIF(H14:H114,\"K\")","v":0},null,null,null,null,"K",{"$f":"COUNTIF(O14:O114,\"K\")","v":0},null,null,"00:00:00","00:00:00",0,{"$f":"SpellNumber((AI102))","v":"No Dollars and No Cents"},3,"No "]
["00:00:00",null,null,null,null,0,null,null,0,null,null,{"$f":"IFERROR(VLOOKUP(K103,$AD$7:AE105,2,FALSE),0)","v":0},null,null,0,null,null,null,null,"L",{"$f":"COUNTIF(E15:E115,\"L\")","v":0},null,"L",{"$f":"COUNTIF(H15:H115,\"L\")","v":0},null,null,null,null,"L",{"$f":"COUNTIF(O15:O115,\"L\")","v":0},null,null,"00:00:00","00:00:00",0,{"$f":"SpellNumber((AI103))","v":"No Dollars and No Cents"},3,"No "]
["00:00:00",null,null,null,null,0,null,null,0,null,null,{"$f":"IFERROR(VLOOKUP(K104,$AD$7:AE106,2,FALSE),0)","v":0},null,null,0,null,null,null,null,null,null,null,null,null,null,null,null,null,null,null,null,null,"00:00:00","00:00:00",0,{"$f":"SpellNumber((AI104))","v":"No Dollars and No Cents"},3,"No "]

{"sheet":"Data 29","index":37,"n_rows":104,"n_cols":38,"rows_kept":104,"cut":false,"hidden":false,"merged":[[0,7,3,14]]}
["ATTENDANCE",null,null,null,null,null,null,"Data Collection"]
["If tardy, arrival time",null,null,null,null,null,null,null,null,null,null,null,null,null,null,null,null,null,null,null,null,null,"Date",{"$f":"Calendar!C9","v":{"$error":"#N/A"}},{"$f":"TEXT(X2,\"ddd\")","v":{"$error":"#N/A"}}]
["If left early, time",null,null,null,null,null,null,null,null,null,null,null,null,null,null,null,null,null,null,null,null,null,"Frq. Of bx",{"$f":"AA22","v":0}]
[]
[]
["Mins.","Start Time","End Time",null,null,null,null,null,null,null,null,null,null,null,null,null,null,null,null,null,null,null,"Setting",null,null,"Ant",null,null,null,"Beh",null,null,"Raw Data","Time in text","Decimal"]
[{"$f":"C7-B7","v":"00:00:00"},null,null,null,null,{"$f":"IFERROR(VLOOKUP(E7,$V$7:$W$18,2,FALSE),0)","v":0},null,null,{"$f":"IFERROR(VLOOKUP(H7,$Z$7:$AA$18,2,FALSE),0)","v":0},null,null,{"$f":"IFERROR(VLOOKUP(K7,$AD$7:AE9,2,FALSE),0)","v":0},null,null,{"$f":"IFERROR(VLOOKUP(N7,$V$22:$W$33,2,FALSE),0)","v":0},null,null,null,null,null,null,"A",{"$f":"Criteria!C4","v":"Transition"},null,null,"A",{"$f":"Criteria!E4","v":"Transition"},null,null,"A",{"$f":"Criteria!G4","v":0},null,{"$f":"B7","v":"00:00:00"},{"$f":"TEXT(AG7,\"hh:mm:ss\")","v":"00:00:00"},{"$f":"AG7*24","v":0},{"$f":"SpellNumber((AI7))","v":"No Dollars and No Cents"},{"$f":"FIND(\" Dollar\",AJ7)","v":3},{"$f":"LEFT(AJ7,AK7)","v":"No "}]
[{"$f":"C8-B8","v":"00:00:00"},null,null,null,null,{"$f":"IFERROR(VLOOKUP(E8,$V$7:$W$18,2,FALSE),0)","v":0},null,null,{"$f":"IFERROR(VLOOKUP(H8,$Z$7:$AA$18,2,FALSE),0)","v":0},null,null,{"$f":"IFERROR(VLOOKUP(K8,$AD$7:AE10,2,FALSE),0)","v":0},null,null,{"$f":"IFERROR(VLOOKUP(N8,$V$22:$W$33,2,FALSE),0)","v":0},null,null,null,null,null,null,"B",{"$f":"Criteria!C5","v":"Morning Routine"},null,null,"B",{"$f":"Criteria!E5","v":"Denied access ('No')"},null,null,"B",{"$f":"Criteria!G5","v":0},null,{"$f":"B8","v":"00:00:00"},{"$f":"TEXT(AG8,\"hh:mm:ss\")","v":"00:00:00"},{"$f":"AG8*24","v":0},{"$f":"SpellNumber((AI8))","v":"No Dollars and No Cents"},{"$f":"FIND(\" Dollar\",AJ8)","v":3},{"$f":"LEFT(AJ8,AK8)","v":"No "}]
["00:00:00",null,null,null,null,{"$f":"IFERROR(VLOOKUP(E9,$V$7:$W$18,2,FALSE),0)","v":0},null,null,0,null,null,{"$f":"IFERROR(VLOOKUP(K9,$AD$7:AE11,2,FALSE),0)","v":0},null,null,0,null,null,null,null,null,null,"C",{"$f":"Criteria!C6","v":"Group Work"},null,null,"C",{"$f":"Criteria!E6","v":"Instruction/ Directions"},null,null,"C",{"$f":"Criteria!G6","v":0},null,"00:00:00","00:00:00",0,{"$f":"SpellNumber((AI9))","v":"No Dollars and No Cents"},3,"No "]
["00:00:00",null,null,null,null,0,null,null,0,null,null,{"$f":"IFERROR(VLOOKUP(K10,$AD$7:AE12,2,FALSE),0)","v":0},null,null,0,null,null,null,null,null,null,"D",{"$f":"Criteria!C7","v":"Ind. Seat/Work Time"},null,null,"D",{"$f":"Criteria!E7","v":"New Task"},null,null,null,null,null,"00:00:00","00:00:00",0,{"$f":"SpellNumber((AI10))","v":"No Dollars and No Cents"},3,"No "]
["00:00:00",null,null,null,null,0,null,null,0,null,null,{"$f":"IFERROR(VLOOKUP(K11,$AD$7:AE13,2,FALSE),0)","v":0},null,null,0,null,null,null,null,null,null,"E",{"$f":"Criteria!C8","v":"Language Arts"},null,null,"E",{"$f":"Criteria!E8","v":"Tcher attn to other"},null,null,null,null,null,"00:00:00","00:00:00",0,{"$f":"SpellNumber((AI11))","v":"No Dollars and No Cents"},3,"No "]
["00:00:00",null,null,null,null,0,null,null,0,null,null,{"$f":"IFERROR(VLOOKUP(K12,$AD$7:AE14,2,FALSE),0)","v":0},null,null,0,null,null,null,null,null,null,"F",{"$f":"Criteria!C9","v":"Mathematics"},null,null,"F",{"$f":"Criteria!E9","v":"Choice given"},null,null,null,null,null,"00:00:00","00:00:00",0,{"$f":"SpellNumber((AI12))","v":"No Dollars and No Cents"},3,"No "]
["00:00:00",null,null,null,null,0,null,null,0,null,null,{"$f":"IFERROR(VLOOKUP(K13,$AD$7:AE15,2,FALSE),0)","v":0},null,null,0,null,null,null,null,null,null,"G",{"$f":"Criteria!C10","v":"Physical Education"},null,null,"G",{"$f":"Criteria!E10","v":"Redirection"},null,null,null,null,null,"00:00:00","00:00:00",0,{"$f":"SpellNumber((AI13))","v":"No Dollars and No Cents"},3,"No "]
["00:00:00",null,null,null,null,0,null,null,0,null,null,{"$f":"IFERROR(VLOOKUP(K14,$AD$7:AE16,2,FALSE),0)","v":0},null,null,0,null,null,null,null,null,null,"H",{"$f":"Criteria!C11","v":"Music/Art"},null,null,"H",{"$f":"Criteria!E11","v":"Routine Task"},null,null,null,null,null,"00:00:00","00:00:00",0,{"$f":"SpellNumber((AI14))","v":"No Dollars and No Cents"},3,"No "]
["00:00:00",null,null,null,null,0,null,null,0,null,null,{"$f":"IFERROR(VLOOKUP(K15,$AD$7:AE17,2,FALSE),0)","v":0},null,null,0,null,null,null,null,null,null,"I",{"$f":"Criteria!C12","v":"Speech"},null,null,"I",{"$f":"Criteria!E12","v":"Waiting"},null,null,null,null,null,"00:00:00","00:00:00",0,{"$f":"SpellNumber((AI15))","v":"No Dollars and No Cents"},3,"No "]
["00:00:00",null,null,null,null,0,null,null,0,null,null,{"$f":"IFERROR(VLOOKUP(K16,$AD$7:AE18,2,FALSE),0)","v":0},null,null,0,null,null,null,null,null,null,"J",{"$f":"Criteria!C13","v":"OT/PT"},null,null,"J",{"$f":"Criteria!E13","v":"Unknown"},null,null,null,null,null,"00:00:00","00:00:00",0,{"$f":"SpellNumber((AI16))","v":"No Dollars and No Cents"},3,"No "]
["00:00:00",null,null,null,null,0,null,null,0,null,null,{"$f":"IFERROR(VLOOKUP(K17,$AD$7:AE19,2,FALSE),0)","v":0},null,null,0,null,null,null,null,null,null,"K",{"$f":"Criteria!C14","v":"Center"},null,null,"K",{"$f":"Criteria!E14","v":"Ignored"},null,null,null,null,null,"00:00:00","00:00:00",0,{"$f":"SpellNumber((AI17))","v":"No Dollars and No Cents"},3,"No "]
["00:00:00",null,null,null,null,0,null,null,0,null,null,{"$f":"IFERROR(VLOOKUP(K18,$AD$7:AE20,2,FALSE),0)","v":0},null,null,0,null,null,null,null,null,null,"L",{"$f":"Criteria!C15","v":"Other"},null,null,"L",{"$f":"Criteria!E15","v":"Other"},null,null,null,null,null,"00:00:00","00:00:00",0,{"$f":"SpellNumber((AI18))","v":"No Dollars and No Cents"},3,"No "]
["00:00:00",null,null,null,null,0,null,null,0,null,null,{"$f":"IFERROR(VLOOKUP(K19,$AD$7:AE21,2,FALSE),0)","v":0},null,null,0,null,null,null,null,null,null,null,null,null,null,null,null,null,null,null,null,null,"00:00:00","00:00:00",0,{"$f":"SpellNumber((AI19))","v":"No Dollars and No Cents"},3,"No "]
["00:00:00",null,null,null,null,0,null,null,0,null,null,{"$f":"IFERROR(VLOOKUP(K20,$AD$7:AE22,2,FALSE),0)","v":0},null,null,0,null,null,null,null,null,null,null,null,null,null,null,null,null,null,null,null,null,"00:00:00","00:00:00",0,{"$f":"SpellNumber((AI20))","v":"No Dollars and No Cents"},3,"No "]
["00:00:00",null,null,null,null,0,null,null,0,null,null,{"$f":"IFERROR(VLOOKUP(K21,$AD$7:AE23,2,FALSE),0)","v":0},null,null,0,null,null,null,null,null,null,null,"Con",null,"Bx Frequency Per Day",null,null,null,null,null,null,null,"00:00:00","00:00:00",0,{"$f":"SpellNumber((AI21))","v":"No Dollars and No Cents"},3,"No "]
["00:00:00",null,null,null,null,0,null,null,0,null,null,{"$f":"IFERROR(VLOOKUP(K22,$AD$7:AE24,2,FALSE),0)","v":0},null,null,0,null,null,null,null,null,null,"A",{"$f":"Criteria!I4","v":"Choice Given"},"A",{"$f":"COUNTIF(K7:K104,\"A\")","v":0},null,{"$f":"SUM(Y22:Y24)","v":0},null,"Bin Dec","Frequency of Time",null,null,"00:00:00","00:00:00",0,{"$f":"SpellNumber((AI22))","v":"No Dollars and No Cents"},3,"No "]
["00:00:00",null,null,null,null,0,null,null,0,null,null,{"$f":"IFERROR(VLOOKUP(K23,$AD$7:AE25,2,FALSE),0)","v":0},null,null,0,null,null,null,null,null,null,"B",{"$f":"Criteria!I5","v":"Ignored"},"B",{"$f":"COUNTIF(K7:K104,\"B\")","v":0},null,null,null,"Seven",{"$f":"COUNTIF(AL7:AL104,\"*Seven*\")","v":0},null,null,"00:00:00","00:00:00",0,{"$f":"SpellNumber((AI23))","v":"No Dollars and No Cents"},3,"No "]
["00:00:00",null,null,null,null,0,null,null,0,null,null,{"$f":"IFERROR(VLOOKUP(K24,$AD$7:AE26,2,FALSE),0)","v":0},null,null,0,null,null,null,null,null,null,"C",{"$f":"Criteria!I6","v":"Redirection"},"C",{"$f":"COUNTIF(K7:K104,\"C\")","v":0},null,null,null,"Eight",{"$f":"COUNTIF(AL7:AL104,\"*Eight*\")","v":0},null,null,"00:00:00","00:00:00",0,{"$f":"SpellNumber((AI24))","v":"No Dollars and No Cents"},3,"No "]
["00:00:00",null,null,null,null,0,null,null,0,null,null,{"$f":"IFERROR(VLOOKUP(K25,$AD$7:AE27,2,FALSE),0)","v":0},null,null,0,null,null,null,null,null,null,"D",{"$f":"Criteria!I7","v":"Kept the demand"},null,"Bx Druation Per Day",null,null,null,"Nine",{"$f":"COUNTIF(AL7:AL104,\"*Nine*\")","v":0},null,null,"00:00:00","00:00:00",0,{"$f":"SpellNumber((AI25))","v":"No Dollars and No Cents"},3,"No "]
["00:00:00",null,null,null,null,0,null,null,0,null,null,{"$f":"IFERROR(VLOOKUP(K26,$AD$7:AE28,2,FALSE),0)","v":0},null,null,0,null,null,null,null,null,null,"E",{"$f":"Criteria!I8","v":"Changed activity"},"A",{"$f":"SUMIF(K7:K104,\"A\",A7:A104)","v":"00:00:00"},null,null,null,"Ten",{"$f":"COUNTIF(AL7:AL12,\"*Ten*\")","v":0},null,null,"00:00:00","00:00:00",0,{"$f":"SpellNumber((AI26))","v":"No Dollars and No Cents"},3,"No "]
["00:00:00",null,null,null,null,0,null,null,0,null,null,{"$f":"IFERROR(VLOOKUP(K27,$AD$7:AE29,2,FALSE),0)","v":0},null,null,0,null,null,null,null,null,null,"F",{"$f":"Criteria!I9","v":"Verbal reprimand"},"B",{"$f":"SUMIF(K7:K104,\"B\",A7:A104)","v":"00:00:00"},null,null,null,"Eleven",{"$f":"COUNTIF(AL7:AL104,\"*Eleven*\")","v":0},null,null,"00:00:00","00:00:00",0,{"$f":"SpellNumber((AI27))","v":"No Dollars and No Cents"},3,"No "]
["00:00:00",null,null,null,null,0,null,null,0,null,null,{"$f":"IFERROR(VLOOKUP(K28,$AD$7:AE30,2,FALSE),0)","v":0},null,null,0,null,null,null,null,null,null,"G",{"$f":"Criteria!I10","v":"Told to wait"},"C",{"$f":"SUMIF(K7:K104,\"C\",A7:A104)","v":"00:00:00"},null,null,null,"Twelve",{"$f":"COUNTIF(AL7:AL104,\"*Twelve*\")","v":0},null,null,"00:00:00","00:00:00",0,{"$f":"SpellNumber((AI28))","v":"No Dollars and No Cents"},3,"No "]
["00:00:00",null,null,null,null,0,null,null,0,null,null,{"$f":"IFERROR(VLOOKUP(K29,$AD$7:AE31,2,FALSE),0)","v":0},null,null,0,null,null,null,null,null,null,"H",{"$f":"Criteria!I11","v":"Physical Prompt"},null,null,null,null,null,"One",{"$f":"COUNTIF(AL7:AL104,\"*One*\")","v":0},null,null,"00:00:00","00:00:00",0,{"$f":"SpellNumber((AI29))","v":"No Dollars and No Cents"},3,"No "]
["00:00:00",null,null,null,null,0,null,null,0,null,null,{"$f":"IFERROR(VLOOKUP(K30,$AD$7:AE32,2,FALSE),0)","v":0},null,null,0,null,null,null,null,null,null,"I",{"$f":"Criteria!I12","v":"Verbal prompt"},null,null,null,null,null,"Two",{"$f":"COUNTIF(AL7:AL104,\"*Two*\")","v":0},null,null,"00:00:00","00:00:00",0,{"$f":"SpellNumber((AI30))","v":"No Dollars and No Cents"},3,"No "]
["00:00:00",null,null,null,null,0,null,null,0,null,null,{"$f":"IFERROR(VLOOKUP(K31,$AD$7:AE33,2,FALSE),0)","v":0},null,null,0,null,null,null,null,null,null,"J",{"$f":"Criteria!I13","v":"Told to wait"},null,null,null,null,null,"Three",{"$f":"COUNTIF(AL7:AL104,\"*Three*\")","v":0},null,null,"00:00:00","00:00:00",0,{"$f":"SpellNumber((AI31))","v":"No Dollars and No Cents"},3,"No "]
["00:00:00",null,null,null,null,0,null,null,0,null,null,{"$f":"IFERROR(VLOOKUP(K32,$AD$7:AE34,2,FALSE),0)","v":0},null,null,0,null,null,null,null,null,null,"K",{"$f":"Criteria!I14","v":"Unknown"},null,null,null,null,null,"Four",{"$f":"COUNTIF(AL7:AL104,\"*Four*\")","v":0},null,null,"00:00:00","00:00:00",0,{"$f":"SpellNumber((AI32))","v":"No Dollars and No Cents"},3,"No "]
["00:00:00",null,null,null,null,0,null,null,0,null,null,{"$f":"IFERROR(VLOOKUP(K33,$AD$7:AE35,2,FALSE),0)","v":0},null,null,0,null,null,null,null,null,null,"L",{"$f":"Criteria!I15","v":"Other"},null,null,null,null,null,null,null,null,null,"00:00:00","00:00:00",0,{"$f":"SpellNumber((AI33))","v":"No Dollars and No Cents"},3,"No "]
["00:00:00",null,null,null,null,0,null,null,0,null,null,{"$f":"IFERROR(VLOOKUP(K34,$AD$7:AE36,2,FALSE),0)","v":0},null,null,0,null,null,null,null,null,null,null,null,null,null,null,null,null,null,null,null,null,"00:00:00","00:00:00",0,{"$f":"SpellNumber((AI34))","v":"No Dollars and No Cents"},3,"No "]
["00:00:00",null,null,null,null,0,null,null,0,null,null,{"$f":"IFERROR(VLOOKUP(K35,$AD$7:AE37,2,FALSE),0)","v":0},null,null,0,null,null,null,null,null,null,null,"Context Frequency","Consequence","Antedencents",null,null,null,null,null,null,null,"00:00:00","00:00:00",0,{"$f":"SpellNumber((AI35))","v":"No Dollars and No Cents"},3,"No "]
["00:00:00",null,null,null,null,0,null,null,0,null,null,{"$f":"IFERROR(VLOOKUP(K36,$AD$7:AE38,2,FALSE),0)","v":0},null,null,0,null,null,null,null,null,null,"A",{"$f":"COUNTIF(E7:E104,\"A\")","v":0},{"$f":"COUNTIF(N7:N104,\"A\")","v":0},{"$f":"COUNTIF(H7:H104,\"A\")","v":0},null,null,null,null,null,null,null,"00:00:00","00:00:00",0,{"$f":"SpellNumber((AI36))","v":"No Dollars and No Cents"},3,"No "]
["00:00:00",null,null,null,null,0,null,null,0,null,null,{"$f":"IFERROR(VLOOKUP(K37,$AD$7:AE39,2,FALSE),0)","v":0},null,null,0,null,null,null,null,null,null,"B",{"$f":"COUNTIF(E8:E105,\"B\")","v":0},{"$f":"COUNTIF(N7:N104,\"B\")","v":0},{"$f":"COUNTIF(H7:H104,\"B\")","v":0},null,null,null,null,null,null,null,"00:00:00","00:00:00",0,{"$f":"SpellNumber((AI37))","v":"No Dollars and No Cents"},3,"No "]
["00:00:00",null,null,null,null,0,null,null,0,null,null,{"$f":"IFERROR(VLOOKUP(K38,$AD$7:AE40,2,FALSE),0)","v":0},null,null,0,null,null,null,null,null,null,"C",{"$f":"COUNTIF(E8:E105,\"C\")","v":0},{"$f":"COUNTIF(N7:N104,\"C\")","v":0},{"$f":"COUNTIF(H7:H104,\"C\")","v":0},null,null,null,null,null,null,null,"00:00:00","00:00:00",0,{"$f":"SpellNumber((AI38))","v":"No Dollars and No Cents"},3,"No "]
["00:00:00",null,null,null,null,0,null,null,0,null,null,{"$f":"IFERROR(VLOOKUP(K39,$AD$7:AE41,2,FALSE),0)","v":0},null,null,0,null,null,null,null,null,null,"D",{"$f":"COUNTIF(E8:E105,\"D\")","v":0},{"$f":"COUNTIF(N7:N104,\"D\")","v":0},{"$f":"COUNTIF(H7:H104,\"D\")","v":0},null,null,null,null,null,null,null,"00:00:00","00:00:00",0,{"$f":"SpellNumber((AI39))","v":"No Dollars and No Cents"},3,"No "]
["00:00:00",null,null,null,null,0,null,null,0,null,null,{"$f":"IFERROR(VLOOKUP(K40,$AD$7:AE42,2,FALSE),0)","v":0},null,null,0,null,null,null,null,null,null,"E",{"$f":"COUNTIF(E8:E105,\"E\")","v":0},{"$f":"COUNTIF(N7:N104,\"E\")","v":0},{"$f":"COUNTIF(H7:H104,\"E\")","v":0},null,null,null,null,null,null,null,"00:00:00","00:00:00",0,{"$f":"SpellNumber((AI40))","v":"No Dollars and No Cents"},3,"No "]
["00:00:00",null,null,null,null,0,null,null,0,null,null,{"$f":"IFERROR(VLOOKUP(K41,$AD$7:AE43,2,FALSE),0)","v":0},null,null,0,null,null,null,null,null,null,"F",{"$f":"COUNTIF(E8:E105,\"F\")","v":0},{"$f":"COUNTIF(N7:N104,\"F\")","v":0},{"$f":"COUNTIF(H7:H104,\"F\")","v":0},null,null,null,null,null,null,null,"00:00:00","00:00:00",0,{"$f":"SpellNumber((AI41))","v":"No Dollars and No Cents"},3,"No "]
["00:00:00",null,null,null,null,0,null,null,0,null,null,{"$f":"IFERROR(VLOOKUP(K42,$AD$7:AE44,2,FALSE),0)","v":0},null,null,0,null,null,null,null,null,null,"G",{"$f":"COUNTIF(E8:E105,\"G\")","v":0},{"$f":"COUNTIF(N7:N104,\"G\")","v":0},{"$f":"COUNTIF(H7:H104,\"G\")","v":0},null,null,null,null,null,null,null,"00:00:00","00:00:00",0,{"$f":"SpellNumber((AI42))","v":"No Dollars and No Cents"},3,"No "]
["00:00:00",null,null,null,null,0,null,null,0,null,null,{"$f":"IFERROR(VLOOKUP(K43,$AD$7:AE45,2,FALSE),0)","v":0},null,null,0,null,null,null,null,null,null,"H",{"$f":"COUNTIF(E8:E105,\"H\")","v":0},{"$f":"COUNTIF(N7:N104,\"H\")","v":0},{"$f":"COUNTIF(H7:H104,\"H\")","v":0},null,null,null,null,null,null,null,"00:00:00","00:00:00",0,{"$f":"SpellNumber((AI43))","v":"No Dollars and No Cents"},3,"No "]
["00:00:00",null,null,null,null,0,null,null,0,null,null,{"$f":"IFERROR(VLOOKUP(K44,$AD$7:AE46,2,FALSE),0)","v":0},null,null,0,null,null,null,null,null,null,"I",{"$f":"COUNTIF(E8:E105,\"I\")","v":0},{"$f":"COUNTIF(N7:N104,\"I\")","v":0},{"$f":"COUNTIF(H7:H104,\"I\")","v":0},null,null,null,null,null,null,null,"00:00:00","00:00:00",0,{"$f":"SpellNumber((AI44))","v":"No Dollars and No Cents"},3,"No "]
["00:00:00",null,null,null,null,0,null,null,0,null,null,{"$f":"IFERROR(VLOOKUP(K45,$AD$7:AE47,2,FALSE),0)","v":0},null,null,0,null,null,null,null,null,null,"J",{"$f":"COUNTIF(E8:E105,\"J\")","v":0},{"$f":"COUNTIF(N7:N104,\"J\")","v":0},{"$f":"COUNTIF(H7:H104,\"J\")","v":0},null,null,null,null,null,null,null,"00:00:00","00:00:00",0,{"$f":"SpellNumber((AI45))","v":"No Dollars and No Cents"},3,"No "]
["00:00:00",null,null,null,null,0,null,null,0,null,null,{"$f":"IFERROR(VLOOKUP(K46,$AD$7:AE48,2,FALSE),0)","v":0},null,null,0,null,null,null,null,null,null,"K",{"$f":"COUNTIF(E8:E105,\"K\")","v":0},{"$f":"COUNTIF(N7:N104,\"K\")","v":0},{"$f":"COUNTIF(H7:H104,\"K\")","v":0},null,null,null,null,null,null,null,"00:00:00","00:00:00",0,{"$f":"SpellNumber((AI46))","v":"No Dollars and No Cents"},3,"No "]
["00:00:00",null,null,null,null,0,null,null,0,null,null,{"$f":"IFERROR(VLOOKUP(K47,$AD$7:AE49,2,FALSE),0)","v":0},null,null,0,null,null,null,null,null,null,"L",{"$f":"COUNTIF(E8:E105,\"l\")","v":0},{"$f":"COUNTIF(N7:N104,\"L\")","v":0},{"$f":"COUNTIF(H7:H104,\"L\")","v":0},null,null,null,null,null,null,null,"00:00:00","00:00:00",0,{"$f":"SpellNumber((AI47))","v":"No Dollars and No Cents"},3,"No "]
["00:00:00",null,null,null,null,0,null,null,0,null,null,{"$f":"IFERROR(VLOOKUP(K48,$AD$7:AE50,2,FALSE),0)","v":0},null,null,0,null,null,null,null,null,null,null,null,null,null,null,null,null,null,null,null,null,"00:00:00","00:00:00",0,{"$f":"SpellNumber((AI48))","v":"No Dollars and No Cents"},3,"No "]
["00:00:00",null,null,null,null,0,null,null,0,null,null,{"$f":"IFERROR(VLOOKUP(K49,$AD$7:AE51,2,FALSE),0)","v":0},null,null,0,null,null,null,null,null,null,null,"Beh & Setting ",null,null,null,"Beh & Antecedents",null,null,null,null,null,"00:00:00","00:00:00",0,{"$f":"SpellNumber((AI49))","v":"No Dollars and No Cents"},3,"No "]
["00:00:00",null,null,null,null,0,null,null,0,null,null,{"$f":"IFERROR(VLOOKUP(K50,$AD$7:AE52,2,FALSE),0)","v":0},null,null,0,null,null,null,null,null,null,null,"A","B","C",null,null,"A","B","C",null,null,"00:00:00","00:00:00",0,{"$f":"SpellNumber((AI50))","v":"No Dollars and No Cents"},3,"No "]
["00:00:00",null,null,null,null,0,null,null,0,null,null,{"$f":"IFERROR(VLOOKUP(K51,$AD$7:AE53,2,FALSE),0)","v":0},null,null,0,null,null,null,null,null,null,"A",{"$f":"COUNTIFS(E7:E104,\"A\",K7:K104,\"A\")","v":0},{"$f":"COUNTIFS(E7:E104,\"A\",K7:K104,\"B\")","v":0},{"$f":"COUNTIFS(E7:E104,\"A\",K7:K104,\"C\")","v":0},null,"A",{"$f":"COUNTIFS(H7:H104,\"a\",K7:K104,\"A\")","v":0},{"$f":"COUNTIFS(H7:H104,\"A\",K7:K104,\"B\")","v":0},{"$f":"COUNTIFS(H7:H104,\"A\",K7:K104,\"C\")","v":0},null,null,"00:00:00","00:00:00",0,{"$f":"SpellNumber((AI51))","v":"No Dollars and No Cents"},3,"No "]
["00:00:00",null,null,null,null,0,null,null,0,null,null,{"$f":"IFERROR(VLOOKUP(K52,$AD$7:AE54,2,FALSE),0)","v":0},null,null,0,null,null,null,null,null,null,"B",{"$f":"COUNTIFS(E7:E104,\"B\",K7:K104,\"A\")","v":0},{"$f":"COUNTIFS(E7:E104,\"B\",K7:K104,\"B\")","v":0},{"$f":"COUNTIFS(E7:E104,\"B\",K7:K104,\"C\")","v":0},null,"B",{"$f":"COUNTIFS(H7:H104,\"B\",K7:K104,\"A\")","v":0},{"$f":"COUNTIFS(H7:H104,\"B\",K7:K104,\"B\")","v":0},{"$f":"COUNTIFS(H7:H104,\"B\",K7:K104,\"C\")","v":0},null,null,"00:00:00","00:00:00",0,{"$f":"SpellNumber((AI52))","v":"No Dollars and No Cents"},3,"No "]
["00:00:00",null,null,null,null,0,null,null,0,null,null,{"$f":"IFERROR(VLOOKUP(K53,$AD$7:AE55,2,FALSE),0)","v":0},null,null,0,null,null,null,null,null,null,"C",{"$f":"COUNTIFS(K7:K104,\"C\",K7:K104,\"A\")","v":0},{"$f":"COUNTIFS(E7:E104,\"C\",K7:K104,\"B\")","v":0},{"$f":"COUNTIFS(E7:E104,\"C\",K7:K104,\"C\")","v":0},null,"C",{"$f":"COUNTIFS(H7:H104,\"C\",K7:K104,\"A\")","v":0},{"$f":"COUNTIFS(H7:H104,\"C\",K7:K104,\"B\")","v":0},{"$f":"COUNTIFS(H7:H104,\"C\",K7:K104,\"C\")","v":0},null,null,"00:00:00","00:00:00",0,{"$f":"SpellNumber((AI53))","v":"No Dollars and No Cents"},3,"No "]
["00:00:00",null,null,null,null,0,null,null,0,null,null,{"$f":"IFERROR(VLOOKUP(K54,$AD$7:AE56,2,FALSE),0)","v":0},null,null,0,null,null,null,null,null,null,"D",{"$f":"COUNTIFS(E7:E104,\"D\",K7:K104,\"A\")","v":0},{"$f":"COUNTIFS(E7:E104,\"D\",K7:K104,\"B\")","v":0},{"$f":"COUNTIFS(E7:E104,\"D\",K7:K104,\"C\")","v":0},null,"D",{"$f":"COUNTIFS(H7:H104,\"D\",K7:K104,\"A\")","v":0},{"$f":"COUNTIFS(H7:H104,\"D\",K7:K104,\"B\")","v":0},{"$f":"COUNTIFS(H7:H104,\"D\",K7:K104,\"C\")","v":0},null,null,"00:00:00","00:00:00",0,{"$f":"SpellNumber((AI54))","v":"No Dollars and No Cents"},3,"No "]
["00:00:00",null,null,null,null,0,null,null,0,null,null,{"$f":"IFERROR(VLOOKUP(K55,$AD$7:AE57,2,FALSE),0)","v":0},null,null,0,null,null,null,null,null,null,"E",{"$f":"COUNTIFS(E7:E104,\"E\",K7:K104,\"A\")","v":0},{"$f":"COUNTIFS(E7:E104,\"E\",K7:K104,\"B\")","v":0},{"$f":"COUNTIFS(E7:E104,\"E\",K7:K104,\"C\")","v":0},null,"E",{"$f":"COUNTIFS(H7:H104,\"E\",K7:K104,\"A\")","v":0},{"$f":"COUNTIFS(H7:H104,\"E\",K7:K104,\"B\")","v":0},{"$f":"COUNTIFS(H7:H104,\"E\",K7:K104,\"C\")","v":0},null,null,"00:00:00","00:00:00",0,{"$f":"SpellNumber((AI55))","v":"No Dollars and No Cents"},3,"No "]
["00:00:00",null,null,null,null,0,null,null,0,null,null,{"$f":"IFERROR(VLOOKUP(K56,$AD$7:AE58,2,FALSE),0)","v":0},null,null,0,null,null,null,null,null,null,"F",{"$f":"COUNTIFS(E7:E104,\"F\",K7:K104,\"A\")","v":0},{"$f":"COUNTIFS(E7:E104,\"F\",K7:K104,\"B\")","v":0},{"$f":"COUNTIFS(E7:E104,\"F\",K7:K104,\"C\")","v":0},null,"F",{"$f":"COUNTIFS(H7:H104,\"F\",K7:K104,\"A\")","v":0},{"$f":"COUNTIFS(H7:H104,\"F\",K7:K104,\"B\")","v":0},{"$f":"COUNTIFS(H7:H104,\"F\",K7:K104,\"C\")","v":0},null,null,"00:00:00","00:00:00",0,{"$f":"SpellNumber((AI56))","v":"No Dollars and No Cents"},3,"No "]
["00:00:00",null,null,null,null,0,null,null,0,null,null,{"$f":"IFERROR(VLOOKUP(K57,$AD$7:AE59,2,FALSE),0)","v":0},null,null,0,null,null,null,null,null,null,"G",{"$f":"COUNTIFS(E7:E104,\"G\",K7:K104,\"A\")","v":0},{"$f":"COUNTIFS(E7:E104,\"G\",K7:K104,\"B\")","v":0},{"$f":"COUNTIFS(E7:E104,\"G\",K7:K104,\"C\")","v":0},null,"G",{"$f":"COUNTIFS(H7:H104,\"G\",K7:K104,\"A\")","v":0},{"$f":"COUNTIFS(H7:H104,\"G\",K7:K104,\"B\")","v":0},{"$f":"COUNTIFS(H7:H104,\"G\",K7:K104,\"C\")","v":0},null,null,"00:00:00","00:00:00",0,{"$f":"SpellNumber((AI57))","v":"No Dollars and No Cents"},3,"No "]
["00:00:00",null,null,null,null,0,null,null,0,null,null,{"$f":"IFERROR(VLOOKUP(K58,$AD$7:AE60,2,FALSE),0)","v":0},null,null,0,null,null,null,null,null,null,"H",{"$f":"COUNTIFS(E7:E104,\"H\",K7:K104,\"A\")","v":0},{"$f":"COUNTIFS(E7:E104,\"H\",K7:K104,\"B\")","v":0},{"$f":"COUNTIFS(E7:E104,\"H\",K7:K104,\"C\")","v":0},null,"H",{"$f":"COUNTIFS(H7:H104,\"H\",K7:K104,\"A\")","v":0},{"$f":"COUNTIFS(H7:H104,\"H\",K7:K104,\"B\")","v":0},{"$f":"COUNTIFS(H7:H104,\"H\",K7:K104,\"C\")","v":0},null,null,"00:00:00","00:00:00",0,{"$f":"SpellNumber((AI58))","v":"No Dollars and No Cents"},3,"No "]
["00:00:00",null,null,null,null,0,null,null,0,null,null,{"$f":"IFERROR(VLOOKUP(K59,$AD$7:AE61,2,FALSE),0)","v":0},null,null,0,null,null,null,null,null,null,"I",{"$f":"COUNTIFS(E7:E104,\"I\",K7:K104,\"A\")","v":0},{"$f":"COUNTIFS(E7:E104,\"I\",K7:K104,\"B\")","v":0},{"$f":"COUNTIFS(E7:E104,\"I\",K7:K104,\"C\")","v":0},null,"I",{"$f":"COUNTIFS(H7:H104,\"I\",K7:K104,\"A\")","v":0},{"$f":"COUNTIFS(H7:H104,\"I\",K7:K104,\"B\")","v":0},{"$f":"COUNTIFS(H7:H104,\"I\",K7:K104,\"C\")","v":0},null,null,"00:00:00","00:00:00",0,{"$f":"SpellNumber((AI59))","v":"No Dollars and No Cents"},3,"No "]
["00:00:00",null,null,null,null,0,null,null,0,null,null,{"$f":"IFERROR(VLOOKUP(K60,$AD$7:AE62,2,FALSE),0)","v":0},null,null,0,null,null,null,null,null,null,"J",{"$f":"COUNTIFS(E7:E104,\"J\",K7:K104,\"A\")","v":0},{"$f":"COUNTIFS(E7:E104,\"J\",K7:K104,\"B\")","v":0},{"$f":"COUNTIFS(E7:E104,\"J\",K7:K104,\"C\")","v":0},null,"J",{"$f":"COUNTIFS(H7:H104,\"J\",K7:K104,\"A\")","v":0},{"$f":"COUNTIFS(H7:H104,\"J\",K7:K104,\"B\")","v":0},{"$f":"COUNTIFS(H7:H104,\"J\",K7:K104,\"C\")","v":0},null,null,"00:00:00","00:00:00",0,{"$f":"SpellNumber((AI60))","v":"No Dollars and No Cents"},3,"No "]
["00:00:00",null,null,null,null,0,null,null,0,null,null,{"$f":"IFERROR(VLOOKUP(K61,$AD$7:AE63,2,FALSE),0)","v":0},null,null,0,null,null,null,null,null,null,"K",{"$f":"COUNTIFS(E7:E104,\"K\",K7:K104,\"A\")","v":0},{"$f":"COUNTIFS(E7:E104,\"K\",K7:K104,\"B\")","v":0},{"$f":"COUNTIFS(E7:E104,\"K\",K7:K104,\"C\")","v":0},null,"K",{"$f":"COUNTIFS(H7:H104,\"K\",K7:K104,\"A\")","v":0},{"$f":"COUNTIFS(H7:H104,\"K\",K7:K104,\"B\")","v":0},{"$f":"COUNTIFS(H7:H104,\"K\",K7:K104,\"C\")","v":0},null,null,"00:00:00","00:00:00",0,{"$f":"SpellNumber((AI61))","v":"No Dollars and No Cents"},3,"No "]
["00:00:00",null,null,null,null,0,null,null,0,null,null,{"$f":"IFERROR(VLOOKUP(K62,$AD$7:AE64,2,FALSE),0)","v":0},null,null,0,null,null,null,null,null,null,"L",{"$f":"COUNTIFS(E7:E104,\"L\",K7:K104,\"A\")","v":0},{"$f":"COUNTIFS(E7:E104,\"L\",K7:K104,\"B\")","v":0},{"$f":"COUNTIFS(E7:E104,\"L\",K7:K104,\"C\")","v":0},null,"L",{"$f":"COUNTIFS(H7:H104,\"L\",K7:K104,\"A\")","v":0},{"$f":"COUNTIFS(H7:H104,\"L\",K7:K104,\"B\")","v":0},{"$f":"COUNTIFS(H7:H104,\"L\",K7:K104,\"C\")","v":0},null,null,"00:00:00","00:00:00",0,{"$f":"SpellNumber((AI62))","v":"No Dollars and No Cents"},3,"No "]
["00:00:00",null,null,null,null,0,null,null,0,null,null,{"$f":"IFERROR(VLOOKUP(K63,$AD$7:AE65,2,FALSE),0)","v":0},null,null,0,null,null,null,null,null,null,null,"Beh & Consequences",null,null,null,null,null,null,null,null,null,"00:00:00","00:00:00",0,{"$f":"SpellNumber((AI63))","v":"No Dollars and No Cents"},3,"No "]
["00:00:00",null,null,null,null,0,null,null,0,null,null,{"$f":"IFERROR(VLOOKUP(K64,$AD$7:AE66,2,FALSE),0)","v":0},null,null,0,null,null,null,null,null,null,null,"A","B","C",null,null,null,null,null,null,null,"00:00:00","00:00:00",0,{"$f":"SpellNumber((AI64))","v":"No Dollars and No Cents"},3,"No "]
["00:00:00",null,null,null,null,0,null,null,0,null,null,{"$f":"IFERROR(VLOOKUP(K65,$AD$7:AE67,2,FALSE),0)","v":0},null,null,0,null,null,null,null,null,null,"A",{"$f":"COUNTIFS(N7:N104,\"A\",K7:K104,\"A\")","v":0},{"$f":"COUNTIFS(N7:N104,\"A\",K7:K104,\"B\")","v":0},{"$f":"COUNTIFS(N7:N104,\"A\",K7:K104,\"C\")","v":0},null,null,null,null,null,null,null,"00:00:00","00:00:00",0,{"$f":"SpellNumber((AI65))","v":"No Dollars and No Cents"},3,"No "]
["00:00:00",null,null,null,null,0,null,null,0,null,null,{"$f":"IFERROR(VLOOKUP(K66,$AD$7:AE68,2,FALSE),0)","v":0},null,null,0,null,null,null,null,null,null,"B",{"$f":"COUNTIFS(N7:N104,\"B\",K7:K104,\"A\")","v":0},{"$f":"COUNTIFS(N7:N104,\"B\",K7:K104,\"B\")","v":0},{"$f":"COUNTIFS(N7:N104,\"B\",K7:K104,\"C\")","v":0},null,null,null,null,null,null,null,"00:00:00","00:00:00",0,{"$f":"SpellNumber((AI66))","v":"No Dollars and No Cents"},3,"No "]
["00:00:00",null,null,null,null,0,null,null,0,null,null,{"$f":"IFERROR(VLOOKUP(K67,$AD$7:AE69,2,FALSE),0)","v":0},null,null,0,null,null,null,null,null,null,"C",{"$f":"COUNTIFS(N7:N104,\"C\",K7:K104,\"A\")","v":0},{"$f":"COUNTIFS(N7:N104,\"C\",K7:K104,\"B\")","v":0},{"$f":"COUNTIFS(N7:N104,\"C\",K7:K104,\"C\")","v":0},null,null,null,null,null,null,null,"00:00:00","00:00:00",0,{"$f":"SpellNumber((AI67))","v":"No Dollars and No Cents"},3,"No "]
["00:00:00",null,null,null,null,0,null,null,0,null,null,{"$f":"IFERROR(VLOOKUP(K68,$AD$7:AE70,2,FALSE),0)","v":0},null,null,0,null,null,null,null,null,null,"D",{"$f":"COUNTIFS(N7:N104,\"D\",K7:K104,\"A\")","v":0},{"$f":"COUNTIFS(N7:N104,\"D\",K7:K104,\"B\")","v":0},{"$f":"COUNTIFS(N7:N104,\"D\",K7:K104,\"C\")","v":0},null,null,null,null,null,null,null,"00:00:00","00:00:00",0,{"$f":"SpellNumber((AI68))","v":"No Dollars and No Cents"},3,"No "]
["00:00:00",null,null,null,null,0,null,null,0,null,null,{"$f":"IFERROR(VLOOKUP(K69,$AD$7:AE71,2,FALSE),0)","v":0},null,null,0,null,null,null,null,null,null,"E",{"$f":"COUNTIFS(N7:N104,\"E\",K7:K104,\"A\")","v":0},{"$f":"COUNTIFS(N7:N104,\"E\",K7:K104,\"B\")","v":0},{"$f":"COUNTIFS(N7:N104,\"E\",K7:K104,\"C\")","v":0},null,null,null,null,null,null,null,"00:00:00","00:00:00",0,{"$f":"SpellNumber((AI69))","v":"No Dollars and No Cents"},3,"No "]
["00:00:00",null,null,null,null,0,null,null,0,null,null,{"$f":"IFERROR(VLOOKUP(K70,$AD$7:AE72,2,FALSE),0)","v":0},null,null,0,null,null,null,null,null,null,"F",{"$f":"COUNTIFS(N7:N104,\"F\",K7:K104,\"A\")","v":0},{"$f":"COUNTIFS(N7:N104,\"F\",K7:K104,\"B\")","v":0},{"$f":"COUNTIFS(N7:N104,\"F\",K7:K104,\"C\")","v":0},null,null,null,null,null,null,null,"00:00:00","00:00:00",0,{"$f":"SpellNumber((AI70))","v":"No Dollars and No Cents"},3,"No "]
["00:00:00",null,null,null,null,0,null,null,0,null,null,{"$f":"IFERROR(VLOOKUP(K71,$AD$7:AE73,2,FALSE),0)","v":0},null,null,0,null,null,null,null,null,null,"G",{"$f":"COUNTIFS(N7:N104,\"G\",K7:K104,\"A\")","v":0},{"$f":"COUNTIFS(N7:N104,\"G\",K7:K104,\"B\")","v":0},{"$f":"COUNTIFS(N7:N104,\"G\",K7:K104,\"C\")","v":0},null,null,null,null,null,null,null,"00:00:00","00:00:00",0,{"$f":"SpellNumber((AI71))","v":"No Dollars and No Cents"},3,"No "]
[{"$f":"C72-B72","v":"00:00:00"},null,null,null,null,0,null,null,{"$f":"IFERROR(VLOOKUP(H72,$Z$7:$AA$18,2,FALSE),0)","v":0},null,null,{"$f":"IFERROR(VLOOKUP(K72,$AD$7:AE74,2,FALSE),0)","v":0},null,null,{"$f":"IFERROR(VLOOKUP(N72,$V$22:$W$33,2,FALSE),0)","v":0},null,null,null,null,null,null,"H",{"$f":"COUNTIFS(N7:N104,\"H\",K7:K104,\"A\")","v":0},{"$f":"COUNTIFS(N7:N104,\"H\",K7:K104,\"B\")","v":0},{"$f":"COUNTIFS(N7:N104,\"H\",K7:K104,\"C\")","v":0},null,null,null,null,null,null,null,{"$f":"B72","v":"00:00:00"},{"$f":"TEXT(AG72,\"hh:mm:ss\")","v":"00:00:00"},{"$f":"AG72*24","v":0},{"$f":"SpellNumber((AI72))","v":"No Dollars and No Cents"},{"$f":"FIND(\" Dollar\",AJ72)","v":3},{"$f":"LEFT(AJ72,AK72)","v":"No "}]
["00:00:00",null,null,null,null,{"$f":"IFERROR(VLOOKUP(E73,$V$7:$W$18,2,FALSE),0)","v":0},null,null,0,null,null,{"$f":"IFERROR(VLOOKUP(K73,$AD$7:AE75,2,FALSE),0)","v":0},null,null,0,null,null,null,null,null,null,"I",{"$f":"COUNTIFS(N7:N104,\"I\",K7:K104,\"A\")","v":0},{"$f":"COUNTIFS(N7:N104,\"I\",K7:K104,\"B\")","v":0},{"$f":"COUNTIFS(N7:N104,\"I\",K7:K104,\"C\")","v":0},null,null,null,null,null,null,null,"00:00:00","00:00:00",0,{"$f":"SpellNumber((AI73))","v":"No Dollars and No Cents"},3,"No "]
["00:00:00",null,null,null,null,0,null,null,0,null,null,{"$f":"IFERROR(VLOOKUP(K74,$AD$7:AE76,2,FALSE),0)","v":0},null,null,0,null,null,null,null,null,null,"J",{"$f":"COUNTIFS(N7:N104,\"J\",K7:K104,\"A\")","v":0},{"$f":"COUNTIFS(N7:N104,\"J\",K7:K104,\"B\")","v":0},{"$f":"COUNTIFS(N7:N104,\"J\",K7:K104,\"C\")","v":0},null,null,null,null,null,null,null,"00:00:00","00:00:00",0,{"$f":"SpellNumber((AI74))","v":"No Dollars and No Cents"},3,"No "]
["00:00:00",null,null,null,null,0,null,null,0,null,null,{"$f":"IFERROR(VLOOKUP(K75,$AD$7:AE77,2,FALSE),0)","v":0},null,null,0,null,null,null,null,null,null,"K",{"$f":"COUNTIFS(N7:N104,\"K\",K7:K104,\"A\")","v":0},{"$f":"COUNTIFS(N7:N104,\"K\",K7:K104,\"B\")","v":0},{"$f":"COUNTIFS(N7:N104,\"K\",K7:K104,\"C\")","v":0},null,null,null,null,null,null,null,"00:00:00","00:00:00",0,{"$f":"SpellNumber((AI75))","v":"No Dollars and No Cents"},3,"No "]
["00:00:00",null,null,null,null,0,null,null,0,null,null,{"$f":"IFERROR(VLOOKUP(K76,$AD$7:AE78,2,FALSE),0)","v":0},null,null,0,null,null,null,null,null,null,"L",{"$f":"COUNTIFS(N7:N104,\"L\",K7:K104,\"A\")","v":0},{"$f":"COUNTIFS(N7:N104,\"L\",K7:K104,\"B\")","v":0},{"$f":"COUNTIFS(N7:N104,\"L\",K7:K104,\"C\")","v":0},null,null,null,null,null,null,null,"00:00:00","00:00:00",0,{"$f":"SpellNumber((AI76))","v":"No Dollars and No Cents"},3,"No "]
["00:00:00",null,null,null,null,0,null,null,0,null,null,{"$f":"IFERROR(VLOOKUP(K77,$AD$7:AE79,2,FALSE),0)","v":0},null,null,0,null,null,null,null,null,null,null,null,null,null,null,null,null,null,null,null,null,"00:00:00","00:00:00",0,{"$f":"SpellNumber((AI77))","v":"No Dollars and No Cents"},3,"No "]
["00:00:00",null,null,null,null,0,null,null,0,null,null,{"$f":"IFERROR(VLOOKUP(K78,$AD$7:AE80,2,FALSE),0)","v":0},null,null,0,null,null,null,null,null,null,null,null,null,null,null,null,null,null,null,null,null,"00:00:00","00:00:00",0,{"$f":"SpellNumber((AI78))","v":"No Dollars and No Cents"},3,"No "]
["00:00:00",null,null,null,null,0,null,null,0,null,null,{"$f":"IFERROR(VLOOKUP(K79,$AD$7:AE81,2,FALSE),0)","v":0},null,null,0,null,null,null,null,null,null,null,null,null,null,null,null,null,null,null,null,null,"00:00:00","00:00:00",0,{"$f":"SpellNumber((AI79))","v":"No Dollars and No Cents"},3,"No "]
["00:00:00",null,null,null,null,0,null,null,0,null,null,{"$f":"IFERROR(VLOOKUP(K80,$AD$7:AE82,2,FALSE),0)","v":0},null,null,0,null,null,null,null,null,null,null,null,null,null,null,null,null,null,null,null,null,"00:00:00","00:00:00",0,{"$f":"SpellNumber((AI80))","v":"No Dollars and No Cents"},3,"No "]
["00:00:00",null,null,null,null,0,null,null,0,null,null,{"$f":"IFERROR(VLOOKUP(K81,$AD$7:AE83,2,FALSE),0)","v":0},null,null,0,null,null,null,null,null,null,null,null,null,null,null,null,null,null,null,null,null,"00:00:00","00:00:00",0,{"$f":"SpellNumber((AI81))","v":"No Dollars and No Cents"},3,"No "]
["00:00:00",null,null,null,null,0,null,null,0,null,null,{"$f":"IFERROR(VLOOKUP(K82,$AD$7:AE84,2,FALSE),0)","v":0},null,null,0,null,null,null,null,null,null,null,null,null,null,null,null,null,null,null,null,null,"00:00:00","00:00:00",0,{"$f":"SpellNumber((AI82))","v":"No Dollars and No Cents"},3,"No "]
["00:00:00",null,null,null,null,0,null,null,0,null,null,{"$f":"IFERROR(VLOOKUP(K83,$AD$7:AE85,2,FALSE),0)","v":0},null,null,0,null,null,null,null,null,null,null,null,null,null,null,null,null,null,null,null,null,"00:00:00","00:00:00",0,{"$f":"SpellNumber((AI83))","v":"No Dollars and No Cents"},3,"No "]
["00:00:00",null,null,null,null,0,null,null,0,null,null,{"$f":"IFERROR(VLOOKUP(K84,$AD$7:AE86,2,FALSE),0)","v":0},null,null,0,null,null,null,null,null,null,null,null,null,null,null,null,null,null,null,null,null,"00:00:00","00:00:00",0,{"$f":"SpellNumber((AI84))","v":"No Dollars and No Cents"},3,"No "]
["00:00:00",null,null,null,null,0,null,null,0,null,null,{"$f":"IFERROR(VLOOKUP(K85,$AD$7:AE87,2,FALSE),0)","v":0},null,null,0,null,null,null,null,null,null,null,null,null,null,null,null,null,null,null,null,null,"00:00:00","00:00:00",0,{"$f":"SpellNumber((AI85))","v":"No Dollars and No Cents"},3,"No "]
["00:00:00",null,null,null,null,0,null,null,0,null,null,{"$f":"IFERROR(VLOOKUP(K86,$AD$7:AE88,2,FALSE),0)","v":0},null,null,0,null,null,null,null,null,null,null,null,null,null,null,null,null,null,null,null,null,"00:00:00","00:00:00",0,{"$f":"SpellNumber((AI86))","v":"No Dollars and No Cents"},3,"No "]
["00:00:00",null,null,null,null,0,null,null,0,null,null,{"$f":"IFERROR(VLOOKUP(K87,$AD$7:AE89,2,FALSE),0)","v":0},null,null,0,null,null,null,null,null,null,null,null,null,null,null,null,null,null,null,null,null,"00:00:00","00:00:00",0,{"$f":"SpellNumber((AI87))","v":"No Dollars and No Cents"},3,"No "]
["00:00:00",null,null,null,null,0,null,null,0,null,null,{"$f":"IFERROR(VLOOKUP(K88,$AD$7:AE90,2,FALSE),0)","v":0},null,null,0,null,null,null,null,null,null,null,null,null,null,null,null,null,null,null,null,null,"00:00:00","00:00:00",0,{"$f":"SpellNumber((AI88))","v":"No Dollars and No Cents"},3,"No "]
["00:00:00",null,null,null,null,0,null,null,0,null,null,{"$f":"IFERROR(VLOOKUP(K89,$AD$7:AE91,2,FALSE),0)","v":0},null,null,0,null,null,null,null,null,null,null,null,null,null,null,null,null,null,null,null,null,"00:00:00","00:00:00",0,{"$f":"SpellNumber((AI89))","v":"No Dollars and No Cents"},3,"No "]
["00:00:00",null,null,null,null,0,null,null,0,null,null,{"$f":"IFERROR(VLOOKUP(K90,$AD$7:AE92,2,FALSE),0)","v":0},null,null,0,null,null,null,null,null,null,null,null,null,null,null,null,null,null,null,null,null,"00:00:00","00:00:00",0,{"$f":"SpellNumber((AI90))","v":"No Dollars and No Cents"},3,"No "]
["00:00:00",null,null,null,null,0,null,null,0,null,null,{"$f":"IFERROR(VLOOKUP(K91,$AD$7:AE93,2,FALSE),0)","v":0},null,null,0,null,null,null,"Total Mins",{"$f":"SUM(A7:A104)","v":"00:00:00"},null,null,null,null,null,null,null,null,null,null,null,null,"00:00:00","00:00:00",0,{"$f":"SpellNumber((AI91))","v":"No Dollars and No Cents"},3,"No "]
["00:00:00",null,null,null,null,0,null,null,0,null,null,{"$f":"IFERROR(VLOOKUP(K92,$AD$7:AE94,2,FALSE),0)","v":0},null,null,0,null,null,null,"Settings:","A",{"$f":"COUNTIF(E4:E104,\"A\")","v":0},"Antec.","A",{"$f":"COUNTIF(H4:H104,\"A\")","v":0},"Beh","A",{"$f":"COUNTIF(L4:L104,\"A\")","v":0},"Conse.","A",{"$f":"COUNTIF(O4:O104,\"A\")","v":0},null,null,"00:00:00","00:00:00",0,{"$f":"SpellNumber((AI92))","v":"No Dollars and No Cents"},3,"No "]
["00:00:00",null,null,null,null,0,null,null,0,null,null,{"$f":"IFERROR(VLOOKUP(K93,$AD$7:AE95,2,FALSE),0)","v":0},null,null,0,null,null,null,null,"B",{"$f":"COUNTIF(E5:E105,\"B\")","v":0},null,"B",{"$f":"COUNTIF(H5:H105,\"B\")","v":0},null,"B",{"$f":"COUNTIF(L5:L105,\"B\")","v":0},null,"B",{"$f":"COUNTIF(O5:O105,\"B\")","v":0},null,null,"00:00:00","00:00:00",0,{"$f":"SpellNumber((AI93))","v":"No Dollars and No Cents"},3,"No "]
["00:00:00",null,null,null,null,0,null,null,0,null,null,{"$f":"IFERROR(VLOOKUP(K94,$AD$7:AE96,2,FALSE),0)","v":0},null,null,0,null,null,null,null,"C",{"$f":"COUNTIF(E6:E106,\"C\")","v":0},null,"C",{"$f":"COUNTIF(H6:H106,\"C\")","v":0},null,"C",{"$f":"COUNTIF(L6:L106,\"C\")","v":0},null,"C",{"$f":"COUNTIF(O6:O106,\"C\")","v":0},null,null,"00:00:00","00:00:00",0,{"$f":"SpellNumber((AI94))","v":"No Dollars and No Cents"},3,"No "]
["00:00:00",null,null,null,null,0,null,null,0,null,null,{"$f":"IFERROR(VLOOKUP(K95,$AD$7:AE97,2,FALSE),0)","v":0},null,null,0,null,null,null,null,"D",{"$f":"COUNTIF(E7:E107,\"D\")","v":0},null,"D",{"$f":"COUNTIF(H7:H107,\"D\")","v":0},null,null,null,null,"D",{"$f":"COUNTIF(O7:O107,\"D\")","v":0},null,null,"00:00:00","00:00:00",0,{"$f":"SpellNumber((AI95))","v":"No Dollars and No Cents"},3,"No "]
["00:00:00",null,null,null,null,0,null,null,0,null,null,{"$f":"IFERROR(VLOOKUP(K96,$AD$7:AE98,2,FALSE),0)","v":0},null,null,0,null,null,null,null,"E",{"$f":"COUNTIF(E8:E108,\"E\")","v":0},null,"E",{"$f":"COUNTIF(H8:H108,\"E\")","v":0},null,null,null,null,"E",{"$f":"COUNTIF(O8:O108,\"E\")","v":0},null,null,"00:00:00","00:00:00",0,{"$f":"SpellNumber((AI96))","v":"No Dollars and No Cents"},3,"No "]
["00:00:00",null,null,null,null,0,null,null,0,null,null,{"$f":"IFERROR(VLOOKUP(K97,$AD$7:AE99,2,FALSE),0)","v":0},null,null,0,null,null,null,null,"F",{"$f":"COUNTIF(E9:E109,\"F\")","v":0},null,"F",{"$f":"COUNTIF(H9:H109,\"F\")","v":0},null,null,null,null,"F",{"$f":"COUNTIF(O9:O109,\"F\")","v":0},null,null,"00:00:00","00:00:00",0,{"$f":"SpellNumber((AI97))","v":"No Dollars and No Cents"},3,"No "]
["00:00:00",null,null,null,null,0,null,null,0,null,null,{"$f":"IFERROR(VLOOKUP(K98,$AD$7:AE100,2,FALSE),0)","v":0},null,null,0,null,null,null,null,"G",{"$f":"COUNTIF(E10:E110,\"G\")","v":0},null,"G",{"$f":"COUNTIF(H10:H110,\"G\")","v":0},null,null,null,null,"G",{"$f":"COUNTIF(O10:O110,\"G\")","v":0},null,null,"00:00:00","00:00:00",0,{"$f":"SpellNumber((AI98))","v":"No Dollars and No Cents"},3,"No "]
["00:00:00",null,null,null,null,0,null,null,0,null,null,{"$f":"IFERROR(VLOOKUP(K99,$AD$7:AE101,2,FALSE),0)","v":0},null,null,0,null,null,null,null,"H",{"$f":"COUNTIF(E11:E111,\"H\")","v":0},null,"H",{"$f":"COUNTIF(H11:H111,\"H\")","v":0},null,null,null,null,"H",{"$f":"COUNTIF(O11:O111,\"H\")","v":0},null,null,"00:00:00","00:00:00",0,{"$f":"SpellNumber((AI99))","v":"No Dollars and No Cents"},3,"No "]
["00:00:00",null,null,null,null,0,null,null,0,null,null,{"$f":"IFERROR(VLOOKUP(K100,$AD$7:AE102,2,FALSE),0)","v":0},null,null,0,null,null,null,null,"I",{"$f":"COUNTIF(E12:E112,\"I\")","v":0},null,"I",{"$f":"COUNTIF(H12:H112,\"I\")","v":0},null,null,null,null,"I",{"$f":"COUNTIF(O12:O112,\"I\")","v":0},null,null,"00:00:00","00:00:00",0,{"$f":"SpellNumber((AI100))","v":"No Dollars and No Cents"},3,"No "]
["00:00:00",null,null,null,null,0,null,null,0,null,null,{"$f":"IFERROR(VLOOKUP(K101,$AD$7:AE103,2,FALSE),0)","v":0},null,null,0,null,null,null,null,"J",{"$f":"COUNTIF(E13:E113,\"J\")","v":0},null,"J",{"$f":"COUNTIF(H13:H113,\"J\")","v":0},null,null,null,null,"J",{"$f":"COUNTIF(O13:O113,\"J\")","v":0},null,null,"00:00:00","00:00:00",0,{"$f":"SpellNumber((AI101))","v":"No Dollars and No Cents"},3,"No "]
["00:00:00",null,null,null,null,0,null,null,0,null,null,{"$f":"IFERROR(VLOOKUP(K102,$AD$7:AE104,2,FALSE),0)","v":0},null,null,0,null,null,null,null,"K",{"$f":"COUNTIF(E14:E114,\"K\")","v":0},null,"K",{"$f":"COUNTIF(H14:H114,\"K\")","v":0},null,null,null,null,"K",{"$f":"COUNTIF(O14:O114,\"K\")","v":0},null,null,"00:00:00","00:00:00",0,{"$f":"SpellNumber((AI102))","v":"No Dollars and No Cents"},3,"No "]
["00:00:00",null,null,null,null,0,null,null,0,null,null,{"$f":"IFERROR(VLOOKUP(K103,$AD$7:AE105,2,FALSE),0)","v":0},null,null,0,null,null,null,null,"L",{"$f":"COUNTIF(E15:E115,\"L\")","v":0},null,"L",{"$f":"COUNTIF(H15:H115,\"L\")","v":0},null,null,null,null,"L",{"$f":"COUNTIF(O15:O115,\"L\")","v":0},null,null,"00:00:00","00:00:00",0,{"$f":"SpellNumber((AI103))","v":"No Dollars and No Cents"},3,"No "]
["00:00:00",null,null,null,null,0,null,null,0,null,null,{"$f":"IFERROR(VLOOKUP(K104,$AD$7:AE106,2,FALSE),0)","v":0},null,null,0,null,null,null,null,null,null,null,null,null,null,null,null,null,null,null,null,null,"00:00:00","00:00:00",0,{"$f":"SpellNumber((AI104))","v":"No Dollars and No Cents"},3,"No "]

{"sheet":"Data 30","index":38,"n_rows":104,"n_cols":38,"rows_kept":104,"cut":false,"hidden":false,"merged":[[0,7,3,14]]}
["ATTENDANCE",null,null,null,null,null,null,"Data Collection"]
["If tardy, arrival time",null,null,null,null,null,null,null,null,null,null,null,null,null,null,null,null,null,null,null,null,null,"Date",{"$f":"Calendar!D9","v":{"$error":"#N/A"}},{"$f":"TEXT(X2,\"ddd\")","v":{"$error":"#N/A"}}]
["If left early, time",null,null,null,null,null,null,null,null,null,null,null,null,null,null,null,null,null,null,null,null,null,"Frq. Of bx",{"$f":"AA22","v":0}]
[]
[]
["Mins.","Start Time","End Time",null,null,null,null,null,null,null,null,null,null,null,null,null,null,null,null,null,null,null,"Setting",null,null,"Ant",null,null,null,"Beh",null,null,"Raw Data","Time in text","Decimal"]
[{"$f":"C7-B7","v":"00:00:00"},null,null,null,null,{"$f":"IFERROR(VLOOKUP(E7,$V$7:$W$18,2,FALSE),0)","v":0},null,null,{"$f":"IFERROR(VLOOKUP(H7,$Z$7:$AA$18,2,FALSE),0)","v":0},null,null,{"$f":"IFERROR(VLOOKUP(K7,$AD$7:AE9,2,FALSE),0)","v":0},null,null,{"$f":"IFERROR(VLOOKUP(N7,$V$22:$W$33,2,FALSE),0)","v":0},null,null,null,null,null,null,"A",{"$f":"Criteria!C4","v":"Transition"},null,null,"A",{"$f":"Criteria!E4","v":"Transition"},null,null,"A",{"$f":"Criteria!G4","v":0},null,{"$f":"B7","v":"00:00:00"},{"$f":"TEXT(AG7,\"hh:mm:ss\")","v":"00:00:00"},{"$f":"AG7*24","v":0},{"$f":"SpellNumber((AI7))","v":"No Dollars and No Cents"},{"$f":"FIND(\" Dollar\",AJ7)","v":3},{"$f":"LEFT(AJ7,AK7)","v":"No "}]
[{"$f":"C8-B8","v":"00:00:00"},null,null,null,null,{"$f":"IFERROR(VLOOKUP(E8,$V$7:$W$18,2,FALSE),0)","v":0},null,null,{"$f":"IFERROR(VLOOKUP(H8,$Z$7:$AA$18,2,FALSE),0)","v":0},null,null,{"$f":"IFERROR(VLOOKUP(K8,$AD$7:AE10,2,FALSE),0)","v":0},null,null,{"$f":"IFERROR(VLOOKUP(N8,$V$22:$W$33,2,FALSE),0)","v":0},null,null,null,null,null,null,"B",{"$f":"Criteria!C5","v":"Morning Routine"},null,null,"B",{"$f":"Criteria!E5","v":"Denied access ('No')"},null,null,"B",{"$f":"Criteria!G5","v":0},null,{"$f":"B8","v":"00:00:00"},{"$f":"TEXT(AG8,\"hh:mm:ss\")","v":"00:00:00"},{"$f":"AG8*24","v":0},{"$f":"SpellNumber((AI8))","v":"No Dollars and No Cents"},{"$f":"FIND(\" Dollar\",AJ8)","v":3},{"$f":"LEFT(AJ8,AK8)","v":"No "}]
["00:00:00",null,null,null,null,{"$f":"IFERROR(VLOOKUP(E9,$V$7:$W$18,2,FALSE),0)","v":0},null,null,0,null,null,{"$f":"IFERROR(VLOOKUP(K9,$AD$7:AE11,2,FALSE),0)","v":0},null,null,0,null,null,null,null,null,null,"C",{"$f":"Criteria!C6","v":"Group Work"},null,null,"C",{"$f":"Criteria!E6","v":"Instruction/ Directions"},null,null,"C",{"$f":"Criteria!G6","v":0},null,"00:00:00","00:00:00",0,{"$f":"SpellNumber((AI9))","v":"No Dollars and No Cents"},3,"No "]
["00:00:00",null,null,null,null,0,null,null,0,null,null,{"$f":"IFERROR(VLOOKUP(K10,$AD$7:AE12,2,FALSE),0)","v":0},null,null,0,null,null,null,null,null,null,"D",{"$f":"Criteria!C7","v":"Ind. Seat/Work Time"},null,null,"D",{"$f":"Criteria!E7","v":"New Task"},null,null,null,null,null,"00:00:00","00:00:00",0,{"$f":"SpellNumber((AI10))","v":"No Dollars and No Cents"},3,"No "]
["00:00:00",null,null,null,null,0,null,null,0,null,null,{"$f":"IFERROR(VLOOKUP(K11,$AD$7:AE13,2,FALSE),0)","v":0},null,null,0,null,null,null,null,null,null,"E",{"$f":"Criteria!C8","v":"Language Arts"},null,null,"E",{"$f":"Criteria!E8","v":"Tcher attn to other"},null,null,null,null,null,"00:00:00","00:00:00",0,{"$f":"SpellNumber((AI11))","v":"No Dollars and No Cents"},3,"No "]
["00:00:00",null,null,null,null,0,null,null,0,null,null,{"$f":"IFERROR(VLOOKUP(K12,$AD$7:AE14,2,FALSE),0)","v":0},null,null,0,null,null,null,null,null,null,"F",{"$f":"Criteria!C9","v":"Mathematics"},null,null,"F",{"$f":"Criteria!E9","v":"Choice given"},null,null,null,null,null,"00:00:00","00:00:00",0,{"$f":"SpellNumber((AI12))","v":"No Dollars and No Cents"},3,"No "]
["00:00:00",null,null,null,null,0,null,null,0,null,null,{"$f":"IFERROR(VLOOKUP(K13,$AD$7:AE15,2,FALSE),0)","v":0},null,null,0,null,null,null,null,null,null,"G",{"$f":"Criteria!C10","v":"Physical Education"},null,null,"G",{"$f":"Criteria!E10","v":"Redirection"},null,null,null,null,null,"00:00:00","00:00:00",0,{"$f":"SpellNumber((AI13))","v":"No Dollars and No Cents"},3,"No "]
["00:00:00",null,null,null,null,0,null,null,0,null,null,{"$f":"IFERROR(VLOOKUP(K14,$AD$7:AE16,2,FALSE),0)","v":0},null,null,0,null,null,null,null,null,null,"H",{"$f":"Criteria!C11","v":"Music/Art"},null,null,"H",{"$f":"Criteria!E11","v":"Routine Task"},null,null,null,null,null,"00:00:00","00:00:00",0,{"$f":"SpellNumber((AI14))","v":"No Dollars and No Cents"},3,"No "]
["00:00:00",null,null,null,null,0,null,null,0,null,null,{"$f":"IFERROR(VLOOKUP(K15,$AD$7:AE17,2,FALSE),0)","v":0},null,null,0,null,null,null,null,null,null,"I",{"$f":"Criteria!C12","v":"Speech"},null,null,"I",{"$f":"Criteria!E12","v":"Waiting"},null,null,null,null,null,"00:00:00","00:00:00",0,{"$f":"SpellNumber((AI15))","v":"No Dollars and No Cents"},3,"No "]
["00:00:00",null,null,null,null,0,null,null,0,null,null,{"$f":"IFERROR(VLOOKUP(K16,$AD$7:AE18,2,FALSE),0)","v":0},null,null,0,null,null,null,null,null,null,"J",{"$f":"Criteria!C13","v":"OT/PT"},null,null,"J",{"$f":"Criteria!E13","v":"Unknown"},null,null,null,null,null,"00:00:00","00:00:00",0,{"$f":"SpellNumber((AI16))","v":"No Dollars and No Cents"},3,"No "]
["00:00:00",null,null,null,null,0,null,null,0,null,null,{"$f":"IFERROR(VLOOKUP(K17,$AD$7:AE19,2,FALSE),0)","v":0},null,null,0,null,null,null,null,null,null,"K",{"$f":"Criteria!C14","v":"Center"},null,null,"K",{"$f":"Criteria!E14","v":"Ignored"},null,null,null,null,null,"00:00:00","00:00:00",0,{"$f":"SpellNumber((AI17))","v":"No Dollars and No Cents"},3,"No "]
["00:00:00",null,null,null,null,0,null,null,0,null,null,{"$f":"IFERROR(VLOOKUP(K18,$AD$7:AE20,2,FALSE),0)","v":0},null,null,0,null,null,null,null,null,null,"L",{"$f":"Criteria!C15","v":"Other"},null,null,"L",{"$f":"Criteria!E15","v":"Other"},null,null,null,null,null,"00:00:00","00:00:00",0,{"$f":"SpellNumber((AI18))","v":"No Dollars and No Cents"},3,"No "]
["00:00:00",null,null,null,null,0,null,null,0,null,null,{"$f":"IFERROR(VLOOKUP(K19,$AD$7:AE21,2,FALSE),0)","v":0},null,null,0,null,null,null,null,null,null,null,null,null,null,null,null,null,null,null,null,null,"00:00:00","00:00:00",0,{"$f":"SpellNumber((AI19))","v":"No Dollars and No Cents"},3,"No "]
["00:00:00",null,null,null,null,0,null,null,0,null,null,{"$f":"IFERROR(VLOOKUP(K20,$AD$7:AE22,2,FALSE),0)","v":0},null,null,0,null,null,null,null,null,null,null,null,null,null,null,null,null,null,null,null,null,"00:00:00","00:00:00",0,{"$f":"SpellNumber((AI20))","v":"No Dollars and No Cents"},3,"No "]
["00:00:00",null,null,null,null,0,null,null,0,null,null,{"$f":"IFERROR(VLOOKUP(K21,$AD$7:AE23,2,FALSE),0)","v":0},null,null,0,null,null,null,null,null,null,null,"Con",null,"Bx Frequency Per Day",null,null,null,null,null,null,null,"00:00:00","00:00:00",0,{"$f":"SpellNumber((AI21))","v":"No Dollars and No Cents"},3,"No "]
["00:00:00",null,null,null,null,0,null,null,0,null,null,{"$f":"IFERROR(VLOOKUP(K22,$AD$7:AE24,2,FALSE),0)","v":0},null,null,0,null,null,null,null,null,null,"A",{"$f":"Criteria!I4","v":"Choice Given"},"A",{"$f":"COUNTIF(K7:K104,\"A\")","v":0},null,{"$f":"SUM(Y22:Y24)","v":0},null,"Bin Dec","Frequency of Time",null,null,"00:00:00","00:00:00",0,{"$f":"SpellNumber((AI22))","v":"No Dollars and No Cents"},3,"No "]
["00:00:00",null,null,null,null,0,null,null,0,null,null,{"$f":"IFERROR(VLOOKUP(K23,$AD$7:AE25,2,FALSE),0)","v":0},null,null,0,null,null,null,null,null,null,"B",{"$f":"Criteria!I5","v":"Ignored"},"B",{"$f":"COUNTIF(K7:K104,\"B\")","v":0},null,null,null,"Seven",{"$f":"COUNTIF(AL7:AL104,\"*Seven*\")","v":0},null,null,"00:00:00","00:00:00",0,{"$f":"SpellNumber((AI23))","v":"No Dollars and No Cents"},3,"No "]
["00:00:00",null,null,null,null,0,null,null,0,null,null,{"$f":"IFERROR(VLOOKUP(K24,$AD$7:AE26,2,FALSE),0)","v":0},null,null,0,null,null,null,null,null,null,"C",{"$f":"Criteria!I6","v":"Redirection"},"C",{"$f":"COUNTIF(K7:K104,\"C\")","v":0},null,null,null,"Eight",{"$f":"COUNTIF(AL7:AL104,\"*Eight*\")","v":0},null,null,"00:00:00","00:00:00",0,{"$f":"SpellNumber((AI24))","v":"No Dollars and No Cents"},3,"No "]
["00:00:00",null,null,null,null,0,null,null,0,null,null,{"$f":"IFERROR(VLOOKUP(K25,$AD$7:AE27,2,FALSE),0)","v":0},null,null,0,null,null,null,null,null,null,"D",{"$f":"Criteria!I7","v":"Kept the demand"},null,"Bx Druation Per Day",null,null,null,"Nine",{"$f":"COUNTIF(AL7:AL104,\"*Nine*\")","v":0},null,null,"00:00:00","00:00:00",0,{"$f":"SpellNumber((AI25))","v":"No Dollars and No Cents"},3,"No "]
["00:00:00",null,null,null,null,0,null,null,0,null,null,{"$f":"IFERROR(VLOOKUP(K26,$AD$7:AE28,2,FALSE),0)","v":0},null,null,0,null,null,null,null,null,null,"E",{"$f":"Criteria!I8","v":"Changed activity"},"A",{"$f":"SUMIF(K7:K104,\"A\",A7:A104)","v":"00:00:00"},null,null,null,"Ten",{"$f":"COUNTIF(AL7:AL12,\"*Ten*\")","v":0},null,null,"00:00:00","00:00:00",0,{"$f":"SpellNumber((AI26))","v":"No Dollars and No Cents"},3,"No "]
["00:00:00",null,null,null,null,0,null,null,0,null,null,{"$f":"IFERROR(VLOOKUP(K27,$AD$7:AE29,2,FALSE),0)","v":0},null,null,0,null,null,null,null,null,null,"F",{"$f":"Criteria!I9","v":"Verbal reprimand"},"B",{"$f":"SUMIF(K7:K104,\"B\",A7:A104)","v":"00:00:00"},null,null,null,"Eleven",{"$f":"COUNTIF(AL7:AL104,\"*Eleven*\")","v":0},null,null,"00:00:00","00:00:00",0,{"$f":"SpellNumber((AI27))","v":"No Dollars and No Cents"},3,"No "]
["00:00:00",null,null,null,null,0,null,null,0,null,null,{"$f":"IFERROR(VLOOKUP(K28,$AD$7:AE30,2,FALSE),0)","v":0},null,null,0,null,null,null,null,null,null,"G",{"$f":"Criteria!I10","v":"Told to wait"},"C",{"$f":"SUMIF(K7:K104,\"C\",A7:A104)","v":"00:00:00"},null,null,null,"Twelve",{"$f":"COUNTIF(AL7:AL104,\"*Twelve*\")","v":0},null,null,"00:00:00","00:00:00",0,{"$f":"SpellNumber((AI28))","v":"No Dollars and No Cents"},3,"No "]
["00:00:00",null,null,null,null,0,null,null,0,null,null,{"$f":"IFERROR(VLOOKUP(K29,$AD$7:AE31,2,FALSE),0)","v":0},null,null,0,null,null,null,null,null,null,"H",{"$f":"Criteria!I11","v":"Physical Prompt"},null,null,null,null,null,"One",{"$f":"COUNTIF(AL7:AL104,\"*One*\")","v":0},null,null,"00:00:00","00:00:00",0,{"$f":"SpellNumber((AI29))","v":"No Dollars and No Cents"},3,"No "]
["00:00:00",null,null,null,null,0,null,null,0,null,null,{"$f":"IFERROR(VLOOKUP(K30,$AD$7:AE32,2,FALSE),0)","v":0},null,null,0,null,null,null,null,null,null,"I",{"$f":"Criteria!I12","v":"Verbal prompt"},null,null,null,null,null,"Two",{"$f":"COUNTIF(AL7:AL104,\"*Two*\")","v":0},null,null,"00:00:00","00:00:00",0,{"$f":"SpellNumber((AI30))","v":"No Dollars and No Cents"},3,"No "]
["00:00:00",null,null,null,null,0,null,null,0,null,null,{"$f":"IFERROR(VLOOKUP(K31,$AD$7:AE33,2,FALSE),0)","v":0},null,null,0,null,null,null,null,null,null,"J",{"$f":"Criteria!I13","v":"Told to wait"},null,null,null,null,null,"Three",{"$f":"COUNTIF(AL7:AL104,\"*Three*\")","v":0},null,null,"00:00:00","00:00:00",0,{"$f":"SpellNumber((AI31))","v":"No Dollars and No Cents"},3,"No "]
["00:00:00",null,null,null,null,0,null,null,0,null,null,{"$f":"IFERROR(VLOOKUP(K32,$AD$7:AE34,2,FALSE),0)","v":0},null,null,0,null,null,null,null,null,null,"K",{"$f":"Criteria!I14","v":"Unknown"},null,null,null,null,null,"Four",{"$f":"COUNTIF(AL7:AL104,\"*Four*\")","v":0},null,null,"00:00:00","00:00:00",0,{"$f":"SpellNumber((AI32))","v":"No Dollars and No Cents"},3,"No "]
["00:00:00",null,null,null,null,0,null,null,0,null,null,{"$f":"IFERROR(VLOOKUP(K33,$AD$7:AE35,2,FALSE),0)","v":0},null,null,0,null,null,null,null,null,null,"L",{"$f":"Criteria!I15","v":"Other"},null,null,null,null,null,null,null,null,null,"00:00:00","00:00:00",0,{"$f":"SpellNumber((AI33))","v":"No Dollars and No Cents"},3,"No "]
["00:00:00",null,null,null,null,0,null,null,0,null,null,{"$f":"IFERROR(VLOOKUP(K34,$AD$7:AE36,2,FALSE),0)","v":0},null,null,0,null,null,null,null,null,null,null,null,null,null,null,null,null,null,null,null,null,"00:00:00","00:00:00",0,{"$f":"SpellNumber((AI34))","v":"No Dollars and No Cents"},3,"No "]
["00:00:00",null,null,null,null,0,null,null,0,null,null,{"$f":"IFERROR(VLOOKUP(K35,$AD$7:AE37,2,FALSE),0)","v":0},null,null,0,null,null,null,null,null,null,null,"Context Frequency","Consequence","Antedencents",null,null,null,null,null,null,null,"00:00:00","00:00:00",0,{"$f":"SpellNumber((AI35))","v":"No Dollars and No Cents"},3,"No "]
["00:00:00",null,null,null,null,0,null,null,0,null,null,{"$f":"IFERROR(VLOOKUP(K36,$AD$7:AE38,2,FALSE),0)","v":0},null,null,0,null,null,null,null,null,null,"A",{"$f":"COUNTIF(E7:E104,\"A\")","v":0},{"$f":"COUNTIF(N7:N104,\"A\")","v":0},{"$f":"COUNTIF(H7:H104,\"A\")","v":0},null,null,null,null,null,null,null,"00:00:00","00:00:00",0,{"$f":"SpellNumber((AI36))","v":"No Dollars and No Cents"},3,"No "]
["00:00:00",null,null,null,null,0,null,null,0,null,null,{"$f":"IFERROR(VLOOKUP(K37,$AD$7:AE39,2,FALSE),0)","v":0},null,null,0,null,null,null,null,null,null,"B",{"$f":"COUNTIF(E8:E105,\"B\")","v":0},{"$f":"COUNTIF(N7:N104,\"B\")","v":0},{"$f":"COUNTIF(H7:H104,\"B\")","v":0},null,null,null,null,null,null,null,"00:00:00","00:00:00",0,{"$f":"SpellNumber((AI37))","v":"No Dollars and No Cents"},3,"No "]
["00:00:00",null,null,null,null,0,null,null,0,null,null,{"$f":"IFERROR(VLOOKUP(K38,$AD$7:AE40,2,FALSE),0)","v":0},null,null,0,null,null,null,null,null,null,"C",{"$f":"COUNTIF(E8:E105,\"C\")","v":0},{"$f":"COUNTIF(N7:N104,\"C\")","v":0},{"$f":"COUNTIF(H7:H104,\"C\")","v":0},null,null,null,null,null,null,null,"00:00:00","00:00:00",0,{"$f":"SpellNumber((AI38))","v":"No Dollars and No Cents"},3,"No "]
["00:00:00",null,null,null,null,0,null,null,0,null,null,{"$f":"IFERROR(VLOOKUP(K39,$AD$7:AE41,2,FALSE),0)","v":0},null,null,0,null,null,null,null,null,null,"D",{"$f":"COUNTIF(E8:E105,\"D\")","v":0},{"$f":"COUNTIF(N7:N104,\"D\")","v":0},{"$f":"COUNTIF(H7:H104,\"D\")","v":0},null,null,null,null,null,null,null,"00:00:00","00:00:00",0,{"$f":"SpellNumber((AI39))","v":"No Dollars and No Cents"},3,"No "]
["00:00:00",null,null,null,null,0,null,null,0,null,null,{"$f":"IFERROR(VLOOKUP(K40,$AD$7:AE42,2,FALSE),0)","v":0},null,null,0,null,null,null,null,null,null,"E",{"$f":"COUNTIF(E8:E105,\"E\")","v":0},{"$f":"COUNTIF(N7:N104,\"E\")","v":0},{"$f":"COUNTIF(H7:H104,\"E\")","v":0},null,null,null,null,null,null,null,"00:00:00","00:00:00",0,{"$f":"SpellNumber((AI40))","v":"No Dollars and No Cents"},3,"No "]
["00:00:00",null,null,null,null,0,null,null,0,null,null,{"$f":"IFERROR(VLOOKUP(K41,$AD$7:AE43,2,FALSE),0)","v":0},null,null,0,null,null,null,null,null,null,"F",{"$f":"COUNTIF(E8:E105,\"F\")","v":0},{"$f":"COUNTIF(N7:N104,\"F\")","v":0},{"$f":"COUNTIF(H7:H104,\"F\")","v":0},null,null,null,null,null,null,null,"00:00:00","00:00:00",0,{"$f":"SpellNumber((AI41))","v":"No Dollars and No Cents"},3,"No "]
["00:00:00",null,null,null,null,0,null,null,0,null,null,{"$f":"IFERROR(VLOOKUP(K42,$AD$7:AE44,2,FALSE),0)","v":0},null,null,0,null,null,null,null,null,null,"G",{"$f":"COUNTIF(E8:E105,\"G\")","v":0},{"$f":"COUNTIF(N7:N104,\"G\")","v":0},{"$f":"COUNTIF(H7:H104,\"G\")","v":0},null,null,null,null,null,null,null,"00:00:00","00:00:00",0,{"$f":"SpellNumber((AI42))","v":"No Dollars and No Cents"},3,"No "]
["00:00:00",null,null,null,null,0,null,null,0,null,null,{"$f":"IFERROR(VLOOKUP(K43,$AD$7:AE45,2,FALSE),0)","v":0},null,null,0,null,null,null,null,null,null,"H",{"$f":"COUNTIF(E8:E105,\"H\")","v":0},{"$f":"COUNTIF(N7:N104,\"H\")","v":0},{"$f":"COUNTIF(H7:H104,\"H\")","v":0},null,null,null,null,null,null,null,"00:00:00","00:00:00",0,{"$f":"SpellNumber((AI43))","v":"No Dollars and No Cents"},3,"No "]
["00:00:00",null,null,null,null,0,null,null,0,null,null,{"$f":"IFERROR(VLOOKUP(K44,$AD$7:AE46,2,FALSE),0)","v":0},null,null,0,null,null,null,null,null,null,"I",{"$f":"COUNTIF(E8:E105,\"I\")","v":0},{"$f":"COUNTIF(N7:N104,\"I\")","v":0},{"$f":"COUNTIF(H7:H104,\"I\")","v":0},null,null,null,null,null,null,null,"00:00:00","00:00:00",0,{"$f":"SpellNumber((AI44))","v":"No Dollars and No Cents"},3,"No "]
["00:00:00",null,null,null,null,0,null,null,0,null,null,{"$f":"IFERROR(VLOOKUP(K45,$AD$7:AE47,2,FALSE),0)","v":0},null,null,0,null,null,null,null,null,null,"J",{"$f":"COUNTIF(E8:E105,\"J\")","v":0},{"$f":"COUNTIF(N7:N104,\"J\")","v":0},{"$f":"COUNTIF(H7:H104,\"J\")","v":0},null,null,null,null,null,null,null,"00:00:00","00:00:00",0,{"$f":"SpellNumber((AI45))","v":"No Dollars and No Cents"},3,"No "]
["00:00:00",null,null,null,null,0,null,null,0,null,null,{"$f":"IFERROR(VLOOKUP(K46,$AD$7:AE48,2,FALSE),0)","v":0},null,null,0,null,null,null,null,null,null,"K",{"$f":"COUNTIF(E8:E105,\"K\")","v":0},{"$f":"COUNTIF(N7:N104,\"K\")","v":0},{"$f":"COUNTIF(H7:H104,\"K\")","v":0},null,null,null,null,null,null,null,"00:00:00","00:00:00",0,{"$f":"SpellNumber((AI46))","v":"No Dollars and No Cents"},3,"No "]
["00:00:00",null,null,null,null,0,null,null,0,null,null,{"$f":"IFERROR(VLOOKUP(K47,$AD$7:AE49,2,FALSE),0)","v":0},null,null,0,null,null,null,null,null,null,"L",{"$f":"COUNTIF(E8:E105,\"l\")","v":0},{"$f":"COUNTIF(N7:N104,\"L\")","v":0},{"$f":"COUNTIF(H7:H104,\"L\")","v":0},null,null,null,null,null,null,null,"00:00:00","00:00:00",0,{"$f":"SpellNumber((AI47))","v":"No Dollars and No Cents"},3,"No "]
["00:00:00",null,null,null,null,0,null,null,0,null,null,{"$f":"IFERROR(VLOOKUP(K48,$AD$7:AE50,2,FALSE),0)","v":0},null,null,0,null,null,null,null,null,null,null,null,null,null,null,null,null,null,null,null,null,"00:00:00","00:00:00",0,{"$f":"SpellNumber((AI48))","v":"No Dollars and No Cents"},3,"No "]
["00:00:00",null,null,null,null,0,null,null,0,null,null,{"$f":"IFERROR(VLOOKUP(K49,$AD$7:AE51,2,FALSE),0)","v":0},null,null,0,null,null,null,null,null,null,null,"Beh & Setting ",null,null,null,"Beh & Antecedents",null,null,null,null,null,"00:00:00","00:00:00",0,{"$f":"SpellNumber((AI49))","v":"No Dollars and No Cents"},3,"No "]
["00:00:00",null,null,null,null,0,null,null,0,null,null,{"$f":"IFERROR(VLOOKUP(K50,$AD$7:AE52,2,FALSE),0)","v":0},null,null,0,null,null,null,null,null,null,null,"A","B","C",null,null,"A","B","C",null,null,"00:00:00","00:00:00",0,{"$f":"SpellNumber((AI50))","v":"No Dollars and No Cents"},3,"No "]
["00:00:00",null,null,null,null,0,null,null,0,null,null,{"$f":"IFERROR(VLOOKUP(K51,$AD$7:AE53,2,FALSE),0)","v":0},null,null,0,null,null,null,null,null,null,"A",{"$f":"COUNTIFS(E7:E104,\"A\",K7:K104,\"A\")","v":0},{"$f":"COUNTIFS(E7:E104,\"A\",K7:K104,\"B\")","v":0},{"$f":"COUNTIFS(E7:E104,\"A\",K7:K104,\"C\")","v":0},null,"A",{"$f":"COUNTIFS(H7:H104,\"a\",K7:K104,\"A\")","v":0},{"$f":"COUNTIFS(H7:H104,\"A\",K7:K104,\"B\")","v":0},{"$f":"COUNTIFS(H7:H104,\"A\",K7:K104,\"C\")","v":0},null,null,"00:00:00","00:00:00",0,{"$f":"SpellNumber((AI51))","v":"No Dollars and No Cents"},3,"No "]
["00:00:00",null,null,null,null,0,null,null,0,null,null,{"$f":"IFERROR(VLOOKUP(K52,$AD$7:AE54,2,FALSE),0)","v":0},null,null,0,null,null,null,null,null,null,"B",{"$f":"COUNTIFS(E7:E104,\"B\",K7:K104,\"A\")","v":0},{"$f":"COUNTIFS(E7:E104,\"B\",K7:K104,\"B\")","v":0},{"$f":"COUNTIFS(E7:E104,\"B\",K7:K104,\"C\")","v":0},null,"B",{"$f":"COUNTIFS(H7:H104,\"B\",K7:K104,\"A\")","v":0},{"$f":"COUNTIFS(H7:H104,\"B\",K7:K104,\"B\")","v":0},{"$f":"COUNTIFS(H7:H104,\"B\",K7:K104,\"C\")","v":0},null,null,"00:00:00","00:00:00",0,{"$f":"SpellNumber((AI52))","v":"No Dollars and No Cents"},3,"No "]
["00:00:00",null,null,null,null,0,null,null,0,null,null,{"$f":"IFERROR(VLOOKUP(K53,$AD$7:AE55,2,FALSE),0)","v":0},null,null,0,null,null,null,null,null,null,"C",{"$f":"COUNTIFS(K7:K104,\"C\",K7:K104,\"A\")","v":0},{"$f":"COUNTIFS(E7:E104,\"C\",K7:K104,\"B\")","v":0},{"$f":"COUNTIFS(E7:E104,\"C\",K7:K104,\"C\")","v":0},null,"C",{"$f":"COUNTIFS(H7:H104,\"C\",K7:K104,\"A\")","v":0},{"$f":"COUNTIFS(H7:H104,\"C\",K7:K104,\"B\")","v":0},{"$f":"COUNTIFS(H7:H104,\"C\",K7:K104,\"C\")","v":0},null,null,"00:00:00","00:00:00",0,{"$f":"SpellNumber((AI53))","v":"No Dollars and No Cents"},3,"No "]
["00:00:00",null,null,null,null,0,null,null,0,null,null,{"$f":"IFERROR(VLOOKUP(K54,$AD$7:AE56,2,FALSE),0)","v":0},null,null,0,null,null,null,null,null,null,"D",{"$f":"COUNTIFS(E7:E104,\"D\",K7:K104,\"A\")","v":0},{"$f":"COUNTIFS(E7:E104,\"D\",K7:K104,\"B\")","v":0},{"$f":"COUNTIFS(E7:E104,\"D\",K7:K104,\"C\")","v":0},null,"D",{"$f":"COUNTIFS(H7:H104,\"D\",K7:K104,\"A\")","v":0},{"$f":"COUNTIFS(H7:H104,\"D\",K7:K104,\"B\")","v":0},{"$f":"COUNTIFS(H7:H104,\"D\",K7:K104,\"C\")","v":0},null,null,"00:00:00","00:00:00",0,{"$f":"SpellNumber((AI54))","v":"No Dollars and No Cents"},3,"No "]
["00:00:00",null,null,null,null,0,null,null,0,null,null,{"$f":"IFERROR(VLOOKUP(K55,$AD$7:AE57,2,FALSE),0)","v":0},null,null,0,null,null,null,null,null,null,"E",{"$f":"COUNTIFS(E7:E104,\"E\",K7:K104,\"A\")","v":0},{"$f":"COUNTIFS(E7:E104,\"E\",K7:K104,\"B\")","v":0},{"$f":"COUNTIFS(E7:E104,\"E\",K7:K104,\"C\")","v":0},null,"E",{"$f":"COUNTIFS(H7:H104,\"E\",K7:K104,\"A\")","v":0},{"$f":"COUNTIFS(H7:H104,\"E\",K7:K104,\"B\")","v":0},{"$f":"COUNTIFS(H7:H104,\"E\",K7:K104,\"C\")","v":0},null,null,"00:00:00","00:00:00",0,{"$f":"SpellNumber((AI55))","v":"No Dollars and No Cents"},3,"No "]
["00:00:00",null,null,null,null,0,null,null,0,null,null,{"$f":"IFERROR(VLOOKUP(K56,$AD$7:AE58,2,FALSE),0)","v":0},null,null,0,null,null,null,null,null,null,"F",{"$f":"COUNTIFS(E7:E104,\"F\",K7:K104,\"A\")","v":0},{"$f":"COUNTIFS(E7:E104,\"F\",K7:K104,\"B\")","v":0},{"$f":"COUNTIFS(E7:E104,\"F\",K7:K104,\"C\")","v":0},null,"F",{"$f":"COUNTIFS(H7:H104,\"F\",K7:K104,\"A\")","v":0},{"$f":"COUNTIFS(H7:H104,\"F\",K7:K104,\"B\")","v":0},{"$f":"COUNTIFS(H7:H104,\"F\",K7:K104,\"C\")","v":0},null,null,"00:00:00","00:00:00",0,{"$f":"SpellNumber((AI56))","v":"No Dollars and No Cents"},3,"No "]
["00:00:00",null,null,null,null,0,null,null,0,null,null,{"$f":"IFERROR(VLOOKUP(K57,$AD$7:AE59,2,FALSE),0)","v":0},null,null,0,null,null,null,null,null,null,"G",{"$f":"COUNTIFS(E7:E104,\"G\",K7:K104,\"A\")","v":0},{"$f":"COUNTIFS(E7:E104,\"G\",K7:K104,\"B\")","v":0},{"$f":"COUNTIFS(E7:E104,\"G\",K7:K104,\"C\")","v":0},null,"G",{"$f":"COUNTIFS(H7:H104,\"G\",K7:K104,\"A\")","v":0},{"$f":"COUNTIFS(H7:H104,\"G\",K7:K104,\"B\")","v":0},{"$f":"COUNTIFS(H7:H104,\"G\",K7:K104,\"C\")","v":0},null,null,"00:00:00","00:00:00",0,{"$f":"SpellNumber((AI57))","v":"No Dollars and No Cents"},3,"No "]
["00:00:00",null,null,null,null,0,null,null,0,null,null,{"$f":"IFERROR(VLOOKUP(K58,$AD$7:AE60,2,FALSE),0)","v":0},null,null,0,null,null,null,null,null,null,"H",{"$f":"COUNTIFS(E7:E104,\"H\",K7:K104,\"A\")","v":0},{"$f":"COUNTIFS(E7:E104,\"H\",K7:K104,\"B\")","v":0},{"$f":"COUNTIFS(E7:E104,\"H\",K7:K104,\"C\")","v":0},null,"H",{"$f":"COUNTIFS(H7:H104,\"H\",K7:K104,\"A\")","v":0},{"$f":"COUNTIFS(H7:H104,\"H\",K7:K104,\"B\")","v":0},{"$f":"COUNTIFS(H7:H104,\"H\",K7:K104,\"C\")","v":0},null,null,"00:00:00","00:00:00",0,{"$f":"SpellNumber((AI58))","v":"No Dollars and No Cents"},3,"No "]
["00:00:00",null,null,null,null,0,null,null,0,null,null,{"$f":"IFERROR(VLOOKUP(K59,$AD$7:AE61,2,FALSE),0)","v":0},null,null,0,null,null,null,null,null,null,"I",{"$f":"COUNTIFS(E7:E104,\"I\",K7:K104,\"A\")","v":0},{"$f":"COUNTIFS(E7:E104,\"I\",K7:K104,\"B\")","v":0},{"$f":"COUNTIFS(E7:E104,\"I\",K7:K104,\"C\")","v":0},null,"I",{"$f":"COUNTIFS(H7:H104,\"I\",K7:K104,\"A\")","v":0},{"$f":"COUNTIFS(H7:H104,\"I\",K7:K104,\"B\")","v":0},{"$f":"COUNTIFS(H7:H104,\"I\",K7:K104,\"C\")","v":0},null,null,"00:00:00","00:00:00",0,{"$f":"SpellNumber((AI59))","v":"No Dollars and No Cents"},3,"No "]
["00:00:00",null,null,null,null,0,null,null,0,null,null,{"$f":"IFERROR(VLOOKUP(K60,$AD$7:AE62,2,FALSE),0)","v":0},null,null,0,null,null,null,null,null,null,"J",{"$f":"COUNTIFS(E7:E104,\"J\",K7:K104,\"A\")","v":0},{"$f":"COUNTIFS(E7:E104,\"J\",K7:K104,\"B\")","v":0},{"$f":"COUNTIFS(E7:E104,\"J\",K7:K104,\"C\")","v":0},null,"J",{"$f":"COUNTIFS(H7:H104,\"J\",K7:K104,\"A\")","v":0},{"$f":"COUNTIFS(H7:H104,\"J\",K7:K104,\"B\")","v":0},{"$f":"COUNTIFS(H7:H104,\"J\",K7:K104,\"C\")","v":0},null,null,"00:00:00","00:00:00",0,{"$f":"SpellNumber((AI60))","v":"No Dollars and No Cents"},3,"No "]
["00:00:00",null,null,null,null,0,null,null,0,null,null,{"$f":"IFERROR(VLOOKUP(K61,$AD$7:AE63,2,FALSE),0)","v":0},null,null,0,null,null,null,null,null,null,"K",{"$f":"COUNTIFS(E7:E104,\"K\",K7:K104,\"A\")","v":0},{"$f":"COUNTIFS(E7:E104,\"K\",K7:K104,\"B\")","v":0},{"$f":"COUNTIFS(E7:E104,\"K\",K7:K104,\"C\")","v":0},null,"K",{"$f":"COUNTIFS(H7:H104,\"K\",K7:K104,\"A\")","v":0},{"$f":"COUNTIFS(H7:H104,\"K\",K7:K104,\"B\")","v":0},{"$f":"COUNTIFS(H7:H104,\"K\",K7:K104,\"C\")","v":0},null,null,"00:00:00","00:00:00",0,{"$f":"SpellNumber((AI61))","v":"No Dollars and No Cents"},3,"No "]
["00:00:00",null,null,null,null,0,null,null,0,null,null,{"$f":"IFERROR(VLOOKUP(K62,$AD$7:AE64,2,FALSE),0)","v":0},null,null,0,null,null,null,null,null,null,"L",{"$f":"COUNTIFS(E7:E104,\"L\",K7:K104,\"A\")","v":0},{"$f":"COUNTIFS(E7:E104,\"L\",K7:K104,\"B\")","v":0},{"$f":"COUNTIFS(E7:E104,\"L\",K7:K104,\"C\")","v":0},null,"L",{"$f":"COUNTIFS(H7:H104,\"L\",K7:K104,\"A\")","v":0},{"$f":"COUNTIFS(H7:H104,\"L\",K7:K104,\"B\")","v":0},{"$f":"COUNTIFS(H7:H104,\"L\",K7:K104,\"C\")","v":0},null,null,"00:00:00","00:00:00",0,{"$f":"SpellNumber((AI62))","v":"No Dollars and No Cents"},3,"No "]
["00:00:00",null,null,null,null,0,null,null,0,null,null,{"$f":"IFERROR(VLOOKUP(K63,$AD$7:AE65,2,FALSE),0)","v":0},null,null,0,null,null,null,null,null,null,null,"Beh & Consequences",null,null,null,null,null,null,null,null,null,"00:00:00","00:00:00",0,{"$f":"SpellNumber((AI63))","v":"No Dollars and No Cents"},3,"No "]
["00:00:00",null,null,null,null,0,null,null,0,null,null,{"$f":"IFERROR(VLOOKUP(K64,$AD$7:AE66,2,FALSE),0)","v":0},null,null,0,null,null,null,null,null,null,null,"A","B","C",null,null,null,null,null,null,null,"00:00:00","00:00:00",0,{"$f":"SpellNumber((AI64))","v":"No Dollars and No Cents"},3,"No "]
["00:00:00",null,null,null,null,0,null,null,0,null,null,{"$f":"IFERROR(VLOOKUP(K65,$AD$7:AE67,2,FALSE),0)","v":0},null,null,0,null,null,null,null,null,null,"A",{"$f":"COUNTIFS(N7:N104,\"A\",K7:K104,\"A\")","v":0},{"$f":"COUNTIFS(N7:N104,\"A\",K7:K104,\"B\")","v":0},{"$f":"COUNTIFS(N7:N104,\"A\",K7:K104,\"C\")","v":0},null,null,null,null,null,null,null,"00:00:00","00:00:00",0,{"$f":"SpellNumber((AI65))","v":"No Dollars and No Cents"},3,"No "]
["00:00:00",null,null,null,null,0,null,null,0,null,null,{"$f":"IFERROR(VLOOKUP(K66,$AD$7:AE68,2,FALSE),0)","v":0},null,null,0,null,null,null,null,null,null,"B",{"$f":"COUNTIFS(N7:N104,\"B\",K7:K104,\"A\")","v":0},{"$f":"COUNTIFS(N7:N104,\"B\",K7:K104,\"B\")","v":0},{"$f":"COUNTIFS(N7:N104,\"B\",K7:K104,\"C\")","v":0},null,null,null,null,null,null,null,"00:00:00","00:00:00",0,{"$f":"SpellNumber((AI66))","v":"No Dollars and No Cents"},3,"No "]
["00:00:00",null,null,null,null,0,null,null,0,null,null,{"$f":"IFERROR(VLOOKUP(K67,$AD$7:AE69,2,FALSE),0)","v":0},null,null,0,null,null,null,null,null,null,"C",{"$f":"COUNTIFS(N7:N104,\"C\",K7:K104,\"A\")","v":0},{"$f":"COUNTIFS(N7:N104,\"C\",K7:K104,\"B\")","v":0},{"$f":"COUNTIFS(N7:N104,\"C\",K7:K104,\"C\")","v":0},null,null,null,null,null,null,null,"00:00:00","00:00:00",0,{"$f":"SpellNumber((AI67))","v":"No Dollars and No Cents"},3,"No "]
["00:00:00",null,null,null,null,0,null,null,0,null,null,{"$f":"IFERROR(VLOOKUP(K68,$AD$7:AE70,2,FALSE),0)","v":0},null,null,0,null,null,null,null,null,null,"D",{"$f":"COUNTIFS(N7:N104,\"D\",K7:K104,\"A\")","v":0},{"$f":"COUNTIFS(N7:N104,\"D\",K7:K104,\"B\")","v":0},{"$f":"COUNTIFS(N7:N104,\"D\",K7:K104,\"C\")","v":0},null,null,null,null,null,null,null,"00:00:00","00:00:00",0,{"$f":"SpellNumber((AI68))","v":"No Dollars and No Cents"},3,"No "]
["00:00:00",null,null,null,null,0,null,null,0,null,null,{"$f":"IFERROR(VLOOKUP(K69,$AD$7:AE71,2,FALSE),0)","v":0},null,null,0,null,null,null,null,null,null,"E",{"$f":"COUNTIFS(N7:N104,\"E\",K7:K104,\"A\")","v":0},{"$f":"COUNTIFS(N7:N104,\"E\",K7:K104,\"B\")","v":0},{"$f":"COUNTIFS(N7:N104,\"E\",K7:K104,\"C\")","v":0},null,null,null,null,null,null,null,"00:00:00","00:00:00",0,{"$f":"SpellNumber((AI69))","v":"No Dollars and No Cents"},3,"No "]
["00:00:00",null,null,null,null,0,null,null,0,null,null,{"$f":"IFERROR(VLOOKUP(K70,$AD$7:AE72,2,FALSE),0)","v":0},null,null,0,null,null,null,null,null,null,"F",{"$f":"COUNTIFS(N7:N104,\"F\",K7:K104,\"A\")","v":0},{"$f":"COUNTIFS(N7:N104,\"F\",K7:K104,\"B\")","v":0},{"$f":"COUNTIFS(N7:N104,\"F\",K7:K104,\"C\")","v":0},null,null,null,null,null,null,null,"00:00:00","00:00:00",0,{"$f":"SpellNumber((AI70))","v":"No Dollars and No Cents"},3,"No "]
["00:00:00",null,null,null,null,0,null,null,0,null,null,{"$f":"IFERROR(VLOOKUP(K71,$AD$7:AE73,2,FALSE),0)","v":0},null,null,0,null,null,null,null,null,null,"G",{"$f":"COUNTIFS(N7:N104,\"G\",K7:K104,\"A\")","v":0},{"$f":"COUNTIFS(N7:N104,\"G\",K7:K104,\"B\")","v":0},{"$f":"COUNTIFS(N7:N104,\"G\",K7:K104,\"C\")","v":0},null,null,null,null,null,null,null,"00:00:00","00:00:00",0,{"$f":"SpellNumber((AI71))","v":"No Dollars and No Cents"},3,"No "]
[{"$f":"C72-B72","v":"00:00:00"},null,null,null,null,0,null,null,{"$f":"IFERROR(VLOOKUP(H72,$Z$7:$AA$18,2,FALSE),0)","v":0},null,null,{"$f":"IFERROR(VLOOKUP(K72,$AD$7:AE74,2,FALSE),0)","v":0},null,null,{"$f":"IFERROR(VLOOKUP(N72,$V$22:$W$33,2,FALSE),0)","v":0},null,null,null,null,null,null,"H",{"$f":"COUNTIFS(N7:N104,\"H\",K7:K104,\"A\")","v":0},{"$f":"COUNTIFS(N7:N104,\"H\",K7:K104,\"B\")","v":0},{"$f":"COUNTIFS(N7:N104,\"H\",K7:K104,\"C\")","v":0},null,null,null,null,null,null,null,{"$f":"B72","v":"00:00:00"},{"$f":"TEXT(AG72,\"hh:mm:ss\")","v":"00:00:00"},{"$f":"AG72*24","v":0},{"$f":"SpellNumber((AI72))","v":"No Dollars and No Cents"},{"$f":"FIND(\" Dollar\",AJ72)","v":3},{"$f":"LEFT(AJ72,AK72)","v":"No "}]
["00:00:00",null,null,null,null,{"$f":"IFERROR(VLOOKUP(E73,$V$7:$W$18,2,FALSE),0)","v":0},null,null,0,null,null,{"$f":"IFERROR(VLOOKUP(K73,$AD$7:AE75,2,FALSE),0)","v":0},null,null,0,null,null,null,null,null,null,"I",{"$f":"COUNTIFS(N7:N104,\"I\",K7:K104,\"A\")","v":0},{"$f":"COUNTIFS(N7:N104,\"I\",K7:K104,\"B\")","v":0},{"$f":"COUNTIFS(N7:N104,\"I\",K7:K104,\"C\")","v":0},null,null,null,null,null,null,null,"00:00:00","00:00:00",0,{"$f":"SpellNumber((AI73))","v":"No Dollars and No Cents"},3,"No "]
["00:00:00",null,null,null,null,0,null,null,0,null,null,{"$f":"IFERROR(VLOOKUP(K74,$AD$7:AE76,2,FALSE),0)","v":0},null,null,0,null,null,null,null,null,null,"J",{"$f":"COUNTIFS(N7:N104,\"J\",K7:K104,\"A\")","v":0},{"$f":"COUNTIFS(N7:N104,\"J\",K7:K104,\"B\")","v":0},{"$f":"COUNTIFS(N7:N104,\"J\",K7:K104,\"C\")","v":0},null,null,null,null,null,null,null,"00:00:00","00:00:00",0,{"$f":"SpellNumber((AI74))","v":"No Dollars and No Cents"},3,"No "]
["00:00:00",null,null,null,null,0,null,null,0,null,null,{"$f":"IFERROR(VLOOKUP(K75,$AD$7:AE77,2,FALSE),0)","v":0},null,null,0,null,null,null,null,null,null,"K",{"$f":"COUNTIFS(N7:N104,\"K\",K7:K104,\"A\")","v":0},{"$f":"COUNTIFS(N7:N104,\"K\",K7:K104,\"B\")","v":0},{"$f":"COUNTIFS(N7:N104,\"K\",K7:K104,\"C\")","v":0},null,null,null,null,null,null,null,"00:00:00","00:00:00",0,{"$f":"SpellNumber((AI75))","v":"No Dollars and No Cents"},3,"No "]
["00:00:00",null,null,null,null,0,null,null,0,null,null,{"$f":"IFERROR(VLOOKUP(K76,$AD$7:AE78,2,FALSE),0)","v":0},null,null,0,null,null,null,null,null,null,"L",{"$f":"COUNTIFS(N7:N104,\"L\",K7:K104,\"A\")","v":0},{"$f":"COUNTIFS(N7:N104,\"L\",K7:K104,\"B\")","v":0},{"$f":"COUNTIFS(N7:N104,\"L\",K7:K104,\"C\")","v":0},null,null,null,null,null,null,null,"00:00:00","00:00:00",0,{"$f":"SpellNumber((AI76))","v":"No Dollars and No Cents"},3,"No "]
["00:00:00",null,null,null,null,0,null,null,0,null,null,{"$f":"IFERROR(VLOOKUP(K77,$AD$7:AE79,2,FALSE),0)","v":0},null,null,0,null,null,null,null,null,null,null,null,null,null,null,null,null,null,null,null,null,"00:00:00","00:00:00",0,{"$f":"SpellNumber((AI77))","v":"No Dollars and No Cents"},3,"No "]
["00:00:00",null,null,null,null,0,null,null,0,null,null,{"$f":"IFERROR(VLOOKUP(K78,$AD$7:AE80,2,FALSE),0)","v":0},null,null,0,null,null,null,null,null,null,null,null,null,null,null,null,null,null,null,null,null,"00:00:00","00:00:00",0,{"$f":"SpellNumber((AI78))","v":"No Dollars and No Cents"},3,"No "]
["00:00:00",null,null,null,null,0,null,null,0,null,null,{"$f":"IFERROR(VLOOKUP(K79,$AD$7:AE81,2,FALSE),0)","v":0},null,null,0,null,null,null,null,null,null,null,null,null,null,null,null,null,null,null,null,null,"00:00:00","00:00:00",0,{"$f":"SpellNumber((AI79))","v":"No Dollars and No Cents"},3,"No "]
["00:00:00",null,null,null,null,0,null,null,0,null,null,{"$f":"IFERROR(VLOOKUP(K80,$AD$7:AE82,2,FALSE),0)","v":0},null,null,0,null,null,null,null,null,null,null,null,null,null,null,null,null,null,null,null,null,"00:00:00","00:00:00",0,{"$f":"SpellNumber((AI80))","v":"No Dollars and No Cents"},3,"No "]
["00:00:00",null,null,null,null,0,null,null,0,null,null,{"$f":"IFERROR(VLOOKUP(K81,$AD$7:AE83,2,FALSE),0)","v":0},null,null,0,null,null,null,null,null,null,null,null,null,null,null,null,null,null,null,null,null,"00:00:00","00:00:00",0,{"$f":"SpellNumber((AI81))","v":"No Dollars and No Cents"},3,"No "]
["00:00:00",null,null,null,null,0,null,null,0,null,null,{"$f":"IFERROR(VLOOKUP(K82,$AD$7:AE84,2,FALSE),0)","v":0},null,null,0,null,null,null,null,null,null,null,null,null,null,null,null,null,null,null,null,null,"00:00:00","00:00:00",0,{"$f":"SpellNumber((AI82))","v":"No Dollars and No Cents"},3,"No "]
["00:00:00",null,null,null,null,0,null,null,0,null,null,{"$f":"IFERROR(VLOOKUP(K83,$AD$7:AE85,2,FALSE),0)","v":0},null,null,0,null,null,null,null,null,null,null,null,null,null,null,null,null,null,null,null,null,"00:00:00","00:00:00",0,{"$f":"SpellNumber((AI83))","v":"No Dollars and No Cents"},3,"No "]
["00:00:00",null,null,null,null,0,null,null,0,null,null,{"$f":"IFERROR(VLOOKUP(K84,$AD$7:AE86,2,FALSE),0)","v":0},null,null,0,null,null,null,null,null,null,null,null,null,null,null,null,null,null,null,null,null,"00:00:00","00:00:00",0,{"$f":"SpellNumber((AI84))","v":"No Dollars and No Cents"},3,"No "]
["00:00:00",null,null,null,null,0,null,null,0,null,null,{"$f":"IFERROR(VLOOKUP(K85,$AD$7:AE87,2,FALSE),0)","v":0},null,null,0,null,null,null,null,null,null,null,null,null,null,null,null,null,null,null,null,null,"00:00:00","00:00:00",0,{"$f":"SpellNumber((AI85))","v":"No Dollars and No Cents"},3,"No "]
["00:00:00",null,null,null,null,0,null,null,0,null,null,{"$f":"IFERROR(VLOOKUP(K86,$AD$7:AE88,2,FALSE),0)","v":0},null,null,0,null,null,null,null,null,null,null,null,null,null,null,null,null,null,null,null,null,"00:00:00","00:00:00",0,{"$f":"SpellNumber((AI86))","v":"No Dollars and No Cents"},3,"No "]
["00:00:00",null,null,null,null,0,null,null,0,null,null,{"$f":"IFERROR(VLOOKUP(K87,$AD$7:AE89,2,FALSE),0)","v":0},null,null,0,null,null,null,null,null,null,null,null,null,null,null,null,null,null,null,null,null,"00:00:00","00:00:00",0,{"$f":"SpellNumber((AI87))","v":"No Dollars and No Cents"},3,"No "]
["00:00:00",null,null,null,null,0,null,null,0,null,null,{"$f":"IFERROR(VLOOKUP(K88,$AD$7:AE90,2,FALSE),0)","v":0},null,null,0,null,null,null,null,null,null,null,null,null,null,null,null,null,null,null,null,null,"00:00:00","00:00:00",0,{"$f":"SpellNumber((AI88))","v":"No Dollars and No Cents"},3,"No "]
["00:00:00",null,null,null,null,0,null,null,0,null,null,{"$f":"IFERROR(VLOOKUP(K89,$AD$7:AE91,2,FALSE),0)","v":0},null,null,0,null,null,null,null,null,null,null,null,null,null,null,null,null,null,null,null,null,"00:00:00","00:00:00",0,{"$f":"SpellNumber((AI89))","v":"No Dollars and No Cents"},3,"No "]
["00:00:00",null,null,null,null,0,null,null,0,null,null,{"$f":"IFERROR(VLOOKUP(K90,$AD$7:AE92,2,FALSE),0)","v":0},null,null,0,null,null,null,null,null,null,null,null,null,null,null,null,null,null,null,null,null,"00:00:00","00:00:00",0,{"$f":"SpellNumber((AI90))","v":"No Dollars and No Cents"},3,"No "]
["00:00:00",null,null,null,null,0,null,null,0,null,null,{"$f":"IFERROR(VLOOKUP(K91,$AD$7:AE93,2,FALSE),0)","v":0},null,null,0,null,null,null,"Total Mins",{"$f":"SUM(A7:A104)","v":"00:00:00"},null,null,null,null,null,null,null,null,null,null,null,null,"00:00:00","00:00:00",0,{"$f":"SpellNumber((AI91))","v":"No Dollars and No Cents"},3,"No "]
["00:00:00",null,null,null,null,0,null,null,0,null,null,{"$f":"IFERROR(VLOOKUP(K92,$AD$7:AE94,2,FALSE),0)","v":0},null,null,0,null,null,null,"Settings:","A",{"$f":"COUNTIF(E4:E104,\"A\")","v":0},"Antec.","A",{"$f":"COUNTIF(H4:H104,\"A\")","v":0},"Beh","A",{"$f":"COUNTIF(L4:L104,\"A\")","v":0},"Conse.","A",{"$f":"COUNTIF(O4:O104,\"A\")","v":0},null,null,"00:00:00","00:00:00",0,{"$f":"SpellNumber((AI92))","v":"No Dollars and No Cents"},3,"No "]
["00:00:00",null,null,null,null,0,null,null,0,null,null,{"$f":"IFERROR(VLOOKUP(K93,$AD$7:AE95,2,FALSE),0)","v":0},null,null,0,null,null,null,null,"B",{"$f":"COUNTIF(E5:E105,\"B\")","v":0},null,"B",{"$f":"COUNTIF(H5:H105,\"B\")","v":0},null,"B",{"$f":"COUNTIF(L5:L105,\"B\")","v":0},null,"B",{"$f":"COUNTIF(O5:O105,\"B\")","v":0},null,null,"00:00:00","00:00:00",0,{"$f":"SpellNumber((AI93))","v":"No Dollars and No Cents"},3,"No "]
["00:00:00",null,null,null,null,0,null,null,0,null,null,{"$f":"IFERROR(VLOOKUP(K94,$AD$7:AE96,2,FALSE),0)","v":0},null,null,0,null,null,null,null,"C",{"$f":"COUNTIF(E6:E106,\"C\")","v":0},null,"C",{"$f":"COUNTIF(H6:H106,\"C\")","v":0},null,"C",{"$f":"COUNTIF(L6:L106,\"C\")","v":0},null,"C",{"$f":"COUNTIF(O6:O106,\"C\")","v":0},null,null,"00:00:00","00:00:00",0,{"$f":"SpellNumber((AI94))","v":"No Dollars and No Cents"},3,"No "]
["00:00:00",null,null,null,null,0,null,null,0,null,null,{"$f":"IFERROR(VLOOKUP(K95,$AD$7:AE97,2,FALSE),0)","v":0},null,null,0,null,null,null,null,"D",{"$f":"COUNTIF(E7:E107,\"D\")","v":0},null,"D",{"$f":"COUNTIF(H7:H107,\"D\")","v":0},null,null,null,null,"D",{"$f":"COUNTIF(O7:O107,\"D\")","v":0},null,null,"00:00:00","00:00:00",0,{"$f":"SpellNumber((AI95))","v":"No Dollars and No Cents"},3,"No "]
["00:00:00",null,null,null,null,0,null,null,0,null,null,{"$f":"IFERROR(VLOOKUP(K96,$AD$7:AE98,2,FALSE),0)","v":0},null,null,0,null,null,null,null,"E",{"$f":"COUNTIF(E8:E108,\"E\")","v":0},null,"E",{"$f":"COUNTIF(H8:H108,\"E\")","v":0},null,null,null,null,"E",{"$f":"COUNTIF(O8:O108,\"E\")","v":0},null,null,"00:00:00","00:00:00",0,{"$f":"SpellNumber((AI96))","v":"No Dollars and No Cents"},3,"No "]
["00:00:00",null,null,null,null,0,null,null,0,null,null,{"$f":"IFERROR(VLOOKUP(K97,$AD$7:AE99,2,FALSE),0)","v":0},null,null,0,null,null,null,null,"F",{"$f":"COUNTIF(E9:E109,\"F\")","v":0},null,"F",{"$f":"COUNTIF(H9:H109,\"F\")","v":0},null,null,null,null,"F",{"$f":"COUNTIF(O9:O109,\"F\")","v":0},null,null,"00:00:00","00:00:00",0,{"$f":"SpellNumber((AI97))","v":"No Dollars and No Cents"},3,"No "]
["00:00:00",null,null,null,null,0,null,null,0,null,null,{"$f":"IFERROR(VLOOKUP(K98,$AD$7:AE100,2,FALSE),0)","v":0},null,null,0,null,null,null,null,"G",{"$f":"COUNTIF(E10:E110,\"G\")","v":0},null,"G",{"$f":"COUNTIF(H10:H110,\"G\")","v":0},null,null,null,null,"G",{"$f":"COUNTIF(O10:O110,\"G\")","v":0},null,null,"00:00:00","00:00:00",0,{"$f":"SpellNumber((AI98))","v":"No Dollars and No Cents"},3,"No "]
["00:00:00",null,null,null,null,0,null,null,0,null,null,{"$f":"IFERROR(VLOOKUP(K99,$AD$7:AE101,2,FALSE),0)","v":0},null,null,0,null,null,null,null,"H",{"$f":"COUNTIF(E11:E111,\"H\")","v":0},null,"H",{"$f":"COUNTIF(H11:H111,\"H\")","v":0},null,null,null,null,"H",{"$f":"COUNTIF(O11:O111,\"H\")","v":0},null,null,"00:00:00","00:00:00",0,{"$f":"SpellNumber((AI99))","v":"No Dollars and No Cents"},3,"No "]
["00:00:00",null,null,null,null,0,null,null,0,null,null,{"$f":"IFERROR(VLOOKUP(K100,$AD$7:AE102,2,FALSE),0)","v":0},null,null,0,null,null,null,null,"I",{"$f":"COUNTIF(E12:E112,\"I\")","v":0},null,"I",{"$f":"COUNTIF(H12:H112,\"I\")","v":0},null,null,null,null,"I",{"$f":"COUNTIF(O12:O112,\"I\")","v":0},null,null,"00:00:00","00:00:00",0,{"$f":"SpellNumber((AI100))","v":"No Dollars and No Cents"},3,"No "]
["00:00:00",null,null,null,null,0,null,null,0,null,null,{"$f":"IFERROR(VLOOKUP(K101,$AD$7:AE103,2,FALSE),0)","v":0},null,null,0,null,null,null,null,"J",{"$f":"COUNTIF(E13:E113,\"J\")","v":0},null,"J",{"$f":"COUNTIF(H13:H113,\"J\")","v":0},null,null,null,null,"J",{"$f":"COUNTIF(O13:O113,\"J\")","v":0},null,null,"00:00:00","00:00:00",0,{"$f":"SpellNumber((AI101))","v":"No Dollars and No Cents"},3,"No "]
["00:00:00",null,null,null,null,0,null,null,0,null,null,{"$f":"IFERROR(VLOOKUP(K102,$AD$7:AE104,2,FALSE),0)","v":0},null,null,0,null,null,null,null,"K",{"$f":"COUNTIF(E14:E114,\"K\")","v":0},null,"K",{"$f":"COUNTIF(H14:H114,\"K\")","v":0},null,null,null,null,"K",{"$f":"COUNTIF(O14:O114,\"K\")","v":0},null,null,"00:00:00","00:00:00",0,{"$f":"SpellNumber((AI102))","v":"No Dollars and No Cents"},3,"No "]
["00:00:00",null,null,null,null,0,null,null,0,null,null,{"$f":"IFERROR(VLOOKUP(K103,$AD$7:AE105,2,FALSE),0)","v":0},null,null,0,null,null,null,null,"L",{"$f":"COUNTIF(E15:E115,\"L\")","v":0},null,"L",{"$f":"COUNTIF(H15:H115,\"L\")","v":0},null,null,null,null,"L",{"$f":"COUNTIF(O15:O115,\"L\")","v":0},null,null,"00:00:00","00:00:00",0,{"$f":"SpellNumber((AI103))","v":"No Dollars and No Cents"},3,"No "]
["00:00:00",null,null,null,null,0,null,null,0,null,null,{"$f":"IFERROR(VLOOKUP(K104,$AD$7:AE106,2,FALSE),0)","v":0},null,null,0,null,null,null,null,null,null,null,null,null,null,null,null,null,null,null,null,null,"00:00:00","00:00:00",0,{"$f":"SpellNumber((AI104))","v":"No Dollars and No Cents"},3,"No "]

{"sheet":"Data 31","index":39,"n_rows":104,"n_cols":38,"rows_kept":104,"cut":false,"hidden":false,"merged":[[0,7,3,14]]}
["ATTENDANCE",null,null,null,null,null,null,"Data Collection"]
["If tardy, arrival time",null,null,null,null,null,null,null,null,null,null,null,null,null,null,null,null,null,null,null,null,null,"Date",{"$f":"Calendar!E9","v":{"$error":"#N/A"}},{"$f":"TEXT(X2,\"ddd\")","v":{"$error":"#N/A"}}]
["If left early, time",null,null,null,null,null,null,null,null,null,null,null,null,null,null,null,null,null,null,null,null,null,"Frq. Of bx",{"$f":"AA22","v":0}]
[]
[]
["Mins.","Start Time","End Time",null,null,null,null,null,null,null,null,null,null,null,null,null,null,null,null,null,null,null,"Setting",null,null,"Ant",null,null,null,"Beh",null,null,"Raw Data","Time in text","Decimal"]
[{"$f":"C7-B7","v":"00:00:00"},null,null,null,null,{"$f":"IFERROR(VLOOKUP(E7,$V$7:$W$18,2,FALSE),0)","v":0},null,null,{"$f":"IFERROR(VLOOKUP(H7,$Z$7:$AA$18,2,FALSE),0)","v":0},null,null,{"$f":"IFERROR(VLOOKUP(K7,$AD$7:AE9,2,FALSE),0)","v":0},null,null,{"$f":"IFERROR(VLOOKUP(N7,$V$22:$W$33,2,FALSE),0)","v":0},null,null,null,null,null,null,"A",{"$f":"Criteria!C4","v":"Transition"},null,null,"A",{"$f":"Criteria!E4","v":"Transition"},null,null,"A",{"$f":"Criteria!G4","v":0},null,{"$f":"B7","v":"00:00:00"},{"$f":"TEXT(AG7,\"hh:mm:ss\")","v":"00:00:00"},{"$f":"AG7*24","v":0},{"$f":"SpellNumber((AI7))","v":"No Dollars and No Cents"},{"$f":"FIND(\" Dollar\",AJ7)","v":3},{"$f":"LEFT(AJ7,AK7)","v":"No "}]
[{"$f":"C8-B8","v":"00:00:00"},null,null,null,null,{"$f":"IFERROR(VLOOKUP(E8,$V$7:$W$18,2,FALSE),0)","v":0},null,null,{"$f":"IFERROR(VLOOKUP(H8,$Z$7:$AA$18,2,FALSE),0)","v":0},null,null,{"$f":"IFERROR(VLOOKUP(K8,$AD$7:AE10,2,FALSE),0)","v":0},null,null,{"$f":"IFERROR(VLOOKUP(N8,$V$22:$W$33,2,FALSE),0)","v":0},null,null,null,null,null,null,"B",{"$f":"Criteria!C5","v":"Morning Routine"},null,null,"B",{"$f":"Criteria!E5","v":"Denied access ('No')"},null,null,"B",{"$f":"Criteria!G5","v":0},null,{"$f":"B8","v":"00:00:00"},{"$f":"TEXT(AG8,\"hh:mm:ss\")","v":"00:00:00"},{"$f":"AG8*24","v":0},{"$f":"SpellNumber((AI8))","v":"No Dollars and No Cents"},{"$f":"FIND(\" Dollar\",AJ8)","v":3},{"$f":"LEFT(AJ8,AK8)","v":"No "}]
["00:00:00",null,null,null,null,{"$f":"IFERROR(VLOOKUP(E9,$V$7:$W$18,2,FALSE),0)","v":0},null,null,0,null,null,{"$f":"IFERROR(VLOOKUP(K9,$AD$7:AE11,2,FALSE),0)","v":0},null,null,0,null,null,null,null,null,null,"C",{"$f":"Criteria!C6","v":"Group Work"},null,null,"C",{"$f":"Criteria!E6","v":"Instruction/ Directions"},null,null,"C",{"$f":"Criteria!G6","v":0},null,"00:00:00","00:00:00",0,{"$f":"SpellNumber((AI9))","v":"No Dollars and No Cents"},3,"No "]
["00:00:00",null,null,null,null,0,null,null,0,null,null,{"$f":"IFERROR(VLOOKUP(K10,$AD$7:AE12,2,FALSE),0)","v":0},null,null,0,null,null,null,null,null,null,"D",{"$f":"Criteria!C7","v":"Ind. Seat/Work Time"},null,null,"D",{"$f":"Criteria!E7","v":"New Task"},null,null,null,null,null,"00:00:00","00:00:00",0,{"$f":"SpellNumber((AI10))","v":"No Dollars and No Cents"},3,"No "]
["00:00:00",null,null,null,null,0,null,null,0,null,null,{"$f":"IFERROR(VLOOKUP(K11,$AD$7:AE13,2,FALSE),0)","v":0},null,null,0,null,null,null,null,null,null,"E",{"$f":"Criteria!C8","v":"Language Arts"},null,null,"E",{"$f":"Criteria!E8","v":"Tcher attn to other"},null,null,null,null,null,"00:00:00","00:00:00",0,{"$f":"SpellNumber((AI11))","v":"No Dollars and No Cents"},3,"No "]
["00:00:00",null,null,null,null,0,null,null,0,null,null,{"$f":"IFERROR(VLOOKUP(K12,$AD$7:AE14,2,FALSE),0)","v":0},null,null,0,null,null,null,null,null,null,"F",{"$f":"Criteria!C9","v":"Mathematics"},null,null,"F",{"$f":"Criteria!E9","v":"Choice given"},null,null,null,null,null,"00:00:00","00:00:00",0,{"$f":"SpellNumber((AI12))","v":"No Dollars and No Cents"},3,"No "]
["00:00:00",null,null,null,null,0,null,null,0,null,null,{"$f":"IFERROR(VLOOKUP(K13,$AD$7:AE15,2,FALSE),0)","v":0},null,null,0,null,null,null,null,null,null,"G",{"$f":"Criteria!C10","v":"Physical Education"},null,null,"G",{"$f":"Criteria!E10","v":"Redirection"},null,null,null,null,null,"00:00:00","00:00:00",0,{"$f":"SpellNumber((AI13))","v":"No Dollars and No Cents"},3,"No "]
["00:00:00",null,null,null,null,0,null,null,0,null,null,{"$f":"IFERROR(VLOOKUP(K14,$AD$7:AE16,2,FALSE),0)","v":0},null,null,0,null,null,null,null,null,null,"H",{"$f":"Criteria!C11","v":"Music/Art"},null,null,"H",{"$f":"Criteria!E11","v":"Routine Task"},null,null,null,null,null,"00:00:00","00:00:00",0,{"$f":"SpellNumber((AI14))","v":"No Dollars and No Cents"},3,"No "]
["00:00:00",null,null,null,null,0,null,null,0,null,null,{"$f":"IFERROR(VLOOKUP(K15,$AD$7:AE17,2,FALSE),0)","v":0},null,null,0,null,null,null,null,null,null,"I",{"$f":"Criteria!C12","v":"Speech"},null,null,"I",{"$f":"Criteria!E12","v":"Waiting"},null,null,null,null,null,"00:00:00","00:00:00",0,{"$f":"SpellNumber((AI15))","v":"No Dollars and No Cents"},3,"No "]
["00:00:00",null,null,null,null,0,null,null,0,null,null,{"$f":"IFERROR(VLOOKUP(K16,$AD$7:AE18,2,FALSE),0)","v":0},null,null,0,null,null,null,null,null,null,"J",{"$f":"Criteria!C13","v":"OT/PT"},null,null,"J",{"$f":"Criteria!E13","v":"Unknown"},null,null,null,null,null,"00:00:00","00:00:00",0,{"$f":"SpellNumber((AI16))","v":"No Dollars and No Cents"},3,"No "]
["00:00:00",null,null,null,null,0,null,null,0,null,null,{"$f":"IFERROR(VLOOKUP(K17,$AD$7:AE19,2,FALSE),0)","v":0},null,null,0,null,null,null,null,null,null,"K",{"$f":"Criteria!C14","v":"Center"},null,null,"K",{"$f":"Criteria!E14","v":"Ignored"},null,null,null,null,null,"00:00:00","00:00:00",0,{"$f":"SpellNumber((AI17))","v":"No Dollars and No Cents"},3,"No "]
["00:00:00",null,null,null,null,0,null,null,0,null,null,{"$f":"IFERROR(VLOOKUP(K18,$AD$7:AE20,2,FALSE),0)","v":0},null,null,0,null,null,null,null,null,null,"L",{"$f":"Criteria!C15","v":"Other"},null,null,"L",{"$f":"Criteria!E15","v":"Other"},null,null,null,null,null,"00:00:00","00:00:00",0,{"$f":"SpellNumber((AI18))","v":"No Dollars and No Cents"},3,"No "]
["00:00:00",null,null,null,null,0,null,null,0,null,null,{"$f":"IFERROR(VLOOKUP(K19,$AD$7:AE21,2,FALSE),0)","v":0},null,null,0,null,null,null,null,null,null,null,null,null,null,null,null,null,null,null,null,null,"00:00:00","00:00:00",0,{"$f":"SpellNumber((AI19))","v":"No Dollars and No Cents"},3,"No "]
["00:00:00",null,null,null,null,0,null,null,0,null,null,{"$f":"IFERROR(VLOOKUP(K20,$AD$7:AE22,2,FALSE),0)","v":0},null,null,0,null,null,null,null,null,null,null,null,null,null,null,null,null,null,null,null,null,"00:00:00","00:00:00",0,{"$f":"SpellNumber((AI20))","v":"No Dollars and No Cents"},3,"No "]
["00:00:00",null,null,null,null,0,null,null,0,null,null,{"$f":"IFERROR(VLOOKUP(K21,$AD$7:AE23,2,FALSE),0)","v":0},null,null,0,null,null,null,null,null,null,null,"Con",null,"Bx Frequency Per Day",null,null,null,null,null,null,null,"00:00:00","00:00:00",0,{"$f":"SpellNumber((AI21))","v":"No Dollars and No Cents"},3,"No "]
["00:00:00",null,null,null,null,0,null,null,0,null,null,{"$f":"IFERROR(VLOOKUP(K22,$AD$7:AE24,2,FALSE),0)","v":0},null,null,0,null,null,null,null,null,null,"A",{"$f":"Criteria!I4","v":"Choice Given"},"A",{"$f":"COUNTIF(K7:K104,\"A\")","v":0},null,{"$f":"SUM(Y22:Y24)","v":0},null,"Bin Dec","Frequency of Time",null,null,"00:00:00","00:00:00",0,{"$f":"SpellNumber((AI22))","v":"No Dollars and No Cents"},3,"No "]
["00:00:00",null,null,null,null,0,null,null,0,null,null,{"$f":"IFERROR(VLOOKUP(K23,$AD$7:AE25,2,FALSE),0)","v":0},null,null,0,null,null,null,null,null,null,"B",{"$f":"Criteria!I5","v":"Ignored"},"B",{"$f":"COUNTIF(K7:K104,\"B\")","v":0},null,null,null,"Seven",{"$f":"COUNTIF(AL7:AL104,\"*Seven*\")","v":0},null,null,"00:00:00","00:00:00",0,{"$f":"SpellNumber((AI23))","v":"No Dollars and No Cents"},3,"No "]
["00:00:00",null,null,null,null,0,null,null,0,null,null,{"$f":"IFERROR(VLOOKUP(K24,$AD$7:AE26,2,FALSE),0)","v":0},null,null,0,null,null,null,null,null,null,"C",{"$f":"Criteria!I6","v":"Redirection"},"C",{"$f":"COUNTIF(K7:K104,\"C\")","v":0},null,null,null,"Eight",{"$f":"COUNTIF(AL7:AL104,\"*Eight*\")","v":0},null,null,"00:00:00","00:00:00",0,{"$f":"SpellNumber((AI24))","v":"No Dollars and No Cents"},3,"No "]
["00:00:00",null,null,null,null,0,null,null,0,null,null,{"$f":"IFERROR(VLOOKUP(K25,$AD$7:AE27,2,FALSE),0)","v":0},null,null,0,null,null,null,null,null,null,"D",{"$f":"Criteria!I7","v":"Kept the demand"},null,"Bx Druation Per Day",null,null,null,"Nine",{"$f":"COUNTIF(AL7:AL104,\"*Nine*\")","v":0},null,null,"00:00:00","00:00:00",0,{"$f":"SpellNumber((AI25))","v":"No Dollars and No Cents"},3,"No "]
["00:00:00",null,null,null,null,0,null,null,0,null,null,{"$f":"IFERROR(VLOOKUP(K26,$AD$7:AE28,2,FALSE),0)","v":0},null,null,0,null,null,null,null,null,null,"E",{"$f":"Criteria!I8","v":"Changed activity"},"A",{"$f":"SUMIF(K7:K104,\"A\",A7:A104)","v":"00:00:00"},null,null,null,"Ten",{"$f":"COUNTIF(AL7:AL12,\"*Ten*\")","v":0},null,null,"00:00:00","00:00:00",0,{"$f":"SpellNumber((AI26))","v":"No Dollars and No Cents"},3,"No "]
["00:00:00",null,null,null,null,0,null,null,0,null,null,{"$f":"IFERROR(VLOOKUP(K27,$AD$7:AE29,2,FALSE),0)","v":0},null,null,0,null,null,null,null,null,null,"F",{"$f":"Criteria!I9","v":"Verbal reprimand"},"B",{"$f":"SUMIF(K7:K104,\"B\",A7:A104)","v":"00:00:00"},null,null,null,"Eleven",{"$f":"COUNTIF(AL7:AL104,\"*Eleven*\")","v":0},null,null,"00:00:00","00:00:00",0,{"$f":"SpellNumber((AI27))","v":"No Dollars and No Cents"},3,"No "]
["00:00:00",null,null,null,null,0,null,null,0,null,null,{"$f":"IFERROR(VLOOKUP(K28,$AD$7:AE30,2,FALSE),0)","v":0},null,null,0,null,null,null,null,null,null,"G",{"$f":"Criteria!I10","v":"Told to wait"},"C",{"$f":"SUMIF(K7:K104,\"C\",A7:A104)","v":"00:00:00"},null,null,null,"Twelve",{"$f":"COUNTIF(AL7:AL104,\"*Twelve*\")","v":0},null,null,"00:00:00","00:00:00",0,{"$f":"SpellNumber((AI28))","v":"No Dollars and No Cents"},3,"No "]
["00:00:00",null,null,null,null,0,null,null,0,null,null,{"$f":"IFERROR(VLOOKUP(K29,$AD$7:AE31,2,FALSE),0)","v":0},null,null,0,null,null,null,null,null,null,"H",{"$f":"Criteria!I11","v":"Physical Prompt"},null,null,null,null,null,"One",{"$f":"COUNTIF(AL7:AL104,\"*One*\")","v":0},null,null,"00:00:00","00:00:00",0,{"$f":"SpellNumber((AI29))","v":"No Dollars and No Cents"},3,"No "]
["00:00:00",null,null,null,null,0,null,null,0,null,null,{"$f":"IFERROR(VLOOKUP(K30,$AD$7:AE32,2,FALSE),0)","v":0},null,null,0,null,null,null,null,null,null,"I",{"$f":"Criteria!I12","v":"Verbal prompt"},null,null,null,null,null,"Two",{"$f":"COUNTIF(AL7:AL104,\"*Two*\")","v":0},null,null,"00:00:00","00:00:00",0,{"$f":"SpellNumber((AI30))","v":"No Dollars and No Cents"},3,"No "]
["00:00:00",null,null,null,null,0,null,null,0,null,null,{"$f":"IFERROR(VLOOKUP(K31,$AD$7:AE33,2,FALSE),0)","v":0},null,null,0,null,null,null,null,null,null,"J",{"$f":"Criteria!I13","v":"Told to wait"},null,null,null,null,null,"Three",{"$f":"COUNTIF(AL7:AL104,\"*Three*\")","v":0},null,null,"00:00:00","00:00:00",0,{"$f":"SpellNumber((AI31))","v":"No Dollars and No Cents"},3,"No "]
["00:00:00",null,null,null,null,0,null,null,0,null,null,{"$f":"IFERROR(VLOOKUP(K32,$AD$7:AE34,2,FALSE),0)","v":0},null,null,0,null,null,null,null,null,null,"K",{"$f":"Criteria!I14","v":"Unknown"},null,null,null,null,null,"Four",{"$f":"COUNTIF(AL7:AL104,\"*Four*\")","v":0},null,null,"00:00:00","00:00:00",0,{"$f":"SpellNumber((AI32))","v":"No Dollars and No Cents"},3,"No "]
["00:00:00",null,null,null,null,0,null,null,0,null,null,{"$f":"IFERROR(VLOOKUP(K33,$AD$7:AE35,2,FALSE),0)","v":0},null,null,0,null,null,null,null,null,null,"L",{"$f":"Criteria!I15","v":"Other"},null,null,null,null,null,null,null,null,null,"00:00:00","00:00:00",0,{"$f":"SpellNumber((AI33))","v":"No Dollars and No Cents"},3,"No "]
["00:00:00",null,null,null,null,0,null,null,0,null,null,{"$f":"IFERROR(VLOOKUP(K34,$AD$7:AE36,2,FALSE),0)","v":0},null,null,0,null,null,null,null,null,null,null,null,null,null,null,null,null,null,null,null,null,"00:00:00","00:00:00",0,{"$f":"SpellNumber((AI34))","v":"No Dollars and No Cents"},3,"No "]
["00:00:00",null,null,null,null,0,null,null,0,null,null,{"$f":"IFERROR(VLOOKUP(K35,$AD$7:AE37,2,FALSE),0)","v":0},null,null,0,null,null,null,null,null,null,null,"Context Frequency","Consequence","Antedencents",null,null,null,null,null,null,null,"00:00:00","00:00:00",0,{"$f":"SpellNumber((AI35))","v":"No Dollars and No Cents"},3,"No "]
["00:00:00",null,null,null,null,0,null,null,0,null,null,{"$f":"IFERROR(VLOOKUP(K36,$AD$7:AE38,2,FALSE),0)","v":0},null,null,0,null,null,null,null,null,null,"A",{"$f":"COUNTIF(E7:E104,\"A\")","v":0},{"$f":"COUNTIF(N7:N104,\"A\")","v":0},{"$f":"COUNTIF(H7:H104,\"A\")","v":0},null,null,null,null,null,null,null,"00:00:00","00:00:00",0,{"$f":"SpellNumber((AI36))","v":"No Dollars and No Cents"},3,"No "]
["00:00:00",null,null,null,null,0,null,null,0,null,null,{"$f":"IFERROR(VLOOKUP(K37,$AD$7:AE39,2,FALSE),0)","v":0},null,null,0,null,null,null,null,null,null,"B",{"$f":"COUNTIF(E8:E105,\"B\")","v":0},{"$f":"COUNTIF(N7:N104,\"B\")","v":0},{"$f":"COUNTIF(H7:H104,\"B\")","v":0},null,null,null,null,null,null,null,"00:00:00","00:00:00",0,{"$f":"SpellNumber((AI37))","v":"No Dollars and No Cents"},3,"No "]
["00:00:00",null,null,null,null,0,null,null,0,null,null,{"$f":"IFERROR(VLOOKUP(K38,$AD$7:AE40,2,FALSE),0)","v":0},null,null,0,null,null,null,null,null,null,"C",{"$f":"COUNTIF(E8:E105,\"C\")","v":0},{"$f":"COUNTIF(N7:N104,\"C\")","v":0},{"$f":"COUNTIF(H7:H104,\"C\")","v":0},null,null,null,null,null,null,null,"00:00:00","00:00:00",0,{"$f":"SpellNumber((AI38))","v":"No Dollars and No Cents"},3,"No "]
["00:00:00",null,null,null,null,0,null,null,0,null,null,{"$f":"IFERROR(VLOOKUP(K39,$AD$7:AE41,2,FALSE),0)","v":0},null,null,0,null,null,null,null,null,null,"D",{"$f":"COUNTIF(E8:E105,\"D\")","v":0},{"$f":"COUNTIF(N7:N104,\"D\")","v":0},{"$f":"COUNTIF(H7:H104,\"D\")","v":0},null,null,null,null,null,null,null,"00:00:00","00:00:00",0,{"$f":"SpellNumber((AI39))","v":"No Dollars and No Cents"},3,"No "]
["00:00:00",null,null,null,null,0,null,null,0,null,null,{"$f":"IFERROR(VLOOKUP(K40,$AD$7:AE42,2,FALSE),0)","v":0},null,null,0,null,null,null,null,null,null,"E",{"$f":"COUNTIF(E8:E105,\"E\")","v":0},{"$f":"COUNTIF(N7:N104,\"E\")","v":0},{"$f":"COUNTIF(H7:H104,\"E\")","v":0},null,null,null,null,null,null,null,"00:00:00","00:00:00",0,{"$f":"SpellNumber((AI40))","v":"No Dollars and No Cents"},3,"No "]
["00:00:00",null,null,null,null,0,null,null,0,null,null,{"$f":"IFERROR(VLOOKUP(K41,$AD$7:AE43,2,FALSE),0)","v":0},null,null,0,null,null,null,null,null,null,"F",{"$f":"COUNTIF(E8:E105,\"F\")","v":0},{"$f":"COUNTIF(N7:N104,\"F\")","v":0},{"$f":"COUNTIF(H7:H104,\"F\")","v":0},null,null,null,null,null,null,null,"00:00:00","00:00:00",0,{"$f":"SpellNumber((AI41))","v":"No Dollars and No Cents"},3,"No "]
["00:00:00",null,null,null,null,0,null,null,0,null,null,{"$f":"IFERROR(VLOOKUP(K42,$AD$7:AE44,2,FALSE),0)","v":0},null,null,0,null,null,null,null,null,null,"G",{"$f":"COUNTIF(E8:E105,\"G\")","v":0},{"$f":"COUNTIF(N7:N104,\"G\")","v":0},{"$f":"COUNTIF(H7:H104,\"G\")","v":0},null,null,null,null,null,null,null,"00:00:00","00:00:00",0,{"$f":"SpellNumber((AI42))","v":"No Dollars and No Cents"},3,"No "]
["00:00:00",null,null,null,null,0,null,null,0,null,null,{"$f":"IFERROR(VLOOKUP(K43,$AD$7:AE45,2,FALSE),0)","v":0},null,null,0,null,null,null,null,null,null,"H",{"$f":"COUNTIF(E8:E105,\"H\")","v":0},{"$f":"COUNTIF(N7:N104,\"H\")","v":0},{"$f":"COUNTIF(H7:H104,\"H\")","v":0},null,null,null,null,null,null,null,"00:00:00","00:00:00",0,{"$f":"SpellNumber((AI43))","v":"No Dollars and No Cents"},3,"No "]
["00:00:00",null,null,null,null,0,null,null,0,null,null,{"$f":"IFERROR(VLOOKUP(K44,$AD$7:AE46,2,FALSE),0)","v":0},null,null,0,null,null,null,null,null,null,"I",{"$f":"COUNTIF(E8:E105,\"I\")","v":0},{"$f":"COUNTIF(N7:N104,\"I\")","v":0},{"$f":"COUNTIF(H7:H104,\"I\")","v":0},null,null,null,null,null,null,null,"00:00:00","00:00:00",0,{"$f":"SpellNumber((AI44))","v":"No Dollars and No Cents"},3,"No "]
["00:00:00",null,null,null,null,0,null,null,0,null,null,{"$f":"IFERROR(VLOOKUP(K45,$AD$7:AE47,2,FALSE),0)","v":0},null,null,0,null,null,null,null,null,null,"J",{"$f":"COUNTIF(E8:E105,\"J\")","v":0},{"$f":"COUNTIF(N7:N104,\"J\")","v":0},{"$f":"COUNTIF(H7:H104,\"J\")","v":0},null,null,null,null,null,null,null,"00:00:00","00:00:00",0,{"$f":"SpellNumber((AI45))","v":"No Dollars and No Cents"},3,"No "]
["00:00:00",null,null,null,null,0,null,null,0,null,null,{"$f":"IFERROR(VLOOKUP(K46,$AD$7:AE48,2,FALSE),0)","v":0},null,null,0,null,null,null,null,null,null,"K",{"$f":"COUNTIF(E8:E105,\"K\")","v":0},{"$f":"COUNTIF(N7:N104,\"K\")","v":0},{"$f":"COUNTIF(H7:H104,\"K\")","v":0},null,null,null,null,null,null,null,"00:00:00","00:00:00",0,{"$f":"SpellNumber((AI46))","v":"No Dollars and No Cents"},3,"No "]
["00:00:00",null,null,null,null,0,null,null,0,null,null,{"$f":"IFERROR(VLOOKUP(K47,$AD$7:AE49,2,FALSE),0)","v":0},null,null,0,null,null,null,null,null,null,"L",{"$f":"COUNTIF(E8:E105,\"l\")","v":0},{"$f":"COUNTIF(N7:N104,\"L\")","v":0},{"$f":"COUNTIF(H7:H104,\"L\")","v":0},null,null,null,null,null,null,null,"00:00:00","00:00:00",0,{"$f":"SpellNumber((AI47))","v":"No Dollars and No Cents"},3,"No "]
["00:00:00",null,null,null,null,0,null,null,0,null,null,{"$f":"IFERROR(VLOOKUP(K48,$AD$7:AE50,2,FALSE),0)","v":0},null,null,0,null,null,null,null,null,null,null,null,null,null,null,null,null,null,null,null,null,"00:00:00","00:00:00",0,{"$f":"SpellNumber((AI48))","v":"No Dollars and No Cents"},3,"No "]
["00:00:00",null,null,null,null,0,null,null,0,null,null,{"$f":"IFERROR(VLOOKUP(K49,$AD$7:AE51,2,FALSE),0)","v":0},null,null,0,null,null,null,null,null,null,null,"Beh & Setting ",null,null,null,"Beh & Antecedents",null,null,null,null,null,"00:00:00","00:00:00",0,{"$f":"SpellNumber((AI49))","v":"No Dollars and No Cents"},3,"No "]
["00:00:00",null,null,null,null,0,null,null,0,null,null,{"$f":"IFERROR(VLOOKUP(K50,$AD$7:AE52,2,FALSE),0)","v":0},null,null,0,null,null,null,null,null,null,null,"A","B","C",null,null,"A","B","C",null,null,"00:00:00","00:00:00",0,{"$f":"SpellNumber((AI50))","v":"No Dollars and No Cents"},3,"No "]
["00:00:00",null,null,null,null,0,null,null,0,null,null,{"$f":"IFERROR(VLOOKUP(K51,$AD$7:AE53,2,FALSE),0)","v":0},null,null,0,null,null,null,null,null,null,"A",{"$f":"COUNTIFS(E7:E104,\"A\",K7:K104,\"A\")","v":0},{"$f":"COUNTIFS(E7:E104,\"A\",K7:K104,\"B\")","v":0},{"$f":"COUNTIFS(E7:E104,\"A\",K7:K104,\"C\")","v":0},null,"A",{"$f":"COUNTIFS(H7:H104,\"a\",K7:K104,\"A\")","v":0},{"$f":"COUNTIFS(H7:H104,\"A\",K7:K104,\"B\")","v":0},{"$f":"COUNTIFS(H7:H104,\"A\",K7:K104,\"C\")","v":0},null,null,"00:00:00","00:00:00",0,{"$f":"SpellNumber((AI51))","v":"No Dollars and No Cents"},3,"No "]
["00:00:00",null,null,null,null,0,null,null,0,null,null,{"$f":"IFERROR(VLOOKUP(K52,$AD$7:AE54,2,FALSE),0)","v":0},null,null,0,null,null,null,null,null,null,"B",{"$f":"COUNTIFS(E7:E104,\"B\",K7:K104,\"A\")","v":0},{"$f":"COUNTIFS(E7:E104,\"B\",K7:K104,\"B\")","v":0},{"$f":"COUNTIFS(E7:E104,\"B\",K7:K104,\"C\")","v":0},null,"B",{"$f":"COUNTIFS(H7:H104,\"B\",K7:K104,\"A\")","v":0},{"$f":"COUNTIFS(H7:H104,\"B\",K7:K104,\"B\")","v":0},{"$f":"COUNTIFS(H7:H104,\"B\",K7:K104,\"C\")","v":0},null,null,"00:00:00","00:00:00",0,{"$f":"SpellNumber((AI52))","v":"No Dollars and No Cents"},3,"No "]
["00:00:00",null,null,null,null,0,null,null,0,null,null,{"$f":"IFERROR(VLOOKUP(K53,$AD$7:AE55,2,FALSE),0)","v":0},null,null,0,null,null,null,null,null,null,"C",{"$f":"COUNTIFS(K7:K104,\"C\",K7:K104,\"A\")","v":0},{"$f":"COUNTIFS(E7:E104,\"C\",K7:K104,\"B\")","v":0},{"$f":"COUNTIFS(E7:E104,\"C\",K7:K104,\"C\")","v":0},null,"C",{"$f":"COUNTIFS(H7:H104,\"C\",K7:K104,\"A\")","v":0},{"$f":"COUNTIFS(H7:H104,\"C\",K7:K104,\"B\")","v":0},{"$f":"COUNTIFS(H7:H104,\"C\",K7:K104,\"C\")","v":0},null,null,"00:00:00","00:00:00",0,{"$f":"SpellNumber((AI53))","v":"No Dollars and No Cents"},3,"No "]
["00:00:00",null,null,null,null,0,null,null,0,null,null,{"$f":"IFERROR(VLOOKUP(K54,$AD$7:AE56,2,FALSE),0)","v":0},null,null,0,null,null,null,null,null,null,"D",{"$f":"COUNTIFS(E7:E104,\"D\",K7:K104,\"A\")","v":0},{"$f":"COUNTIFS(E7:E104,\"D\",K7:K104,\"B\")","v":0},{"$f":"COUNTIFS(E7:E104,\"D\",K7:K104,\"C\")","v":0},null,"D",{"$f":"COUNTIFS(H7:H104,\"D\",K7:K104,\"A\")","v":0},{"$f":"COUNTIFS(H7:H104,\"D\",K7:K104,\"B\")","v":0},{"$f":"COUNTIFS(H7:H104,\"D\",K7:K104,\"C\")","v":0},null,null,"00:00:00","00:00:00",0,{"$f":"SpellNumber((AI54))","v":"No Dollars and No Cents"},3,"No "]
["00:00:00",null,null,null,null,0,null,null,0,null,null,{"$f":"IFERROR(VLOOKUP(K55,$AD$7:AE57,2,FALSE),0)","v":0},null,null,0,null,null,null,null,null,null,"E",{"$f":"COUNTIFS(E7:E104,\"E\",K7:K104,\"A\")","v":0},{"$f":"COUNTIFS(E7:E104,\"E\",K7:K104,\"B\")","v":0},{"$f":"COUNTIFS(E7:E104,\"E\",K7:K104,\"C\")","v":0},null,"E",{"$f":"COUNTIFS(H7:H104,\"E\",K7:K104,\"A\")","v":0},{"$f":"COUNTIFS(H7:H104,\"E\",K7:K104,\"B\")","v":0},{"$f":"COUNTIFS(H7:H104,\"E\",K7:K104,\"C\")","v":0},null,null,"00:00:00","00:00:00",0,{"$f":"SpellNumber((AI55))","v":"No Dollars and No Cents"},3,"No "]
["00:00:00",null,null,null,null,0,null,null,0,null,null,{"$f":"IFERROR(VLOOKUP(K56,$AD$7:AE58,2,FALSE),0)","v":0},null,null,0,null,null,null,null,null,null,"F",{"$f":"COUNTIFS(E7:E104,\"F\",K7:K104,\"A\")","v":0},{"$f":"COUNTIFS(E7:E104,\"F\",K7:K104,\"B\")","v":0},{"$f":"COUNTIFS(E7:E104,\"F\",K7:K104,\"C\")","v":0},null,"F",{"$f":"COUNTIFS(H7:H104,\"F\",K7:K104,\"A\")","v":0},{"$f":"COUNTIFS(H7:H104,\"F\",K7:K104,\"B\")","v":0},{"$f":"COUNTIFS(H7:H104,\"F\",K7:K104,\"C\")","v":0},null,null,"00:00:00","00:00:00",0,{"$f":"SpellNumber((AI56))","v":"No Dollars and No Cents"},3,"No "]
["00:00:00",null,null,null,null,0,null,null,0,null,null,{"$f":"IFERROR(VLOOKUP(K57,$AD$7:AE59,2,FALSE),0)","v":0},null,null,0,null,null,null,null,null,null,"G",{"$f":"COUNTIFS(E7:E104,\"G\",K7:K104,\"A\")","v":0},{"$f":"COUNTIFS(E7:E104,\"G\",K7:K104,\"B\")","v":0},{"$f":"COUNTIFS(E7:E104,\"G\",K7:K104,\"C\")","v":0},null,"G",{"$f":"COUNTIFS(H7:H104,\"G\",K7:K104,\"A\")","v":0},{"$f":"COUNTIFS(H7:H104,\"G\",K7:K104,\"B\")","v":0},{"$f":"COUNTIFS(H7:H104,\"G\",K7:K104,\"C\")","v":0},null,null,"00:00:00","00:00:00",0,{"$f":"SpellNumber((AI57))","v":"No Dollars and No Cents"},3,"No "]
["00:00:00",null,null,null,null,0,null,null,0,null,null,{"$f":"IFERROR(VLOOKUP(K58,$AD$7:AE60,2,FALSE),0)","v":0},null,null,0,null,null,null,null,null,null,"H",{"$f":"COUNTIFS(E7:E104,\"H\",K7:K104,\"A\")","v":0},{"$f":"COUNTIFS(E7:E104,\"H\",K7:K104,\"B\")","v":0},{"$f":"COUNTIFS(E7:E104,\"H\",K7:K104,\"C\")","v":0},null,"H",{"$f":"COUNTIFS(H7:H104,\"H\",K7:K104,\"A\")","v":0},{"$f":"COUNTIFS(H7:H104,\"H\",K7:K104,\"B\")","v":0},{"$f":"COUNTIFS(H7:H104,\"H\",K7:K104,\"C\")","v":0},null,null,"00:00:00","00:00:00",0,{"$f":"SpellNumber((AI58))","v":"No Dollars and No Cents"},3,"No "]
["00:00:00",null,null,null,null,0,null,null,0,null,null,{"$f":"IFERROR(VLOOKUP(K59,$AD$7:AE61,2,FALSE),0)","v":0},null,null,0,null,null,null,null,null,null,"I",{"$f":"COUNTIFS(E7:E104,\"I\",K7:K104,\"A\")","v":0},{"$f":"COUNTIFS(E7:E104,\"I\",K7:K104,\"B\")","v":0},{"$f":"COUNTIFS(E7:E104,\"I\",K7:K104,\"C\")","v":0},null,"I",{"$f":"COUNTIFS(H7:H104,\"I\",K7:K104,\"A\")","v":0},{"$f":"COUNTIFS(H7:H104,\"I\",K7:K104,\"B\")","v":0},{"$f":"COUNTIFS(H7:H104,\"I\",K7:K104,\"C\")","v":0},null,null,"00:00:00","00:00:00",0,{"$f":"SpellNumber((AI59))","v":"No Dollars and No Cents"},3,"No "]
["00:00:00",null,null,null,null,0,null,null,0,null,null,{"$f":"IFERROR(VLOOKUP(K60,$AD$7:AE62,2,FALSE),0)","v":0},null,null,0,null,null,null,null,null,null,"J",{"$f":"COUNTIFS(E7:E104,\"J\",K7:K104,\"A\")","v":0},{"$f":"COUNTIFS(E7:E104,\"J\",K7:K104,\"B\")","v":0},{"$f":"COUNTIFS(E7:E104,\"J\",K7:K104,\"C\")","v":0},null,"J",{"$f":"COUNTIFS(H7:H104,\"J\",K7:K104,\"A\")","v":0},{"$f":"COUNTIFS(H7:H104,\"J\",K7:K104,\"B\")","v":0},{"$f":"COUNTIFS(H7:H104,\"J\",K7:K104,\"C\")","v":0},null,null,"00:00:00","00:00:00",0,{"$f":"SpellNumber((AI60))","v":"No Dollars and No Cents"},3,"No "]
["00:00:00",null,null,null,null,0,null,null,0,null,null,{"$f":"IFERROR(VLOOKUP(K61,$AD$7:AE63,2,FALSE),0)","v":0},null,null,0,null,null,null,null,null,null,"K",{"$f":"COUNTIFS(E7:E104,\"K\",K7:K104,\"A\")","v":0},{"$f":"COUNTIFS(E7:E104,\"K\",K7:K104,\"B\")","v":0},{"$f":"COUNTIFS(E7:E104,\"K\",K7:K104,\"C\")","v":0},null,"K",{"$f":"COUNTIFS(H7:H104,\"K\",K7:K104,\"A\")","v":0},{"$f":"COUNTIFS(H7:H104,\"K\",K7:K104,\"B\")","v":0},{"$f":"COUNTIFS(H7:H104,\"K\",K7:K104,\"C\")","v":0},null,null,"00:00:00","00:00:00",0,{"$f":"SpellNumber((AI61))","v":"No Dollars and No Cents"},3,"No "]
["00:00:00",null,null,null,null,0,null,null,0,null,null,{"$f":"IFERROR(VLOOKUP(K62,$AD$7:AE64,2,FALSE),0)","v":0},null,null,0,null,null,null,null,null,null,"L",{"$f":"COUNTIFS(E7:E104,\"L\",K7:K104,\"A\")","v":0},{"$f":"COUNTIFS(E7:E104,\"L\",K7:K104,\"B\")","v":0},{"$f":"COUNTIFS(E7:E104,\"L\",K7:K104,\"C\")","v":0},null,"L",{"$f":"COUNTIFS(H7:H104,\"L\",K7:K104,\"A\")","v":0},{"$f":"COUNTIFS(H7:H104,\"L\",K7:K104,\"B\")","v":0},{"$f":"COUNTIFS(H7:H104,\"L\",K7:K104,\"C\")","v":0},null,null,"00:00:00","00:00:00",0,{"$f":"SpellNumber((AI62))","v":"No Dollars and No Cents"},3,"No "]
["00:00:00",null,null,null,null,0,null,null,0,null,null,{"$f":"IFERROR(VLOOKUP(K63,$AD$7:AE65,2,FALSE),0)","v":0},null,null,0,null,null,null,null,null,null,null,"Beh & Consequences",null,null,null,null,null,null,null,null,null,"00:00:00","00:00:00",0,{"$f":"SpellNumber((AI63))","v":"No Dollars and No Cents"},3,"No "]
["00:00:00",null,null,null,null,0,null,null,0,null,null,{"$f":"IFERROR(VLOOKUP(K64,$AD$7:AE66,2,FALSE),0)","v":0},null,null,0,null,null,null,null,null,null,null,"A","B","C",null,null,null,null,null,null,null,"00:00:00","00:00:00",0,{"$f":"SpellNumber((AI64))","v":"No Dollars and No Cents"},3,"No "]
["00:00:00",null,null,null,null,0,null,null,0,null,null,{"$f":"IFERROR(VLOOKUP(K65,$AD$7:AE67,2,FALSE),0)","v":0},null,null,0,null,null,null,null,null,null,"A",{"$f":"COUNTIFS(N7:N104,\"A\",K7:K104,\"A\")","v":0},{"$f":"COUNTIFS(N7:N104,\"A\",K7:K104,\"B\")","v":0},{"$f":"COUNTIFS(N7:N104,\"A\",K7:K104,\"C\")","v":0},null,null,null,null,null,null,null,"00:00:00","00:00:00",0,{"$f":"SpellNumber((AI65))","v":"No Dollars and No Cents"},3,"No "]
["00:00:00",null,null,null,null,0,null,null,0,null,null,{"$f":"IFERROR(VLOOKUP(K66,$AD$7:AE68,2,FALSE),0)","v":0},null,null,0,null,null,null,null,null,null,"B",{"$f":"COUNTIFS(N7:N104,\"B\",K7:K104,\"A\")","v":0},{"$f":"COUNTIFS(N7:N104,\"B\",K7:K104,\"B\")","v":0},{"$f":"COUNTIFS(N7:N104,\"B\",K7:K104,\"C\")","v":0},null,null,null,null,null,null,null,"00:00:00","00:00:00",0,{"$f":"SpellNumber((AI66))","v":"No Dollars and No Cents"},3,"No "]
["00:00:00",null,null,null,null,0,null,null,0,null,null,{"$f":"IFERROR(VLOOKUP(K67,$AD$7:AE69,2,FALSE),0)","v":0},null,null,0,null,null,null,null,null,null,"C",{"$f":"COUNTIFS(N7:N104,\"C\",K7:K104,\"A\")","v":0},{"$f":"COUNTIFS(N7:N104,\"C\",K7:K104,\"B\")","v":0},{"$f":"COUNTIFS(N7:N104,\"C\",K7:K104,\"C\")","v":0},null,null,null,null,null,null,null,"00:00:00","00:00:00",0,{"$f":"SpellNumber((AI67))","v":"No Dollars and No Cents"},3,"No "]
["00:00:00",null,null,null,null,0,null,null,0,null,null,{"$f":"IFERROR(VLOOKUP(K68,$AD$7:AE70,2,FALSE),0)","v":0},null,null,0,null,null,null,null,null,null,"D",{"$f":"COUNTIFS(N7:N104,\"D\",K7:K104,\"A\")","v":0},{"$f":"COUNTIFS(N7:N104,\"D\",K7:K104,\"B\")","v":0},{"$f":"COUNTIFS(N7:N104,\"D\",K7:K104,\"C\")","v":0},null,null,null,null,null,null,null,"00:00:00","00:00:00",0,{"$f":"SpellNumber((AI68))","v":"No Dollars and No Cents"},3,"No "]
["00:00:00",null,null,null,null,0,null,null,0,null,null,{"$f":"IFERROR(VLOOKUP(K69,$AD$7:AE71,2,FALSE),0)","v":0},null,null,0,null,null,null,null,null,null,"E",{"$f":"COUNTIFS(N7:N104,\"E\",K7:K104,\"A\")","v":0},{"$f":"COUNTIFS(N7:N104,\"E\",K7:K104,\"B\")","v":0},{"$f":"COUNTIFS(N7:N104,\"E\",K7:K104,\"C\")","v":0},null,null,null,null,null,null,null,"00:00:00","00:00:00",0,{"$f":"SpellNumber((AI69))","v":"No Dollars and No Cents"},3,"No "]
["00:00:00",null,null,null,null,0,null,null,0,null,null,{"$f":"IFERROR(VLOOKUP(K70,$AD$7:AE72,2,FALSE),0)","v":0},null,null,0,null,null,null,null,null,null,"F",{"$f":"COUNTIFS(N7:N104,\"F\",K7:K104,\"A\")","v":0},{"$f":"COUNTIFS(N7:N104,\"F\",K7:K104,\"B\")","v":0},{"$f":"COUNTIFS(N7:N104,\"F\",K7:K104,\"C\")","v":0},null,null,null,null,null,null,null,"00:00:00","00:00:00",0,{"$f":"SpellNumber((AI70))","v":"No Dollars and No Cents"},3,"No "]
["00:00:00",null,null,null,null,0,null,null,0,null,null,{"$f":"IFERROR(VLOOKUP(K71,$AD$7:AE73,2,FALSE),0)","v":0},null,null,0,null,null,null,null,null,null,"G",{"$f":"COUNTIFS(N7:N104,\"G\",K7:K104,\"A\")","v":0},{"$f":"COUNTIFS(N7:N104,\"G\",K7:K104,\"B\")","v":0},{"$f":"COUNTIFS(N7:N104,\"G\",K7:K104,\"C\")","v":0},null,null,null,null,null,null,null,"00:00:00","00:00:00",0,{"$f":"SpellNumber((AI71))","v":"No Dollars and No Cents"},3,"No "]
[{"$f":"C72-B72","v":"00:00:00"},null,null,null,null,0,null,null,{"$f":"IFERROR(VLOOKUP(H72,$Z$7:$AA$18,2,FALSE),0)","v":0},null,null,{"$f":"IFERROR(VLOOKUP(K72,$AD$7:AE74,2,FALSE),0)","v":0},null,null,{"$f":"IFERROR(VLOOKUP(N72,$V$22:$W$33,2,FALSE),0)","v":0},null,null,null,null,null,null,"H",{"$f":"COUNTIFS(N7:N104,\"H\",K7:K104,\"A\")","v":0},{"$f":"COUNTIFS(N7:N104,\"H\",K7:K104,\"B\")","v":0},{"$f":"COUNTIFS(N7:N104,\"H\",K7:K104,\"C\")","v":0},null,null,null,null,null,null,null,{"$f":"B72","v":"00:00:00"},{"$f":"TEXT(AG72,\"hh:mm:ss\")","v":"00:00:00"},{"$f":"AG72*24","v":0},{"$f":"SpellNumber((AI72))","v":"No Dollars and No Cents"},{"$f":"FIND(\" Dollar\",AJ72)","v":3},{"$f":"LEFT(AJ72,AK72)","v":"No "}]
["00:00:00",null,null,null,null,{"$f":"IFERROR(VLOOKUP(E73,$V$7:$W$18,2,FALSE),0)","v":0},null,null,0,null,null,{"$f":"IFERROR(VLOOKUP(K73,$AD$7:AE75,2,FALSE),0)","v":0},null,null,0,null,null,null,null,null,null,"I",{"$f":"COUNTIFS(N7:N104,\"I\",K7:K104,\"A\")","v":0},{"$f":"COUNTIFS(N7:N104,\"I\",K7:K104,\"B\")","v":0},{"$f":"COUNTIFS(N7:N104,\"I\",K7:K104,\"C\")","v":0},null,null,null,null,null,null,null,"00:00:00","00:00:00",0,{"$f":"SpellNumber((AI73))","v":"No Dollars and No Cents"},3,"No "]
["00:00:00",null,null,null,null,0,null,null,0,null,null,{"$f":"IFERROR(VLOOKUP(K74,$AD$7:AE76,2,FALSE),0)","v":0},null,null,0,null,null,null,null,null,null,"J",{"$f":"COUNTIFS(N7:N104,\"J\",K7:K104,\"A\")","v":0},{"$f":"COUNTIFS(N7:N104,\"J\",K7:K104,\"B\")","v":0},{"$f":"COUNTIFS(N7:N104,\"J\",K7:K104,\"C\")","v":0},null,null,null,null,null,null,null,"00:00:00","00:00:00",0,{"$f":"SpellNumber((AI74))","v":"No Dollars and No Cents"},3,"No "]
["00:00:00",null,null,null,null,0,null,null,0,null,null,{"$f":"IFERROR(VLOOKUP(K75,$AD$7:AE77,2,FALSE),0)","v":0},null,null,0,null,null,null,null,null,null,"K",{"$f":"COUNTIFS(N7:N104,\"K\",K7:K104,\"A\")","v":0},{"$f":"COUNTIFS(N7:N104,\"K\",K7:K104,\"B\")","v":0},{"$f":"COUNTIFS(N7:N104,\"K\",K7:K104,\"C\")","v":0},null,null,null,null,null,null,null,"00:00:00","00:00:00",0,{"$f":"SpellNumber((AI75))","v":"No Dollars and No Cents"},3,"No "]
["00:00:00",null,null,null,null,0,null,null,0,null,null,{"$f":"IFERROR(VLOOKUP(K76,$AD$7:AE78,2,FALSE),0)","v":0},null,null,0,null,null,null,null,null,null,"L",{"$f":"COUNTIFS(N7:N104,\"L\",K7:K104,\"A\")","v":0},{"$f":"COUNTIFS(N7:N104,\"L\",K7:K104,\"B\")","v":0},{"$f":"COUNTIFS(N7:N104,\"L\",K7:K104,\"C\")","v":0},null,null,null,null,null,null,null,"00:00:00","00:00:00",0,{"$f":"SpellNumber((AI76))","v":"No Dollars and No Cents"},3,"No "]
["00:00:00",null,null,null,null,0,null,null,0,null,null,{"$f":"IFERROR(VLOOKUP(K77,$AD$7:AE79,2,FALSE),0)","v":0},null,null,0,null,null,null,null,null,null,null,null,null,null,null,null,null,null,null,null,null,"00:00:00","00:00:00",0,{"$f":"SpellNumber((AI77))","v":"No Dollars and No Cents"},3,"No "]
["00:00:00",null,null,null,null,0,null,null,0,null,null,{"$f":"IFERROR(VLOOKUP(K78,$AD$7:AE80,2,FALSE),0)","v":0},null,null,0,null,null,null,null,null,null,null,null,null,null,null,null,null,null,null,null,null,"00:00:00","00:00:00",0,{"$f":"SpellNumber((AI78))","v":"No Dollars and No Cents"},3,"No "]
["00:00:00",null,null,null,null,0,null,null,0,null,null,{"$f":"IFERROR(VLOOKUP(K79,$AD$7:AE81,2,FALSE),0)","v":0},null,null,0,null,null,null,null,null,null,null,null,null,null,null,null,null,null,null,null,null,"00:00:00","00:00:00",0,{"$f":"SpellNumber((AI79))","v":"No Dollars and No Cents"},3,"No "]
["00:00:00",null,null,null,null,0,null,null,0,null,null,{"$f":"IFERROR(VLOOKUP(K80,$AD$7:AE82,2,FALSE),0)","v":0},null,null,0,null,null,null,null,null,null,null,null,null,null,null,null,null,null,null,null,null,"00:00:00","00:00:00",0,{"$f":"SpellNumber((AI80))","v":"No Dollars and No Cents"},3,"No "]
["00:00:00",null,null,null,null,0,null,null,0,null,null,{"$f":"IFERROR(VLOOKUP(K81,$AD$7:AE83,2,FALSE),0)","v":0},null,null,0,null,null,null,null,null,null,null,null,null,null,null,null,null,null,null,null,null,"00:00:00","00:00:00",0,{"$f":"SpellNumber((AI81))","v":"No Dollars and No Cents"},3,"No "]
["00:00:00",null,null,null,null,0,null,null,0,null,null,{"$f":"IFERROR(VLOOKUP(K82,$AD$7:AE84,2,FALSE),0)","v":0},null,null,0,null,null,null,null,null,null,null,null,null,null,null,null,null,null,null,null,null,"00:00:00","00:00:00",0,{"$f":"SpellNumber((AI82))","v":"No Dollars and No Cents"},3,"No "]
["00:00:00",null,null,null,null,0,null,null,0,null,null,{"$f":"IFERROR(VLOOKUP(K83,$AD$7:AE85,2,FALSE),0)","v":0},null,null,0,null,null,null,null,null,null,null,null,null,null,null,null,null,null,null,null,null,"00:00:00","00:00:00",0,{"$f":"SpellNumber((AI83))","v":"No Dollars and No Cents"},3,"No "]
["00:00:00",null,null,null,null,0,null,null,0,null,null,{"$f":"IFERROR(VLOOKUP(K84,$AD$7:AE86,2,FALSE),0)","v":0},null,null,0,null,null,null,null,null,null,null,null,null,null,null,null,null,null,null,null,null,"00:00:00","00:00:00",0,{"$f":"SpellNumber((AI84))","v":"No Dollars and No Cents"},3,"No "]
["00:00:00",null,null,null,null,0,null,null,0,null,null,{"$f":"IFERROR(VLOOKUP(K85,$AD$7:AE87,2,FALSE),0)","v":0},null,null,0,null,null,null,null,null,null,null,null,null,null,null,null,null,null,null,null,null,"00:00:00","00:00:00",0,{"$f":"SpellNumber((AI85))","v":"No Dollars and No Cents"},3,"No "]
["00:00:00",null,null,null,null,0,null,null,0,null,null,{"$f":"IFERROR(VLOOKUP(K86,$AD$7:AE88,2,FALSE),0)","v":0},null,null,0,null,null,null,null,null,null,null,null,null,null,null,null,null,null,null,null,null,"00:00:00","00:00:00",0,{"$f":"SpellNumber((AI86))","v":"No Dollars and No Cents"},3,"No "]
["00:00:00",null,null,null,null,0,null,null,0,null,null,{"$f":"IFERROR(VLOOKUP(K87,$AD$7:AE89,2,FALSE),0)","v":0},null,null,0,null,null,null,null,null,null,null,null,null,null,null,null,null,null,null,null,null,"00:00:00","00:00:00",0,{"$f":"SpellNumber((AI87))","v":"No Dollars and No Cents"},3,"No "]
["00:00:00",null,null,null,null,0,null,null,0,null,null,{"$f":"IFERROR(VLOOKUP(K88,$AD$7:AE90,2,FALSE),0)","v":0},null,null,0,null,null,null,null,null,null,null,null,null,null,null,null,null,null,null,null,null,"00:00:00","00:00:00",0,{"$f":"SpellNumber((AI88))","v":"No Dollars and No Cents"},3,"No "]
["00:00:00",null,null,null,null,0,null,null,0,null,null,{"$f":"IFERROR(VLOOKUP(K89,$AD$7:AE91,2,FALSE),0)","v":0},null,null,0,null,null,null,null,null,null,null,null,null,null,null,null,null,null,null,null,null,"00:00:00","00:00:00",0,{"$f":"SpellNumber((AI89))","v":"No Dollars and No Cents"},3,"No "]
["00:00:00",null,null,null,null,0,null,null,0,null,null,{"$f":"IFERROR(VLOOKUP(K90,$AD$7:AE92,2,FALSE),0)","v":0},null,null,0,null,null,null,null,null,null,null,null,null,null,null,null,null,null,null,null,null,"00:00:00","00:00:00",0,{"$f":"SpellNumber((AI90))","v":"No Dollars and No Cents"},3,"No "]
["00:00:00",null,null,null,null,0,null,null,0,null,null,{"$f":"IFERROR(VLOOKUP(K91,$AD$7:AE93,2,FALSE),0)","v":0},null,null,0,null,null,null,"Total Mins",{"$f":"SUM(A7:A104)","v":"00:00:00"},null,null,null,null,null,null,null,null,null,null,null,null,"00:00:00","00:00:00",0,{"$f":"SpellNumber((AI91))","v":"No Dollars and No Cents"},3,"No "]
["00:00:00",null,null,null,null,0,null,null,0,null,null,{"$f":"IFERROR(VLOOKUP(K92,$AD$7:AE94,2,FALSE),0)","v":0},null,null,0,null,null,null,"Settings:","A",{"$f":"COUNTIF(E4:E104,\"A\")","v":0},"Antec.","A",{"$f":"COUNTIF(H4:H104,\"A\")","v":0},"Beh","A",{"$f":"COUNTIF(L4:L104,\"A\")","v":0},"Conse.","A",{"$f":"COUNTIF(O4:O104,\"A\")","v":0},null,null,"00:00:00","00:00:00",0,{"$f":"SpellNumber((AI92))","v":"No Dollars and No Cents"},3,"No "]
["00:00:00",null,null,null,null,0,null,null,0,null,null,{"$f":"IFERROR(VLOOKUP(K93,$AD$7:AE95,2,FALSE),0)","v":0},null,null,0,null,null,null,null,"B",{"$f":"COUNTIF(E5:E105,\"B\")","v":0},null,"B",{"$f":"COUNTIF(H5:H105,\"B\")","v":0},null,"B",{"$f":"COUNTIF(L5:L105,\"B\")","v":0},null,"B",{"$f":"COUNTIF(O5:O105,\"B\")","v":0},null,null,"00:00:00","00:00:00",0,{"$f":"SpellNumber((AI93))","v":"No Dollars and No Cents"},3,"No "]
["00:00:00",null,null,null,null,0,null,null,0,null,null,{"$f":"IFERROR(VLOOKUP(K94,$AD$7:AE96,2,FALSE),0)","v":0},null,null,0,null,null,null,null,"C",{"$f":"COUNTIF(E6:E106,\"C\")","v":0},null,"C",{"$f":"COUNTIF(H6:H106,\"C\")","v":0},null,"C",{"$f":"COUNTIF(L6:L106,\"C\")","v":0},null,"C",{"$f":"COUNTIF(O6:O106,\"C\")","v":0},null,null,"00:00:00","00:00:00",0,{"$f":"SpellNumber((AI94))","v":"No Dollars and No Cents"},3,"No "]
["00:00:00",null,null,null,null,0,null,null,0,null,null,{"$f":"IFERROR(VLOOKUP(K95,$AD$7:AE97,2,FALSE),0)","v":0},null,null,0,null,null,null,null,"D",{"$f":"COUNTIF(E7:E107,\"D\")","v":0},null,"D",{"$f":"COUNTIF(H7:H107,\"D\")","v":0},null,null,null,null,"D",{"$f":"COUNTIF(O7:O107,\"D\")","v":0},null,null,"00:00:00","00:00:00",0,{"$f":"SpellNumber((AI95))","v":"No Dollars and No Cents"},3,"No "]
["00:00:00",null,null,null,null,0,null,null,0,null,null,{"$f":"IFERROR(VLOOKUP(K96,$AD$7:AE98,2,FALSE),0)","v":0},null,null,0,null,null,null,null,"E",{"$f":"COUNTIF(E8:E108,\"E\")","v":0},null,"E",{"$f":"COUNTIF(H8:H108,\"E\")","v":0},null,null,null,null,"E",{"$f":"COUNTIF(O8:O108,\"E\")","v":0},null,null,"00:00:00","00:00:00",0,{"$f":"SpellNumber((AI96))","v":"No Dollars and No Cents"},3,"No "]
["00:00:00",null,null,null,null,0,null,null,0,null,null,{"$f":"IFERROR(VLOOKUP(K97,$AD$7:AE99,2,FALSE),0)","v":0},null,null,0,null,null,null,null,"F",{"$f":"COUNTIF(E9:E109,\"F\")","v":0},null,"F",{"$f":"COUNTIF(H9:H109,\"F\")","v":0},null,null,null,null,"F",{"$f":"COUNTIF(O9:O109,\"F\")","v":0},null,null,"00:00:00","00:00:00",0,{"$f":"SpellNumber((AI97))","v":"No Dollars and No Cents"},3,"No "]
["00:00:00",null,null,null,null,0,null,null,0,null,null,{"$f":"IFERROR(VLOOKUP(K98,$AD$7:AE100,2,FALSE),0)","v":0},null,null,0,null,null,null,null,"G",{"$f":"COUNTIF(E10:E110,\"G\")","v":0},null,"G",{"$f":"COUNTIF(H10:H110,\"G\")","v":0},null,null,null,null,"G",{"$f":"COUNTIF(O10:O110,\"G\")","v":0},null,null,"00:00:00","00:00:00",0,{"$f":"SpellNumber((AI98))","v":"No Dollars and No Cents"},3,"No "]
["00:00:00",null,null,null,null,0,null,null,0,null,null,{"$f":"IFERROR(VLOOKUP(K99,$AD$7:AE101,2,FALSE),0)","v":0},null,null,0,null,null,null,null,"H",{"$f":"COUNTIF(E11:E111,\"H\")","v":0},null,"H",{"$f":"COUNTIF(H11:H111,\"H\")","v":0},null,null,null,null,"H",{"$f":"COUNTIF(O11:O111,\"H\")","v":0},null,null,"00:00:00","00:00:00",0,{"$f":"SpellNumber((AI99))","v":"No Dollars and No Cents"},3,"No "]
["00:00:00",null,null,null,null,0,null,null,0,null,null,{"$f":"IFERROR(VLOOKUP(K100,$AD$7:AE102,2,FALSE),0)","v":0},null,null,0,null,null,null,null,"I",{"$f":"COUNTIF(E12:E112,\"I\")","v":0},null,"I",{"$f":"COUNTIF(H12:H112,\"I\")","v":0},null,null,null,null,"I",{"$f":"COUNTIF(O12:O112,\"I\")","v":0},null,null,"00:00:00","00:00:00",0,{"$f":"SpellNumber((AI100))","v":"No Dollars and No Cents"},3,"No "]
["00:00:00",null,null,null,null,0,null,null,0,null,null,{"$f":"IFERROR(VLOOKUP(K101,$AD$7:AE103,2,FALSE),0)","v":0},null,null,0,null,null,null,null,"J",{"$f":"COUNTIF(E13:E113,\"J\")","v":0},null,"J",{"$f":"COUNTIF(H13:H113,\"J\")","v":0},null,null,null,null,"J",{"$f":"COUNTIF(O13:O113,\"J\")","v":0},null,null,"00:00:00","00:00:00",0,{"$f":"SpellNumber((AI101))","v":"No Dollars and No Cents"},3,"No "]
["00:00:00",null,null,null,null,0,null,null,0,null,null,{"$f":"IFERROR(VLOOKUP(K102,$AD$7:AE104,2,FALSE),0)","v":0},null,null,0,null,null,null,null,"K",{"$f":"COUNTIF(E14:E114,\"K\")","v":0},null,"K",{"$f":"COUNTIF(H14:H114,\"K\")","v":0},null,null,null,null,"K",{"$f":"COUNTIF(O14:O114,\"K\")","v":0},null,null,"00:00:00","00:00:00",0,{"$f":"SpellNumber((AI102))","v":"No Dollars and No Cents"},3,"No "]
["00:00:00",null,null,null,null,0,null,null,0,null,null,{"$f":"IFERROR(VLOOKUP(K103,$AD$7:AE105,2,FALSE),0)","v":0},null,null,0,null,null,null,null,"L",{"$f":"COUNTIF(E15:E115,\"L\")","v":0},null,"L",{"$f":"COUNTIF(H15:H115,\"L\")","v":0},null,null,null,null,"L",{"$f":"COUNTIF(O15:O115,\"L\")","v":0},null,null,"00:00:00","00:00:00",0,{"$f":"SpellNumber((AI103))","v":"No Dollars and No Cents"},3,"No "]
["00:00:00",null,null,null,null,0,null,null,0,null,null,{"$f":"IFERROR(VLOOKUP(K104,$AD$7:AE106,2,FALSE),0)","v":0},null,null,0,null,null,null,null,null,null,null,null,null,null,null,null,null,null,null,null,null,"00:00:00","00:00:00",0,{"$f":"SpellNumber((AI104))","v":"No Dollars and No Cents"},3,"No "]

{"sheet":"Data 29 (2)","index":40,"n_rows":104,"n_cols":38,"rows_kept":104,"cut":false,"hidden":false,"merged":[[0,7,3,14]]}
["ATTENDANCE",null,null,null,null,null,null,"Data Collection"]
["If tardy, arrival time",null,null,null,null,null,null,null,null,null,null,null,null,null,null,null,null,null,null,null,null,null,"Date",{"$f":"Calendar!F9","v":{"$error":"#N/A"}},{"$f":"TEXT(X2,\"ddd\")","v":{"$error":"#N/A"}}]
["If left early, time",null,null,null,null,null,null,null,null,null,null,null,null,null,null,null,null,null,null,null,null,null,"Frq. Of bx",{"$f":"AA22","v":0}]
[]
[]
["Mins.","Start Time","End Time",null,null,null,null,null,null,null,null,null,null,null,null,null,null,null,null,null,null,null,"Setting",null,null,"Ant",null,null,null,"Beh",null,null,"Raw Data","Time in text","Decimal"]
[{"$f":"C7-B7","v":"00:00:00"},null,null,null,null,{"$f":"IFERROR(VLOOKUP(E7,$V$7:$W$18,2,FALSE),0)","v":0},null,null,{"$f":"IFERROR(VLOOKUP(H7,$Z$7:$AA$18,2,FALSE),0)","v":0},null,null,{"$f":"IFERROR(VLOOKUP(K7,$AD$7:AE9,2,FALSE),0)","v":0},null,null,{"$f":"IFERROR(VLOOKUP(N7,$V$22:$W$33,2,FALSE),0)","v":0},null,null,null,null,null,null,"A",{"$f":"Criteria!C4","v":"Transition"},null,null,"A",{"$f":"Criteria!E4","v":"Transition"},null,null,"A",{"$f":"Criteria!G4","v":0},null,{"$f":"B7","v":"00:00:00"},{"$f":"TEXT(AG7,\"hh:mm:ss\")","v":"00:00:00"},{"$f":"AG7*24","v":0},{"$f":"SpellNumber((AI7))","v":"No Dollars and No Cents"},{"$f":"FIND(\" Dollar\",AJ7)","v":3},{"$f":"LEFT(AJ7,AK7)","v":"No "}]
[{"$f":"C8-B8","v":"00:00:00"},null,null,null,null,{"$f":"IFERROR(VLOOKUP(E8,$V$7:$W$18,2,FALSE),0)","v":0},null,null,{"$f":"IFERROR(VLOOKUP(H8,$Z$7:$AA$18,2,FALSE),0)","v":0},null,null,{"$f":"IFERROR(VLOOKUP(K8,$AD$7:AE10,2,FALSE),0)","v":0},null,null,{"$f":"IFERROR(VLOOKUP(N8,$V$22:$W$33,2,FALSE),0)","v":0},null,null,null,null,null,null,"B",{"$f":"Criteria!C5","v":"Morning Routine"},null,null,"B",{"$f":"Criteria!E5","v":"Denied access ('No')"},null,null,"B",{"$f":"Criteria!G5","v":0},null,{"$f":"B8","v":"00:00:00"},{"$f":"TEXT(AG8,\"hh:mm:ss\")","v":"00:00:00"},{"$f":"AG8*24","v":0},{"$f":"SpellNumber((AI8))","v":"No Dollars and No Cents"},{"$f":"FIND(\" Dollar\",AJ8)","v":3},{"$f":"LEFT(AJ8,AK8)","v":"No "}]
["00:00:00",null,null,null,null,{"$f":"IFERROR(VLOOKUP(E9,$V$7:$W$18,2,FALSE),0)","v":0},null,null,0,null,null,{"$f":"IFERROR(VLOOKUP(K9,$AD$7:AE11,2,FALSE),0)","v":0},null,null,0,null,null,null,null,null,null,"C",{"$f":"Criteria!C6","v":"Group Work"},null,null,"C",{"$f":"Criteria!E6","v":"Instruction/ Directions"},null,null,"C",{"$f":"Criteria!G6","v":0},null,"00:00:00","00:00:00",0,{"$f":"SpellNumber((AI9))","v":"No Dollars and No Cents"},3,"No "]
["00:00:00",null,null,null,null,0,null,null,0,null,null,{"$f":"IFERROR(VLOOKUP(K10,$AD$7:AE12,2,FALSE),0)","v":0},null,null,0,null,null,null,null,null,null,"D",{"$f":"Criteria!C7","v":"Ind. Seat/Work Time"},null,null,"D",{"$f":"Criteria!E7","v":"New Task"},null,null,null,null,null,"00:00:00","00:00:00",0,{"$f":"SpellNumber((AI10))","v":"No Dollars and No Cents"},3,"No "]
["00:00:00",null,null,null,null,0,null,null,0,null,null,{"$f":"IFERROR(VLOOKUP(K11,$AD$7:AE13,2,FALSE),0)","v":0},null,null,0,null,null,null,null,null,null,"E",{"$f":"Criteria!C8","v":"Language Arts"},null,null,"E",{"$f":"Criteria!E8","v":"Tcher attn to other"},null,null,null,null,null,"00:00:00","00:00:00",0,{"$f":"SpellNumber((AI11))","v":"No Dollars and No Cents"},3,"No "]
["00:00:00",null,null,null,null,0,null,null,0,null,null,{"$f":"IFERROR(VLOOKUP(K12,$AD$7:AE14,2,FALSE),0)","v":0},null,null,0,null,null,null,null,null,null,"F",{"$f":"Criteria!C9","v":"Mathematics"},null,null,"F",{"$f":"Criteria!E9","v":"Choice given"},null,null,null,null,null,"00:00:00","00:00:00",0,{"$f":"SpellNumber((AI12))","v":"No Dollars and No Cents"},3,"No "]
["00:00:00",null,null,null,null,0,null,null,0,null,null,{"$f":"IFERROR(VLOOKUP(K13,$AD$7:AE15,2,FALSE),0)","v":0},null,null,0,null,null,null,null,null,null,"G",{"$f":"Criteria!C10","v":"Physical Education"},null,null,"G",{"$f":"Criteria!E10","v":"Redirection"},null,null,null,null,null,"00:00:00","00:00:00",0,{"$f":"SpellNumber((AI13))","v":"No Dollars and No Cents"},3,"No "]
["00:00:00",null,null,null,null,0,null,null,0,null,null,{"$f":"IFERROR(VLOOKUP(K14,$AD$7:AE16,2,FALSE),0)","v":0},null,null,0,null,null,null,null,null,null,"H",{"$f":"Criteria!C11","v":"Music/Art"},null,null,"H",{"$f":"Criteria!E11","v":"Routine Task"},null,null,null,null,null,"00:00:00","00:00:00",0,{"$f":"SpellNumber((AI14))","v":"No Dollars and No Cents"},3,"No "]
["00:00:00",null,null,null,null,0,null,null,0,null,null,{"$f":"IFERROR(VLOOKUP(K15,$AD$7:AE17,2,FALSE),0)","v":0},null,null,0,null,null,null,null,null,null,"I",{"$f":"Criteria!C12","v":"Speech"},null,null,"I",{"$f":"Criteria!E12","v":"Waiting"},null,null,null,null,null,"00:00:00","00:00:00",0,{"$f":"SpellNumber((AI15))","v":"No Dollars and No Cents"},3,"No "]
["00:00:00",null,null,null,null,0,null,null,0,null,null,{"$f":"IFERROR(VLOOKUP(K16,$AD$7:AE18,2,FALSE),0)","v":0},null,null,0,null,null,null,null,null,null,"J",{"$f":"Criteria!C13","v":"OT/PT"},null,null,"J",{"$f":"Criteria!E13","v":"Unknown"},null,null,null,null,null,"00:00:00","00:00:00",0,{"$f":"SpellNumber((AI16))","v":"No Dollars and No Cents"},3,"No "]
["00:00:00",null,null,null,null,0,null,null,0,null,null,{"$f":"IFERROR(VLOOKUP(K17,$AD$7:AE19,2,FALSE),0)","v":0},null,null,0,null,null,null,null,null,null,"K",{"$f":"Criteria!C14","v":"Center"},null,null,"K",{"$f":"Criteria!E14","v":"Ignored"},null,null,null,null,null,"00:00:00","00:00:00",0,{"$f":"SpellNumber((AI17))","v":"No Dollars and No Cents"},3,"No "]
["00:00:00",null,null,null,null,0,null,null,0,null,null,{"$f":"IFERROR(VLOOKUP(K18,$AD$7:AE20,2,FALSE),0)","v":0},null,null,0,null,null,null,null,null,null,"L",{"$f":"Criteria!C15","v":"Other"},null,null,"L",{"$f":"Criteria!E15","v":"Other"},null,null,null,null,null,"00:00:00","00:00:00",0,{"$f":"SpellNumber((AI18))","v":"No Dollars and No Cents"},3,"No "]
["00:00:00",null,null,null,null,0,null,null,0,null,null,{"$f":"IFERROR(VLOOKUP(K19,$AD$7:AE21,2,FALSE),0)","v":0},null,null,0,null,null,null,null,null,null,null,null,null,null,null,null,null,null,null,null,null,"00:00:00","00:00:00",0,{"$f":"SpellNumber((AI19))","v":"No Dollars and No Cents"},3,"No "]
["00:00:00",null,null,null,null,0,null,null,0,null,null,{"$f":"IFERROR(VLOOKUP(K20,$AD$7:AE22,2,FALSE),0)","v":0},null,null,0,null,null,null,null,null,null,null,null,null,null,null,null,null,null,null,null,null,"00:00:00","00:00:00",0,{"$f":"SpellNumber((AI20))","v":"No Dollars and No Cents"},3,"No "]
["00:00:00",null,null,null,null,0,null,null,0,null,null,{"$f":"IFERROR(VLOOKUP(K21,$AD$7:AE23,2,FALSE),0)","v":0},null,null,0,null,null,null,null,null,null,null,"Con",null,"Bx Frequency Per Day",null,null,null,null,null,null,null,"00:00:00","00:00:00",0,{"$f":"SpellNumber((AI21))","v":"No Dollars and No Cents"},3,"No "]
["00:00:00",null,null,null,null,0,null,null,0,null,null,{"$f":"IFERROR(VLOOKUP(K22,$AD$7:AE24,2,FALSE),0)","v":0},null,null,0,null,null,null,null,null,null,"A",{"$f":"Criteria!I4","v":"Choice Given"},"A",{"$f":"COUNTIF(K7:K104,\"A\")","v":0},null,{"$f":"SUM(Y22:Y24)","v":0},null,"Bin Dec","Frequency of Time",null,null,"00:00:00","00:00:00",0,{"$f":"SpellNumber((AI22))","v":"No Dollars and No Cents"},3,"No "]
["00:00:00",null,null,null,null,0,null,null,0,null,null,{"$f":"IFERROR(VLOOKUP(K23,$AD$7:AE25,2,FALSE),0)","v":0},null,null,0,null,null,null,null,null,null,"B",{"$f":"Criteria!I5","v":"Ignored"},"B",{"$f":"COUNTIF(K7:K104,\"B\")","v":0},null,null,null,"Seven",{"$f":"COUNTIF(AL7:AL104,\"*Seven*\")","v":0},null,null,"00:00:00","00:00:00",0,{"$f":"SpellNumber((AI23))","v":"No Dollars and No Cents"},3,"No "]
["00:00:00",null,null,null,null,0,null,null,0,null,null,{"$f":"IFERROR(VLOOKUP(K24,$AD$7:AE26,2,FALSE),0)","v":0},null,null,0,null,null,null,null,null,null,"C",{"$f":"Criteria!I6","v":"Redirection"},"C",{"$f":"COUNTIF(K7:K104,\"C\")","v":0},null,null,null,"Eight",{"$f":"COUNTIF(AL7:AL104,\"*Eight*\")","v":0},null,null,"00:00:00","00:00:00",0,{"$f":"SpellNumber((AI24))","v":"No Dollars and No Cents"},3,"No "]
["00:00:00",null,null,null,null,0,null,null,0,null,null,{"$f":"IFERROR(VLOOKUP(K25,$AD$7:AE27,2,FALSE),0)","v":0},null,null,0,null,null,null,null,null,null,"D",{"$f":"Criteria!I7","v":"Kept the demand"},null,"Bx Druation Per Day",null,null,null,"Nine",{"$f":"COUNTIF(AL7:AL104,\"*Nine*\")","v":0},null,null,"00:00:00","00:00:00",0,{"$f":"SpellNumber((AI25))","v":"No Dollars and No Cents"},3,"No "]
["00:00:00",null,null,null,null,0,null,null,0,null,null,{"$f":"IFERROR(VLOOKUP(K26,$AD$7:AE28,2,FALSE),0)","v":0},null,null,0,null,null,null,null,null,null,"E",{"$f":"Criteria!I8","v":"Changed activity"},"A",{"$f":"SUMIF(K7:K104,\"A\",A7:A104)","v":"00:00:00"},null,null,null,"Ten",{"$f":"COUNTIF(AL7:AL12,\"*Ten*\")","v":0},null,null,"00:00:00","00:00:00",0,{"$f":"SpellNumber((AI26))","v":"No Dollars and No Cents"},3,"No "]
["00:00:00",null,null,null,null,0,null,null,0,null,null,{"$f":"IFERROR(VLOOKUP(K27,$AD$7:AE29,2,FALSE),0)","v":0},null,null,0,null,null,null,null,null,null,"F",{"$f":"Criteria!I9","v":"Verbal reprimand"},"B",{"$f":"SUMIF(K7:K104,\"B\",A7:A104)","v":"00:00:00"},null,null,null,"Eleven",{"$f":"COUNTIF(AL7:AL104,\"*Eleven*\")","v":0},null,null,"00:00:00","00:00:00",0,{"$f":"SpellNumber((AI27))","v":"No Dollars and No Cents"},3,"No "]
["00:00:00",null,null,null,null,0,null,null,0,null,null,{"$f":"IFERROR(VLOOKUP(K28,$AD$7:AE30,2,FALSE),0)","v":0},null,null,0,null,null,null,null,null,null,"G",{"$f":"Criteria!I10","v":"Told to wait"},"C",{"$f":"SUMIF(K7:K104,\"C\",A7:A104)","v":"00:00:00"},null,null,null,"Twelve",{"$f":"COUNTIF(AL7:AL104,\"*Twelve*\")","v":0},null,null,"00:00:00","00:00:00",0,{"$f":"SpellNumber((AI28))","v":"No Dollars and No Cents"},3,"No "]
["00:00:00",null,null,null,null,0,null,null,0,null,null,{"$f":"IFERROR(VLOOKUP(K29,$AD$7:AE31,2,FALSE),0)","v":0},null,null,0,null,null,null,null,null,null,"H",{"$f":"Criteria!I11","v":"Physical Prompt"},null,null,null,null,null,"One",{"$f":"COUNTIF(AL7:AL104,\"*One*\")","v":0},null,null,"00:00:00","00:00:00",0,{"$f":"SpellNumber((AI29))","v":"No Dollars and No Cents"},3,"No "]
["00:00:00",null,null,null,null,0,null,null,0,null,null,{"$f":"IFERROR(VLOOKUP(K30,$AD$7:AE32,2,FALSE),0)","v":0},null,null,0,null,null,null,null,null,null,"I",{"$f":"Criteria!I12","v":"Verbal prompt"},null,null,null,null,null,"Two",{"$f":"COUNTIF(AL7:AL104,\"*Two*\")","v":0},null,null,"00:00:00","00:00:00",0,{"$f":"SpellNumber((AI30))","v":"No Dollars and No Cents"},3,"No "]
["00:00:00",null,null,null,null,0,null,null,0,null,null,{"$f":"IFERROR(VLOOKUP(K31,$AD$7:AE33,2,FALSE),0)","v":0},null,null,0,null,null,null,null,null,null,"J",{"$f":"Criteria!I13","v":"Told to wait"},null,null,null,null,null,"Three",{"$f":"COUNTIF(AL7:AL104,\"*Three*\")","v":0},null,null,"00:00:00","00:00:00",0,{"$f":"SpellNumber((AI31))","v":"No Dollars and No Cents"},3,"No "]
["00:00:00",null,null,null,null,0,null,null,0,null,null,{"$f":"IFERROR(VLOOKUP(K32,$AD$7:AE34,2,FALSE),0)","v":0},null,null,0,null,null,null,null,null,null,"K",{"$f":"Criteria!I14","v":"Unknown"},null,null,null,null,null,"Four",{"$f":"COUNTIF(AL7:AL104,\"*Four*\")","v":0},null,null,"00:00:00","00:00:00",0,{"$f":"SpellNumber((AI32))","v":"No Dollars and No Cents"},3,"No "]
["00:00:00",null,null,null,null,0,null,null,0,null,null,{"$f":"IFERROR(VLOOKUP(K33,$AD$7:AE35,2,FALSE),0)","v":0},null,null,0,null,null,null,null,null,null,"L",{"$f":"Criteria!I15","v":"Other"},null,null,null,null,null,null,null,null,null,"00:00:00","00:00:00",0,{"$f":"SpellNumber((AI33))","v":"No Dollars and No Cents"},3,"No "]
["00:00:00",null,null,null,null,0,null,null,0,null,null,{"$f":"IFERROR(VLOOKUP(K34,$AD$7:AE36,2,FALSE),0)","v":0},null,null,0,null,null,null,null,null,null,null,null,null,null,null,null,null,null,null,null,null,"00:00:00","00:00:00",0,{"$f":"SpellNumber((AI34))","v":"No Dollars and No Cents"},3,"No "]
["00:00:00",null,null,null,null,0,null,null,0,null,null,{"$f":"IFERROR(VLOOKUP(K35,$AD$7:AE37,2,FALSE),0)","v":0},null,null,0,null,null,null,null,null,null,null,"Context Frequency","Consequence","Antedencents",null,null,null,null,null,null,null,"00:00:00","00:00:00",0,{"$f":"SpellNumber((AI35))","v":"No Dollars and No Cents"},3,"No "]
["00:00:00",null,null,null,null,0,null,null,0,null,null,{"$f":"IFERROR(VLOOKUP(K36,$AD$7:AE38,2,FALSE),0)","v":0},null,null,0,null,null,null,null,null,null,"A",{"$f":"COUNTIF(E7:E104,\"A\")","v":0},{"$f":"COUNTIF(N7:N104,\"A\")","v":0},{"$f":"COUNTIF(H7:H104,\"A\")","v":0},null,null,null,null,null,null,null,"00:00:00","00:00:00",0,{"$f":"SpellNumber((AI36))","v":"No Dollars and No Cents"},3,"No "]
["00:00:00",null,null,null,null,0,null,null,0,null,null,{"$f":"IFERROR(VLOOKUP(K37,$AD$7:AE39,2,FALSE),0)","v":0},null,null,0,null,null,null,null,null,null,"B",{"$f":"COUNTIF(E8:E105,\"B\")","v":0},{"$f":"COUNTIF(N7:N104,\"B\")","v":0},{"$f":"COUNTIF(H7:H104,\"B\")","v":0},null,null,null,null,null,null,null,"00:00:00","00:00:00",0,{"$f":"SpellNumber((AI37))","v":"No Dollars and No Cents"},3,"No "]
["00:00:00",null,null,null,null,0,null,null,0,null,null,{"$f":"IFERROR(VLOOKUP(K38,$AD$7:AE40,2,FALSE),0)","v":0},null,null,0,null,null,null,null,null,null,"C",{"$f":"COUNTIF(E8:E105,\"C\")","v":0},{"$f":"COUNTIF(N7:N104,\"C\")","v":0},{"$f":"COUNTIF(H7:H104,\"C\")","v":0},null,null,null,null,null,null,null,"00:00:00","00:00:00",0,{"$f":"SpellNumber((AI38))","v":"No Dollars and No Cents"},3,"No "]
["00:00:00",null,null,null,null,0,null,null,0,null,null,{"$f":"IFERROR(VLOOKUP(K39,$AD$7:AE41,2,FALSE),0)","v":0},null,null,0,null,null,null,null,null,null,"D",{"$f":"COUNTIF(E8:E105,\"D\")","v":0},{"$f":"COUNTIF(N7:N104,\"D\")","v":0},{"$f":"COUNTIF(H7:H104,\"D\")","v":0},null,null,null,null,null,null,null,"00:00:00","00:00:00",0,{"$f":"SpellNumber((AI39))","v":"No Dollars and No Cents"},3,"No "]
["00:00:00",null,null,null,null,0,null,null,0,null,null,{"$f":"IFERROR(VLOOKUP(K40,$AD$7:AE42,2,FALSE),0)","v":0},null,null,0,null,null,null,null,null,null,"E",{"$f":"COUNTIF(E8:E105,\"E\")","v":0},{"$f":"COUNTIF(N7:N104,\"E\")","v":0},{"$f":"COUNTIF(H7:H104,\"E\")","v":0},null,null,null,null,null,null,null,"00:00:00","00:00:00",0,{"$f":"SpellNumber((AI40))","v":"No Dollars and No Cents"},3,"No "]
["00:00:00",null,null,null,null,0,null,null,0,null,null,{"$f":"IFERROR(VLOOKUP(K41,$AD$7:AE43,2,FALSE),0)","v":0},null,null,0,null,null,null,null,null,null,"F",{"$f":"COUNTIF(E8:E105,\"F\")","v":0},{"$f":"COUNTIF(N7:N104,\"F\")","v":0},{"$f":"COUNTIF(H7:H104,\"F\")","v":0},null,null,null,null,null,null,null,"00:00:00","00:00:00",0,{"$f":"SpellNumber((AI41))","v":"No Dollars and No Cents"},3,"No "]
["00:00:00",null,null,null,null,0,null,null,0,null,null,{"$f":"IFERROR(VLOOKUP(K42,$AD$7:AE44,2,FALSE),0)","v":0},null,null,0,null,null,null,null,null,null,"G",{"$f":"COUNTIF(E8:E105,\"G\")","v":0},{"$f":"COUNTIF(N7:N104,\"G\")","v":0},{"$f":"COUNTIF(H7:H104,\"G\")","v":0},null,null,null,null,null,null,null,"00:00:00","00:00:00",0,{"$f":"SpellNumber((AI42))","v":"No Dollars and No Cents"},3,"No "]
["00:00:00",null,null,null,null,0,null,null,0,null,null,{"$f":"IFERROR(VLOOKUP(K43,$AD$7:AE45,2,FALSE),0)","v":0},null,null,0,null,null,null,null,null,null,"H",{"$f":"COUNTIF(E8:E105,\"H\")","v":0},{"$f":"COUNTIF(N7:N104,\"H\")","v":0},{"$f":"COUNTIF(H7:H104,\"H\")","v":0},null,null,null,null,null,null,null,"00:00:00","00:00:00",0,{"$f":"SpellNumber((AI43))","v":"No Dollars and No Cents"},3,"No "]
["00:00:00",null,null,null,null,0,null,null,0,null,null,{"$f":"IFERROR(VLOOKUP(K44,$AD$7:AE46,2,FALSE),0)","v":0},null,null,0,null,null,null,null,null,null,"I",{"$f":"COUNTIF(E8:E105,\"I\")","v":0},{"$f":"COUNTIF(N7:N104,\"I\")","v":0},{"$f":"COUNTIF(H7:H104,\"I\")","v":0},null,null,null,null,null,null,null,"00:00:00","00:00:00",0,{"$f":"SpellNumber((AI44))","v":"No Dollars and No Cents"},3,"No "]
["00:00:00",null,null,null,null,0,null,null,0,null,null,{"$f":"IFERROR(VLOOKUP(K45,$AD$7:AE47,2,FALSE),0)","v":0},null,null,0,null,null,null,null,null,null,"J",{"$f":"COUNTIF(E8:E105,\"J\")","v":0},{"$f":"COUNTIF(N7:N104,\"J\")","v":0},{"$f":"COUNTIF(H7:H104,\"J\")","v":0},null,null,null,null,null,null,null,"00:00:00","00:00:00",0,{"$f":"SpellNumber((AI45))","v":"No Dollars and No Cents"},3,"No "]
["00:00:00",null,null,null,null,0,null,null,0,null,null,{"$f":"IFERROR(VLOOKUP(K46,$AD$7:AE48,2,FALSE),0)","v":0},null,null,0,null,null,null,null,null,null,"K",{"$f":"COUNTIF(E8:E105,\"K\")","v":0},{"$f":"COUNTIF(N7:N104,\"K\")","v":0},{"$f":"COUNTIF(H7:H104,\"K\")","v":0},null,null,null,null,null,null,null,"00:00:00","00:00:00",0,{"$f":"SpellNumber((AI46))","v":"No Dollars and No Cents"},3,"No "]
["00:00:00",null,null,null,null,0,null,null,0,null,null,{"$f":"IFERROR(VLOOKUP(K47,$AD$7:AE49,2,FALSE),0)","v":0},null,null,0,null,null,null,null,null,null,"L",{"$f":"COUNTIF(E8:E105,\"l\")","v":0},{"$f":"COUNTIF(N7:N104,\"L\")","v":0},{"$f":"COUNTIF(H7:H104,\"L\")","v":0},null,null,null,null,null,null,null,"00:00:00","00:00:00",0,{"$f":"SpellNumber((AI47))","v":"No Dollars and No Cents"},3,"No "]
["00:00:00",null,null,null,null,0,null,null,0,null,null,{"$f":"IFERROR(VLOOKUP(K48,$AD$7:AE50,2,FALSE),0)","v":0},null,null,0,null,null,null,null,null,null,null,null,null,null,null,null,null,null,null,null,null,"00:00:00","00:00:00",0,{"$f":"SpellNumber((AI48))","v":"No Dollars and No Cents"},3,"No "]
["00:00:00",null,null,null,null,0,null,null,0,null,null,{"$f":"IFERROR(VLOOKUP(K49,$AD$7:AE51,2,FALSE),0)","v":0},null,null,0,null,null,null,null,null,null,null,"Beh & Setting ",null,null,null,"Beh & Antecedents",null,null,null,null,null,"00:00:00","00:00:00",0,{"$f":"SpellNumber((AI49))","v":"No Dollars and No Cents"},3,"No "]
["00:00:00",null,null,null,null,0,null,null,0,null,null,{"$f":"IFERROR(VLOOKUP(K50,$AD$7:AE52,2,FALSE),0)","v":0},null,null,0,null,null,null,null,null,null,null,"A","B","C",null,null,"A","B","C",null,null,"00:00:00","00:00:00",0,{"$f":"SpellNumber((AI50))","v":"No Dollars and No Cents"},3,"No "]
["00:00:00",null,null,null,null,0,null,null,0,null,null,{"$f":"IFERROR(VLOOKUP(K51,$AD$7:AE53,2,FALSE),0)","v":0},null,null,0,null,null,null,null,null,null,"A",{"$f":"COUNTIFS(E7:E104,\"A\",K7:K104,\"A\")","v":0},{"$f":"COUNTIFS(E7:E104,\"A\",K7:K104,\"B\")","v":0},{"$f":"COUNTIFS(E7:E104,\"A\",K7:K104,\"C\")","v":0},null,"A",{"$f":"COUNTIFS(H7:H104,\"a\",K7:K104,\"A\")","v":0},{"$f":"COUNTIFS(H7:H104,\"A\",K7:K104,\"B\")","v":0},{"$f":"COUNTIFS(H7:H104,\"A\",K7:K104,\"C\")","v":0},null,null,"00:00:00","00:00:00",0,{"$f":"SpellNumber((AI51))","v":"No Dollars and No Cents"},3,"No "]
["00:00:00",null,null,null,null,0,null,null,0,null,null,{"$f":"IFERROR(VLOOKUP(K52,$AD$7:AE54,2,FALSE),0)","v":0},null,null,0,null,null,null,null,null,null,"B",{"$f":"COUNTIFS(E7:E104,\"B\",K7:K104,\"A\")","v":0},{"$f":"COUNTIFS(E7:E104,\"B\",K7:K104,\"B\")","v":0},{"$f":"COUNTIFS(E7:E104,\"B\",K7:K104,\"C\")","v":0},null,"B",{"$f":"COUNTIFS(H7:H104,\"B\",K7:K104,\"A\")","v":0},{"$f":"COUNTIFS(H7:H104,\"B\",K7:K104,\"B\")","v":0},{"$f":"COUNTIFS(H7:H104,\"B\",K7:K104,\"C\")","v":0},null,null,"00:00:00","00:00:00",0,{"$f":"SpellNumber((AI52))","v":"No Dollars and No Cents"},3,"No "]
["00:00:00",null,null,null,null,0,null,null,0,null,null,{"$f":"IFERROR(VLOOKUP(K53,$AD$7:AE55,2,FALSE),0)","v":0},null,null,0,null,null,null,null,null,null,"C",{"$f":"COUNTIFS(K7:K104,\"C\",K7:K104,\"A\")","v":0},{"$f":"COUNTIFS(E7:E104,\"C\",K7:K104,\"B\")","v":0},{"$f":"COUNTIFS(E7:E104,\"C\",K7:K104,\"C\")","v":0},null,"C",{"$f":"COUNTIFS(H7:H104,\"C\",K7:K104,\"A\")","v":0},{"$f":"COUNTIFS(H7:H104,\"C\",K7:K104,\"B\")","v":0},{"$f":"COUNTIFS(H7:H104,\"C\",K7:K104,\"C\")","v":0},null,null,"00:00:00","00:00:00",0,{"$f":"SpellNumber((AI53))","v":"No Dollars and No Cents"},3,"No "]
["00:00:00",null,null,null,null,0,null,null,0,null,null,{"$f":"IFERROR(VLOOKUP(K54,$AD$7:AE56,2,FALSE),0)","v":0},null,null,0,null,null,null,null,null,null,"D",{"$f":"COUNTIFS(E7:E104,\"D\",K7:K104,\"A\")","v":0},{"$f":"COUNTIFS(E7:E104,\"D\",K7:K104,\"B\")","v":0},{"$f":"COUNTIFS(E7:E104,\"D\",K7:K104,\"C\")","v":0},null,"D",{"$f":"COUNTIFS(H7:H104,\"D\",K7:K104,\"A\")","v":0},{"$f":"COUNTIFS(H7:H104,\"D\",K7:K104,\"B\")","v":0},{"$f":"COUNTIFS(H7:H104,\"D\",K7:K104,\"C\")","v":0},null,null,"00:00:00","00:00:00",0,{"$f":"SpellNumber((AI54))","v":"No Dollars and No Cents"},3,"No "]
["00:00:00",null,null,null,null,0,null,null,0,null,null,{"$f":"IFERROR(VLOOKUP(K55,$AD$7:AE57,2,FALSE),0)","v":0},null,null,0,null,null,null,null,null,null,"E",{"$f":"COUNTIFS(E7:E104,\"E\",K7:K104,\"A\")","v":0},{"$f":"COUNTIFS(E7:E104,\"E\",K7:K104,\"B\")","v":0},{"$f":"COUNTIFS(E7:E104,\"E\",K7:K104,\"C\")","v":0},null,"E",{"$f":"COUNTIFS(H7:H104,\"E\",K7:K104,\"A\")","v":0},{"$f":"COUNTIFS(H7:H104,\"E\",K7:K104,\"B\")","v":0},{"$f":"COUNTIFS(H7:H104,\"E\",K7:K104,\"C\")","v":0},null,null,"00:00:00","00:00:00",0,{"$f":"SpellNumber((AI55))","v":"No Dollars and No Cents"},3,"No "]
["00:00:00",null,null,null,null,0,null,null,0,null,null,{"$f":"IFERROR(VLOOKUP(K56,$AD$7:AE58,2,FALSE),0)","v":0},null,null,0,null,null,null,null,null,null,"F",{"$f":"COUNTIFS(E7:E104,\"F\",K7:K104,\"A\")","v":0},{"$f":"COUNTIFS(E7:E104,\"F\",K7:K104,\"B\")","v":0},{"$f":"COUNTIFS(E7:E104,\"F\",K7:K104,\"C\")","v":0},null,"F",{"$f":"COUNTIFS(H7:H104,\"F\",K7:K104,\"A\")","v":0},{"$f":"COUNTIFS(H7:H104,\"F\",K7:K104,\"B\")","v":0},{"$f":"COUNTIFS(H7:H104,\"F\",K7:K104,\"C\")","v":0},null,null,"00:00:00","00:00:00",0,{"$f":"SpellNumber((AI56))","v":"No Dollars and No Cents"},3,"No "]
["00:00:00",null,null,null,null,0,null,null,0,null,null,{"$f":"IFERROR(VLOOKUP(K57,$AD$7:AE59,2,FALSE),0)","v":0},null,null,0,null,null,null,null,null,null,"G",{"$f":"COUNTIFS(E7:E104,\"G\",K7:K104,\"A\")","v":0},{"$f":"COUNTIFS(E7:E104,\"G\",K7:K104,\"B\")","v":0},{"$f":"COUNTIFS(E7:E104,\"G\",K7:K104,\"C\")","v":0},null,"G",{"$f":"COUNTIFS(H7:H104,\"G\",K7:K104,\"A\")","v":0},{"$f":"COUNTIFS(H7:H104,\"G\",K7:K104,\"B\")","v":0},{"$f":"COUNTIFS(H7:H104,\"G\",K7:K104,\"C\")","v":0},null,null,"00:00:00","00:00:00",0,{"$f":"SpellNumber((AI57))","v":"No Dollars and No Cents"},3,"No "]
["00:00:00",null,null,null,null,0,null,null,0,null,null,{"$f":"IFERROR(VLOOKUP(K58,$AD$7:AE60,2,FALSE),0)","v":0},null,null,0,null,null,null,null,null,null,"H",{"$f":"COUNTIFS(E7:E104,\"H\",K7:K104,\"A\")","v":0},{"$f":"COUNTIFS(E7:E104,\"H\",K7:K104,\"B\")","v":0},{"$f":"COUNTIFS(E7:E104,\"H\",K7:K104,\"C\")","v":0},null,"H",{"$f":"COUNTIFS(H7:H104,\"H\",K7:K104,\"A\")","v":0},{"$f":"COUNTIFS(H7:H104,\"H\",K7:K104,\"B\")","v":0},{"$f":"COUNTIFS(H7:H104,\"H\",K7:K104,\"C\")","v":0},null,null,"00:00:00","00:00:00",0,{"$f":"SpellNumber((AI58))","v":"No Dollars and No Cents"},3,"No "]
["00:00:00",null,null,null,null,0,null,null,0,null,null,{"$f":"IFERROR(VLOOKUP(K59,$AD$7:AE61,2,FALSE),0)","v":0},null,null,0,null,null,null,null,null,null,"I",{"$f":"COUNTIFS(E7:E104,\"I\",K7:K104,\"A\")","v":0},{"$f":"COUNTIFS(E7:E104,\"I\",K7:K104,\"B\")","v":0},{"$f":"COUNTIFS(E7:E104,\"I\",K7:K104,\"C\")","v":0},null,"I",{"$f":"COUNTIFS(H7:H104,\"I\",K7:K104,\"A\")","v":0},{"$f":"COUNTIFS(H7:H104,\"I\",K7:K104,\"B\")","v":0},{"$f":"COUNTIFS(H7:H104,\"I\",K7:K104,\"C\")","v":0},null,null,"00:00:00","00:00:00",0,{"$f":"SpellNumber((AI59))","v":"No Dollars and No Cents"},3,"No "]
["00:00:00",null,null,null,null,0,null,null,0,null,null,{"$f":"IFERROR(VLOOKUP(K60,$AD$7:AE62,2,FALSE),0)","v":0},null,null,0,null,null,null,null,null,null,"J",{"$f":"COUNTIFS(E7:E104,\"J\",K7:K104,\"A\")","v":0},{"$f":"COUNTIFS(E7:E104,\"J\",K7:K104,\"B\")","v":0},{"$f":"COUNTIFS(E7:E104,\"J\",K7:K104,\"C\")","v":0},null,"J",{"$f":"COUNTIFS(H7:H104,\"J\",K7:K104,\"A\")","v":0},{"$f":"COUNTIFS(H7:H104,\"J\",K7:K104,\"B\")","v":0},{"$f":"COUNTIFS(H7:H104,\"J\",K7:K104,\"C\")","v":0},null,null,"00:00:00","00:00:00",0,{"$f":"SpellNumber((AI60))","v":"No Dollars and No Cents"},3,"No "]
["00:00:00",null,null,null,null,0,null,null,0,null,null,{"$f":"IFERROR(VLOOKUP(K61,$AD$7:AE63,2,FALSE),0)","v":0},null,null,0,null,null,null,null,null,null,"K",{"$f":"COUNTIFS(E7:E104,\"K\",K7:K104,\"A\")","v":0},{"$f":"COUNTIFS(E7:E104,\"K\",K7:K104,\"B\")","v":0},{"$f":"COUNTIFS(E7:E104,\"K\",K7:K104,\"C\")","v":0},null,"K",{"$f":"COUNTIFS(H7:H104,\"K\",K7:K104,\"A\")","v":0},{"$f":"COUNTIFS(H7:H104,\"K\",K7:K104,\"B\")","v":0},{"$f":"COUNTIFS(H7:H104,\"K\",K7:K104,\"C\")","v":0},null,null,"00:00:00","00:00:00",0,{"$f":"SpellNumber((AI61))","v":"No Dollars and No Cents"},3,"No "]
["00:00:00",null,null,null,null,0,null,null,0,null,null,{"$f":"IFERROR(VLOOKUP(K62,$AD$7:AE64,2,FALSE),0)","v":0},null,null,0,null,null,null,null,null,null,"L",{"$f":"COUNTIFS(E7:E104,\"L\",K7:K104,\"A\")","v":0},{"$f":"COUNTIFS(E7:E104,\"L\",K7:K104,\"B\")","v":0},{"$f":"COUNTIFS(E7:E104,\"L\",K7:K104,\"C\")","v":0},null,"L",{"$f":"COUNTIFS(H7:H104,\"L\",K7:K104,\"A\")","v":0},{"$f":"COUNTIFS(H7:H104,\"L\",K7:K104,\"B\")","v":0},{"$f":"COUNTIFS(H7:H104,\"L\",K7:K104,\"C\")","v":0},null,null,"00:00:00","00:00:00",0,{"$f":"SpellNumber((AI62))","v":"No Dollars and No Cents"},3,"No "]
["00:00:00",null,null,null,null,0,null,null,0,null,null,{"$f":"IFERROR(VLOOKUP(K63,$AD$7:AE65,2,FALSE),0)","v":0},null,null,0,null,null,null,null,null,null,null,"Beh & Consequences",null,null,null,null,null,null,null,null,null,"00:00:00","00:00:00",0,{"$f":"SpellNumber((AI63))","v":"No Dollars and No Cents"},3,"No "]
["00:00:00",null,null,null,null,0,null,null,0,null,null,{"$f":"IFERROR(VLOOKUP(K64,$AD$7:AE66,2,FALSE),0)","v":0},null,null,0,null,null,null,null,null,null,null,"A","B","C",null,null,null,null,null,null,null,"00:00:00","00:00:00",0,{"$f":"SpellNumber((AI64))","v":"No Dollars and No Cents"},3,"No "]
["00:00:00",null,null,null,null,0,null,null,0,null,null,{"$f":"IFERROR(VLOOKUP(K65,$AD$7:AE67,2,FALSE),0)","v":0},null,null,0,null,null,null,null,null,null,"A",{"$f":"COUNTIFS(N7:N104,\"A\",K7:K104,\"A\")","v":0},{"$f":"COUNTIFS(N7:N104,\"A\",K7:K104,\"B\")","v":0},{"$f":"COUNTIFS(N7:N104,\"A\",K7:K104,\"C\")","v":0},null,null,null,null,null,null,null,"00:00:00","00:00:00",0,{"$f":"SpellNumber((AI65))","v":"No Dollars and No Cents"},3,"No "]
["00:00:00",null,null,null,null,0,null,null,0,null,null,{"$f":"IFERROR(VLOOKUP(K66,$AD$7:AE68,2,FALSE),0)","v":0},null,null,0,null,null,null,null,null,null,"B",{"$f":"COUNTIFS(N7:N104,\"B\",K7:K104,\"A\")","v":0},{"$f":"COUNTIFS(N7:N104,\"B\",K7:K104,\"B\")","v":0},{"$f":"COUNTIFS(N7:N104,\"B\",K7:K104,\"C\")","v":0},null,null,null,null,null,null,null,"00:00:00","00:00:00",0,{"$f":"SpellNumber((AI66))","v":"No Dollars and No Cents"},3,"No "]
["00:00:00",null,null,null,null,0,null,null,0,null,null,{"$f":"IFERROR(VLOOKUP(K67,$AD$7:AE69,2,FALSE),0)","v":0},null,null,0,null,null,null,null,null,null,"C",{"$f":"COUNTIFS(N7:N104,\"C\",K7:K104,\"A\")","v":0},{"$f":"COUNTIFS(N7:N104,\"C\",K7:K104,\"B\")","v":0},{"$f":"COUNTIFS(N7:N104,\"C\",K7:K104,\"C\")","v":0},null,null,null,null,null,null,null,"00:00:00","00:00:00",0,{"$f":"SpellNumber((AI67))","v":"No Dollars and No Cents"},3,"No "]
["00:00:00",null,null,null,null,0,null,null,0,null,null,{"$f":"IFERROR(VLOOKUP(K68,$AD$7:AE70,2,FALSE),0)","v":0},null,null,0,null,null,null,null,null,null,"D",{"$f":"COUNTIFS(N7:N104,\"D\",K7:K104,\"A\")","v":0},{"$f":"COUNTIFS(N7:N104,\"D\",K7:K104,\"B\")","v":0},{"$f":"COUNTIFS(N7:N104,\"D\",K7:K104,\"C\")","v":0},null,null,null,null,null,null,null,"00:00:00","00:00:00",0,{"$f":"SpellNumber((AI68))","v":"No Dollars and No Cents"},3,"No "]
["00:00:00",null,null,null,null,0,null,null,0,null,null,{"$f":"IFERROR(VLOOKUP(K69,$AD$7:AE71,2,FALSE),0)","v":0},null,null,0,null,null,null,null,null,null,"E",{"$f":"COUNTIFS(N7:N104,\"E\",K7:K104,\"A\")","v":0},{"$f":"COUNTIFS(N7:N104,\"E\",K7:K104,\"B\")","v":0},{"$f":"COUNTIFS(N7:N104,\"E\",K7:K104,\"C\")","v":0},null,null,null,null,null,null,null,"00:00:00","00:00:00",0,{"$f":"SpellNumber((AI69))","v":"No Dollars and No Cents"},3,"No "]
["00:00:00",null,null,null,null,0,null,null,0,null,null,{"$f":"IFERROR(VLOOKUP(K70,$AD$7:AE72,2,FALSE),0)","v":0},null,null,0,null,null,null,null,null,null,"F",{"$f":"COUNTIFS(N7:N104,\"F\",K7:K104,\"A\")","v":0},{"$f":"COUNTIFS(N7:N104,\"F\",K7:K104,\"B\")","v":0},{"$f":"COUNTIFS(N7:N104,\"F\",K7:K104,\"C\")","v":0},null,null,null,null,null,null,null,"00:00:00","00:00:00",0,{"$f":"SpellNumber((AI70))","v":"No Dollars and No Cents"},3,"No "]
["00:00:00",null,null,null,null,0,null,null,0,null,null,{"$f":"IFERROR(VLOOKUP(K71,$AD$7:AE73,2,FALSE),0)","v":0},null,null,0,null,null,null,null,null,null,"G",{"$f":"COUNTIFS(N7:N104,\"G\",K7:K104,\"A\")","v":0},{"$f":"COUNTIFS(N7:N104,\"G\",K7:K104,\"B\")","v":0},{"$f":"COUNTIFS(N7:N104,\"G\",K7:K104,\"C\")","v":0},null,null,null,null,null,null,null,"00:00:00","00:00:00",0,{"$f":"SpellNumber((AI71))","v":"No Dollars and No Cents"},3,"No "]
[{"$f":"C72-B72","v":"00:00:00"},null,null,null,null,0,null,null,{"$f":"IFERROR(VLOOKUP(H72,$Z$7:$AA$18,2,FALSE),0)","v":0},null,null,{"$f":"IFERROR(VLOOKUP(K72,$AD$7:AE74,2,FALSE),0)","v":0},null,null,{"$f":"IFERROR(VLOOKUP(N72,$V$22:$W$33,2,FALSE),0)","v":0},null,null,null,null,null,null,"H",{"$f":"COUNTIFS(N7:N104,\"H\",K7:K104,\"A\")","v":0},{"$f":"COUNTIFS(N7:N104,\"H\",K7:K104,\"B\")","v":0},{"$f":"COUNTIFS(N7:N104,\"H\",K7:K104,\"C\")","v":0},null,null,null,null,null,null,null,{"$f":"B72","v":"00:00:00"},{"$f":"TEXT(AG72,\"hh:mm:ss\")","v":"00:00:00"},{"$f":"AG72*24","v":0},{"$f":"SpellNumber((AI72))","v":"No Dollars and No Cents"},{"$f":"FIND(\" Dollar\",AJ72)","v":3},{"$f":"LEFT(AJ72,AK72)","v":"No "}]
["00:00:00",null,null,null,null,{"$f":"IFERROR(VLOOKUP(E73,$V$7:$W$18,2,FALSE),0)","v":0},null,null,0,null,null,{"$f":"IFERROR(VLOOKUP(K73,$AD$7:AE75,2,FALSE),0)","v":0},null,null,0,null,null,null,null,null,null,"I",{"$f":"COUNTIFS(N7:N104,\"I\",K7:K104,\"A\")","v":0},{"$f":"COUNTIFS(N7:N104,\"I\",K7:K104,\"B\")","v":0},{"$f":"COUNTIFS(N7:N104,\"I\",K7:K104,\"C\")","v":0},null,null,null,null,null,null,null,"00:00:00","00:00:00",0,{"$f":"SpellNumber((AI73))","v":"No Dollars and No Cents"},3,"No "]
["00:00:00",null,null,null,null,0,null,null,0,null,null,{"$f":"IFERROR(VLOOKUP(K74,$AD$7:AE76,2,FALSE),0)","v":0},null,null,0,null,null,null,null,null,null,"J",{"$f":"COUNTIFS(N7:N104,\"J\",K7:K104,\"A\")","v":0},{"$f":"COUNTIFS(N7:N104,\"J\",K7:K104,\"B\")","v":0},{"$f":"COUNTIFS(N7:N104,\"J\",K7:K104,\"C\")","v":0},null,null,null,null,null,null,null,"00:00:00","00:00:00",0,{"$f":"SpellNumber((AI74))","v":"No Dollars and No Cents"},3,"No "]
["00:00:00",null,null,null,null,0,null,null,0,null,null,{"$f":"IFERROR(VLOOKUP(K75,$AD$7:AE77,2,FALSE),0)","v":0},null,null,0,null,null,null,null,null,null,"K",{"$f":"COUNTIFS(N7:N104,\"K\",K7:K104,\"A\")","v":0},{"$f":"COUNTIFS(N7:N104,\"K\",K7:K104,\"B\")","v":0},{"$f":"COUNTIFS(N7:N104,\"K\",K7:K104,\"C\")","v":0},null,null,null,null,null,null,null,"00:00:00","00:00:00",0,{"$f":"SpellNumber((AI75))","v":"No Dollars and No Cents"},3,"No "]
["00:00:00",null,null,null,null,0,null,null,0,null,null,{"$f":"IFERROR(VLOOKUP(K76,$AD$7:AE78,2,FALSE),0)","v":0},null,null,0,null,null,null,null,null,null,"L",{"$f":"COUNTIFS(N7:N104,\"L\",K7:K104,\"A\")","v":0},{"$f":"COUNTIFS(N7:N104,\"L\",K7:K104,\"B\")","v":0},{"$f":"COUNTIFS(N7:N104,\"L\",K7:K104,\"C\")","v":0},null,null,null,null,null,null,null,"00:00:00","00:00:00",0,{"$f":"SpellNumber((AI76))","v":"No Dollars and No Cents"},3,"No "]
["00:00:00",null,null,null,null,0,null,null,0,null,null,{"$f":"IFERROR(VLOOKUP(K77,$AD$7:AE79,2,FALSE),0)","v":0},null,null,0,null,null,null,null,null,null,null,null,null,null,null,null,null,null,null,null,null,"00:00:00","00:00:00",0,{"$f":"SpellNumber((AI77))","v":"No Dollars and No Cents"},3,"No "]
["00:00:00",null,null,null,null,0,null,null,0,null,null,{"$f":"IFERROR(VLOOKUP(K78,$AD$7:AE80,2,FALSE),0)","v":0},null,null,0,null,null,null,null,null,null,null,null,null,null,null,null,null,null,null,null,null,"00:00:00","00:00:00",0,{"$f":"SpellNumber((AI78))","v":"No Dollars and No Cents"},3,"No "]
["00:00:00",null,null,null,null,0,null,null,0,null,null,{"$f":"IFERROR(VLOOKUP(K79,$AD$7:AE81,2,FALSE),0)","v":0},null,null,0,null,null,null,null,null,null,null,null,null,null,null,null,null,null,null,null,null,"00:00:00","00:00:00",0,{"$f":"SpellNumber((AI79))","v":"No Dollars and No Cents"},3,"No "]
["00:00:00",null,null,null,null,0,null,null,0,null,null,{"$f":"IFERROR(VLOOKUP(K80,$AD$7:AE82,2,FALSE),0)","v":0},null,null,0,null,null,null,null,null,null,null,null,null,null,null,null,null,null,null,null,null,"00:00:00","00:00:00",0,{"$f":"SpellNumber((AI80))","v":"No Dollars and No Cents"},3,"No "]
["00:00:00",null,null,null,null,0,null,null,0,null,null,{"$f":"IFERROR(VLOOKUP(K81,$AD$7:AE83,2,FALSE),0)","v":0},null,null,0,null,null,null,null,null,null,null,null,null,null,null,null,null,null,null,null,null,"00:00:00","00:00:00",0,{"$f":"SpellNumber((AI81))","v":"No Dollars and No Cents"},3,"No "]
["00:00:00",null,null,null,null,0,null,null,0,null,null,{"$f":"IFERROR(VLOOKUP(K82,$AD$7:AE84,2,FALSE),0)","v":0},null,null,0,null,null,null,null,null,null,null,null,null,null,null,null,null,null,null,null,null,"00:00:00","00:00:00",0,{"$f":"SpellNumber((AI82))","v":"No Dollars and No Cents"},3,"No "]
["00:00:00",null,null,null,null,0,null,null,0,null,null,{"$f":"IFERROR(VLOOKUP(K83,$AD$7:AE85,2,FALSE),0)","v":0},null,null,0,null,null,null,null,null,null,null,null,null,null,null,null,null,null,null,null,null,"00:00:00","00:00:00",0,{"$f":"SpellNumber((AI83))","v":"No Dollars and No Cents"},3,"No "]
["00:00:00",null,null,null,null,0,null,null,0,null,null,{"$f":"IFERROR(VLOOKUP(K84,$AD$7:AE86,2,FALSE),0)","v":0},null,null,0,null,null,null,null,null,null,null,null,null,null,null,null,null,null,null,null,null,"00:00:00","00:00:00",0,{"$f":"SpellNumber((AI84))","v":"No Dollars and No Cents"},3,"No "]
["00:00:00",null,null,null,null,0,null,null,0,null,null,{"$f":"IFERROR(VLOOKUP(K85,$AD$7:AE87,2,FALSE),0)","v":0},null,null,0,null,null,null,null,null,null,null,null,null,null,null,null,null,null,null,null,null,"00:00:00","00:00:00",0,{"$f":"SpellNumber((AI85))","v":"No Dollars and No Cents"},3,"No "]
["00:00:00",null,null,null,null,0,null,null,0,null,null,{"$f":"IFERROR(VLOOKUP(K86,$AD$7:AE88,2,FALSE),0)","v":0},null,null,0,null,null,null,null,null,null,null,null,null,null,null,null,null,null,null,null,null,"00:00:00","00:00:00",0,{"$f":"SpellNumber((AI86))","v":"No Dollars and No Cents"},3,"No "]
["00:00:00",null,null,null,null,0,null,null,0,null,null,{"$f":"IFERROR(VLOOKUP(K87,$AD$7:AE89,2,FALSE),0)","v":0},null,null,0,null,null,null,null,null,null,null,null,null,null,null,null,null,null,null,null,null,"00:00:00","00:00:00",0,{"$f":"SpellNumber((AI87))","v":"No Dollars and No Cents"},3,"No "]
["00:00:00",null,null,null,null,0,null,null,0,null,null,{"$f":"IFERROR(VLOOKUP(K88,$AD$7:AE90,2,FALSE),0)","v":0},null,null,0,null,null,null,null,null,null,null,null,null,null,null,null,null,null,null,null,null,"00:00:00","00:00:00",0,{"$f":"SpellNumber((AI88))","v":"No Dollars and No Cents"},3,"No "]
["00:00:00",null,null,null,null,0,null,null,0,null,null,{"$f":"IFERROR(VLOOKUP(K89,$AD$7:AE91,2,FALSE),0)","v":0},null,null,0,null,null,null,null,null,null,null,null,null,null,null,null,null,null,null,null,null,"00:00:00","00:00:00",0,{"$f":"SpellNumber((AI89))","v":"No Dollars and No Cents"},3,"No "]
["00:00:00",null,null,null,null,0,null,null,0,null,null,{"$f":"IFERROR(VLOOKUP(K90,$AD$7:AE92,2,FALSE),0)","v":0},null,null,0,null,null,null,null,null,null,null,null,null,null,null,null,null,null,null,null,null,"00:00:00","00:00:00",0,{"$f":"SpellNumber((AI90))","v":"No Dollars and No Cents"},3,"No "]
["00:00:00",null,null,null,null,0,null,null,0,null,null,{"$f":"IFERROR(VLOOKUP(K91,$AD$7:AE93,2,FALSE),0)","v":0},null,null,0,null,null,null,"Total Mins",{"$f":"SUM(A7:A104)","v":"00:00:00"},null,null,null,null,null,null,null,null,null,null,null,null,"00:00:00","00:00:00",0,{"$f":"SpellNumber((AI91))","v":"No Dollars and No Cents"},3,"No "]
["00:00:00",null,null,null,null,0,null,null,0,null,null,{"$f":"IFERROR(VLOOKUP(K92,$AD$7:AE94,2,FALSE),0)","v":0},null,null,0,null,null,null,"Settings:","A",{"$f":"COUNTIF(E4:E104,\"A\")","v":0},"Antec.","A",{"$f":"COUNTIF(H4:H104,\"A\")","v":0},"Beh","A",{"$f":"COUNTIF(L4:L104,\"A\")","v":0},"Conse.","A",{"$f":"COUNTIF(O4:O104,\"A\")","v":0},null,null,"00:00:00","00:00:00",0,{"$f":"SpellNumber((AI92))","v":"No Dollars and No Cents"},3,"No "]
["00:00:00",null,null,null,null,0,null,null,0,null,null,{"$f":"IFERROR(VLOOKUP(K93,$AD$7:AE95,2,FALSE),0)","v":0},null,null,0,null,null,null,null,"B",{"$f":"COUNTIF(E5:E105,\"B\")","v":0},null,"B",{"$f":"COUNTIF(H5:H105,\"B\")","v":0},null,"B",{"$f":"COUNTIF(L5:L105,\"B\")","v":0},null,"B",{"$f":"COUNTIF(O5:O105,\"B\")","v":0},null,null,"00:00:00","00:00:00",0,{"$f":"SpellNumber((AI93))","v":"No Dollars and No Cents"},3,"No "]
["00:00:00",null,null,null,null,0,null,null,0,null,null,{"$f":"IFERROR(VLOOKUP(K94,$AD$7:AE96,2,FALSE),0)","v":0},null,null,0,null,null,null,null,"C",{"$f":"COUNTIF(E6:E106,\"C\")","v":0},null,"C",{"$f":"COUNTIF(H6:H106,\"C\")","v":0},null,"C",{"$f":"COUNTIF(L6:L106,\"C\")","v":0},null,"C",{"$f":"COUNTIF(O6:O106,\"C\")","v":0},null,null,"00:00:00","00:00:00",0,{"$f":"SpellNumber((AI94))","v":"No Dollars and No Cents"},3,"No "]
["00:00:00",null,null,null,null,0,null,null,0,null,null,{"$f":"IFERROR(VLOOKUP(K95,$AD$7:AE97,2,FALSE),0)","v":0},null,null,0,null,null,null,null,"D",{"$f":"COUNTIF(E7:E107,\"D\")","v":0},null,"D",{"$f":"COUNTIF(H7:H107,\"D\")","v":0},null,null,null,null,"D",{"$f":"COUNTIF(O7:O107,\"D\")","v":0},null,null,"00:00:00","00:00:00",0,{"$f":"SpellNumber((AI95))","v":"No Dollars and No Cents"},3,"No "]
["00:00:00",null,null,null,null,0,null,null,0,null,null,{"$f":"IFERROR(VLOOKUP(K96,$AD$7:AE98,2,FALSE),0)","v":0},null,null,0,null,null,null,null,"E",{"$f":"COUNTIF(E8:E108,\"E\")","v":0},null,"E",{"$f":"COUNTIF(H8:H108,\"E\")","v":0},null,null,null,null,"E",{"$f":"COUNTIF(O8:O108,\"E\")","v":0},null,null,"00:00:00","00:00:00",0,{"$f":"SpellNumber((AI96))","v":"No Dollars and No Cents"},3,"No "]
["00:00:00",null,null,null,null,0,null,null,0,null,null,{"$f":"IFERROR(VLOOKUP(K97,$AD$7:AE99,2,FALSE),0)","v":0},null,null,0,null,null,null,null,"F",{"$f":"COUNTIF(E9:E109,\"F\")","v":0},null,"F",{"$f":"COUNTIF(H9:H109,\"F\")","v":0},null,null,null,null,"F",{"$f":"COUNTIF(O9:O109,\"F\")","v":0},null,null,"00:00:00","00:00:00",0,{"$f":"SpellNumber((AI97))","v":"No Dollars and No Cents"},3,"No "]
["00:00:00",null,null,null,null,0,null,null,0,null,null,{"$f":"IFERROR(VLOOKUP(K98,$AD$7:AE100,2,FALSE),0)","v":0},null,null,0,null,null,null,null,"G",{"$f":"COUNTIF(E10:E110,\"G\")","v":0},null,"G",{"$f":"COUNTIF(H10:H110,\"G\")","v":0},null,null,null,null,"G",{"$f":"COUNTIF(O10:O110,\"G\")","v":0},null,null,"00:00:00","00:00:00",0,{"$f":"SpellNumber((AI98))","v":"No Dollars and No Cents"},3,"No "]
["00:00:00",null,null,null,null,0,null,null,0,null,null,{"$f":"IFERROR(VLOOKUP(K99,$AD$7:AE101,2,FALSE),0)","v":0},null,null,0,null,null,null,null,"H",{"$f":"COUNTIF(E11:E111,\"H\")","v":0},null,"H",{"$f":"COUNTIF(H11:H111,\"H\")","v":0},null,null,null,null,"H",{"$f":"COUNTIF(O11:O111,\"H\")","v":0},null,null,"00:00:00","00:00:00",0,{"$f":"SpellNumber((AI99))","v":"No Dollars and No Cents"},3,"No "]
["00:00:00",null,null,null,null,0,null,null,0,null,null,{"$f":"IFERROR(VLOOKUP(K100,$AD$7:AE102,2,FALSE),0)","v":0},null,null,0,null,null,null,null,"I",{"$f":"COUNTIF(E12:E112,\"I\")","v":0},null,"I",{"$f":"COUNTIF(H12:H112,\"I\")","v":0},null,null,null,null,"I",{"$f":"COUNTIF(O12:O112,\"I\")","v":0},null,null,"00:00:00","00:00:00",0,{"$f":"SpellNumber((AI100))","v":"No Dollars and No Cents"},3,"No "]
["00:00:00",null,null,null,null,0,null,null,0,null,null,{"$f":"IFERROR(VLOOKUP(K101,$AD$7:AE103,2,FALSE),0)","v":0},null,null,0,null,null,null,null,"J",{"$f":"COUNTIF(E13:E113,\"J\")","v":0},null,"J",{"$f":"COUNTIF(H13:H113,\"J\")","v":0},null,null,null,null,"J",{"$f":"COUNTIF(O13:O113,\"J\")","v":0},null,null,"00:00:00","00:00:00",0,{"$f":"SpellNumber((AI101))","v":"No Dollars and No Cents"},3,"No "]
["00:00:00",null,null,null,null,0,null,null,0,null,null,{"$f":"IFERROR(VLOOKUP(K102,$AD$7:AE104,2,FALSE),0)","v":0},null,null,0,null,null,null,null,"K",{"$f":"COUNTIF(E14:E114,\"K\")","v":0},null,"K",{"$f":"COUNTIF(H14:H114,\"K\")","v":0},null,null,null,null,"K",{"$f":"COUNTIF(O14:O114,\"K\")","v":0},null,null,"00:00:00","00:00:00",0,{"$f":"SpellNumber((AI102))","v":"No Dollars and No Cents"},3,"No "]
["00:00:00",null,null,null,null,0,null,null,0,null,null,{"$f":"IFERROR(VLOOKUP(K103,$AD$7:AE105,2,FALSE),0)","v":0},null,null,0,null,null,null,null,"L",{"$f":"COUNTIF(E15:E115,\"L\")","v":0},null,"L",{"$f":"COUNTIF(H15:H115,\"L\")","v":0},null,null,null,null,"L",{"$f":"COUNTIF(O15:O115,\"L\")","v":0},null,null,"00:00:00","00:00:00",0,{"$f":"SpellNumber((AI103))","v":"No Dollars and No Cents"},3,"No "]
["00:00:00",null,null,null,null,0,null,null,0,null,null,{"$f":"IFERROR(VLOOKUP(K104,$AD$7:AE106,2,FALSE),0)","v":0},null,null,0,null,null,null,null,null,null,null,null,null,null,null,null,null,null,null,null,null,"00:00:00","00:00:00",0,{"$f":"SpellNumber((AI104))","v":"No Dollars and No Cents"},3,"No "]

{"sheet":"Data 30 (2)","index":41,"n_rows":104,"n_cols":38,"rows_kept":104,"cut":false,"hidden":false,"merged":[[0,7,3,14]]}
["ATTENDANCE",null,null,null,null,null,null,"Data Collection"]
["If tardy, arrival time",null,null,null,null,null,null,null,null,null,null,null,null,null,null,null,null,null,null,null,null,null,"Date",{"$f":"Calendar!G9","v":{"$error":"#N/A"}},{"$f":"TEXT(X2,\"ddd\")","v":{"$error":"#N/A"}}]
["If left early, time",null,null,null,null,null,null,null,null,null,null,null,null,null,null,null,null,null,null,null,null,null,"Frq. Of bx",{"$f":"AA22","v":0}]
[]
[]
["Mins.","Start Time","End Time",null,null,null,null,null,null,null,null,null,null,null,null,null,null,null,null,null,null,null,"Setting",null,null,"Ant",null,null,null,"Beh",null,null,"Raw Data","Time in text","Decimal"]
[{"$f":"C7-B7","v":"00:00:00"},null,null,null,null,{"$f":"IFERROR(VLOOKUP(E7,$V$7:$W$18,2,FALSE),0)","v":0},null,null,{"$f":"IFERROR(VLOOKUP(H7,$Z$7:$AA$18,2,FALSE),0)","v":0},null,null,{"$f":"IFERROR(VLOOKUP(K7,$AD$7:AE9,2,FALSE),0)","v":0},null,null,{"$f":"IFERROR(VLOOKUP(N7,$V$22:$W$33,2,FALSE),0)","v":0},null,null,null,null,null,null,"A",{"$f":"Criteria!C4","v":"Transition"},null,null,"A",{"$f":"Criteria!E4","v":"Transition"},null,null,"A",{"$f":"Criteria!G4","v":0},null,{"$f":"B7","v":"00:00:00"},{"$f":"TEXT(AG7,\"hh:mm:ss\")","v":"00:00:00"},{"$f":"AG7*24","v":0},{"$f":"SpellNumber((AI7))","v":"No Dollars and No Cents"},{"$f":"FIND(\" Dollar\",AJ7)","v":3},{"$f":"LEFT(AJ7,AK7)","v":"No "}]
[{"$f":"C8-B8","v":"00:00:00"},null,null,null,null,{"$f":"IFERROR(VLOOKUP(E8,$V$7:$W$18,2,FALSE),0)","v":0},null,null,{"$f":"IFERROR(VLOOKUP(H8,$Z$7:$AA$18,2,FALSE),0)","v":0},null,null,{"$f":"IFERROR(VLOOKUP(K8,$AD$7:AE10,2,FALSE),0)","v":0},null,null,{"$f":"IFERROR(VLOOKUP(N8,$V$22:$W$33,2,FALSE),0)","v":0},null,null,null,null,null,null,"B",{"$f":"Criteria!C5","v":"Morning Routine"},null,null,"B",{"$f":"Criteria!E5","v":"Denied access ('No')"},null,null,"B",{"$f":"Criteria!G5","v":0},null,{"$f":"B8","v":"00:00:00"},{"$f":"TEXT(AG8,\"hh:mm:ss\")","v":"00:00:00"},{"$f":"AG8*24","v":0},{"$f":"SpellNumber((AI8))","v":"No Dollars and No Cents"},{"$f":"FIND(\" Dollar\",AJ8)","v":3},{"$f":"LEFT(AJ8,AK8)","v":"No "}]
["00:00:00",null,null,null,null,{"$f":"IFERROR(VLOOKUP(E9,$V$7:$W$18,2,FALSE),0)","v":0},null,null,0,null,null,{"$f":"IFERROR(VLOOKUP(K9,$AD$7:AE11,2,FALSE),0)","v":0},null,null,0,null,null,null,null,null,null,"C",{"$f":"Criteria!C6","v":"Group Work"},null,null,"C",{"$f":"Criteria!E6","v":"Instruction/ Directions"},null,null,"C",{"$f":"Criteria!G6","v":0},null,"00:00:00","00:00:00",0,{"$f":"SpellNumber((AI9))","v":"No Dollars and No Cents"},3,"No "]
["00:00:00",null,null,null,null,0,null,null,0,null,null,{"$f":"IFERROR(VLOOKUP(K10,$AD$7:AE12,2,FALSE),0)","v":0},null,null,0,null,null,null,null,null,null,"D",{"$f":"Criteria!C7","v":"Ind. Seat/Work Time"},null,null,"D",{"$f":"Criteria!E7","v":"New Task"},null,null,null,null,null,"00:00:00","00:00:00",0,{"$f":"SpellNumber((AI10))","v":"No Dollars and No Cents"},3,"No "]
["00:00:00",null,null,null,null,0,null,null,0,null,null,{"$f":"IFERROR(VLOOKUP(K11,$AD$7:AE13,2,FALSE),0)","v":0},null,null,0,null,null,null,null,null,null,"E",{"$f":"Criteria!C8","v":"Language Arts"},null,null,"E",{"$f":"Criteria!E8","v":"Tcher attn to other"},null,null,null,null,null,"00:00:00","00:00:00",0,{"$f":"SpellNumber((AI11))","v":"No Dollars and No Cents"},3,"No "]
["00:00:00",null,null,null,null,0,null,null,0,null,null,{"$f":"IFERROR(VLOOKUP(K12,$AD$7:AE14,2,FALSE),0)","v":0},null,null,0,null,null,null,null,null,null,"F",{"$f":"Criteria!C9","v":"Mathematics"},null,null,"F",{"$f":"Criteria!E9","v":"Choice given"},null,null,null,null,null,"00:00:00","00:00:00",0,{"$f":"SpellNumber((AI12))","v":"No Dollars and No Cents"},3,"No "]
["00:00:00",null,null,null,null,0,null,null,0,null,null,{"$f":"IFERROR(VLOOKUP(K13,$AD$7:AE15,2,FALSE),0)","v":0},null,null,0,null,null,null,null,null,null,"G",{"$f":"Criteria!C10","v":"Physical Education"},null,null,"G",{"$f":"Criteria!E10","v":"Redirection"},null,null,null,null,null,"00:00:00","00:00:00",0,{"$f":"SpellNumber((AI13))","v":"No Dollars and No Cents"},3,"No "]
["00:00:00",null,null,null,null,0,null,null,0,null,null,{"$f":"IFERROR(VLOOKUP(K14,$AD$7:AE16,2,FALSE),0)","v":0},null,null,0,null,null,null,null,null,null,"H",{"$f":"Criteria!C11","v":"Music/Art"},null,null,"H",{"$f":"Criteria!E11","v":"Routine Task"},null,null,null,null,null,"00:00:00","00:00:00",0,{"$f":"SpellNumber((AI14))","v":"No Dollars and No Cents"},3,"No "]
["00:00:00",null,null,null,null,0,null,null,0,null,null,{"$f":"IFERROR(VLOOKUP(K15,$AD$7:AE17,2,FALSE),0)","v":0},null,null,0,null,null,null,null,null,null,"I",{"$f":"Criteria!C12","v":"Speech"},null,null,"I",{"$f":"Criteria!E12","v":"Waiting"},null,null,null,null,null,"00:00:00","00:00:00",0,{"$f":"SpellNumber((AI15))","v":"No Dollars and No Cents"},3,"No "]
["00:00:00",null,null,null,null,0,null,null,0,null,null,{"$f":"IFERROR(VLOOKUP(K16,$AD$7:AE18,2,FALSE),0)","v":0},null,null,0,null,null,null,null,null,null,"J",{"$f":"Criteria!C13","v":"OT/PT"},null,null,"J",{"$f":"Criteria!E13","v":"Unknown"},null,null,null,null,null,"00:00:00","00:00:00",0,{"$f":"SpellNumber((AI16))","v":"No Dollars and No Cents"},3,"No "]
["00:00:00",null,null,null,null,0,null,null,0,null,null,{"$f":"IFERROR(VLOOKUP(K17,$AD$7:AE19,2,FALSE),0)","v":0},null,null,0,null,null,null,null,null,null,"K",{"$f":"Criteria!C14","v":"Center"},null,null,"K",{"$f":"Criteria!E14","v":"Ignored"},null,null,null,null,null,"00:00:00","00:00:00",0,{"$f":"SpellNumber((AI17))","v":"No Dollars and No Cents"},3,"No "]
["00:00:00",null,null,null,null,0,null,null,0,null,null,{"$f":"IFERROR(VLOOKUP(K18,$AD$7:AE20,2,FALSE),0)","v":0},null,null,0,null,null,null,null,null,null,"L",{"$f":"Criteria!C15","v":"Other"},null,null,"L",{"$f":"Criteria!E15","v":"Other"},null,null,null,null,null,"00:00:00","00:00:00",0,{"$f":"SpellNumber((AI18))","v":"No Dollars and No Cents"},3,"No "]
["00:00:00",null,null,null,null,0,null,null,0,null,null,{"$f":"IFERROR(VLOOKUP(K19,$AD$7:AE21,2,FALSE),0)","v":0},null,null,0,null,null,null,null,null,null,null,null,null,null,null,null,null,null,null,null,null,"00:00:00","00:00:00",0,{"$f":"SpellNumber((AI19))","v":"No Dollars and No Cents"},3,"No "]
["00:00:00",null,null,null,null,0,null,null,0,null,null,{"$f":"IFERROR(VLOOKUP(K20,$AD$7:AE22,2,FALSE),0)","v":0},null,null,0,null,null,null,null,null,null,null,null,null,null,null,null,null,null,null,null,null,"00:00:00","00:00:00",0,{"$f":"SpellNumber((AI20))","v":"No Dollars and No Cents"},3,"No "]
["00:00:00",null,null,null,null,0,null,null,0,null,null,{"$f":"IFERROR(VLOOKUP(K21,$AD$7:AE23,2,FALSE),0)","v":0},null,null,0,null,null,null,null,null,null,null,"Con",null,"Bx Frequency Per Day",null,null,null,null,null,null,null,"00:00:00","00:00:00",0,{"$f":"SpellNumber((AI21))","v":"No Dollars and No Cents"},3,"No "]
["00:00:00",null,null,null,null,0,null,null,0,null,null,{"$f":"IFERROR(VLOOKUP(K22,$AD$7:AE24,2,FALSE),0)","v":0},null,null,0,null,null,null,null,null,null,"A",{"$f":"Criteria!I4","v":"Choice Given"},"A",{"$f":"COUNTIF(K7:K104,\"A\")","v":0},null,{"$f":"SUM(Y22:Y24)","v":0},null,"Bin Dec","Frequency of Time",null,null,"00:00:00","00:00:00",0,{"$f":"SpellNumber((AI22))","v":"No Dollars and No Cents"},3,"No "]
["00:00:00",null,null,null,null,0,null,null,0,null,null,{"$f":"IFERROR(VLOOKUP(K23,$AD$7:AE25,2,FALSE),0)","v":0},null,null,0,null,null,null,null,null,null,"B",{"$f":"Criteria!I5","v":"Ignored"},"B",{"$f":"COUNTIF(K7:K104,\"B\")","v":0},null,null,null,"Seven",{"$f":"COUNTIF(AL7:AL104,\"*Seven*\")","v":0},null,null,"00:00:00","00:00:00",0,{"$f":"SpellNumber((AI23))","v":"No Dollars and No Cents"},3,"No "]
["00:00:00",null,null,null,null,0,null,null,0,null,null,{"$f":"IFERROR(VLOOKUP(K24,$AD$7:AE26,2,FALSE),0)","v":0},null,null,0,null,null,null,null,null,null,"C",{"$f":"Criteria!I6","v":"Redirection"},"C",{"$f":"COUNTIF(K7:K104,\"C\")","v":0},null,null,null,"Eight",{"$f":"COUNTIF(AL7:AL104,\"*Eight*\")","v":0},null,null,"00:00:00","00:00:00",0,{"$f":"SpellNumber((AI24))","v":"No Dollars and No Cents"},3,"No "]
["00:00:00",null,null,null,null,0,null,null,0,null,null,{"$f":"IFERROR(VLOOKUP(K25,$AD$7:AE27,2,FALSE),0)","v":0},null,null,0,null,null,null,null,null,null,"D",{"$f":"Criteria!I7","v":"Kept the demand"},null,"Bx Druation Per Day",null,null,null,"Nine",{"$f":"COUNTIF(AL7:AL104,\"*Nine*\")","v":0},null,null,"00:00:00","00:00:00",0,{"$f":"SpellNumber((AI25))","v":"No Dollars and No Cents"},3,"No "]
["00:00:00",null,null,null,null,0,null,null,0,null,null,{"$f":"IFERROR(VLOOKUP(K26,$AD$7:AE28,2,FALSE),0)","v":0},null,null,0,null,null,null,null,null,null,"E",{"$f":"Criteria!I8","v":"Changed activity"},"A",{"$f":"SUMIF(K7:K104,\"A\",A7:A104)","v":"00:00:00"},null,null,null,"Ten",{"$f":"COUNTIF(AL7:AL12,\"*Ten*\")","v":0},null,null,"00:00:00","00:00:00",0,{"$f":"SpellNumber((AI26))","v":"No Dollars and No Cents"},3,"No "]
["00:00:00",null,null,null,null,0,null,null,0,null,null,{"$f":"IFERROR(VLOOKUP(K27,$AD$7:AE29,2,FALSE),0)","v":0},null,null,0,null,null,null,null,null,null,"F",{"$f":"Criteria!I9","v":"Verbal reprimand"},"B",{"$f":"SUMIF(K7:K104,\"B\",A7:A104)","v":"00:00:00"},null,null,null,"Eleven",{"$f":"COUNTIF(AL7:AL104,\"*Eleven*\")","v":0},null,null,"00:00:00","00:00:00",0,{"$f":"SpellNumber((AI27))","v":"No Dollars and No Cents"},3,"No "]
["00:00:00",null,null,null,null,0,null,null,0,null,null,{"$f":"IFERROR(VLOOKUP(K28,$AD$7:AE30,2,FALSE),0)","v":0},null,null,0,null,null,null,null,null,null,"G",{"$f":"Criteria!I10","v":"Told to wait"},"C",{"$f":"SUMIF(K7:K104,\"C\",A7:A104)","v":"00:00:00"},null,null,null,"Twelve",{"$f":"COUNTIF(AL7:AL104,\"*Twelve*\")","v":0},null,null,"00:00:00","00:00:00",0,{"$f":"SpellNumber((AI28))","v":"No Dollars and No Cents"},3,"No "]
["00:00:00",null,null,null,null,0,null,null,0,null,null,{"$f":"IFERROR(VLOOKUP(K29,$AD$7:AE31,2,FALSE),0)","v":0},null,null,0,null,null,null,null,null,null,"H",{"$f":"Criteria!I11","v":"Physical Prompt"},null,null,null,null,null,"One",{"$f":"COUNTIF(AL7:AL104,\"*One*\")","v":0},null,null,"00:00:00","00:00:00",0,{"$f":"SpellNumber((AI29))","v":"No Dollars and No Cents"},3,"No "]
["00:00:00",null,null,null,null,0,null,null,0,null,null,{"$f":"IFERROR(VLOOKUP(K30,$AD$7:AE32,2,FALSE),0)","v":0},null,null,0,null,null,null,null,null,null,"I",{"$f":"Criteria!I12","v":"Verbal prompt"},null,null,null,null,null,"Two",{"$f":"COUNTIF(AL7:AL104,\"*Two*\")","v":0},null,null,"00:00:00","00:00:00",0,{"$f":"SpellNumber((AI30))","v":"No Dollars and No Cents"},3,"No "]
["00:00:00",null,null,null,null,0,null,null,0,null,null,{"$f":"IFERROR(VLOOKUP(K31,$AD$7:AE33,2,FALSE),0)","v":0},null,null,0,null,null,null,null,null,null,"J",{"$f":"Criteria!I13","v":"Told to wait"},null,null,null,null,null,"Three",{"$f":"COUNTIF(AL7:AL104,\"*Three*\")","v":0},null,null,"00:00:00","00:00:00",0,{"$f":"SpellNumber((AI31))","v":"No Dollars and No Cents"},3,"No "]
["00:00:00",null,null,null,null,0,null,null,0,null,null,{"$f":"IFERROR(VLOOKUP(K32,$AD$7:AE34,2,FALSE),0)","v":0},null,null,0,null,null,null,null,null,null,"K",{"$f":"Criteria!I14","v":"Unknown"},null,null,null,null,null,"Four",{"$f":"COUNTIF(AL7:AL104,\"*Four*\")","v":0},null,null,"00:00:00","00:00:00",0,{"$f":"SpellNumber((AI32))","v":"No Dollars and No Cents"},3,"No "]
["00:00:00",null,null,null,null,0,null,null,0,null,null,{"$f":"IFERROR(VLOOKUP(K33,$AD$7:AE35,2,FALSE),0)","v":0},null,null,0,null,null,null,null,null,null,"L",{"$f":"Criteria!I15","v":"Other"},null,null,null,null,null,null,null,null,null,"00:00:00","00:00:00",0,{"$f":"SpellNumber((AI33))","v":"No Dollars and No Cents"},3,"No "]
["00:00:00",null,null,null,null,0,null,null,0,null,null,{"$f":"IFERROR(VLOOKUP(K34,$AD$7:AE36,2,FALSE),0)","v":0},null,null,0,null,null,null,null,null,null,null,null,null,null,null,null,null,null,null,null,null,"00:00:00","00:00:00",0,{"$f":"SpellNumber((AI34))","v":"No Dollars and No Cents"},3,"No "]
["00:00:00",null,null,null,null,0,null,null,0,null,null,{"$f":"IFERROR(VLOOKUP(K35,$AD$7:AE37,2,FALSE),0)","v":0},null,null,0,null,null,null,null,null,null,null,"Context Frequency","Consequence","Antedencents",null,null,null,null,null,null,null,"00:00:00","00:00:00",0,{"$f":"SpellNumber((AI35))","v":"No Dollars and No Cents"},3,"No "]
["00:00:00",null,null,null,null,0,null,null,0,null,null,{"$f":"IFERROR(VLOOKUP(K36,$AD$7:AE38,2,FALSE),0)","v":0},null,null,0,null,null,null,null,null,null,"A",{"$f":"COUNTIF(E7:E104,\"A\")","v":0},{"$f":"COUNTIF(N7:N104,\"A\")","v":0},{"$f":"COUNTIF(H7:H104,\"A\")","v":0},null,null,null,null,null,null,null,"00:00:00","00:00:00",0,{"$f":"SpellNumber((AI36))","v":"No Dollars and No Cents"},3,"No "]
["00:00:00",null,null,null,null,0,null,null,0,null,null,{"$f":"IFERROR(VLOOKUP(K37,$AD$7:AE39,2,FALSE),0)","v":0},null,null,0,null,null,null,null,null,null,"B",{"$f":"COUNTIF(E8:E105,\"B\")","v":0},{"$f":"COUNTIF(N7:N104,\"B\")","v":0},{"$f":"COUNTIF(H7:H104,\"B\")","v":0},null,null,null,null,null,null,null,"00:00:00","00:00:00",0,{"$f":"SpellNumber((AI37))","v":"No Dollars and No Cents"},3,"No "]
["00:00:00",null,null,null,null,0,null,null,0,null,null,{"$f":"IFERROR(VLOOKUP(K38,$AD$7:AE40,2,FALSE),0)","v":0},null,null,0,null,null,null,null,null,null,"C",{"$f":"COUNTIF(E8:E105,\"C\")","v":0},{"$f":"COUNTIF(N7:N104,\"C\")","v":0},{"$f":"COUNTIF(H7:H104,\"C\")","v":0},null,null,null,null,null,null,null,"00:00:00","00:00:00",0,{"$f":"SpellNumber((AI38))","v":"No Dollars and No Cents"},3,"No "]
["00:00:00",null,null,null,null,0,null,null,0,null,null,{"$f":"IFERROR(VLOOKUP(K39,$AD$7:AE41,2,FALSE),0)","v":0},null,null,0,null,null,null,null,null,null,"D",{"$f":"COUNTIF(E8:E105,\"D\")","v":0},{"$f":"COUNTIF(N7:N104,\"D\")","v":0},{"$f":"COUNTIF(H7:H104,\"D\")","v":0},null,null,null,null,null,null,null,"00:00:00","00:00:00",0,{"$f":"SpellNumber((AI39))","v":"No Dollars and No Cents"},3,"No "]
["00:00:00",null,null,null,null,0,null,null,0,null,null,{"$f":"IFERROR(VLOOKUP(K40,$AD$7:AE42,2,FALSE),0)","v":0},null,null,0,null,null,null,null,null,null,"E",{"$f":"COUNTIF(E8:E105,\"E\")","v":0},{"$f":"COUNTIF(N7:N104,\"E\")","v":0},{"$f":"COUNTIF(H7:H104,\"E\")","v":0},null,null,null,null,null,null,null,"00:00:00","00:00:00",0,{"$f":"SpellNumber((AI40))","v":"No Dollars and No Cents"},3,"No "]
["00:00:00",null,null,null,null,0,null,null,0,null,null,{"$f":"IFERROR(VLOOKUP(K41,$AD$7:AE43,2,FALSE),0)","v":0},null,null,0,null,null,null,null,null,null,"F",{"$f":"COUNTIF(E8:E105,\"F\")","v":0},{"$f":"COUNTIF(N7:N104,\"F\")","v":0},{"$f":"COUNTIF(H7:H104,\"F\")","v":0},null,null,null,null,null,null,null,"00:00:00","00:00:00",0,{"$f":"SpellNumber((AI41))","v":"No Dollars and No Cents"},3,"No "]
["00:00:00",null,null,null,null,0,null,null,0,null,null,{"$f":"IFERROR(VLOOKUP(K42,$AD$7:AE44,2,FALSE),0)","v":0},null,null,0,null,null,null,null,null,null,"G",{"$f":"COUNTIF(E8:E105,\"G\")","v":0},{"$f":"COUNTIF(N7:N104,\"G\")","v":0},{"$f":"COUNTIF(H7:H104,\"G\")","v":0},null,null,null,null,null,null,null,"00:00:00","00:00:00",0,{"$f":"SpellNumber((AI42))","v":"No Dollars and No Cents"},3,"No "]
["00:00:00",null,null,null,null,0,null,null,0,null,null,{"$f":"IFERROR(VLOOKUP(K43,$AD$7:AE45,2,FALSE),0)","v":0},null,null,0,null,null,null,null,null,null,"H",{"$f":"COUNTIF(E8:E105,\"H\")","v":0},{"$f":"COUNTIF(N7:N104,\"H\")","v":0},{"$f":"COUNTIF(H7:H104,\"H\")","v":0},null,null,null,null,null,null,null,"00:00:00","00:00:00",0,{"$f":"SpellNumber((AI43))","v":"No Dollars and No Cents"},3,"No "]
["00:00:00",null,null,null,null,0,null,null,0,null,null,{"$f":"IFERROR(VLOOKUP(K44,$AD$7:AE46,2,FALSE),0)","v":0},null,null,0,null,null,null,null,null,null,"I",{"$f":"COUNTIF(E8:E105,\"I\")","v":0},{"$f":"COUNTIF(N7:N104,\"I\")","v":0},{"$f":"COUNTIF(H7:H104,\"I\")","v":0},null,null,null,null,null,null,null,"00:00:00","00:00:00",0,{"$f":"SpellNumber((AI44))","v":"No Dollars and No Cents"},3,"No "]
["00:00:00",null,null,null,null,0,null,null,0,null,null,{"$f":"IFERROR(VLOOKUP(K45,$AD$7:AE47,2,FALSE),0)","v":0},null,null,0,null,null,null,null,null,null,"J",{"$f":"COUNTIF(E8:E105,\"J\")","v":0},{"$f":"COUNTIF(N7:N104,\"J\")","v":0},{"$f":"COUNTIF(H7:H104,\"J\")","v":0},null,null,null,null,null,null,null,"00:00:00","00:00:00",0,{"$f":"SpellNumber((AI45))","v":"No Dollars and No Cents"},3,"No "]
["00:00:00",null,null,null,null,0,null,null,0,null,null,{"$f":"IFERROR(VLOOKUP(K46,$AD$7:AE48,2,FALSE),0)","v":0},null,null,0,null,null,null,null,null,null,"K",{"$f":"COUNTIF(E8:E105,\"K\")","v":0},{"$f":"COUNTIF(N7:N104,\"K\")","v":0},{"$f":"COUNTIF(H7:H104,\"K\")","v":0},null,null,null,null,null,null,null,"00:00:00","00:00:00",0,{"$f":"SpellNumber((AI46))","v":"No Dollars and No Cents"},3,"No "]
["00:00:00",null,null,null,null,0,null,null,0,null,null,{"$f":"IFERROR(VLOOKUP(K47,$AD$7:AE49,2,FALSE),0)","v":0},null,null,0,null,null,null,null,null,null,"L",{"$f":"COUNTIF(E8:E105,\"l\")","v":0},{"$f":"COUNTIF(N7:N104,\"L\")","v":0},{"$f":"COUNTIF(H7:H104,\"L\")","v":0},null,null,null,null,null,null,null,"00:00:00","00:00:00",0,{"$f":"SpellNumber((AI47))","v":"No Dollars and No Cents"},3,"No "]
["00:00:00",null,null,null,null,0,null,null,0,null,null,{"$f":"IFERROR(VLOOKUP(K48,$AD$7:AE50,2,FALSE),0)","v":0},null,null,0,null,null,null,null,null,null,null,null,null,null,null,null,null,null,null,null,null,"00:00:00","00:00:00",0,{"$f":"SpellNumber((AI48))","v":"No Dollars and No Cents"},3,"No "]
["00:00:00",null,null,null,null,0,null,null,0,null,null,{"$f":"IFERROR(VLOOKUP(K49,$AD$7:AE51,2,FALSE),0)","v":0},null,null,0,null,null,null,null,null,null,null,"Beh & Setting ",null,null,null,"Beh & Antecedents",null,null,null,null,null,"00:00:00","00:00:00",0,{"$f":"SpellNumber((AI49))","v":"No Dollars and No Cents"},3,"No "]
["00:00:00",null,null,null,null,0,null,null,0,null,null,{"$f":"IFERROR(VLOOKUP(K50,$AD$7:AE52,2,FALSE),0)","v":0},null,null,0,null,null,null,null,null,null,null,"A","B","C",null,null,"A","B","C",null,null,"00:00:00","00:00:00",0,{"$f":"SpellNumber((AI50))","v":"No Dollars and No Cents"},3,"No "]
["00:00:00",null,null,null,null,0,null,null,0,null,null,{"$f":"IFERROR(VLOOKUP(K51,$AD$7:AE53,2,FALSE),0)","v":0},null,null,0,null,null,null,null,null,null,"A",{"$f":"COUNTIFS(E7:E104,\"A\",K7:K104,\"A\")","v":0},{"$f":"COUNTIFS(E7:E104,\"A\",K7:K104,\"B\")","v":0},{"$f":"COUNTIFS(E7:E104,\"A\",K7:K104,\"C\")","v":0},null,"A",{"$f":"COUNTIFS(H7:H104,\"a\",K7:K104,\"A\")","v":0},{"$f":"COUNTIFS(H7:H104,\"A\",K7:K104,\"B\")","v":0},{"$f":"COUNTIFS(H7:H104,\"A\",K7:K104,\"C\")","v":0},null,null,"00:00:00","00:00:00",0,{"$f":"SpellNumber((AI51))","v":"No Dollars and No Cents"},3,"No "]
["00:00:00",null,null,null,null,0,null,null,0,null,null,{"$f":"IFERROR(VLOOKUP(K52,$AD$7:AE54,2,FALSE),0)","v":0},null,null,0,null,null,null,null,null,null,"B",{"$f":"COUNTIFS(E7:E104,\"B\",K7:K104,\"A\")","v":0},{"$f":"COUNTIFS(E7:E104,\"B\",K7:K104,\"B\")","v":0},{"$f":"COUNTIFS(E7:E104,\"B\",K7:K104,\"C\")","v":0},null,"B",{"$f":"COUNTIFS(H7:H104,\"B\",K7:K104,\"A\")","v":0},{"$f":"COUNTIFS(H7:H104,\"B\",K7:K104,\"B\")","v":0},{"$f":"COUNTIFS(H7:H104,\"B\",K7:K104,\"C\")","v":0},null,null,"00:00:00","00:00:00",0,{"$f":"SpellNumber((AI52))","v":"No Dollars and No Cents"},3,"No "]
["00:00:00",null,null,null,null,0,null,null,0,null,null,{"$f":"IFERROR(VLOOKUP(K53,$AD$7:AE55,2,FALSE),0)","v":0},null,null,0,null,null,null,null,null,null,"C",{"$f":"COUNTIFS(K7:K104,\"C\",K7:K104,\"A\")","v":0},{"$f":"COUNTIFS(E7:E104,\"C\",K7:K104,\"B\")","v":0},{"$f":"COUNTIFS(E7:E104,\"C\",K7:K104,\"C\")","v":0},null,"C",{"$f":"COUNTIFS(H7:H104,\"C\",K7:K104,\"A\")","v":0},{"$f":"COUNTIFS(H7:H104,\"C\",K7:K104,\"B\")","v":0},{"$f":"COUNTIFS(H7:H104,\"C\",K7:K104,\"C\")","v":0},null,null,"00:00:00","00:00:00",0,{"$f":"SpellNumber((AI53))","v":"No Dollars and No Cents"},3,"No "]
["00:00:00",null,null,null,null,0,null,null,0,null,null,{"$f":"IFERROR(VLOOKUP(K54,$AD$7:AE56,2,FALSE),0)","v":0},null,null,0,null,null,null,null,null,null,"D",{"$f":"COUNTIFS(E7:E104,\"D\",K7:K104,\"A\")","v":0},{"$f":"COUNTIFS(E7:E104,\"D\",K7:K104,\"B\")","v":0},{"$f":"COUNTIFS(E7:E104,\"D\",K7:K104,\"C\")","v":0},null,"D",{"$f":"COUNTIFS(H7:H104,\"D\",K7:K104,\"A\")","v":0},{"$f":"COUNTIFS(H7:H104,\"D\",K7:K104,\"B\")","v":0},{"$f":"COUNTIFS(H7:H104,\"D\",K7:K104,\"C\")","v":0},null,null,"00:00:00","00:00:00",0,{"$f":"SpellNumber((AI54))","v":"No Dollars and No Cents"},3,"No "]
["00:00:00",null,null,null,null,0,null,null,0,null,null,{"$f":"IFERROR(VLOOKUP(K55,$AD$7:AE57,2,FALSE),0)","v":0},null,null,0,null,null,null,null,null,null,"E",{"$f":"COUNTIFS(E7:E104,\"E\",K7:K104,\"A\")","v":0},{"$f":"COUNTIFS(E7:E104,\"E\",K7:K104,\"B\")","v":0},{"$f":"COUNTIFS(E7:E104,\"E\",K7:K104,\"C\")","v":0},null,"E",{"$f":"COUNTIFS(H7:H104,\"E\",K7:K104,\"A\")","v":0},{"$f":"COUNTIFS(H7:H104,\"E\",K7:K104,\"B\")","v":0},{"$f":"COUNTIFS(H7:H104,\"E\",K7:K104,\"C\")","v":0},null,null,"00:00:00","00:00:00",0,{"$f":"SpellNumber((AI55))","v":"No Dollars and No Cents"},3,"No "]
["00:00:00",null,null,null,null,0,null,null,0,null,null,{"$f":"IFERROR(VLOOKUP(K56,$AD$7:AE58,2,FALSE),0)","v":0},null,null,0,null,null,null,null,null,null,"F",{"$f":"COUNTIFS(E7:E104,\"F\",K7:K104,\"A\")","v":0},{"$f":"COUNTIFS(E7:E104,\"F\",K7:K104,\"B\")","v":0},{"$f":"COUNTIFS(E7:E104,\"F\",K7:K104,\"C\")","v":0},null,"F",{"$f":"COUNTIFS(H7:H104,\"F\",K7:K104,\"A\")","v":0},{"$f":"COUNTIFS(H7:H104,\"F\",K7:K104,\"B\")","v":0},{"$f":"COUNTIFS(H7:H104,\"F\",K7:K104,\"C\")","v":0},null,null,"00:00:00","00:00:00",0,{"$f":"SpellNumber((AI56))","v":"No Dollars and No Cents"},3,"No "]
["00:00:00",null,null,null,null,0,null,null,0,null,null,{"$f":"IFERROR(VLOOKUP(K57,$AD$7:AE59,2,FALSE),0)","v":0},null,null,0,null,null,null,null,null,null,"G",{"$f":"COUNTIFS(E7:E104,\"G\",K7:K104,\"A\")","v":0},{"$f":"COUNTIFS(E7:E104,\"G\",K7:K104,\"B\")","v":0},{"$f":"COUNTIFS(E7:E104,\"G\",K7:K104,\"C\")","v":0},null,"G",{"$f":"COUNTIFS(H7:H104,\"G\",K7:K104,\"A\")","v":0},{"$f":"COUNTIFS(H7:H104,\"G\",K7:K104,\"B\")","v":0},{"$f":"COUNTIFS(H7:H104,\"G\",K7:K104,\"C\")","v":0},null,null,"00:00:00","00:00:00",0,{"$f":"SpellNumber((AI57))","v":"No Dollars and No Cents"},3,"No "]
["00:00:00",null,null,null,null,0,null,null,0,null,null,{"$f":"IFERROR(VLOOKUP(K58,$AD$7:AE60,2,FALSE),0)","v":0},null,null,0,null,null,null,null,null,null,"H",{"$f":"COUNTIFS(E7:E104,\"H\",K7:K104,\"A\")","v":0},{"$f":"COUNTIFS(E7:E104,\"H\",K7:K104,\"B\")","v":0},{"$f":"COUNTIFS(E7:E104,\"H\",K7:K104,\"C\")","v":0},null,"H",{"$f":"COUNTIFS(H7:H104,\"H\",K7:K104,\"A\")","v":0},{"$f":"COUNTIFS(H7:H104,\"H\",K7:K104,\"B\")","v":0},{"$f":"COUNTIFS(H7:H104,\"H\",K7:K104,\"C\")","v":0},null,null,"00:00:00","00:00:00",0,{"$f":"SpellNumber((AI58))","v":"No Dollars and No Cents"},3,"No "]
["00:00:00",null,null,null,null,0,null,null,0,null,null,{"$f":"IFERROR(VLOOKUP(K59,$AD$7:AE61,2,FALSE),0)","v":0},null,null,0,null,null,null,null,null,null,"I",{"$f":"COUNTIFS(E7:E104,\"I\",K7:K104,\"A\")","v":0},{"$f":"COUNTIFS(E7:E104,\"I\",K7:K104,\"B\")","v":0},{"$f":"COUNTIFS(E7:E104,\"I\",K7:K104,\"C\")","v":0},null,"I",{"$f":"COUNTIFS(H7:H104,\"I\",K7:K104,\"A\")","v":0},{"$f":"COUNTIFS(H7:H104,\"I\",K7:K104,\"B\")","v":0},{"$f":"COUNTIFS(H7:H104,\"I\",K7:K104,\"C\")","v":0},null,null,"00:00:00","00:00:00",0,{"$f":"SpellNumber((AI59))","v":"No Dollars and No Cents"},3,"No "]
["00:00:00",null,null,null,null,0,null,null,0,null,null,{"$f":"IFERROR(VLOOKUP(K60,$AD$7:AE62,2,FALSE),0)","v":0},null,null,0,null,null,null,null,null,null,"J",{"$f":"COUNTIFS(E7:E104,\"J\",K7:K104,\"A\")","v":0},{"$f":"COUNTIFS(E7:E104,\"J\",K7:K104,\"B\")","v":0},{"$f":"COUNTIFS(E7:E104,\"J\",K7:K104,\"C\")","v":0},null,"J",{"$f":"COUNTIFS(H7:H104,\"J\",K7:K104,\"A\")","v":0},{"$f":"COUNTIFS(H7:H104,\"J\",K7:K104,\"B\")","v":0},{"$f":"COUNTIFS(H7:H104,\"J\",K7:K104,\"C\")","v":0},null,null,"00:00:00","00:00:00",0,{"$f":"SpellNumber((AI60))","v":"No Dollars and No Cents"},3,"No "]
["00:00:00",null,null,null,null,0,null,null,0,null,null,{"$f":"IFERROR(VLOOKUP(K61,$AD$7:AE63,2,FALSE),0)","v":0},null,null,0,null,null,null,null,null,null,"K",{"$f":"COUNTIFS(E7:E104,\"K\",K7:K104,\"A\")","v":0},{"$f":"COUNTIFS(E7:E104,\"K\",K7:K104,\"B\")","v":0},{"$f":"COUNTIFS(E7:E104,\"K\",K7:K104,\"C\")","v":0},null,"K",{"$f":"COUNTIFS(H7:H104,\"K\",K7:K104,\"A\")","v":0},{"$f":"COUNTIFS(H7:H104,\"K\",K7:K104,\"B\")","v":0},{"$f":"COUNTIFS(H7:H104,\"K\",K7:K104,\"C\")","v":0},null,null,"00:00:00","00:00:00",0,{"$f":"SpellNumber((AI61))","v":"No Dollars and No Cents"},3,"No "]
["00:00:00",null,null,null,null,0,null,null,0,null,null,{"$f":"IFERROR(VLOOKUP(K62,$AD$7:AE64,2,FALSE),0)","v":0},null,null,0,null,null,null,null,null,null,"L",{"$f":"COUNTIFS(E7:E104,\"L\",K7:K104,\"A\")","v":0},{"$f":"COUNTIFS(E7:E104,\"L\",K7:K104,\"B\")","v":0},{"$f":"COUNTIFS(E7:E104,\"L\",K7:K104,\"C\")","v":0},null,"L",{"$f":"COUNTIFS(H7:H104,\"L\",K7:K104,\"A\")","v":0},{"$f":"COUNTIFS(H7:H104,\"L\",K7:K104,\"B\")","v":0},{"$f":"COUNTIFS(H7:H104,\"L\",K7:K104,\"C\")","v":0},null,null,"00:00:00","00:00:00",0,{"$f":"SpellNumber((AI62))","v":"No Dollars and No Cents"},3,"No "]
["00:00:00",null,null,null,null,0,null,null,0,null,null,{"$f":"IFERROR(VLOOKUP(K63,$AD$7:AE65,2,FALSE),0)","v":0},null,null,0,null,null,null,null,null,null,null,"Beh & Consequences",null,null,null,null,null,null,null,null,null,"00:00:00","00:00:00",0,{"$f":"SpellNumber((AI63))","v":"No Dollars and No Cents"},3,"No "]
["00:00:00",null,null,null,null,0,null,null,0,null,null,{"$f":"IFERROR(VLOOKUP(K64,$AD$7:AE66,2,FALSE),0)","v":0},null,null,0,null,null,null,null,null,null,null,"A","B","C",null,null,null,null,null,null,null,"00:00:00","00:00:00",0,{"$f":"SpellNumber((AI64))","v":"No Dollars and No Cents"},3,"No "]
["00:00:00",null,null,null,null,0,null,null,0,null,null,{"$f":"IFERROR(VLOOKUP(K65,$AD$7:AE67,2,FALSE),0)","v":0},null,null,0,null,null,null,null,null,null,"A",{"$f":"COUNTIFS(N7:N104,\"A\",K7:K104,\"A\")","v":0},{"$f":"COUNTIFS(N7:N104,\"A\",K7:K104,\"B\")","v":0},{"$f":"COUNTIFS(N7:N104,\"A\",K7:K104,\"C\")","v":0},null,null,null,null,null,null,null,"00:00:00","00:00:00",0,{"$f":"SpellNumber((AI65))","v":"No Dollars and No Cents"},3,"No "]
["00:00:00",null,null,null,null,0,null,null,0,null,null,{"$f":"IFERROR(VLOOKUP(K66,$AD$7:AE68,2,FALSE),0)","v":0},null,null,0,null,null,null,null,null,null,"B",{"$f":"COUNTIFS(N7:N104,\"B\",K7:K104,\"A\")","v":0},{"$f":"COUNTIFS(N7:N104,\"B\",K7:K104,\"B\")","v":0},{"$f":"COUNTIFS(N7:N104,\"B\",K7:K104,\"C\")","v":0},null,null,null,null,null,null,null,"00:00:00","00:00:00",0,{"$f":"SpellNumber((AI66))","v":"No Dollars and No Cents"},3,"No "]
["00:00:00",null,null,null,null,0,null,null,0,null,null,{"$f":"IFERROR(VLOOKUP(K67,$AD$7:AE69,2,FALSE),0)","v":0},null,null,0,null,null,null,null,null,null,"C",{"$f":"COUNTIFS(N7:N104,\"C\",K7:K104,\"A\")","v":0},{"$f":"COUNTIFS(N7:N104,\"C\",K7:K104,\"B\")","v":0},{"$f":"COUNTIFS(N7:N104,\"C\",K7:K104,\"C\")","v":0},null,null,null,null,null,null,null,"00:00:00","00:00:00",0,{"$f":"SpellNumber((AI67))","v":"No Dollars and No Cents"},3,"No "]
["00:00:00",null,null,null,null,0,null,null,0,null,null,{"$f":"IFERROR(VLOOKUP(K68,$AD$7:AE70,2,FALSE),0)","v":0},null,null,0,null,null,null,null,null,null,"D",{"$f":"COUNTIFS(N7:N104,\"D\",K7:K104,\"A\")","v":0},{"$f":"COUNTIFS(N7:N104,\"D\",K7:K104,\"B\")","v":0},{"$f":"COUNTIFS(N7:N104,\"D\",K7:K104,\"C\")","v":0},null,null,null,null,null,null,null,"00:00:00","00:00:00",0,{"$f":"SpellNumber((AI68))","v":"No Dollars and No Cents"},3,"No "]
["00:00:00",null,null,null,null,0,null,null,0,null,null,{"$f":"IFERROR(VLOOKUP(K69,$AD$7:AE71,2,FALSE),0)","v":0},null,null,0,null,null,null,null,null,null,"E",{"$f":"COUNTIFS(N7:N104,\"E\",K7:K104,\"A\")","v":0},{"$f":"COUNTIFS(N7:N104,\"E\",K7:K104,\"B\")","v":0},{"$f":"COUNTIFS(N7:N104,\"E\",K7:K104,\"C\")","v":0},null,null,null,null,null,null,null,"00:00:00","00:00:00",0,{"$f":"SpellNumber((AI69))","v":"No Dollars and No Cents"},3,"No "]
["00:00:00",null,null,null,null,0,null,null,0,null,null,{"$f":"IFERROR(VLOOKUP(K70,$AD$7:AE72,2,FALSE),0)","v":0},null,null,0,null,null,null,null,null,null,"F",{"$f":"COUNTIFS(N7:N104,\"F\",K7:K104,\"A\")","v":0},{"$f":"COUNTIFS(N7:N104,\"F\",K7:K104,\"B\")","v":0},{"$f":"COUNTIFS(N7:N104,\"F\",K7:K104,\"C\")","v":0},null,null,null,null,null,null,null,"00:00:00","00:00:00",0,{"$f":"SpellNumber((AI70))","v":"No Dollars and No Cents"},3,"No "]
["00:00:00",null,null,null,null,0,null,null,0,null,null,{"$f":"IFERROR(VLOOKUP(K71,$AD$7:AE73,2,FALSE),0)","v":0},null,null,0,null,null,null,null,null,null,"G",{"$f":"COUNTIFS(N7:N104,\"G\",K7:K104,\"A\")","v":0},{"$f":"COUNTIFS(N7:N104,\"G\",K7:K104,\"B\")","v":0},{"$f":"COUNTIFS(N7:N104,\"G\",K7:K104,\"C\")","v":0},null,null,null,null,null,null,null,"00:00:00","00:00:00",0,{"$f":"SpellNumber((AI71))","v":"No Dollars and No Cents"},3,"No "]
[{"$f":"C72-B72","v":"00:00:00"},null,null,null,null,0,null,null,{"$f":"IFERROR(VLOOKUP(H72,$Z$7:$AA$18,2,FALSE),0)","v":0},null,null,{"$f":"IFERROR(VLOOKUP(K72,$AD$7:AE74,2,FALSE),0)","v":0},null,null,{"$f":"IFERROR(VLOOKUP(N72,$V$22:$W$33,2,FALSE),0)","v":0},null,null,null,null,null,null,"H",{"$f":"COUNTIFS(N7:N104,\"H\",K7:K104,\"A\")","v":0},{"$f":"COUNTIFS(N7:N104,\"H\",K7:K104,\"B\")","v":0},{"$f":"COUNTIFS(N7:N104,\"H\",K7:K104,\"C\")","v":0},null,null,null,null,null,null,null,{"$f":"B72","v":"00:00:00"},{"$f":"TEXT(AG72,\"hh:mm:ss\")","v":"00:00:00"},{"$f":"AG72*24","v":0},{"$f":"SpellNumber((AI72))","v":"No Dollars and No Cents"},{"$f":"FIND(\" Dollar\",AJ72)","v":3},{"$f":"LEFT(AJ72,AK72)","v":"No "}]
["00:00:00",null,null,null,null,{"$f":"IFERROR(VLOOKUP(E73,$V$7:$W$18,2,FALSE),0)","v":0},null,null,0,null,null,{"$f":"IFERROR(VLOOKUP(K73,$AD$7:AE75,2,FALSE),0)","v":0},null,null,0,null,null,null,null,null,null,"I",{"$f":"COUNTIFS(N7:N104,\"I\",K7:K104,\"A\")","v":0},{"$f":"COUNTIFS(N7:N104,\"I\",K7:K104,\"B\")","v":0},{"$f":"COUNTIFS(N7:N104,\"I\",K7:K104,\"C\")","v":0},null,null,null,null,null,null,null,"00:00:00","00:00:00",0,{"$f":"SpellNumber((AI73))","v":"No Dollars and No Cents"},3,"No "]
["00:00:00",null,null,null,null,0,null,null,0,null,null,{"$f":"IFERROR(VLOOKUP(K74,$AD$7:AE76,2,FALSE),0)","v":0},null,null,0,null,null,null,null,null,null,"J",{"$f":"COUNTIFS(N7:N104,\"J\",K7:K104,\"A\")","v":0},{"$f":"COUNTIFS(N7:N104,\"J\",K7:K104,\"B\")","v":0},{"$f":"COUNTIFS(N7:N104,\"J\",K7:K104,\"C\")","v":0},null,null,null,null,null,null,null,"00:00:00","00:00:00",0,{"$f":"SpellNumber((AI74))","v":"No Dollars and No Cents"},3,"No "]
["00:00:00",null,null,null,null,0,null,null,0,null,null,{"$f":"IFERROR(VLOOKUP(K75,$AD$7:AE77,2,FALSE),0)","v":0},null,null,0,null,null,null,null,null,null,"K",{"$f":"COUNTIFS(N7:N104,\"K\",K7:K104,\"A\")","v":0},{"$f":"COUNTIFS(N7:N104,\"K\",K7:K104,\"B\")","v":0},{"$f":"COUNTIFS(N7:N104,\"K\",K7:K104,\"C\")","v":0},null,null,null,null,null,null,null,"00:00:00","00:00:00",0,{"$f":"SpellNumber((AI75))","v":"No Dollars and No Cents"},3,"No "]
["00:00:00",null,null,null,null,0,null,null,0,null,null,{"$f":"IFERROR(VLOOKUP(K76,$AD$7:AE78,2,FALSE),0)","v":0},null,null,0,null,null,null,null,null,null,"L",{"$f":"COUNTIFS(N7:N104,\"L\",K7:K104,\"A\")","v":0},{"$f":"COUNTIFS(N7:N104,\"L\",K7:K104,\"B\")","v":0},{"$f":"COUNTIFS(N7:N104,\"L\",K7:K104,\"C\")","v":0},null,null,null,null,null,null,null,"00:00:00","00:00:00",0,{"$f":"SpellNumber((AI76))","v":"No Dollars and No Cents"},3,"No "]
["00:00:00",null,null,null,null,0,null,null,0,null,null,{"$f":"IFERROR(VLOOKUP(K77,$AD$7:AE79,2,FALSE),0)","v":0},null,null,0,null,null,null,null,null,null,null,null,null,null,null,null,null,null,null,null,null,"00:00:00","00:00:00",0,{"$f":"SpellNumber((AI77))","v":"No Dollars and No Cents"},3,"No "]
["00:00:00",null,null,null,null,0,null,null,0,null,null,{"$f":"IFERROR(VLOOKUP(K78,$AD$7:AE80,2,FALSE),0)","v":0},null,null,0,null,null,null,null,null,null,null,null,null,null,null,null,null,null,null,null,null,"00:00:00","00:00:00",0,{"$f":"SpellNumber((AI78))","v":"No Dollars and No Cents"},3,"No "]
["00:00:00",null,null,null,null,0,null,null,0,null,null,{"$f":"IFERROR(VLOOKUP(K79,$AD$7:AE81,2,FALSE),0)","v":0},null,null,0,null,null,null,null,null,null,null,null,null,null,null,null,null,null,null,null,null,"00:00:00","00:00:00",0,{"$f":"SpellNumber((AI79))","v":"No Dollars and No Cents"},3,"No "]
["00:00:00",null,null,null,null,0,null,null,0,null,null,{"$f":"IFERROR(VLOOKUP(K80,$AD$7:AE82,2,FALSE),0)","v":0},null,null,0,null,null,null,null,null,null,null,null,null,null,null,null,null,null,null,null,null,"00:00:00","00:00:00",0,{"$f":"SpellNumber((AI80))","v":"No Dollars and No Cents"},3,"No "]
["00:00:00",null,null,null,null,0,null,null,0,null,null,{"$f":"IFERROR(VLOOKUP(K81,$AD$7:AE83,2,FALSE),0)","v":0},null,null,0,null,null,null,null,null,null,null,null,null,null,null,null,null,null,null,null,null,"00:00:00","00:00:00",0,{"$f":"SpellNumber((AI81))","v":"No Dollars and No Cents"},3,"No "]
["00:00:00",null,null,null,null,0,null,null,0,null,null,{"$f":"IFERROR(VLOOKUP(K82,$AD$7:AE84,2,FALSE),0)","v":0},null,null,0,null,null,null,null,null,null,null,null,null,null,null,null,null,null,null,null,null,"00:00:00","00:00:00",0,{"$f":"SpellNumber((AI82))","v":"No Dollars and No Cents"},3,"No "]
["00:00:00",null,null,null,null,0,null,null,0,null,null,{"$f":"IFERROR(VLOOKUP(K83,$AD$7:AE85,2,FALSE),0)","v":0},null,null,0,null,null,null,null,null,null,null,null,null,null,null,null,null,null,null,null,null,"00:00:00","00:00:00",0,{"$f":"SpellNumber((AI83))","v":"No Dollars and No Cents"},3,"No "]
["00:00:00",null,null,null,null,0,null,null,0,null,null,{"$f":"IFERROR(VLOOKUP(K84,$AD$7:AE86,2,FALSE),0)","v":0},null,null,0,null,null,null,null,null,null,null,null,null,null,null,null,null,null,null,null,null,"00:00:00","00:00:00",0,{"$f":"SpellNumber((AI84))","v":"No Dollars and No Cents"},3,"No "]
["00:00:00",null,null,null,null,0,null,null,0,null,null,{"$f":"IFERROR(VLOOKUP(K85,$AD$7:AE87,2,FALSE),0)","v":0},null,null,0,null,null,null,null,null,null,null,null,null,null,null,null,null,null,null,null,null,"00:00:00","00:00:00",0,{"$f":"SpellNumber((AI85))","v":"No Dollars and No Cents"},3,"No "]
["00:00:00",null,null,null,null,0,null,null,0,null,null,{"$f":"IFERROR(VLOOKUP(K86,$AD$7:AE88,2,FALSE),0)","v":0},null,null,0,null,null,null,null,null,null,null,null,null,null,null,null,null,null,null,null,null,"00:00:00","00:00:00",0,{"$f":"SpellNumber((AI86))","v":"No Dollars and No Cents"},3,"No "]
["00:00:00",null,null,null,null,0,null,null,0,null,null,{"$f":"IFERROR(VLOOKUP(K87,$AD$7:AE89,2,FALSE),0)","v":0},null,null,0,null,null,null,null,null,null,null,null,null,null,null,null,null,null,null,null,null,"00:00:00","00:00:00",0,{"$f":"SpellNumber((AI87))","v":"No Dollars and No Cents"},3,"No "]
["00:00:00",null,null,null,null,0,null,null,0,null,null,{"$f":"IFERROR(VLOOKUP(K88,$AD$7:AE90,2,FALSE),0)","v":0},null,null,0,null,null,null,null,null,null,null,null,null,null,null,null,null,null,null,null,null,"00:00:00","00:00:00",0,{"$f":"SpellNumber((AI88))","v":"No Dollars and No Cents"},3,"No "]
["00:00:00",null,null,null,null,0,null,null,0,null,null,{"$f":"IFERROR(VLOOKUP(K89,$AD$7:AE91,2,FALSE),0)","v":0},null,null,0,null,null,null,null,null,null,null,null,null,null,null,null,null,null,null,null,null,"00:00:00","00:00:00",0,{"$f":"SpellNumber((AI89))","v":"No Dollars and No Cents"},3,"No "]
["00:00:00",null,null,null,null,0,null,null,0,null,null,{"$f":"IFERROR(VLOOKUP(K90,$AD$7:AE92,2,FALSE),0)","v":0},null,null,0,null,null,null,null,null,null,null,null,null,null,null,null,null,null,null,null,null,"00:00:00","00:00:00",0,{"$f":"SpellNumber((AI90))","v":"No Dollars and No Cents"},3,"No "]
["00:00:00",null,null,null,null,0,null,null,0,null,null,{"$f":"IFERROR(VLOOKUP(K91,$AD$7:AE93,2,FALSE),0)","v":0},null,null,0,null,null,null,"Total Mins",{"$f":"SUM(A7:A104)","v":"00:00:00"},null,null,null,null,null,null,null,null,null,null,null,null,"00:00:00","00:00:00",0,{"$f":"SpellNumber((AI91))","v":"No Dollars and No Cents"},3,"No "]
["00:00:00",null,null,null,null,0,null,null,0,null,null,{"$f":"IFERROR(VLOOKUP(K92,$AD$7:AE94,2,FALSE),0)","v":0},null,null,0,null,null,null,"Settings:","A",{"$f":"COUNTIF(E4:E104,\"A\")","v":0},"Antec.","A",{"$f":"COUNTIF(H4:H104,\"A\")","v":0},"Beh","A",{"$f":"COUNTIF(L4:L104,\"A\")","v":0},"Conse.","A",{"$f":"COUNTIF(O4:O104,\"A\")","v":0},null,null,"00:00:00","00:00:00",0,{"$f":"SpellNumber((AI92))","v":"No Dollars and No Cents"},3,"No "]
["00:00:00",null,null,null,null,0,null,null,0,null,null,{"$f":"IFERROR(VLOOKUP(K93,$AD$7:AE95,2,FALSE),0)","v":0},null,null,0,null,null,null,null,"B",{"$f":"COUNTIF(E5:E105,\"B\")","v":0},null,"B",{"$f":"COUNTIF(H5:H105,\"B\")","v":0},null,"B",{"$f":"COUNTIF(L5:L105,\"B\")","v":0},null,"B",{"$f":"COUNTIF(O5:O105,\"B\")","v":0},null,null,"00:00:00","00:00:00",0,{"$f":"SpellNumber((AI93))","v":"No Dollars and No Cents"},3,"No "]
["00:00:00",null,null,null,null,0,null,null,0,null,null,{"$f":"IFERROR(VLOOKUP(K94,$AD$7:AE96,2,FALSE),0)","v":0},null,null,0,null,null,null,null,"C",{"$f":"COUNTIF(E6:E106,\"C\")","v":0},null,"C",{"$f":"COUNTIF(H6:H106,\"C\")","v":0},null,"C",{"$f":"COUNTIF(L6:L106,\"C\")","v":0},null,"C",{"$f":"COUNTIF(O6:O106,\"C\")","v":0},null,null,"00:00:00","00:00:00",0,{"$f":"SpellNumber((AI94))","v":"No Dollars and No Cents"},3,"No "]
["00:00:00",null,null,null,null,0,null,null,0,null,null,{"$f":"IFERROR(VLOOKUP(K95,$AD$7:AE97,2,FALSE),0)","v":0},null,null,0,null,null,null,null,"D",{"$f":"COUNTIF(E7:E107,\"D\")","v":0},null,"D",{"$f":"COUNTIF(H7:H107,\"D\")","v":0},null,null,null,null,"D",{"$f":"COUNTIF(O7:O107,\"D\")","v":0},null,null,"00:00:00","00:00:00",0,{"$f":"SpellNumber((AI95))","v":"No Dollars and No Cents"},3,"No "]
["00:00:00",null,null,null,null,0,null,null,0,null,null,{"$f":"IFERROR(VLOOKUP(K96,$AD$7:AE98,2,FALSE),0)","v":0},null,null,0,null,null,null,null,"E",{"$f":"COUNTIF(E8:E108,\"E\")","v":0},null,"E",{"$f":"COUNTIF(H8:H108,\"E\")","v":0},null,null,null,null,"E",{"$f":"COUNTIF(O8:O108,\"E\")","v":0},null,null,"00:00:00","00:00:00",0,{"$f":"SpellNumber((AI96))","v":"No Dollars and No Cents"},3,"No "]
["00:00:00",null,null,null,null,0,null,null,0,null,null,{"$f":"IFERROR(VLOOKUP(K97,$AD$7:AE99,2,FALSE),0)","v":0},null,null,0,null,null,null,null,"F",{"$f":"COUNTIF(E9:E109,\"F\")","v":0},null,"F",{"$f":"COUNTIF(H9:H109,\"F\")","v":0},null,null,null,null,"F",{"$f":"COUNTIF(O9:O109,\"F\")","v":0},null,null,"00:00:00","00:00:00",0,{"$f":"SpellNumber((AI97))","v":"No Dollars and No Cents"},3,"No "]
["00:00:00",null,null,null,null,0,null,null,0,null,null,{"$f":"IFERROR(VLOOKUP(K98,$AD$7:AE100,2,FALSE),0)","v":0},null,null,0,null,null,null,null,"G",{"$f":"COUNTIF(E10:E110,\"G\")","v":0},null,"G",{"$f":"COUNTIF(H10:H110,\"G\")","v":0},null,null,null,null,"G",{"$f":"COUNTIF(O10:O110,\"G\")","v":0},null,null,"00:00:00","00:00:00",0,{"$f":"SpellNumber((AI98))","v":"No Dollars and No Cents"},3,"No "]
["00:00:00",null,null,null,null,0,null,null,0,null,null,{"$f":"IFERROR(VLOOKUP(K99,$AD$7:AE101,2,FALSE),0)","v":0},null,null,0,null,null,null,null,"H",{"$f":"COUNTIF(E11:E111,\"H\")","v":0},null,"H",{"$f":"COUNTIF(H11:H111,\"H\")","v":0},null,null,null,null,"H",{"$f":"COUNTIF(O11:O111,\"H\")","v":0},null,null,"00:00:00","00:00:00",0,{"$f":"SpellNumber((AI99))","v":"No Dollars and No Cents"},3,"No "]
["00:00:00",null,null,null,null,0,null,null,0,null,null,{"$f":"IFERROR(VLOOKUP(K100,$AD$7:AE102,2,FALSE),0)","v":0},null,null,0,null,null,null,null,"I",{"$f":"COUNTIF(E12:E112,\"I\")","v":0},null,"I",{"$f":"COUNTIF(H12:H112,\"I\")","v":0},null,null,null,null,"I",{"$f":"COUNTIF(O12:O112,\"I\")","v":0},null,null,"00:00:00","00:00:00",0,{"$f":"SpellNumber((AI100))","v":"No Dollars and No Cents"},3,"No "]
["00:00:00",null,null,null,null,0,null,null,0,null,null,{"$f":"IFERROR(VLOOKUP(K101,$AD$7:AE103,2,FALSE),0)","v":0},null,null,0,null,null,null,null,"J",{"$f":"COUNTIF(E13:E113,\"J\")","v":0},null,"J",{"$f":"COUNTIF(H13:H113,\"J\")","v":0},null,null,null,null,"J",{"$f":"COUNTIF(O13:O113,\"J\")","v":0},null,null,"00:00:00","00:00:00",0,{"$f":"SpellNumber((AI101))","v":"No Dollars and No Cents"},3,"No "]
["00:00:00",null,null,null,null,0,null,null,0,null,null,{"$f":"IFERROR(VLOOKUP(K102,$AD$7:AE104,2,FALSE),0)","v":0},null,null,0,null,null,null,null,"K",{"$f":"COUNTIF(E14:E114,\"K\")","v":0},null,"K",{"$f":"COUNTIF(H14:H114,\"K\")","v":0},null,null,null,null,"K",{"$f":"COUNTIF(O14:O114,\"K\")","v":0},null,null,"00:00:00","00:00:00",0,{"$f":"SpellNumber((AI102))","v":"No Dollars and No Cents"},3,"No "]
["00:00:00",null,null,null,null,0,null,null,0,null,null,{"$f":"IFERROR(VLOOKUP(K103,$AD$7:AE105,2,FALSE),0)","v":0},null,null,0,null,null,null,null,"L",{"$f":"COUNTIF(E15:E115,\"L\")","v":0},null,"L",{"$f":"COUNTIF(H15:H115,\"L\")","v":0},null,null,null,null,"L",{"$f":"COUNTIF(O15:O115,\"L\")","v":0},null,null,"00:00:00","00:00:00",0,{"$f":"SpellNumber((AI103))","v":"No Dollars and No Cents"},3,"No "]
["00:00:00",null,null,null,null,0,null,null,0,null,null,{"$f":"IFERROR(VLOOKUP(K104,$AD$7:AE106,2,FALSE),0)","v":0},null,null,0,null,null,null,null,null,null,null,null,null,null,null,null,null,null,null,null,null,"00:00:00","00:00:00",0,{"$f":"SpellNumber((AI104))","v":"No Dollars and No Cents"},3,"No "]

{"sheet":"Data 31 (2)","index":42,"n_rows":104,"n_cols":38,"rows_kept":104,"cut":false,"hidden":false,"merged":[[0,7,3,14]]}
["ATTENDANCE",null,null,null,null,null,null,"Data Collection"]
["If tardy, arrival time",null,null,null,null,null,null,null,null,null,null,null,null,null,null,null,null,null,null,null,null,null,"Date",{"$f":"Calendar!C10","v":{"$error":"#N/A"}},{"$f":"TEXT(X2,\"ddd\")","v":{"$error":"#N/A"}}]
["If left early, time",null,null,null,null,null,null,null,null,null,null,null,null,null,null,null,null,null,null,null,null,null,"Frq. Of bx",{"$f":"AA22","v":0}]
[]
[]
["Mins.","Start Time","End Time",null,null,null,null,null,null,null,null,null,null,null,null,null,null,null,null,null,null,null,"Setting",null,null,"Ant",null,null,null,"Beh",null,null,"Raw Data","Time in text","Decimal"]
[{"$f":"C7-B7","v":"00:00:00"},null,null,null,null,{"$f":"IFERROR(VLOOKUP(E7,$V$7:$W$18,2,FALSE),0)","v":0},null,null,{"$f":"IFERROR(VLOOKUP(H7,$Z$7:$AA$18,2,FALSE),0)","v":0},null,null,{"$f":"IFERROR(VLOOKUP(K7,$AD$7:AE9,2,FALSE),0)","v":0},null,null,{"$f":"IFERROR(VLOOKUP(N7,$V$22:$W$33,2,FALSE),0)","v":0},null,null,null,null,null,null,"A",{"$f":"Criteria!C4","v":"Transition"},null,null,"A",{"$f":"Criteria!E4","v":"Transition"},null,null,"A",{"$f":"Criteria!G4","v":0},null,{"$f":"B7","v":"00:00:00"},{"$f":"TEXT(AG7,\"hh:mm:ss\")","v":"00:00:00"},{"$f":"AG7*24","v":0},{"$f":"SpellNumber((AI7))","v":"No Dollars and No Cents"},{"$f":"FIND(\" Dollar\",AJ7)","v":3},{"$f":"LEFT(AJ7,AK7)","v":"No "}]
[{"$f":"C8-B8","v":"00:00:00"},null,null,null,null,{"$f":"IFERROR(VLOOKUP(E8,$V$7:$W$18,2,FALSE),0)","v":0},null,null,{"$f":"IFERROR(VLOOKUP(H8,$Z$7:$AA$18,2,FALSE),0)","v":0},null,null,{"$f":"IFERROR(VLOOKUP(K8,$AD$7:AE10,2,FALSE),0)","v":0},null,null,{"$f":"IFERROR(VLOOKUP(N8,$V$22:$W$33,2,FALSE),0)","v":0},null,null,null,null,null,null,"B",{"$f":"Criteria!C5","v":"Morning Routine"},null,null,"B",{"$f":"Criteria!E5","v":"Denied access ('No')"},null,null,"B",{"$f":"Criteria!G5","v":0},null,{"$f":"B8","v":"00:00:00"},{"$f":"TEXT(AG8,\"hh:mm:ss\")","v":"00:00:00"},{"$f":"AG8*24","v":0},{"$f":"SpellNumber((AI8))","v":"No Dollars and No Cents"},{"$f":"FIND(\" Dollar\",AJ8)","v":3},{"$f":"LEFT(AJ8,AK8)","v":"No "}]
["00:00:00",null,null,null,null,{"$f":"IFERROR(VLOOKUP(E9,$V$7:$W$18,2,FALSE),0)","v":0},null,null,0,null,null,{"$f":"IFERROR(VLOOKUP(K9,$AD$7:AE11,2,FALSE),0)","v":0},null,null,0,null,null,null,null,null,null,"C",{"$f":"Criteria!C6","v":"Group Work"},null,null,"C",{"$f":"Criteria!E6","v":"Instruction/ Directions"},null,null,"C",{"$f":"Criteria!G6","v":0},null,"00:00:00","00:00:00",0,{"$f":"SpellNumber((AI9))","v":"No Dollars and No Cents"},3,"No "]
["00:00:00",null,null,null,null,0,null,null,0,null,null,{"$f":"IFERROR(VLOOKUP(K10,$AD$7:AE12,2,FALSE),0)","v":0},null,null,0,null,null,null,null,null,null,"D",{"$f":"Criteria!C7","v":"Ind. Seat/Work Time"},null,null,"D",{"$f":"Criteria!E7","v":"New Task"},null,null,null,null,null,"00:00:00","00:00:00",0,{"$f":"SpellNumber((AI10))","v":"No Dollars and No Cents"},3,"No "]
["00:00:00",null,null,null,null,0,null,null,0,null,null,{"$f":"IFERROR(VLOOKUP(K11,$AD$7:AE13,2,FALSE),0)","v":0},null,null,0,null,null,null,null,null,null,"E",{"$f":"Criteria!C8","v":"Language Arts"},null,null,"E",{"$f":"Criteria!E8","v":"Tcher attn to other"},null,null,null,null,null,"00:00:00","00:00:00",0,{"$f":"SpellNumber((AI11))","v":"No Dollars and No Cents"},3,"No "]
["00:00:00",null,null,null,null,0,null,null,0,null,null,{"$f":"IFERROR(VLOOKUP(K12,$AD$7:AE14,2,FALSE),0)","v":0},null,null,0,null,null,null,null,null,null,"F",{"$f":"Criteria!C9","v":"Mathematics"},null,null,"F",{"$f":"Criteria!E9","v":"Choice given"},null,null,null,null,null,"00:00:00","00:00:00",0,{"$f":"SpellNumber((AI12))","v":"No Dollars and No Cents"},3,"No "]
["00:00:00",null,null,null,null,0,null,null,0,null,null,{"$f":"IFERROR(VLOOKUP(K13,$AD$7:AE15,2,FALSE),0)","v":0},null,null,0,null,null,null,null,null,null,"G",{"$f":"Criteria!C10","v":"Physical Education"},null,null,"G",{"$f":"Criteria!E10","v":"Redirection"},null,null,null,null,null,"00:00:00","00:00:00",0,{"$f":"SpellNumber((AI13))","v":"No Dollars and No Cents"},3,"No "]
["00:00:00",null,null,null,null,0,null,null,0,null,null,{"$f":"IFERROR(VLOOKUP(K14,$AD$7:AE16,2,FALSE),0)","v":0},null,null,0,null,null,null,null,null,null,"H",{"$f":"Criteria!C11","v":"Music/Art"},null,null,"H",{"$f":"Criteria!E11","v":"Routine Task"},null,null,null,null,null,"00:00:00","00:00:00",0,{"$f":"SpellNumber((AI14))","v":"No Dollars and No Cents"},3,"No "]
["00:00:00",null,null,null,null,0,null,null,0,null,null,{"$f":"IFERROR(VLOOKUP(K15,$AD$7:AE17,2,FALSE),0)","v":0},null,null,0,null,null,null,null,null,null,"I",{"$f":"Criteria!C12","v":"Speech"},null,null,"I",{"$f":"Criteria!E12","v":"Waiting"},null,null,null,null,null,"00:00:00","00:00:00",0,{"$f":"SpellNumber((AI15))","v":"No Dollars and No Cents"},3,"No "]
["00:00:00",null,null,null,null,0,null,null,0,null,null,{"$f":"IFERROR(VLOOKUP(K16,$AD$7:AE18,2,FALSE),0)","v":0},null,null,0,null,null,null,null,null,null,"J",{"$f":"Criteria!C13","v":"OT/PT"},null,null,"J",{"$f":"Criteria!E13","v":"Unknown"},null,null,null,null,null,"00:00:00","00:00:00",0,{"$f":"SpellNumber((AI16))","v":"No Dollars and No Cents"},3,"No "]
["00:00:00",null,null,null,null,0,null,null,0,null,null,{"$f":"IFERROR(VLOOKUP(K17,$AD$7:AE19,2,FALSE),0)","v":0},null,null,0,null,null,null,null,null,null,"K",{"$f":"Criteria!C14","v":"Center"},null,null,"K",{"$f":"Criteria!E14","v":"Ignored"},null,null,null,null,null,"00:00:00","00:00:00",0,{"$f":"SpellNumber((AI17))","v":"No Dollars and No Cents"},3,"No "]
["00:00:00",null,null,null,null,0,null,null,0,null,null,{"$f":"IFERROR(VLOOKUP(K18,$AD$7:AE20,2,FALSE),0)","v":0},null,null,0,null,null,null,null,null,null,"L",{"$f":"Criteria!C15","v":"Other"},null,null,"L",{"$f":"Criteria!E15","v":"Other"},null,null,null,null,null,"00:00:00","00:00:00",0,{"$f":"SpellNumber((AI18))","v":"No Dollars and No Cents"},3,"No "]
["00:00:00",null,null,null,null,0,null,null,0,null,null,{"$f":"IFERROR(VLOOKUP(K19,$AD$7:AE21,2,FALSE),0)","v":0},null,null,0,null,null,null,null,null,null,null,null,null,null,null,null,null,null,null,null,null,"00:00:00","00:00:00",0,{"$f":"SpellNumber((AI19))","v":"No Dollars and No Cents"},3,"No "]
["00:00:00",null,null,null,null,0,null,null,0,null,null,{"$f":"IFERROR(VLOOKUP(K20,$AD$7:AE22,2,FALSE),0)","v":0},null,null,0,null,null,null,null,null,null,null,null,null,null,null,null,null,null,null,null,null,"00:00:00","00:00:00",0,{"$f":"SpellNumber((AI20))","v":"No Dollars and No Cents"},3,"No "]
["00:00:00",null,null,null,null,0,null,null,0,null,null,{"$f":"IFERROR(VLOOKUP(K21,$AD$7:AE23,2,FALSE),0)","v":0},null,null,0,null,null,null,null,null,null,null,"Con",null,"Bx Frequency Per Day",null,null,null,null,null,null,null,"00:00:00","00:00:00",0,{"$f":"SpellNumber((AI21))","v":"No Dollars and No Cents"},3,"No "]
["00:00:00",null,null,null,null,0,null,null,0,null,null,{"$f":"IFERROR(VLOOKUP(K22,$AD$7:AE24,2,FALSE),0)","v":0},null,null,0,null,null,null,null,null,null,"A",{"$f":"Criteria!I4","v":"Choice Given"},"A",{"$f":"COUNTIF(K7:K104,\"A\")","v":0},null,{"$f":"SUM(Y22:Y24)","v":0},null,"Bin Dec","Frequency of Time",null,null,"00:00:00","00:00:00",0,{"$f":"SpellNumber((AI22))","v":"No Dollars and No Cents"},3,"No "]
["00:00:00",null,null,null,null,0,null,null,0,null,null,{"$f":"IFERROR(VLOOKUP(K23,$AD$7:AE25,2,FALSE),0)","v":0},null,null,0,null,null,null,null,null,null,"B",{"$f":"Criteria!I5","v":"Ignored"},"B",{"$f":"COUNTIF(K7:K104,\"B\")","v":0},null,null,null,"Seven",{"$f":"COUNTIF(AL7:AL104,\"*Seven*\")","v":0},null,null,"00:00:00","00:00:00",0,{"$f":"SpellNumber((AI23))","v":"No Dollars and No Cents"},3,"No "]
["00:00:00",null,null,null,null,0,null,null,0,null,null,{"$f":"IFERROR(VLOOKUP(K24,$AD$7:AE26,2,FALSE),0)","v":0},null,null,0,null,null,null,null,null,null,"C",{"$f":"Criteria!I6","v":"Redirection"},"C",{"$f":"COUNTIF(K7:K104,\"C\")","v":0},null,null,null,"Eight",{"$f":"COUNTIF(AL7:AL104,\"*Eight*\")","v":0},null,null,"00:00:00","00:00:00",0,{"$f":"SpellNumber((AI24))","v":"No Dollars and No Cents"},3,"No "]
["00:00:00",null,null,null,null,0,null,null,0,null,null,{"$f":"IFERROR(VLOOKUP(K25,$AD$7:AE27,2,FALSE),0)","v":0},null,null,0,null,null,null,null,null,null,"D",{"$f":"Criteria!I7","v":"Kept the demand"},null,"Bx Druation Per Day",null,null,null,"Nine",{"$f":"COUNTIF(AL7:AL104,\"*Nine*\")","v":0},null,null,"00:00:00","00:00:00",0,{"$f":"SpellNumber((AI25))","v":"No Dollars and No Cents"},3,"No "]
["00:00:00",null,null,null,null,0,null,null,0,null,null,{"$f":"IFERROR(VLOOKUP(K26,$AD$7:AE28,2,FALSE),0)","v":0},null,null,0,null,null,null,null,null,null,"E",{"$f":"Criteria!I8","v":"Changed activity"},"A",{"$f":"SUMIF(K7:K104,\"A\",A7:A104)","v":"00:00:00"},null,null,null,"Ten",{"$f":"COUNTIF(AL7:AL12,\"*Ten*\")","v":0},null,null,"00:00:00","00:00:00",0,{"$f":"SpellNumber((AI26))","v":"No Dollars and No Cents"},3,"No "]
["00:00:00",null,null,null,null,0,null,null,0,null,null,{"$f":"IFERROR(VLOOKUP(K27,$AD$7:AE29,2,FALSE),0)","v":0},null,null,0,null,null,null,null,null,null,"F",{"$f":"Criteria!I9","v":"Verbal reprimand"},"B",{"$f":"SUMIF(K7:K104,\"B\",A7:A104)","v":"00:00:00"},null,null,null,"Eleven",{"$f":"COUNTIF(AL7:AL104,\"*Eleven*\")","v":0},null,null,"00:00:00","00:00:00",0,{"$f":"SpellNumber((AI27))","v":"No Dollars and No Cents"},3,"No "]
["00:00:00",null,null,null,null,0,null,null,0,null,null,{"$f":"IFERROR(VLOOKUP(K28,$AD$7:AE30,2,FALSE),0)","v":0},null,null,0,null,null,null,null,null,null,"G",{"$f":"Criteria!I10","v":"Told to wait"},"C",{"$f":"SUMIF(K7:K104,\"C\",A7:A104)","v":"00:00:00"},null,null,null,"Twelve",{"$f":"COUNTIF(AL7:AL104,\"*Twelve*\")","v":0},null,null,"00:00:00","00:00:00",0,{"$f":"SpellNumber((AI28))","v":"No Dollars and No Cents"},3,"No "]
["00:00:00",null,null,null,null,0,null,null,0,null,null,{"$f":"IFERROR(VLOOKUP(K29,$AD$7:AE31,2,FALSE),0)","v":0},null,null,0,null,null,null,null,null,null,"H",{"$f":"Criteria!I11","v":"Physical Prompt"},null,null,null,null,null,"One",{"$f":"COUNTIF(AL7:AL104,\"*One*\")","v":0},null,null,"00:00:00","00:00:00",0,{"$f":"SpellNumber((AI29))","v":"No Dollars and No Cents"},3,"No "]
["00:00:00",null,null,null,null,0,null,null,0,null,null,{"$f":"IFERROR(VLOOKUP(K30,$AD$7:AE32,2,FALSE),0)","v":0},null,null,0,null,null,null,null,null,null,"I",{"$f":"Criteria!I12","v":"Verbal prompt"},null,null,null,null,null,"Two",{"$f":"COUNTIF(AL7:AL104,\"*Two*\")","v":0},null,null,"00:00:00","00:00:00",0,{"$f":"SpellNumber((AI30))","v":"No Dollars and No Cents"},3,"No "]
["00:00:00",null,null,null,null,0,null,null,0,null,null,{"$f":"IFERROR(VLOOKUP(K31,$AD$7:AE33,2,FALSE),0)","v":0},null,null,0,null,null,null,null,null,null,"J",{"$f":"Criteria!I13","v":"Told to wait"},null,null,null,null,null,"Three",{"$f":"COUNTIF(AL7:AL104,\"*Three*\")","v":0},null,null,"00:00:00","00:00:00",0,{"$f":"SpellNumber((AI31))","v":"No Dollars and No Cents"},3,"No "]
["00:00:00",null,null,null,null,0,null,null,0,null,null,{"$f":"IFERROR(VLOOKUP(K32,$AD$7:AE34,2,FALSE),0)","v":0},null,null,0,null,null,null,null,null,null,"K",{"$f":"Criteria!I14","v":"Unknown"},null,null,null,null,null,"Four",{"$f":"COUNTIF(AL7:AL104,\"*Four*\")","v":0},null,null,"00:00:00","00:00:00",0,{"$f":"SpellNumber((AI32))","v":"No Dollars and No Cents"},3,"No "]
["00:00:00",null,null,null,null,0,null,null,0,null,null,{"$f":"IFERROR(VLOOKUP(K33,$AD$7:AE35,2,FALSE),0)","v":0},null,null,0,null,null,null,null,null,null,"L",{"$f":"Criteria!I15","v":"Other"},null,null,null,null,null,null,null,null,null,"00:00:00","00:00:00",0,{"$f":"SpellNumber((AI33))","v":"No Dollars and No Cents"},3,"No "]
["00:00:00",null,null,null,null,0,null,null,0,null,null,{"$f":"IFERROR(VLOOKUP(K34,$AD$7:AE36,2,FALSE),0)","v":0},null,null,0,null,null,null,null,null,null,null,null,null,null,null,null,null,null,null,null,null,"00:00:00","00:00:00",0,{"$f":"SpellNumber((AI34))","v":"No Dollars and No Cents"},3,"No "]
["00:00:00",null,null,null,null,0,null,null,0,null,null,{"$f":"IFERROR(VLOOKUP(K35,$AD$7:AE37,2,FALSE),0)","v":0},null,null,0,null,null,null,null,null,null,null,"Context Frequency","Consequence","Antedencents",null,null,null,null,null,null,null,"00:00:00","00:00:00",0,{"$f":"SpellNumber((AI35))","v":"No Dollars and No Cents"},3,"No "]
["00:00:00",null,null,null,null,0,null,null,0,null,null,{"$f":"IFERROR(VLOOKUP(K36,$AD$7:AE38,2,FALSE),0)","v":0},null,null,0,null,null,null,null,null,null,"A",{"$f":"COUNTIF(E7:E104,\"A\")","v":0},{"$f":"COUNTIF(N7:N104,\"A\")","v":0},{"$f":"COUNTIF(H7:H104,\"A\")","v":0},null,null,null,null,null,null,null,"00:00:00","00:00:00",0,{"$f":"SpellNumber((AI36))","v":"No Dollars and No Cents"},3,"No "]
["00:00:00",null,null,null,null,0,null,null,0,null,null,{"$f":"IFERROR(VLOOKUP(K37,$AD$7:AE39,2,FALSE),0)","v":0},null,null,0,null,null,null,null,null,null,"B",{"$f":"COUNTIF(E8:E105,\"B\")","v":0},{"$f":"COUNTIF(N7:N104,\"B\")","v":0},{"$f":"COUNTIF(H7:H104,\"B\")","v":0},null,null,null,null,null,null,null,"00:00:00","00:00:00",0,{"$f":"SpellNumber((AI37))","v":"No Dollars and No Cents"},3,"No "]
["00:00:00",null,null,null,null,0,null,null,0,null,null,{"$f":"IFERROR(VLOOKUP(K38,$AD$7:AE40,2,FALSE),0)","v":0},null,null,0,null,null,null,null,null,null,"C",{"$f":"COUNTIF(E8:E105,\"C\")","v":0},{"$f":"COUNTIF(N7:N104,\"C\")","v":0},{"$f":"COUNTIF(H7:H104,\"C\")","v":0},null,null,null,null,null,null,null,"00:00:00","00:00:00",0,{"$f":"SpellNumber((AI38))","v":"No Dollars and No Cents"},3,"No "]
["00:00:00",null,null,null,null,0,null,null,0,null,null,{"$f":"IFERROR(VLOOKUP(K39,$AD$7:AE41,2,FALSE),0)","v":0},null,null,0,null,null,null,null,null,null,"D",{"$f":"COUNTIF(E8:E105,\"D\")","v":0},{"$f":"COUNTIF(N7:N104,\"D\")","v":0},{"$f":"COUNTIF(H7:H104,\"D\")","v":0},null,null,null,null,null,null,null,"00:00:00","00:00:00",0,{"$f":"SpellNumber((AI39))","v":"No Dollars and No Cents"},3,"No "]
["00:00:00",null,null,null,null,0,null,null,0,null,null,{"$f":"IFERROR(VLOOKUP(K40,$AD$7:AE42,2,FALSE),0)","v":0},null,null,0,null,null,null,null,null,null,"E",{"$f":"COUNTIF(E8:E105,\"E\")","v":0},{"$f":"COUNTIF(N7:N104,\"E\")","v":0},{"$f":"COUNTIF(H7:H104,\"E\")","v":0},null,null,null,null,null,null,null,"00:00:00","00:00:00",0,{"$f":"SpellNumber((AI40))","v":"No Dollars and No Cents"},3,"No "]
["00:00:00",null,null,null,null,0,null,null,0,null,null,{"$f":"IFERROR(VLOOKUP(K41,$AD$7:AE43,2,FALSE),0)","v":0},null,null,0,null,null,null,null,null,null,"F",{"$f":"COUNTIF(E8:E105,\"F\")","v":0},{"$f":"COUNTIF(N7:N104,\"F\")","v":0},{"$f":"COUNTIF(H7:H104,\"F\")","v":0},null,null,null,null,null,null,null,"00:00:00","00:00:00",0,{"$f":"SpellNumber((AI41))","v":"No Dollars and No Cents"},3,"No "]
["00:00:00",null,null,null,null,0,null,null,0,null,null,{"$f":"IFERROR(VLOOKUP(K42,$AD$7:AE44,2,FALSE),0)","v":0},null,null,0,null,null,null,null,null,null,"G",{"$f":"COUNTIF(E8:E105,\"G\")","v":0},{"$f":"COUNTIF(N7:N104,\"G\")","v":0},{"$f":"COUNTIF(H7:H104,\"G\")","v":0},null,null,null,null,null,null,null,"00:00:00","00:00:00",0,{"$f":"SpellNumber((AI42))","v":"No Dollars and No Cents"},3,"No "]
["00:00:00",null,null,null,null,0,null,null,0,null,null,{"$f":"IFERROR(VLOOKUP(K43,$AD$7:AE45,2,FALSE),0)","v":0},null,null,0,null,null,null,null,null,null,"H",{"$f":"COUNTIF(E8:E105,\"H\")","v":0},{"$f":"COUNTIF(N7:N104,\"H\")","v":0},{"$f":"COUNTIF(H7:H104,\"H\")","v":0},null,null,null,null,null,null,null,"00:00:00","00:00:00",0,{"$f":"SpellNumber((AI43))","v":"No Dollars and No Cents"},3,"No "]
["00:00:00",null,null,null,null,0,null,null,0,null,null,{"$f":"IFERROR(VLOOKUP(K44,$AD$7:AE46,2,FALSE),0)","v":0},null,null,0,null,null,null,null,null,null,"I",{"$f":"COUNTIF(E8:E105,\"I\")","v":0},{"$f":"COUNTIF(N7:N104,\"I\")","v":0},{"$f":"COUNTIF(H7:H104,\"I\")","v":0},null,null,null,null,null,null,null,"00:00:00","00:00:00",0,{"$f":"SpellNumber((AI44))","v":"No Dollars and No Cents"},3,"No "]
["00:00:00",null,null,null,null,0,null,null,0,null,null,{"$f":"IFERROR(VLOOKUP(K45,$AD$7:AE47,2,FALSE),0)","v":0},null,null,0,null,null,null,null,null,null,"J",{"$f":"COUNTIF(E8:E105,\"J\")","v":0},{"$f":"COUNTIF(N7:N104,\"J\")","v":0},{"$f":"COUNTIF(H7:H104,\"J\")","v":0},null,null,null,null,null,null,null,"00:00:00","00:00:00",0,{"$f":"SpellNumber((AI45))","v":"No Dollars and No Cents"},3,"No "]
["00:00:00",null,null,null,null,0,null,null,0,null,null,{"$f":"IFERROR(VLOOKUP(K46,$AD$7:AE48,2,FALSE),0)","v":0},null,null,0,null,null,null,null,null,null,"K",{"$f":"COUNTIF(E8:E105,\"K\")","v":0},{"$f":"COUNTIF(N7:N104,\"K\")","v":0},{"$f":"COUNTIF(H7:H104,\"K\")","v":0},null,null,null,null,null,null,null,"00:00:00","00:00:00",0,{"$f":"SpellNumber((AI46))","v":"No Dollars and No Cents"},3,"No "]
["00:00:00",null,null,null,null,0,null,null,0,null,null,{"$f":"IFERROR(VLOOKUP(K47,$AD$7:AE49,2,FALSE),0)","v":0},null,null,0,null,null,null,null,null,null,"L",{"$f":"COUNTIF(E8:E105,\"l\")","v":0},{"$f":"COUNTIF(N7:N104,\"L\")","v":0},{"$f":"COUNTIF(H7:H104,\"L\")","v":0},null,null,null,null,null,null,null,"00:00:00","00:00:00",0,{"$f":"SpellNumber((AI47))","v":"No Dollars and No Cents"},3,"No "]
["00:00:00",null,null,null,null,0,null,null,0,null,null,{"$f":"IFERROR(VLOOKUP(K48,$AD$7:AE50,2,FALSE),0)","v":0},null,null,0,null,null,null,null,null,null,null,null,null,null,null,null,null,null,null,null,null,"00:00:00","00:00:00",0,{"$f":"SpellNumber((AI48))","v":"No Dollars and No Cents"},3,"No "]
["00:00:00",null,null,null,null,0,null,null,0,null,null,{"$f":"IFERROR(VLOOKUP(K49,$AD$7:AE51,2,FALSE),0)","v":0},null,null,0,null,null,null,null,null,null,null,"Beh & Setting ",null,null,null,"Beh & Antecedents",null,null,null,null,null,"00:00:00","00:00:00",0,{"$f":"SpellNumber((AI49))","v":"No Dollars and No Cents"},3,"No "]
["00:00:00",null,null,null,null,0,null,null,0,null,null,{"$f":"IFERROR(VLOOKUP(K50,$AD$7:AE52,2,FALSE),0)","v":0},null,null,0,null,null,null,null,null,null,null,"A","B","C",null,null,"A","B","C",null,null,"00:00:00","00:00:00",0,{"$f":"SpellNumber((AI50))","v":"No Dollars and No Cents"},3,"No "]
["00:00:00",null,null,null,null,0,null,null,0,null,null,{"$f":"IFERROR(VLOOKUP(K51,$AD$7:AE53,2,FALSE),0)","v":0},null,null,0,null,null,null,null,null,null,"A",{"$f":"COUNTIFS(E7:E104,\"A\",K7:K104,\"A\")","v":0},{"$f":"COUNTIFS(E7:E104,\"A\",K7:K104,\"B\")","v":0},{"$f":"COUNTIFS(E7:E104,\"A\",K7:K104,\"C\")","v":0},null,"A",{"$f":"COUNTIFS(H7:H104,\"a\",K7:K104,\"A\")","v":0},{"$f":"COUNTIFS(H7:H104,\"A\",K7:K104,\"B\")","v":0},{"$f":"COUNTIFS(H7:H104,\"A\",K7:K104,\"C\")","v":0},null,null,"00:00:00","00:00:00",0,{"$f":"SpellNumber((AI51))","v":"No Dollars and No Cents"},3,"No "]
["00:00:00",null,null,null,null,0,null,null,0,null,null,{"$f":"IFERROR(VLOOKUP(K52,$AD$7:AE54,2,FALSE),0)","v":0},null,null,0,null,null,null,null,null,null,"B",{"$f":"COUNTIFS(E7:E104,\"B\",K7:K104,\"A\")","v":0},{"$f":"COUNTIFS(E7:E104,\"B\",K7:K104,\"B\")","v":0},{"$f":"COUNTIFS(E7:E104,\"B\",K7:K104,\"C\")","v":0},null,"B",{"$f":"COUNTIFS(H7:H104,\"B\",K7:K104,\"A\")","v":0},{"$f":"COUNTIFS(H7:H104,\"B\",K7:K104,\"B\")","v":0},{"$f":"COUNTIFS(H7:H104,\"B\",K7:K104,\"C\")","v":0},null,null,"00:00:00","00:00:00",0,{"$f":"SpellNumber((AI52))","v":"No Dollars and No Cents"},3,"No "]
["00:00:00",null,null,null,null,0,null,null,0,null,null,{"$f":"IFERROR(VLOOKUP(K53,$AD$7:AE55,2,FALSE),0)","v":0},null,null,0,null,null,null,null,null,null,"C",{"$f":"COUNTIFS(K7:K104,\"C\",K7:K104,\"A\")","v":0},{"$f":"COUNTIFS(E7:E104,\"C\",K7:K104,\"B\")","v":0},{"$f":"COUNTIFS(E7:E104,\"C\",K7:K104,\"C\")","v":0},null,"C",{"$f":"COUNTIFS(H7:H104,\"C\",K7:K104,\"A\")","v":0},{"$f":"COUNTIFS(H7:H104,\"C\",K7:K104,\"B\")","v":0},{"$f":"COUNTIFS(H7:H104,\"C\",K7:K104,\"C\")","v":0},null,null,"00:00:00","00:00:00",0,{"$f":"SpellNumber((AI53))","v":"No Dollars and No Cents"},3,"No "]
["00:00:00",null,null,null,null,0,null,null,0,null,null,{"$f":"IFERROR(VLOOKUP(K54,$AD$7:AE56,2,FALSE),0)","v":0},null,null,0,null,null,null,null,null,null,"D",{"$f":"COUNTIFS(E7:E104,\"D\",K7:K104,\"A\")","v":0},{"$f":"COUNTIFS(E7:E104,\"D\",K7:K104,\"B\")","v":0},{"$f":"COUNTIFS(E7:E104,\"D\",K7:K104,\"C\")","v":0},null,"D",{"$f":"COUNTIFS(H7:H104,\"D\",K7:K104,\"A\")","v":0},{"$f":"COUNTIFS(H7:H104,\"D\",K7:K104,\"B\")","v":0},{"$f":"COUNTIFS(H7:H104,\"D\",K7:K104,\"C\")","v":0},null,null,"00:00:00","00:00:00",0,{"$f":"SpellNumber((AI54))","v":"No Dollars and No Cents"},3,"No "]
["00:00:00",null,null,null,null,0,null,null,0,null,null,{"$f":"IFERROR(VLOOKUP(K55,$AD$7:AE57,2,FALSE),0)","v":0},null,null,0,null,null,null,null,null,null,"E",{"$f":"COUNTIFS(E7:E104,\"E\",K7:K104,\"A\")","v":0},{"$f":"COUNTIFS(E7:E104,\"E\",K7:K104,\"B\")","v":0},{"$f":"COUNTIFS(E7:E104,\"E\",K7:K104,\"C\")","v":0},null,"E",{"$f":"COUNTIFS(H7:H104,\"E\",K7:K104,\"A\")","v":0},{"$f":"COUNTIFS(H7:H104,\"E\",K7:K104,\"B\")","v":0},{"$f":"COUNTIFS(H7:H104,\"E\",K7:K104,\"C\")","v":0},null,null,"00:00:00","00:00:00",0,{"$f":"SpellNumber((AI55))","v":"No Dollars and No Cents"},3,"No "]
["00:00:00",null,null,null,null,0,null,null,0,null,null,{"$f":"IFERROR(VLOOKUP(K56,$AD$7:AE58,2,FALSE),0)","v":0},null,null,0,null,null,null,null,null,null,"F",{"$f":"COUNTIFS(E7:E104,\"F\",K7:K104,\"A\")","v":0},{"$f":"COUNTIFS(E7:E104,\"F\",K7:K104,\"B\")","v":0},{"$f":"COUNTIFS(E7:E104,\"F\",K7:K104,\"C\")","v":0},null,"F",{"$f":"COUNTIFS(H7:H104,\"F\",K7:K104,\"A\")","v":0},{"$f":"COUNTIFS(H7:H104,\"F\",K7:K104,\"B\")","v":0},{"$f":"COUNTIFS(H7:H104,\"F\",K7:K104,\"C\")","v":0},null,null,"00:00:00","00:00:00",0,{"$f":"SpellNumber((AI56))","v":"No Dollars and No Cents"},3,"No "]
["00:00:00",null,null,null,null,0,null,null,0,null,null,{"$f":"IFERROR(VLOOKUP(K57,$AD$7:AE59,2,FALSE),0)","v":0},null,null,0,null,null,null,null,null,null,"G",{"$f":"COUNTIFS(E7:E104,\"G\",K7:K104,\"A\")","v":0},{"$f":"COUNTIFS(E7:E104,\"G\",K7:K104,\"B\")","v":0},{"$f":"COUNTIFS(E7:E104,\"G\",K7:K104,\"C\")","v":0},null,"G",{"$f":"COUNTIFS(H7:H104,\"G\",K7:K104,\"A\")","v":0},{"$f":"COUNTIFS(H7:H104,\"G\",K7:K104,\"B\")","v":0},{"$f":"COUNTIFS(H7:H104,\"G\",K7:K104,\"C\")","v":0},null,null,"00:00:00","00:00:00",0,{"$f":"SpellNumber((AI57))","v":"No Dollars and No Cents"},3,"No "]
["00:00:00",null,null,null,null,0,null,null,0,null,null,{"$f":"IFERROR(VLOOKUP(K58,$AD$7:AE60,2,FALSE),0)","v":0},null,null,0,null,null,null,null,null,null,"H",{"$f":"COUNTIFS(E7:E104,\"H\",K7:K104,\"A\")","v":0},{"$f":"COUNTIFS(E7:E104,\"H\",K7:K104,\"B\")","v":0},{"$f":"COUNTIFS(E7:E104,\"H\",K7:K104,\"C\")","v":0},null,"H",{"$f":"COUNTIFS(H7:H104,\"H\",K7:K104,\"A\")","v":0},{"$f":"COUNTIFS(H7:H104,\"H\",K7:K104,\"B\")","v":0},{"$f":"COUNTIFS(H7:H104,\"H\",K7:K104,\"C\")","v":0},null,null,"00:00:00","00:00:00",0,{"$f":"SpellNumber((AI58))","v":"No Dollars and No Cents"},3,"No "]
["00:00:00",null,null,null,null,0,null,null,0,null,null,{"$f":"IFERROR(VLOOKUP(K59,$AD$7:AE61,2,FALSE),0)","v":0},null,null,0,null,null,null,null,null,null,"I",{"$f":"COUNTIFS(E7:E104,\"I\",K7:K104,\"A\")","v":0},{"$f":"COUNTIFS(E7:E104,\"I\",K7:K104,\"B\")","v":0},{"$f":"COUNTIFS(E7:E104,\"I\",K7:K104,\"C\")","v":0},null,"I",{"$f":"COUNTIFS(H7:H104,\"I\",K7:K104,\"A\")","v":0},{"$f":"COUNTIFS(H7:H104,\"I\",K7:K104,\"B\")","v":0},{"$f":"COUNTIFS(H7:H104,\"I\",K7:K104,\"C\")","v":0},null,null,"00:00:00","00:00:00",0,{"$f":"SpellNumber((AI59))","v":"No Dollars and No Cents"},3,"No "]
["00:00:00",null,null,null,null,0,null,null,0,null,null,{"$f":"IFERROR(VLOOKUP(K60,$AD$7:AE62,2,FALSE),0)","v":0},null,null,0,null,null,null,null,null,null,"J",{"$f":"COUNTIFS(E7:E104,\"J\",K7:K104,\"A\")","v":0},{"$f":"COUNTIFS(E7:E104,\"J\",K7:K104,\"B\")","v":0},{"$f":"COUNTIFS(E7:E104,\"J\",K7:K104,\"C\")","v":0},null,"J",{"$f":"COUNTIFS(H7:H104,\"J\",K7:K104,\"A\")","v":0},{"$f":"COUNTIFS(H7:H104,\"J\",K7:K104,\"B\")","v":0},{"$f":"COUNTIFS(H7:H104,\"J\",K7:K104,\"C\")","v":0},null,null,"00:00:00","00:00:00",0,{"$f":"SpellNumber((AI60))","v":"No Dollars and No Cents"},3,"No "]
["00:00:00",null,null,null,null,0,null,null,0,null,null,{"$f":"IFERROR(VLOOKUP(K61,$AD$7:AE63,2,FALSE),0)","v":0},null,null,0,null,null,null,null,null,null,"K",{"$f":"COUNTIFS(E7:E104,\"K\",K7:K104,\"A\")","v":0},{"$f":"COUNTIFS(E7:E104,\"K\",K7:K104,\"B\")","v":0},{"$f":"COUNTIFS(E7:E104,\"K\",K7:K104,\"C\")","v":0},null,"K",{"$f":"COUNTIFS(H7:H104,\"K\",K7:K104,\"A\")","v":0},{"$f":"COUNTIFS(H7:H104,\"K\",K7:K104,\"B\")","v":0},{"$f":"COUNTIFS(H7:H104,\"K\",K7:K104,\"C\")","v":0},null,null,"00:00:00","00:00:00",0,{"$f":"SpellNumber((AI61))","v":"No Dollars and No Cents"},3,"No "]
["00:00:00",null,null,null,null,0,null,null,0,null,null,{"$f":"IFERROR(VLOOKUP(K62,$AD$7:AE64,2,FALSE),0)","v":0},null,null,0,null,null,null,null,null,null,"L",{"$f":"COUNTIFS(E7:E104,\"L\",K7:K104,\"A\")","v":0},{"$f":"COUNTIFS(E7:E104,\"L\",K7:K104,\"B\")","v":0},{"$f":"COUNTIFS(E7:E104,\"L\",K7:K104,\"C\")","v":0},null,"L",{"$f":"COUNTIFS(H7:H104,\"L\",K7:K104,\"A\")","v":0},{"$f":"COUNTIFS(H7:H104,\"L\",K7:K104,\"B\")","v":0},{"$f":"COUNTIFS(H7:H104,\"L\",K7:K104,\"C\")","v":0},null,null,"00:00:00","00:00:00",0,{"$f":"SpellNumber((AI62))","v":"No Dollars and No Cents"},3,"No "]
["00:00:00",null,null,null,null,0,null,null,0,null,null,{"$f":"IFERROR(VLOOKUP(K63,$AD$7:AE65,2,FALSE),0)","v":0},null,null,0,null,null,null,null,null,null,null,"Beh & Consequences",null,null,null,null,null,null,null,null,null,"00:00:00","00:00:00",0,{"$f":"SpellNumber((AI63))","v":"No Dollars and No Cents"},3,"No "]
["00:00:00",null,null,null,null,0,null,null,0,null,null,{"$f":"IFERROR(VLOOKUP(K64,$AD$7:AE66,2,FALSE),0)","v":0},null,null,0,null,null,null,null,null,null,null,"A","B","C",null,null,null,null,null,null,null,"00:00:00","00:00:00",0,{"$f":"SpellNumber((AI64))","v":"No Dollars and No Cents"},3,"No "]
["00:00:00",null,null,null,null,0,null,null,0,null,null,{"$f":"IFERROR(VLOOKUP(K65,$AD$7:AE67,2,FALSE),0)","v":0},null,null,0,null,null,null,null,null,null,"A",{"$f":"COUNTIFS(N7:N104,\"A\",K7:K104,\"A\")","v":0},{"$f":"COUNTIFS(N7:N104,\"A\",K7:K104,\"B\")","v":0},{"$f":"COUNTIFS(N7:N104,\"A\",K7:K104,\"C\")","v":0},null,null,null,null,null,null,null,"00:00:00","00:00:00",0,{"$f":"SpellNumber((AI65))","v":"No Dollars and No Cents"},3,"No "]
["00:00:00",null,null,null,null,0,null,null,0,null,null,{"$f":"IFERROR(VLOOKUP(K66,$AD$7:AE68,2,FALSE),0)","v":0},null,null,0,null,null,null,null,null,null,"B",{"$f":"COUNTIFS(N7:N104,\"B\",K7:K104,\"A\")","v":0},{"$f":"COUNTIFS(N7:N104,\"B\",K7:K104,\"B\")","v":0},{"$f":"COUNTIFS(N7:N104,\"B\",K7:K104,\"C\")","v":0},null,null,null,null,null,null,null,"00:00:00","00:00:00",0,{"$f":"SpellNumber((AI66))","v":"No Dollars and No Cents"},3,"No "]
["00:00:00",null,null,null,null,0,null,null,0,null,null,{"$f":"IFERROR(VLOOKUP(K67,$AD$7:AE69,2,FALSE),0)","v":0},null,null,0,null,null,null,null,null,null,"C",{"$f":"COUNTIFS(N7:N104,\"C\",K7:K104,\"A\")","v":0},{"$f":"COUNTIFS(N7:N104,\"C\",K7:K104,\"B\")","v":0},{"$f":"COUNTIFS(N7:N104,\"C\",K7:K104,\"C\")","v":0},null,null,null,null,null,null,null,"00:00:00","00:00:00",0,{"$f":"SpellNumber((AI67))","v":"No Dollars and No Cents"},3,"No "]
["00:00:00",null,null,null,null,0,null,null,0,null,null,{"$f":"IFERROR(VLOOKUP(K68,$AD$7:AE70,2,FALSE),0)","v":0},null,null,0,null,null,null,null,null,null,"D",{"$f":"COUNTIFS(N7:N104,\"D\",K7:K104,\"A\")","v":0},{"$f":"COUNTIFS(N7:N104,\"D\",K7:K104,\"B\")","v":0},{"$f":"COUNTIFS(N7:N104,\"D\",K7:K104,\"C\")","v":0},null,null,null,null,null,null,null,"00:00:00","00:00:00",0,{"$f":"SpellNumber((AI68))","v":"No Dollars and No Cents"},3,"No "]
["00:00:00",null,null,null,null,0,null,null,0,null,null,{"$f":"IFERROR(VLOOKUP(K69,$AD$7:AE71,2,FALSE),0)","v":0},null,null,0,null,null,null,null,null,null,"E",{"$f":"COUNTIFS(N7:N104,\"E\",K7:K104,\"A\")","v":0},{"$f":"COUNTIFS(N7:N104,\"E\",K7:K104,\"B\")","v":0},{"$f":"COUNTIFS(N7:N104,\"E\",K7:K104,\"C\")","v":0},null,null,null,null,null,null,null,"00:00:00","00:00:00",0,{"$f":"SpellNumber((AI69))","v":"No Dollars and No Cents"},3,"No "]
["00:00:00",null,null,null,null,0,null,null,0,null,null,{"$f":"IFERROR(VLOOKUP(K70,$AD$7:AE72,2,FALSE),0)","v":0},null,null,0,null,null,null,null,null,null,"F",{"$f":"COUNTIFS(N7:N104,\"F\",K7:K104,\"A\")","v":0},{"$f":"COUNTIFS(N7:N104,\"F\",K7:K104,\"B\")","v":0},{"$f":"COUNTIFS(N7:N104,\"F\",K7:K104,\"C\")","v":0},null,null,null,null,null,null,null,"00:00:00","00:00:00",0,{"$f":"SpellNumber((AI70))","v":"No Dollars and No Cents"},3,"No "]
["00:00:00",null,null,null,null,0,null,null,0,null,null,{"$f":"IFERROR(VLOOKUP(K71,$AD$7:AE73,2,FALSE),0)","v":0},null,null,0,null,null,null,null,null,null,"G",{"$f":"COUNTIFS(N7:N104,\"G\",K7:K104,\"A\")","v":0},{"$f":"COUNTIFS(N7:N104,\"G\",K7:K104,\"B\")","v":0},{"$f":"COUNTIFS(N7:N104,\"G\",K7:K104,\"C\")","v":0},null,null,null,null,null,null,null,"00:00:00","00:00:00",0,{"$f":"SpellNumber((AI71))","v":"No Dollars and No Cents"},3,"No "]
[{"$f":"C72-B72","v":"00:00:00"},null,null,null,null,0,null,null,{"$f":"IFERROR(VLOOKUP(H72,$Z$7:$AA$18,2,FALSE),0)","v":0},null,null,{"$f":"IFERROR(VLOOKUP(K72,$AD$7:AE74,2,FALSE),0)","v":0},null,null,{"$f":"IFERROR(VLOOKUP(N72,$V$22:$W$33,2,FALSE),0)","v":0},null,null,null,null,null,null,"H",{"$f":"COUNTIFS(N7:N104,\"H\",K7:K104,\"A\")","v":0},{"$f":"COUNTIFS(N7:N104,\"H\",K7:K104,\"B\")","v":0},{"$f":"COUNTIFS(N7:N104,\"H\",K7:K104,\"C\")","v":0},null,null,null,null,null,null,null,{"$f":"B72","v":"00:00:00"},{"$f":"TEXT(AG72,\"hh:mm:ss\")","v":"00:00:00"},{"$f":"AG72*24","v":0},{"$f":"SpellNumber((AI72))","v":"No Dollars and No Cents"},{"$f":"FIND(\" Dollar\",AJ72)","v":3},{"$f":"LEFT(AJ72,AK72)","v":"No "}]
["00:00:00",null,null,null,null,{"$f":"IFERROR(VLOOKUP(E73,$V$7:$W$18,2,FALSE),0)","v":0},null,null,0,null,null,{"$f":"IFERROR(VLOOKUP(K73,$AD$7:AE75,2,FALSE),0)","v":0},null,null,0,null,null,null,null,null,null,"I",{"$f":"COUNTIFS(N7:N104,\"I\",K7:K104,\"A\")","v":0},{"$f":"COUNTIFS(N7:N104,\"I\",K7:K104,\"B\")","v":0},{"$f":"COUNTIFS(N7:N104,\"I\",K7:K104,\"C\")","v":0},null,null,null,null,null,null,null,"00:00:00","00:00:00",0,{"$f":"SpellNumber((AI73))","v":"No Dollars and No Cents"},3,"No "]
["00:00:00",null,null,null,null,0,null,null,0,null,null,{"$f":"IFERROR(VLOOKUP(K74,$AD$7:AE76,2,FALSE),0)","v":0},null,null,0,null,null,null,null,null,null,"J",{"$f":"COUNTIFS(N7:N104,\"J\",K7:K104,\"A\")","v":0},{"$f":"COUNTIFS(N7:N104,\"J\",K7:K104,\"B\")","v":0},{"$f":"COUNTIFS(N7:N104,\"J\",K7:K104,\"C\")","v":0},null,null,null,null,null,null,null,"00:00:00","00:00:00",0,{"$f":"SpellNumber((AI74))","v":"No Dollars and No Cents"},3,"No "]
["00:00:00",null,null,null,null,0,null,null,0,null,null,{"$f":"IFERROR(VLOOKUP(K75,$AD$7:AE77,2,FALSE),0)","v":0},null,null,0,null,null,null,null,null,null,"K",{"$f":"COUNTIFS(N7:N104,\"K\",K7:K104,\"A\")","v":0},{"$f":"COUNTIFS(N7:N104,\"K\",K7:K104,\"B\")","v":0},{"$f":"COUNTIFS(N7:N104,\"K\",K7:K104,\"C\")","v":0},null,null,null,null,null,null,null,"00:00:00","00:00:00",0,{"$f":"SpellNumber((AI75))","v":"No Dollars and No Cents"},3,"No "]
["00:00:00",null,null,null,null,0,null,null,0,null,null,{"$f":"IFERROR(VLOOKUP(K76,$AD$7:AE78,2,FALSE),0)","v":0},null,null,0,null,null,null,null,null,null,"L",{"$f":"COUNTIFS(N7:N104,\"L\",K7:K104,\"A\")","v":0},{"$f":"COUNTIFS(N7:N104,\"L\",K7:K104,\"B\")","v":0},{"$f":"COUNTIFS(N7:N104,\"L\",K7:K104,\"C\")","v":0},null,null,null,null,null,null,null,"00:00:00","00:00:00",0,{"$f":"SpellNumber((AI76))","v":"No Dollars and No Cents"},3,"No "]
["00:00:00",null,null,null,null,0,null,null,0,null,null,{"$f":"IFERROR(VLOOKUP(K77,$AD$7:AE79,2,FALSE),0)","v":0},null,null,0,null,null,null,null,null,null,null,null,null,null,null,null,null,null,null,null,null,"00:00:00","00:00:00",0,{"$f":"SpellNumber((AI77))","v":"No Dollars and No Cents"},3,"No "]
["00:00:00",null,null,null,null,0,null,null,0,null,null,{"$f":"IFERROR(VLOOKUP(K78,$AD$7:AE80,2,FALSE),0)","v":0},null,null,0,null,null,null,null,null,null,null,null,null,null,null,null,null,null,null,null,null,"00:00:00","00:00:00",0,{"$f":"SpellNumber((AI78))","v":"No Dollars and No Cents"},3,"No "]
["00:00:00",null,null,null,null,0,null,null,0,null,null,{"$f":"IFERROR(VLOOKUP(K79,$AD$7:AE81,2,FALSE),0)","v":0},null,null,0,null,null,null,null,null,null,null,null,null,null,null,null,null,null,null,null,null,"00:00:00","00:00:00",0,{"$f":"SpellNumber((AI79))","v":"No Dollars and No Cents"},3,"No "]
["00:00:00",null,null,null,null,0,null,null,0,null,null,{"$f":"IFERROR(VLOOKUP(K80,$AD$7:AE82,2,FALSE),0)","v":0},null,null,0,null,null,null,null,null,null,null,null,null,null,null,null,null,null,null,null,null,"00:00:00","00:00:00",0,{"$f":"SpellNumber((AI80))","v":"No Dollars and No Cents"},3,"No "]
["00:00:00",null,null,null,null,0,null,null,0,null,null,{"$f":"IFERROR(VLOOKUP(K81,$AD$7:AE83,2,FALSE),0)","v":0},null,null,0,null,null,null,null,null,null,null,null,null,null,null,null,null,null,null,null,null,"00:00:00","00:00:00",0,{"$f":"SpellNumber((AI81))","v":"No Dollars and No Cents"},3,"No "]
["00:00:00",null,null,null,null,0,null,null,0,null,null,{"$f":"IFERROR(VLOOKUP(K82,$AD$7:AE84,2,FALSE),0)","v":0},null,null,0,null,null,null,null,null,null,null,null,null,null,null,null,null,null,null,null,null,"00:00:00","00:00:00",0,{"$f":"SpellNumber((AI82))","v":"No Dollars and No Cents"},3,"No "]
["00:00:00",null,null,null,null,0,null,null,0,null,null,{"$f":"IFERROR(VLOOKUP(K83,$AD$7:AE85,2,FALSE),0)","v":0},null,null,0,null,null,null,null,null,null,null,null,null,null,null,null,null,null,null,null,null,"00:00:00","00:00:00",0,{"$f":"SpellNumber((AI83))","v":"No Dollars and No Cents"},3,"No "]
["00:00:00",null,null,null,null,0,null,null,0,null,null,{"$f":"IFERROR(VLOOKUP(K84,$AD$7:AE86,2,FALSE),0)","v":0},null,null,0,null,null,null,null,null,null,null,null,null,null,null,null,null,null,null,null,null,"00:00:00","00:00:00",0,{"$f":"SpellNumber((AI84))","v":"No Dollars and No Cents"},3,"No "]
["00:00:00",null,null,null,null,0,null,null,0,null,null,{"$f":"IFERROR(VLOOKUP(K85,$AD$7:AE87,2,FALSE),0)","v":0},null,null,0,null,null,null,null,null,null,null,null,null,null,null,null,null,null,null,null,null,"00:00:00","00:00:00",0,{"$f":"SpellNumber((AI85))","v":"No Dollars and No Cents"},3,"No "]
["00:00:00",null,null,null,null,0,null,null,0,null,null,{"$f":"IFERROR(VLOOKUP(K86,$AD$7:AE88,2,FALSE),0)","v":0},null,null,0,null,null,null,null,null,null,null,null,null,null,null,null,null,null,null,null,null,"00:00:00","00:00:00",0,{"$f":"SpellNumber((AI86))","v":"No Dollars and No Cents"},3,"No "]
["00:00:00",null,null,null,null,0,null,null,0,null,null,{"$f":"IFERROR(VLOOKUP(K87,$AD$7:AE89,2,FALSE),0)","v":0},null,null,0,null,null,null,null,null,null,null,null,null,null,null,null,null,null,null,null,null,"00:00:00","00:00:00",0,{"$f":"SpellNumber((AI87))","v":"No Dollars and No Cents"},3,"No "]
["00:00:00",null,null,null,null,0,null,null,0,null,null,{"$f":"IFERROR(VLOOKUP(K88,$AD$7:AE90,2,FALSE),0)","v":0},null,null,0,null,null,null,null,null,null,null,null,null,null,null,null,null,null,null,null,null,"00:00:00","00:00:00",0,{"$f":"SpellNumber((AI88))","v":"No Dollars and No Cents"},3,"No "]
["00:00:00",null,null,null,null,0,null,null,0,null,null,{"$f":"IFERROR(VLOOKUP(K89,$AD$7:AE91,2,FALSE),0)","v":0},null,null,0,null,null,null,null,null,null,null,null,null,null,null,null,null,null,null,null,null,"00:00:00","00:00:00",0,{"$f":"SpellNumber((AI89))","v":"No Dollars and No Cents"},3,"No "]
["00:00:00",null,null,null,null,0,null,null,0,null,null,{"$f":"IFERROR(VLOOKUP(K90,$AD$7:AE92,2,FALSE),0)","v":0},null,null,0,null,null,null,null,null,null,null,null,null,null,null,null,null,null,null,null,null,"00:00:00","00:00:00",0,{"$f":"SpellNumber((AI90))","v":"No Dollars and No Cents"},3,"No "]
["00:00:00",null,null,null,null,0,null,null,0,null,null,{"$f":"IFERROR(VLOOKUP(K91,$AD$7:AE93,2,FALSE),0)","v":0},null,null,0,null,null,null,"Total Mins",{"$f":"SUM(A7:A104)","v":"00:00:00"},null,null,null,null,null,null,null,null,null,null,null,null,"00:00:00","00:00:00",0,{"$f":"SpellNumber((AI91))","v":"No Dollars and No Cents"},3,"No "]
["00:00:00",null,null,null,null,0,null,null,0,null,null,{"$f":"IFERROR(VLOOKUP(K92,$AD$7:AE94,2,FALSE),0)","v":0},null,null,0,null,null,null,"Settings:","A",{"$f":"COUNTIF(E4:E104,\"A\")","v":0},"Antec.","A",{"$f":"COUNTIF(H4:H104,\"A\")","v":0},"Beh","A",{"$f":"COUNTIF(L4:L104,\"A\")","v":0},"Conse.","A",{"$f":"COUNTIF(O4:O104,\"A\")","v":0},null,null,"00:00:00","00:00:00",0,{"$f":"SpellNumber((AI92))","v":"No Dollars and No Cents"},3,"No "]
["00:00:00",null,null,null,null,0,null,null,0,null,null,{"$f":"IFERROR(VLOOKUP(K93,$AD$7:AE95,2,FALSE),0)","v":0},null,null,0,null,null,null,null,"B",{"$f":"COUNTIF(E5:E105,\"B\")","v":0},null,"B",{"$f":"COUNTIF(H5:H105,\"B\")","v":0},null,"B",{"$f":"COUNTIF(L5:L105,\"B\")","v":0},null,"B",{"$f":"COUNTIF(O5:O105,\"B\")","v":0},null,null,"00:00:00","00:00:00",0,{"$f":"SpellNumber((AI93))","v":"No Dollars and No Cents"},3,"No "]
["00:00:00",null,null,null,null,0,null,null,0,null,null,{"$f":"IFERROR(VLOOKUP(K94,$AD$7:AE96,2,FALSE),0)","v":0},null,null,0,null,null,null,null,"C",{"$f":"COUNTIF(E6:E106,\"C\")","v":0},null,"C",{"$f":"COUNTIF(H6:H106,\"C\")","v":0},null,"C",{"$f":"COUNTIF(L6:L106,\"C\")","v":0},null,"C",{"$f":"COUNTIF(O6:O106,\"C\")","v":0},null,null,"00:00:00","00:00:00",0,{"$f":"SpellNumber((AI94))","v":"No Dollars and No Cents"},3,"No "]
["00:00:00",null,null,null,null,0,null,null,0,null,null,{"$f":"IFERROR(VLOOKUP(K95,$AD$7:AE97,2,FALSE),0)","v":0},null,null,0,null,null,null,null,"D",{"$f":"COUNTIF(E7:E107,\"D\")","v":0},null,"D",{"$f":"COUNTIF(H7:H107,\"D\")","v":0},null,null,null,null,"D",{"$f":"COUNTIF(O7:O107,\"D\")","v":0},null,null,"00:00:00","00:00:00",0,{"$f":"SpellNumber((AI95))","v":"No Dollars and No Cents"},3,"No "]
["00:00:00",null,null,null,null,0,null,null,0,null,null,{"$f":"IFERROR(VLOOKUP(K96,$AD$7:AE98,2,FALSE),0)","v":0},null,null,0,null,null,null,null,"E",{"$f":"COUNTIF(E8:E108,\"E\")","v":0},null,"E",{"$f":"COUNTIF(H8:H108,\"E\")","v":0},null,null,null,null,"E",{"$f":"COUNTIF(O8:O108,\"E\")","v":0},null,null,"00:00:00","00:00:00",0,{"$f":"SpellNumber((AI96))","v":"No Dollars and No Cents"},3,"No "]
["00:00:00",null,null,null,null,0,null,null,0,null,null,{"$f":"IFERROR(VLOOKUP(K97,$AD$7:AE99,2,FALSE),0)","v":0},null,null,0,null,null,null,null,"F",{"$f":"COUNTIF(E9:E109,\"F\")","v":0},null,"F",{"$f":"COUNTIF(H9:H109,\"F\")","v":0},null,null,null,null,"F",{"$f":"COUNTIF(O9:O109,\"F\")","v":0},null,null,"00:00:00","00:00:00",0,{"$f":"SpellNumber((AI97))","v":"No Dollars and No Cents"},3,"No "]
["00:00:00",null,null,null,null,0,null,null,0,null,null,{"$f":"IFERROR(VLOOKUP(K98,$AD$7:AE100,2,FALSE),0)","v":0},null,null,0,null,null,null,null,"G",{"$f":"COUNTIF(E10:E110,\"G\")","v":0},null,"G",{"$f":"COUNTIF(H10:H110,\"G\")","v":0},null,null,null,null,"G",{"$f":"COUNTIF(O10:O110,\"G\")","v":0},null,null,"00:00:00","00:00:00",0,{"$f":"SpellNumber((AI98))","v":"No Dollars and No Cents"},3,"No "]
["00:00:00",null,null,null,null,0,null,null,0,null,null,{"$f":"IFERROR(VLOOKUP(K99,$AD$7:AE101,2,FALSE),0)","v":0},null,null,0,null,null,null,null,"H",{"$f":"COUNTIF(E11:E111,\"H\")","v":0},null,"H",{"$f":"COUNTIF(H11:H111,\"H\")","v":0},null,null,null,null,"H",{"$f":"COUNTIF(O11:O111,\"H\")","v":0},null,null,"00:00:00","00:00:00",0,{"$f":"SpellNumber((AI99))","v":"No Dollars and No Cents"},3,"No "]
["00:00:00",null,null,null,null,0,null,null,0,null,null,{"$f":"IFERROR(VLOOKUP(K100,$AD$7:AE102,2,FALSE),0)","v":0},null,null,0,null,null,null,null,"I",{"$f":"COUNTIF(E12:E112,\"I\")","v":0},null,"I",{"$f":"COUNTIF(H12:H112,\"I\")","v":0},null,null,null,null,"I",{"$f":"COUNTIF(O12:O112,\"I\")","v":0},null,null,"00:00:00","00:00:00",0,{"$f":"SpellNumber((AI100))","v":"No Dollars and No Cents"},3,"No "]
["00:00:00",null,null,null,null,0,null,null,0,null,null,{"$f":"IFERROR(VLOOKUP(K101,$AD$7:AE103,2,FALSE),0)","v":0},null,null,0,null,null,null,null,"J",{"$f":"COUNTIF(E13:E113,\"J\")","v":0},null,"J",{"$f":"COUNTIF(H13:H113,\"J\")","v":0},null,null,null,null,"J",{"$f":"COUNTIF(O13:O113,\"J\")","v":0},null,null,"00:00:00","00:00:00",0,{"$f":"SpellNumber((AI101))","v":"No Dollars and No Cents"},3,"No "]
["00:00:00",null,null,null,null,0,null,null,0,null,null,{"$f":"IFERROR(VLOOKUP(K102,$AD$7:AE104,2,FALSE),0)","v":0},null,null,0,null,null,null,null,"K",{"$f":"COUNTIF(E14:E114,\"K\")","v":0},null,"K",{"$f":"COUNTIF(H14:H114,\"K\")","v":0},null,null,null,null,"K",{"$f":"COUNTIF(O14:O114,\"K\")","v":0},null,null,"00:00:00","00:00:00",0,{"$f":"SpellNumber((AI102))","v":"No Dollars and No Cents"},3,"No "]
["00:00:00",null,null,null,null,0,null,null,0,null,null,{"$f":"IFERROR(VLOOKUP(K103,$AD$7:AE105,2,FALSE),0)","v":0},null,null,0,null,null,null,null,"L",{"$f":"COUNTIF(E15:E115,\"L\")","v":0},null,"L",{"$f":"COUNTIF(H15:H115,\"L\")","v":0},null,null,null,null,"L",{"$f":"COUNTIF(O15:O115,\"L\")","v":0},null,null,"00:00:00","00:00:00",0,{"$f":"SpellNumber((AI103))","v":"No Dollars and No Cents"},3,"No "]
["00:00:00",null,null,null,null,0,null,null,0,null,null,{"$f":"IFERROR(VLOOKUP(K104,$AD$7:AE106,2,FALSE),0)","v":0},null,null,0,null,null,null,null,null,null,null,null,null,null,null,null,null,null,null,null,null,"00:00:00","00:00:00",0,{"$f":"SpellNumber((AI104))","v":"No Dollars and No Cents"},3,"No "]