Workbook
Name _ftn1: 'Reference Tables'!$B$5
Name _ftn2: 'Reference Tables'!$B$6
Name _ftn3: 'Reference Tables'!$B$7
Name _ftnref3: 'Reference Tables'!$B$49
Name Commercial_MemberMonths_2024: 'Validation by Market'!$B$25
Name Commercial_MemberMonths_2025: 'Validation by Market'!$C$25
Name ICC1_MemberMonths_2024: 'Validation by Market'!$G$54
Name ICC1_MemberMonths_2025: 'Validation by Market'!$H$54
Name ICC2_MemberMonths_2024: 'Validation by Market'!$G$83
Name ICC2_MemberMonths_2025: 'Validation by Market'!$H$83
Name ICC3_MemberMonths_2024: 'Validation by Market'!$G$25
Name ICC3_MemberMonths_2025: 'Validation by Market'!$H$25
Name ICC4_MemberMonths_2024: 'Validation by Market'!$L$25
Name ICC4_MemberMonths_2025: 'Validation by Market'!$M$25
Name ICC5_MemberMonths_2024: 'Validation by Market'!$L$54
Name ICC5_MemberMonths_2025: 'Validation by Market'!$M$54
Name ICC6_MemberMonths_2024: 'Validation by Market'!$L$83
Name ICC6_MemberMonths_2025: 'Validation by Market'!$M$83
Name ICC7_MemberMonths_2024: 'Validation by Market'!$Q$25
Name ICC7_MemberMonths_2025: 'Validation by Market'!$R$25
Name ICC8_MemberMonths_2024: 'Validation by Market'!$Q$54
Name ICC8_MemberMonths_2025: 'Validation by Market'!$R$54
Name Insurer_Code: 'Data Validation Checks'!$B$7
Name Medicaid_MemberMonths_2024: 'Validation by Market'!$B$83
Name Medicaid_MemberMonths_2025: 'Validation by Market'!$C$83
Name Medicare_MemberMonths_2024: 'Validation by Market'!$B$54
Name Medicare_MemberMonths_2025: 'Validation by Market'!$C$54

Sheet Validation Report
A1: Validation Report
A2: ='1. Cover Page'!C17 -> 0
A3: Benchmark Data Submission ###nn##
A5: Carriers are receiving this report to provide feedback on their submission of cost growth benchmark data. This tab includes two tables:
A7: • Validation Overview summarizes the results and status of the data validation checks.
A8: • Findings Log details the specific data for which we identified errors or potential issues that may require clarification or confirmation from the carrier; please follow the guidance under the Carrier Instructions column to remediate any error(s) or potential issue(s).
A11: Important Notes:
A12: ̶ For more information on fixing data described in the Findings Log table below, please see the Data Submission and Validation Process section of the Carrier Benchmark Data Submission Guide.
A13: ̶ DOBI performs validation checks in stages, described further in the Guide; therefore, additional findings in your next submission may be uncovered.
A14: ̶ If the validation checks identified more than one issue in the same row of data, the Findings Log table will show each issue in a separate row; therefore, the table may list the same row of data more than once.
A15: ̶ Due date for resubmission: Please resubmit using this file or the most recent version of the Template within two weeks of receiving this report.
A16: ̶ Questions? For questions or requests to discuss issue remediation and timelines, please contact CarrierDataSubmission@dobi.nj.gov.
A19: Validation Overview
A20: Result | B20: Check Category | C20: Comment
A45: Findings Log
A46: File, Tab, or Row ID | B46: Check Category | C46: Carrier Instructions | D46: Feedback from Carrier

Sheet Contents
A1: New Jersey Health Care Cost Growth Target Benchmark Program
A2: Carrier Benchmark Data Submission Template
A3: Version 4.0 (2024-2025 Reporting Cycle)
A5: Introduction
A6: This Carrier Benchmark Data Submission Template is for commercial carriers to submit total medical expenses (TME) and other required information to the New Jersey (NJ) Department of Banking and Insurance (DOBI). DOBI is collecting these data for each annual health care cost growth benchmark reporting cycle as part of the Health Care Affordability, Responsibility, and Transparency (HART) Program.
A8: Note: The State requires carriers to correct and resubmit data in this Template if it does not adhere to the requirements in the Carrier Benchmark Data Submission Guide (that is, failure to follow requirements will result in state's non-acceptance of the data submission).
A11: Tab Overview
A12: This workbook contains the worksheet tabs described in the table below.
A13: Tab Name | B13: Contents
A14: Contents | B14: Current tab that provides an overview of the Template.
A15: Reference Tables | B15: Lookup and mapping tables for the data fields in tabs two through six that have codified values to categorize data.
A16: 1. Cover Page | B16: Carrier inputs their organization name and contact information for the individual(s) who the state will connect with for data validation questions and feedback.
A17: 2. Total Medical Expenses | B17: Carrier inputs member months, claims payment amounts, and non-claims payment amounts for all members who were NJ residents by insurance category and large provider entity for each reporting year.
A18: 3. Age and Sex Factors | B18: Carrier inputs member months and claims payment amounts by insurance category, large provider entity, age group, and sex for each reporting year.
A19: 4. Standard Deviation | B19: Carrier inputs member months, claims payment amounts, and standard deviation per member per month (PMPM) by market and large provider entity for each reporting year.
A20: 5. Line of Business Enrollment | B20: Carrier inputs member months by line of business (LOB) category for each reporting year.
A21: 6. Pharmacy Rebates | B21: Carrier inputs drug rebate amounts by insurance category for each reporting year.
A22: 7. Mandatory Questions | B22: After completing input tabs one through six, carrier attests they are submitting data that is accurate and complete, and responds to questions about the data they entered in the input tabs.
A23: Data Validation Checks | B23: Carrier reviews tables in tabs prior to submission to confirm consistency and reasonableness of data across and within tabs.
A24: Validation by Market | B24: Carrier reviews tables in tabs prior to submission to confirm accuracy of calculated member month and PMPM spending trends by payment service category for each market and insurance category.
A25: Validation by Provider | B25: Carrier reviews tables in tabs prior to submission to confirm accuracy of calculated member months and PMPM spending trends by provider entity for each market and insurance category.
A28: Version History
A29: For the list of updates and changes to this Template, please see the Version History section in the Carrier Benchmark Data Submission Guide posted to the following sites:
A30: • DOH OHCAT webpage: https://www.nj.gov/health/about/organization/offices/ohcat/#implementation-resources • Benchmark Data Submission Site (requires login, see the Access to the Benchmark Data Submission Site subsection in the Guide for more info): https://sonj.sharepoint.com/sites/DOBI-HART/General%20Information

Sheet Reference Tables
A1: Reference Tables
A2: This tab includes lookup and mapping tables for the row ID fields in input tabs two through six. The row ID fields are a combination of data elements that have a set of valid value options or category codes. For more information on the row ID fields that uniquely identify records, please see the Reporting Categories subsection in the Carrier Benchmark Data Submission Guide.
A4: Insurer Code Valid Values
A5: Insurer Code | B5: Description
A6: 201 | B6: Aetna Better Health
A7: 202 | B7: Amerigroup/ Wellpoint
A8: 203 | B8: AmeriHealth Insurance Co.
A9: 204 | B9: Cigna Health & Life Insurance Co.
A10: 205 | B10: Horizon Healthcare of New Jersey
A11: 206 | B11: United HealthCare Insurance Co.
A12: 207 | B12: WellCare Health Plans of NJ, Inc./ Fidelis Care
A14: Reporting Year Valid Values
A15: Reporting Year | B15: Description
A16: 2024 | B16: Calendar year of data
A17: 2025 | B17: Calendar year of data
A19: Insurance Category Code Valid Values
A20: Insurance Category Code | B20: Description
A21: 1 | B21: MA non-dual eligible members (excluding SHBP & SEHBP members)
A22: 2 | B22: Medicaid MCO non-dual eligible members
A23: 3 | B23: Commercial full claims members (excluding SHBP & SEHBP members)
A24: 4 | B24: Commercial partial claims members (excluding SHBP & SEHBP members)
A25: 5 | B25: MA dual eligible members
A26: 6 | B26: Medicaid MCO dual eligible members
A27: 7 | B27: Commercial SHBP & SEHBP members
A28: 8 | B28: MA SHBP & SEHBP members
A30: Large Provider Entity Code Valid Values
A31: Large Provider Entity Code | B31: Description
A32: 100 | B32: Carrier overall
A33: 101 | B33: Advocare
A34: 102 | B34: Aledade/ NJ MSSP Enhanced
A35: 104 | B35: AtlantiCare Health Solutions, Inc./ AtlantiCare
A36: 105 | B36: Capital Health/ Capital Health Accountable Care Organization, LLC
A37: 106 | B37: ColigoCare/ Valley Health System
A38: 107 | B38: Cooper University Health Care/ AllCare Health Alliance
A39: 108 | B39: Englewood Health Medical Center
A40: 109 | B40: Hackensack Alliance ACO/ Hackensack Meridian Health/ Hackensack Meridian Health Partners/ Meridian ACO, LLC
A41: 110 | B41: Hunterdon Healthcare
A42: 111 | B42: Inspira Care Connect, LLC/ Inspira Health Network
A43: 112 | B43: Partners in Care ACO/ Continuum Health Alliance
... A56: 999 | B56: Unattributed
...

Sheet 1. Cover Page
A1: 1. Cover Page
A2: Insurers must complete this tab following the specifications and requirements in the Carrier Benchmark Data Submission Guide (the Guide).
A4: Insurers must also submit this completed template with the following case sensitive naming convention: Dyyyy_Innn_Vnn_TME.xlsx, where:
A6: • “Dyyyy” is the four-digit year (yyyy) when DOBI issued the data request to carriers (i.e., use “2023” for the pre-benchmark submission, “2024” for the transition year and PY1 submission, and so on).
A7: • “Innn” is the three-digit Insurer Code (see the Reference Tables tab for the Insurer Codes).
A8: • “Vnn” is the submission number (i.e., use “V01” for first submission, “V02” if first submission requires corrections, and so on).
A9: • “.xlsx” is the required file extension to use when saving and submitting this file.
A11: Gray text in cells indicates the field ID
A12: Green cells indicate field requires input.
A13: Yellow cells indicate input is optional.
B16: Contact Information
A17: CP01 | B17: Insurer Name
A18: CP02 | B18: Primary Contact Name
A19: CP03 | B19: Primary Contact Email
A20: CP04 | B20: Secondary Contact Name (Optional)
A21: CP05 | B21: Secondary Contact Email (Optional)

Sheet 2. Total Medical Expenses
A1: 2. Total Medical Expenses (TME)
A2: Insurers must complete this tab following the specifications and requirements in the Carrier Benchmark Data Submission Guide.
A4: Gray text in cells indicates the field ID
A5: Dark green cells indicate row ID fields that must contain values that uniquely identify each row of data (i.e., the combination of Insurer Code, Reporting Year, Insurance Category Code, and Large Provider Entity Code must be unique in each row).
A6: Green cells indicate field requires input.
A7: Blue cell indicates template calculates value.
A8: Red cells indicate data does not meet requirements (see the Benchmark Data Submission Guide for more details), but note if carriers copy and paste data into template, it may override the data validation checks that highlight cells when there are issues.
A10: TM01 | B10: TM02 | C10: TM03 | D10: TM04 | E10: TM05 | F10: TM06 | G10: TM07 | H10: TM08 | I10: TM09 | J10: TM10 | K10: TM11 | L10: TM12 | M10: TM13 | N10: TM14 | O10: TM15 | P10: TM16 | Q10: TM17 | R10: TM18 | S10: TM19 | T10: TM20 | U10: TM21 | V10: TM22 | W10: TM23 | X10: TM24 | Y10: TM25 | Z10: TM26 | AA10: TM27 | AB10: TM28 | AC10: TM29
A11: Insurer Code | B11: Reporting Year | C11: Insurance Category Code | D11: Large Provider Entity Code | E11: Member Months | F11: Claims: Hospital Inpatient | G11: Claims: Hospital Outpatient | H11: Claims: Professional, Primary Care Providers | I11: Claims: Professional, Specialty Providers | J11: Claims: Professional, Other Providers | K11: Claims: Long-Term Care | L11: Claims: Retail Pharmacy | M11: Claims: Other | N11: Non-Claims: Capitation or Bundled Arrangements | O11: Non-Claims: Performance Incentives | P11: Non-Claims: Pop Health and Practice Infrastructure | Q11: Non-Claims: Provider Salaries | R11: Non-Claims: Recovery | S11: Non-Claims: Other | T11: Non-Claims: Total Primary Care | U11: Claims Amount Excluded Due to Truncation | V11: Member Count with Truncated Claims | W11: Total Non-Truncated Claims Spending | X11: Total Non-Claims Spending | Y11: Total Non-Truncated Claims and Non-Claims Spending | Z11: Total Truncated Claims Spending | AA11: Total Truncated Expenses | AB11: Non-Truncated TME PMPM | AC11: Truncated TME PMPM | AE11: Row ID
W12: =SUM(F12:M12) -> 0 | X12: =SUM(N12:S12) -> 0 | Y12: =W12+X12 -> 0 | Z12: =W12-U12 -> 0 | AA12: =Z12+X12 -> 0 | AB12: =Y12/E12 -> #DIV/0! | AC12: =AA12/E12 -> #DIV/0! | AE12: =AF12&TM[[#This Row],[Insurer Code]]&"; "&AG12&TM[[#This Row],[Reporting Year]]&"; "&AH12&TM[[#This Row],[Insurance Category Code]]&"; "&AI12&TM[[#This Row],[Large Provider Entity Code]] -> Insurer Code ; Reporting Year ; Insurance Category Code ; Large Provider Entity Code | AF12: Insurer Code | AG12: Reporting Year | AH12: Insurance Category Code | AI12: Large Provider Entity Code
W13: =SUM(F13:M13) -> 0 | X13: =SUM(N13:S13) -> 0 | Y13: =W13+X13 -> 0 | Z13: =W13-U13 -> 0 | AA13: =Z13+X13 -> 0 | AB13: =Y13/E13 -> #DIV/0! | AC13: =AA13/E13 -> #DIV/0! | AE13: =AF13&TM[[#This Row],[Insurer Code]]&"; "&AG13&TM[[#This Row],[Reporting Year]]&"; "&AH13&TM[[#This Row],[Insurance Category Code]]&"; "&AI13&TM[[#This Row],[Large Provider Entity Code]] -> Insurer Code ; Reporting Year ; Insurance Category Code ; Large Provider Entity Code | AF13: Insurer Code | AG13: Reporting Year | AH13: Insurance Category Code | AI13: Large Provider Entity Code
W14: =SUM(F14:M14) -> 0 | X14: =SUM(N14:S14) -> 0 | Y14: =W14+X14 -> 0 | Z14: =W14-U14 -> 0 | AA14: =Z14+X14 -> 0 | AB14: =Y14/E14 -> #DIV/0! | AC14: =AA14/E14 -> #DIV/0! | AE14: =AF14&TM[[#This Row],[Insurer Code]]&"; "&AG14&TM[[#This Row],[Reporting Year]]&"; "&AH14&TM[[#This Row],[Insurance Category Code]]&"; "&AI14&TM[[#This Row],[Large Provider Entity Code]] -> Insurer Code ; Reporting Year ; Insurance Category Code ; Large Provider Entity Code | AF14: Insurer Code | AG14: Reporting Year | AH14: Insurance Category Code | AI14: Large Provider Entity Code
W15: =SUM(F15:M15) -> 0 | X15: =SUM(N15:S15) -> 0 | Y15: =W15+X15 -> 0 | Z15: =W15-U15 -> 0 | AA15: =Z15+X15 -> 0 | AB15: =Y15/E15 -> #DIV/0! | AC15: =AA15/E15 -> #DIV/0! | AE15: =AF15&TM[[#This Row],[Insurer Code]]&"; "&AG15&TM[[#This Row],[Reporting Year]]&"; "&AH15&TM[[#This Row],[Insurance Category Code]]&"; "&AI15&TM[[#This Row],[Large Provider Entity Code]] -> Insurer Code ; Reporting Year ; Insurance Category Code ; Large Provider Entity Code | AF15: Insurer Code | AG15: Reporting Year | AH15: Insurance Category Code | AI15: Large Provider Entity Code
W16: =SUM(F16:M16) -> 0 | X16: =SUM(N16:S16) -> 0 | Y16: =W16+X16 -> 0 | Z16: =W16-U16 -> 0 | AA16: =Z16+X16 -> 0 | AB16: =Y16/E16 -> #DIV/0! | AC16: =AA16/E16 -> #DIV/0! | AE16: =AF16&TM[[#This Row],[Insurer Code]]&"; "&AG16&TM[[#This Row],[Reporting Year]]&"; "&AH16&TM[[#This Row],[Insurance Category Code]]&"; "&AI16&TM[[#This Row],[Large Provider Entity Code]] -> Insurer Code ; Reporting Year ; Insurance Category Code ; Large Provider Entity Code | AF16: Insurer Code | AG16: Reporting Year | AH16: Insurance Category Code | AI16: Large Provider Entity Code
W17: =SUM(F17:M17) -> 0 | X17: =SUM(N17:S17) -> 0 | Y17: =W17+X17 -> 0 | Z17: =W17-U17 -> 0 | AA17: =Z17+X17 -> 0 | AB17: =Y17/E17 -> #DIV/0! | AC17: =AA17/E17 -> #DIV/0! | AE17: =AF17&TM[[#This Row],[Insurer Code]]&"; "&AG17&TM[[#This Row],[Reporting Year]]&"; "&AH17&TM[[#This Row],[Insurance Category Code]]&"; "&AI17&TM[[#This Row],[Large Provider Entity Code]] -> Insurer Code ; Reporting Year ; Insurance Category Code ; Large Provider Entity Code | AF17: Insurer Code | AG17: Reporting Year | AH17: Insurance Category Code | AI17: Large Provider Entity Code
W18: =SUM(F18:M18) -> 0 | X18: =SUM(N18:S18) -> 0 | Y18: =W18+X18 -> 0 | Z18: =W18-U18 -> 0 | AA18: =Z18+X18 -> 0 | AB18: =Y18/E18 -> #DIV/0! | AC18: =AA18/E18 -> #DIV/0! | AE18: =AF18&TM[[#This Row],[Insurer Code]]&"; "&AG18&TM[[#This Row],[Reporting Year]]&"; "&AH18&TM[[#This Row],[Insurance Category Code]]&"; "&AI18&TM[[#This Row],[Large Provider Entity Code]] -> Insurer Code ; Reporting Year ; Insurance Category Code ; Large Provider Entity Code | AF18: Insurer Code | AG18: Reporting Year | AH18: Insurance Category Code | AI18: Large Provider Entity Code
W19: =SUM(F19:M19) -> 0 | X19: =SUM(N19:S19) -> 0 | Y19: =W19+X19 -> 0 | Z19: =W19-U19 -> 0 | AA19: =Z19+X19 -> 0 | AB19: =Y19/E19 -> #DIV/0! | AC19: =AA19/E19 -> #DIV/0! | AE19: =AF19&TM[[#This Row],[Insurer Code]]&"; "&AG19&TM[[#This Row],[Reporting Year]]&"; "&AH19&TM[[#This Row],[Insurance Category Code]]&"; "&AI19&TM[[#This Row],[Large Provider Entity Code]] -> Insurer Code ; Reporting Year ; Insurance Category Code ; Large Provider Entity Code | AF19: Insurer Code | AG19: Reporting Year | AH19: Insurance Category Code | AI19: Large Provider Entity Code
W20: =SUM(F20:M20) -> 0 | X20: =SUM(N20:S20) -> 0 | Y20: =W20+X20 -> 0 | Z20: =W20-U20 -> 0 | AA20: =Z20+X20 -> 0 | AB20: =Y20/E20 -> #DIV/0! | AC20: =AA20/E20 -> #DIV/0! | AE20: =AF20&TM[[#This Row],[Insurer Code]]&"; "&AG20&TM[[#This Row],[Reporting Year]]&"; "&AH20&TM[[#This Row],[Insurance Category Code]]&"; "&AI20&TM[[#This Row],[Large Provider Entity Code]] -> Insurer Code ; Reporting Year ; Insurance Category Code ; Large Provider Entity Code | AF20: Insurer Code | AG20: Reporting Year | AH20: Insurance Category Code | AI20: Large Provider Entity Code
W21: =SUM(F21:M21) -> 0 | X21: =SUM(N21:S21) -> 0 | Y21: =W21+X21 -> 0 | Z21: =W21-U21 -> 0 | AA21: =Z21+X21 -> 0 | AB21: =Y21/E21 -> #DIV/0! | AC21: =AA21/E21 -> #DIV/0! | AE21: =AF21&TM[[#This Row],[Insurer Code]]&"; "&AG21&TM[[#This Row],[Reporting Year]]&"; "&AH21&TM[[#This Row],[Insurance Category Code]]&"; "&AI21&TM[[#This Row],[Large Provider Entity Code]] -> Insurer Code ; Reporting Year ; Insurance Category Code ; Large Provider Entity Code | AF21: Insurer Code | AG21: Reporting Year | AH21: Insurance Category Code | AI21: Large Provider Entity Code
W22: =SUM(F22:M22) -> 0 | X22: =SUM(N22:S22) -> 0 | Y22: =W22+X22 -> 0 | Z22: =W22-U22 -> 0 | AA22: =Z22+X22 -> 0 | AB22: =Y22/E22 -> #DIV/0! | AC22: =AA22/E22 -> #DIV/0! | AE22: =AF22&TM[[#This Row],[Insurer Code]]&"; "&AG22&TM[[#This Row],[Reporting Year]]&"; "&AH22&TM[[#This Row],[Insurance Category Code]]&"; "&AI22&TM[[#This Row],[Large Provider Entity Code]] -> Insurer Code ; Reporting Year ; Insurance Category Code ; Large Provider Entity Code | AF22: Insurer Code | AG22: Reporting Year | AH22: Insurance Category Code | AI22: Large Provider Entity Code
W23: =SUM(F23:M23) -> 0 | X23: =SUM(N23:S23) -> 0 | Y23: =W23+X23 -> 0 | Z23: =W23-U23 -> 0 | AA23: =Z23+X23 -> 0 | AB23: =Y23/E23 -> #DIV/0! | AC23: =AA23/E23 -> #DIV/0! | AE23: =AF23&TM[[#This Row],[Insurer Code]]&"; "&AG23&TM[[#This Row],[Reporting Year]]&"; "&AH23&TM[[#This Row],[Insurance Category Code]]&"; "&AI23&TM[[#This Row],[Large Provider Entity Code]] -> Insurer Code ; Reporting Year ; Insurance Category Code ; Large Provider Entity Code | AF23: Insurer Code | AG23: Reporting Year | AH23: Insurance Category Code | AI23: Large Provider Entity Code
... W411: =SUM(F411:M411) -> 0 | X411: =SUM(N411:S411) -> 0 | Y411: =W411+X411 -> 0 | Z411: =W411-U411 -> 0 | AA411: =Z411+X411 -> 0 | AB411: =Y411/E411 -> #DIV/0! | AC411: =AA411/E411 -> #DIV/0! | AE411: =AF411&TM[[#This Row],[Insurer Code]]&"; "&AG411&TM[[#This Row],[Reporting Year]]&"; "&AH411&TM[[#This Row],[Insurance Category Code]]&"; "&AI411&TM[[#This Row],[Large Provider Entity Code]] -> Insurer Code ; Reporting Year ; Insurance Category Code ; Large Provider Entity Code | AF411: Insurer Code | AG411: Reporting Year | AH411: Insurance Category Code | AI411: Large Provider Entity Code

Sheet 3. Age and Sex Factors 
A1: 3. Age and Sex Factors
A2: Insurers must complete this tab following the specifications and requirements in the Carrier Benchmark Data Submission Guide.
A4: Gray text in cells indicates the field ID
A5: Dark green cells indicate row ID fields that must contain values that uniquely identify each row of data (i.e., the combination of Insurer Code, Reporting Year, Insurance Category Code, Large Provider Entity Code, Age Band Code, and Sex Code must be unique in each row).
A6: Green cells indicate field requires input.
A7: Red cells indicate data does not meet requirements (see the Benchmark Data Submission Guide for more details), but note if carriers copy and paste data into template, it may override the data validation checks that highlight cells when there are issues.
A10: AS01 | B10: AS02 | C10: AS03 | D10: AS04 | E10: AS05 | F10: AS06 | G10: AS07 | H10: AS08 | I10: AS09 | J10: AS10 | K10: AS11
A11: Insurer Code | B11: Reporting Year | C11: Insurance Category Code | D11: Large Provider Entity Code | E11: Age Band Code | F11: Sex Code | G11: Member Months | H11: Claims Amount Excluded Due to Truncation | I11: Member Count with Truncated Claims | J11: Total Non-Truncated Claims Spending | K11: Total Truncated Claims Spending | M11: Row ID
M12: =N12&AS[[#This Row],[Insurer Code]]&"; "&O12&AS[[#This Row],[Reporting Year]]&"; "&P12&AS[[#This Row],[Insurance Category Code]]&"; "&Q12&AS[[#This Row],[Large Provider Entity Code]]&"; "&R12&AS[[#This Row],[Age Band Code]]&"; "&S12&AS[[#This Row],[Sex Code]] -> Insurer Code ; Reporting Year ; Insurance Category Code ; Large Provider Entity Code ; Age Band Code ; Sex Code | N12: Insurer Code | O12: Reporting Year | P12: Insurance Category Code | Q12: Large Provider Entity Code | R12: Age Band Code | S12: Sex Code
M13: =N13&AS[[#This Row],[Insurer Code]]&"; "&O13&AS[[#This Row],[Reporting Year]]&"; "&P13&AS[[#This Row],[Insurance Category Code]]&"; "&Q13&AS[[#This Row],[Large Provider Entity Code]]&"; "&R13&AS[[#This Row],[Age Band Code]]&"; "&S13&AS[[#This Row],[Sex Code]] -> Insurer Code ; Reporting Year ; Insurance Category Code ; Large Provider Entity Code ; Age Band Code ; Sex Code | N13: Insurer Code | O13: Reporting Year | P13: Insurance Category Code | Q13: Large Provider Entity Code | R13: Age Band Code | S13: Sex Code
M14: =N14&AS[[#This Row],[Insurer Code]]&"; "&O14&AS[[#This Row],[Reporting Year]]&"; "&P14&AS[[#This Row],[Insurance Category Code]]&"; "&Q14&AS[[#This Row],[Large Provider Entity Code]]&"; "&R14&AS[[#This Row],[Age Band Code]]&"; "&S14&AS[[#This Row],[Sex Code]] -> Insurer Code ; Reporting Year ; Insurance Category Code ; Large Provider Entity Code ; Age Band Code ; Sex Code | N14: Insurer Code | O14: Reporting Year | P14: Insurance Category Code | Q14: Large Provider Entity Code | R14: Age Band Code | S14: Sex Code
M15: =N15&AS[[#This Row],[Insurer Code]]&"; "&O15&AS[[#This Row],[Reporting Year]]&"; "&P15&AS[[#This Row],[Insurance Category Code]]&"; "&Q15&AS[[#This Row],[Large Provider Entity Code]]&"; "&R15&AS[[#This Row],[Age Band Code]]&"; "&S15&AS[[#This Row],[Sex Code]] -> Insurer Code ; Reporting Year ; Insurance Category Code ; Large Provider Entity Code ; Age Band Code ; Sex Code | N15: Insurer Code | O15: Reporting Year | P15: Insurance Category Code | Q15: Large Provider Entity Code | R15: Age Band Code | S15: Sex Code
M16: =N16&AS[[#This Row],[Insurer Code]]&"; "&O16&AS[[#This Row],[Reporting Year]]&"; "&P16&AS[[#This Row],[Insurance Category Code]]&"; "&Q16&AS[[#This Row],[Large Provider Entity Code]]&"; "&R16&AS[[#This Row],[Age Band Code]]&"; "&S16&AS[[#This Row],[Sex Code]] -> Insurer Code ; Reporting Year ; Insurance Category Code ; Large Provider Entity Code ; Age Band Code ; Sex Code | N16: Insurer Code | O16: Reporting Year | P16: Insurance Category Code | Q16: Large Provider Entity Code | R16: Age Band Code | S16: Sex Code
M17: =N17&AS[[#This Row],[Insurer Code]]&"; "&O17&AS[[#This Row],[Reporting Year]]&"; "&P17&AS[[#This Row],[Insurance Category Code]]&"; "&Q17&AS[[#This Row],[Large Provider Entity Code]]&"; "&R17&AS[[#This Row],[Age Band Code]]&"; "&S17&AS[[#This Row],[Sex Code]] -> Insurer Code ; Reporting Year ; Insurance Category Code ; Large Provider Entity Code ; Age Band Code ; Sex Code | N17: Insurer Code | O17: Reporting Year | P17: Insurance Category Code | Q17: Large Provider Entity Code | R17: Age Band Code | S17: Sex Code
M18: =N18&AS[[#This Row],[Insurer Code]]&"; "&O18&AS[[#This Row],[Reporting Year]]&"; "&P18&AS[[#This Row],[Insurance Category Code]]&"; "&Q18&AS[[#This Row],[Large Provider Entity Code]]&"; "&R18&AS[[#This Row],[Age Band Code]]&"; "&S18&AS[[#This Row],[Sex Code]] -> Insurer Code ; Reporting Year ; Insurance Category Code ; Large Provider Entity Code ; Age Band Code ; Sex Code | N18: Insurer Code | O18: Reporting Year | P18: Insurance Category Code | Q18: Large Provider Entity Code | R18: Age Band Code | S18: Sex Code
M19: =N19&AS[[#This Row],[Insurer Code]]&"; "&O19&AS[[#This Row],[Reporting Year]]&"; "&P19&AS[[#This Row],[Insurance Category Code]]&"; "&Q19&AS[[#This Row],[Large Provider Entity Code]]&"; "&R19&AS[[#This Row],[Age Band Code]]&"; "&S19&AS[[#This Row],[Sex Code]] -> Insurer Code ; Reporting Year ; Insurance Category Code ; Large Provider Entity Code ; Age Band Code ; Sex Code | N19: Insurer Code | O19: Reporting Year | P19: Insurance Category Code | Q19: Large Provider Entity Code | R19: Age Band Code | S19: Sex Code
M20: =N20&AS[[#This Row],[Insurer Code]]&"; "&O20&AS[[#This Row],[Reporting Year]]&"; "&P20&AS[[#This Row],[Insurance Category Code]]&"; "&Q20&AS[[#This Row],[Large Provider Entity Code]]&"; "&R20&AS[[#This Row],[Age Band Code]]&"; "&S20&AS[[#This Row],[Sex Code]] -> Insurer Code ; Reporting Year ; Insurance Category Code ; Large Provider Entity Code ; Age Band Code ; Sex Code | N20: Insurer Code | O20: Reporting Year | P20: Insurance Category Code | Q20: Large Provider Entity Code | R20: Age Band Code | S20: Sex Code
M21: =N21&AS[[#This Row],[Insurer Code]]&"; "&O21&AS[[#This Row],[Reporting Year]]&"; "&P21&AS[[#This Row],[Insurance Category Code]]&"; "&Q21&AS[[#This Row],[Large Provider Entity Code]]&"; "&R21&AS[[#This Row],[Age Band Code]]&"; "&S21&AS[[#This Row],[Sex Code]] -> Insurer Code ; Reporting Year ; Insurance Category Code ; Large Provider Entity Code ; Age Band Code ; Sex Code | N21: Insurer Code | O21: Reporting Year | P21: Insurance Category Code | Q21: Large Provider Entity Code | R21: Age Band Code | S21: Sex Code
M22: =N22&AS[[#This Row],[Insurer Code]]&"; "&O22&AS[[#This Row],[Reporting Year]]&"; "&P22&AS[[#This Row],[Insurance Category Code]]&"; "&Q22&AS[[#This Row],[Large Provider Entity Code]]&"; "&R22&AS[[#This Row],[Age Band Code]]&"; "&S22&AS[[#This Row],[Sex Code]] -> Insurer Code ; Reporting Year ; Insurance Category Code ; Large Provider Entity Code ; Age Band Code ; Sex Code | N22: Insurer Code | O22: Reporting Year | P22: Insurance Category Code | Q22: Large Provider Entity Code | R22: Age Band Code | S22: Sex Code
M23: =N23&AS[[#This Row],[Insurer Code]]&"; "&O23&AS[[#This Row],[Reporting Year]]&"; "&P23&AS[[#This Row],[Insurance Category Code]]&"; "&Q23&AS[[#This Row],[Large Provider Entity Code]]&"; "&R23&AS[[#This Row],[Age Band Code]]&"; "&S23&AS[[#This Row],[Sex Code]] -> Insurer Code ; Reporting Year ; Insurance Category Code ; Large Provider Entity Code ; Age Band Code ; Sex Code | N23: Insurer Code | O23: Reporting Year | P23: Insurance Category Code | Q23: Large Provider Entity Code | R23: Age Band Code | S23: Sex Code
... M6411: =N6411&AS[[#This Row],[Insurer Code]]&"; "&O6411&AS[[#This Row],[Reporting Year]]&"; "&P6411&AS[[#This Row],[Insurance Category Code]]&"; "&Q6411&AS[[#This Row],[Large Provider Entity Code]]&"; "&R6411&AS[[#This Row],[Age Band Code]]&"; "&S6411&AS[[#This Row],[Sex Code]] -> Insurer Code ; Reporting Year ; Insurance Category Code ; Large Provider Entity Code ; Age Band Code ; Sex Code | N6411: Insurer Code | O6411: Reporting Year | P6411: Insurance Category Code | Q6411: Large Provider Entity Code | R6411: Age Band Code | S6411: Sex Code

Sheet 4. Standard Deviation
A1: 4. Standard Deviation (SD)
A2: Insurers must complete this tab following the specifications and requirements in the Carrier Benchmark Data Submission Guide.
A4: Gray text in cells indicates the field ID
A5: Dark green cells indicate row ID fields that must contain values that uniquely identify each row of data (i.e., the combination of Insurer Code, Reporting Year, Market Code, and Large Provider Entity Code must be unique in each row).
A6: Green cells indicate field requires input.
A7: Red cells indicate data does not meet requirements (see the Benchmark Data Submission Guide for more details), but note if carriers copy and paste data into template, it may override the data validation checks that highlight cells when there are issues.
A10: SD01 | B10: SD02 | C10: SD03 | D10: SD04 | E10: SD05 | F10: SD06 | G10: SD07 | H10: SD08
A11: Insurer Code | B11: Reporting Year | C11: Market Code | D11: Large Provider Entity Code | E11: Member Months | F11: Total Truncated Claims Spending | G11: Standard Deviation PMPM | H11: TCOC Member Months | J11: Row ID
J12: =K12&SD[[#This Row],[Insurer Code]]&"; "&L12&SD[[#This Row],[Reporting Year]]&"; "&M12&SD[[#This Row],[Market Code]]&"; "&N12&SD[[#This Row],[Large Provider Entity Code]] -> Insurer Code ; Reporting Year ; Market Code ; Large Provider Entity Code | K12: Insurer Code | L12: Reporting Year | M12: Market Code | N12: Large Provider Entity Code
J13: =K13&SD[[#This Row],[Insurer Code]]&"; "&L13&SD[[#This Row],[Reporting Year]]&"; "&M13&SD[[#This Row],[Market Code]]&"; "&N13&SD[[#This Row],[Large Provider Entity Code]] -> Insurer Code ; Reporting Year ; Market Code ; Large Provider Entity Code | K13: Insurer Code | L13: Reporting Year | M13: Market Code | N13: Large Provider Entity Code
J14: =K14&SD[[#This Row],[Insurer Code]]&"; "&L14&SD[[#This Row],[Reporting Year]]&"; "&M14&SD[[#This Row],[Market Code]]&"; "&N14&SD[[#This Row],[Large Provider Entity Code]] -> Insurer Code ; Reporting Year ; Market Code ; Large Provider Entity Code | K14: Insurer Code | L14: Reporting Year | M14: Market Code | N14: Large Provider Entity Code
J15: =K15&SD[[#This Row],[Insurer Code]]&"; "&L15&SD[[#This Row],[Reporting Year]]&"; "&M15&SD[[#This Row],[Market Code]]&"; "&N15&SD[[#This Row],[Large Provider Entity Code]] -> Insurer Code ; Reporting Year ; Market Code ; Large Provider Entity Code | K15: Insurer Code | L15: Reporting Year | M15: Market Code | N15: Large Provider Entity Code
J16: =K16&SD[[#This Row],[Insurer Code]]&"; "&L16&SD[[#This Row],[Reporting Year]]&"; "&M16&SD[[#This Row],[Market Code]]&"; "&N16&SD[[#This Row],[Large Provider Entity Code]] -> Insurer Code ; Reporting Year ; Market Code ; Large Provider Entity Code | K16: Insurer Code | L16: Reporting Year | M16: Market Code | N16: Large Provider Entity Code
J17: =K17&SD[[#This Row],[Insurer Code]]&"; "&L17&SD[[#This Row],[Reporting Year]]&"; "&M17&SD[[#This Row],[Market Code]]&"; "&N17&SD[[#This Row],[Large Provider Entity Code]] -> Insurer Code ; Reporting Year ; Market Code ; Large Provider Entity Code | K17: Insurer Code | L17: Reporting Year | M17: Market Code | N17: Large Provider Entity Code
J18: =K18&SD[[#This Row],[Insurer Code]]&"; "&L18&SD[[#This Row],[Reporting Year]]&"; "&M18&SD[[#This Row],[Market Code]]&"; "&N18&SD[[#This Row],[Large Provider Entity Code]] -> Insurer Code ; Reporting Year ; Market Code ; Large Provider Entity Code | K18: Insurer Code | L18: Reporting Year | M18: Market Code | N18: Large Provider Entity Code
J19: =K19&SD[[#This Row],[Insurer Code]]&"; "&L19&SD[[#This Row],[Reporting Year]]&"; "&M19&SD[[#This Row],[Market Code]]&"; "&N19&SD[[#This Row],[Large Provider Entity Code]] -> Insurer Code ; Reporting Year ; Market Code ; Large Provider Entity Code | K19: Insurer Code | L19: Reporting Year | M19: Market Code | N19: Large Provider Entity Code
J20: =K20&SD[[#This Row],[Insurer Code]]&"; "&L20&SD[[#This Row],[Reporting Year]]&"; "&M20&SD[[#This Row],[Market Code]]&"; "&N20&SD[[#This Row],[Large Provider Entity Code]] -> Insurer Code ; Reporting Year ; Market Code ; Large Provider Entity Code | K20: Insurer Code | L20: Reporting Year | M20: Market Code | N20: Large Provider Entity Code
J21: =K21&SD[[#This Row],[Insurer Code]]&"; "&L21&SD[[#This Row],[Reporting Year]]&"; "&M21&SD[[#This Row],[Market Code]]&"; "&N21&SD[[#This Row],[Large Provider Entity Code]] -> Insurer Code ; Reporting Year ; Market Code ; Large Provider Entity Code | K21: Insurer Code | L21: Reporting Year | M21: Market Code | N21: Large Provider Entity Code
J22: =K22&SD[[#This Row],[Insurer Code]]&"; "&L22&SD[[#This Row],[Reporting Year]]&"; "&M22&SD[[#This Row],[Market Code]]&"; "&N22&SD[[#This Row],[Large Provider Entity Code]] -> Insurer Code ; Reporting Year ; Market Code ; Large Provider Entity Code | K22: Insurer Code | L22: Reporting Year | M22: Market Code | N22: Large Provider Entity Code
J23: =K23&SD[[#This Row],[Insurer Code]]&"; "&L23&SD[[#This Row],[Reporting Year]]&"; "&M23&SD[[#This Row],[Market Code]]&"; "&N23&SD[[#This Row],[Large Provider Entity Code]] -> Insurer Code ; Reporting Year ; Market Code ; Large Provider Entity Code | K23: Insurer Code | L23: Reporting Year | M23: Market Code | N23: Large Provider Entity Code
... J161: =K161&SD[[#This Row],[Insurer Code]]&"; "&L161&SD[[#This Row],[Reporting Year]]&"; "&M161&SD[[#This Row],[Market Code]]&"; "&N161&SD[[#This Row],[Large Provider Entity Code]] -> Insurer Code ; Reporting Year ; Market Code ; Large Provider Entity Code | K161: Insurer Code | L161: Reporting Year | M161: Market Code | N161: Large Provider Entity Code

Sheet 5. Line of Business Enrollment
A1: 5. Line of Business (LOB) Enrollment
A2: Insurers must complete this tab following the specifications and requirements in the Carrier Benchmark Data Submission Guide.
A4: Gray text in cells indicates the field ID
A5: Dark green cells indicate row ID fields that must contain values that uniquely identify each row of data (i.e., the combination of Insurer Code, Reporting Year, and Line of Business Category Code must be unique in each row).
A6: Green cell indicates field requires input.
A7: Red cells indicate data does not meet requirements (see the Benchmark Data Submission Guide for more details), but note if carriers copy and paste data into template, it may override the data validation checks that highlight cells when there are issues.
A10: LB01 | B10: LB02 | C10: LB03 | D10: LB04
A11: Insurer Code | B11: Reporting Year | C11: Line of Business Category Code | D11: Member Months | F11: Row ID
F12: =G12&LB[[#This Row],[Insurer Code]]&"; "&H12&LB[[#This Row],[Reporting Year]]&"; "&I12&LB[[#This Row],[Line of Business Category Code]] -> Insurer Code ; Reporting Year ; Line of Business Category Code | G12: Insurer Code | H12: Reporting Year | I12: Line of Business Category Code
F13: =G13&LB[[#This Row],[Insurer Code]]&"; "&H13&LB[[#This Row],[Reporting Year]]&"; "&I13&LB[[#This Row],[Line of Business Category Code]] -> Insurer Code ; Reporting Year ; Line of Business Category Code | G13: Insurer Code | H13: Reporting Year | I13: Line of Business Category Code
F14: =G14&LB[[#This Row],[Insurer Code]]&"; "&H14&LB[[#This Row],[Reporting Year]]&"; "&I14&LB[[#This Row],[Line of Business Category Code]] -> Insurer Code ; Reporting Year ; Line of Business Category Code | G14: Insurer Code | H14: Reporting Year | I14: Line of Business Category Code
F15: =G15&LB[[#This Row],[Insurer Code]]&"; "&H15&LB[[#This Row],[Reporting Year]]&"; "&I15&LB[[#This Row],[Line of Business Category Code]] -> Insurer Code ; Reporting Year ; Line of Business Category Code | G15: Insurer Code | H15: Reporting Year | I15: Line of Business Category Code
F16: =G16&LB[[#This Row],[Insurer Code]]&"; "&H16&LB[[#This Row],[Reporting Year]]&"; "&I16&LB[[#This Row],[Line of Business Category Code]] -> Insurer Code ; Reporting Year ; Line of Business Category Code | G16: Insurer Code | H16: Reporting Year | I16: Line of Business Category Code
F17: =G17&LB[[#This Row],[Insurer Code]]&"; "&H17&LB[[#This Row],[Reporting Year]]&"; "&I17&LB[[#This Row],[Line of Business Category Code]] -> Insurer Code ; Reporting Year ; Line of Business Category Code | G17: Insurer Code | H17: Reporting Year | I17: Line of Business Category Code
F18: =G18&LB[[#This Row],[Insurer Code]]&"; "&H18&LB[[#This Row],[Reporting Year]]&"; "&I18&LB[[#This Row],[Line of Business Category Code]] -> Insurer Code ; Reporting Year ; Line of Business Category Code | G18: Insurer Code | H18: Reporting Year | I18: Line of Business Category Code
F19: =G19&LB[[#This Row],[Insurer Code]]&"; "&H19&LB[[#This Row],[Reporting Year]]&"; "&I19&LB[[#This Row],[Line of Business Category Code]] -> Insurer Code ; Reporting Year ; Line of Business Category Code | G19: Insurer Code | H19: Reporting Year | I19: Line of Business Category Code
F20: =G20&LB[[#This Row],[Insurer Code]]&"; "&H20&LB[[#This Row],[Reporting Year]]&"; "&I20&LB[[#This Row],[Line of Business Category Code]] -> Insurer Code ; Reporting Year ; Line of Business Category Code | G20: Insurer Code | H20: Reporting Year | I20: Line of Business Category Code
F21: =G21&LB[[#This Row],[Insurer Code]]&"; "&H21&LB[[#This Row],[Reporting Year]]&"; "&I21&LB[[#This Row],[Line of Business Category Code]] -> Insurer Code ; Reporting Year ; Line of Business Category Code | G21: Insurer Code | H21: Reporting Year | I21: Line of Business Category Code
F22: =G22&LB[[#This Row],[Insurer Code]]&"; "&H22&LB[[#This Row],[Reporting Year]]&"; "&I22&LB[[#This Row],[Line of Business Category Code]] -> Insurer Code ; Reporting Year ; Line of Business Category Code | G22: Insurer Code | H22: Reporting Year | I22: Line of Business Category Code
F23: =G23&LB[[#This Row],[Insurer Code]]&"; "&H23&LB[[#This Row],[Reporting Year]]&"; "&I23&LB[[#This Row],[Line of Business Category Code]] -> Insurer Code ; Reporting Year ; Line of Business Category Code | G23: Insurer Code | H23: Reporting Year | I23: Line of Business Category Code
... F33: =G33&LB[[#This Row],[Insurer Code]]&"; "&H33&LB[[#This Row],[Reporting Year]]&"; "&I33&LB[[#This Row],[Line of Business Category Code]] -> Insurer Code ; Reporting Year ; Line of Business Category Code | G33: Insurer Code | H33: Reporting Year | I33: Line of Business Category Code

Sheet 6. Pharmacy Rebates
A1: 6. Pharmacy Rebates Data
A2: Insurers must complete this tab following the specifications and requirements in the Carrier Benchmark Data Submission Guide.
A4: Gray text in cells indicates the field ID
A5: Dark green cells indicate row ID fields that must contain values that uniquely identify each row of data (i.e., the combination of Insurer Code, Reporting Year, and Insurance Category Code must be unique in each row).
A6: Yellow cells indicate field conditionally requires input based on whether insurer can separate out medical and retail pharmacy rebates (see the Benchmark Data Submission Guide for more details).
A7: Blue cell indicates template calculates value.
A8: Red cells indicate data does not meet requirements (see the Benchmark Data Submission Guide for more details), but note if carriers copy and paste data into template, it may override the data validation checks that highlight cells when there are issues.
A10: RX01 | B10: RX02 | C10: RX03 | D10: RX04 | E10: RX05 | F10: RX06 | G10: RX07
A11: Insurer Code | B11: Reporting Year | C11: Insurance Category Code | D11: Medical Pharmacy Rebate Amount | E11: Retail Pharmacy Rebate Amount | F11: Total Pharmacy Rebate Amount | G11: Total Medical and Retail Pharmacy Rebate Amount | I11: Row ID
G12: =IF(RX[[#This Row],[Total Pharmacy Rebate Amount]]=0,SUM(RX[[#This Row],[Medical Pharmacy Rebate Amount]:[Retail Pharmacy Rebate Amount]]),RX[[#This Row],[Total Pharmacy Rebate Amount]]) -> 0 | I12: =J12&RX[[#This Row],[Insurer Code]]&"; "&K12&RX[[#This Row],[Reporting Year]]&"; "&L12&RX[[#This Row],[Insurance Category Code]] -> Insurer Code ; Reporting Year ; Insurance Category Code | J12: Insurer Code | K12: Reporting Year | L12: Insurance Category Code
G13: =IF(RX[[#This Row],[Total Pharmacy Rebate Amount]]=0,SUM(RX[[#This Row],[Medical Pharmacy Rebate Amount]:[Retail Pharmacy Rebate Amount]]),RX[[#This Row],[Total Pharmacy Rebate Amount]]) -> 0 | I13: =J13&RX[[#This Row],[Insurer Code]]&"; "&K13&RX[[#This Row],[Reporting Year]]&"; "&L13&RX[[#This Row],[Insurance Category Code]] -> Insurer Code ; Reporting Year ; Insurance Category Code | J13: Insurer Code | K13: Reporting Year | L13: Insurance Category Code
G14: =IF(RX[[#This Row],[Total Pharmacy Rebate Amount]]=0,SUM(RX[[#This Row],[Medical Pharmacy Rebate Amount]:[Retail Pharmacy Rebate Amount]]),RX[[#This Row],[Total Pharmacy Rebate Amount]]) -> 0 | I14: =J14&RX[[#This Row],[Insurer Code]]&"; "&K14&RX[[#This Row],[Reporting Year]]&"; "&L14&RX[[#This Row],[Insurance Category Code]] -> Insurer Code ; Reporting Year ; Insurance Category Code | J14: Insurer Code | K14: Reporting Year | L14: Insurance Category Code
G15: =IF(RX[[#This Row],[Total Pharmacy Rebate Amount]]=0,SUM(RX[[#This Row],[Medical Pharmacy Rebate Amount]:[Retail Pharmacy Rebate Amount]]),RX[[#This Row],[Total Pharmacy Rebate Amount]]) -> 0 | I15: =J15&RX[[#This Row],[Insurer Code]]&"; "&K15&RX[[#This Row],[Reporting Year]]&"; "&L15&RX[[#This Row],[Insurance Category Code]] -> Insurer Code ; Reporting Year ; Insurance Category Code | J15: Insurer Code | K15: Reporting Year | L15: Insurance Category Code
G16: =IF(RX[[#This Row],[Total Pharmacy Rebate Amount]]=0,SUM(RX[[#This Row],[Medical Pharmacy Rebate Amount]:[Retail Pharmacy Rebate Amount]]),RX[[#This Row],[Total Pharmacy Rebate Amount]]) -> 0 | I16: =J16&RX[[#This Row],[Insurer Code]]&"; "&K16&RX[[#This Row],[Reporting Year]]&"; "&L16&RX[[#This Row],[Insurance Category Code]] -> Insurer Code ; Reporting Year ; Insurance Category Code | J16: Insurer Code | K16: Reporting Year | L16: Insurance Category Code
G17: =IF(RX[[#This Row],[Total Pharmacy Rebate Amount]]=0,SUM(RX[[#This Row],[Medical Pharmacy Rebate Amount]:[Retail Pharmacy Rebate Amount]]),RX[[#This Row],[Total Pharmacy Rebate Amount]]) -> 0 | I17: =J17&RX[[#This Row],[Insurer Code]]&"; "&K17&RX[[#This Row],[Reporting Year]]&"; "&L17&RX[[#This Row],[Insurance Category Code]] -> Insurer Code ; Reporting Year ; Insurance Category Code | J17: Insurer Code | K17: Reporting Year | L17: Insurance Category Code
G18: =IF(RX[[#This Row],[Total Pharmacy Rebate Amount]]=0,SUM(RX[[#This Row],[Medical Pharmacy Rebate Amount]:[Retail Pharmacy Rebate Amount]]),RX[[#This Row],[Total Pharmacy Rebate Amount]]) -> 0 | I18: =J18&RX[[#This Row],[Insurer Code]]&"; "&K18&RX[[#This Row],[Reporting Year]]&"; "&L18&RX[[#This Row],[Insurance Category Code]] -> Insurer Code ; Reporting Year ; Insurance Category Code | J18: Insurer Code | K18: Reporting Year | L18: Insurance Category Code
G19: =IF(RX[[#This Row],[Total Pharmacy Rebate Amount]]=0,SUM(RX[[#This Row],[Medical Pharmacy Rebate Amount]:[Retail Pharmacy Rebate Amount]]),RX[[#This Row],[Total Pharmacy Rebate Amount]]) -> 0 | I19: =J19&RX[[#This Row],[Insurer Code]]&"; "&K19&RX[[#This Row],[Reporting Year]]&"; "&L19&RX[[#This Row],[Insurance Category Code]] -> Insurer Code ; Reporting Year ; Insurance Category Code | J19: Insurer Code | K19: Reporting Year | L19: Insurance Category Code
G20: =IF(RX[[#This Row],[Total Pharmacy Rebate Amount]]=0,SUM(RX[[#This Row],[Medical Pharmacy Rebate Amount]:[Retail Pharmacy Rebate Amount]]),RX[[#This Row],[Total Pharmacy Rebate Amount]]) -> 0 | I20: =J20&RX[[#This Row],[Insurer Code]]&"; "&K20&RX[[#This Row],[Reporting Year]]&"; "&L20&RX[[#This Row],[Insurance Category Code]] -> Insurer Code ; Reporting Year ; Insurance Category Code | J20: Insurer Code | K20: Reporting Year | L20: Insurance Category Code
G21: =IF(RX[[#This Row],[Total Pharmacy Rebate Amount]]=0,SUM(RX[[#This Row],[Medical Pharmacy Rebate Amount]:[Retail Pharmacy Rebate Amount]]),RX[[#This Row],[Total Pharmacy Rebate Amount]]) -> 0 | I21: =J21&RX[[#This Row],[Insurer Code]]&"; "&K21&RX[[#This Row],[Reporting Year]]&"; "&L21&RX[[#This Row],[Insurance Category Code]] -> Insurer Code ; Reporting Year ; Insurance Category Code | J21: Insurer Code | K21: Reporting Year | L21: Insurance Category Code
G22: =IF(RX[[#This Row],[Total Pharmacy Rebate Amount]]=0,SUM(RX[[#This Row],[Medical Pharmacy Rebate Amount]:[Retail Pharmacy Rebate Amount]]),RX[[#This Row],[Total Pharmacy Rebate Amount]]) -> 0 | I22: =J22&RX[[#This Row],[Insurer Code]]&"; "&K22&RX[[#This Row],[Reporting Year]]&"; "&L22&RX[[#This Row],[Insurance Category Code]] -> Insurer Code ; Reporting Year ; Insurance Category Code | J22: Insurer Code | K22: Reporting Year | L22: Insurance Category Code
G23: =IF(RX[[#This Row],[Total Pharmacy Rebate Amount]]=0,SUM(RX[[#This Row],[Medical Pharmacy Rebate Amount]:[Retail Pharmacy Rebate Amount]]),RX[[#This Row],[Total Pharmacy Rebate Amount]]) -> 0 | I23: =J23&RX[[#This Row],[Insurer Code]]&"; "&K23&RX[[#This Row],[Reporting Year]]&"; "&L23&RX[[#This Row],[Insurance Category Code]] -> Insurer Code ; Reporting Year ; Insurance Category Code | J23: Insurer Code | K23: Reporting Year | L23: Insurance Category Code
... G27: =IF(RX[[#This Row],[Total Pharmacy Rebate Amount]]=0,SUM(RX[[#This Row],[Medical Pharmacy Rebate Amount]:[Retail Pharmacy Rebate Amount]]),RX[[#This Row],[Total Pharmacy Rebate Amount]]) -> 0 | I27: =J27&RX[[#This Row],[Insurer Code]]&"; "&K27&RX[[#This Row],[Reporting Year]]&"; "&L27&RX[[#This Row],[Insurance Category Code]] -> Insurer Code ; Reporting Year ; Insurance Category Code | J27: Insurer Code | K27: Reporting Year | L27: Insurance Category Code

Sheet 7. Mandatory Questions
A1: 7. Mandatory Questions
A2: Insurers must complete this tab after they enter data in each input tab, following the specifications and requirements in the Carrier Benchmark Data Submission Guide.
A4: Gray text in cells indicates the field ID
A5: Green cells indicate field requires input.
A6: Yellow cells indicate input is optional; insurers should enter comments where applicable to provide context on submitted data.
A7: Red cells indicate data does not meet requirements (see the Benchmark Data Submission Guide for more details).
B10: Attestation
B11: I hereby attest that the information submitted in this data submission template is current, complete and accurate to the best of my knowledge. Failure to attest will result in DOBI's non-acceptance of the data submission.
A12: MQ01 | B12: Authorized Signatory
A13: MQ02 | B13: Sign Date
B15: Data Completeness and Estimation Questions
B16: Question | C16: Response | D16: Comments
A17: MQ03 | B17: What is the overall completeness of the claims data (report as %)? | E17: =CONCATENATE(A17,"C") -> MQ03C
A18: MQ04 | B18: How long was the run-out period for claims payments (report as days)? | E18: =CONCATENATE(A18,"C") -> MQ04C
A19: MQ05 | B19: How long was the run-out period for non-claims payments (report as days)? | E19: =CONCATENATE(A19,"C") -> MQ05C
A20: MQ06 | B20: Are IBNR and IBNP factors applied to claims payments? | E20: =CONCATENATE(A20,"C") -> MQ06C
A21: MQ07 | B21: Is pharmacy rebate data estimated? | E21: =CONCATENATE(A21,"C") -> MQ07C
A22: MQ08 | B22: If yes, enter how you estimated the rebate amounts. | E22: =CONCATENATE(A22,"C") -> MQ08C
A23: MQ09 | B23: Are carve-out services for commercial partial claims estimated? | E23: =CONCATENATE(A23,"C") -> MQ09C
A24: MQ10 | B24: If yes, enter which carve-out services you estimated and describe how you calculated the estimate. | E24: =CONCATENATE(A24,"C") -> MQ10C
B26: TME Inclusion and Exclusion Questions
B27: Question | C27: Response | D27: Comments
A28: MQ11 | B28: Are claims payments reported as allowed amounts, including both payments that insurer paid to providers and member cost sharing? | E28: =CONCATENATE(A28,"C") -> MQ11C
A29: MQ12 | B29: Is the spending reported in a manner consistent with the payment service category definitions in the Benchmark Data Submission Guide? | E29: =CONCATENATE(A29,"C") -> MQ12C
A30: MQ13 | B30: Does the TME include NJ residents only? | E30: =CONCATENATE(A30,"C") -> MQ13C
A31: MQ14 | B31: Does the TME include services rendered by providers, regardless of location of provider? | E31: =CONCATENATE(A31,"C") -> MQ14C
A32: MQ15 | B32: Does the TME include services rendered by providers, regardless of the situs of the member's plan? | E32: =CONCATENATE(A32,"C") -> MQ15C
A33: MQ16 | B33: Are data limited only to members for whom the insurer is primary on the claim? | E33: =CONCATENATE(A33,"C") -> MQ16C
A34: MQ17 | B34: Are members attributed to provider organizations using an approach that is consistent with your internal attribution methodology? | E34: =CONCATENATE(A34,"C") -> MQ17C
A35: MQ18 | B35: Are TME submitted based on the incurred date/ date of service? | E35: =CONCATENATE(A35,"C") -> MQ18C
A36: MQ19 | B36: Is truncation applied at the member level? | E36: =CONCATENATE(A36,"C") -> MQ19C
A37: MQ20 | B37: Does the truncated spending include only claims data? | E37: =CONCATENATE(A37,"C") -> MQ20C
A38: MQ21 | B38: Are spending estimates on carved out services (commercial partial claims) included in the calculation of claims at the member level before applying truncation? | E38: =CONCATENATE(A38,"C") -> MQ21C
B40: Standard Deviation Questions
B41: Question | C41: Response | D41: Comments
A42: MQ22 | B42: Are standard deviations calculated using the formula for population standard deviation? | E42: =CONCATENATE(A42,"C") -> MQ22C
A43: MQ23 | B43: Are non-claims expenses excluded from the standard deviation calculations? | E43: =CONCATENATE(A43,"C") -> MQ23C
A44: MQ24 | B44: Are spending estimates on carved out services (commercial partial claims) at the member month level included in the standard deviation calculations? | E44: =CONCATENATE(A44,"C") -> MQ24C
A45: MQ25 | B45: When calculating the standard deviation, did you include all the member months, regardless of whether the member has paid claims for that month? | E45: =CONCATENATE(A45,"C") -> MQ25C
A46: MQ26 | B46: When calculating the standard deviation, did you use each member’s average cost per month applied to each month they were enrolled, instead of the actual utilization each month? | E46: =CONCATENATE(A46,"C") -> MQ26C
...

Sheet Data Validation Checks
A1: Data Validation Checks
A2: This tab includes various data validation checks to confirm consistency and reasonableness of data across and within tabs. Please review the data in this tab prior to submission to ensure that you are comfortable with the values and trends reflected in the tables below.
A5: Table 1. Alignment of Insurer Code from TME Tab with Insurer Name from Cover Page
A6: Red cells indicate the insurer code and name do not align and the carrier must correct in the applicable input tab(s) (see the Insurer Code Valid Values table in the Reference Tables tab for your organization's Insurer Code).
A7: Carrier Inputted Insurer Code (Field ID TM01) | B7: Carrier Inputted Insurer Name (Field ID CP01) | C7: Insurer Name Associated With TM01 | D7: Insurer Name Aligns with Insurer Code?
A8: ='2. Total Medical Expenses'!A12 -> 0 | B8: ='1. Cover Page'!C17 -> 0 | C8: {=INDEX(INS_Code[Description],MATCH(INS_CD39[Carrier Inputted Insurer Name (Field ID CP01)],INS_Code[Description],0))} -> #N/A | D8: =IF(AND(B8=C8),"Yes", "No") -> #N/A
A11: Table 2. Consistency of Member Months for Carrier Overall (Large Provider Entity Code 100) Across TME, Age & Sex Factors, and LOB Enrollment Tabs
A12: Red cells indicate that member months do not match across tabs and the carrier must correct in the applicable input tab(s).
A13: Category | B13: 2024 | I13: 2025
B14: TME Tab Member Months | C14: Age & Sex Factors Tab Member Months | D14: Age & Sex Factors Tab Member Months Consistent with TME Tab? | E14: Member Months Variation | F14: LOB Enrollment Tab Member Months | G14: LOB Enrollment Tab Member Months Consistent with TME Tab? | H14: Member Months Variation | I14: TME Tab Member Months | J14: Age & Sex Factors Tab Member Months | K14: Age & Sex Factors Tab Member Months Consistent with TME Tab? | L14: Member Months Variation | M14: LOB Enrollment Tab Member Months | N14: LOB Enrollment Tab Member Months Consistent with TME Tab? | O14: Member Months Variation
A15: Commercial total | B15: =SUM(B16:B17) -> 0 | C15: =SUM(C16:C17) -> 0 | D15: =IF(AND(B15=C15),"Yes", "No") -> Yes | E15: =ABS(B15-C15) -> 0 | F15: =SUM(F16:F17) -> 0 | G15: =IF(AND(B15=F15),"Yes", "No") -> Yes | H15: =ABS(B15-F15) -> 0 | I15: =SUM(I16:I17) -> 0 | J15: =SUM(J16:J17) -> 0 | K15: =IF(AND(I15=J15),"Yes", "No") -> Yes | L15: =ABS(I15-J15) -> 0 | M15: =SUM(M16:M17) -> 0 | N15: =IF(AND(I15=M15),"Yes", "No") -> Yes | O15: =ABS(I15-M15) -> 0
A16: Commercial, excluding SHBP & SEHBP (Insurance Category Codes 3+4; LOB Category Codes 1+2+3+4+5) | B16: =SUM(B113:B114) -> 0 | C16: =SUM(B126:B127) -> 0 | D16: =IF(AND(B16=C16),"Yes", "No") -> Yes | E16: =ABS(B16-C16) -> 0 | F16: =SUM(B171:B175) -> 0 | G16: =IF(AND(B16=F16),"Yes", "No") -> Yes | H16: =ABS(B16-F16) -> 0 | I16: =SUM(C113:C114) -> 0 | J16: =SUM(C126:C127) -> 0 | K16: =IF(AND(I16=J16),"Yes", "No") -> Yes | L16: =ABS(I16-J16) -> 0 | M16: =SUM(C171:C175) -> 0 | N16: =IF(AND(I16=M16),"Yes", "No") -> Yes | O16: =ABS(I16-M16) -> 0
A17: Commercial SHBP & SEHBP (Insurance Category Code 7; LOB Category Code 10) | B17: =B117 -> 0 | C17: =B130 -> 0 | D17: =IF(AND(B17=C17),"Yes", "No") -> Yes | E17: =ABS(B17-C17) -> 0 | F17: =B180 -> 0 | G17: =IF(AND(B17=F17),"Yes", "No") -> Yes | H17: =ABS(B17-F17) -> 0 | I17: =C117 -> 0 | J17: =C130 -> 0 | K17: =IF(AND(I17=J17),"Yes", "No") -> Yes | L17: =ABS(I17-J17) -> 0 | M17: =C180 -> 0 | N17: =IF(AND(I17=M17),"Yes", "No") -> Yes | O17: =ABS(I17-M17) -> 0
A18: MA total | B18: =SUM(B19:B21) -> 0 | C18: =SUM(C19:C21) -> 0 | D18: =IF(AND(B18=C18),"Yes", "No") -> Yes | E18: =ABS(B18-C18) -> 0 | F18: =SUM(F19:F21) -> 0 | G18: =IF(AND(B18=F18),"Yes", "No") -> Yes | H18: =ABS(B18-F18) -> 0 | I18: =SUM(I19:I21) -> 0 | J18: =SUM(J19:J21) -> 0 | K18: =IF(AND(I18=J18),"Yes", "No") -> Yes | L18: =ABS(I18-J18) -> 0 | M18: =SUM(M19:M21) -> 0 | N18: =IF(AND(I18=M18),"Yes", "No") -> Yes | O18: =ABS(I18-M18) -> 0
A19: MA non-dual eligibles, excluding SHBP & SEHBP (Insurance Category Code 1; LOB Category Code 6) | B19: =B111 -> 0 | C19: =B124 -> 0 | D19: =IF(AND(B19=C19),"Yes", "No") -> Yes | E19: =ABS(B19-C19) -> 0 | F19: =B176 -> 0 | G19: =IF(AND(B19=F19),"Yes", "No") -> Yes | H19: =ABS(B19-F19) -> 0 | I19: =C111 -> 0 | J19: =C124 -> 0 | K19: =IF(AND(I19=J19),"Yes", "No") -> Yes | L19: =ABS(I19-J19) -> 0 | M19: =C176 -> 0 | N19: =IF(AND(I19=M19),"Yes", "No") -> Yes | O19: =ABS(I19-M19) -> 0
A20: MA dual eligibles (Insurance Category Code 5; LOB Category Code 8) | B20: =B115 -> 0 | C20: =B128 -> 0 | D20: =IF(AND(B20=C20),"Yes", "No") -> Yes | E20: =ABS(B20-C20) -> 0 | F20: =B178 -> 0 | G20: =IF(AND(B20=F20),"Yes", "No") -> Yes | H20: =ABS(B20-F20) -> 0 | I20: =C115 -> 0 | J20: =C128 -> 0 | K20: =IF(AND(I20=J20),"Yes", "No") -> Yes | L20: =ABS(I20-J20) -> 0 | M20: =C178 -> 0 | N20: =IF(AND(I20=M20),"Yes", "No") -> Yes | O20: =ABS(I20-M20) -> 0
A21: MA SHBP & SEHBP (Insurance Category Code 8; LOB Category Code 11) | B21: =B118 -> 0 | C21: =B131 -> 0 | D21: =IF(AND(B21=C21),"Yes", "No") -> Yes | E21: =ABS(B21-C21) -> 0 | F21: =B181 -> 0 | G21: =IF(AND(B21=F21),"Yes", "No") -> Yes | H21: =ABS(B21-F21) -> 0 | I21: =C118 -> 0 | J21: =C131 -> 0 | K21: =IF(AND(I21=J21),"Yes", "No") -> Yes | L21: =ABS(I21-J21) -> 0 | M21: =C181 -> 0 | N21: =IF(AND(I21=M21),"Yes", "No") -> Yes | O21: =ABS(I21-M21) -> 0
A22: Medicaid MCO total | B22: =SUM(B23:B24) -> 0 | C22: =SUM(C23:C24) -> 0 | D22: =IF(AND(B22=C22),"Yes", "No") -> Yes | E22: =ABS(B22-C22) -> 0 | F22: =SUM(F23:F24) -> 0 | G22: =IF(AND(B22=F22),"Yes", "No") -> Yes | H22: =ABS(B22-F22) -> 0 | I22: =SUM(I23:I24) -> 0 | J22: =SUM(J23:J24) -> 0 | K22: =IF(AND(I22=J22),"Yes", "No") -> Yes | L22: =ABS(I22-J22) -> 0 | M22: =SUM(M23:M24) -> 0 | N22: =IF(AND(I22=M22),"Yes", "No") -> Yes | O22: =ABS(I22-M22) -> 0
A23: Medicaid MCO non-dual eligibles (Insurance Category Code 2; LOB Category Code 7) | B23: =B112 -> 0 | C23: =B125 -> 0 | D23: =IF(AND(B23=C23),"Yes", "No") -> Yes | E23: =ABS(B23-C23) -> 0 | F23: =B177 -> 0 | G23: =IF(AND(B23=F23),"Yes", "No") -> Yes | H23: =ABS(B23-F23) -> 0 | I23: =C112 -> 0 | J23: =C125 -> 0 | K23: =IF(AND(I23=J23),"Yes", "No") -> Yes | L23: =ABS(I23-J23) -> 0 | M23: =C177 -> 0 | N23: =IF(AND(I23=M23),"Yes", "No") -> Yes | O23: =ABS(I23-M23) -> 0
A24: Medicaid MCO dual eligibles (Insurance Category Code 6; LOB Category Code 9) | B24: =B116 -> 0 | C24: =B129 -> 0 | D24: =IF(AND(B24=C24),"Yes", "No") -> Yes | E24: =ABS(B24-C24) -> 0 | F24: =B179 -> 0 | G24: =IF(AND(B24=F24),"Yes", "No") -> Yes | H24: =ABS(B24-F24) -> 0 | I24: =C116 -> 0 | J24: =C129 -> 0 | K24: =IF(AND(I24=J24),"Yes", "No") -> Yes | L24: =ABS(I24-J24) -> 0 | M24: =C179 -> 0 | N24: =IF(AND(I24=M24),"Yes", "No") -> Yes | O24: =ABS(I24-M24) -> 0
A27: Table 3. Consistency of Total Truncated Claims Spending and Member Months for Carrier Overall (Large Provider Entity Code 100) Across TME, Age & Sex Factors, and Standard Deviation Tabs | AG27: `
A28: Red cells indicate that claims spending and/or member months for carrier overall (Large Provider Entity Code 100) do not match across tabs and the carrier must correct in the applicable input tab(s).
A29: Market | B29: 2024 | P29: 2025
B30: TME Tab Total Truncated Claims Spending | C30: Age & Sex Factors Tab Total Truncated Claims Spending | D30: Age & Sex Factors Tab Total Truncated Claims Spending Consistent with TME Tab? | E30: Total Truncated Claims Spending Variation | F30: Standard Deviation Tab Total Truncated Claims Spending | G30: Standard Deviation Tab Total Truncated Claims Spending Consistent with TME Tab? | H30: Total Truncated Claims Spending Variation Between Standard Deviation and TME Tabs | I30: TME Tab Member Months | J30: Age & Sex Factors Tab Member Months | K30: Age & Sex Factors Tab Member Months Consistent with TME Tab? | L30: Member Months Variation | M30: Standard Deviation Member Months | N30: Standard Deviation Tab Member Months Consistent with TME Tab? | O30: Member Months Variation | P30: TME Tab Total Truncated Claims Spending | Q30: Age & Sex Factors Tab Total Truncated Claims Spending | R30: Age & Sex Factors Tab Consistent with TME Tab? | S30: Age & Sex Factors and TME Tabs Variation | T30: Standard Deviation Tab Total Truncated Claims Spending | U30: Standard Deviation Tab Consistent with TME Tab? | V30: Standard Deviation and TME Tabs Variation | W30: TME Tab Member Months | X30: Age & Sex Factors Tab Member Months | Y30: Age & Sex Factors Tab Consistent with TME Tab? | Z30: Age & Sex Factors and TME Tabs Variation | AA30: Standard Deviation Member Months | AB30: Standard Deviation Tab Consistent with TME Tab? | AC30: Standard Deviation and TME Tabs Variation
