Workbook

Sheet Programs
A1: Atlantic Cape Community College
A2: Bergen Community College
A3: Brookdale Community College
A4: Caldwell University
A5: Camden County College
A6: Centenary University
A7: County College of Morris
A8: Drew University
A9: Essex County College
A10: Fairleigh Dickinson University - Florham
A11: Fairleigh Dickinson University - Metropolitan
A12: Felician University
... A59: William Paterson University

Sheet COVER
C1: EDUCATIONAL OPPORTUNITY FUND
C2: OFFICE OF THE SECRETARY OF HIGHER EDUCATION
C3: PO BOX 542
C4: TRENTON, NEW JERSEY 08625
C7: Academic Year 2025-2026
C8: ANNUAL REPORT
L9: `
C10: REFERENCE COPY ONLY
B16: Institution/Program: | E16: Please select your institution/program from the drop-down menu.
B19: EOF Director: | E19: Please provide the EOF Director's name.
B22: Signature: | E22: Note: The cover page signature will be completed via Docusign.
B24: INSTRUCTIONS FOR SUBMITTING REPORT The following report is for reference purposes only. Programs may use it to assist with collecting the identified information needed from the appropriate internal stakeholders. Submission of the EOF Annual Report is conducted via Qualtrics. The cover page, with original signature, will be completed via DocuSign. SUBMISSION DATE: DECEMBER 2, 2026

Sheet SUMMARY
A1: Academic Year 2025-2026
A3: ANNUAL REPORT SUMMARY
A5: The EOF Annual Report is used to collect data on the students who received a EOF grant or who were non-funded during 2025-2026 Academic Year (AY). We understand that depending on how your program is structured and supported by your institution, your program may have provided services to non-EOF students (i.e. EOF funds were not used to support these students and the institution covered all expenses associated with supporting your non-EOF students). However, for the purposes of this report, programs are ONLY permitted to report on EOF FUNDED (i.e. Paid students) and EOF NON-FUNDED students who attended your program during the 2025-2026 academic year and who appear on the EOF NJFAMS Final Enrollment Report. Totals provided on this spreadsheet should remain consistent and will be referenced throughout the report.
A13: 1) Number of students (unduplicated headcount*) on the AY 25-26 Final Enrollment Report:
B15: To determine the unduplicated headcount:
B16: # FUNDED only students (do not include mixed funded):
B17: # NON-FUNDED only students:
B18: # students with MIXED FUNDING status:
B19: (mixed = 1 semester funded, 1 semester non-funded)
B20: Unduplicated headcount = total funded/non-funded/mixed | F20: =IF(SUM(F16:F19)=0,"",SUM(F16:F19)) | G20: Total must equal unduplicated count in #1.
B22: # of FUNDED students + # of MIXED FUNDED students: | F22: =IF(SUM(F16+F18)=0,"",SUM(F16+F18))
A24: 2) Actual number of students in your AY 25-26 program:
B25: In some cases, a student may have been awarded or cancelled AFTER the Final Enrollment Report was printed. If this is the case, and your final enrollment differs from the unduplicated headcount provided above, please provide the student name, HESAA ID#, and a brief explanation. You may need to add rows to accommodate this information in this section.
A29: Student Name | B29: HESAA ID | C29: Explanation
A51: 3) Number of transfer students admitted into your program during the AY 25-26
B52: 3a. Total # of transfer students admitted into your program during the AY 25-26:
B54: 3b. Funding Classification of Transfer Students:
B55: (The sum of a & b should equal to the total # of transfer students.)
B56: # funded students
B57: # non-funded/services only students:
F58: Total = | G58: =SUM(G56+G57) -> 0 | H58: Total must equal count in 3a.
B60: 3c. Types of Transfer Students:
B61: (The sum of 1 - 3 below should equal to the total # of transfer students in 3a above.)
A62: 1 | B62: # of non-EOF internal transfers:
B63: (Non-EOF Internal transfers are students who are currently attending your institution and have no history of having enrolled at another institution nor receiving an EOF grant at another instutition or campus program. These students should have been coded with an Admission Type "First Time EOF" within NJFAMS, because this would be the first time the student received an EOF grant.)
A68: 2 | B68: # of EOF internal transfers*:
B69: (* = Only applicable for: Fairleigh Dickinson, Montclair State, Seton Hall, Stockton, Rowan, Rutgers, & Rowan College of South Jersey)
B70: (EOF Internal transfers are students who are currently attending your institution and have a history of receiving an EOF grant at your instutition. Typically, these students are transferring from one EOF campus program to another within the same institution (i.e. Rutgers Camden to Rutgers SEBS). These students should have been coded with an Admission Type "EOF Renewal" within NJFAMS because this student is a continuing EOF student.)
A75: 3 | B75: c) # of external transfers:
B76: (External transfers are students who previously attended another institution. This classification is the most common type of transfer student. This classification is independent of whether or not the student received an EOF grant previously. Students who have never received an EOF grant should have been coded as Admission Type "First Time EOF", because this would be the first time the student received an EOF grant. Students who received an EOF grant at their previous institution should have been coded as Admission Type "Transfer" within NJFAMS, since they are considered an EOF renewal student who last received an EOF grant at another institution.)
B83: Total # of non-EOF internal + EOF internal + external transfer students = | G83: =SUM(G62+G68+G75) -> 0 | H83: Total must equal count in 3a.
A87: 4) Number of students who separated from your program during AY 25-26:
B88: This is the number which will be reported in Table 1.
A90: 5) Number of students who graduated during AY 25-26: | G90: 0
B91: This is the number which will be reported in Table 2.

Sheet ARTAB 1 2
A1: TABLE 1 | B1: SEPARATION REPORT: ATTRITION
A3: The number of students reported as separated in this table should equal the number of students reported as separated within the summary section (Question #4) on page 1 =
H4: =IF(SUMMARY!G87="","",SUMMARY!G87)
A5: NOTE: Students who graduated are not included in this table. They are reported in Table 2.
A7: 1. How many students enrolled in your program in spring 2025 but did not return in fall 2025?
A8: 2. How many students who enrolled and completed fall 2025 but did not return for spring 2026?
A9: 3. How many students dropped out before completing the fall 2025 semester?
A10: 4. How many students dropped out before completing the spring 2026 semester? *dropped out = withdrew; transfer; ANY reason for separation
F12: TOTAL # SEPARATED: | H12: =SUM(H7:H10) -> 0
A14: Please indicate the primary reason for separation (list 1 per student):
A16: a. | B16: Transferred to other institution
A17: b. | B17: Academic dismissal
A18: c. | B18: Could not make adjustment to college
A19: d. | B19: Needed to seek full-time employment
A20: e. | B20: Unable to meet cost of attendance
A21: f. | B21: Medical withdrawal
A22: g. | B22: Personal
A23: h. | B23: Other (please explain below)
A24: i. | B24: Unknown
F26: TOTAL REASONS: | H26: =SUM(H16:H24) -> 0
A27: Other Reasons:
A31: Of those who separated for reasons other than academic dismissal, how many:
B33: Withdrew in good academic standing
B34: Withdrew while on academic probation
A36: TABLE 2 | B36: GRADUATION REPORT
A38: The number of students reported as graduated in this table should equal the number of
A39: students reported as graduated within the summary section (Question #5) on page 1 = | H39: =IF(SUMMARY!G87="", "", SUMMARY!G90)
A41: 1. How many students graduated from your program at the end of fall 2025?
A42: 2. How many students graduate from your program at the end of the 25/26 AY Winter Session?
A43: 3. How many students graduated from your program at the end of spring 2026?
A44: 4. How many students graduated from your program at the end of summer 2026?
F46: TOTAL # GRADUATED: | H46: =SUM(H41:H44) -> 0
A48: Indicate the career placement of the graduates.
A50: EMPLOYMENT IN THE FIELD OF: | E50: FURTHER EDUCATION:
A51: a. | B51: Education | E51: i. | F51: Graduate school
A52: b. | B52: Government | E52: j. | F52: Professional school
A53: c. | B53: Engineering | E53: k. | F53: Transferred to another college
A54: d. | B54: Business | E54: l. | F54: Other
A55: e. | B55: Science/Health
A56: f. | B56: Other
...

Sheet ARTAB 3 4
A1: TABLE 3 | B1: COUNSELING, ADVISEMENT, AND STUDENT DEVELOPMENT SERVICES
A3: Indicate the number of counseling CONTACTS* provided to EOF funded and non-funded students** by EOF staff (e.g. directors, counselors, administrative assistants, etc.) as well as those individuals listed in your AY Article IV contract as providing a percentage of their time in support to the EOF program (e.g. financial aid officer with percentage of time to EOF). If more than one counseling topic was covered in the session, select the primary purpose for the session. Programs are expected to maintain documentation of all contacts.
A8: *Contacts = number of MEETINGS with students, not the number of students
A9: **Non-funded student = a renewal student who lost eligibility for a grant but continues to receive program support services or financially ineligible GEAR UP/COLLEGE BOUND/TRIO student who was admitted into the program.
A12: For purposes of this report, services are defined as follows:
A14: INDIVIDUAL CONTACTS = one-on-one meeting by phone, internet, in person, scheduled or drop-in
A15: GROUP CONTACTS = more than one person, in formal group meeting, by internet or in person, scheduled or drop-in
A16: Personal = family/relationship issues, self-esteem problems, peer pressure, etc.
A17: Academic = course assignments, schedules, time management, selecting major, grades, etc.
A18: Financial = college budget, personal finance issues, problems with financial aid package, etc.
A19: Career = resume, job search, references, internship opportunities, etc.
A20: Administrative = forms, signatures, paperwork, etc.
A21: Other =
C23: Individual Contacts | E23: Group Contacts | G23: Total Contacts
B24: PURPOSE | C24: (one-on-one) | E24: (more than one student)
B25: Personal | G25: =C25+E25 -> 0
B26: Academic | G26: =C26+E26 -> 0
B27: Financial | G27: =C27+E27 -> 0
B28: Career | G28: =C28+E28 -> 0
B29: Administrative | G29: =C29+E29 -> 0
B30: Other (specify) | G30: =C30+E30 -> 0
B31: TOTAL | C31: =SUM(C25:C30) -> 0 | E31: =SUM(E25:E30) -> 0 | G31: =C31+E31 -> 0
A34: TABLE 3A | B34: COUNSELING SERVICES
A36: Distribute the number of EOF funded and non-funded STUDENTS (not contacts) who were provided
A37: EOF counseling/advisement during the academic year as follows:
B39: # students served within EOF program
B40: # students referred by EOF for counseling outside the program
A42: The total number of students reported should not exceed the total number listed in the Annual Report Summary, Question #2.
G43: =SUMMARY!G24 -> 0
A45: TABLE 4 | B45: TUTORING SERVICES
A47: Distribute the number of EOF students (funded and non-funded) by credits earned (at start of the academic year). Also, provide the total number of hours tutored. Please include tutoring provided by your program and/or by the institution.
B51: CREDITS | C51: # STUDENTS | E51: # HOURS
B52: 0-32
B53: 33-64
B54: 65-96
B55: 97 + above
B56: # Students = | C56: =SUM(C52:C55) -> 0 | D56: # Hours: | E56: =SUM(E52:E55) -> 0

Sheet ARTAB 5
A1: TABLE 5 | B1: BASIC SKILLS REMEDIATION
A3: To determine the characteristics of your students, please distribute the number of students who were identified at the start of the semester as needing basic skills remediation in math, writing, and reading.
A5: For the purpose of this report, basic skills courses are any courses in these subject areas that are below a 100 level course (001-099).
A8: Examples: | B8: MATH = | C8: elementary math, pre-algebra, algebra
B9: WRITING = | C9: communication skills (written and oral)
B10: READING = | C10: comprehension skills development
A12: 1. How many students were identified as needing remediation at the beginning of the
A13: FALL SEMESTER:
A15: One Area of Remediation
A16: MATH only | B16: WRITING only | C16: READING only | D16: READING/WRITING* | E16: TOTAL
E17: =SUM(A17:D17) -> 0
A18: * Reading/writing combined course
A20: Two Areas of Remediation
A21: MATH+WRITING | B21: MATH+READING | C21: WRITING+READING | D21: READING/WRITING*+MATH | E21: TOTAL
E22: =SUM(A22:D22) -> 0
A23: * Reading/writing combined course
A25: Three Areas of Remediation
A26: MATH+WRITING+READING
A30: 2. How many students were identified as needing remediation at the beginning of the
A31: SPRING SEMESTER:
A33: One Area of Remediation
A34: MATH only | B34: WRITING only | C34: READING only | D34: READING/WRITING* | E34: TOTAL
E35: =SUM(A35:D35) -> 0
A36: * Reading/writing combined course
A38: Two Areas of Remediation
A39: MATH+WRITING | B39: MATH+READING | C39: WRITING+READING | D39: READING/WRITING*+MATH | E39: TOTAL
E40: =SUM(A40:D40) -> 0
A41: * Reading/writing combined course
A43: Three Areas of Remediation
A44: MATH+WRITING+READING
A47: 3. How many of your students enrolled in ESL courses for the:
B49: Fall semester
B51: Spring semester

Sheet ARTAB 6
A1: TABLE 6 | B1: FINANCIAL AID DISTRIBUTION
A3: (Non-EOF ) = Regular Admit Students: distribute the financial aid provided from the sources listed below.
A4: EOF Students: distribute the financial aid provided for SUMMER and ACADEMIC YEAR from the sources listed.
A5: # = total number of students receiving aid from each source.
A6: Amount = total dollar amount of aid provided from each source. (This is not a per student number.)
A8: FY 2026 | D8: NON-EOF STUDENTS | F8: EOF PROGRAM STUDENTS
D11: AY 2025-2026 | F11: SUMMER 2025** (Note: Data reported within this section must be consistent with the program's 2025 Summer Final Expenditure Report.) | H11: AY 2025-2026** (Note: EOF data reported within this section must be consistent with the program's AY25-26 EOF Final Enrollment Report.)
A12: A. INSTITUTIONAL FUNDS | D12: # | E12: Amount | F12: # | G12: Amount | H12: # * | I12: Amount
A13: Institutional Grant
A14: Waivers (Tuition & Fees)
A15: Loans
A16: Work
A17: Sub-total | D17: =SUM(D13:D16) -> 0 | E17: =SUM(E13:E16) -> 0 | F17: =SUM(F13:F16) -> 0 | G17: =SUM(G13:G16) -> 0 | H17: =SUM(H13:H16) -> 0 | I17: =SUM(I13:I16) -> 0
A18: B. FEDERAL FUNDS | D18: # | E18: Amount | F18: # | G18: Amount | H18: # | I18: Amount
A19: PELL
A20: SEOG
A21: GEAR UP Scholarship
A22: Federal Work Study
A23: Federal Perkins Loan
A24: Federal Stafford Loan
A25: Federal Unsubsidized Loan
A26: Federal Plus Loan
A27: Other
A28: Sub-total | D28: =SUM(D19:D27) -> 0 | E28: =SUM(E19:E27) -> 0 | F28: =SUM(F19:F27) -> 0 | G28: =SUM(G19:G27) -> 0 | H28: =SUM(H19:H27) -> 0 | I28: =SUM(I19:I27) -> 0
A29: C. STATE FUNDS | D29: # | E29: Amount | F29: # | G29: Amount | H29: # | I29: Amount
A30: EOF **
A31: TAG
A32: NJ STARS (I and II)
A33: Community Coll. Opp. Grant (CCOG)
A34: Garden State Guarantee (GSG)
A35: Other State Grants (Bloustein,GSS,etc.)
A36: NJ Class Loan
A37: Other Loans
A38: Sub-total | D38: =SUM(D31:D37) -> 0 | E38: =SUM(E31:E37) -> 0 | F38: =SUM(F30:F37) -> 0 | G38: =SUM(G30:G37) -> 0 | H38: =SUM(H30:H37) -> 0 | I38: =SUM(I30:I37) -> 0
A39: D. RESTRICTED FUNDS | D39: # | E39: Amount | F39: # | G39: Amount | H39: # | I39: Amount
A40: Other grants/scholarships***
A41: GRAND TOTAL | D41: =SUM(D17,D28,D38,D40) -> 0 | E41: =E17+E28+E38+E40 -> 0 | F41: =SUM(F17,F28,F38,F40) -> 0 | G41: =G17+G28+G38+G40 -> 0 | H41: =SUM(H17,H28,H38,H40) -> 0 | I41: =I17+I28+I38+I40 -> 0
A43: * #s in the shaded column should not exceed total given in Annual Report Summary | H43: =SUMMARY!G24 -> 0
A45: ** The EOF dollar amount for AY 2025-2026 should not exceed the total value of awards provided on the 2025-2026 EOF Final Enrollment Report. If this is the case, then a refund may be due to EOF. Please contact your EOF program liaison immediately if there is a dicrepancy. The dollar amount and student numbers for summer 2025 should be the same information that was provided on the institution's FY26 2025 EOF Summer Program Final Expenditure Report. Do not include the information from your FY27 EOF 2026 Summer Program Final Expenditure Report. If there is a discrepancy, please contact your program liaison.
A52: *** For example, scholarships from churches, foundations, etc.

Sheet ARTAB 7
A1: TABLE 7 | B1: STUDENT PROGRESS INDICATORS
A2: #1 Distribute your AY 25-26 students by award counter, gpa, and total cumulative credits earned at your institution.
A3: #2 Report the total number of degree and non-degree credits attempted vs. earned for all students listed.
A4: #3 Indicate the number of students NOT making satisfactory progress.
A5: Please note for each table that follows: A) The total number of credits earned (Section #2) should equal the distribution of credits in Section #1 above. This information should reflect each student's cumulative academic progress to-date (not just the credits earned during AY 2025-2026). B) Transfers listed in column M should be distributed throughout columns (A) thru (K) and INCLUDED in column L (total). For the purposes of Table 7, please only include external transfer students in column (M). These students should also be reflected in the Annual Report Summary section 3c-3. Non-EOF Internal transfer students and EOF Internal transfer students (as reported in the Annual Report Summary section 3c-1 & 3c-2) should be distributed throughout columns (A) thru (K) and included in column L (total). C) Degree credits attempted in Section # 2 should include withdrawals and incompletes. D) Students with a cumulative award counter of .25 (part-time freshman) should be rounded up and included in Table 7A (award counter = .50). Students with a cumulative award counter of .75 should be rounded up and included in Table 7B (award counter = 1.00). Students with a cumulative award counter of 1.25 should be rounded up and included in Table 7c (award counter = 1.5 and up). E) Non-funded ONLY students reported in Table 7D MUST be listed on the Final Enrollment Report. The number of students should match the information contained in item #1 within the Summary section. F) When completing tables 7A-7D, the total number of credits earned within each column (A-K) should not fall below the minimum and maximum allowable range. (Example: If there are only 4 students listed within column B (13-24 credits), then the minimum number of credits earned for this column (13 credits x 4 students) = 52 credits. The maximum number of credits would be (24 credits x 4 students) = 96 credits.) G) To assist programs with the ability to confirm the appropriateness of the information provided in Tables 7A-7D, programs can refer to the "Table A-D Reference Charts" and "Total Credits Earned Chart" tabs.
A22: TOTAL NUMBER OF STUDENTS LISTED IN TABLES 7A THROUGH 7D SHOULD EQUAL = | M22: =SUMMARY!G24 -> 0
A24: 7A: AWARD COUNTER = .50
A25: #1 Distribute students by total credits earned and cumulative gpa.
B27: TOTAL CUMULATIVE # OF CREDITS EARNED | N27: (M)
A28: CUM. GPA | B28: (A) | C28: (B) | D28: (C) | E28: (D) | F28: (E) | G28: (F) | H28: (G) | I28: (H) | J28: (I) | K28: (J) | L28: (K) | M28: (L) | N28: Transfers (External Only)
B29: 0-12 | C29: 13-24 | D29: 25-36 | E29: 37-48 | F29: 49-60 | G29: 61-72 | H29: 73-84 | I29: 85-96 | J29: 97-108 | K29: 109-120 | L29: 121+ | M29: TOTAL
A30: 0-.50 | M30: =SUM(B30:L30) -> 0
A31: .51-1.00 | M31: =SUM(B31:L31) -> 0
A32: 1.01-1.50 | M32: =SUM(B32:L32) -> 0
A33: 1.51-1.75 | M33: =SUM(B33:L33) -> 0
A34: 1.76-1.99 | M34: =SUM(B34:L34) -> 0
A35: 2.00-2.29 | M35: =SUM(B35:L35) -> 0
A36: 2.30-2.69 | M36: =SUM(B36:L36) -> 0
A37: 2.70-3.00 | M37: =SUM(B37:L37) -> 0
A38: 3.01-3.29 | M38: =SUM(B38:L38) -> 0
A39: 3.30-3.69 | M39: =SUM(B39:L39) -> 0
A40: 3.70-4.00 | M40: =SUM(B40:L40) -> 0
A41: 4.01-4.30 | M41: =SUM(B41:L41) -> 0
A42: TOTAL | B42: =SUM(B30:B41) -> 0 | C42: =SUM(C30:C41) -> 0 | D42: =SUM(D30:D41) -> 0 | E42: =SUM(E30:E41) -> 0 | F42: =SUM(F30:F41) -> 0 | G42: =SUM(G30:G41) -> 0 | H42: =SUM(H30:H41) -> 0 | I42: =SUM(I30:I41) -> 0 | ... N42: =SUM(N30:N41) -> 0
A44: #2 Total Credits attempted/earned | F44: Non-Degree | I44: Degree | L44: TOTAL
A45: TOTAL # OF CREDITS ATTEMPTED: | L45: =SUM(F45,I45) -> 0
A46: TOTAL # OF CREDITS EARNED: | L46: =SUM(F46,I46) -> 0
A48: #3 TOTAL # STUDS. WITH AWARD COUNTER = .50 NOT MAKING SATISFACTORY PROGRESS:
A52: 7B: AWARD COUNTER = 1.00
A53: #1 Distribute students by total credits earned and cumulative gpa.
B55: TOTAL CUMULATIVE # OF CREDITS EARNED
A56: CUM. GPA | B56: (A) | C56: (B) | D56: (C) | E56: (D) | F56: (E) | G56: (F) | H56: (G) | I56: (H) | J56: (I) | K56: (J) | L56: (K) | M56: (L) | N56: (M)
B57: 0-12 | C57: 13-24 | D57: 25-36 | E57: 37-48 | F57: 49-60 | G57: 61-72 | H57: 73-84 | I57: 85-96 | J57: 97-108 | K57: 109-120 | L57: 121+ | M57: TOTAL | N57: Transfers (External Only)
A58: 0-.50 | M58: =SUM(B58:L58) -> 0
A59: .51-1.00 | M59: =SUM(B59:L59) -> 0
A60: 1.01-1.50 | M60: =SUM(B60:L60) -> 0
A61: 1.51-1.75 | M61: =SUM(B61:L61) -> 0
A62: 1.76-1.99 | M62: =SUM(B62:L62) -> 0
A63: 2.00-2.29 | M63: =SUM(B63:L63) -> 0
A64: 2.30-2.69 | M64: =SUM(B64:L64) -> 0
...

Sheet NARRATIVE
B1: ANNUAL REPORT NARRATIVE
B3: When writing your program's annual report narrative, clearly divide and label each section in a manner that will allow for the reader to make a clear and obvious distinction in your responses to each of the items listed below.
B7: 1) Please list the major accomplishments of your program as well as student accomplishments during the 2025-2026 academic year. The narrative must include an assessment of how you met the EOF program goals and objectives contained in your FY 2026 (FY26) EOF Contract Attachment B1 (please refer back to your B1 contract attachment for FY26). 2) Describe how you have used the results from FY26 to change any program services offered for FY27. 3) Describe/outline any components of your program's activities or characteristics of the student population that you serve that cannot be captured in Tables 1-7 of the EOF Annual Report or the program goals and objectives listed in the contract budget attachments B1 for the 2025-2026 academic year. In addition to providing outcomes data not covered in the formal report pages, you can also include information about program changes and collaborations that have helped to improve services to students and have increased efficiencies and/or strengthened program components. 4) As a result of your FY 2026 EOF academic year Article IV budget allocation and institutional financial support, describe program enhancements and/or challenges you confronted and how they were addressed as a result of the budget. PLEASE NOTE: THIS NARRATIVE MUST BE PROVIDED IN A SEPARATE WORD DOCUMENT AND WILL BE SUBMITTED VIA QUALTRICS.

Sheet Table A-D Reference Charts
B1: The information below is provided as a reference tool ONLY. The data reflected within Tables 7A-7D must fall within the identified ranges indicated below.
B2: Total Cumulative # of Credits Earned Minimum and Maximum Chart
B3: Credits Ranges
B4: 0-12 | D4: 13-24 | F4: 25-36 | H4: 37-48 | J4: 49-60 | L4: 61-72 | N4: 73-84 | P4: 85-96 | R4: 97-108 | T4: 109-120 | V4: 121+ | X4: Total Credits Earned
B5: Min | C5: Max | D5: Min | E5: Max | F5: Min | G5: Max | H5: Min | I5: Max | J5: Min | K5: Max | L5: Min | M5: Max | N5: Min | O5: Max | P5: Min | Q5: Max | R5: Min | S5: Max | T5: Min | U5: Max | V5: Min | W5: Max | X5: Min | Y5: Max
B6: 0 | C6: 12 | D6: 13 | E6: 24 | F6: 25 | G6: 36 | H6: 37 | I6: 48 | J6: 49 | K6: 60 | L6: 61 | M6: 72 | N6: 73 | O6: 84 | P6: 85 | Q6: 96 | R6: 97 | S6: 108 | T6: 109 | U6: 120 | V6: 121 | W6: 200 | X6: =SUM(B6,D6,F6,H6,J6,L6,N6,P6,R6,T6,V6) -> 670 | Y6: =SUM(C6,E6,G6,I6,K6,M6,O6,Q6,S6,U6,W6) -> 860
B8: Table 7A Reference Chart
B9: 0-12 | D9: 13-24 | F9: 25-36 | H9: 37-48 | J9: 49-60 | L9: 61-72 | N9: 73-84 | P9: 85-96 | R9: 97-108 | T9: 109-120 | V9: 121+ | X9: Total Credits Earned
B10: Min | C10: Max | D10: Min | E10: Max | F10: Min | G10: Max | H10: Min | I10: Max | J10: Min | K10: Max | L10: Min | M10: Max | N10: Min | O10: Max | P10: Min | Q10: Max | R10: Min | S10: Max | T10: Min | U10: Max | V10: Min | W10: Max | X10: Min | Y10: Max
B11: ='ARTAB 7'!B42*'Table A-D Reference Charts'!B6 -> 0 | C11: ='ARTAB 7'!B42*C6 -> 0 | D11: ='ARTAB 7'!C42*'Table A-D Reference Charts'!D6 -> 0 | E11: ='ARTAB 7'!C42*E6 -> 0 | F11: ='ARTAB 7'!D42*F6 -> 0 | G11: ='ARTAB 7'!D42*G6 -> 0 | H11: ='ARTAB 7'!E42*H6 -> 0 | I11: ='ARTAB 7'!E42*I6 -> 0 | J11: ='ARTAB 7'!F42*J6 -> 0 | K11: ='ARTAB 7'!F42*K6 -> 0 | L11: ='ARTAB 7'!G42*L6 -> 0 | M11: ='ARTAB 7'!G42*M6 -> 0 | N11: ='ARTAB 7'!H42*N6 -> 0 | O11: ='ARTAB 7'!H42*O6 -> 0 | P11: ='ARTAB 7'!I42*P6 -> 0 | Q11: ='ARTAB 7'!I42*Q6 -> 0 | R11: ='ARTAB 7'!J42*R6 -> 0 | S11: ='ARTAB 7'!J42*S6 -> 0 | T11: ='ARTAB 7'!K42*T6 -> 0 | U11: ='ARTAB 7'!K42*U6 -> 0 | V11: ='ARTAB 7'!L42*V6 -> 0 | W11: ='ARTAB 7'!L42*W6 -> 0 | X11: =SUM(B11,D11,F11,H11,J11,L11,N11,P11,R11,T11,V11) -> 0 | Y11: =SUM(C11,E11,G11,I11,K11,M11,O11,Q11,S11,U11,W11) -> 0
B13: Table 7B Reference Chart
B14: 0-12 | D14: 13-24 | F14: 25-36 | H14: 37-48 | J14: 49-60 | L14: 61-72 | N14: 73-84 | P14: 85-96 | R14: 97-108 | T14: 109-120 | V14: 121+ | X14: Total Credits Earned
B15: Min | C15: Max | D15: Min | E15: Max | F15: Min | G15: Max | H15: Min | I15: Max | J15: Min | K15: Max | L15: Min | M15: Max | N15: Min | O15: Max | P15: Min | Q15: Max | R15: Min | S15: Max | T15: Min | U15: Max | V15: Min | W15: Max | X15: Min | Y15: Max
B16: ='ARTAB 7'!B70*'Table A-D Reference Charts'!B6 -> 0 | C16: ='ARTAB 7'!B70*'Table A-D Reference Charts'!C6 -> 0 | D16: ='ARTAB 7'!C70*'Table A-D Reference Charts'!D6 -> 0 | E16: ='ARTAB 7'!C70*'Table A-D Reference Charts'!E6 -> 0 | F16: ='ARTAB 7'!D70*'Table A-D Reference Charts'!F6 -> 0 | G16: ='ARTAB 7'!D70*'Table A-D Reference Charts'!G6 -> 0 | H16: ='ARTAB 7'!E70*'Table A-D Reference Charts'!H6 -> 0 | I16: ='ARTAB 7'!E70*'Table A-D Reference Charts'!I6 -> 0 | J16: ='ARTAB 7'!F70*'Table A-D Reference Charts'!J6 -> 0 | K16: ='ARTAB 7'!F70*'Table A-D Reference Charts'!K6 -> 0 | L16: ='ARTAB 7'!G70*'Table A-D Reference Charts'!L6 -> 0 | M16: ='ARTAB 7'!G70*'Table A-D Reference Charts'!M6 -> 0 | N16: ='ARTAB 7'!H70*'Table A-D Reference Charts'!N6 -> 0 | O16: ='ARTAB 7'!H70*'Table A-D Reference Charts'!O6 -> 0 | P16: ='ARTAB 7'!I70*P6 -> 0 | Q16: ='ARTAB 7'!I70*Q6 -> 0 | R16: ='ARTAB 7'!J70*R6 -> 0 | S16: ='ARTAB 7'!J70*S6 -> 0 | T16: ='ARTAB 7'!K70*T6 -> 0 | U16: ='ARTAB 7'!K70*U6 -> 0 | V16: ='ARTAB 7'!L70*V6 -> 0 | W16: ='ARTAB 7'!L70*W6 -> 0 | X16: =SUM(B16,D16,F16,H16,J16,L16,N16,P16,R16,T16,V16) -> 0 | Y16: =SUM(C16,E16,G16,I16,K16,M16,O16,Q16,S16,U16,W16) -> 0
B18: Table 7C Reference Chart
B19: 0-12 | D19: 13-24 | F19: 25-36 | H19: 37-48 | J19: 49-60 | L19: 61-72 | N19: 73-84 | P19: 85-96 | R19: 97-108 | T19: 109-120 | V19: 121+ | X19: Total Credits Earned
B20: Min | C20: Max | D20: Min | E20: Max | F20: Min | G20: Max | H20: Min | I20: Max | J20: Min | K20: Max | L20: Min | M20: Max | N20: Min | O20: Max | P20: Min | Q20: Max | R20: Min | S20: Max | T20: Min | U20: Max | V20: Min | W20: Max | X20: Min | Y20: Max
B21: ='ARTAB 7'!B98*'Table A-D Reference Charts'!B6 -> 0 | C21: ='ARTAB 7'!B98*C6 -> 0 | D21: ='ARTAB 7'!C98*'Table A-D Reference Charts'!D6 -> 0 | E21: ='ARTAB 7'!C98*E6 -> 0 | F21: ='ARTAB 7'!D98*F6 -> 0 | G21: ='ARTAB 7'!D98*G6 -> 0 | H21: ='ARTAB 7'!E98*H6 -> 0 | I21: ='ARTAB 7'!E98*I6 -> 0 | J21: ='ARTAB 7'!F98*J6 -> 0 | K21: ='ARTAB 7'!F98*K6 -> 0 | L21: ='ARTAB 7'!G98*L6 -> 0 | M21: ='ARTAB 7'!G98*M6 -> 0 | N21: ='ARTAB 7'!H98*N6 -> 0 | O21: ='ARTAB 7'!H98*O6 -> 0 | P21: ='ARTAB 7'!I98*P6 -> 0 | Q21: ='ARTAB 7'!I98*Q6 -> 0 | R21: ='ARTAB 7'!J98*R6 -> 0 | S21: ='ARTAB 7'!J98*S6 -> 0 | T21: ='ARTAB 7'!K98*T6 -> 0 | U21: ='ARTAB 7'!K98*U6 -> 0 | V21: ='ARTAB 7'!L98*V6 -> 0 | W21: ='ARTAB 7'!L98*W6 -> 0 | X21: =SUM(B21,D21,F21,H21,J21,L21,N21,P21,R21,T21,V21) -> 0 | Y21: =SUM(C21,E21,G21,I21,K21,M21,O21,Q21,S21,U21,W21) -> 0
B23: Table 7D Reference Chart
B24: 0-12 | D24: 13-24 | F24: 25-36 | H24: 37-48 | J24: 49-60 | L24: 61-72 | N24: 73-84 | P24: 85-96 | R24: 97-108 | T24: 109-120 | V24: 121+ | X24: Total Credits Earned
B25: Min | C25: Max | D25: Min | E25: Max | F25: Min | G25: Max | H25: Min | I25: Max | J25: Min | K25: Max | L25: Min | M25: Max | N25: Min | O25: Max | P25: Min | Q25: Max | R25: Min | S25: Max | T25: Min | U25: Max | V25: Min | W25: Max | X25: Min | Y25: Max
B26: ='ARTAB 7'!B125*'Table A-D Reference Charts'!B6 -> 0 | C26: ='ARTAB 7'!B125*C6 -> 0 | D26: ='ARTAB 7'!C125*'Table A-D Reference Charts'!D6 -> 0 | E26: ='ARTAB 7'!C125*E6 -> 0 | F26: ='ARTAB 7'!D125*F6 -> 0 | G26: ='ARTAB 7'!D125*G6 -> 0 | H26: ='ARTAB 7'!E125*H6 -> 0 | I26: ='ARTAB 7'!E125*I6 -> 0 | J26: ='ARTAB 7'!F125*J6 -> 0 | K26: ='ARTAB 7'!F125*K6 -> 0 | L26: ='ARTAB 7'!G125*L6 -> 0 | M26: ='ARTAB 7'!G125*M6 -> 0 | N26: ='ARTAB 7'!H125*N6 -> 0 | O26: ='ARTAB 7'!H125*O6 -> 0 | P26: ='ARTAB 7'!I125*P6 -> 0 | Q26: ='ARTAB 7'!I125*Q6 -> 0 | R26: ='ARTAB 7'!J125*R6 -> 0 | S26: ='ARTAB 7'!J125*S6 -> 0 | T26: ='ARTAB 7'!K125*T6 -> 0 | U26: ='ARTAB 7'!K125*U6 -> 0 | V26: ='ARTAB 7'!L125*V6 -> 0 | W26: ='ARTAB 7'!L125*W6 -> 0 | X26: =SUM(B26,D26,F26,H26,J26,L26,N26,P26,R26,T26,V26) -> 0 | Y26: =SUM(C26,E26,G26,I26,K26,M26,O26,Q26,S26,U26,W26) -> 0

Sheet Total Credits Earned Chart
B1: The information below is provided as a reference tool ONLY. The data reflected within Tables 7A-7D must fall within the identified ranges indicated below.
C2: Total Cumulative # of Credits Earned Minimum and Maximum Chart
B3: # of Students | C3: Credit Ranges
C4: 0-12 | E4: 13-24 | G4: 25-36 | I4: 37-48 | K4: 49-60 | M4: 61-72 | O4: 73-84 | Q4: 85-96 | S4: 97-108 | U4: 109-120 | W4: 121+
C5: Min | D5: Max | E5: Min | F5: Max | G5: Min | H5: Max | I5: Min | J5: Max | K5: Min | L5: Max | M5: Min | N5: Max | O5: Min | P5: Max | Q5: Min | R5: Max | S5: Min | T5: Max | U5: Min | V5: Max | W5: Min | X5: Max
B6: 1 | C6: 0 | D6: 12 | E6: 13 | F6: 24 | G6: 24 | H6: 36 | I6: 37 | J6: 48 | K6: 49 | L6: 60 | M6: 61 | N6: 72 | O6: 73 | P6: 84 | Q6: 85 | R6: 96 | S6: 97 | T6: 108 | U6: 109 | V6: 120 | W6: 121 | X6: 200
B7: 2 | C7: =C$6*$B7 -> 0 | D7: =D$6*$B7 -> 24 | E7: =E$6*$B7 -> 26 | F7: =F$6*$B7 -> 48 | G7: =G$6*$B7 -> 48 | H7: =H$6*$B7 -> 72 | I7: =I$6*$B7 -> 74 | J7: =J$6*$B7 -> 96 | ... X7: =X$6*$B7 -> 400
B8: 3 | C8: =C$6*$B8 -> 0 | D8: =D$6*$B8 -> 36 | E8: =E$6*$B8 -> 39 | F8: =F$6*$B8 -> 72 | G8: =G$6*$B8 -> 72 | H8: =H$6*$B8 -> 108 | I8: =I$6*$B8 -> 111 | J8: =J$6*$B8 -> 144 | ... X8: =X$6*$B8 -> 600
B9: 4 | C9: =C$6*$B9 -> 0 | D9: =D$6*$B9 -> 48 | E9: =E$6*$B9 -> 52 | F9: =F$6*$B9 -> 96 | G9: =G$6*$B9 -> 96 | H9: =H$6*$B9 -> 144 | I9: =I$6*$B9 -> 148 | J9: =J$6*$B9 -> 192 | ... X9: =X$6*$B9 -> 800
B10: 5 | C10: =C$6*$B10 -> 0 | D10: =D$6*$B10 -> 60 | E10: =E$6*$B10 -> 65 | F10: =F$6*$B10 -> 120 | G10: =G$6*$B10 -> 120 | H10: =H$6*$B10 -> 180 | I10: =I$6*$B10 -> 185 | J10: =J$6*$B10 -> 240 | ... X10: =X$6*$B10 -> 1000
B11: 6 | C11: =C$6*$B11 -> 0 | D11: =D$6*$B11 -> 72 | E11: =E$6*$B11 -> 78 | F11: =F$6*$B11 -> 144 | G11: =G$6*$B11 -> 144 | H11: =H$6*$B11 -> 216 | I11: =I$6*$B11 -> 222 | J11: =J$6*$B11 -> 288 | ... X11: =X$6*$B11 -> 1200
B12: 7 | C12: =C$6*$B12 -> 0 | D12: =D$6*$B12 -> 84 | E12: =E$6*$B12 -> 91 | F12: =F$6*$B12 -> 168 | G12: =G$6*$B12 -> 168 | H12: =H$6*$B12 -> 252 | I12: =I$6*$B12 -> 259 | J12: =J$6*$B12 -> 336 | ... X12: =X$6*$B12 -> 1400
B13: 8 | C13: =C$6*$B13 -> 0 | D13: =D$6*$B13 -> 96 | E13: =E$6*$B13 -> 104 | F13: =F$6*$B13 -> 192 | G13: =G$6*$B13 -> 192 | H13: =H$6*$B13 -> 288 | I13: =I$6*$B13 -> 296 | J13: =J$6*$B13 -> 384 | ... X13: =X$6*$B13 -> 1600
B14: 9 | C14: =C$6*$B14 -> 0 | D14: =D$6*$B14 -> 108 | E14: =E$6*$B14 -> 117 | F14: =F$6*$B14 -> 216 | G14: =G$6*$B14 -> 216 | H14: =H$6*$B14 -> 324 | I14: =I$6*$B14 -> 333 | J14: =J$6*$B14 -> 432 | ... X14: =X$6*$B14 -> 1800
B15: 10 | C15: =C$6*$B15 -> 0 | D15: =D$6*$B15 -> 120 | E15: =E$6*$B15 -> 130 | F15: =F$6*$B15 -> 240 | G15: =G$6*$B15 -> 240 | H15: =H$6*$B15 -> 360 | I15: =I$6*$B15 -> 370 | J15: =J$6*$B15 -> 480 | ... X15: =X$6*$B15 -> 2000
B16: 11 | C16: =C$6*$B16 -> 0 | D16: =D$6*$B16 -> 132 | E16: =E$6*$B16 -> 143 | F16: =F$6*$B16 -> 264 | G16: =G$6*$B16 -> 264 | H16: =H$6*$B16 -> 396 | I16: =I$6*$B16 -> 407 | J16: =J$6*$B16 -> 528 | ... X16: =X$6*$B16 -> 2200
B17: 12 | C17: =C$6*$B17 -> 0 | D17: =D$6*$B17 -> 144 | E17: =E$6*$B17 -> 156 | F17: =F$6*$B17 -> 288 | G17: =G$6*$B17 -> 288 | H17: =H$6*$B17 -> 432 | I17: =I$6*$B17 -> 444 | J17: =J$6*$B17 -> 576 | ... X17: =X$6*$B17 -> 2400
B18: 13 | C18: =C$6*$B18 -> 0 | D18: =D$6*$B18 -> 156 | E18: =E$6*$B18 -> 169 | F18: =F$6*$B18 -> 312 | G18: =G$6*$B18 -> 312 | H18: =H$6*$B18 -> 468 | I18: =I$6*$B18 -> 481 | J18: =J$6*$B18 -> 624 | ... X18: =X$6*$B18 -> 2600
... B505: 500 | C505: =C$6*$B505 -> 0 | D505: =D$6*$B505 -> 6000 | E505: =E$6*$B505 -> 6500 | F505: =F$6*$B505 -> 12000 | G505: =G$6*$B505 -> 12000 | H505: =H$6*$B505 -> 18000 | I505: =I$6*$B505 -> 18500 | J505: =J$6*$B505 -> 24000 | ... X505: =X$6*$B505 -> 100000
