Workbook

Sheet Cover Sheet
A1: Provider name | B1: ABC Corp
A2: Federal Tax ID | B2: 1234567890
A3: Reporting Officer Name | B3: John Smith
A4: Reporting Officer Title | B4: CEO
A5: Reporting Officer Phone # | B5: 609 555-1234
A6: Reporting Officer E-mail | B6: johnsmith@abccorp.com
A8: Reporting time period
A9: Date of last day of pay period base hourly wage reported prior to 1/1/2026. | B9: 46017
A10: Date of last day of pay period increase hourly wage reported after 1/1/2026. | B10: 46031
A12: CERTIFICATION: Through completion of this report, I hereby certify that the above named entity, or myself if sole proprietor, in accordance with the State of New Jersey Fiscal Year 2026 Appropriations Act, received an enhancement payment rate for certain services identified by the Legislature and disbursed this amount to direct support professionals through a lump sump payment, a wage increase, or a combination thereof. I understand that if any of these statements or the information provided are found to be false, I am responsible for returning the amounts received to the State of New Jersey Treasury.

Sheet Wages
A1: =Summary!B1 -> ABC Corp
A2: =Summary!B2 -> 1234567890 | B2: Calendar Year 2025 | C2: Calendar Year 2026
A3: DSP employee ID | B3: Base hourly rate | C3: Increased hourly rate | D3: Hourly increase
A4: 1 | B4: 19.25 | C4: =B4+0.46 -> 19.71 | D4: =IF(AND(B4>0,C4>0),C4-B4,"Not on payroll in both time periods") -> 0.46
A5: 2 | B5: 19.25 | C5: =B5+0.46 -> 19.71 | D5: =IF(AND(B5>0,C5>0),C5-B5,"Not on payroll in both time periods") -> 0.46
A6: 3 | B6: 20.25 | C6: =B6+0.46 -> 20.71 | D6: =IF(AND(B6>0,C6>0),C6-B6,"Not on payroll in both time periods") -> 0.46
A7: 4 | B7: 19.25 | C7: =B7+0.46 -> 19.71 | D7: =IF(AND(B7>0,C7>0),C7-B7,"Not on payroll in both time periods") -> 0.46
A8: 5 | B8: 19.25 | C8: =B8+0.46 -> 19.71 | D8: =IF(AND(B8>0,C8>0),C8-B8,"Not on payroll in both time periods") -> 0.46
A9: 6 | B9: 22 | C9: =B9+0.46 -> 22.46 | D9: =IF(AND(B9>0,C9>0),C9-B9,"Not on payroll in both time periods") -> 0.46
A10: 7 | B10: 22.5 | C10: =B10+0.46 -> 22.96 | D10: =IF(AND(B10>0,C10>0),C10-B10,"Not on payroll in both time periods") -> 0.46
A11: 8 | B11: 19 | C11: =B11+0.46 -> 19.46 | D11: =IF(AND(B11>0,C11>0),C11-B11,"Not on payroll in both time periods") -> 0.46
A12: 9 | B12: 0 | C12: 20 | D12: =IF(AND(B12>0,C12>0),C12-B12,"Not on payroll in both time periods") -> Not on payroll in both time periods
A13: 10 | B13: 32 | C13: =B13+0.46 -> 32.46 | D13: =IF(AND(B13>0,C13>0),C13-B13,"Not on payroll in both time periods") -> 0.46
A14: 11 | B14: 19 | C14: =B14+0.46 -> 19.46 | D14: =IF(AND(B14>0,C14>0),C14-B14,"Not on payroll in both time periods") -> 0.46
A15: 12 | B15: 19.25 | C15: =B15+0.46 -> 19.71 | D15: =IF(AND(B15>0,C15>0),C15-B15,"Not on payroll in both time periods") -> 0.46
A16: 13 | B16: 0 | C16: 20 | D16: =IF(AND(B16>0,C16>0),C16-B16,"Not on payroll in both time periods") -> Not on payroll in both time periods
A17: 14 | B17: 0 | C17: 20.75 | D17: =IF(AND(B17>0,C17>0),C17-B17,"Not on payroll in both time periods") -> Not on payroll in both time periods
A18: 15 | B18: 0 | C18: 21.5 | D18: =IF(AND(B18>0,C18>0),C18-B18,"Not on payroll in both time periods") -> Not on payroll in both time periods
D19: =IF(AND(B19>0,C19>0),C19-B19,"Not on payroll in both time periods") -> Not on payroll in both time periods
D20: =IF(AND(B20>0,C20>0),C20-B20,"Not on payroll in both time periods") -> Not on payroll in both time periods
D21: =IF(AND(B21>0,C21>0),C21-B21,"Not on payroll in both time periods") -> Not on payroll in both time periods
D22: =IF(AND(B22>0,C22>0),C22-B22,"Not on payroll in both time periods") -> Not on payroll in both time periods
D23: =IF(AND(B23>0,C23>0),C23-B23,"Not on payroll in both time periods") -> Not on payroll in both time periods
D24: =IF(AND(B24>0,C24>0),C24-B24,"Not on payroll in both time periods") -> Not on payroll in both time periods
D25: =IF(AND(B25>0,C25>0),C25-B25,"Not on payroll in both time periods") -> Not on payroll in both time periods
D26: =IF(AND(B26>0,C26>0),C26-B26,"Not on payroll in both time periods") -> Not on payroll in both time periods
D27: =IF(AND(B27>0,C27>0),C27-B27,"Not on payroll in both time periods") -> Not on payroll in both time periods
D28: =IF(AND(B28>0,C28>0),C28-B28,"Not on payroll in both time periods") -> Not on payroll in both time periods
D29: =IF(AND(B29>0,C29>0),C29-B29,"Not on payroll in both time periods") -> Not on payroll in both time periods
D30: =IF(AND(B30>0,C30>0),C30-B30,"Not on payroll in both time periods") -> Not on payroll in both time periods
... D1463: =IF(AND(B1463>0,C1463>0),C1463-B1463,"Not on payroll in both time periods") -> Not on payroll in both time periods

Sheet Summary
A1: Provider name | B1: ='Cover Sheet'!B1 -> ABC Corp
A2: Federal Tax ID | B2: ='Cover Sheet'!B2 -> 1234567890
A3: Reporting Officer Name | B3: ='Cover Sheet'!B3 -> John Smith
A4: Reporting Officer Title | B4: ='Cover Sheet'!B4 -> CEO
A5: Reporting Officer Phone # | B5: ='Cover Sheet'!B5 -> 609 555-1234
A6: Reporting Officer E-mail | B6: ='Cover Sheet'!B6 -> johnsmith@abccorp.com
A8: Measure | B8: Base year | C8: Increase year
A9: Average regular hourly wage, all employees | B9: =IFERROR(ROUND(AVERAGEIF(Wages!B:B,"<>0"),2),) -> 21 | C9: =IFERROR(ROUND(AVERAGEIF(Wages!C:C,"<>0"),2),0) -> 21.22
A11: Total employees | B11: =COUNTIF(Wages!B:B,">0") -> 11 | C11: =COUNTIF(Wages!C:C,">0") -> 15
A12: Total employees on payroll from prior year | C12: =COUNTIFS(Wages!C:C,">0",Wages!B:B,">0") -> 11
A14: Summary for employees on payroll from prior year
A15: Average change in regular hourly wage | C15: =IFERROR(ROUND(AVERAGE(Wages!D:D),2),0) -> 0.46
A17: Employees - No hourly increase | C17: =COUNTIF(Wages!D:D,0) -> 0
A19: % of employees that did not receive any increase | C19: =IFERROR(C17/C12,0) -> 0
