{"text_format":"1","workbook":"xlsx","n_sheets":18,"sheets":["Cal Sheet-Percentage Impr","Calculation sheet","Impediments","Localized Factor Worksheet","Error Check","Macro","Ai factors","HiddenData","Blank","BLANK EXCLUSION SHEET","Sample Input","Localized Factors Summary","Instructions","Lane","LaneExample","Table_Calculation","Table_Calculation(Percentage)","LaneSketch"],"not_rendered":{"charts":1,"images":18,"macros":1,"external_links":2,"defined_names":17,"comments":0,"pivot_tables":0},"unopened":[],"bounds":{"document_bytes":16777216,"sheet_cells":100000,"rows_first":2000,"rows_last":500,"rows_between":2000,"halvings":0,"cell_chars":16384,"cell_head_chars":4096},"cells_cut":0,"cells_raw":0,"read":"whole","date_system":"1900"}

{"sheet":"Cal Sheet-Percentage Impr","index":0,"n_rows":202,"n_cols":63,"rows_kept":202,"cut":false,"hidden":true,"merged":[[27,0,28,1],[27,2,28,2],[27,3,28,3],[33,0,33,1],[33,2,33,3],[49,6,49,7],[49,8,49,9],[49,10,49,11],[49,12,49,13],[47,6,47,7],[47,8,47,9],[47,10,47,11],[47,12,47,13],[48,6,48,7],[48,8,48,9],[48,10,48,11],[48,12,48,13],[45,6,45,7],[45,8,45,9],[45,10,45,11],[45,12,45,13],[46,6,46,7],[46,8,46,9],[46,10,46,11],[46,12,46,13],[43,6,43,7],[43,8,43,9],[43,10,43,11],[43,12,43,13],[44,6,44,7],[44,8,44,9],[44,10,44,11],[44,12,44,13],[41,6,41,7],[41,8,41,9],[41,10,41,11],[41,12,41,13],[42,6,42,7],[42,8,42,9],[42,10,42,11],[42,12,42,13],[39,6,39,7],[39,8,39,9],[39,10,39,11],[39,12,39,13],[40,6,40,7],[40,8,40,9],[40,10,40,11],[40,12,40,13],[37,6,37,7],[37,8,37,9],[37,10,37,11],[37,12,37,13],[38,6,38,7],[38,8,38,9],[38,10,38,11],[38,12,38,13],[36,6,36,7],[36,8,36,9],[36,10,36,11],[36,12,36,13],[33,6,33,7],[33,8,33,9],[33,10,33,11],[33,12,33,13],[34,6,34,7],[34,8,34,9],[34,10,34,11],[34,12,34,13],[29,10,29,11],[29,12,29,13],[30,6,30,7],[30,8,30,9],[30,10,30,11],[30,12,30,13],[35,6,35,7],[35,8,35,9],[35,10,35,11],[35,12,35,13],[20,6,20,7],[20,8,20,9],[27,6,27,7],[27,8,27,9],[27,10,27,11],[27,12,27,13],[28,6,28,7],[28,8,28,9],[28,10,28,11],[28,12,28,13],[20,10,20,11],[20,12,20,13],[25,6,25,7],[25,8,25,9],[25,10,25,11],[25,12,25,13],[26,6,26,7],[26,8,26,9],[26,10,26,11],[26,12,26,13],[23,6,23,7],[23,8,23,9],[23,10,23,11],[23,12,23,13],[17,6,17,7],[17,8,17,9],[17,10,17,11],[17,12,17,13],[18,6,18,7],[18,8,18,9],[18,10,18,11],[18,12,18,13],[19,6,19,7],[19,8,19,9],[19,10,19,11],[19,12,19,13],[201,0,201,1],[201,2,201,3],[21,6,21,7],[21,8,21,9],[21,10,21,11],[21,12,21,13],[22,6,22,7],[22,8,22,9],[22,10,22,11],[22,12,22,13],[24,10,24,11],[24,12,24,13],[24,6,24,7],[24,8,24,9],[31,6,31,7],[31,8,31,9],[31,10,31,11],[31,12,31,13],[32,6,32,7],[32,8,32,9],[32,10,32,11],[32,12,32,13],[29,6,29,7],[29,8,29,9],[14,6,14,13],[15,6,15,13],[16,6,16,9],[16,10,16,13],[3,0,3,1],[24,0,24,1],[31,0,31,1],[25,0,26,0],[20,0,20,1],[23,0,23,1],[29,0,29,1],[16,0,16,3],[17,0,17,1],[18,0,18,3],[19,0,19,1],[9,0,9,1],[11,0,11,3],[13,0,13,3],[14,0,14,1],[15,0,15,1],[15,2,15,3],[4,0,4,3],[5,0,5,3],[6,0,6,1],[7,0,7,1],[8,0,8,1],[0,15,0,23],[0,0,0,1],[1,0,1,1],[1,2,1,3],[2,0,2,1],[5,6,5,9],[5,10,5,13],[6,6,7,6],[6,7,7,7],[6,8,7,8],[6,9,7,9],[6,10,7,10],[6,11,7,11],[6,12,7,12],[6,13,7,13],[0,6,0,13]]}
["Project:",null,29,null,null,null,{"$f":"CONCATENATE(\"Rounte \",\"from \",C8,\" MP \",C9,\" to MP \",C10,\" and \",\" from \",E8,\" MP \",E9,\" to \",E10)","v":"Rounte from 1 MP 2 to MP  and  from  MP  to "}]
["County:"]
["Township",null,"Burlington",null,null,null,null,null,null,null,null,null,null,null,null,null,null,null,null,null,null,null,null,null,null,null,null,null,null,null,null,null,null,null,null,null,null,null,null,null,null,null,null,null,null,null,null,null,null,null,null,null,null,null,null,null,null,null,null,null,null,null,"ERROR-1"]
["Designer's Initial",null,"NSK",null,null,null,null,null,null,null,null,null,null,null,null,null,null,null,null,null,null,null,null,null,null,null,null,null,null,null,null,null,null,null,null,null,null,null,null,null,null,null,null,null,null,null,null,null,null,null,null,null,null,null,null,null,null,null,null,null,null,null,"ERROR-2"]
["PROJECT DATA"]
["INPUT",null,null,null,null,null,"NB",null,null,null,"SB"]
["Direction",null,"NB!","SB!",null,null,null,"Miles","# of Lots","%age Exclusions",null,"Miles","# of Lots","%age Exclusions"]
["MP Begin",null,1]
["MP End",null,2,null,null,null,{"$f":"IF('Localized Factor Worksheet'!F49=\"\",\"\",CONCATENATE(\"Lane - \",'Localized Factor Worksheet'!F49))","v":"Lane - 1"},1.37,{"$f":"IF(G9=\"\",0,'Localized Factor Worksheet'!F73)","v":1},{"$f":"IF(G9=\"\",0,(IF(H9=0,(IF(I9=0,BK3,(IF(I9*5280/52.8>H9*'Ai factors'!$H$12,BK4,I9*5280/(H9*52.8))))),IF(I9*5280/52.8>H9*'Ai factors'!$H$12,BK4,I9*5280/(H9*52.8)))))","v":"ERROR-2"},{"$f":"IF('Localized Factor Worksheet'!T49=\"\",\"\",CONCATENATE(\"Lane - \",'Localized Factor Worksheet'!T49))","v":"Lane - 1"},4.55,{"$f":"IF(K9=\"\",0,'Localized Factor Worksheet'!T73)","v":0},{"$f":"IF(K9=\"\",0,(IF(L9=0,(IF(M9=0,BK3,(IF(M9*5280/52.8>L9*'Ai factors'!$H$12,BK4,M9*5280/(L9*52.8))))),IF(M9*5280/52.8>L9*'Ai factors'!$H$12,BK4,M9*5280/(L9*52.8)))))","v":0}]
["No. of Lanes",null,null,null,null,null,{"$f":"IF('Localized Factor Worksheet'!G49=\"\",\"\",CONCATENATE(\"Lane - \",'Localized Factor Worksheet'!G49))","v":""},2.09,{"$f":"IF(G10=\"\",0,'Localized Factor Worksheet'!G607)","v":0},{"$f":"IF(G10=\"\",0,(IF(H10=0,(IF(I10=0,BK3,(IF(I10*5280/52.8>H10*'Ai factors'!$H$12,BK4,I10*5280/(H10*52.8))))),IF(I10*5280/52.8>H10*'Ai factors'!$H$12,BK4,I10*5280/(H10*52.8)))))","v":0},{"$f":"IF('Localized Factor Worksheet'!U49=\"\",\"\",CONCATENATE(\"Lane - \",'Localized Factor Worksheet'!U49))","v":""},0,{"$f":"IF(K10=\"\",0,'Localized Factor Worksheet'!U73)","v":0},{"$f":"IF(K10=\"\",0,(IF(L10=0,(IF(M10=0,BK3,(IF(M10*5280/52.8>L10*'Ai factors'!$H$12,BK4,M10*5280/(L10*52.8))))),IF(M10*5280/52.8>L10*'Ai factors'!$H$12,BK4,M10*5280/(L10*52.8)))))","v":0}]
[null,null,null,null,null,null,{"$f":"IF('Localized Factor Worksheet'!H49=\"\",\"\",CONCATENATE(\"Lane - \",'Localized Factor Worksheet'!H49))","v":""},0,{"$f":"IF(G11=\"\",0,'Localized Factor Worksheet'!H73)","v":0},{"$f":"IF(G11=\"\",0,(IF(H11=0,(IF(I11=0,BK3,(IF(I11*5280/52.8>H11*'Ai factors'!$H$12,BK4,I11*5280/(H11*52.8))))),IF(I11*5280/52.8>H11*'Ai factors'!$H$12,BK4,I11*5280/(H11*52.8)))))","v":0},{"$f":"IF('Localized Factor Worksheet'!V49=\"\",\"\",CONCATENATE(\"Lane - \",'Localized Factor Worksheet'!V49))","v":""},0,{"$f":"IF(K11=\"\",0,'Localized Factor Worksheet'!V73)","v":0},{"$f":"IF(K11=\"\",0,(IF(L11=0,(IF(M11=0,BK3,(IF(M11*5280/52.8>L11*'Ai factors'!$H$12,BK4,M11*5280/(L11*52.8))))),IF(M11*5280/52.8>L11*'Ai factors'!$H$12,BK4,M11*5280/(L11*52.8)))))","v":0}]
["GENERALIZED FACTORS",null,null,null,null,null,{"$f":"IF('Localized Factor Worksheet'!I49=\"\",\"\",CONCATENATE(\"Lane - \",'Localized Factor Worksheet'!I49))","v":""},0,{"$f":"IF(G12=\"\",0,'Localized Factor Worksheet'!I73)","v":0},{"$f":"IF(G12=\"\",0,(IF(H12=0,(IF(I12=0,BK3,(IF(I12*5280/52.8>H12*'Ai factors'!$H$12,BK4,I12*5280/(H12*52.8))))),IF(I12*5280/52.8>H12*'Ai factors'!$H$12,BK4,I12*5280/(H12*52.8)))))","v":0},{"$f":"IF('Localized Factor Worksheet'!W49=\"\",\"\",CONCATENATE(\"Lane - \",'Localized Factor Worksheet'!W49))","v":""},0,{"$f":"IF(K12=\"\",0,'Localized Factor Worksheet'!W73)","v":0},{"$f":"IF(K12=\"\",0,(IF(L12=0,(IF(M12=0,BK3,(IF(M12*5280/52.8>L12*'Ai factors'!$H$12,BK4,M12*5280/(L12*52.8))))),IF(M12*5280/52.8>L12*'Ai factors'!$H$12,BK4,M12*5280/(L12*52.8)))))","v":0}]
[null,null,null,null,null,null,{"$f":"IF('Localized Factor Worksheet'!J49=\"\",\"\",CONCATENATE(\"Lane - \",'Localized Factor Worksheet'!J49))","v":""},0,{"$f":"IF(G13=\"\",0,'Localized Factor Worksheet'!FJ9)","v":0},{"$f":"IF(G13=\"\",0,(IF(H13=0,(IF(I13=0,BK3,(IF(I13*5280/52.8>H13*'Ai factors'!$H$12,BK4,I13*5280/(H13*52.8))))),IF(I13*5280/52.8>H13*'Ai factors'!$H$12,BK4,I13*5280/(H13*52.8)))))","v":0},{"$f":"IF('Localized Factor Worksheet'!X49=\"\",\"\",CONCATENATE(\"Lane - \",'Localized Factor Worksheet'!X49))","v":""},0,{"$f":"IF(K13=\"\",0,'Localized Factor Worksheet'!X73)","v":0},{"$f":"IF(K13=\"\",0,(IF(L13=0,(IF(M13=0,BK3,(IF(M13*5280/52.8>L13*'Ai factors'!$H$12,BK4,M13*5280/(L13*52.8))))),IF(M13*5280/52.8>L13*'Ai factors'!$H$12,BK4,M13*5280/(L13*52.8)))))","v":0}]
["INPUT",null,null,null,null,null,"Total Lane Miles",{"$f":"SUM(H9:H13)","v":3.46},{"$f":"SUM(I9:I13)","v":1},null,null,{"$f":"SUM(L9:L13)","v":4.55},{"$f":"SUM(M9:M13)","v":0}]
["Direction",null,"NB","SB",null,null,"ERROR 1-Lane and Exclusions input are not consistant. Check your input.                                                                ERROR-2-Percentage of Exclusions are exceeding the threshold value. Contact SME."]
["Type of Project",null,"Re-constructio or New Construction",null,null,null,"LIMITS OF EXCLUSIONS CALCULATION"]
["Pre-Construction",null,null,null,null,null,"NB",null,null,null,"SB"]
["Existing IRI",null,93,200,null,null,"TO BE TESTED",null,"NOT TO BE TESTED",null,"TO BE TESTED",null,"NOT TO BE TESTED"]
[null,null,null,null,null,null,"Lane 1",null,null,null,"Lane 1"]
["Perecentage Improvement",null,0,0.4,null,null,"MP 6.63 - MP 8",null,null,null,"MP 3.1 - MP 0.553"]
["Target IRI",null,{"$f":"C18*(1-C20)","v":93},{"$f":"D18*(1-D20)","v":120},null,null,"Lane 2",null,null,null,"MP 1 - MP 3"]
[null,null,null,null,null,null,"MP 0 - MP 2.086"]
["PAY ADJUSTMENT EQUATIONS"]
["Maximum +ve Pay Adjustment(A)",null,10,50,null,null,null,null,null,null,null,null,null,null,null,null,null,null,null,null,null,null,null,null,null,null,null,null,null,null,null,null,"Default Factors for PA"]
["IRI difference between lower limit of zero band and max +ve PA (B)",null,20,20,null,null,null,null,null,null,null,null,null,null,null,null,null,null,null,null,null,null,null,null,null,null,null,null,null,null,null,null,50,50]
["Zero Band","L1",5,5,null,null,null,null,null,null,null,null,null,null,null,null,null,null,null,null,null,null,null,null,null,null,null,null,null,null,null,null,20,20]
[null,"L2",5,5,null,null,null,null,null,null,null,null,null,null,null,null,null,null,null,null,null,null,null,null,null,null,null,null,null,null,null,null,5,5]
["IRI difference between upper limit of zero band and max -ve PA ( C)",null,70,70,null,null,null,null,null,null,null,null,null,null,null,null,null,null,null,null,null,null,null,null,null,null,null,null,null,null,null,null,5,5]
[null,null,null,null,null,null,null,null,null,null,null,null,null,null,null,null,null,null,null,null,null,null,null,null,null,null,null,null,null,null,null,null,70,70]
["Maximum -Ve Pay Adjustment (D)",null,-100,-500,null,null,null,null,null,null,null,null,null,null,null,null,null,null,null,null,null,null,null,null,null,null,null,null,null,null,null,null,-500,-500]
["Slope of Positive adjustment (E)",null,{"$f":"C24/C25","v":0.5},{"$f":"D24/D25","v":2.5}]
["Slope of Negative Adjustment (F)",null,{"$f":"ROUND(C30/C28,4)","v":-1.4286000000000001},{"$f":"ROUND(D30/D28,4)","v":-7.1429}]
[]
["NB",null,"SB"]
[{"$f":"CONCATENATE(\"IRI <\",C21-C26-C25)","v":"IRI <68"},{"$f":"CONCATENATE(\"PA = \",C24)","v":"PA = 10"},{"$f":"CONCATENATE(\"IRI <\",D21-D26-D25)","v":"IRI <95"},{"$f":"CONCATENATE(\"PA = \",D24)","v":"PA = 50"}]
[{"$f":"CONCATENATE(C21-C26-C25,\"<= IRI < \",C21-C26)","v":"68<= IRI < 88"},{"$f":"CONCATENATE(\"PA = \",C31*(C21-C26),\" - (\",C31,\" X \",\" IRI)\")","v":"PA = 44 - (0.5 X  IRI)"},{"$f":"CONCATENATE(D21-D26-D25,\"<= IRI < \",D21-D26)","v":"95<= IRI < 115"},{"$f":"CONCATENATE(\"PA = \",D31*(D21-D26),\" - (\",D31,\" X \",\" IRI)\")","v":"PA = 287.5 - (2.5 X  IRI)"}]
[{"$f":"CONCATENATE(C21-C26,\" <= IRI <= \",C21+C27)","v":"88 <= IRI <= 98"},"PA= $0",{"$f":"CONCATENATE(D21-D26,\" <= IRI <= \",D21+D27)","v":"115 <= IRI <= 125"},"PA= $0",null,null,null,null,null,null,null,null,null,null,null,null,{"$f":"CONCATENATE(\"Route \",C1,\" \",C7,\" from MP \",C8,\" to MP \",C9)","v":"Route 29 NB! from MP 1 to MP 2"},{"$f":"CONCATENATE(\"Route \",D1,\" \",D7,\" from MP \",D8,\" to MP \",D9)","v":"Route  SB! from MP  to MP "}]
[{"$f":"CONCATENATE(C21+C27,\" < IRI <= \",C21+C28+C27)","v":"98 < IRI <= 168"},{"$f":"CONCATENATE(\"PA = ( IRI - \",C21+C27,\" ) X (\",C32,\")\")","v":"PA = ( IRI - 98 ) X (-1.4286)"},{"$f":"CONCATENATE(D21+D27,\" < IRI <= \",D21+D28+D27)","v":"125 < IRI <= 195"},{"$f":"CONCATENATE(\"PA = ( IRI - \",D21+D27,\" ) X (\",D32,\")\")","v":"PA = ( IRI - 125 ) X (-7.1429)"}]
[{"$f":"CONCATENATE(\"IRI > \",C21+C28+C27)","v":"IRI > 168"},"Remove & Replace",{"$f":"CONCATENATE(\"IRI > \",D21+D28+D27)","v":"IRI > 195"},"Remove & Replace"]
[]
[]
[]
[]
[]
[]
[]
[]
[]
[]
[]
[0,{"$f":"C24","v":10}]
[{"$f":"C21-C26-C25","v":68},{"$f":"C24","v":10}]
[{"$f":"C21-C26","v":88},0]
[{"$f":"C21","v":93},0]
[{"$f":"C21+C27","v":98},0]
[{"$f":"C21+C27+C28","v":168},{"$f":"C30","v":-100}]
[{"$f":"A56+30","v":198},{"$f":"C30","v":-100}]
[]
[]
[0,{"$f":"C24","v":10}]
[{"$f":"D21-D26-D25","v":95}]
[{"$f":"D21-D26","v":115},0]
[{"$f":"D21","v":120},0]
[{"$f":"D21+D27","v":125},0]
[{"$f":"D21+D27+D28","v":195},{"$f":"D30","v":-500}]
[{"$f":"A65+30","v":225},{"$f":"D30","v":-500}]
[]
[]
[]
[]
[]
[]
[]
[]
[]
[]
[]
[]
[]
[]
[]
[]
[]
[]
[]
[]
[]
[]
[]
[]
[]
[]
[]
[]
[]
[]
[]
[]
[]
[]
[]
[]
[]
[]
[]
[]
[]
[]
[]
[]
[]
[]
[]
[]
[]
[]
[]
[]
[]
[]
[]
[]
[]
[]
[]
[]
[]
[1]
[]
[]
[]
[]
[]
[]
[]
[]
[]
[]
[]
[]
[]
[]
[]
[]
[]
[]
[]
[]
[]
[]
[]
[]
[]
[]
[]
[]
[]
[]
[]
[]
[]
[]
[]
[]
[]
[]
[]
[]
[]
[]
[]
[]
[]
[]
[]
[]
[]
[]
[]
[]
[]
[]
[]
[]
[]
[]
[]
[]
[]
[]
[]
[]
[]
[]
[]
[]
[]
[]
[]
[23,23,22,22]
[19,19,19,19]
[{"$f":"MAX(A200:B200)","v":23},null,{"$f":"MAX(C200:D200)","v":22}]

{"sheet":"Calculation sheet","index":1,"n_rows":202,"n_cols":129,"rows_kept":202,"cut":false,"hidden":true,"merged":[[8,56,8,59],[10,56,10,59],[8,50,8,51],[8,60,8,63],[8,64,8,66],[8,67,8,68],[9,67,9,68],[9,64,9,66],[45,0,49,4],[38,12,38,13],[39,12,39,13],[40,12,40,13],[41,12,41,13],[42,12,42,13],[37,10,37,11],[38,10,38,11],[39,10,39,11],[40,10,40,11],[41,10,41,11],[42,10,42,11],[8,28,8,29],[13,54,13,55],[19,51,19,52],[19,53,19,54],[201,2,201,3],[201,0,201,1],[43,12,43,13],[44,12,44,13],[45,12,45,13],[18,12,18,13],[19,12,19,13],[20,12,20,13],[21,12,21,13],[22,12,22,13],[23,12,23,13],[25,12,25,13],[26,12,26,13],[27,12,27,13],[28,12,28,13],[29,12,29,13],[30,12,30,13],[46,12,46,13],[47,12,47,13],[48,12,48,13],[49,12,49,13],[37,3,38,3],[33,3,34,3],[37,12,37,13],[7,0,7,1],[8,0,8,1],[6,6,7,6],[38,6,38,7],[39,6,39,7],[40,6,40,7],[41,6,41,7],[42,6,42,7],[28,8,28,9],[29,8,29,9],[41,8,41,9],[42,8,42,9],[30,8,30,9],[30,6,30,7],[33,6,33,7],[34,6,34,7],[37,6,37,7],[6,7,7,7],[9,0,9,1],[23,6,23,7],[6,0,6,4],[29,0,29,4],[7,26,7,27],[7,28,7,29],[19,8,19,9],[20,8,20,9],[21,8,21,9],[22,8,22,9],[23,8,23,9],[8,26,8,27],[9,26,9,27],[9,28,9,29],[6,9,7,9],[6,10,7,10],[6,11,7,11],[6,12,7,12],[6,13,7,13],[23,10,23,11],[6,8,7,8],[0,50,0,52],[0,0,0,1],[1,0,1,1],[2,0,2,1],[3,0,3,1],[0,26,1,29],[1,2,1,4],[5,6,5,9],[5,10,5,13],[5,50,5,52],[0,2,0,4],[4,0,4,1],[5,0,5,4],[5,24,5,30],[3,2,3,4],[4,6,4,13],[0,6,0,13],[19,48,22,50],[16,85,16,86],[10,24,14,25],[10,26,14,27],[10,28,14,29],[15,2,15,4],[14,0,14,4],[17,0,17,4],[21,0,21,1],[19,0,19,1],[20,0,20,1],[16,10,16,13],[17,6,17,7],[18,6,18,7],[19,6,19,7],[20,6,20,7],[18,8,18,9],[16,24,16,30],[21,6,21,7],[22,6,22,7],[52,5,55,5],[56,5,59,5],[17,8,17,9],[17,10,17,11],[17,12,17,13],[50,6,50,7],[51,6,51,7],[52,6,52,7],[53,6,53,7],[54,6,54,7],[45,8,45,9],[46,8,46,9],[47,8,47,9],[48,8,48,9],[49,8,49,9],[25,8,25,9],[26,8,26,9],[27,8,27,9],[33,8,33,9],[34,8,34,9],[37,8,37,9],[38,8,38,9],[39,8,39,9],[40,8,40,9],[52,23,56,31],[54,22,57,22],[34,15,34,16],[107,10,107,12],[18,10,18,11],[19,10,19,11],[20,10,20,11],[21,10,21,11],[22,10,22,11],[68,10,68,13],[70,10,70,13],[74,10,75,13],[25,10,25,11],[26,10,26,11],[27,10,27,11],[28,10,28,11],[29,10,29,11],[30,10,30,11],[33,10,33,11],[34,10,34,11],[43,10,43,11],[44,10,44,11],[84,10,84,13],[33,12,33,13],[108,10,108,12],[46,19,51,27],[100,10,100,12],[101,10,101,12],[105,10,105,12],[106,10,106,12],[102,10,102,12],[103,10,103,12],[104,10,104,12],[97,10,97,12],[98,10,98,12],[99,10,99,12],[91,10,91,13],[55,10,59,13],[50,12,50,13],[51,12,51,13],[52,12,52,13],[53,12,53,13],[54,12,54,13],[46,10,46,11],[47,10,47,11],[48,10,48,11],[49,10,49,11],[85,10,85,13],[79,10,80,13],[18,15,20,15],[52,14,55,14],[56,14,59,14],[14,6,14,13],[15,6,15,13],[16,6,16,9],[25,6,25,7],[26,6,26,7],[27,6,27,7],[53,10,53,11],[54,10,54,11],[50,10,50,11],[51,10,51,11],[52,10,52,11],[50,8,50,9],[51,8,51,9],[52,8,52,9],[53,8,53,9],[54,8,54,9],[28,6,28,7],[29,6,29,7],[52,15,56,21],[34,12,34,13],[43,8,43,9],[44,8,44,9],[43,6,43,7],[44,6,44,7],[45,6,45,7],[46,6,46,7],[47,6,47,7],[48,6,48,7],[49,6,49,7],[45,10,45,11],[44,1,44,4],[27,0,27,1],[4,3,4,4],[26,0,26,4],[203,0,203,1],[203,2,203,4],[43,0,43,1],[54,2,54,4],[54,0,54,1],[164,0,165,4],[30,0,30,4],[32,1,35,1],[32,2,32,4],[18,0,18,1],[36,1,39,1],[32,0,35,0],[36,0,39,0],[31,2,31,4],[22,2,24,2],[22,4,24,4],[10,0,10,1],[12,0,12,4],[22,0,24,1]]}
["Route",null,null,null,null,null,{"$f":"CONCATENATE(\"Rounte \",\"from \",C8,\" MP \",C9,\" to MP \",C10,\" and \",\" from \",E8,\" MP \",E9,\" to \",E10)","v":"Rounte from  MP  to MP  and  from  MP  to "},null,null,null,null,null,null,null,null,null,null,null,null,null,null,null,null,null,{"$f":"P1","v":0},null,{"$f":"Q1","v":0},null,null,null,null,null,null,null,"Highway Classification ",null,null,null,null,null,null,null,null,null,null,"Type of Project"]
["County:",null,null,null,null,null,null,null,null,null,null,null,null,null,null,null,null,null,null,null,null,null,null,null,null,null,null,null,null,null,null,null,null,null,{"$f":"'Ai factors'!H27","v":"Freeways/Limited Access Highways"},null,null,null,null,null,null,null,null,{"$f":"'Ai factors'!K27","v":50},null,"Re-surfacing"]
["Township",null,null,null,null,null,null,null,null,null,null,null,null,null,null,null,null,null,null,null,null,null,null,null,null,null,null,null,null,null,null,null,null,null,{"$f":"'Ai factors'!H29","v":"Highways Other Than Freeways /Limited Access (Speed Limit below 35 MPH)"},null,null,null,null,null,null,null,null,{"$f":"'Ai factors'!K28","v":60},null,"Full Pavement Box Construction",null,null,null,null,null,null,null,null,null,null,null,null,null,null,null,null,"ERROR-1"]
["Highway Classification",null,"Freeways/Limited Access Highways",null,null,null,null,null,null,null,null,null,null,null,null,null,null,null,null,null,null,null,null,null,{"$f":"P2","v":0},null,null,null,{"$f":"R2","v":0},null,null,null,null,null,{"$f":"'Ai factors'!H28","v":"Highways Other Than Freeways /Limited Access (Speed Limit 35 MPH or above)"},null,null,null,null,null,null,null,null,{"$f":"'Ai factors'!K29","v":70},null,"Pavement box over Rubblization",null,null,null,null,null,null,null,null,null,null,null,null,null,null,null,null,"ERROR-2"]
["Designer's Initial",null,null,null,null,null,"SUMMARY OF EXCLUSIONS AND LANE TO BE TESTED",null,null,null,null,null,null,null,null,null,"compositefactor",{"$f":"IF(C22=\"Yes\",IF(C23=\"yes\",1,1.05),1)","v":1},null,{"$f":"IF(E22=\"Yes\",IF(E23=\"yes\",1,1.05),1)","v":1},null,null,null,null,{"$f":"P3","v":0},null,null,null,{"$f":"R3","v":0},null,null,null,null,null,"Base IRI",null,null,null,null,null,null,null,null,{"$f":"IF(C4=AI2,AR2,(IF(C4=AI4,AR3,AR4)))","v":50},null,"MicroSurfacing/Slurry Seal"]
["PROJECT DATA",null,null,null,null,null,"NB",null,null,null,"SB",null,null,null,null,null,"Resurfacing",{"$f":"ROUND(R5*IF(R8=AW10,AW11,IF(R8=AX10,AX11,(IF(R8=AY10,AY11,AZ11)))),0)","v":{"$error":"#N/A"}},null,{"$f":"ROUND(T5*IF(T8=AW10,AW11,IF(T8=AX10,AX11,(IF(T8=AY10,AY11,AZ11)))),0)","v":{"$error":"#N/A"}},null,null,null,null,"PROJECT REPORT",null,null,null,null,null,null,null,null,null,null,null,null,{"$f":"CONCATENATE(MIN(C9,C10),MAX(E9,E10))","v":"00"},null,null,null,null,null,null,null,"Diamond Grinding"]
["INPUT",null,null,null,null,null,null,"Miles","# of Lots","%age Exclusions",null,"Miles","# of Lots","%age Exclusions",null,null,"Rubblization",{"$f":"ROUND(1.05*IF(R8=BI10,BI11,IF(R8=BJ10,BJ11,(IF(R8=BK10,BK11,BL11)))),0)","v":56},null,{"$f":"ROUND(1.05*IF(T8=BI10,BI11,IF(T8=BJ10,BJ11,(IF(T8=BK10,BK11,BL11)))),0)","v":56},null,null,null,null,null,null,null,null,null,null,null,null,null,null,null,null,null,null,null,{"$f":"DAY(TODAY())","v":14},null,null,null,null,null,null,null,null,null,null,null,null,null,null,null,null,null,null,null,null,null,null,null,null,null,null,null,null,null,null,null,null,null,null,null,null,null,null,null,null,null,null,null,null,null,null,null,null,null,null,null,null,null,null,null,null,null,null,null,null,null,null,null,null,null,null,null,null,null,null,null,null,null,null,null,null,null,null,null,null,null,null,null,null,null,null,null,null,{"$f":"'Ai factors'!K27","v":50}]
["Direction",null,null,null,null,null,null,null,null,null,null,null,null,null,null,null,null,{"$f":"IF(C16=BI9,C21,IF(C20=\"Yes\",IF(C21=AZ10,4,C21+1),C21))","v":0},null,{"$f":"IF(C16=BI9,E21,IF(E20=\"Yes\",IF(E21=AZ10,4,E21+1),E21))","v":0},{"$f":"MIN(R8,T8)","v":0},null,null,null,"Direction",null,{"$f":"C8","v":0},null,{"$f":"E8","v":0},null,null,null,null,null,null,null,null,null,null,{"$f":"MONTH(TODAY())","v":5},null,null,null,null,null,null,null,null,null,null,null,null,null,null,null,null,null,null,null,null,null,null,null,null,null,null,null,null,null,null,null,null,null,null,null,null,null,null,null,null,null,null,null,null,null,null,null,null,null,null,null,null,null,null,null,null,null,null,null,null,null,null,null,null,null,null,null,null,null,null,null,null,null,null,null,null,null,null,null,null,null,null,null,null,null,null,null,null,{"$f":"'Ai factors'!K28","v":60}]
["MP Begin",null,null,null,null,null,{"$f":"IF('Localized Factor Worksheet'!F49=\"\",\"\",CONCATENATE(\"Lane - \",'Localized Factor Worksheet'!F49))","v":"Lane - 1"},1.1499999999999999,{"$f":"IF(G9=\"\",0,'Localized Factor Worksheet'!F73)","v":1},{"$f":"IF(G9=\"\",(IF(H9>0,($BK$4),IF(I9*0.01>H9*'Ai factors'!$H$12,$BK$3,I9*0.01/H9))),IF(H9>0,IF(I9*0.01>H9*'Ai factors'!$H$12,$BK$3,I9*0.01/H9),$BK$3))","v":8.6956521739130436E-3},{"$f":"IF('Localized Factor Worksheet'!T49=\"\",\"\",CONCATENATE(\"Lane - \",'Localized Factor Worksheet'!T49))","v":"Lane - 1"},1.1499999999999999,{"$f":"IF(K9=\"\",0,'Localized Factor Worksheet'!T73)","v":0},{"$f":"IF(K9=\"\",(IF(L9>0,($BK$4),IF(M9*0.01>L9*'Ai factors'!$H$12,$BK$3,M9*0.01/L9))),IF(L9>0,IF(M9*0.01>L9*'Ai factors'!$H$12,$BK$3,M9*0.01/L9),$BK$3))","v":0},null,{"$f":"IF(J9=$BK$3,1,IF(J9=$BK$4,2,0))","v":0},{"$f":"IF(N9=$BK$3,1,IF(N9=$BK$4,2,0))","v":0},{"$f":"IF(C16=AY9,R6,(IF(C16=BI9,R7,IF(C16=BM9,BM11,BP11))))","v":{"$error":"#N/A"}},{"$f":"ROUND(AS5*N94*N95*N96,0)","v":0},{"$f":"IF(C16=AY9,T6,(IF(C16=BI9,T7,IF(C16=BM9,BM11,BP11))))","v":{"$error":"#N/A"}},null,null,null,null,"IRI Specified",null,{"$f":"R9","v":{"$error":"#N/A"}},null,{"$f":"T9","v":{"$error":"#N/A"}},null,null,null,null,null,null,null,null,null,null,{"$f":"YEAR(TODAY())","v":2019},null,null,null,null,null,null,null,null,null,null,"Re-surfacing",null,null,null,null,null,"Full Pavement Box Construction",null,null,null,"Pavement box over Rubblization",null,null,null,"MicroSurfacing/Slurry Seal",null,null,"Diamond Grinding"]
["MP End",null,null,null,null,null,{"$f":"'Cal Sheet-Percentage Impr'!G10","v":""},3.21,{"$f":"IF(G10=\"\",0,'Localized Factor Worksheet'!G73)","v":0},{"$f":"IF(G10=\"\",(IF(H10>0,($BK$4),IF(I10*0.01>H10*'Ai factors'!$H$12,$BK$3,I10*0.01/H10))),IF(H10>0,IF(I10*0.01>H10*'Ai factors'!$H$12,$BK$3,I10*0.01/H10),$BK$3))","v":"ERROR-2"},{"$f":"IF('Localized Factor Worksheet'!U49=\"\",\"\",CONCATENATE(\"Lane - \",'Localized Factor Worksheet'!U49))","v":""},2.81,{"$f":"IF(K10=\"\",0,'Localized Factor Worksheet'!U73)","v":0},{"$f":"IF(K10=\"\",(IF(L10>0,($BK$4),IF(M10*0.01>L10*'Ai factors'!$H$12,$BK$3,M10*0.01/L10))),IF(L10>0,IF(M10*0.01>L10*'Ai factors'!$H$12,$BK$3,M10*0.01/L10),$BK$3))","v":"ERROR-2"},null,{"$f":"IF(J10=$BK$3,1,IF(J10=$BK$4,2,0))","v":2},{"$f":"IF(N10=$BK$3,1,IF(N10=$BK$4,2,0))","v":2},{"$f":"IF(C4='Ai factors'!H27,IF('Calculation sheet'!C29>'Ai factors'!L27+0.5,0,1),IF(C4='Ai factors'!H28,IF('Calculation sheet'!C29>'Ai factors'!L28+0.5,0,1),IF('Calculation sheet'!C29>'Ai factors'!L29+0.5,0,1)))","v":{"$error":"#N/A"}},null,{"$f":"IF(C4='Ai factors'!H27,IF('Calculation sheet'!E29>'Ai factors'!L27+0.5,0,1),IF(C4='Ai factors'!H28,IF('Calculation sheet'!E29>'Ai factors'!L28+0.5,0,1),IF('Calculation sheet'!E29>'Ai factors'!L29+0.5,0,1)))","v":{"$error":"#N/A"}},null,null,null,null,"% Localized",null,null,null,null,null,null,null,null,null,null,null,null,null,null,null,null,null,null,null,null,null,null,null,1,2,3,"4 and More",1,2,3,"4 and More",null,null,null,null,1,2,3,"4 and More"]
["No. of Lanes",null,null,null,null,null,{"$f":"IF('Localized Factor Worksheet'!H49=\"\",\"\",CONCATENATE(\"Lane - \",'Localized Factor Worksheet'!H49))","v":""},0.25,{"$f":"IF(G11=\"\",0,'Localized Factor Worksheet'!H73)","v":0},{"$f":"IF(G11=\"\",(IF(H11>0,($BK$4),IF(I11*0.01>H11*'Ai factors'!$H$12,$BK$3,I11*0.01/H11))),IF(H11>0,IF(I11*0.01>H11*'Ai factors'!$H$12,$BK$3,I11*0.01/H11),$BK$3))","v":"ERROR-2"},{"$f":"IF('Localized Factor Worksheet'!V49=\"\",\"\",CONCATENATE(\"Lane - \",'Localized Factor Worksheet'!V49))","v":""},0.25,{"$f":"IF(K11=\"\",0,'Localized Factor Worksheet'!V73)","v":0},{"$f":"IF(K11=\"\",(IF(L11>0,($BK$4),IF(M11*0.01>L11*'Ai factors'!$H$12,$BK$3,M11*0.01/L11))),IF(L11>0,IF(M11*0.01>L11*'Ai factors'!$H$12,$BK$3,M11*0.01/L11),$BK$3))","v":"ERROR-2"},null,2,2,null,null,null,null,null,null,null,"# of 52.8' segments discounted  ",null,null,null,null,null,null,null,null,null,null,null,null,null,null,null,null,null,null,null,null,null,"Target",{"$f":"AI2","v":"Freeways/Limited Access Highways"},{"$f":"IF($C$4=$AV$11,VLOOKUP($C$19,'Ai factors'!$Z$5:$AL$685,2),IF($C$4=$AV$12,VLOOKUP($C$19,'Ai factors'!$Z$5:$AL$685,6),VLOOKUP($C$19,'Ai factors'!$Z$5:$AL$685,10)))","v":{"$error":"#N/A"}},{"$f":"IF($C$4=$AV$11,VLOOKUP($C$19,'Ai factors'!$Z$5:$AL$685,3),IF($C$4=$AV$12,VLOOKUP($C$19,'Ai factors'!$Z$5:$AL$685,7),VLOOKUP($C$19,'Ai factors'!$Z$5:$AL$685,11)))","v":{"$error":"#N/A"}},{"$f":"IF($C$4=$AV$11,VLOOKUP($C$19,'Ai factors'!$Z$5:$AL$685,4),IF($C$4=$AV$12,VLOOKUP($C$19,'Ai factors'!$Z$5:$AL$685,8),VLOOKUP($C$19,'Ai factors'!$Z$5:$AL$685,12)))","v":{"$error":"#N/A"}},{"$f":"IF($C$4=$AV$11,VLOOKUP($C$19,'Ai factors'!$Z$5:$AL$685,5),IF($C$4=$AV$12,VLOOKUP($C$19,'Ai factors'!$Z$5:$AL$685,9),VLOOKUP($C$19,'Ai factors'!$Z$5:$AL$685,13)))","v":{"$error":"#N/A"}},{"$f":"IF($C$4=$AV$11,VLOOKUP($E$19,'Ai factors'!$Z$5:$AL$685,2),IF($C$4=$AV$12,VLOOKUP($E$19,'Ai factors'!$Z$5:$AL$685,6),VLOOKUP($E$19,'Ai factors'!$Z$5:$AL$685,10)))","v":{"$error":"#N/A"}},{"$f":"IF($C$4=$AV$11,VLOOKUP($E$19,'Ai factors'!$Z$5:$AL$685,3),IF($C$4=$AV$12,VLOOKUP($E$19,'Ai factors'!$Z$5:$AL$685,7),VLOOKUP($E$19,'Ai factors'!$Z$5:$AL$685,11)))","v":{"$error":"#N/A"}},{"$f":"IF($C$4=$AV$11,VLOOKUP($E$19,'Ai factors'!$Z$5:$AL$685,4),IF($C$4=$AV$12,VLOOKUP($E$19,'Ai factors'!$Z$5:$AL$685,8),VLOOKUP($E$19,'Ai factors'!$Z$5:$AL$685,12)))","v":{"$error":"#N/A"}},{"$f":"IF($C$4=$AV$11,VLOOKUP($E$19,'Ai factors'!$Z$5:$AL$685,5),IF($E$4=$AV$12,VLOOKUP($E$19,'Ai factors'!$Z$5:$AL$685,9),VLOOKUP($E$19,'Ai factors'!$Z$5:$AL$685,13)))","v":{"$error":"#N/A"}},{"$f":"IF('Calculation sheet'!C4='Ai factors'!V3,'Ai factors'!V4,IF('Calculation sheet'!C4='Ai factors'!X3,'Ai factors'!X4,'Ai factors'!Y4))","v":50},null,null,null,{"$f":"'Ai factors'!AA271","v":183},{"$f":"'Ai factors'!AB271","v":60},{"$f":"'Ai factors'!AC271","v":58},{"$f":"'Ai factors'!AD271","v":53},{"$f":"IF(C4=AV11,VLOOKUP(C19,'Ai factors'!Z5:AU685,16),(IF(C4=AV12,VLOOKUP(C19,'Ai factors'!Z5:AU685,17),VLOOKUP(C19,'Ai factors'!Z5:AU685,18))))","v":{"$error":"#N/A"}},null,null,{"$f":"IF(C4=AV11,VLOOKUP(C19,'Ai factors'!Z5:AU685,20),(IF(C4=AV12,VLOOKUP(C19,'Ai factors'!Z5:AU685,21),VLOOKUP(C19,'Ai factors'!Z5:AU685,22))))","v":{"$error":"#N/A"}}]
[null,null,null,null,null,null,{"$f":"IF('Localized Factor Worksheet'!I49=\"\",\"\",CONCATENATE(\"Lane - \",'Localized Factor Worksheet'!I49))","v":""},3.21,{"$f":"IF(G12=\"\",0,'Localized Factor Worksheet'!I73)","v":0},{"$f":"IF(G12=\"\",(IF(H12>0,($BK$4),IF(I12*0.01>H12*'Ai factors'!$H$12,$BK$3,I12*0.01/H12))),IF(H12>0,IF(I12*0.01>H12*'Ai factors'!$H$12,$BK$3,I12*0.01/H12),$BK$3))","v":"ERROR-2"},{"$f":"IF('Localized Factor Worksheet'!W49=\"\",\"\",CONCATENATE(\"Lane - \",'Localized Factor Worksheet'!W49))","v":""},3.21,{"$f":"IF(K12=\"\",0,'Localized Factor Worksheet'!W73)","v":0},{"$f":"IF(K12=\"\",(IF(L12>0,($BK$4),IF(M12*0.01>L12*'Ai factors'!$H$12,$BK$3,M12*0.01/L12))),IF(L12>0,IF(M12*0.01>L12*'Ai factors'!$H$12,$BK$3,M12*0.01/L12),$BK$3))","v":"ERROR-2"},null,2,2,null,null,null,null,null,null,null,null,null,null,null,null,null,null,null,null,null,null,"Designer",null,{"$f":"C5","v":0},null,null,null,null,null,null,null,null,null,{"$f":"AI3","v":"Highways Other Than Freeways /Limited Access (Speed Limit below 35 MPH)"}]
["GENERALIZED FACTORS",null,null,null,null,null,{"$f":"'Cal Sheet-Percentage Impr'!G13","v":""},2.85,{"$f":"IF(G13=\"\",0,'Localized Factor Worksheet'!J73)","v":0},{"$f":"IF(G13=\"\",(IF(H13>0,($BK$4),IF(I13*0.01>H13*'Ai factors'!$H$12,$BK$3,I13*0.01/H13))),IF(H13>0,IF(I13*0.01>H13*'Ai factors'!$H$12,$BK$3,I13*0.01/H13),$BK$3))","v":"ERROR-2"},{"$f":"IF('Localized Factor Worksheet'!X49=\"\",\"\",CONCATENATE(\"Lane - \",'Localized Factor Worksheet'!X49))","v":""},2.85,{"$f":"IF(K13=\"\",0,'Localized Factor Worksheet'!X73)","v":0},{"$f":"IF(K13=\"\",(IF(L13>0,($BK$4),IF(M13*0.01>L13*'Ai factors'!$H$12,$BK$3,M13*0.01/L13))),IF(L13>0,IF(M13*0.01>L13*'Ai factors'!$H$12,$BK$3,M13*0.01/L13),$BK$3))","v":"ERROR-2"},null,2,2,null,null,null,null,null,null,null,null,null,null,null,null,null,null,null,null,null,null,null,null,null,null,null,null,null,null,null,null,null,null,{"$f":"AI4","v":"Highways Other Than Freeways /Limited Access (Speed Limit 35 MPH or above)"}]
[null,null,null,null,null,null,"Total Lane Miles",{"$f":"SUM(H9:H13)","v":10.67},{"$f":"SUM(I9:I13)","v":1},null,null,{"$f":"SUM(L9:L13)","v":10.27},{"$f":"SUM(M9:M13)","v":0},null,null,{"$f":"SUM(P9:P13)","v":8},{"$f":"SUM(Q9:Q13)","v":8},null,null,null,null,null,null,null,null,null,null,null,null,null,null,null,null,null,null,"File Name",null,{"$f":"CONCATENATE(\"IRI_\",\"Rt \",C1,\"_\",\"MP \",MIN(C9,C10),\"-\",\"MP\",MAX(E9,E10),\"_\",AN8,AN7,AN9,\"_\",AL12)","v":"IRI_Rt _MP 0-MP0_5142019_0"},null,null,null,null,null,null,null,null,null,null,null,null,null,null,null,null,null,null,null,null,null,null,null,null,null,null,{"$f":"VLOOKUP(C19,'Ai factors'!Z5:AU685,16)","v":{"$error":"#N/A"}}]
["INPUT",null,null,null,null,null,"ERROR-1-Percentage of Exclusions are exceeding the threshold value. Contact SME.                     ERROR 2-Lane and Exclusions input are not consistant. Check your input.                               "]
["Type of Project",null,"Re-surfacing",null,null,null,"LIMITS OF EXCLUSION CALCULATION"]
["Direction",null,{"$f":"C8","v":0},null,{"$f":"E8","v":0},null,"NB",null,null,null,"SB",null,null,null,null,null,"For Freeway/Limited access Highway having Existing IRI>285 and # of Opertions=1, PA=0, If IRI< or = Target",null,null,"IRI Specified",null,null,null,null,"PAY EQUATIONS",null,null,null,null,null,null,null,null,null,null,null,null,null,null,null,null,null,null,null,null,null,null,null,null,null,null,null,null,null,null,null,null,null,null,null,null,null,null,null,null,null,null,null,null,null,null,null,null,null,null,null,null,null,null,null,null,null,null,null,null,{"$f":"AA8","v":0}]
["Pre-Construction",null,null,null,null,null,"TO BE TESTED",null,"NOT TO BE TESTED",null,"TO BE TESTED",null,"NOT TO BE TESTED"]
["Existing IRI",null,null,null,null,null,null,null,null,null,null,null,null,null,null,"Zero Band","L1",null,null,"(positive number=less bonus)",null,null,null,null,null,null,null,null,null,null,null,null,null,1,35,"Yes",null,null,null,null,{"$f":"CONCATENATE(C1,\" \",C8,\" from MP \",C9,\" To MP \",C10,\" and \",E8,\" from MP \",E9,\" To MP \",E10)","v":"  from MP  To MP  and  from MP  To MP "},null,null,null,null,null,null,null,null,null,null,null,null,null,null,null,null,null,null,null,null,null,null,null,null,null,null,null,null,null,null,null,null,null,null,null,null,null,null,null,null,null,null,null,null,null,"     IRI <",{"$f":"C42","v":0},"PA=",{"$f":"#REF!","v":{"$error":"#REF!"}}]
["Milling Proposed",null,null,null,null,null,null,null,null,null,null,null,null,null,null,null,null,null,null,null,null,null,null,null,null,null,null,null,null,null,null,null,null,2,40,"No",null,null,null,null,null,null,null,null,null,null,null,null,null,null,null,null,null,null,null,null,null,null,null,null,null,null,null,null,null,null,null,null,null,null,null,null,null,null,null,null,null,null,null,null,null,null,null,null,null,{"$f":"C42","v":0},"<= IRI <",{"$f":"C45-E35","v":{"$error":"#VALUE!"}},"PA=",{"$f":"CONCATENATE(C43,\"- ($\",C44,\" x IRI)\")","v":"- ($ x IRI)"}]
["Number of Lifts ",null,null,null,null,null,null,null,null,null,null,null,null,null,null,null,"L2",null,null,"(positive number=less penalty)",null,null,null,null,null,null,null,null,null,null,null,null,null,3,45,null,null,null,null,null,null,null,null,null,null,null,null,null,null,null,null,null,null,null,null,null,null,"Check for missing Information",null,null,null,null,null,null,null,null,null,null,null,null,null,null,null,null,null,null,null,null,null,null,null,null,null,null,null,{"$f":"CJ20","v":{"$error":"#VALUE!"}},"<= IRI <=",{"$f":"C45+E39","v":{"$error":"#VALUE!"}},"PA=",0]
["Composite?",null,null,null,null,null,null,null,null,null,null,null,null,null,null,null,null,null,null,null,null,null,null,null,null,null,null,null,null,null,null,null,null,"4 and More",50,null,null,null,null,null,null,null,null,null,null,null,null,null,null,null,null,null,null,null,null,null,null,null,null,null,null,null,null,null,null,null,null,null,null,null,null,null,null,null,null,null,null,null,null,null,null,null,null,null,null,{"$f":"CJ21","v":{"$error":"#VALUE!"}},"< IRI <=",{"$f":"C47","v":0},"PA=",{"$f":"CONCATENATE(\"(IRI -\",CH22,\") \",\"x ( $\",ROUND(C48,4),\")\")","v":{"$error":"#VALUE!"}}]
["Will the composite pavement have final HMA thickness >=8\" AND joints sealed AND joints stabilized?",null,null,null,null,null,null,null,null,null,null,null,null,null,null,null,null,null,null,null,null,null,null,null,null,null,null,null,null,null,null,null,null,null,55,null,null,null,null,null,null,null,null,null,null,null,null,null,null,null,null,null,null,null,null,null,null,"Form 4",null,null,null,null,null,null,null,null,null,null,null,null,null,null,null,null,null,null,null,null,null,null,null,null,null,null,null,{"$f":"CJ22","v":0},"< IRI ",null,"PA=","Remove and Replace"]
[null,null,null,null,null,null,null,null,null,null,null,null,null,null,null,null,null,null,null,null,null,null,null,null,null,null,null,null,null,null,null,null,null,null,60]
[]
[null,null,null,null,null,null,null,null,null,null,null,null,null,null,null,null,null,null,null,null,null,null,null,null,null,null,null,null,null,null,null,null,null,null,65]
["OUTPUT"]
["Direction",null,{"$f":"C17","v":0},null,{"$f":"E17","v":0}]
["IRISpecified",null,{"$f":"R9","v":{"$error":"#N/A"}},null,{"$f":"T9","v":{"$error":"#N/A"}},null,null,null,null,null,null,null,null,null,null,null,null,null,null,null,null,null,null,null,null,null,null,null,null,null,null,null,null,null,null,null,null,null,null,null,null,null,null,null,null,null,null,null,null,null,null,null,null,null,null,"Primary Direction","Secondary",null,null,null,null,null,null,null,null,null,null,null,null,null,null,null,null,null,null,null,null,null,null,null,null,null,null,null,null,{"$f":"AC8","v":0}]
[{"$f":"IF(C16=\"Re-surfacing\",IF(U8=1,IF((AND(OR(C19>285,E19>285),C4=AI2)),Q17,2),\"\"),\"\")","v":""}]
["Table 401.03.03-7"]
[null,"Excluded Lots","Pay Equation (s)"]
[{"$f":"CONCATENATE(\"Route \",C1,\" \",C8,\" from MP \",C9,\" to MP \",C10)","v":"Route   from MP  to MP "},{"$f":"IF(P75=\"\",IF(P74=\"\",IF(P73=\"\",IF(P72=\"\",CONCATENATE(\"Lane 1- \",Q71),CONCATENATE(\"Lane 1- \",Q71,\", Lane 2- \",Q72)),CONCATENATE(\"Lane 1- \",Q71,\", Lane 2- \",Q72,\", Lane 3- \",Q73)),CONCATENATE(\"Lane 1- \",Q71,\", Lane 2- \",Q72,\", Lane 3- \",Q73,\", Lane 4- \",Q74)),CONCATENATE(\"Lane 1- \",Q71,\", Lane 2- \",Q72,\", Lane 3- \",Q73,\", Lane 4- \",Q74,\", Lane 5- \",Q75))","v":"Lane 1- 1"},"PA on Lots of 0.01 mile length"]
[null,null,"A",null,"A",null,null,null,null,null,null,null,null,null,null,null,null,null,null,null,null,null,null,null,null,null,null,null,null,null,null,null,null,null,null,null,null,null,null,null,null,null,null,null,null,null,null,null,null,null,null,null,null,null,"Direction",{"$f":"IF(C8=\"\",\"\",C8)","v":""},{"$f":"IF(E8=\"\",\"\",E8)","v":""},{"$f":"IF(BD34=\"\",IF(BE34=\"\",\"Enter Primary and Secondary Directions\",\"Enter Primary Direction\"),IF(BE34=\"\",\"Enter Secondary Direction\",\"\"))","v":"Enter Primary and Secondary Directions"},null,null,null,null,null,null,null,null,null,null,null,null,null,null,null,null,null,null,null,null,null,null,null,null,null,null,null,null,"     IRI <",{"$f":"E42","v":0},"PA=",{"$f":"#REF!","v":{"$error":"#REF!"}}]
[null,null,{"$f":"-ROUND(LN(C29)*37.75347,4)+194.87","v":{"$error":"#N/A"}},null,{"$f":"CONCATENATE(\"-37.75347\",\"*Ln(IRI)\",\"+\",194.87)","v":"-37.75347*Ln(IRI)+194.87"},null,null,null,null,null,null,null,null,null,null,"D5",null,null,null,null,null,null,null,null,null,null,null,null,null,null,null,null,null,null,null,null,null,null,null,null,null,null,null,null,null,null,null,null,null,null,null,null,null,null,"Milepost From",{"$f":"IF(C9=\"\",\"\",C9)","v":""},{"$f":"IF(E9=\"\",\"\",E9)","v":""},{"$f":"IF(BD35=\"\",IF(BE35=\"\",\"Enter Primary and Secondary Beginning MP\",\"Enter Primary Beginning MP\"),IF(BE35=\"\",\"Enter Beginning MP\",\"\"))","v":"Enter Primary and Secondary Beginning MP"},null,null,null,null,null,null,null,null,null,null,null,null,null,null,null,null,null,null,null,null,null,null,null,null,null,null,null,{"$f":"CJ34","v":0},"<= IRI <",{"$f":"E45-#REF!","v":{"$error":"#REF!"}},"PA=",{"$f":"CONCATENATE(E43,\"- ($\",E44,\" x IRI)\")","v":"- ($ x IRI)"}]
[]
[{"$f":"CONCATENATE(\"Route \",C1,\" \",E8,\" from MP \",E9,\" to MP \",E10)","v":"Route   from MP  to MP "},{"$f":"IF(R75=\"\",IF(R74=\"\",IF(R73=\"\",IF(R72=\"\",CONCATENATE(\"Lane 1- \",S71),CONCATENATE(\"Lane 1- \",S71,\", Lane 2- \",S72)),CONCATENATE(\"Lane 1- \",S71,\", Lane 2- \",S72,\", Lane 3- \",S73)),CONCATENATE(\"Lane 1- \",S71,\", Lane 2- \",S72,\", Lane 3- \",S73,\", Lane 4- \",S74)),CONCATENATE(\"Lane 1- \",S71,\", Lane 2- \",S72,\", Lane 3- \",S73,\", Lane 4- \",S74,\", Lane 5- \",S75))","v":"Lane 1- 0"}]
[null,null,"A","-","A",null,null,null,null,null,null,null,null,null,null,null,null,null,null,null,null,null,null,null,null,null,null,null,null,null,null,null,null,null,null,null,null,null,null,null,null,null,null,null,null,null,null,null,null,null,null,null,null,null,"Mile Post To",{"$f":"IF(C10=\"\",\"\",C10)","v":""},{"$f":"IF(E10=\"\",\"\",E10)","v":""},{"$f":"IF(BD38=\"\",IF(BE38=\"\",\"Enter Primary and Secondary Ending MP\",\"Enter Primary Ending MP\"),IF(BE38=\"\",\"Enter Secondary Ending MP\",\"\"))","v":"Enter Primary and Secondary Ending MP"},null,null,null,null,null,null,null,null,null,null,null,null,null,null,null,null,null,null,null,null,null,null,null,null,null,null,null,{"$f":"CJ35","v":{"$error":"#REF!"}},"<= IRI <=",{"$f":"E45+#REF!","v":{"$error":"#REF!"}},"PA=",0]
[null,null,{"$f":"-ROUND(LN(E29)*37.75347,4)+194.87","v":{"$error":"#N/A"}},null,{"$f":"CONCATENATE(\"-37.75347\",\"*Ln(IRI)\",\"+\",194.87)","v":"-37.75347*Ln(IRI)+194.87"},null,null,null,null,null,null,null,null,null,null,null,null,null,null,null,null,null,null,null,null,null,null,null,null,null,null,null,null,null,null,null,null,null,null,null,null,null,null,null,null,null,null,null,null,null,null,null,null,{"$f":"IF(BF34=\"\",(IF(BF35=\"\",(IF(BF38=\"\",\"\")),1)),1)","v":1},null,null,null,null,null,null,null,null,null,null,null,null,null,null,null,null,null,null,null,null,null,null,null,null,null,null,null,null,null,null,null,{"$f":"CJ38","v":{"$error":"#REF!"}},"< IRI <=",{"$f":"E47","v":0},"PA=",{"$f":"CONCATENATE(\"(IRI -\",CH39,\") \",\"x ( $\",ROUND(E48,4),\")\")","v":{"$error":"#REF!"}}]
[null,null,null,null,null,null,null,null,null,null,null,null,null,null,null,null,null,null,null,null,null,null,null,null,null,null,null,null,null,null,null,null,null,null,null,null,null,null,null,null,null,null,null,null,null,null,null,null,null,null,"Form 5",null,null,null,null,null,null,null,null,null,null,null,null,null,null,null,null,null,null,null,null,null,null,null,null,null,null,null,null,null,null,null,null,null,null,{"$f":"CJ39","v":0},"< IRI ",null,"PA=","Remove and Replace"]
[null,"M= Bide Price of Milling, SY",null,null,null,null,null,null,null,null,null,null,null,null,null,null,null,null,null,null,null,null,null,null,null,null,null,null,null,null,null,null,null,null,null,null,null,null,null,null,null,null,null,null,null,null,null,null,null,null,{"$f":"A21","v":"Number of Lifts "},{"$f":"IF(C21=\"\",\"\",C21)","v":""},{"$f":"IF(E21=\"\",\"\",E21)","v":""},{"$f":"IF(AZ41=\"\",IF(BA41=\"\",\"Enter # of Operations in Primary and Secondary Directions\",\"Enter # of Operations in  Primary Direction\"),IF(BA41=\"\",\"Enter # of Operations in  Secondary Direction\",\"\"))","v":"Enter # of Operations in Primary and Secondary Directions"}]
[null,"N= Bid Price of last lift of the pavement structure to be evaluated, Ton.",null,null,null,null,null,null,null,null,null,null,null,null,null,null,null,null,null,null,null,null,null,null,null,null,null,null,null,null,null,null,null,null,null,null,null,null,null,null,null,null,null,null,null,null,null,null,null,null,{"$f":"A19","v":"Existing IRI"},{"$f":"IF(C19=\"\",\"\",C19)","v":""},{"$f":"IF(E19=\"\",\"\",E19)","v":""},{"$f":"IF(AZ42=\"\",IF(BA42=\"\",\"Enter Existing IRI in Primary and Secondary Directions\",\"Enter Existing IRI in Primary Direction\"),IF(BA42=\"\",\"Enter Existing IRI in Secondary Direction\",\"\"))","v":"Enter Existing IRI in Primary and Secondary Directions"}]
[null,"D= Average thickness of last lift to be evaluated, Inch",null,null,null,null,null,null,null,null,null,null,null,null,null,null,null,null,null,null,null,null,null,null,null,null,null,null,null,null,null,null,null,null,null,null,null,null,null,null,null,null,null,null,null,null,null,null,null,null,"#of Lanes",{"$f":"IF(C11<1,\"\",C11)","v":""},{"$f":"IF(E11<1,\"\",E11)","v":""},{"$f":"IF(AZ43=\"\",IF(BA43=\"\",\"Enter Existing IRI in Primary and Secondary Directions\",\"Enter Existing IRI in Primary Direction\"),IF(BA43=\"\",\"Enter Existing IRI in Secondary Direction\",\"\"))","v":"Enter Existing IRI in Primary and Secondary Directions"}]
[null,null,null,null,null,null,null,null,null,null,null,null,null,null,null,null,null,null,null,null,null,null,null,null,null,null,null,null,null,null,null,null,null,null,null,null,null,null,null,null,null,null,null,null,null,null,null,null,null,null,null,null,null,{"$f":"IF(BB41=\"\",(IF(BB42=\"\",(IF(BB43=\"\",\"\",1)),1)),1)","v":1}]
["NOTES:-"]
[null,null,null,null,null,null,null,null,null,null,null,null,null,null,null,null,null,null,null,null,null,null,null,null,null,null,null,null,null,null,null,null,null,null,null,null,null,null,null,null,null,null,null,null,null,null,null,null,null,null,null,null,null,"Pay Equations for Diamond Grinding/Concrete Surface Course"]
[null,null,null,null,null,null,null,null,null,null,null,null,null,null,null,null,null,null,null,null,null,null,null,null,null,null,null,null,null,null,null,null,null,null,null,null,null,null,null,null,null,null,null,null,null,null,null,null,null,null,null,null,null,null,"     IRI <",30,"PA=",50]
[null,null,null,null,null,null,null,null,null,null,null,null,null,null,null,null,null,null,null,null,null,null,null,null,null,null,null,null,null,null,null,null,null,null,null,null,null,null,null,null,null,null,null,null,null,null,null,null,null,null,null,null,null,30,"<= IRI <",50,"PA=","125- ($2.5 x IRI)"]
[null,null,null,null,null,null,null,null,null,null,null,null,null,null,null,null,null,null,null,null,null,null,null,null,null,null,null,null,null,null,null,null,null,null,null,null,null,null,null,null,null,null,null,null,null,null,null,null,null,null,null,null,null,50,"<= IRI <=",60,"PA=",0]
[null,null,null,null,null,null,null,null,null,null,null,null,null,null,null,null,null,null,null,null,null,null,null,null,null,null,null,null,null,null,null,null,null,null,null,null,null,null,null,null,null,null,null,null,null,null,null,null,null,null,null,null,null,60,"< IRI <=",130,"PA=","(IRI -60) x ( $-7.1429)"]
[null,null,null,null,null,null,null,null,null,null,null,null,null,null,null,null,null,null,null,null,null,null,null,null,null,null,null,null,null,null,null,null,null,null,null,null,null,null,null,null,null,null,null,null,null,null,null,null,null,null,null,null,null,130,"< IRI ",null,"PA=","Remove and Replace"]
[]
[null,null,null,null,null,null,null,null,null,null,null,null,null,null,null,"MODULE 3",null,null,null,null,null,null,null,"MODULE 4"]
[]
[null,null,null,null,null,null,0]
[null,null,null,null,null,null,null,null,null,null,"MODULE 2"]
[null,null,null,null,null,null,null,null,null,null,null,null,null,null,null,null,null,null,null,null,null,null,null,null,null,null,null,null,null,null,null,null,null,"Maximum Allowable Limit of Target IRI"]
[null,null,null,null,null,null,null,null,null,null,null,null,null,null,null,null,null,null,null,null,null,null,null,null,null,null,null,null,null,null,null,null,null,{"$f":"AI2","v":"Freeways/Limited Access Highways"},null,null,null,null,null,null,null,{"$f":"'Ai factors'!L27","v":63}]
[null,null,null,null,null,null,null,null,null,null,null,null,null,null,null,null,null,null,null,null,null,null,null,null,null,null,null,null,null,null,null,null,null,{"$f":"AI3","v":"Highways Other Than Freeways /Limited Access (Speed Limit below 35 MPH)"},null,null,null,null,null,null,null,{"$f":"'Ai factors'!L28","v":90}]
[null,null,null,null,null,null,null,null,null,null,null,null,null,null,null,null,null,null,null,null,null,null,null,null,null,null,null,null,null,null,null,null,null,{"$f":"AI4","v":"Highways Other Than Freeways /Limited Access (Speed Limit 35 MPH or above)"},null,null,null,null,null,null,null,{"$f":"'Ai factors'!L29","v":100}]
[]
[]
[]
[]
[]
[null,null,null,null,null,null,null,null,null,null,null,null,null,null,null,null,null,null,null,null,null,null,null,null,null,null,null,null,null,null,null,null,null,"Error Messages"]
[null,null,null,null,null,null,null,null,null,null,null,null,null,null,null,null,null,null,null,null,null,null,null,null,null,null,null,null,null,null,null,null,null,"."]
[null,null,null,null,null,null,null,null,null,null,"LOCALIZED FACTORS (From \"Localized Factor Worksheet\")"]
[null,null,null,null,null,null,null,null,null,null,"INPUT",null,null,null,null,null,"Exclusions"]
[null,null,null,null,null,null,null,null,null,null,"Direction",null,{"$f":"C8","v":0},{"$f":"E8","v":0},null,null,{"$f":"+M70","v":0},{"$f":"N70","v":0},null,null,null,null,null,null,null,null,null,null,null,null,null,null,null,{"$f":"CONCATENATE(\"The target IRI of\", AH58,\"is greater than \",AP58,\" Inch/Mile. Please check your input or change number of operations.\")","v":"The target IRI ofFreeways/Limited Access Highwaysis greater than 63 Inch/Mile. Please check your input or change number of operations."}]
[null,null,null,null,null,null,null,null,null,null,"Impediments",null,null,null,null,{"$f":"'Localized Factor Worksheet'!F49","v":1},{"$f":"'Localized Factor Worksheet'!F73","v":1},{"$f":"'Localized Factor Worksheet'!T49","v":1},{"$f":"IF(R71=\"\",\"\",'Localized Factor Worksheet'!T73)","v":0},null,null,null,null,null,null,null,null,null,null,null,null,null,null,{"$f":"CONCATENATE(\"The target IRI of\", AH59,\"is greater than \",AP59,\" Inch/Mile. Please check your input or change number of operations.\")","v":"The target IRI ofHighways Other Than Freeways /Limited Access (Speed Limit below 35 MPH)is greater than 90 Inch/Mile. Please check your input or change number of operations."}]
[null,null,null,null,null,null,null,null,null,null,"Exclusion (Ft.)",null,{"$f":"'Localized Factor Worksheet'!I41","v":0},{"$f":"'Localized Factor Worksheet'!X41","v":0},null,{"$f":"'Localized Factor Worksheet'!G49","v":""},{"$f":"IF(P72=\"\",\"\",'Localized Factor Worksheet'!G73)","v":""},{"$f":"'Localized Factor Worksheet'!U49","v":""},{"$f":"IF(R72=\"\",\"\",'Localized Factor Worksheet'!U73)","v":""},null,null,null,null,null,null,null,null,null,null,null,null,null,null,{"$f":"CONCATENATE(\"The target IRI of\", AH60,\"is greater than \",AP60,\" Inch/Mile. Please check your input or change number of operations.\")","v":"The target IRI ofHighways Other Than Freeways /Limited Access (Speed Limit 35 MPH or above)is greater than 100 Inch/Mile. Please check your input or change number of operations."}]
[null,null,null,null,null,null,null,null,null,null,"# of Occurrence",null,{"$f":"'Localized Factor Worksheet'!I42","v":0},{"$f":"'Localized Factor Worksheet'!X42","v":0},null,{"$f":"'Localized Factor Worksheet'!H49","v":""},{"$f":"IF(P73=\"\",\"\",'Localized Factor Worksheet'!H73)","v":""},{"$f":"'Localized Factor Worksheet'!V49","v":""},{"$f":"IF(R73=\"\",\"\",'Localized Factor Worksheet'!V73)","v":""}]
[null,null,null,null,null,null,null,null,null,null,"Average Exclusion (Ft.)",null,{"$f":"'Localized Factor Worksheet'!I43","v":0},{"$f":"'Localized Factor Worksheet'!X43","v":0},null,{"$f":"'Localized Factor Worksheet'!I49","v":""},{"$f":"IF(P74=\"\",\"\",'Localized Factor Worksheet'!I73)","v":""},{"$f":"'Localized Factor Worksheet'!W49","v":""},{"$f":"IF(R74=\"\",\"\",'Localized Factor Worksheet'!W73)","v":""}]
[null,null,null,null,null,null,null,null,null,null,"Structures",null,null,null,null,{"$f":"'Localized Factor Worksheet'!J49","v":""},{"$f":"IF(P75=\"\",\"\",'Localized Factor Worksheet'!J73)","v":""},{"$f":"'Localized Factor Worksheet'!X49","v":""},{"$f":"IF(R75=\"\",\"\",'Localized Factor Worksheet'!X73)","v":""},null,null,null,null,null,null,null,null,null,null,null,null,null,null,"Results"]
[null,null,null,null,null,null,null,null,null,null,null,null,null,null,null,null,null,null,null,null,null,null,null,null,null,null,null,null,null,null,null,null,null,{"$f":"AA8","v":0}]
[null,null,null,null,null,null,null,null,null,null,"Exclusion (Ft.)",null,{"$f":"'Localized Factor Worksheet'!J41","v":0},{"$f":"'Localized Factor Worksheet'!Y41","v":0},null,null,null,null,null,null,null,null,null,null,null,null,null,null,null,null,null,null,null,{"$f":"IF(C4=AI2,(IF(AA9>AP58,AH70,\"\")),IF(C4=AI3,(IF(AA9>AP59,AH71,\"\")),IF(C4=AI4,(IF(AA9>AP60,AH72,\"\")),\"\")))","v":{"$error":"#N/A"}}]
[null,null,null,null,null,null,null,null,null,null,"# of Occurrence",null,{"$f":"'Localized Factor Worksheet'!J42","v":0},{"$f":"'Localized Factor Worksheet'!Y42","v":0}]
[null,null,null,null,null,null,null,null,null,null,"Average Exclusion (Ft.)",null,{"$f":"'Localized Factor Worksheet'!J43","v":0},{"$f":"'Localized Factor Worksheet'!Y43","v":0}]
[null,null,null,null,null,null,null,null,null,null,"Short Segments"]
[]
[null,null,null,null,null,null,null,null,null,null,"Exclusion (Ft.)",null,{"$f":"'Localized Factor Worksheet'!K41","v":0},{"$f":"'Localized Factor Worksheet'!Z41","v":0}]
[null,null,null,null,null,null,null,null,null,null,"# of Occurrence",null,{"$f":"'Localized Factor Worksheet'!K42","v":0},{"$f":"'Localized Factor Worksheet'!Z42","v":0}]
[null,null,null,null,null,null,null,null,null,null,"Average Exclusion (Ft.)",null,{"$f":"'Localized Factor Worksheet'!K43","v":0},{"$f":"'Localized Factor Worksheet'!Z43","v":0},null,null,null,null,null,null,null,null,null,null,null,null,null,null,null,null,null,null,null,{"$f":"AC8","v":0}]
[null,null,null,null,null,null,null,null,null,null,"PROJECT DATA",null,null,null,null,null,null,null,null,null,null,null,null,null,null,null,null,null,null,null,null,null,null,{"$f":"IF(C4=AI2,(IF(AC9>AP58,AH70,\"\")),IF(C4=AI3,(IF(AC9>AP59,AH71,\"\")),IF(C4=AI4,(IF(AC9>AP60,AH72,\"\")),\"\")))","v":{"$error":"#N/A"}}]
[null,null,null,null,null,null,null,null,null,null,"OUTPUT"]
[null,null,null,null,null,null,null,null,null,null,"Direction",null,{"$f":"C8","v":0},{"$f":"E8","v":0}]
[null,null,null,null,null,null,null,null,null,null,"Project Length (ft.)",null,{"$f":"ABS((C9-C10)*C11*5280)","v":0},{"$f":"ABS((E9-E10)*E11*5280)","v":0}]
[null,null,null,null,null,null,null,null,null,null,"# of 52.8' Segments",null,{"$f":"M88/52.8","v":0},{"$f":"N88/52.8","v":0}]
[]
[null,null,null,null,null,null,null,null,null,null,"No of Ops",null,{"$f":"IF(C20=\"yes\",C21+1,C21)","v":0},{"$f":"IF(E20=\"yes\",E21+1,E21)","v":0}]
[null,null,null,null,null,null,null,null,null,null,"OUTPUT"]
[null,null,null,null,null,null,null,null,null,null,"Direction",null,{"$f":"C8","v":0},{"$f":"E8","v":0}]
[null,null,null,null,null,null,null,null,null,null,"AS",null,1,1]
[null,null,null,null,null,null,null,null,null,null,"AO . AE",null,{"$f":"INDEX('Ai factors'!A17:E1460,MATCH(C19,'Ai factors'!A18:A1461,0),(M91+1))","v":0},{"$f":"INDEX('Ai factors'!A17:E1460,MATCH(E19,'Ai factors'!A18:A1461,0),(N91+1))","v":0}]
[null,null,null,null,null,null,null,null,null,null,"AC",null,{"$f":"IF(C22=\"no\",1,IF(C23=\"no\",1.05,1))","v":1},{"$f":"IF(E22=\"no\",1,IF(E23=\"no\",1.05,1))","v":1}]
[]
[null,null,null,null,null,null,null,null,null,null,"Discrete Pay Adjustment ($)",null,null,{"$f":"R12","v":0}]
[null,null,null,null,null,null,null,null,null,null,"IRI",null,null,"PA"]
[null,null,null,null,null,null,null,null,null,null,{"$f":"MIN(CJ19,CJ34)","v":0},null,null,{"$f":"IF(K100>$C$47,\"\",(IF(K100<=$C$42,#REF!,IF(AND(K100>=$C$42,K100< ($C$45-$E$35)),($C$43-($C$44*K100)),IF(AND(K100>=($C$45-$E$35),K100<=($C$45+$E$39)),0,IF(AND(K100>($C$45+$E$39),K100<=$C$47),((K100-($C$45+$E$39))*($C$48)),\"R&R\"))))))","v":{"$error":"#REF!"}}]
[null,null,null,null,null,null,null,null,null,null,30,null,null,{"$f":"IF(K101>$C$47,\"\",(IF(K101<=$C$42,#REF!,IF(AND(K101>=$C$42,K101< ($C$45-$E$35)),($C$43-($C$44*K101)),IF(AND(K101>=($C$45-$E$35),K101<=($C$45+$E$39)),0,IF(AND(K101>($C$45+$E$39),K101<=$C$47),((K101-($C$45+$E$39))*($C$48)),\"R&R\"))))))","v":""}]
[null,null,null,null,null,null,null,null,null,null,{"$f":"ROUND(K103-(K104-K100)/4,0)","v":{"$error":"#VALUE!"}},null,null,{"$f":"IF(K102>$C$47,\"\",(IF(K102<=$C$42,#REF!,IF(AND(K102>=$C$42,K102< ($C$45-$E$35)),($C$43-($C$44*K102)),IF(AND(K102>=($C$45-$E$35),K102<=($C$45+$E$39)),0,IF(AND(K102>($C$45+$E$39),K102<=$C$47),((K102-($C$45+$E$39))*($C$48)),\"R&R\"))))))","v":{"$error":"#VALUE!"}}]
[null,null,null,null,null,null,null,null,null,null,{"$f":"ROUND((K104-(K104-K100)/4),0)","v":{"$error":"#VALUE!"}},null,null,{"$f":"IF(K103>$C$47,\"\",(IF(K103<=$C$42,#REF!,IF(AND(K103>=$C$42,K103< ($C$45-$E$35)),($C$43-($C$44*K103)),IF(AND(K103>=($C$45-$E$35),K103<=($C$45+$E$39)),0,IF(AND(K103>($C$45+$E$39),K103<=$C$47),((K103-($C$45+$E$39))*($C$48)),\"R&R\"))))))","v":{"$error":"#VALUE!"}}]
[null,null,null,null,null,null,null,null,null,null,{"$f":"MIN(CH21,CH38)","v":{"$error":"#VALUE!"}},null,null,{"$f":"IF(K104>$C$47,\"\",(IF(K104<=$C$42,#REF!,IF(AND(K104>=$C$42,K104< ($C$45-$E$35)),($C$43-($C$44*K104)),IF(AND(K104>=($C$45-$E$35),K104<=($C$45+$E$39)),0,IF(AND(K104>($C$45+$E$39),K104<=$C$47),((K104-($C$45+$E$39))*($C$48)),\"R&R\"))))))","v":{"$error":"#VALUE!"}}]
[null,null,null,null,null,null,null,null,null,null,{"$f":"MAX(CJ38,CJ21)","v":{"$error":"#REF!"}},null,null,{"$f":"IF(K105>$C$47,\"\",(IF(K105<=$C$42,#REF!,IF(AND(K105>=$C$42,K105< ($C$45-$E$35)),($C$43-($C$44*K105)),IF(AND(K105>=($C$45-$E$35),K105<=($C$45+$E$39)),0,IF(AND(K105>($C$45+$E$39),K105<=$C$47),((K105-($C$45+$E$39))*($C$48)),\"R&R\"))))))","v":{"$error":"#REF!"}}]
[null,null,null,null,null,null,null,null,null,null,{"$f":"ROUND(K105+((K109-K105)/4),0)","v":{"$error":"#REF!"}},null,null,{"$f":"IF(K106>$C$47,\"\",(IF(K106<=$C$42,#REF!,IF(AND(K106>=$C$42,K106< ($C$45-$E$35)),($C$43-($C$44*K106)),IF(AND(K106>=($C$45-$E$35),K106<=($C$45+$E$39)),0,IF(AND(K106>($C$45+$E$39),K106<=$C$47),((K106-($C$45+$E$39))*($C$48)),\"R&R\"))))))","v":{"$error":"#REF!"}}]
[null,null,null,null,null,null,null,null,null,null,{"$f":"ROUND(K106+(K109-K105)/4,0)","v":{"$error":"#REF!"}},null,null,{"$f":"IF(K107>$C$47,\"\",(IF(K107<=$C$42,#REF!,IF(AND(K107>=$C$42,K107< ($C$45-$E$35)),($C$43-($C$44*K107)),IF(AND(K107>=($C$45-$E$35),K107<=($C$45+$E$39)),0,IF(AND(K107>($C$45+$E$39),K107<=$C$47),((K107-($C$45+$E$39))*($C$48)),\"R&R\"))))))","v":{"$error":"#REF!"}}]
[null,null,null,null,null,null,null,null,null,null,{"$f":"MIN(CH23,CH40)","v":0},null,null,{"$f":"IF(K108>$C$47,\"\",(IF(K108<=$C$42,#REF!,IF(AND(K108>=$C$42,K108< ($C$45-$E$35)),($C$43-($C$44*K108)),IF(AND(K108>=($C$45-$E$35),K108<=($C$45+$E$39)),0,IF(AND(K108>($C$45+$E$39),K108<=$C$47),((K108-($C$45+$E$39))*($C$48)),\"R&R\"))))))","v":{"$error":"#REF!"}}]
[null,null,null,null,null,null,null,null,null,null,{"$f":"MAX(CH40,CH23)","v":0},null,null,{"$f":"IF(K109>$C$47,\"\",(IF(K109<=$C$42,#REF!,IF(AND(K109>=$C$42,K109< ($C$45-$E$35)),($C$43-($C$44*K109)),IF(AND(K109>=($C$45-$E$35),K109<=($C$45+$E$39)),0,IF(AND(K109>($C$45+$E$39),K109<=$C$47),((K109-($C$45+$E$39))*($C$48)),\"R&R\"))))))","v":{"$error":"#REF!"}}]
[]
[]
[]
[]
[]
[]
[]
[]
[]
[]
[]
[]
[]
[]
[]
[]
[]
[]
[]
[]
[]
[]
[]
[]
[]
[]
[]
[]
[]
[]
[]
[]
[]
[]
[]
[]
[]
[]
[]
[]
[]
[]
[]
[]
[]
[null,"Version:","3.00W"]
[null,"Information last updated on:","April 30, 2014"]
[]
[null,{"$f":"CONCATENATE(B155,\" \",C155)","v":"Version: 3.00W"}]
[null,{"$f":"CONCATENATE(B156,\" \",(C156))","v":"Information last updated on: April 30, 2014"}]
[]
[]
[]
[]
[]
[]
[]
[]
[]
[]
[]
[]
[]
[]
[]
[]
[]
[null,{"$f":"TODAY()","v":"2019-05-14"}]
[]
[]
[]
[]
[]
[]
[]
[]
[]
[]
[]
[]
[]
[]
[]
[]
[]
[]
[]
[]
[]
[]
[30,30,30,30]
[19,19,19,19]
[{"$f":"MAX(A200:B200)","v":30},null,{"$f":"MAX(C200:D200)","v":30}]

{"sheet":"Impediments","index":2,"n_rows":46,"n_cols":22,"rows_kept":46,"cut":false,"hidden":true,"merged":[[5,0,5,16],[32,0,32,16],[0,0,0,5],[9,3,9,7],[10,0,10,2],[11,0,11,2],[15,3,15,7],[2,0,3,16],[15,12,15,16],[16,9,16,11],[17,9,17,11],[0,9,0,14],[6,9,6,16],[9,12,9,16],[25,9,25,11],[23,9,23,11],[45,9,45,11],[29,9,29,11],[35,9,35,16],[36,9,36,11],[30,9,30,11],[39,9,40,9],[39,10,39,11],[40,10,40,11],[41,9,42,9],[41,10,41,11],[42,10,42,11],[43,9,44,9],[43,10,43,11],[44,10,44,11],[31,9,31,11],[37,9,38,9],[37,10,37,11],[38,10,38,11],[41,0,42,0],[41,1,41,2],[42,1,42,2],[40,1,40,2],[6,0,6,7],[23,0,23,2],[36,0,36,2],[16,0,16,2],[17,0,17,2],[22,3,22,7],[18,0,18,2],[24,0,24,2],[28,3,28,7],[34,0,34,7],[8,0,8,7],[8,9,8,16],[14,0,14,7],[14,9,14,16],[21,0,21,7],[21,9,21,16],[18,9,18,11],[19,0,19,2],[19,9,19,11],[12,9,12,11],[24,9,24,11],[34,9,34,16],[22,12,22,16],[28,12,28,16],[10,9,10,11],[11,9,11,11],[5,18,5,23],[48,0,48,16],[27,0,27,7],[27,9,27,16],[37,0,38,0],[37,1,37,2],[38,1,38,2],[39,0,40,0],[39,1,39,2],[45,0,45,2],[35,0,35,7],[29,0,29,2],[30,0,30,2],[43,0,44,0],[43,1,43,2],[44,1,44,2]]}
[null,null,null,null,null,null,null,null,null,null,null,null,null,null,null,null,null,null,null,null,null,1]
["IM- Enter total number of manholes/inlets/utilities.  ",null,null,null,null,null,null,null,null,null,null,null,null,null,null,null,null,null,null,null,null,2]
["SR and BDO: Enter total number structures not overlaid or overlaid in SR and BDO respectively.  100 ft will be excluded for each structure.  Actual limits of Structure not paved will be determined during pay adjustment calculation by vedio review and actual length will be excluded.  For Bridge Deck Overlay (BDO), Equation in table \"B\" of the spec will be used for pay adjustment calculations. Actaul limits/length of paved surface will be determined during pay adjustment calculation by Video review.",null,null,null,null,null,null,null,null,null,null,null,null,null,null,null,null,null,null,null,null,3]
[null,null,null,null,null,null,null,null,null,null,null,null,null,null,null,null,null,null,null,null,null,4]
[null,null,null,null,null,null,null,null,null,null,null,null,null,null,null,null,null,null,null,null,null,5]
["SAVE YOUR SURVEY SHEETS (LOCATION OF IMPEDIMENTS) FOR REVIEW",null,null,null,null,null,null,null,null,null,null,null,null,null,null,null,null,null,"NOTES"]
[{"$f":"CONCATENATE('Calculation sheet'!C1,\" from milepost \",'Calculation sheet'!C9,\" to milepost \",'Calculation sheet'!C10,\" \",'Calculation sheet'!C8)","v":" from milepost  to milepost  "},null,null,null,null,null,null,null,null,{"$f":"CONCATENATE('Calculation sheet'!C1,\" from milepost \",'Calculation sheet'!E9,\" to milepost \",'Calculation sheet'!E10,\" \",'Calculation sheet'!E8)","v":" from milepost  to milepost  "}]
["Number of Lanes",null,1,null,null,null,null,null,null,"Number of Lanes",null,1]
["IM",null,null,null,null,null,null,null,null,"IM"]
["Types of Localized Factors",null,null,"Number of manholes/Inlet",null,null,null,null,null,"Types of Localized Factors",null,null,"Number of manholes/Inlet"]
["Lane No. from left in the dir of traffic",null,null,{"$f":"IF($C$8>1,1,1)","v":1},{"$f":"IF($C$8=1,\"\",(IF($C$8>1,2,\"\")))","v":""},{"$f":"IF($C$8<3,\"\",(IF($C$8>3,3,3)))","v":""},{"$f":"IF($C$8<4,\"\",(IF($C$8>4,4,4)))","v":""},{"$f":"IF($C$8<5,\"\",(IF($C$8>5,5,5)))","v":""},null,"Lane No. from left in the dir of traffic",null,null,{"$f":"IF($L$8>1,1,1)","v":1},{"$f":"IF($L$8=1,\"\",(IF($L$8>1,2,\"\")))","v":""},{"$f":"IF($L$8<3,\"\",(IF($L$8>3,3,3)))","v":""},{"$f":"IF($L$8<4,\"\",(IF($L$8>4,4,4)))","v":""},{"$f":"IF($L$8<5,\"\",(IF($L$8>5,5,5)))","v":""}]
["IM-# of Occurances",null,null,null,null,null,null,null,null,"IM-# of Occurances"]
["Total Exclusions for IM",null,null,{"$f":"IF(D11=1,(ROUNDUP(D12*'Ai factors'!$I$20*2/52.8,0)),\"\")","v":0},{"$f":"IF(E11=2,(ROUNDUP(E12*'Ai factors'!$I$20*2/52.8,0)),\"\")","v":""},{"$f":"IF(F11=3,(ROUNDUP(F12*'Ai factors'!$I$20*2/52.8,0)),\"\")","v":""},{"$f":"IF(G11=4,(ROUNDUP(G12*'Ai factors'!$I$20*2/52.8,0)),\"\")","v":""},{"$f":"IF(H11=5,(ROUNDUP(H12*'Ai factors'!$I$20*2/52.8,0)),\"\")","v":""},null,"Total Exclusions for IM",null,null,{"$f":"IF(M11=1,(ROUNDUP(M12*'Ai factors'!$I$20*2/52.8,0)),\"\")","v":0},{"$f":"IF(N11=2,(ROUNDUP(N12*'Ai factors'!$I$20*2/52.8,0)),\"\")","v":""},{"$f":"IF(O11=3,(ROUNDUP(O12*'Ai factors'!$I$20*2/52.8,0)),\"\")","v":""},{"$f":"IF(P11=4,(ROUNDUP(P12*'Ai factors'!$I$20*2/52.8,0)),\"\")","v":""},{"$f":"IF(Q11=5,(ROUNDUP(Q12*'Ai factors'!$I$20*2/52.8,0)),\"\")","v":""}]
[]
["SHORT SECTIONS (SS)",null,null,null,null,null,null,null,null,"SHORT SECTIONS (SS)"]
["Types of Localized Factors",null,null,"Total length of Short Section",null,null,null,null,null,"Types of Localized Factors",null,null,"Total length of Short Section"]
["Lane No. from left in the dir of traffic",null,null,{"$f":"IF($C$8>1,1,1)","v":1},{"$f":"IF($C$8=1,\"\",(IF($C$8>1,2,\"\")))","v":""},{"$f":"IF($C$8<3,\"\",(IF($C$8>3,3,3)))","v":""},{"$f":"IF($C$8<4,\"\",(IF($C$8>4,4,4)))","v":""},{"$f":"IF($C$8<5,\"\",(IF($C$8>5,5,5)))","v":""},null,"Lane No. from left in the dir of traffic",null,null,{"$f":"IF($L$8>1,1,1)","v":1},{"$f":"IF($L$8=1,\"\",(IF($L$8>1,2,\"\")))","v":""},{"$f":"IF($L$8<3,\"\",(IF($L$8>3,3,3)))","v":""},{"$f":"IF($L$8<4,\"\",(IF($L$8>4,4,4)))","v":""},{"$f":"IF($L$8<5,\"\",(IF($L$8>5,5,5)))","v":""}]
["SS, ft ",null,null,null,null,null,null,null,null,"SS, ft "]
["Number of short Sections",null,null,null,null,null,null,null,null,"Number of short Sections"]
["Total Exclusions for SS",null,null,{"$f":"IF(D17=1,(ROUNDUP((D19*'Ai factors'!$I$21+D18)/52.8,0)),\"\")","v":0},{"$f":"IF(E17=2,(ROUNDUP((E19*'Ai factors'!$I$21+E18)/52.8,0)),\"\")","v":""},{"$f":"IF(F17=3,(ROUNDUP((F19*'Ai factors'!$I$21+F18)/52.8,0)),\"\")","v":""},{"$f":"IF(G17=4,(ROUNDUP((G19*'Ai factors'!$I$21+G18)/52.8,0)),\"\")","v":""},{"$f":"IF(H17=5,(ROUNDUP((H19*'Ai factors'!$I$21+H18)/52.8,0)),\"\")","v":""},null,"Total Exclusions for SS",null,null,{"$f":"IF(M17=1,(ROUNDUP((M19*'Ai factors'!$I$21+M18)/52.8,0)),\"\")","v":0},{"$f":"IF(N17=2,(ROUNDUP((N19*'Ai factors'!$I$21+N18)/52.8,0)),\"\")","v":""},{"$f":"IF(O17=3,(ROUNDUP((O19*'Ai factors'!$I$21+O18)/52.8,0)),\"\")","v":""},{"$f":"IF(P17=4,(ROUNDUP((P19*'Ai factors'!$I$21+P18)/52.8,0)),\"\")","v":""},{"$f":"IF(Q17=5,(ROUNDUP((Q19*'Ai factors'!$I$21+Q18)/52.8,0)),\"\")","v":""}]
[]
["STRUCTURES (SR)",null,null,null,null,null,null,null,null,"STRUCTURES (SR)"]
["Types of Localized Factors",null,null,"Number of Structures not Overlaid",null,null,null,null,null,"Types of Localized Factors",null,null,"Number of Structures not Overlaid"]
["Lane No. from left in the dir of traffic",null,null,{"$f":"IF($C$8>1,1,1)","v":1},{"$f":"IF($C$8=1,\"\",(IF($C$8>1,2,\"\")))","v":""},{"$f":"IF($C$8<3,\"\",(IF($C$8>3,3,3)))","v":""},{"$f":"IF($C$8<4,\"\",(IF($C$8>4,4,4)))","v":""},{"$f":"IF($C$8<5,\"\",(IF($C$8>5,5,5)))","v":""},null,"Lane No. from left in the dir of traffic",null,null,{"$f":"IF($L$8>1,1,1)","v":1},{"$f":"IF($L$8=1,\"\",(IF($L$8>1,2,\"\")))","v":""},{"$f":"IF($L$8<3,\"\",(IF($L$8>3,3,3)))","v":""},{"$f":"IF($L$8<4,\"\",(IF($L$8>4,4,4)))","v":""},{"$f":"IF($L$8<5,\"\",(IF($L$8>5,5,5)))","v":""}]
["# of Strs with Bared concrete deck",null,null,null,null,null,null,null,null,"# of Strs with Bared concrete deck"]
["Total Exclusions for Str Not overlaid",null,null,{"$f":"IF(D24=1,(ROUNDUP(D25*'Ai factors'!$I$22*2/52.8,0)),\"\")","v":0},{"$f":"IF(E24=2,(ROUNDUP(E25*'Ai factors'!$I$22*2/52.8,0)),\"\")","v":""},{"$f":"IF(F24=3,(ROUNDUP(F25*'Ai factors'!$I$22*2/52.8,0)),\"\")","v":""},{"$f":"IF(G24=4,(ROUNDUP(G25*'Ai factors'!$I$22*2/52.8,0)),\"\")","v":""},{"$f":"IF(H24=5,(ROUNDUP(H25*'Ai factors'!$I$22*2/52.8,0)),\"\")","v":""},null,"Total Exclusions for Str Not overlaid",null,null,{"$f":"IF(M24=1,(ROUNDUP(M25*'Ai factors'!$I$22*2/52.8,0)),\"\")","v":0},{"$f":"IF(N24=2,(ROUNDUP(N25*'Ai factors'!$I$22*2/52.8,0)),\"\")","v":""},{"$f":"IF(O24=3,(ROUNDUP(O25*'Ai factors'!$I$22*2/52.8,0)),\"\")","v":""},{"$f":"IF(P24=4,(ROUNDUP(P25*'Ai factors'!$I$22*2/52.8,0)),\"\")","v":""},{"$f":"IF(Q24=5,(ROUNDUP(Q25*'Ai factors'!$I$22*2/52.8,0)),\"\")","v":""}]
[]
["BRIDGE DECK OVERLAY (BDO)",null,null,null,null,null,null,null,null,"BRIDGE DECK OVERLAY (BDO)"]
["Types of Localized Factors",null,null,"Number of Structures Overlaid",null,null,null,null,null,"Types of Localized Factors",null,null,"Number of Structures Overlaid"]
["Lane No. from left in the dir of traffic",null,null,{"$f":"IF($C$8>1,1,1)","v":1},{"$f":"IF($C$8=1,\"\",(IF($C$8>1,2,\"\")))","v":""},{"$f":"IF($C$8<3,\"\",(IF($C$8>3,3,3)))","v":""},{"$f":"IF($C$8<4,\"\",(IF($C$8>4,4,4)))","v":""},{"$f":"IF($C$8<5,\"\",(IF($C$8>5,5,5)))","v":""},null,"Lane No. from left in the dir of traffic",null,null,{"$f":"IF($L$8>1,1,1)","v":1},{"$f":"IF($L$8=1,\"\",(IF($L$8>1,2,\"\")))","v":""},{"$f":"IF($L$8<3,\"\",(IF($L$8>3,3,3)))","v":""},{"$f":"IF($L$8<4,\"\",(IF($L$8>4,4,4)))","v":""},{"$f":"IF($L$8<5,\"\",(IF($L$8>5,5,5)))","v":""}]
["Number of Structures Overlaid",null,null,0,0,0,0,0,null,"Number of Structures Overlaid",null,null,0,0,0,0,0]
["Total Exclusions for Str Overlaid",null,null,{"$f":"IF(D30=1,(ROUNDUP(D31*'Ai factors'!$I$23*2/52.8,0)),\"\")","v":0},{"$f":"IF(E30=2,(ROUNDUP(E31*'Ai factors'!$I$23*2/52.8,0)),\"\")","v":""},{"$f":"IF(F30=3,(ROUNDUP(F31*'Ai factors'!$I$23*2/52.8,0)),\"\")","v":""},{"$f":"IF(G30=4,(ROUNDUP(G31*'Ai factors'!$I$23*2/52.8,0)),\"\")","v":""},{"$f":"IF(H30=5,(ROUNDUP(H31*'Ai factors'!$I$23*2/52.8,0)),\"\")","v":""},null,"Total Exclusions for IM",null,null,{"$f":"IF(M30=1,(ROUNDUP(M31*'Ai factors'!$I$23*2/52.8,0)),\"\")","v":0},{"$f":"IF(N30=2,(ROUNDUP(N31*'Ai factors'!$I$23*2/52.8,0)),\"\")","v":""},{"$f":"IF(O30=3,(ROUNDUP(O31*'Ai factors'!$I$23*2/52.8,0)),\"\")","v":""},{"$f":"IF(P30=4,(ROUNDUP(P31*'Ai factors'!$I$23*2/52.8,0)),\"\")","v":""},{"$f":"IF(Q30=5,(ROUNDUP(Q31*'Ai factors'!$I$23*2/52.8,0)),\"\")","v":""}]
["SUMMARY"]
[]
["TOTAL EXCLUSIONS",null,null,null,null,null,null,null,null,"TOTAL EXCLUSIONS"]
[{"$f":"A7","v":" from milepost  to milepost  "},null,null,null,null,null,null,null,null,{"$f":"J7","v":" from milepost  to milepost  "}]
["Lane No. from left in the dir of traffic",null,null,{"$f":"D17","v":1},{"$f":"E17","v":""},{"$f":"F17","v":""},{"$f":"G17","v":""},{"$f":"H17","v":""},null,"Lane No. from left in the dir of traffic",null,null,{"$f":"M17","v":1},{"$f":"N17","v":""},{"$f":"O17","v":""},{"$f":"P17","v":""},{"$f":"Q17","v":""}]
["IM (Manholes, Inlets)","# of Occurances",null,{"$f":"IF(D37=1,D12,\"-\")","v":0},{"$f":"IF(E37=2,E12,\"-\")","v":"-"},{"$f":"IF(F37=3,F12,\"-\")","v":"-"},{"$f":"IF(G37=4,G12,\"-\")","v":"-"},{"$f":"IF(H37=5,H12,\"-\")","v":"-"},null,"IM (Manholes, Inlets)","# of Occurances",null,{"$f":"IF(M37=1,M12,\"-\")","v":0},{"$f":"IF(N37=2,N12,\"-\")","v":"-"},{"$f":"IF(O37=3,O12,\"-\")","v":"-"},{"$f":"IF(P37=4,P12,\"\")","v":""},{"$f":"IF(Q37=5,Q12,\"-\")","v":"-"}]
[null,"Exclusions",null,{"$f":"IF(D37=1,D13,\"-\")","v":0},{"$f":"IF(E37=2,E13,\"-\")","v":"-"},{"$f":"IF(F37=3,F13,\"-\")","v":"-"},{"$f":"IF(G37=4,G13,\"-\")","v":"-"},{"$f":"IF(H37=5,H13,\"-\")","v":"-"},null,null,"Exclusions",null,{"$f":"IF(M37=1,M13,\"-\")","v":0},{"$f":"IF(N37=2,N13,\"-\")","v":"-"},{"$f":"IF(O37=3,O13,\"-\")","v":"-"},{"$f":"IF(P37=4,P13,\"-\")","v":"-"},{"$f":"IF(Q37=5,Q13,\"-\")","v":"-"}]
["SS (Short Sections)","# of Occurances",null,{"$f":"IF(D37=1,D19,\"-\")","v":0},{"$f":"IF(E37=2,E19,\"-\")","v":"-"},{"$f":"IF(F37=3,F19,\"-\")","v":"-"},{"$f":"IF(G37=4,G19,\"-\")","v":"-"},{"$f":"IF(H37=5,H19,\"-\")","v":"-"},null,"SS (Short Sections)","# of Occurances",null,{"$f":"IF(M37=1,M19,\"-\")","v":0},{"$f":"IF(N37=2,N19,\"-\")","v":"-"},{"$f":"IF(O37=3,O19,\"-\")","v":"-"},{"$f":"IF(P37=4,P19,\"-\")","v":"-"},{"$f":"IF(Q37=5,Q19,\"-\")","v":"-"}]
[null,"Exclusions",null,{"$f":"IF(D37=1,D20,\"-\")","v":0},{"$f":"IF(E37=2,E20,\"-\")","v":"-"},{"$f":"IF(F37=3,F20,\"-\")","v":"-"},{"$f":"IF(G37=4,G20,\"-\")","v":"-"},{"$f":"IF(H37=5,H20,\"-\")","v":"-"},null,null,"Exclusions",null,{"$f":"IF(M37=1,M20,\"-\")","v":0},{"$f":"IF(N37=2,N20,\"-\")","v":"-"},{"$f":"IF(O37=3,O20,\"-\")","v":"-"},{"$f":"IF(P37=4,P20,\"-\")","v":"-"},{"$f":"IF(Q37=5,Q20,\"-\")","v":"-"}]
["SR (Structure)","# of Occurances",null,{"$f":"IF(D37=1,D25,\"\")","v":0},{"$f":"IF(E37=2,E25,\"-\")","v":"-"},{"$f":"IF(F37=3,F25,\"-\")","v":"-"},{"$f":"IF(G37=4,G25,\"-\")","v":"-"},{"$f":"IF(H37=5,H25,\"-\")","v":"-"},null,"SR (Structure)","# of Occurances",null,{"$f":"IF(M37=1,M25,\"-\")","v":0},{"$f":"IF(N37=2,N25,\"-\")","v":"-"},{"$f":"IF(O37=3,O25,\"-\")","v":"-"},{"$f":"IF(P37=4,P25,\"-\")","v":"-"},{"$f":"IF(Q37=5,Q25,\"-\")","v":"-"}]
[null,"Exclusions",null,{"$f":"IF(D37=1,D26,\"-\")","v":0},{"$f":"IF(E37=2,E26,\"-\")","v":"-"},{"$f":"IF(F37=3,F26,\"-\")","v":"-"},{"$f":"IF(G37=4,G26,\"-\")","v":"-"},{"$f":"IF(H37=5,H26,\"-\")","v":"-"},null,null,"Exclusions",null,{"$f":"IF(M37=1,M26,\"-\")","v":0},{"$f":"IF(N37=2,N26,\"-\")","v":"-"},{"$f":"IF(O37=3,O26,\"-\")","v":"-"},{"$f":"IF(P37=4,P26,\"-\")","v":"-"},{"$f":"IF(Q37=5,Q26,\"-\")","v":"-"}]
["BDO (Bridge Deck Overlay)","# of Occurances",null,{"$f":"IF(D37=1,D31,\"\")","v":0},{"$f":"IF(E37=2,E31,\"\")","v":""},{"$f":"IF(F37=3,F31,\"\")","v":""},{"$f":"IF(G37=4,G31,\"\")","v":""},{"$f":"IF(H37=5,H31,\"\")","v":""},null,"BDO (Bridge Deck Overlay)","# of Occurances",null,{"$f":"IF(M37=1,M31,\"\")","v":0},{"$f":"IF(N37=2,N31,\"\")","v":""},{"$f":"IF(O37=3,O31,\"\")","v":""},{"$f":"IF(P37=4,P31,\"\")","v":""},{"$f":"IF(Q37=5,Q31,\"\")","v":""}]
[null,"Exclusions",null,{"$f":"IF(D37=1,D32,\"-\")","v":0},{"$f":"IF(E37=2,E32,\"-\")","v":"-"},{"$f":"IF(F37=3,F32,\"-\")","v":"-"},{"$f":"IF(G37=4,G32,\"-\")","v":"-"},{"$f":"IF(H37=5,H32,\"-\")","v":"-"},null,null,"Exclusions",null,{"$f":"IF(M37=1,M32,\"-\")","v":0},{"$f":"IF(N37=2,N32,\"-\")","v":"-"},{"$f":"IF(O37=3,O32,\"\")","v":""},{"$f":"IF(P37=4,P32,\"\")","v":""},{"$f":"IF(Q37=5,Q32,\"\")","v":""}]
["TOTAL EXCLUSIONS",null,null,{"$f":"IF(D37=1,D39+D41+D43+1,\"-\")","v":1},{"$f":"IF(E37=2,E39+E41+E43+1,\"-\")","v":"-"},{"$f":"IF(F37=3,F39+F41+F43+1,\"-\")","v":"-"},{"$f":"IF(G37=4,G39+G41+G43+1,\"-\")","v":"-"},{"$f":"IF(H37=5,H39+H41+H43+1,\"-\")","v":"-"},null,"TOTAL EXCLUSIONS",null,null,{"$f":"IF(M37=1,M39+M41+M43+1,\"-\")","v":1},{"$f":"IF(N37=2,N39+N41+N43+1,\"-\")","v":"-"},{"$f":"IF(O37=3,O39+O41+O43+1,\"-\")","v":"-"},{"$f":"IF(P37=4,P39+P41+P43+1,\"-\")","v":"-"},{"$f":"IF(Q37=5,Q39+Q41+Q43+1,\"-\")","v":"-"}]

{"sheet":"Localized Factor Worksheet","index":3,"n_rows":126,"n_cols":371,"rows_kept":126,"cut":false,"hidden":true,"merged":[[0,16,0,18],[0,19,0,20],[38,28,38,29],[20,13,20,14],[21,13,21,14],[21,28,21,29],[15,13,15,14],[19,13,19,14],[17,28,17,29],[22,28,22,29],[37,28,37,29],[14,13,14,14],[16,28,16,29],[18,28,18,29],[22,13,22,14],[37,13,37,14],[23,13,23,14],[23,28,23,29],[24,13,24,14],[24,28,24,29],[25,13,25,14],[25,28,25,29],[26,13,26,14],[26,28,26,29],[56,26,57,28],[49,26,50,29],[27,13,27,14],[27,28,27,29],[28,13,28,14],[28,28,28,29],[29,13,29,14],[29,28,29,29],[30,13,30,14],[34,13,34,14],[34,28,34,29],[13,242,13,246],[48,211,48,215],[35,13,35,14],[35,28,35,29],[36,13,36,14],[36,28,36,29],[70,3,70,4],[71,3,71,4],[69,2,71,2],[49,16,51,16],[49,17,49,18],[50,17,50,18],[51,17,51,18],[69,16,71,16],[69,17,69,18],[70,17,70,18],[71,17,71,18],[67,17,67,18],[65,3,65,4],[53,17,53,18],[54,17,54,18],[55,17,55,18],[57,3,57,4],[58,3,58,4],[59,26,60,26],[59,17,59,18],[69,3,69,4],[48,242,48,246],[48,237,48,241],[11,1,11,12],[12,7,12,12],[12,22,12,27],[11,16,11,27],[49,196,49,220],[49,2,51,2],[49,3,49,4],[50,3,50,4],[51,3,51,4],[48,196,48,200],[49,222,49,241],[48,222,48,226],[48,227,48,231],[48,232,48,236],[48,216,48,220],[48,201,48,205],[16,13,16,14],[17,13,17,14],[18,13,18,14],[45,207,47,207],[45,206,47,206],[45,205,47,205],[109,26,109,28],[110,26,110,28],[53,2,55,2],[57,2,59,2],[61,2,63,2],[65,2,67,2],[59,13,60,13],[59,14,60,14],[56,13,57,14],[52,13,53,13],[52,14,53,14],[53,16,55,16],[57,16,59,16],[63,17,63,18],[61,3,61,4],[72,13,73,14],[66,3,66,4],[72,26,73,28],[63,3,63,4],[61,16,63,16],[59,28,60,28],[118,1,120,1],[54,3,54,4],[113,1,114,1],[53,3,53,4],[113,10,113,19],[114,15,114,16],[72,3,72,4],[72,17,72,18],[59,3,59,4],[55,3,55,4],[57,17,57,18],[58,17,58,18],[65,17,65,18],[61,17,61,18],[62,17,62,18],[66,17,66,18],[115,1,117,1],[112,1,112,25],[113,20,113,25],[108,1,108,4],[67,3,67,4],[80,1,82,1],[84,1,86,1],[88,1,90,1],[12,4,13,4],[12,5,13,5],[11,13,13,14],[12,16,13,16],[12,17,13,17],[12,18,13,18],[12,20,13,20],[4,19,4,20],[7,16,7,19],[5,3,5,4],[5,16,5,18],[5,19,5,20],[2,6,5,13],[6,6,8,13],[12,3,13,3],[19,28,19,29],[15,28,15,29],[62,3,62,4],[61,13,62,14],[65,16,67,16],[13,237,13,241],[13,227,13,231],[13,232,13,236],[12,21,13,21],[11,28,13,29],[13,216,13,220],[51,26,52,28],[51,29,52,29],[48,206,48,210],[45,204,47,204],[45,203,47,203],[45,202,47,202],[45,201,47,201],[45,200,47,200],[45,199,47,199],[45,198,47,198],[45,197,47,197],[45,196,47,196],[13,196,13,200],[13,201,13,205],[13,206,13,210],[3,19,3,20],[2,1,2,2],[0,6,1,13],[5,1,5,2],[0,1,0,2],[0,3,0,4],[1,3,1,4],[2,3,2,4],[3,3,3,4],[1,19,1,20],[12,1,13,1],[12,2,13,2],[0,30,0,34],[0,36,0,40],[12,6,13,6],[12,19,13,19],[2,19,2,20],[1,23,1,24],[8,16,8,18],[7,1,7,4],[8,1,8,3],[4,3,4,4],[20,28,20,29],[14,28,14,29],[12,222,12,246],[47,2,47,9],[12,196,12,220],[46,193,47,195],[45,238,47,238],[45,237,47,237],[45,236,47,236],[45,235,47,235],[45,234,47,234],[45,233,47,233],[15,2,15,4],[15,17,15,19],[13,211,13,215],[13,222,13,226],[45,232,47,232],[45,231,47,231],[45,230,47,230],[45,229,47,229],[45,228,47,228],[45,227,47,227],[45,226,47,226],[45,225,47,225],[50,193,50,195],[39,1,39,12],[40,1,40,6],[41,1,41,6],[42,1,42,6],[42,16,42,21],[41,16,41,21],[40,16,40,21],[39,16,39,27],[47,16,47,23],[48,16,48,18],[48,2,48,4],[49,13,50,14],[45,247,47,247],[45,246,47,246],[45,245,47,245],[45,244,47,244],[45,243,47,243],[45,242,47,242],[45,241,47,241],[45,240,47,240],[45,239,47,239],[45,224,47,224],[30,28,30,29],[31,13,31,14],[31,28,31,29],[32,13,32,14],[32,28,32,29],[33,13,33,14],[33,28,33,29],[45,223,47,223],[45,222,47,222],[45,220,47,220],[45,219,47,219],[45,218,47,218],[45,217,47,217],[45,216,47,216],[45,215,47,215],[45,214,47,214],[38,13,38,14],[45,213,47,213],[45,212,47,212],[45,211,47,211],[45,210,47,210],[45,209,47,209],[45,208,47,208],[92,1,94,1],[96,1,98,1],[100,1,102,1],[80,2,80,3],[81,2,81,3],[82,2,82,3],[84,2,84,3],[85,2,85,3],[86,2,86,3],[88,2,88,3],[89,2,89,3],[90,2,90,3],[92,2,92,3],[93,2,93,3],[94,2,94,3],[96,2,96,3],[97,2,97,3],[98,2,98,3],[100,2,100,3],[101,2,101,3],[102,2,102,3],[80,15,82,15],[80,16,80,17],[81,16,81,17],[82,16,82,17],[84,15,86,15],[84,16,84,17],[85,16,85,17],[86,16,86,17],[88,15,90,15],[88,16,88,17],[89,16,89,17],[90,16,90,17],[92,15,94,15],[92,16,92,17],[93,16,93,17],[94,16,94,17],[96,15,98,15],[96,16,96,17],[97,16,97,17],[98,16,98,17],[105,2,105,3],[104,2,104,3]]}
[null,"Types of Localized Factors",null,"Localized Factor",null,"MILE",null,null,null,null,null,null,null,null,null,null,"Types of Localized Factors",null,null,"Localized Factor",null,null,null,null,null,null,null,null,null,null,{"$f":"B12","v":0},null,null,null,null,null,{"$f":"Q12","v":0},null,null,null,null,null,null,null,null,null,null,null,null,null,null,null,null,null,null,null,null,null,null,null,null,null,null,null,null,null,null,null,null,null,null,null,null,null,null,null,null,null,null,null,null,null,null,null,null,null,null,null,null,null,null,null,null,null,null,null,null,null,null,null,null,null,null,null,null,null,null,null,null,null,null,null,null,null,null,null,null,null,null,null,null,null,null,null,null,null,null,null,null,null,null,null,null,null,null,null,null,null,null,null,null,null,null,null,null,null,null,null,null,null,null,null,null,null,null,null,null,null,null,null,null,null,null,null,null,null,null,null,null,null,null,null,null,null,null,null,null,null,null,null,null,null,null,null,null,null,null,null,null,null,null,null,null,null,null,null,null,null,null,null,1,null,1,1,null,null,null,"Number of Lanes from Lane",null,null,null,null,null,null,null,null,null,null,null,null,null,null,null,null,null,null,null,null,null,null,null,null,null,null,null,null,{"$f":"C48","v":"Exclusion Distribution in Lanes"}]
[null,"Impediment",null,"IM",null,"FT",null,null,null,null,null,null,null,null,null,null,"Impediment",null,null,"IM",null,null,null,null,null,null,null,null,null,null,{"$f":"H14","v":"TJ"},{"$f":"I14","v":"IM"},{"$f":"J14","v":"SR"},{"$f":"K14","v":"SS"},{"$f":"M14","v":"RR"},null,{"$f":"W14","v":"TJ"},{"$f":"X14","v":"IM"},{"$f":"Y14","v":"SR"},{"$f":"Z14","v":"SS"},{"$f":"AA14","v":"RR"},null,null,null,null,null,null,null,null,null,null,null,null,null,null,null,null,null,null,null,null,null,null,null,null,null,null,null,null,null,null,null,null,null,null,null,null,null,null,null,null,null,null,null,null,null,null,null,null,null,null,null,null,null,null,null,null,null,null,null,null,null,null,null,null,null,null,null,null,null,null,null,null,null,null,null,null,null,null,null,null,null,null,null,null,null,null,null,null,null,null,null,null,null,null,null,null,null,null,null,null,null,null,null,null,null,null,null,null,null,null,null,null,null,null,null,null,null,null,null,null,null,null,null,null,null,null,null,null,null,null,null,null,null,null,null,null,null,null,null,null,null,null,null,null,null,null,null,null,null,null,null,null,null,null,null,null,null,null,null,2,null,{"$f":"IF(GU6>1,2,\"\")","v":""},{"$f":"IF(GV6>1,2,\"\")","v":""},null,null,null,"Primary","Sec",null,null,null,null,null,null,null,null,null,null,null,null,null,null,null,null,null,null,null,null,null,null,null,null,"Lane",{"$f":"F49","v":1},{"$f":"G49","v":""},{"$f":"H49","v":""},{"$f":"I49","v":""},{"$f":"J49","v":""},null,null,{"$f":"T49","v":1},{"$f":"U49","v":""},{"$f":"V49","v":""},{"$f":"W49","v":""},{"$f":"X49","v":""}]
[null,"Structures",null,"SR",null,null,null,null,null,null,null,null,null,null,null,null,"Structures",null,null,"SR",null,null,null,null,null,null,null,null,null,null,{"$f":"H41","v":0},{"$f":"I41","v":0},0,{"$f":"K41","v":0},{"$f":"M41","v":0},null,{"$f":"W41","v":0},0,0,0,{"$f":"AB41","v":0},{"$f":"Q42","v":"# of Occurrence"},null,null,null,null,null,null,null,null,null,null,null,null,null,null,null,null,null,null,null,null,null,null,null,null,null,null,null,null,null,null,null,null,null,null,null,null,null,null,null,null,null,null,null,null,null,null,null,null,null,null,null,null,null,null,null,null,null,null,null,null,null,null,null,null,null,null,null,null,null,null,null,null,null,null,null,null,null,null,null,null,null,null,null,null,null,null,null,null,null,null,null,null,null,null,null,null,null,null,null,null,null,null,null,null,null,null,null,null,null,null,null,null,null,null,null,null,null,null,null,null,null,null,null,null,null,null,null,null,null,null,null,null,null,null,null,null,null,null,null,null,null,null,null,null,null,null,null,null,null,null,null,null,null,null,null,null,null,null,3,null,{"$f":"IF(GU6>2,3,\"\")","v":""},{"$f":"IF(GV6>2,3,\"\")","v":""},null,null,null,{"$f":"Lane!Q16","v":5},null,null,null,null,null,null,null,null,null,null,null,null,null,null,null,null,null,null,null,null,null,null,null,null,null,"IM",{"$f":"F56","v":0},{"$f":"G56","v":"-"},{"$f":"H56","v":"-"},{"$f":"I56","v":"-"},{"$f":"J56","v":"-"},null,null,{"$f":"T56","v":0},{"$f":"U56","v":"-"},{"$f":"V56","v":"-"},{"$f":"W56","v":"-"},{"$f":"X56","v":"-"}]
[3,"Short Segments",null,"SS",null,null,null,null,null,null,null,null,null,null,null,null,"Short Segments",null,null,"SS",null,null,null,null,null,null,null,null,null,null,{"$f":"H42","v":0},{"$f":"I42","v":0},0,0,{"$f":"M42","v":0},null,0,0,0,0,{"$f":"AB42","v":0},{"$f":"Q43","v":"Average Exclusion (Ft.)"},null,null,null,null,null,null,null,null,null,null,null,null,null,null,null,null,null,null,null,null,null,null,null,null,null,null,null,null,null,null,null,null,null,null,null,null,null,null,null,null,null,null,null,null,null,null,null,null,null,null,null,null,null,null,null,null,null,null,null,null,null,null,null,null,null,null,null,null,null,null,null,null,null,null,null,null,null,null,null,null,null,null,null,null,null,null,null,null,null,null,null,null,null,null,null,null,null,null,null,null,null,null,null,null,null,null,null,null,null,null,null,null,null,null,null,null,null,null,null,null,null,null,null,null,null,null,null,null,null,null,null,null,null,null,null,null,null,null,null,null,null,null,null,null,null,null,null,null,null,null,null,null,null,null,null,null,null,null,4,null,{"$f":"IF(GU6>3,4,\"\")","v":""},{"$f":"IF(GV6>3,4,\"\")","v":""},null,null,null,{"$f":"Lane!Q17","v":5},null,null,null,null,null,null,null,null,null,null,null,null,null,null,null,null,null,null,null,null,null,null,null,null,null,"SR",{"$f":"F60","v":0},{"$f":"G60","v":"-"},{"$f":"H60","v":"-"},{"$f":"I60","v":"-"},{"$f":"J60","v":"-"},null,null,{"$f":"T60","v":0},{"$f":"U60","v":"-"},{"$f":"V60","v":"-"},{"$f":"W60","v":"-"},{"$f":"X60","v":"-"}]
[null,"Rail Road",null,"RR",null,null,null,null,null,null,null,null,null,null,null,null,"Rail Road",null,null,"RR",null,null,null,null,null,null,null,null,null,null,null,null,null,null,null,null,null,null,null,null,null,null,null,null,null,null,null,null,null,null,null,null,null,null,null,null,null,null,null,null,null,null,null,null,null,null,null,null,null,null,null,null,null,null,null,null,null,null,null,null,null,null,null,null,null,null,null,null,null,null,null,null,null,null,null,null,null,null,null,null,null,null,null,null,null,null,null,null,null,null,null,null,null,null,null,null,null,null,null,null,null,null,null,null,null,null,null,null,null,null,null,null,null,null,null,null,null,null,null,null,null,null,null,null,null,null,null,null,null,null,null,null,null,null,null,null,null,null,null,null,null,null,null,null,null,null,null,null,null,null,null,null,null,null,null,null,null,null,null,null,null,null,null,null,null,null,null,null,null,null,null,null,null,null,null,null,null,null,null,null,5,null,{"$f":"IF(GU6>4,5,\"\")","v":""},{"$f":"IF(GV6>4,5,\"\")","v":""},null,null,null,null,null,null,null,null,null,null,null,null,null,null,null,null,null,null,null,null,null,null,null,null,null,null,null,null,null,"SS",{"$f":"T68","v":0},{"$f":"U68","v":"-"},{"$f":"V68","v":"-"},{"$f":"W68","v":"-"},{"$f":"X68","v":"-"},null,null,{"$f":"T68","v":0},{"$f":"U68","v":"-"},{"$f":"V68","v":"-"},{"$f":"W68","v":"-"},{"$f":"X68","v":"-"}]
[null,"Transverse Joint",null,"TJ",null,null,null,null,null,null,null,null,null,null,null,null,"Transverse Joint",null,null,"TJ",null,null,null,null,null,null,null,null,null,null,null,null,null,null,null,null,null,null,null,null,null,null,null,null,null,null,null,null,null,null,null,null,null,null,null,null,null,null,null,null,null,null,null,null,null,null,null,null,null,null,null,null,null,null,null,null,null,null,null,null,null,null,null,null,null,null,null,null,null,null,null,null,null,null,null,null,null,null,null,null,null,null,null,null,null,null,null,null,null,null,null,null,null,null,null,null,null,null,null,null,null,null,null,null,null,null,null,null,null,null,null,null,null,null,null,null,null,null,null,null,null,null,null,null,null,null,null,null,null,null,null,null,null,null,null,null,null,null,null,null,null,null,null,null,null,null,null,null,null,null,null,null,null,null,null,null,null,null,null,null,null,null,null,null,null,null,null,null,null,null,null,null,null,null,null,null,null,null,null,null,null,null,{"$f":"MAX(E15:E39)","v":0},{"$f":"MAX(T15:T39)","v":0},null,null,null,null,null,null,null,null,null,null,null,null,null,null,null,null,null,null,null,null,null,null,null,null,null,null,null,null,null,"BDO",{"$f":"F64","v":0},{"$f":"G64","v":0},{"$f":"H64","v":0},{"$f":"I64","v":0},{"$f":"J64","v":0},null,null,{"$f":"T64","v":0},{"$f":"U64","v":0},{"$f":"V64","v":0},{"$f":"W64","v":0},{"$f":"X64","v":0}]
[null,null,null,null,null,null,null,null,null,null,null,null,null,null,null,null,null,null,null,null,null,null,null,null,null,null,null,null,null,null,{"$f":"F50+G50+H50+I50+J50","v":52},{"$f":"F54+G54+H54+I54+J54","v":0},{"$f":"F58+G58+H58+I58+J58","v":0},{"$f":"SUM(F66:J66)","v":0},{"$f":"SUM(F70:J70)","v":0},null,{"$f":"SUM(T50:X50)","v":0},{"$f":"SUM(T54:X54)","v":0},{"$f":"SUM(T58:X58)","v":0},{"$f":"SUM(T66:X66)","v":0},{"$f":"SUM(T70:X70)","v":0},null,null,null,null,null,null,null,null,null,null,null,null,null,null,null,null,null,null,null,null,null,null,null,null,null,null,null,null,null,null,null,null,null,null,null,null,null,null,null,null,null,null,null,null,null,null,null,null,null,null,null,null,null,null,null,null,null,null,null,null,null,null,null,null,null,null,null,null,null,null,null,null,null,null,null,null,null,null,null,null,null,null,null,null,null,null,null,null,null,null,null,null,null,null,null,null,null,null,null,null,null,null,null,null,null,null,null,null,null,null,null,null,null,null,null,null,null,null,null,null,null,null,null,null,null,null,null,null,null,null,null,null,null,null,null,null,null,null,null,null,null,null,null,null,null,null,null,null,null,null,null,null,null,null,null,null,null,null,null,null,null,null,null,null,null,{"$f":"'Localized Factor Worksheet'!J38","v":""},null,{"$f":"'Ai factors'!I24","v":52},null,null,null,null,null,null,null,null,null,null,null,null,null,null,null,null,null,null,null,null,null,null,null,null,"TOTAL",{"$f":"F73","v":1},{"$f":"G73","v":""},{"$f":"H73","v":""},{"$f":"I73","v":""},{"$f":"J73","v":""},null,null,{"$f":"T73","v":0},{"$f":"U73","v":""},{"$f":"V73","v":""},{"$f":"W73","v":""},{"$f":"X73","v":""}]
[null,"Measurements Miles (Mi) or Feet (Ft)",null,null,null,null,null,null,null,null,null,null,null,null,null,null,"Measurements Miles (Mi) or Feet (Ft)",null,null,null,null,null,null,null,null,null,null,null,null,null,{"$f":"F51+G51+H51+I51+J51","v":1},{"$f":"F55+G55+H55+I55+J55","v":0},{"$f":"F59+G59+H59+I59+J59","v":0},{"$f":"SUM(F67:J67)","v":0},{"$f":"SUM(F71:J71)","v":0},null,{"$f":"SUM(T51:X51)","v":0},{"$f":"SUM(T55:X55)","v":0},{"$f":"SUM(T59:X59)","v":0},{"$f":"SUM(T67:X67)","v":0},{"$f":"SUM(T71:X71)","v":0}]
[null,"Measurements in: ",null,null,"FT",null,null,null,null,null,null,null,null,null,null,null,"Measurements in: ",null,null,"MILE",null,null,null,null,null,null,null,null,null,null,null,null,null,null,null,null,null,null,null,null,null,null,null,null,null,null,null,null,null,null,null,null,null,null,null,null,null,null,null,null,null,null,null,null,null,null,null,null,null,null,null,null,null,null,null,null,null,null,null,null,null,null,null,null,null,null,null,null,null,null,null,null,null,null,null,null,null,null,null,null,null,null,null,null,null,null,null,null,null,null,null,null,null,null,null,null,null,null,null,null,null,null,null,null,null,null,null,null,null,null,null,null,null,null,null,null,null,null,null,null,null,null,null,null,null,null,null,null,null,null,null,null,null,null,null,null,null,null,null,null,null,null,null,null,null,null,null,null,null,null,null,null,null,null,null,null,null,null,null,null,null,null,null,null,null,null,null,null,null,null,null,null,null,null,null,null,null,null,null,null,null,null,null,null,null,null,null,{"$f":"GT16","v":0},null,null,null,null,null,null,null,null,null,null,null,null,null,null,null,null,null,null,null,null,null,null,null,null,null,null,null,null,null,null,null,null,null,null,null,null,null,null,null,null,null,null,null,null,null,null,null,null,null,null,null,null,null,null,null,null,null,null,null,null,null,null,null,null,null,null,null,null,null,null,null,null,null,null,null,null,null,null,null,null,null,null,null,null,null,null,null,null,null,null,null,null,null,null,null,null,null,null,null,null,null,null,null,null,null,null,null,null,null,null,null,null,null,null,null,null,null,null,null,null,null,null,null,null,null,null,null,null,null,null,null,null,null,null,null,null,null,null,null,null,null,null,null,null,null,null,null,null,null,null,null,null,null,null,null,null,null,null,null,null,null,null,"Do not use \"+\" sign for Station. For example- 203+50 , input 20350."]
[null,{"$f":"IF(E9=\"FT\",NG9,\"\")","v":"Do not use \"+\" sign for Station. For example- 203+50 , input 20350."},null,null,null,null,null,null,null,null,null,null,null,null,null,null,{"$f":"IF(T9=\"FT\",NG9,\"\")","v":""}]
[]
[null,{"$f":"'Calculation sheet'!C8","v":0},null,null,null,null,null,null,null,null,null,null,null,"Remarks",null,null,{"$f":"'Calculation sheet'!E8","v":0},null,null,null,null,null,null,null,null,null,null,null,"Remarks",null,null,null,null,null,null,null,null,null,null,null,null,null,null,null,null,null,null,null,null,null,null,null,null,null,null,null,null,null,null,null,null,null,null,null,null,null,null,null,null,null,null,null,null,null,null,null,null,null,null,null,null,null,null,null,null,null,null,null,null,null,null,null,null,null,null,null,null,null,null,null,null,null,null,null,null,null,null,null,null,null,null,null,null,null,null,null,null,null,null,null,null,null,null,null,null,null,null,null,null,null,null,null,null,null,null,null,null,null,null,null,null,null,null,null,null,null,null,null,null,null,null,null,null,null,null,null,null,null,null,null,null,null,null,null,null,null,null,null,null,null,null,null,null,null,null,null,null,null,null,null,null,null,null,null,null,null,null,null,null,null,null,null,null,null,null,null,{"$f":"GS15","v":""}]
[null,"Localized Factor","From","To","Lane","Threshold (Ft)","Exclusion (Ft)","Localized Factor Summary",null,null,null,null,null,null,null,null,"Localized Factor","From","To","Lane","Threshold (Ft)","Exclusion (Ft)","Localized Factor Summary",null,null,null,null,null,null,null,null,null,null,null,null,null,null,null,null,null,null,null,null,null,null,null,null,null,null,null,null,null,null,null,null,null,null,null,null,null,null,null,null,null,null,null,null,null,null,null,null,null,null,null,null,null,null,null,null,null,null,null,null,null,null,null,null,null,null,null,null,null,null,null,null,null,null,null,null,null,null,null,null,null,null,null,null,null,null,null,null,null,null,null,null,null,null,null,null,null,null,null,null,null,null,null,null,null,null,null,null,null,null,null,null,null,null,null,null,null,null,null,null,null,null,null,null,null,null,null,null,null,null,null,null,null,null,null,null,null,null,null,null,null,null,null,null,null,null,null,null,null,null,null,null,null,null,null,null,null,null,null,null,null,null,null,null,null,null,null,null,null,null,null,null,null,"North Bound",null,null,null,null,null,null,null,null,null,null,null,null,null,null,null,null,null,null,null,null,null,null,null,null,null,{"$f":"Q12","v":0}]
[null,null,null,null,null,null,null,"TJ","IM","SR","SS",{"$f":"D5","v":"RR"},"RR",null,null,null,null,null,null,null,null,null,"TJ","IM","SR","SS",{"$f":"T5","v":"RR"},"RR",null,null,null,null,null,null,null,null,null,null,null,null,null,null,null,null,null,null,null,null,null,null,null,null,null,null,null,null,null,null,null,null,null,null,null,null,null,null,null,null,null,null,null,null,null,null,null,null,null,null,null,null,null,null,null,null,null,null,null,null,null,null,null,null,null,null,null,null,null,null,null,null,null,null,null,null,null,null,null,null,null,null,null,null,null,null,null,null,null,null,null,null,null,null,null,null,null,null,null,null,null,null,null,null,null,null,null,null,null,null,null,null,null,null,null,null,null,null,null,null,null,null,null,null,null,null,null,null,null,null,null,null,null,null,null,null,null,null,null,null,null,null,null,null,null,null,null,null,null,null,null,null,null,null,null,null,null,null,null,null,null,null,null,null,null,null,null,null,"RR",null,null,null,null,"IM",null,null,null,null,"SR",null,null,null,null,"SS",null,null,null,null,"TJ",null,null,null,null,null,"IM",null,null,null,null,"SR",null,null,null,null,"SS",null,null,null,null,"TJ",null,null,null,null,"RR"]
[null,null,null,null,null,null,null,null,null,null,null,null,null,null,null,null,null,null,null,null,null,null,null,null,null,null,null,null,null,null,null,null,null,null,null,null,null,null,null,null,null,null,null,null,null,null,null,null,null,null,null,null,null,null,null,null,null,null,null,null,null,null,null,null,null,null,null,null,null,null,null,null,null,null,null,null,null,null,null,null,null,null,null,null,null,null,null,null,null,null,null,null,null,null,null,null,null,null,null,null,null,null,null,null,null,null,null,null,null,null,null,null,null,null,null,null,null,null,null,null,null,null,null,null,null,null,null,null,null,null,null,null,null,null,null,null,null,null,null,null,null,null,null,null,null,null,null,null,null,null,null,null,null,null,null,null,null,null,null,null,null,null,null,null,null,null,null,null,null,null,null,null,null,null,null,null,null,null,null,null,null,null,null,null,null,null,null,null,null,null,null,null,null,null,null,null,{"$f":"GU1","v":1},{"$f":"GU2","v":""},{"$f":"GU3","v":""},{"$f":"GU4","v":""},{"$f":"GU5","v":""},{"$f":"GU1","v":1},{"$f":"GU2","v":""},{"$f":"GU3","v":""},{"$f":"GU4","v":""},{"$f":"GU5","v":""},{"$f":"GU1","v":1},{"$f":"GU2","v":""},{"$f":"GU3","v":""},{"$f":"GU4","v":""},{"$f":"GU5","v":""},{"$f":"GU1","v":1},{"$f":"GU2","v":""},{"$f":"GU3","v":""},{"$f":"GU4","v":""},{"$f":"GU5","v":""},{"$f":"GU1","v":1},{"$f":"GU2","v":""},{"$f":"GU3","v":""},{"$f":"GU4","v":""},{"$f":"GU5","v":""},null,{"$f":"GV1","v":1},{"$f":"GV2","v":""},{"$f":"GV3","v":""},{"$f":"GV4","v":""},{"$f":"GV5","v":""},{"$f":"GV1","v":1},{"$f":"GV2","v":""},{"$f":"GV3","v":""},{"$f":"GV4","v":""},{"$f":"GV5","v":""},{"$f":"GV1","v":1},{"$f":"GV2","v":""},{"$f":"GV3","v":""},{"$f":"GV4","v":""},{"$f":"GV5","v":""},{"$f":"GV1","v":1},{"$f":"GV2","v":""},{"$f":"GV3","v":""},{"$f":"GV4","v":""},{"$f":"GV5","v":""},{"$f":"GV1","v":1},{"$f":"GV2","v":""},{"$f":"GV3","v":""},{"$f":"GV4","v":""},{"$f":"GV5","v":""}]
[null,"TJ","All Lanes",null,null,{"$f":"IF(B16=\"IM\",'Ai factors'!$I$20,(IF(B16=\"SR\",'Ai factors'!$I$22,(IF(B16=\"ss\",'Ai factors'!$I$21,(IF(B16=\"rr\",'Ai factors'!$I$23,IF(B16=\"tj\",'Ai factors'!$I$24,0))))))))","v":52},{"$f":"IF($E$9=\"FT\",(IF(B16=\"ss\",2*F16+ABS(C16-D16),IF(B16=\"RR\",2*F16+ABS(C16-D16),F16))),((IF(B16=\"ss\",2*F16+5280*ABS(C16-D16),IF(B16=\"RR\",2*F16+5280*ABS(C16-D16),F16)))))","v":52},{"$f":"IF(B16=\"TJ\",G16,\"\")","v":52},{"$f":"IF(B16=\"IM\",G16,\"\")","v":""},{"$f":"IF(B16=\"SR\",G16,\"\")","v":""},{"$f":"IF(B16=\"SS\",G16,\"\")","v":""},{"$f":"IF(C16=\"SS\",H16,\"\")","v":""},{"$f":"IF(B16=\"RR\",G16,\"\")","v":""},"Transverse Joint at the begiining and end of project.",null,null,"TJ","All Lanes",null,null,{"$f":"IF(Q16=\"IM\",'Ai factors'!$I$20,(IF(Q16=\"SR\",'Ai factors'!$I$22,(IF(Q16=\"ss\",'Ai factors'!$I$21,(IF(Q16=\"rr\",'Ai factors'!$I$23,IF(Q16=\"tj\",'Ai factors'!$I$24,0))))))))","v":52},{"$f":"IF($T$9=\"FT\",(IF(Q16=\"ss\",2*U16+ABS(R16-S16),IF(Q16=\"RR\",2*U16+ABS(R16-S16),U16))),((IF(Q16=\"ss\",2*U16+5280*ABS(R16-S16),IF(Q16=\"RR\",2*U16+5280*ABS(R16-S16),U16)))))","v":52},{"$f":"IF(Q16=\"TJ\",V16,\"\")","v":52},{"$f":"IF(Q16=\"IM\",V16,\"\")","v":""},{"$f":"IF(Q16=\"SR\",V16,\"\")","v":""},{"$f":"IF(Q16=\"SS\",V16,\"\")","v":""},{"$f":"IF(R16=\"SS\",W16,\"\")","v":""},{"$f":"IF(Q16=\"RR\",V16,\"\")","v":""},"Transverse Joint at begiining and end of project.",null,null,null,null,null,null,null,null,null,null,null,null,null,null,null,null,null,null,null,null,null,null,null,null,null,null,null,null,null,null,null,null,null,null,null,null,null,null,null,null,null,null,null,null,null,null,null,null,null,null,null,null,null,null,null,null,null,null,null,null,null,null,null,null,null,null,null,null,null,null,null,null,null,null,null,null,null,null,null,null,null,null,null,null,null,null,null,null,null,null,null,null,null,null,null,null,null,null,null,null,null,null,null,null,null,null,null,null,null,null,null,null,null,null,null,null,null,null,null,null,null,null,null,null,null,null,null,null,null,null,null,null,null,null,null,null,null,null,null,null,null,null,null,null,null,null,null,null,null,null,null,null,null,null,null,null,null,null,null,null,null,null,null,null,null,null,null,{"$f":"IF($E16=$GO$15,$M16,0)","v":0},{"$f":"IF($E16=$GP$15,$M16,0)","v":""},{"$f":"IF($E16=$GQ$15,$M16,0)","v":""},{"$f":"IF($E16=$GR$15,$M16,0)","v":""},{"$f":"IF($E16=$GS$15,$M16,0)","v":""},{"$f":"IF($GU$1=$E16,$I16,0)","v":0},{"$f":"IF($GU$2=$E16,$I16,0)","v":""},{"$f":"IF($GU$3=$E16,$I16,0)","v":""},{"$f":"IF($GU$4=$E16,$I16,0)","v":""},{"$f":"IF($GU$5=$E16,$I16,0)","v":""},{"$f":"IF(E16=$GY$15,J16,0)","v":0},{"$f":"IF(E16=$GZ$15,J16,0)","v":""},{"$f":"IF(E16=$HA$15,J16,0)","v":""},{"$f":"IF(E16=$HB$15,J16,0)","v":""},{"$f":"IF(E16=$HC$15,J16,0)","v":""},{"$f":"IF($E16=$HD$15,$K16,0)","v":0},{"$f":"IF($E16=$HE$15,$K16,0)","v":""},{"$f":"IF($E16=$HF$15,$K16,0)","v":""},{"$f":"IF($E16=$HG$15,$K16,0)","v":""},{"$f":"IF($E16=$HH$15,$K16,0)","v":""},{"$f":"'Ai factors'!I24","v":52},{"$f":"IF($GU$6>1,'Ai factors'!I24,0)","v":0},{"$f":"IF($GU$6>2,'Ai factors'!I24,0)","v":0},{"$f":"IF($GU$6>3,'Ai factors'!I24,0)","v":0},{"$f":"IF($GU$5=5,'Ai factors'!I24,0)","v":0},null,{"$f":"IF(T16=$HO$15,X16,0)","v":0},{"$f":"IF(T16=$HP$15,X16,0)","v":""},{"$f":"IF(T16=$HQ$15,X16,0)","v":""},{"$f":"IF(T16=$HR$15,X16,0)","v":""},{"$f":"IF(T16=$HS$15,X16,0)","v":""},{"$f":"IF(T16=$HT$15,Y16,0)","v":0},{"$f":"IF(T16=$HU$15,Y16,0)","v":""},{"$f":"IF(T16=$HV$15,Y16,0)","v":""},{"$f":"IF(T16=$HW$15,Y16,0)","v":""},{"$f":"IF(T16=$HX$15,Y16,0)","v":""},{"$f":"IF($T16=$HY$15,$Z16,0)","v":0},{"$f":"IF($T16=$HZ$15,$Z16,0)","v":""},{"$f":"IF($T16=$IA$15,$Z16,0)","v":""},{"$f":"IF($T16=$IB$15,$Z16,0)","v":""},{"$f":"IF($T16=$IC$15,$Z16,0)","v":""},{"$f":"IF($GV$6>1,'Ai factors'!I24,0)","v":0},{"$f":"IF($GV$6>1,'Ai factors'!I24,0)","v":0},{"$f":"IF($GV$6>2,'Ai factors'!I24,0)","v":0},{"$f":"IF($GV$6>3,'Ai factors'!I24,0)","v":0},{"$f":"IF($GV$6=5,'Ai factors'!I24,0)","v":0},{"$f":"IF($T15=II$15,$AB15,0)","v":0},{"$f":"IF($T15=IJ$15,$AB15,0)","v":0},{"$f":"IF($T15=IK$15,$AB15,0)","v":0},{"$f":"IF($T15=IL$15,$AB15,0)","v":0},{"$f":"IF($T15=IM$15,$AB15,0)","v":0}]
[null,null,null,null,null,{"$f":"IF(B17=\"IM\",'Ai factors'!$I$20,(IF(B17=\"SR\",'Ai factors'!$I$22,(IF(B17=\"ss\",'Ai factors'!$I$21,(IF(B17=\"rr\",'Ai factors'!$I$23,IF(B17=\"tj\",'Ai factors'!$I$24,0))))))))","v":0},{"$f":"IF($E$9=\"FT\",(IF(B17=\"ss\",2*F17+ABS(C17-D17),IF(B17=\"RR\",2*F17+ABS(C17-D17),F17))),((IF(B17=\"ss\",2*F17+5280*ABS(C17-D17),IF(B17=\"RR\",2*F17+5280*ABS(C17-D17),F17)))))","v":0},{"$f":"IF(B17=\"TJ\",G17,\"\")","v":""},{"$f":"IF(B17=\"IM\",G17,\"\")","v":""},{"$f":"IF(B17=\"SR\",G17,\"\")","v":""},{"$f":"IF(B17=\"SS\",G17,\"\")","v":""},{"$f":"IF(C17=\"SS\",H17,\"\")","v":""},{"$f":"IF(B17=\"RR\",G17,\"\")","v":""},null,null,null,null,null,null,null,{"$f":"IF(Q17=\"IM\",'Ai factors'!$I$20,(IF(Q17=\"SR\",'Ai factors'!$I$22,(IF(Q17=\"ss\",'Ai factors'!$I$21,(IF(Q17=\"rr\",'Ai factors'!$I$23,IF(Q17=\"tj\",'Ai factors'!$I$24,0))))))))","v":0},0,{"$f":"IF(Q17=\"TJ\",V17,\"\")","v":""},{"$f":"IF(Q17=\"IM\",V17,\"\")","v":""},{"$f":"IF(Q17=\"SR\",V17,\"\")","v":""},{"$f":"IF(Q17=\"SS\",V17,\"\")","v":""},"",{"$f":"IF(Q17=\"RR\",V17,\"\")","v":""},null,null,null,null,null,null,null,null,null,null,null,null,null,null,null,null,null,null,null,null,null,null,null,null,null,null,null,null,null,null,null,null,null,null,null,null,null,null,null,null,null,null,null,null,null,null,null,null,null,null,null,null,null,null,null,null,null,null,null,null,null,null,null,null,null,null,null,null,null,null,null,null,null,null,null,null,null,null,null,null,null,null,null,null,null,null,null,null,null,null,null,null,null,null,null,null,null,null,null,null,null,null,null,null,null,null,null,null,null,null,null,null,null,null,null,null,null,null,null,null,null,null,null,null,null,null,null,null,null,null,null,null,null,null,null,null,null,null,null,null,null,null,null,null,null,null,null,null,null,null,null,null,null,null,null,null,null,null,null,null,null,null,null,null,null,null,null,null,{"$f":"IF($E17=$GO$15,$M17,0)","v":0},{"$f":"IF($E17=$GP$15,$M17,0)","v":""},{"$f":"IF($E17=$GQ$15,$M17,0)","v":""},{"$f":"IF($E17=$GR$15,$M17,0)","v":""},{"$f":"IF($E17=$GS$15,$M17,0)","v":""},{"$f":"IF($GU$1=$E17,$I17,0)","v":0},{"$f":"IF($GU$2=$E17,$I17,0)","v":""},{"$f":"IF($GU$3=$E17,$I17,0)","v":""},{"$f":"IF($GU$4=$E17,$I17,0)","v":""},{"$f":"IF($GU$5=$E17,$I17,0)","v":""},{"$f":"IF(E17=$GY$15,J17,0)","v":0},{"$f":"IF(E17=$GZ$15,J17,0)","v":""},{"$f":"IF(E17=$HA$15,J17,0)","v":""},{"$f":"IF(E17=$HB$15,J17,0)","v":""},{"$f":"IF(E17=$HC$15,J17,0)","v":""},0,"","","","",{"$f":"IF($E17=HI$15,H17,0)","v":0},{"$f":"IF($E17=HJ$15,H17,0)","v":""},{"$f":"IF($E17=HK$15,H17,0)","v":""},{"$f":"IF($E17=HL$15,H17,0)","v":""},{"$f":"IF($E17=HM$15,$H17,0)","v":""},null,{"$f":"IF(T17=$HO$15,X17,0)","v":0},{"$f":"IF(T17=$HP$15,X17,0)","v":""},{"$f":"IF(T17=$HQ$15,X17,0)","v":""},{"$f":"IF(T17=$HR$15,X17,0)","v":""},{"$f":"IF(T17=$HS$15,X17,0)","v":""},{"$f":"IF(T17=$HT$15,Y17,0)","v":0},{"$f":"IF(T17=$HU$15,Y17,0)","v":""},{"$f":"IF(T17=$HV$15,Y17,0)","v":""},{"$f":"IF(T17=$HW$15,Y17,0)","v":""},{"$f":"IF(T17=$HX$15,Y17,0)","v":""},0,"","","","",{"$f":"IF($T17=$ID$15,$W17,0)","v":0},{"$f":"IF($T17=$IE$15,$W17,0)","v":""},{"$f":"IF($T17=$IF$15,$W17,0)","v":""},{"$f":"IF($T17=$IG$15,$W17,0)","v":""},{"$f":"IF($T17=$IH$15,$W17,0)","v":""},{"$f":"IF($T16=II$15,$AB16,0)","v":0},{"$f":"IF($T16=IJ$15,$AB16,0)","v":""},{"$f":"IF($T16=IK$15,$AB16,0)","v":""},{"$f":"IF($T16=IL$15,$AB16,0)","v":""},{"$f":"IF($T16=IM$15,$AB16,0)","v":""}]
[null,null,null,null,null,{"$f":"IF(B18=\"IM\",'Ai factors'!$I$20,(IF(B18=\"SR\",'Ai factors'!$I$22,(IF(B18=\"ss\",'Ai factors'!$I$21,(IF(B18=\"rr\",'Ai factors'!$I$23,IF(B18=\"tj\",'Ai factors'!$I$24,0))))))))","v":0},{"$f":"IF($E$9=\"FT\",(IF(B18=\"ss\",2*F18+ABS(C18-D18),IF(B18=\"RR\",2*F18+ABS(C18-D18),F18))),((IF(B18=\"ss\",2*F18+5280*ABS(C18-D18),IF(B18=\"RR\",2*F18+5280*ABS(C18-D18),F18)))))","v":0},{"$f":"IF(B18=\"TJ\",G18,\"\")","v":""},{"$f":"IF(B18=\"IM\",G18,\"\")","v":""},{"$f":"IF(B18=\"SR\",G18,\"\")","v":""},{"$f":"IF(B18=\"SS\",G18,\"\")","v":""},{"$f":"IF(C18=\"SS\",H18,\"\")","v":""},{"$f":"IF(B18=\"RR\",G18,\"\")","v":""},null,null,null,null,null,null,null,{"$f":"IF(Q18=\"IM\",'Ai factors'!$I$20,(IF(Q18=\"SR\",'Ai factors'!$I$22,(IF(Q18=\"ss\",'Ai factors'!$I$21,(IF(Q18=\"rr\",'Ai factors'!$I$23,IF(Q18=\"tj\",'Ai factors'!$I$24,0))))))))","v":0},0,"","","","","","",null,null,null,null,null,null,null,null,null,null,null,null,null,null,null,null,null,null,null,null,null,null,null,null,null,null,null,null,null,null,null,null,null,null,null,null,null,null,null,null,null,null,null,null,null,null,null,null,null,null,null,null,null,null,null,null,null,null,null,null,null,null,null,null,null,null,null,null,null,null,null,null,null,null,null,null,null,null,null,null,null,null,null,null,null,null,null,null,null,null,null,null,null,null,null,null,null,null,null,null,null,null,null,null,null,null,null,null,null,null,null,null,null,null,null,null,null,null,null,null,null,null,null,null,null,null,null,null,null,null,null,null,null,null,null,null,null,null,null,null,null,null,null,null,null,null,null,null,null,null,null,null,null,null,null,null,null,null,null,null,null,null,null,null,null,null,null,null,0,"","","","",0,"","","","",0,"","","","",0,"","","","",{"$f":"IF($E18=HI$15,H18,0)","v":0},{"$f":"IF($E18=HJ$15,H18,0)","v":""},{"$f":"IF($E18=HK$15,H18,0)","v":""},{"$f":"IF($E18=HL$15,H18,0)","v":""},{"$f":"IF($E18=HM$15,$H18,0)","v":""},null,0,"","","","",0,"","","","",0,"","","","",{"$f":"IF($T18=$ID$15,$W18,0)","v":0},{"$f":"IF($T18=$IE$15,$W18,0)","v":""},{"$f":"IF($T18=$IF$15,$W18,0)","v":""},{"$f":"IF($T18=$IG$15,$W18,0)","v":""},{"$f":"IF($T18=$IH$15,$W18,0)","v":""},0,"","","",""]
[null,null,null,null,null,{"$f":"IF(B19=\"IM\",'Ai factors'!$I$20,(IF(B19=\"SR\",'Ai factors'!$I$22,(IF(B19=\"ss\",'Ai factors'!$I$21,(IF(B19=\"rr\",'Ai factors'!$I$23,IF(B19=\"tj\",'Ai factors'!$I$24,0))))))))","v":0},0,"","","","","","",null,null,null,null,null,null,null,{"$f":"IF(Q19=\"IM\",'Ai factors'!$I$20,(IF(Q19=\"SR\",'Ai factors'!$I$22,(IF(Q19=\"ss\",'Ai factors'!$I$21,(IF(Q19=\"rr\",'Ai factors'!$I$23,IF(Q19=\"tj\",'Ai factors'!$I$24,0))))))))","v":0},0,"","","","","","",null,"Medium Opening",null,null,null,null,null,null,null,null,null,null,null,null,null,null,null,null,null,null,null,null,null,null,null,null,null,null,null,null,null,null,null,null,null,null,null,null,null,null,null,null,null,null,null,null,null,null,null,null,null,null,null,null,null,null,null,null,null,null,null,null,null,null,null,null,null,null,null,null,null,null,null,null,null,null,null,null,null,null,null,null,null,null,null,null,null,null,null,null,null,null,null,null,null,null,null,null,null,null,null,null,null,null,null,null,null,null,null,null,null,null,null,null,null,null,null,null,null,null,null,null,null,null,null,null,null,null,null,null,null,null,null,null,null,null,null,null,null,null,null,null,null,null,null,null,null,null,null,null,null,null,null,null,null,null,null,null,null,null,null,null,null,null,null,null,null,null,0,"","","","",0,"","","","",0,"","","","",0,"","","","",0,"","","","",null,0,"","","","",0,"","","","",0,"","","","",0,"","","","",0,"","","",""]
[null,null,null,null,null,{"$f":"IF(B20=\"IM\",'Ai factors'!$I$20,(IF(B20=\"SR\",'Ai factors'!$I$22,(IF(B20=\"ss\",'Ai factors'!$I$21,(IF(B20=\"rr\",'Ai factors'!$I$23,IF(B20=\"tj\",'Ai factors'!$I$24,0))))))))","v":0},0,"","","","","","",null,null,null,null,null,null,null,{"$f":"IF(Q20=\"IM\",'Ai factors'!$I$20,(IF(Q20=\"SR\",'Ai factors'!$I$22,(IF(Q20=\"ss\",'Ai factors'!$I$21,(IF(Q20=\"rr\",'Ai factors'!$I$23,IF(Q20=\"tj\",'Ai factors'!$I$24,0))))))))","v":0},0,"","","","","","",null,null,null,null,null,null,null,null,null,null,null,null,null,null,null,null,null,null,null,null,null,null,null,null,null,null,null,null,null,null,null,null,null,null,null,null,null,null,null,null,null,null,null,null,null,null,null,null,null,null,null,null,null,null,null,null,null,null,null,null,null,null,null,null,null,null,null,null,null,null,null,null,null,null,null,null,null,null,null,null,null,null,null,null,null,null,null,null,null,null,null,null,null,null,null,null,null,null,null,null,null,null,null,null,null,null,null,null,null,null,null,null,null,null,null,null,null,null,null,null,null,null,null,null,null,null,null,null,null,null,null,null,null,null,null,null,null,null,null,null,null,null,null,null,null,null,null,null,null,null,null,null,null,null,null,null,null,null,null,null,null,null,null,null,null,null,null,null,0,"","","","",0,"","","","",0,"","","","",0,"","","","",0,"","","","",null,0,"","","","",0,"","","","",0,"","","","",0,"","","","",0,"","","",""]
[null,null,null,null,null,{"$f":"IF(B21=\"IM\",'Ai factors'!$I$20,(IF(B21=\"SR\",'Ai factors'!$I$22,(IF(B21=\"ss\",'Ai factors'!$I$21,(IF(B21=\"rr\",'Ai factors'!$I$23,IF(B21=\"tj\",'Ai factors'!$I$24,0))))))))","v":0},0,"","","","","","",null,null,null,null,null,null,null,{"$f":"IF(Q21=\"IM\",'Ai factors'!$I$20,(IF(Q21=\"SR\",'Ai factors'!$I$22,(IF(Q21=\"ss\",'Ai factors'!$I$21,(IF(Q21=\"rr\",'Ai factors'!$I$23,IF(Q21=\"tj\",'Ai factors'!$I$24,0))))))))","v":0},0,"","","","","","",null,null,null,null,null,null,null,null,null,null,null,null,null,null,null,null,null,null,null,null,null,null,null,null,null,null,null,null,null,null,null,null,null,null,null,null,null,null,null,null,null,null,null,null,null,null,null,null,null,null,null,null,null,null,null,null,null,null,null,null,null,null,null,null,null,null,null,null,null,null,null,null,null,null,null,null,null,null,null,null,null,null,null,null,null,null,null,null,null,null,null,null,null,null,null,null,null,null,null,null,null,null,null,null,null,null,null,null,null,null,null,null,null,null,null,null,null,null,null,null,null,null,null,null,null,null,null,null,null,null,null,null,null,null,null,null,null,null,null,null,null,null,null,null,null,null,null,null,null,null,null,null,null,null,null,null,null,null,null,null,null,null,null,null,null,null,null,null,0,"","","","",0,"","","","",0,"","","","",0,"","","","",0,"","","","",null,0,"","","","",0,"","","","",0,"","","","",0,"","","","",0,"","","",""]
[null,null,null,null,null,{"$f":"IF(B22=\"IM\",'Ai factors'!$I$20,(IF(B22=\"SR\",'Ai factors'!$I$22,(IF(B22=\"ss\",'Ai factors'!$I$21,(IF(B22=\"rr\",'Ai factors'!$I$23,IF(B22=\"tj\",'Ai factors'!$I$24,0))))))))","v":0},0,"","","","","","",null,null,null,null,null,null,null,{"$f":"IF(Q22=\"IM\",'Ai factors'!$I$20,(IF(Q22=\"SR\",'Ai factors'!$I$22,(IF(Q22=\"ss\",'Ai factors'!$I$21,(IF(Q22=\"rr\",'Ai factors'!$I$23,IF(Q22=\"tj\",'Ai factors'!$I$24,0))))))))","v":0},0,"","","","","","",null,null,null,null,null,null,null,null,null,null,null,null,null,null,null,null,null,null,null,null,null,null,null,null,null,null,null,null,null,null,null,null,null,null,null,null,null,null,null,null,null,null,null,null,null,null,null,null,null,null,null,null,null,null,null,null,null,null,null,null,null,null,null,null,null,null,null,null,null,null,null,null,null,null,null,null,null,null,null,null,null,null,null,null,null,null,null,null,null,null,null,null,null,null,null,null,null,null,null,null,null,null,null,null,null,null,null,null,null,null,null,null,null,null,null,null,null,null,null,null,null,null,null,null,null,null,null,null,null,null,null,null,null,null,null,null,null,null,null,null,null,null,null,null,null,null,null,null,null,null,null,null,null,null,null,null,null,null,null,null,null,null,null,null,null,null,null,null,0,"","","","",0,"","","","",0,"","","","",0,"","","","",0,"","","","",null,0,"","","","",0,"","","","",0,"","","","",0,"","","","",0,"","","",""]
[null,null,null,null,null,{"$f":"IF(B23=\"IM\",'Ai factors'!$I$20,(IF(B23=\"SR\",'Ai factors'!$I$22,(IF(B23=\"ss\",'Ai factors'!$I$21,(IF(B23=\"rr\",'Ai factors'!$I$23,IF(B23=\"tj\",'Ai factors'!$I$24,0))))))))","v":0},0,"","","","","","",null,null,null,null,null,null,null,{"$f":"IF(Q23=\"IM\",'Ai factors'!$I$20,(IF(Q23=\"SR\",'Ai factors'!$I$22,(IF(Q23=\"ss\",'Ai factors'!$I$21,(IF(Q23=\"rr\",'Ai factors'!$I$23,IF(Q23=\"tj\",'Ai factors'!$I$24,0))))))))","v":0},0,"","","","","","",null,"Medium Opening",null,null,null,null,null,null,null,null,null,null,null,null,null,null,null,null,null,null,null,null,null,null,null,null,null,null,null,null,null,null,null,null,null,null,null,null,null,null,null,null,null,null,null,null,null,null,null,null,null,null,null,null,null,null,null,null,null,null,null,null,null,null,null,null,null,null,null,null,null,null,null,null,null,null,null,null,null,null,null,null,null,null,null,null,null,null,null,null,null,null,null,null,null,null,null,null,null,null,null,null,null,null,null,null,null,null,null,null,null,null,null,null,null,null,null,null,null,null,null,null,null,null,null,null,null,null,null,null,null,null,null,null,null,null,null,null,null,null,null,null,null,null,null,null,null,null,null,null,null,null,null,null,null,null,null,null,null,null,null,null,null,null,null,null,null,null,0,"","","","",0,"","","","",0,"","","","",0,"","","","",0,"","","","",null,0,"","","","",0,"","","","",0,"","","","",0,"","","","",0,"","","",""]
[null,null,null,null,null,{"$f":"IF(B24=\"IM\",'Ai factors'!$I$20,(IF(B24=\"SR\",'Ai factors'!$I$22,(IF(B24=\"ss\",'Ai factors'!$I$21,(IF(B24=\"rr\",'Ai factors'!$I$23,IF(B24=\"tj\",'Ai factors'!$I$24,0))))))))","v":0},{"$f":"IF($E$9=\"FT\",(IF(B24=\"ss\",2*F24+ABS(C24-D24),IF(B24=\"RR\",2*F24+ABS(C24-D24),F24))),((IF(B24=\"ss\",2*F24+5280*ABS(C24-D24),IF(B24=\"RR\",2*F24+5280*ABS(C24-D24),F24)))))","v":0},{"$f":"IF(B24=\"TJ\",G24,\"\")","v":""},{"$f":"IF(B24=\"IM\",G24,\"\")","v":""},{"$f":"IF(B24=\"SR\",G24,\"\")","v":""},{"$f":"IF(B24=\"SS\",G24,\"\")","v":""},{"$f":"IF(C24=\"SS\",H24,\"\")","v":""},{"$f":"IF(B24=\"RR\",G24,\"\")","v":""},null,null,null,null,null,null,null,{"$f":"IF(Q24=\"IM\",'Ai factors'!$I$20,(IF(Q24=\"SR\",'Ai factors'!$I$22,(IF(Q24=\"ss\",'Ai factors'!$I$21,(IF(Q24=\"rr\",'Ai factors'!$I$23,IF(Q24=\"tj\",'Ai factors'!$I$24,0))))))))","v":0},0,{"$f":"IF(Q24=\"TJ\",V24,\"\")","v":""},{"$f":"IF(Q24=\"IM\",V24,\"\")","v":""},{"$f":"IF(Q24=\"SR\",V24,\"\")","v":""},{"$f":"IF(Q24=\"SS\",V24,\"\")","v":""},{"$f":"IF(R24=\"SS\",W24,\"\")","v":""},{"$f":"IF(Q24=\"RR\",V24,\"\")","v":""},null,null,null,null,null,null,null,null,null,null,null,null,null,null,null,null,null,null,null,null,null,null,null,null,null,null,null,null,null,null,null,null,null,null,null,null,null,null,null,null,null,null,null,null,null,null,null,null,null,null,null,null,null,null,null,null,null,null,null,null,null,null,null,null,null,null,null,null,null,null,null,null,null,null,null,null,null,null,null,null,null,null,null,null,null,null,null,null,null,null,null,null,null,null,null,null,null,null,null,null,null,null,null,null,null,null,null,null,null,null,null,null,null,null,null,null,null,null,null,null,null,null,null,null,null,null,null,null,null,null,null,null,null,null,null,null,null,null,null,null,null,null,null,null,null,null,null,null,null,null,null,null,null,null,null,null,null,null,null,null,null,null,null,null,null,null,null,null,0,"","","","",0,"","","","",{"$f":"IF(E24=$GY$15,J24,0)","v":0},{"$f":"IF(E24=$GZ$15,J24,0)","v":""},{"$f":"IF(E24=$HA$15,J24,0)","v":""},{"$f":"IF(E24=$HB$15,J24,0)","v":""},{"$f":"IF(E24=$HC$15,J24,0)","v":""},0,"","","","",{"$f":"IF($E24=HI$15,H24,0)","v":0},{"$f":"IF($E24=HJ$15,H24,0)","v":""},{"$f":"IF($E24=HK$15,H24,0)","v":""},{"$f":"IF($E24=HL$15,H24,0)","v":""},"",null,{"$f":"IF(T24=$HO$15,X24,0)","v":0},{"$f":"IF(T24=$HP$15,X24,0)","v":""},{"$f":"IF(T24=$HQ$15,X24,0)","v":""},{"$f":"IF(T24=$HR$15,X24,0)","v":""},{"$f":"IF(T24=$HS$15,X24,0)","v":""},{"$f":"IF(T24=$HT$15,Y24,0)","v":0},{"$f":"IF(T24=$HU$15,Y24,0)","v":""},{"$f":"IF(T24=$HV$15,Y24,0)","v":""},{"$f":"IF(T24=$HW$15,Y24,0)","v":""},{"$f":"IF(T24=$HX$15,Y24,0)","v":""},0,"","","","",0,"","","","",{"$f":"IF($T22=II$15,$AB22,0)","v":0},"","","",""]
[null,null,null,null,null,{"$f":"IF(B25=\"IM\",'Ai factors'!$I$20,(IF(B25=\"SR\",'Ai factors'!$I$22,(IF(B25=\"ss\",'Ai factors'!$I$21,(IF(B25=\"rr\",'Ai factors'!$I$23,IF(B25=\"tj\",'Ai factors'!$I$24,0))))))))","v":0},{"$f":"IF($E$9=\"FT\",(IF(B25=\"ss\",2*F25+ABS(C25-D25),IF(B25=\"RR\",2*F25+ABS(C25-D25),F25))),((IF(B25=\"ss\",2*F25+5280*ABS(C25-D25),IF(B25=\"RR\",2*F25+5280*ABS(C25-D25),F25)))))","v":0},{"$f":"IF(B25=\"TJ\",G25,\"\")","v":""},{"$f":"IF(B25=\"IM\",G25,\"\")","v":""},{"$f":"IF(B25=\"SR\",G25,\"\")","v":""},{"$f":"IF(B25=\"SS\",G25,\"\")","v":""},{"$f":"IF(C25=\"SS\",H25,\"\")","v":""},{"$f":"IF(B25=\"RR\",G25,\"\")","v":""},null,null,null,null,null,null,null,{"$f":"IF(Q25=\"IM\",'Ai factors'!$I$20,(IF(Q25=\"SR\",'Ai factors'!$I$22,(IF(Q25=\"ss\",'Ai factors'!$I$21,(IF(Q25=\"rr\",'Ai factors'!$I$23,IF(Q25=\"tj\",'Ai factors'!$I$24,0))))))))","v":0},0,{"$f":"IF(Q25=\"TJ\",V25,\"\")","v":""},{"$f":"IF(Q25=\"IM\",V25,\"\")","v":""},{"$f":"IF(Q25=\"SR\",V25,\"\")","v":""},{"$f":"IF(Q25=\"SS\",V25,\"\")","v":""},{"$f":"IF(R25=\"SS\",W25,\"\")","v":""},{"$f":"IF(Q25=\"RR\",V25,\"\")","v":""},null,null,null,null,null,null,null,null,null,null,null,null,null,null,null,null,null,null,null,null,null,null,null,null,null,null,null,null,null,null,null,null,null,null,null,null,null,null,null,null,null,null,null,null,null,null,null,null,null,null,null,null,null,null,null,null,null,null,null,null,null,null,null,null,null,null,null,null,null,null,null,null,null,null,null,null,null,null,null,null,null,null,null,null,null,null,null,null,null,null,null,null,null,null,null,null,null,null,null,null,null,null,null,null,null,null,null,null,null,null,null,null,null,null,null,null,null,null,null,null,null,null,null,null,null,null,null,null,null,null,null,null,null,null,null,null,null,null,null,null,null,null,null,null,null,null,null,null,null,null,null,null,null,null,null,null,null,null,null,null,null,null,null,null,null,null,null,null,0,"","","","",0,"","","","",{"$f":"IF(E25=$GY$15,J25,0)","v":0},{"$f":"IF(E25=$GZ$15,J25,0)","v":""},{"$f":"IF(E25=$HA$15,J25,0)","v":""},{"$f":"IF(E25=$HB$15,J25,0)","v":""},{"$f":"IF(E25=$HC$15,J25,0)","v":""},0,"","","","",{"$f":"IF($E25=HI$15,H25,0)","v":0},{"$f":"IF($E25=HJ$15,H25,0)","v":""},"",{"$f":"IF($E25=HL$15,H25,0)","v":""},"",null,{"$f":"IF(T25=$HO$15,X25,0)","v":0},{"$f":"IF(T25=$HP$15,X25,0)","v":""},{"$f":"IF(T25=$HQ$15,X25,0)","v":""},{"$f":"IF(T25=$HR$15,X25,0)","v":""},{"$f":"IF(T25=$HS$15,X25,0)","v":""},{"$f":"IF(T25=$HT$15,Y25,0)","v":0},{"$f":"IF(T25=$HU$15,Y25,0)","v":""},{"$f":"IF(T25=$HV$15,Y25,0)","v":""},{"$f":"IF(T25=$HW$15,Y25,0)","v":""},{"$f":"IF(T25=$HX$15,Y25,0)","v":""},0,"","","","",0,"","","","",0,"","","",""]
[null,null,null,null,null,{"$f":"IF(B26=\"IM\",'Ai factors'!$I$20,(IF(B26=\"SR\",'Ai factors'!$I$22,(IF(B26=\"ss\",'Ai factors'!$I$21,(IF(B26=\"rr\",'Ai factors'!$I$23,IF(B26=\"tj\",'Ai factors'!$I$24,0))))))))","v":0},{"$f":"IF($E$9=\"FT\",(IF(B26=\"ss\",2*F26+ABS(C26-D26),IF(B26=\"RR\",2*F26+ABS(C26-D26),F26))),((IF(B26=\"ss\",2*F26+5280*ABS(C26-D26),IF(B26=\"RR\",2*F26+5280*ABS(C26-D26),F26)))))","v":0},{"$f":"IF(B26=\"TJ\",G26,\"\")","v":""},{"$f":"IF(B26=\"IM\",G26,\"\")","v":""},{"$f":"IF(B26=\"SR\",G26,\"\")","v":""},{"$f":"IF(B26=\"SS\",G26,\"\")","v":""},{"$f":"IF(C26=\"SS\",H26,\"\")","v":""},{"$f":"IF(B26=\"RR\",G26,\"\")","v":""},null,null,null,null,null,null,null,{"$f":"IF(Q26=\"IM\",'Ai factors'!$I$20,(IF(Q26=\"SR\",'Ai factors'!$I$22,(IF(Q26=\"ss\",'Ai factors'!$I$21,(IF(Q26=\"rr\",'Ai factors'!$I$23,IF(Q26=\"tj\",'Ai factors'!$I$24,0))))))))","v":0},0,{"$f":"IF(Q26=\"TJ\",V26,\"\")","v":""},{"$f":"IF(Q26=\"IM\",V26,\"\")","v":""},{"$f":"IF(Q26=\"SR\",V26,\"\")","v":""},{"$f":"IF(Q26=\"SS\",V26,\"\")","v":""},{"$f":"IF(R26=\"SS\",W26,\"\")","v":""},{"$f":"IF(Q26=\"RR\",V26,\"\")","v":""},null,null,null,null,null,null,null,null,null,null,null,null,null,null,null,null,null,null,null,null,null,null,null,null,null,null,null,null,null,null,null,null,null,null,null,null,null,null,null,null,null,null,null,null,null,null,null,null,null,null,null,null,null,null,null,null,null,null,null,null,null,null,null,null,null,null,null,null,null,null,null,null,null,null,null,null,null,null,null,null,null,null,null,null,null,null,null,null,null,null,null,null,null,null,null,null,null,null,null,null,null,null,null,null,null,null,null,null,null,null,null,null,null,null,null,null,null,null,null,null,null,null,null,null,null,null,null,null,null,null,null,null,null,null,null,null,null,null,null,null,null,null,null,null,null,null,null,null,null,null,null,null,null,null,null,null,null,null,null,null,null,null,null,null,null,null,null,null,0,"","","","",0,"","","","",{"$f":"IF(E26=$GY$15,J26,0)","v":0},{"$f":"IF(E26=$GZ$15,J26,0)","v":""},{"$f":"IF(E26=$HA$15,J26,0)","v":""},{"$f":"IF(E26=$HB$15,J26,0)","v":""},{"$f":"IF(E26=$HC$15,J26,0)","v":""},0,"","","","",{"$f":"IF($E26=HI$15,H26,0)","v":0},{"$f":"IF($E26=HJ$15,H26,0)","v":""},"",{"$f":"IF($E26=HL$15,H26,0)","v":""},"",null,{"$f":"IF(T26=$HO$15,X26,0)","v":0},{"$f":"IF(T26=$HP$15,X26,0)","v":""},{"$f":"IF(T26=$HQ$15,X26,0)","v":""},{"$f":"IF(T26=$HR$15,X26,0)","v":""},{"$f":"IF(T26=$HS$15,X26,0)","v":""},{"$f":"IF(T26=$HT$15,Y26,0)","v":0},{"$f":"IF(T26=$HU$15,Y26,0)","v":""},{"$f":"IF(T26=$HV$15,Y26,0)","v":""},{"$f":"IF(T26=$HW$15,Y26,0)","v":""},{"$f":"IF(T26=$HX$15,Y26,0)","v":""},0,"","","","",0,"","","","",0,"","","",""]
[null,null,null,null,null,{"$f":"IF(B27=\"IM\",'Ai factors'!$I$20,(IF(B27=\"SR\",'Ai factors'!$I$22,(IF(B27=\"ss\",'Ai factors'!$I$21,(IF(B27=\"rr\",'Ai factors'!$I$23,IF(B27=\"tj\",'Ai factors'!$I$24,0))))))))","v":0},{"$f":"IF($E$9=\"FT\",(IF(B27=\"ss\",2*F27+ABS(C27-D27),IF(B27=\"RR\",2*F27+ABS(C27-D27),F27))),((IF(B27=\"ss\",2*F27+5280*ABS(C27-D27),IF(B27=\"RR\",2*F27+5280*ABS(C27-D27),F27)))))","v":0},{"$f":"IF(B27=\"TJ\",G27,\"\")","v":""},{"$f":"IF(B27=\"IM\",G27,\"\")","v":""},{"$f":"IF(B27=\"SR\",G27,\"\")","v":""},{"$f":"IF(B27=\"SS\",G27,\"\")","v":""},{"$f":"IF(C27=\"SS\",H27,\"\")","v":""},{"$f":"IF(B27=\"RR\",G27,\"\")","v":""},null,null,null,null,null,null,null,{"$f":"IF(Q27=\"IM\",'Ai factors'!$I$20,(IF(Q27=\"SR\",'Ai factors'!$I$22,(IF(Q27=\"ss\",'Ai factors'!$I$21,(IF(Q27=\"rr\",'Ai factors'!$I$23,IF(Q27=\"tj\",'Ai factors'!$I$24,0))))))))","v":0},{"$f":"IF($T9=\"FT\",(IF(Q27=\"ss\",2*U27+ABS(R27-S27),IF(Q27=\"RR\",2*U27+ABS(R27-S27),U27))),((IF(Q27=\"ss\",2*U27+5280*ABS(R27-S27),IF(Q27=\"RR\",2*U27+5280*ABS(R27-S27),U27)))))","v":0},{"$f":"IF(Q27=\"TJ\",V27,\"\")","v":""},{"$f":"IF(Q27=\"IM\",V27,\"\")","v":""},{"$f":"IF(Q27=\"SR\",V27,\"\")","v":""},{"$f":"IF(Q27=\"SS\",V27,\"\")","v":""},{"$f":"IF(R27=\"SS\",W27,\"\")","v":""},{"$f":"IF(Q27=\"RR\",V27,\"\")","v":""},null,null,null,null,null,null,null,null,null,null,null,null,null,null,null,null,null,null,null,null,null,null,null,null,null,null,null,null,null,null,null,null,null,null,null,null,null,null,null,null,null,null,null,null,null,null,null,null,null,null,null,null,null,null,null,null,null,null,null,null,null,null,null,null,null,null,null,null,null,null,null,null,null,null,null,null,null,null,null,null,null,null,null,null,null,null,null,null,null,null,null,null,null,null,null,null,null,null,null,null,null,null,null,null,null,null,null,null,null,null,null,null,null,null,null,null,null,null,null,null,null,null,null,null,null,null,null,null,null,null,null,null,null,null,null,null,null,null,null,null,null,null,null,null,null,null,null,null,null,null,null,null,null,null,null,null,null,null,null,null,null,null,null,null,null,null,null,null,0,"","","","",0,"","","","",{"$f":"IF(E27=$GY$15,J27,0)","v":0},{"$f":"IF(E27=$GZ$15,J27,0)","v":""},{"$f":"IF(E27=$HA$15,J27,0)","v":""},{"$f":"IF(E27=$HB$15,J27,0)","v":""},{"$f":"IF(E27=$HC$15,J27,0)","v":""},0,"","","","",{"$f":"IF($E27=HI$15,H27,0)","v":0},{"$f":"IF($E27=HJ$15,H27,0)","v":""},"",{"$f":"IF($E27=HL$15,H27,0)","v":""},"",null,{"$f":"IF(T27=$HO$15,X27,0)","v":0},{"$f":"IF(T27=$HP$15,X27,0)","v":""},{"$f":"IF(T27=$HQ$15,X27,0)","v":""},{"$f":"IF(T27=$HR$15,X27,0)","v":""},{"$f":"IF(T27=$HS$15,X27,0)","v":""},{"$f":"IF(T27=$HT$15,Y27,0)","v":0},{"$f":"IF(T27=$HU$15,Y27,0)","v":""},{"$f":"IF(T27=$HV$15,Y27,0)","v":""},{"$f":"IF(T27=$HW$15,Y27,0)","v":""},{"$f":"IF(T27=$HX$15,Y27,0)","v":""},0,"","","","",0,"","","","",0,"","","",""]
[null,null,null,null,null,{"$f":"IF(B28=\"IM\",'Ai factors'!$I$20,(IF(B28=\"SR\",'Ai factors'!$I$22,(IF(B28=\"ss\",'Ai factors'!$I$21,(IF(B28=\"rr\",'Ai factors'!$I$23,IF(B28=\"tj\",'Ai factors'!$I$24,0))))))))","v":0},{"$f":"IF($E$9=\"FT\",(IF(B28=\"ss\",2*F28+ABS(C28-D28),IF(B28=\"RR\",2*F28+ABS(C28-D28),F28))),((IF(B28=\"ss\",2*F28+5280*ABS(C28-D28),IF(B28=\"RR\",2*F28+5280*ABS(C28-D28),F28)))))","v":0},{"$f":"IF(B28=\"TJ\",G28,\"\")","v":""},{"$f":"IF(B28=\"IM\",G28,\"\")","v":""},{"$f":"IF(B28=\"SR\",G28,\"\")","v":""},{"$f":"IF(B28=\"SS\",G28,\"\")","v":""},{"$f":"IF(C28=\"SS\",H28,\"\")","v":""},{"$f":"IF(B28=\"RR\",G28,\"\")","v":""},null,null,null,null,null,null,null,{"$f":"IF(Q28=\"IM\",'Ai factors'!$I$20,(IF(Q28=\"SR\",'Ai factors'!$I$22,(IF(Q28=\"ss\",'Ai factors'!$I$21,(IF(Q28=\"rr\",'Ai factors'!$I$23,IF(Q28=\"tj\",'Ai factors'!$I$24,0))))))))","v":0},{"$f":"IF($T$9=\"FT\",(IF(Q28=\"ss\",2*U28+ABS(R28-S28),IF(Q28=\"RR\",2*U28+ABS(R28-S28),U28))),((IF(Q28=\"ss\",2*U28+5280*ABS(R28-S28),IF(Q28=\"RR\",2*U28+5280*ABS(R28-S28),U28)))))","v":0},{"$f":"IF(Q28=\"TJ\",V28,\"\")","v":""},{"$f":"IF(Q28=\"IM\",V28,\"\")","v":""},{"$f":"IF(Q28=\"SR\",V28,\"\")","v":""},{"$f":"IF(Q28=\"SS\",V28,\"\")","v":""},{"$f":"IF(R28=\"SS\",W28,\"\")","v":""},{"$f":"IF(Q28=\"RR\",V28,\"\")","v":""},null,null,null,null,null,null,null,null,null,null,null,null,null,null,null,null,null,null,null,null,null,null,null,null,null,null,null,null,null,null,null,null,null,null,null,null,null,null,null,null,null,null,null,null,null,null,null,null,null,null,null,null,null,null,null,null,null,null,null,null,null,null,null,null,null,null,null,null,null,null,null,null,null,null,null,null,null,null,null,null,null,null,null,null,null,null,null,null,null,null,null,null,null,null,null,null,null,null,null,null,null,null,null,null,null,null,null,null,null,null,null,null,null,null,null,null,null,null,null,null,null,null,null,null,null,null,null,null,null,null,null,null,null,null,null,null,null,null,null,null,null,null,null,null,null,null,null,null,null,null,null,null,null,null,null,null,null,null,null,null,null,null,null,null,null,null,null,null,0,"","","","",0,"","","","",{"$f":"IF(E28=$GY$15,J28,0)","v":0},{"$f":"IF(E28=$GZ$15,J28,0)","v":""},{"$f":"IF(E28=$HA$15,J28,0)","v":""},{"$f":"IF(E28=$HB$15,J28,0)","v":""},{"$f":"IF(E28=$HC$15,J28,0)","v":""},0,"","","","",{"$f":"IF($E28=HI$15,H28,0)","v":0},{"$f":"IF($E28=HJ$15,H28,0)","v":""},"",{"$f":"IF($E28=HL$15,H28,0)","v":""},"",null,{"$f":"IF(T28=$HO$15,X28,0)","v":0},{"$f":"IF(T28=$HP$15,X28,0)","v":""},{"$f":"IF(T28=$HQ$15,X28,0)","v":""},{"$f":"IF(T28=$HR$15,X28,0)","v":""},{"$f":"IF(T28=$HS$15,X28,0)","v":""},{"$f":"IF(T28=$HT$15,Y28,0)","v":0},{"$f":"IF(T28=$HU$15,Y28,0)","v":""},{"$f":"IF(T28=$HV$15,Y28,0)","v":""},{"$f":"IF(T28=$HW$15,Y28,0)","v":""},{"$f":"IF(T28=$HX$15,Y28,0)","v":""},0,"","","","",0,"","","","",0,"","","",""]
[null,null,null,null,null,{"$f":"IF(B29=\"IM\",'Ai factors'!$I$20,(IF(B29=\"SR\",'Ai factors'!$I$22,(IF(B29=\"ss\",'Ai factors'!$I$21,(IF(B29=\"rr\",'Ai factors'!$I$23,IF(B29=\"tj\",'Ai factors'!$I$24,0))))))))","v":0},{"$f":"IF($E$9=\"FT\",(IF(B29=\"ss\",2*F29+ABS(C29-D29),IF(B29=\"RR\",2*F29+ABS(C29-D29),F29))),((IF(B29=\"ss\",2*F29+5280*ABS(C29-D29),IF(B29=\"RR\",2*F29+5280*ABS(C29-D29),F29)))))","v":0},{"$f":"IF(B29=\"TJ\",G29,\"\")","v":""},{"$f":"IF(B29=\"IM\",G29,\"\")","v":""},{"$f":"IF(B29=\"SR\",G29,\"\")","v":""},{"$f":"IF(B29=\"SS\",G29,\"\")","v":""},{"$f":"IF(C29=\"SS\",H29,\"\")","v":""},{"$f":"IF(B29=\"RR\",G29,\"\")","v":""},null,null,null,null,null,null,null,{"$f":"IF(Q29=\"IM\",'Ai factors'!$I$20,(IF(Q29=\"SR\",'Ai factors'!$I$22,(IF(Q29=\"ss\",'Ai factors'!$I$21,(IF(Q29=\"rr\",'Ai factors'!$I$23,IF(Q29=\"tj\",'Ai factors'!$I$24,0))))))))","v":0},0,{"$f":"IF(Q29=\"TJ\",V29,\"\")","v":""},{"$f":"IF(Q29=\"IM\",V29,\"\")","v":""},{"$f":"IF(Q29=\"SR\",V29,\"\")","v":""},{"$f":"IF(Q29=\"SS\",V29,\"\")","v":""},{"$f":"IF(R29=\"SS\",W29,\"\")","v":""},{"$f":"IF(Q29=\"RR\",V29,\"\")","v":""},null,null,null,null,null,null,null,null,null,null,null,null,null,null,null,null,null,null,null,null,null,null,null,null,null,null,null,null,null,null,null,null,null,null,null,null,null,null,null,null,null,null,null,null,null,null,null,null,null,null,null,null,null,null,null,null,null,null,null,null,null,null,null,null,null,null,null,null,null,null,null,null,null,null,null,null,null,null,null,null,null,null,null,null,null,null,null,null,null,null,null,null,null,null,null,null,null,null,null,null,null,null,null,null,null,null,null,null,null,null,null,null,null,null,null,null,null,null,null,null,null,null,null,null,null,null,null,null,null,null,null,null,null,null,null,null,null,null,null,null,null,null,null,null,null,null,null,null,null,null,null,null,null,null,null,null,null,null,null,null,null,null,null,null,null,null,null,null,0,"","","","",0,"","","","",{"$f":"IF(E29=$GY$15,J29,0)","v":0},{"$f":"IF(E29=$GZ$15,J29,0)","v":""},{"$f":"IF(E29=$HA$15,J29,0)","v":""},{"$f":"IF(E29=$HB$15,J29,0)","v":""},{"$f":"IF(E29=$HC$15,J29,0)","v":""},0,"","","","",{"$f":"IF($E29=HI$15,H29,0)","v":0},{"$f":"IF($E29=HJ$15,H29,0)","v":""},"",{"$f":"IF($E29=HL$15,H29,0)","v":""},"",null,{"$f":"IF(T29=$HO$15,X29,0)","v":0},{"$f":"IF(T29=$HP$15,X29,0)","v":""},{"$f":"IF(T29=$HQ$15,X29,0)","v":""},{"$f":"IF(T29=$HR$15,X29,0)","v":""},{"$f":"IF(T29=$HS$15,X29,0)","v":""},{"$f":"IF(T29=$HT$15,Y29,0)","v":0},{"$f":"IF(T29=$HU$15,Y29,0)","v":""},{"$f":"IF(T29=$HV$15,Y29,0)","v":""},{"$f":"IF(T29=$HW$15,Y29,0)","v":""},{"$f":"IF(T29=$HX$15,Y29,0)","v":""},0,"","","","",0,"","","","",0,"","","",""]
[null,null,null,null,null,{"$f":"IF(B30=\"IM\",'Ai factors'!$I$20,(IF(B30=\"SR\",'Ai factors'!$I$22,(IF(B30=\"ss\",'Ai factors'!$I$21,(IF(B30=\"rr\",'Ai factors'!$I$23,IF(B30=\"tj\",'Ai factors'!$I$24,0))))))))","v":0},{"$f":"IF($E$9=\"FT\",(IF(B30=\"ss\",2*F30+ABS(C30-D30),IF(B30=\"RR\",2*F30+ABS(C30-D30),F30))),((IF(B30=\"ss\",2*F30+5280*ABS(C30-D30),IF(B30=\"RR\",2*F30+5280*ABS(C30-D30),F30)))))","v":0},{"$f":"IF(B30=\"TJ\",G30,\"\")","v":""},{"$f":"IF(B30=\"IM\",G30,\"\")","v":""},{"$f":"IF(B30=\"SR\",G30,\"\")","v":""},{"$f":"IF(B30=\"SS\",G30,\"\")","v":""},{"$f":"IF(C30=\"SS\",H30,\"\")","v":""},{"$f":"IF(B30=\"RR\",G30,\"\")","v":""},null,null,null,null,null,null,null,{"$f":"IF(Q30=\"IM\",'Ai factors'!$I$20,(IF(Q30=\"SR\",'Ai factors'!$I$22,(IF(Q30=\"ss\",'Ai factors'!$I$21,(IF(Q30=\"rr\",'Ai factors'!$I$23,IF(Q30=\"tj\",'Ai factors'!$I$24,0))))))))","v":0},0,{"$f":"IF(Q30=\"TJ\",V30,\"\")","v":""},{"$f":"IF(Q30=\"IM\",V30,\"\")","v":""},{"$f":"IF(Q30=\"SR\",V30,\"\")","v":""},{"$f":"IF(Q30=\"SS\",V30,\"\")","v":""},{"$f":"IF(R30=\"SS\",W30,\"\")","v":""},{"$f":"IF(Q30=\"RR\",V30,\"\")","v":""},null,null,null,null,null,null,null,null,null,null,null,null,null,null,null,null,null,null,null,null,null,null,null,null,null,null,null,null,null,null,null,null,null,null,null,null,null,null,null,null,null,null,null,null,null,null,null,null,null,null,null,null,null,null,null,null,null,null,null,null,null,null,null,null,null,null,null,null,null,null,null,null,null,null,null,null,null,null,null,null,null,null,null,null,null,null,null,null,null,null,null,null,null,null,null,null,null,null,null,null,null,null,null,null,null,null,null,null,null,null,null,null,null,null,null,null,null,null,null,null,null,null,null,null,null,null,null,null,null,null,null,null,null,null,null,null,null,null,null,null,null,null,null,null,null,null,null,null,null,null,null,null,null,null,null,null,null,null,null,null,null,null,null,null,null,null,null,null,0,"","","","",0,"","","","",{"$f":"IF(E30=$GY$15,J30,0)","v":0},{"$f":"IF(E30=$GZ$15,J30,0)","v":""},{"$f":"IF(E30=$HA$15,J30,0)","v":""},{"$f":"IF(E30=$HB$15,J30,0)","v":""},{"$f":"IF(E30=$HC$15,J30,0)","v":""},0,"","","","",{"$f":"IF($E30=HI$15,H30,0)","v":0},{"$f":"IF($E30=HJ$15,H30,0)","v":""},"",{"$f":"IF($E30=HL$15,H30,0)","v":""},"",null,{"$f":"IF(T30=$HO$15,X30,0)","v":0},{"$f":"IF(T30=$HP$15,X30,0)","v":""},{"$f":"IF(T30=$HQ$15,X30,0)","v":""},{"$f":"IF(T30=$HR$15,X30,0)","v":""},{"$f":"IF(T30=$HS$15,X30,0)","v":""},{"$f":"IF(T30=$HT$15,Y30,0)","v":0},{"$f":"IF(T30=$HU$15,Y30,0)","v":""},{"$f":"IF(T30=$HV$15,Y30,0)","v":""},{"$f":"IF(T30=$HW$15,Y30,0)","v":""},{"$f":"IF(T30=$HX$15,Y30,0)","v":""},0,"","","","",0,"","","","",0,"","","",""]
[null,null,null,null,null,{"$f":"IF(B31=\"IM\",'Ai factors'!$I$20,(IF(B31=\"SR\",'Ai factors'!$I$22,(IF(B31=\"ss\",'Ai factors'!$I$21,(IF(B31=\"rr\",'Ai factors'!$I$23,IF(B31=\"tj\",'Ai factors'!$I$24,0))))))))","v":0},{"$f":"IF($E$9=\"FT\",(IF(B31=\"ss\",2*F31+ABS(C31-D31),IF(B31=\"RR\",2*F31+ABS(C31-D31),F31))),((IF(B31=\"ss\",2*F31+5280*ABS(C31-D31),IF(B31=\"RR\",2*F31+5280*ABS(C31-D31),F31)))))","v":0},{"$f":"IF(B31=\"TJ\",G31,\"\")","v":""},{"$f":"IF(B31=\"IM\",G31,\"\")","v":""},{"$f":"IF(B31=\"SR\",G31,\"\")","v":""},{"$f":"IF(B31=\"SS\",G31,\"\")","v":""},{"$f":"IF(C31=\"SS\",H31,\"\")","v":""},{"$f":"IF(B31=\"RR\",G31,\"\")","v":""},null,null,null,null,null,null,null,{"$f":"IF(Q31=\"IM\",'Ai factors'!$I$20,(IF(Q31=\"SR\",'Ai factors'!$I$22,(IF(Q31=\"ss\",'Ai factors'!$I$21,(IF(Q31=\"rr\",'Ai factors'!$I$23,IF(Q31=\"tj\",'Ai factors'!$I$24,0))))))))","v":0},0,{"$f":"IF(Q31=\"TJ\",V31,\"\")","v":""},{"$f":"IF(Q31=\"IM\",V31,\"\")","v":""},{"$f":"IF(Q31=\"SR\",V31,\"\")","v":""},{"$f":"IF(Q31=\"SS\",V31,\"\")","v":""},{"$f":"IF(R31=\"SS\",W31,\"\")","v":""},{"$f":"IF(Q31=\"RR\",V31,\"\")","v":""},null,null,null,null,null,null,null,null,null,null,null,null,null,null,null,null,null,null,null,null,null,null,null,null,null,null,null,null,null,null,null,null,null,null,null,null,null,null,null,null,null,null,null,null,null,null,null,null,null,null,null,null,null,null,null,null,null,null,null,null,null,null,null,null,null,null,null,null,null,null,null,null,null,null,null,null,null,null,null,null,null,null,null,null,null,null,null,null,null,null,null,null,null,null,null,null,null,null,null,null,null,null,null,null,null,null,null,null,null,null,null,null,null,null,null,null,null,null,null,null,null,null,null,null,null,null,null,null,null,null,null,null,null,null,null,null,null,null,null,null,null,null,null,null,null,null,null,null,null,null,null,null,null,null,null,null,null,null,null,null,null,null,null,null,null,null,null,null,0,"","","","",0,"","","","",{"$f":"IF(E31=$GY$15,J31,0)","v":0},{"$f":"IF(E31=$GZ$15,J31,0)","v":""},{"$f":"IF(E31=$HA$15,J31,0)","v":""},{"$f":"IF(E31=$HB$15,J31,0)","v":""},{"$f":"IF(E31=$HC$15,J31,0)","v":""},0,"","","","",{"$f":"IF($E31=HI$15,H31,0)","v":0},{"$f":"IF($E31=HJ$15,H31,0)","v":""},"",{"$f":"IF($E31=HL$15,H31,0)","v":""},"",null,{"$f":"IF(T31=$HO$15,X31,0)","v":0},{"$f":"IF(T31=$HP$15,X31,0)","v":""},{"$f":"IF(T31=$HQ$15,X31,0)","v":""},{"$f":"IF(T31=$HR$15,X31,0)","v":""},{"$f":"IF(T31=$HS$15,X31,0)","v":""},{"$f":"IF(T31=$HT$15,Y31,0)","v":0},{"$f":"IF(T31=$HU$15,Y31,0)","v":""},{"$f":"IF(T31=$HV$15,Y31,0)","v":""},{"$f":"IF(T31=$HW$15,Y31,0)","v":""},{"$f":"IF(T31=$HX$15,Y31,0)","v":""},0,"","","","",0,"","","","",0,"","","",""]
[null,null,null,null,null,{"$f":"IF(B32=\"IM\",'Ai factors'!$I$20,(IF(B32=\"SR\",'Ai factors'!$I$22,(IF(B32=\"ss\",'Ai factors'!$I$21,(IF(B32=\"rr\",'Ai factors'!$I$23,IF(B32=\"tj\",'Ai factors'!$I$24,0))))))))","v":0},{"$f":"IF($E$9=\"FT\",(IF(B32=\"ss\",2*F32+ABS(C32-D32),IF(B32=\"RR\",2*F32+ABS(C32-D32),F32))),((IF(B32=\"ss\",2*F32+5280*ABS(C32-D32),IF(B32=\"RR\",2*F32+5280*ABS(C32-D32),F32)))))","v":0},{"$f":"IF(B32=\"TJ\",G32,\"\")","v":""},{"$f":"IF(B32=\"IM\",G32,\"\")","v":""},{"$f":"IF(B32=\"SR\",G32,\"\")","v":""},{"$f":"IF(B32=\"SS\",G32,\"\")","v":""},{"$f":"IF(C32=\"SS\",H32,\"\")","v":""},{"$f":"IF(B32=\"RR\",G32,\"\")","v":""},null,null,null,null,null,null,null,{"$f":"IF(Q32=\"IM\",'Ai factors'!$I$20,(IF(Q32=\"SR\",'Ai factors'!$I$22,(IF(Q32=\"ss\",'Ai factors'!$I$21,(IF(Q32=\"rr\",'Ai factors'!$I$23,IF(Q32=\"tj\",'Ai factors'!$I$24,0))))))))","v":0},0,{"$f":"IF(Q32=\"TJ\",V32,\"\")","v":""},{"$f":"IF(Q32=\"IM\",V32,\"\")","v":""},{"$f":"IF(Q32=\"SR\",V32,\"\")","v":""},{"$f":"IF(Q32=\"SS\",V32,\"\")","v":""},{"$f":"IF(R32=\"SS\",W32,\"\")","v":""},{"$f":"IF(Q32=\"RR\",V32,\"\")","v":""},null,null,null,null,null,null,null,null,null,null,null,null,null,null,null,null,null,null,null,null,null,null,null,null,null,null,null,null,null,null,null,null,null,null,null,null,null,null,null,null,null,null,null,null,null,null,null,null,null,null,null,null,null,null,null,null,null,null,null,null,null,null,null,null,null,null,null,null,null,null,null,null,null,null,null,null,null,null,null,null,null,null,null,null,null,null,null,null,null,null,null,null,null,null,null,null,null,null,null,null,null,null,null,null,null,null,null,null,null,null,null,null,null,null,null,null,null,null,null,null,null,null,null,null,null,null,null,null,null,null,null,null,null,null,null,null,null,null,null,null,null,null,null,null,null,null,null,null,null,null,null,null,null,null,null,null,null,null,null,null,null,null,null,null,null,null,null,null,0,"","","","",0,"","","","",{"$f":"IF(E32=$GY$15,J32,0)","v":0},{"$f":"IF(E32=$GZ$15,J32,0)","v":""},{"$f":"IF(E32=$HA$15,J32,0)","v":""},{"$f":"IF(E32=$HB$15,J32,0)","v":""},{"$f":"IF(E32=$HC$15,J32,0)","v":""},0,"","","","",{"$f":"IF($E32=HI$15,H32,0)","v":0},{"$f":"IF($E32=HJ$15,H32,0)","v":""},"",{"$f":"IF($E32=HL$15,H32,0)","v":""},"",null,{"$f":"IF(T32=$HO$15,X32,0)","v":0},{"$f":"IF(T32=$HP$15,X32,0)","v":""},{"$f":"IF(T32=$HQ$15,X32,0)","v":""},{"$f":"IF(T32=$HR$15,X32,0)","v":""},{"$f":"IF(T32=$HS$15,X32,0)","v":""},{"$f":"IF(T32=$HT$15,Y32,0)","v":0},{"$f":"IF(T32=$HU$15,Y32,0)","v":""},{"$f":"IF(T32=$HV$15,Y32,0)","v":""},{"$f":"IF(T32=$HW$15,Y32,0)","v":""},{"$f":"IF(T32=$HX$15,Y32,0)","v":""},0,"","","","",0,"","","","",0,"","","",""]
[null,null,null,null,null,{"$f":"IF(B33=\"IM\",'Ai factors'!$I$20,(IF(B33=\"SR\",'Ai factors'!$I$22,(IF(B33=\"ss\",'Ai factors'!$I$21,(IF(B33=\"rr\",'Ai factors'!$I$23,IF(B33=\"tj\",'Ai factors'!$I$24,0))))))))","v":0},{"$f":"IF($E$9=\"FT\",(IF(B33=\"ss\",2*F33+ABS(C33-D33),IF(B33=\"RR\",2*F33+ABS(C33-D33),F33))),((IF(B33=\"ss\",2*F33+5280*ABS(C33-D33),IF(B33=\"RR\",2*F33+5280*ABS(C33-D33),F33)))))","v":0},{"$f":"IF(B33=\"TJ\",G33,\"\")","v":""},{"$f":"IF(B33=\"IM\",G33,\"\")","v":""},{"$f":"IF(B33=\"SR\",G33,\"\")","v":""},{"$f":"IF(B33=\"SS\",G33,\"\")","v":""},{"$f":"IF(C33=\"SS\",H33,\"\")","v":""},{"$f":"IF(B33=\"RR\",G33,\"\")","v":""},null,null,null,null,null,null,null,{"$f":"IF(Q33=\"IM\",'Ai factors'!$I$20,(IF(Q33=\"SR\",'Ai factors'!$I$22,(IF(Q33=\"ss\",'Ai factors'!$I$21,(IF(Q33=\"rr\",'Ai factors'!$I$23,IF(Q33=\"tj\",'Ai factors'!$I$24,0))))))))","v":0},0,{"$f":"IF(Q33=\"TJ\",V33,\"\")","v":""},{"$f":"IF(Q33=\"IM\",V33,\"\")","v":""},{"$f":"IF(Q33=\"SR\",V33,\"\")","v":""},{"$f":"IF(Q33=\"SS\",V33,\"\")","v":""},{"$f":"IF(R33=\"SS\",W33,\"\")","v":""},{"$f":"IF(Q33=\"RR\",V33,\"\")","v":""},null,null,null,null,null,null,null,null,null,null,null,null,null,null,null,null,null,null,null,null,null,null,null,null,null,null,null,null,null,null,null,null,null,null,null,null,null,null,null,null,null,null,null,null,null,null,null,null,null,null,null,null,null,null,null,null,null,null,null,null,null,null,null,null,null,null,null,null,null,null,null,null,null,null,null,null,null,null,null,null,null,null,null,null,null,null,null,null,null,null,null,null,null,null,null,null,null,null,null,null,null,null,null,null,null,null,null,null,null,null,null,null,null,null,null,null,null,null,null,null,null,null,null,null,null,null,null,null,null,null,null,null,null,null,null,null,null,null,null,null,null,null,null,null,null,null,null,null,null,null,null,null,null,null,null,null,null,null,null,null,null,null,null,null,null,null,null,null,0,"","","","",0,"","","","",{"$f":"IF(E33=$GY$15,J33,0)","v":0},{"$f":"IF(E33=$GZ$15,J33,0)","v":""},{"$f":"IF(E33=$HA$15,J33,0)","v":""},{"$f":"IF(E33=$HB$15,J33,0)","v":""},{"$f":"IF(E33=$HC$15,J33,0)","v":""},0,"","","","",{"$f":"IF($E33=HI$15,H33,0)","v":0},{"$f":"IF($E33=HJ$15,H33,0)","v":""},"",{"$f":"IF($E33=HL$15,H33,0)","v":""},"",null,{"$f":"IF(T33=$HO$15,X33,0)","v":0},{"$f":"IF(T33=$HP$15,X33,0)","v":""},{"$f":"IF(T33=$HQ$15,X33,0)","v":""},{"$f":"IF(T33=$HR$15,X33,0)","v":""},{"$f":"IF(T33=$HS$15,X33,0)","v":""},{"$f":"IF(T33=$HT$15,Y33,0)","v":0},{"$f":"IF(T33=$HU$15,Y33,0)","v":""},{"$f":"IF(T33=$HV$15,Y33,0)","v":""},{"$f":"IF(T33=$HW$15,Y33,0)","v":""},{"$f":"IF(T33=$HX$15,Y33,0)","v":""},0,"","","","",0,"","","","",0,"","","",""]
[null,null,null,null,null,{"$f":"IF(B34=\"IM\",'Ai factors'!$I$20,(IF(B34=\"SR\",'Ai factors'!$I$22,(IF(B34=\"ss\",'Ai factors'!$I$21,(IF(B34=\"rr\",'Ai factors'!$I$23,IF(B34=\"tj\",'Ai factors'!$I$24,0))))))))","v":0},{"$f":"IF($E$9=\"FT\",(IF(B34=\"ss\",2*F34+ABS(C34-D34),IF(B34=\"RR\",2*F34+ABS(C34-D34),F34))),((IF(B34=\"ss\",2*F34+5280*ABS(C34-D34),IF(B34=\"RR\",2*F34+5280*ABS(C34-D34),F34)))))","v":0},{"$f":"IF(B34=\"TJ\",G34,\"\")","v":""},{"$f":"IF(B34=\"IM\",G34,\"\")","v":""},{"$f":"IF(B34=\"SR\",G34,\"\")","v":""},{"$f":"IF(B34=\"SS\",G34,\"\")","v":""},{"$f":"IF(C34=\"SS\",H34,\"\")","v":""},{"$f":"IF(B34=\"RR\",G34,\"\")","v":""},null,null,null,null,null,null,null,{"$f":"IF(Q34=\"IM\",'Ai factors'!$I$20,(IF(Q34=\"SR\",'Ai factors'!$I$22,(IF(Q34=\"ss\",'Ai factors'!$I$21,(IF(Q34=\"rr\",'Ai factors'!$I$23,IF(Q34=\"tj\",'Ai factors'!$I$24,0))))))))","v":0},0,{"$f":"IF(Q34=\"TJ\",V34,\"\")","v":""},{"$f":"IF(Q34=\"IM\",V34,\"\")","v":""},{"$f":"IF(Q34=\"SR\",V34,\"\")","v":""},{"$f":"IF(Q34=\"SS\",V34,\"\")","v":""},{"$f":"IF(R34=\"SS\",W34,\"\")","v":""},{"$f":"IF(Q34=\"RR\",V34,\"\")","v":""},null,null,null,null,null,null,null,null,null,null,null,null,null,null,null,null,null,null,null,null,null,null,null,null,null,null,null,null,null,null,null,null,null,null,null,null,null,null,null,null,null,null,null,null,null,null,null,null,null,null,null,null,null,null,null,null,null,null,null,null,null,null,null,null,null,null,null,null,null,null,null,null,null,null,null,null,null,null,null,null,null,null,null,null,null,null,null,null,null,null,null,null,null,null,null,null,null,null,null,null,null,null,null,null,null,null,null,null,null,null,null,null,null,null,null,null,null,null,null,null,null,null,null,null,null,null,null,null,null,null,null,null,null,null,null,null,null,null,null,null,null,null,null,null,null,null,null,null,null,null,null,null,null,null,null,null,null,null,null,null,null,null,null,null,null,null,null,null,0,"","","","",0,"","","","",{"$f":"IF(E34=$GY$15,J34,0)","v":0},{"$f":"IF(E34=$GZ$15,J34,0)","v":""},{"$f":"IF(E34=$HA$15,J34,0)","v":""},{"$f":"IF(E34=$HB$15,J34,0)","v":""},{"$f":"IF(E34=$HC$15,J34,0)","v":""},0,"","","","",{"$f":"IF($E34=HI$15,H34,0)","v":0},{"$f":"IF($E34=HJ$15,H34,0)","v":""},"",{"$f":"IF($E34=HL$15,H34,0)","v":""},"",null,{"$f":"IF(T34=$HO$15,X34,0)","v":0},{"$f":"IF(T34=$HP$15,X34,0)","v":""},{"$f":"IF(T34=$HQ$15,X34,0)","v":""},{"$f":"IF(T34=$HR$15,X34,0)","v":""},{"$f":"IF(T34=$HS$15,X34,0)","v":""},{"$f":"IF(T34=$HT$15,Y34,0)","v":0},{"$f":"IF(T34=$HU$15,Y34,0)","v":""},{"$f":"IF(T34=$HV$15,Y34,0)","v":""},{"$f":"IF(T34=$HW$15,Y34,0)","v":""},{"$f":"IF(T34=$HX$15,Y34,0)","v":""},0,"","","","",0,"","","","",0,"","","",""]
[null,null,null,null,null,{"$f":"IF(B35=\"IM\",'Ai factors'!$I$20,(IF(B35=\"SR\",'Ai factors'!$I$22,(IF(B35=\"ss\",'Ai factors'!$I$21,(IF(B35=\"rr\",'Ai factors'!$I$23,IF(B35=\"tj\",'Ai factors'!$I$24,0))))))))","v":0},{"$f":"IF($E$9=\"FT\",(IF(B35=\"ss\",2*F35+ABS(C35-D35),IF(B35=\"RR\",2*F35+ABS(C35-D35),F35))),((IF(B35=\"ss\",2*F35+5280*ABS(C35-D35),IF(B35=\"RR\",2*F35+5280*ABS(C35-D35),F35)))))","v":0},{"$f":"IF(B35=\"TJ\",G35,\"\")","v":""},{"$f":"IF(B35=\"IM\",G35,\"\")","v":""},{"$f":"IF(B35=\"SR\",G35,\"\")","v":""},{"$f":"IF(B35=\"SS\",G35,\"\")","v":""},{"$f":"IF(C35=\"SS\",H35,\"\")","v":""},{"$f":"IF(B35=\"RR\",G35,\"\")","v":""},null,null,null,null,null,null,null,{"$f":"IF(Q35=\"IM\",'Ai factors'!$I$20,(IF(Q35=\"SR\",'Ai factors'!$I$22,(IF(Q35=\"ss\",'Ai factors'!$I$21,(IF(Q35=\"rr\",'Ai factors'!$I$23,IF(Q35=\"tj\",'Ai factors'!$I$24,0))))))))","v":0},0,{"$f":"IF(Q35=\"TJ\",V35,\"\")","v":""},{"$f":"IF(Q35=\"IM\",V35,\"\")","v":""},{"$f":"IF(Q35=\"SR\",V35,\"\")","v":""},{"$f":"IF(Q35=\"SS\",V35,\"\")","v":""},{"$f":"IF(R35=\"SS\",W35,\"\")","v":""},{"$f":"IF(Q35=\"RR\",V35,\"\")","v":""},null,null,null,null,null,null,null,null,null,null,null,null,null,null,null,null,null,null,null,null,null,null,null,null,null,null,null,null,null,null,null,null,null,null,null,null,null,null,null,null,null,null,null,null,null,null,null,null,null,null,null,null,null,null,null,null,null,null,null,null,null,null,null,null,null,null,null,null,null,null,null,null,null,null,null,null,null,null,null,null,null,null,null,null,null,null,null,null,null,null,null,null,null,null,null,null,null,null,null,null,null,null,null,null,null,null,null,null,null,null,null,null,null,null,null,null,null,null,null,null,null,null,null,null,null,null,null,null,null,null,null,null,null,null,null,null,null,null,null,null,null,null,null,null,null,null,null,null,null,null,null,null,null,null,null,null,null,null,null,null,null,null,null,null,null,null,null,null,0,"","","","",0,"","","","",{"$f":"IF(E35=$GY$15,J35,0)","v":0},{"$f":"IF(E35=$GZ$15,J35,0)","v":""},{"$f":"IF(E35=$HA$15,J35,0)","v":""},{"$f":"IF(E35=$HB$15,J35,0)","v":""},{"$f":"IF(E35=$HC$15,J35,0)","v":""},0,"","","","",{"$f":"IF($E35=HI$15,H35,0)","v":0},{"$f":"IF($E35=HJ$15,H35,0)","v":""},{"$f":"IF($E35=HK$15,H35,0)","v":""},{"$f":"IF($E35=HL$15,H35,0)","v":""},"",null,{"$f":"IF(T35=$HO$15,X35,0)","v":0},{"$f":"IF(T35=$HP$15,X35,0)","v":""},{"$f":"IF(T35=$HQ$15,X35,0)","v":""},{"$f":"IF(T35=$HR$15,X35,0)","v":""},{"$f":"IF(T35=$HS$15,X35,0)","v":""},{"$f":"IF(T35=$HT$15,Y35,0)","v":0},{"$f":"IF(T35=$HU$15,Y35,0)","v":""},{"$f":"IF(T35=$HV$15,Y35,0)","v":""},{"$f":"IF(T35=$HW$15,Y35,0)","v":""},{"$f":"IF(T35=$HX$15,Y35,0)","v":""},0,"","","","",0,"","","","",0,"","","",""]
[null,null,null,null,null,{"$f":"IF(B36=\"IM\",'Ai factors'!$I$20,(IF(B36=\"SR\",'Ai factors'!$I$22,(IF(B36=\"ss\",'Ai factors'!$I$21,(IF(B36=\"rr\",'Ai factors'!$I$23,IF(B36=\"tj\",'Ai factors'!$I$24,0))))))))","v":0},{"$f":"IF($E$9=\"FT\",(IF(B36=\"ss\",2*F36+ABS(C36-D36),IF(B36=\"RR\",2*F36+ABS(C36-D36),F36))),((IF(B36=\"ss\",2*F36+5280*ABS(C36-D36),IF(B36=\"RR\",2*F36+5280*ABS(C36-D36),F36)))))","v":0},{"$f":"IF(B36=\"TJ\",G36,\"\")","v":""},{"$f":"IF(B36=\"IM\",G36,\"\")","v":""},{"$f":"IF(B36=\"SR\",G36,\"\")","v":""},{"$f":"IF(B36=\"SS\",G36,\"\")","v":""},{"$f":"IF(C36=\"SS\",H36,\"\")","v":""},{"$f":"IF(B36=\"RR\",G36,\"\")","v":""},null,null,null,null,null,null,null,{"$f":"IF(Q36=\"IM\",'Ai factors'!$I$20,(IF(Q36=\"SR\",'Ai factors'!$I$22,(IF(Q36=\"ss\",'Ai factors'!$I$21,(IF(Q36=\"rr\",'Ai factors'!$I$23,IF(Q36=\"tj\",'Ai factors'!$I$24,0))))))))","v":0},0,{"$f":"IF(Q36=\"TJ\",V36,\"\")","v":""},{"$f":"IF(Q36=\"IM\",V36,\"\")","v":""},{"$f":"IF(Q36=\"SR\",V36,\"\")","v":""},{"$f":"IF(Q36=\"SS\",V36,\"\")","v":""},{"$f":"IF(R36=\"SS\",W36,\"\")","v":""},{"$f":"IF(Q36=\"RR\",V36,\"\")","v":""},null,null,null,null,null,null,null,null,null,null,null,null,null,null,null,null,null,null,null,null,null,null,null,null,null,null,null,null,null,null,null,null,null,null,null,null,null,null,null,null,null,null,null,null,null,null,null,null,null,null,null,null,null,null,null,null,null,null,null,null,null,null,null,null,null,null,null,null,null,null,null,null,null,null,null,null,null,null,null,null,null,null,null,null,null,null,null,null,null,null,null,null,null,null,null,null,null,null,null,null,null,null,null,null,null,null,null,null,null,null,null,null,null,null,null,null,null,null,null,null,null,null,null,null,null,null,null,null,null,null,null,null,null,null,null,null,null,null,null,null,null,null,null,null,null,null,null,null,null,null,null,null,null,null,null,null,null,null,null,null,null,null,null,null,null,null,null,null,0,"","","","",0,"","","","",{"$f":"IF(E36=$GY$15,J36,0)","v":0},{"$f":"IF(E36=$GZ$15,J36,0)","v":""},{"$f":"IF(E36=$HA$15,J36,0)","v":""},{"$f":"IF(E36=$HB$15,J36,0)","v":""},{"$f":"IF(E36=$HC$15,J36,0)","v":""},0,"","","","",{"$f":"IF($E36=HI$15,H36,0)","v":0},{"$f":"IF($E36=HJ$15,H36,0)","v":""},{"$f":"IF($E36=HK$15,H36,0)","v":""},{"$f":"IF($E36=HL$15,H36,0)","v":""},"",null,{"$f":"IF(T36=$HO$15,X36,0)","v":0},{"$f":"IF(T36=$HP$15,X36,0)","v":""},{"$f":"IF(T36=$HQ$15,X36,0)","v":""},{"$f":"IF(T36=$HR$15,X36,0)","v":""},{"$f":"IF(T36=$HS$15,X36,0)","v":""},{"$f":"IF(T36=$HT$15,Y36,0)","v":0},{"$f":"IF(T36=$HU$15,Y36,0)","v":""},{"$f":"IF(T36=$HV$15,Y36,0)","v":""},{"$f":"IF(T36=$HW$15,Y36,0)","v":""},{"$f":"IF(T36=$HX$15,Y36,0)","v":""},0,"","","","",0,"","","","",0,"","","",""]
[null,null,null,null,null,{"$f":"IF(B37=\"IM\",'Ai factors'!$I$20,(IF(B37=\"SR\",'Ai factors'!$I$22,(IF(B37=\"ss\",'Ai factors'!$I$21,(IF(B37=\"rr\",'Ai factors'!$I$23,IF(B37=\"tj\",'Ai factors'!$I$24,0))))))))","v":0},{"$f":"IF($E$9=\"FT\",(IF(B37=\"ss\",2*F37+ABS(C37-D37),IF(B37=\"RR\",2*F37+ABS(C37-D37),F37))),((IF(B37=\"ss\",2*F37+5280*ABS(C37-D37),IF(B37=\"RR\",2*F37+5280*ABS(C37-D37),F37)))))","v":0},{"$f":"IF(B37=\"TJ\",G37,\"\")","v":""},{"$f":"IF(B37=\"IM\",G37,\"\")","v":""},{"$f":"IF(B37=\"SR\",G37,\"\")","v":""},{"$f":"IF(B37=\"SS\",G37,\"\")","v":""},{"$f":"IF(C37=\"SS\",H37,\"\")","v":""},{"$f":"IF(B37=\"RR\",G37,\"\")","v":""},null,null,null,null,null,null,null,{"$f":"IF(Q37=\"IM\",'Ai factors'!$I$20,(IF(Q37=\"SR\",'Ai factors'!$I$22,(IF(Q37=\"ss\",'Ai factors'!$I$21,(IF(Q37=\"rr\",'Ai factors'!$I$23,IF(Q37=\"tj\",'Ai factors'!$I$24,0))))))))","v":0},0,{"$f":"IF(Q37=\"TJ\",V37,\"\")","v":""},{"$f":"IF(Q37=\"IM\",V37,\"\")","v":""},{"$f":"IF(Q37=\"SR\",V37,\"\")","v":""},{"$f":"IF(Q37=\"SS\",V37,\"\")","v":""},{"$f":"IF(R37=\"SS\",W37,\"\")","v":""},{"$f":"IF(Q37=\"RR\",V37,\"\")","v":""},null,null,null,null,null,null,null,null,null,null,null,null,null,null,null,null,null,null,null,null,null,null,null,null,null,null,null,null,null,null,null,null,null,null,null,null,null,null,null,null,null,null,null,null,null,null,null,null,null,null,null,null,null,null,null,null,null,null,null,null,null,null,null,null,null,null,null,null,null,null,null,null,null,null,null,null,null,null,null,null,null,null,null,null,null,null,null,null,null,null,null,null,null,null,null,null,null,null,null,null,null,null,null,null,null,null,null,null,null,null,null,null,null,null,null,null,null,null,null,null,null,null,null,null,null,null,null,null,null,null,null,null,null,null,null,null,null,null,null,null,null,null,null,null,null,null,null,null,null,null,null,null,null,null,null,null,null,null,null,null,null,null,null,null,null,null,null,null,0,"","","","",0,"","","","",{"$f":"IF(E37=$GY$15,J37,0)","v":0},{"$f":"IF(E37=$GZ$15,J37,0)","v":""},{"$f":"IF(E37=$HA$15,J37,0)","v":""},{"$f":"IF(E37=$HB$15,J37,0)","v":""},{"$f":"IF(E37=$HC$15,J37,0)","v":""},0,"","","","",{"$f":"IF($E37=HI$15,H37,0)","v":0},{"$f":"IF($E37=HJ$15,H37,0)","v":""},{"$f":"IF($E37=HK$15,H37,0)","v":""},{"$f":"IF($E37=HL$15,H37,0)","v":""},"",null,{"$f":"IF(T37=$HO$15,X37,0)","v":0},{"$f":"IF(T37=$HP$15,X37,0)","v":""},{"$f":"IF(T37=$HQ$15,X37,0)","v":""},{"$f":"IF(T37=$HR$15,X37,0)","v":""},{"$f":"IF(T37=$HS$15,X37,0)","v":""},{"$f":"IF(T37=$HT$15,Y37,0)","v":0},{"$f":"IF(T37=$HU$15,Y37,0)","v":""},{"$f":"IF(T37=$HV$15,Y37,0)","v":""},{"$f":"IF(T37=$HW$15,Y37,0)","v":""},{"$f":"IF(T37=$HX$15,Y37,0)","v":""},0,"","","","",0,"","","","",0,"","","",""]
[null,null,null,null,null,{"$f":"IF(B38=\"IM\",'Ai factors'!$I$20,(IF(B38=\"SR\",'Ai factors'!$I$22,(IF(B38=\"ss\",'Ai factors'!$I$21,(IF(B38=\"rr\",'Ai factors'!$I$23,IF(B38=\"tj\",'Ai factors'!$I$24,0))))))))","v":0},0,"","","","","","",null,null,null,null,null,null,null,{"$f":"IF(Q38=\"IM\",'Ai factors'!$I$20,(IF(Q38=\"SR\",'Ai factors'!$I$22,(IF(Q38=\"ss\",'Ai factors'!$I$21,(IF(Q38=\"rr\",'Ai factors'!$I$23,IF(Q38=\"tj\",'Ai factors'!$I$24,0))))))))","v":0},0,"","","","","","",null,null,null,null,null,null,null,null,null,null,null,null,null,null,null,null,null,null,null,null,null,null,null,null,null,null,null,null,null,null,null,null,null,null,null,null,null,null,null,null,null,null,null,null,null,null,null,null,null,null,null,null,null,null,null,null,null,null,null,null,null,null,null,null,null,null,null,null,null,null,null,null,null,null,null,null,null,null,null,null,null,null,null,null,null,null,null,null,null,null,null,null,null,null,null,null,null,null,null,null,null,null,null,null,null,null,null,null,null,null,null,null,null,null,null,null,null,null,null,null,null,null,null,null,null,null,null,null,null,null,null,null,null,null,null,null,null,null,null,null,null,null,null,null,null,null,null,null,null,null,null,null,null,null,null,null,null,null,null,null,null,null,null,null,null,null,null,null,0,"","","","",0,"","","","",0,"","","","",0,"","","","",0,"","","","",null,0,"","","","",0,"","","","",0,"","","","",0,"","","","",{"$f":"IF($T23=II$15,$AB23,0)","v":0},{"$f":"IF($T23=IJ$15,$AB23,0)","v":""},{"$f":"IF($T23=IK$15,$AB23,0)","v":""},{"$f":"IF($T23=IL$15,$AB23,0)","v":""},{"$f":"IF($T23=IM$15,$AB23,0)","v":""}]
[]
[null,"Localized Factor Summary",null,null,null,null,null,null,null,null,null,null,null,null,null,null,"Localized Factor Summary"]
[null,"Exclusion (Ft)",null,null,null,null,null,{"$f":"ROUND(GU6*'Ai factors'!$I$24+SUM(H17:H39),0)","v":0},{"$f":"ROUND(SUM(I15:I39),0)","v":0},{"$f":"ROUND(SUM(J15:J39),0)","v":0},{"$f":"ROUND(SUM(K15:K39),0)","v":0},null,{"$f":"ROUND(SUM(M15:M39),0)","v":0},null,null,null,"Exclusion (Ft)",null,null,null,null,null,{"$f":"ROUND('Ai factors'!$I$24*GV6+SUM(W17:W39),0)","v":0},{"$f":"ROUND(SUM(X15:X39),0)","v":0},{"$f":"ROUND(SUM(Y15:Y39),0)","v":0},{"$f":"ROUND(SUM(Z15:Z39),0)","v":0},null,{"$f":"ROUND(SUM(AB15:AB39),0)","v":0}]
[null,"# of Occurrence",null,null,null,null,null,{"$f":"GU6+COUNTIF(H17:H39,\">0\")","v":0},{"$f":"COUNTIF(I15:I39,\">0\")","v":0},{"$f":"COUNTIF(J15:J39,\">0\")","v":0},{"$f":"COUNTIF(K15:K39,\">0\")","v":0},null,{"$f":"COUNTIF(M15:M39,\">0\")","v":0},null,null,null,"# of Occurrence",null,null,null,null,null,{"$f":"GV6+COUNTIF(W17:W39,\">0\")","v":0},{"$f":"COUNTIF(X15:X39,\">0\")","v":0},{"$f":"COUNTIF(Y15:Y39,\">0\")","v":0},{"$f":"COUNTIF(Z15:Z39,\">0\")","v":0},null,{"$f":"COUNTIF(AB15:AB39,\">0\")","v":0}]
[null,"Average Exclusion (Ft.)",null,null,null,null,null,{"$f":"IF(H42=0,0,ROUND(H41/H42,0))","v":0},{"$f":"IF(I42=0,0,ROUND(I41/I42,0))","v":0},{"$f":"IF(J42=0,0,ROUND(J41/J42,0))","v":0},{"$f":"IF(K42=0,0,ROUND(K41/K42,0))","v":0},null,{"$f":"IF(M42=0,0,ROUND(M41/M42,0))","v":0},null,null,null,"Average Exclusion (Ft.)",null,null,null,null,null,{"$f":"IF(W42=0,0,ROUND(W41/W42,1))","v":0},{"$f":"IF(X42=0,0,ROUND(X41/X42,1))","v":0},{"$f":"IF(Y42=0,0,ROUND(Y41/Y42,1))","v":0},{"$f":"IF(Z42=0,0,ROUND(Z41/Z42,1))","v":0},null,{"$f":"IF(AB42=0,0,ROUND(AB41/AB42,1))","v":0}]
[]
[]
[null,null,null,null,null,null,null,null,null,null,null,null,null,null,null,null,null,null,null,null,null,null,null,null,null,null,null,null,null,null,null,null,null,null,null,null,null,null,null,null,null,null,null,null,null,null,null,null,null,null,null,null,null,null,null,null,null,null,null,null,null,null,null,null,null,null,null,null,null,null,null,null,null,null,null,null,null,null,null,null,null,null,null,null,null,null,null,null,null,null,null,null,null,null,null,null,null,null,null,null,null,null,null,null,null,null,null,null,null,null,null,null,null,null,null,null,null,null,null,null,null,null,null,null,null,null,null,null,null,null,null,null,null,null,null,null,null,null,null,null,null,null,null,null,null,null,null,null,null,null,null,null,null,null,null,null,null,null,null,null,null,null,null,null,null,null,null,null,null,null,null,null,null,null,null,null,null,null,null,null,null,null,null,null,null,null,null,null,null,null,null,null,null,null,null,null,{"$f":"SUM(GO16:GO45)","v":0},{"$f":"SUM(GP16:GP45)","v":0},0,0,0,0,0,0,0,0,0,0,0,0,0,0,0,0,0,0,52,0,0,0,0,null,0,0,0,0,0,0,0,0,0,0,0,0,0,0,0,0,0,0,0,0,0,0,0,0,0]
[null,null,null,null,null,null,null,null,null,null,null,null,null,null,null,null,null,null,null,null,null,null,null,null,null,null,null,null,null,null,null,null,null,null,null,null,null,null,null,null,null,null,null,null,null,null,null,null,null,null,null,null,null,null,null,null,null,null,null,null,null,null,null,null,null,null,null,null,null,null,null,null,null,null,null,null,null,null,null,null,null,null,null,null,null,null,null,null,null,null,null,null,null,null,null,null,null,null,null,null,null,null,null,null,null,null,null,null,null,null,null,null,null,null,null,null,null,null,null,null,null,null,null,null,null,null,null,null,null,null,null,null,null,null,null,null,null,null,null,null,null,null,null,null,null,null,null,null,null,null,null,null,null,null,null,null,null,null,null,null,null,null,null,null,null,null,null,null,null,null,null,null,null,null,null,null,null,null,null,null,null,null,null,null,null,null,null,null,null,null,null,null,null,"TOTAL # of Lots"]
[null,null,"Exclusion Distribution in Lanes",null,null,null,null,null,null,null,null,null,null,null,null,null,"Exclusion Distribution in Lanes"]
[null,null,"Lane",null,null,{"$f":"GU1","v":1},{"$f":"GU2","v":""},{"$f":"GU3","v":""},{"$f":"GU4","v":""},{"$f":"GU5","v":""},null,null,null,null,null,null,"Lane",null,null,{"$f":"GV1","v":1},{"$f":"GV2","v":""},{"$f":"GV3","v":""},{"$f":"GV4","v":""},{"$f":"GV5","v":""},null,null,null,null,null,null,null,null,null,null,null,null,null,null,null,null,null,null,null,null,null,null,null,null,null,null,null,null,null,null,null,null,null,null,null,null,null,null,null,null,null,null,null,null,null,null,null,null,null,null,null,null,null,null,null,null,null,null,null,null,null,null,null,null,null,null,null,null,null,null,null,null,null,null,null,null,null,null,null,null,null,null,null,null,null,null,null,null,null,null,null,null,null,null,null,null,null,null,null,null,null,null,null,null,null,null,null,null,null,null,null,null,null,null,null,null,null,null,null,null,null,null,null,null,null,null,null,null,null,null,null,null,null,null,null,null,null,null,null,null,null,null,null,null,null,null,null,null,null,null,null,null,null,null,null,null,null,null,null,null,null,null,null,null,null,null,null,null,null,null,null,null,"RR",null,null,null,null,"IM",null,null,null,null,"SR",null,null,null,null,"SS",null,null,null,null,"TJ",null,null,null,null,null,"IM",null,null,null,null,"SR",null,null,null,null,"SS",null,null,null,null,"TJ",null,null,null,null,"RR"]
[null,null,"TJ","Exclusion (FT)",null,{"$f":"IF(F49=1,ROUND(HI46,0),0)","v":52},{"$f":"IF(G49=2,ROUND(HJ46,0),0)","v":0},{"$f":"IF(H49=3,ROUND(HK46,0),0)","v":0},{"$f":"IF(I49=4,ROUND(HL46,0),0)","v":0},{"$f":"IF(J49=5,ROUND(HM46,0),0)","v":0},null,null,null,null,null,null,"TJ","Exclusion (FT)",null,{"$f":"IF(T49=1,ROUND(ID46,0),0)","v":0},{"$f":"IF(U49=2,ROUND(IE46,0),0)","v":0},{"$f":"IF(V49=3,ROUND(IF46,0),0)","v":0},{"$f":"IF(W49=4,ROUND(IG46,0),0)","v":0},{"$f":"IF(X49=5,ROUND(IH46,0),0)","v":0},null,null,null,null,null,null,null,null,null,null,null,null,null,null,null,null,null,null,null,null,null,null,null,null,null,null,null,null,null,null,null,null,null,null,null,null,null,null,null,null,null,null,null,null,null,null,null,null,null,null,null,null,null,null,null,null,null,null,null,null,null,null,null,null,null,null,null,null,null,null,null,null,null,null,null,null,null,null,null,null,null,null,null,null,null,null,null,null,null,null,null,null,null,null,null,null,null,null,null,null,null,null,null,null,null,null,null,null,null,null,null,null,null,null,null,null,null,null,null,null,null,null,null,null,null,null,null,null,null,null,null,null,null,null,null,null,null,null,null,null,null,null,null,null,null,null,null,null,null,null,null,null,null,null,null,null,null,null,null,null,null,null,null,null,null,null,null,null,null,null,null,null,{"$f":"B12","v":0},null,null,null,null,null,null,null,null,null,null,null,null,null,null,null,null,null,null,null,null,null,null,null,null,null,{"$f":"Q12","v":0}]
[null,null,null,"# of Occurrence",null,{"$f":"IF(F49=1,HI51,0)","v":1},{"$f":"IF(G49=2,HJ51,0)","v":0},{"$f":"IF(H49=3,HK51,0)","v":0},{"$f":"IF(I49=4,HL51,0)","v":0},{"$f":"IF(J49=5,HM51,0)","v":0},null,null,null,null,null,null,null,"# of Occurrence",null,{"$f":"IF(T49=\"\",0,ID51)","v":0},{"$f":"IF(U49=\"\",0,IE51)","v":0},{"$f":"IF(V49=\"\",0,IF51)","v":0},{"$f":"IF(W49=\"\",0,IG51)","v":0},{"$f":"IF(X49=\"\",0,IH51)","v":0},null,null,null,null,null,null,null,null,null,null,null,null,null,null,null,null,null,null,null,null,null,null,null,null,null,null,null,null,null,null,null,null,null,null,null,null,null,null,null,null,null,null,null,null,null,null,null,null,null,null,null,null,null,null,null,null,null,null,null,null,null,null,null,null,null,null,null,null,null,null,null,null,null,null,null,null,null,null,null,null,null,null,null,null,null,null,null,null,null,null,null,null,null,null,null,null,null,null,null,null,null,null,null,null,null,null,null,null,null,null,null,null,null,null,null,null,null,null,null,null,null,null,null,null,null,null,null,null,null,null,null,null,null,null,null,null,null,null,null,null,null,null,null,null,null,null,null,null,null,null,null,null,null,null,null,null,null,null,null,null,null,null,null,null,null,null,null,null,null,"# of Occassions",null,null,{"$f":"COUNTIF(GO16:GO45,\">0\")","v":0},0,0,0,0,0,0,0,0,0,0,0,0,0,0,0,0,0,0,0,1,0,0,0,0,null,{"$f":"COUNTIF(HO16:HO45,\">0\")","v":0},0,0,0,0,0,0,0,0,0,0,0,0,0,0,0,0,0,0,0,0,0,0,0,0]
[null,null,null,"# of Lots",null,{"$f":"IF(F$49=\"\",\"-\",(ROUNDUP(F50/52.8,0)+0))","v":1},{"$f":"IF(G49=\"\",\"-\",(ROUNDUP(G50/52.8,0)+0))","v":"-"},{"$f":"IF(H49=\"\",\"-\",(ROUNDUP(H50/52.8,0)+0))","v":"-"},{"$f":"IF(I49=\"\",\"-\",(ROUNDUP(I50/52.8,0)+0))","v":"-"},{"$f":"IF(J49=\"\",0,(ROUNDUP(J50/52.8,0)+0))","v":0},null,null,null,null,null,null,null,"# of Lots",null,{"$f":"IF(T$49=\"\",\"-\",(ROUNDUP(T50/52.8,0)+0))","v":0},{"$f":"IF(U$49=\"\",\"-\",(ROUNDUP(U50/52.8,0)+0))","v":"-"},{"$f":"IF(V$49=\"\",\"-\",(ROUNDUP(V50/52.8,0)+0))","v":"-"},{"$f":"IF(W$49=\"\",\"-\",(ROUNDUP(W50/52.8,0)+0))","v":"-"},{"$f":"IF(X$49=\"\",\"-\",(ROUNDUP(X50/52.8,0)+0))","v":"-"}]
[]
[null,null,"IM","Exclusion (FT)",null,{"$f":"IF(F49=1,ROUND(GT46,0),0)","v":0},{"$f":"IF(G49=2,ROUND(GU46,0),0)","v":0},{"$f":"IF(H49=3,ROUND(GV46,0),0)","v":0},{"$f":"IF(I49=4,ROUND(GW46,0),0)","v":0},{"$f":"IF(J49=5,ROUND(GX46,0),0)","v":0},null,null,null,null,null,null,"IM","Exclusion (ft)",null,{"$f":"IF(T49=1,ROUND(HO46,0),0)","v":0},{"$f":"IF(U49=2,ROUND(HP46,0),0)","v":0},{"$f":"IF(V49=3,ROUND(HQ46,0),0)","v":0},{"$f":"IF(W49=4,ROUND(HR46,0),0)","v":0},{"$f":"IF(X49=5,ROUND(HS46,0),0)","v":0}]
[null,null,null,"# of Occurrence",null,{"$f":"IF(F49=1,GT51,0)","v":0},{"$f":"IF(G49=2,GU51,0)","v":0},{"$f":"IF(H49=3,GV51,0)","v":0},{"$f":"IF(I49=4,GW51,0)","v":0},{"$f":"IF(J49=5,GX51,0)","v":0},null,null,null,null,null,null,null,"# of Occurrence",null,{"$f":"IF(T49=1,HO51,0)","v":0},{"$f":"IF(U49=2,HP51,0)","v":0},{"$f":"IF(V49=3,HQ51,0)","v":0},{"$f":"IF(W49=4,HR51,0)","v":0},{"$f":"IF(X49=5,HS51,0)","v":0}]
[null,null,null,"# of Lots",null,{"$f":"IF(F$49=\"\",\"-\",(ROUNDUP(F54/52.8,0)+0))","v":0},{"$f":"IF(G49=\"\",\"-\",(ROUNDUP(G54/52.8,0)+0))","v":"-"},{"$f":"IF(H49=\"\",\"-\",(ROUNDUP(H54/52.8,0)+0))","v":"-"},{"$f":"IF(I49=\"\",\"-\",(ROUNDUP(I54/52.8,0)+0))","v":"-"},{"$f":"IF(J49=\"\",\"-\",(ROUNDUP(J54/52.8,0)+0))","v":"-"},null,null,null,null,null,null,null,"# of Lots",null,{"$f":"IF(T49=\"\",\"-\",ROUNDUP(T54/52.8,0)+0)","v":0},{"$f":"IF(U49=\"\",\"-\",ROUNDUP(U54/52.8,0)+0)","v":"-"},{"$f":"IF(V49=\"\",\"-\",ROUNDUP(V54/52.8,0)+0)","v":"-"},{"$f":"IF(W49=\"\",\"-\",ROUNDUP(W54/52.8,0)+0)","v":"-"},{"$f":"IF(X49=\"\",\"-\",ROUNDUP(X54/52.8,0)+0)","v":"-"}]
[]
[null,null,"SR","Exclusion (FT)",null,{"$f":"IF(F49=1,ROUND(GY46,0),0)","v":0},{"$f":"IF(G49=2,ROUND(GZ46,0),0)","v":0},{"$f":"IF(H49=3,ROUND(HA46,0),0)","v":0},{"$f":"IF(I49=4,ROUND(HB46,0),0)","v":0},{"$f":"IF(J49=5,ROUND(HC46,0),0)","v":0},null,null,null,null,null,null,"SR","Exclusion (ft)",null,{"$f":"IF(T49=\"\",0,ROUND(HT46,0))","v":0},{"$f":"IF(U49=\"\",0,ROUND(HU46,0))","v":0},{"$f":"IF(V49=\"\",0,ROUND(HV46,0))","v":0},{"$f":"IF(W49=\"\",0,ROUND(HW46,0))","v":0},{"$f":"IF(X49=\"\",0,ROUND(HX46,0))","v":0}]
[null,null,null,"# of Occurrence",null,{"$f":"IF(F49=1,GY51,0)","v":0},{"$f":"IF(G49=2,GZ51,0)","v":0},{"$f":"IF(H49=3,HA51,0)","v":0},{"$f":"IF(I49=4,HB51,0)","v":0},{"$f":"IF(J49=5,HC51,0)","v":0},null,null,null,null,null,null,null,"# of Occurrence",null,{"$f":"IF(T49=1,HT51,0)","v":0},{"$f":"IF(U49=2,HU51,0)","v":0},{"$f":"IF(V49=3,HV51,0)","v":0},{"$f":"IF(W49=4,HW51,0)","v":0},{"$f":"IF(X49=5,HX51,0)","v":0},null,null,null,null,null,null,null,null,null,null,null,null,null,null,null,null,null,null,null,null,null,null,null,null,null,null,null,null,null,null,null,null,null,null,null,null,null,null,null,null,null,null,null,null,null,null,null,null,null,null,null,null,null,null,null,null,null,null,null,null,null,null,null,null,null,null,null,null,null,null,null,null,null,null,null,null,null,null,null,null,null,null,null,null,null,null,null,null,null,null,null,null,null,null,null,null,null,null,null,null,null,null,null,null,null,null,null,null,null,null,null,null,null,null,null,null,null,null,null,null,null,null,null,null,null,null,null,null,null,null,null,null,null,null,null,null,null,null,null,null,null,null,null,null,null,null,null,null,null,null,null,null,null,null,null,null,null,null,null,null,null,null,null,null,null,null,null,null,null,null,null,null,null,null,null,null,null,null,null,null,null,null,null,null,null,null,null,null,null,null,null,null,null,null,null,null,null,null,null,null,null,null,null,null,null,null,null,"North"]
[null,null,null,"# of Lots",null,{"$f":"IF(F$49=\"\",\"-\",(ROUNDUP(F58/52.8,0)+0))","v":0},{"$f":"IF(G$49=\"\",\"-\",(ROUNDUP(G58/52.8,0)+0))","v":"-"},{"$f":"IF(H$49=\"\",\"-\",(ROUNDUP(H58/52.8,0)+0))","v":"-"},{"$f":"IF(I$49=\"\",\"-\",(ROUNDUP(I58/52.8,0)+0))","v":"-"},{"$f":"IF(J$49=\"\",\"-\",(ROUNDUP(J58/52.8,0)+0))","v":"-"},null,null,null,null,null,null,null,"# of Lots",null,{"$f":"IF(T49=\"\",\"-\",ROUNDUP(T58/52.8,0)+0)","v":0},{"$f":"IF(U49=\"\",\"-\",ROUNDUP(U58/52.8,0)+0)","v":"-"},{"$f":"IF(V49=\"\",\"-\",ROUNDUP(V58/52.8,0)+0)","v":"-"},{"$f":"IF(W49=\"\",\"-\",ROUNDUP(W58/52.8,0)+0)","v":"-"},{"$f":"IF(X49=\"\",\"-\",ROUNDUP(X58/52.8,0)+0)","v":"-"}]
[]
[null,null,{"$f":"D5","v":"RR"},"Exclusion (FT)",null,null,null,null,null,null,null,null,null,"PLEASE CLICK \"UPLOAD EXCLUSIONS\" FIRST BEFORE CLICKING \"SEE PAY EQUATIONS\"",null,null,{"$f":"C62","v":"RR"},"Exclusion (FT)"]
[null,null,null,"# of Occurrence",null,null,null,null,null,null,null,null,null,null,null,null,null,"# of Occurrence"]
[null,null,null,"# of Lots",null,{"$f":"IF(F$49=\"\",0,(ROUNDUP(F62/52.8,0)+0))","v":0},{"$f":"IF(G$49=\"\",0,(ROUNDUP(G62/52.8,0)+0))","v":0},{"$f":"IF(H$49=\"\",0,(ROUNDUP(H62/52.8,0)+0))","v":0},{"$f":"IF(I$49=\"\",0,(ROUNDUP(I62/52.8,0)+0))","v":0},{"$f":"IF(J$49=\"\",0,(ROUNDUP(J62/52.8,0)+0))","v":0},null,null,null,null,null,null,null,"# of Lots",null,{"$f":"IF(T$49=\"\",0,(ROUNDUP(T62/52.8,0)+0))","v":0},{"$f":"IF(U$49=\"\",0,(ROUNDUP(U62/52.8,0)+0))","v":0},{"$f":"IF(V$49=\"\",0,(ROUNDUP(V62/52.8,0)+0))","v":0},{"$f":"IF(W$49=\"\",0,(ROUNDUP(W62/52.8,0)+0))","v":0},{"$f":"IF(X$49=\"\",0,(ROUNDUP(X62/52.8,0)+0))","v":0}]
[]
[null,null,"SS","Exclusion (FT)",null,{"$f":"IF(F49=1,ROUND(HD46,0),0)","v":0},{"$f":"IF(G49=2,ROUND(HE46,0),0)","v":0},{"$f":"IF(H49=3,ROUND(HF46,0),0)","v":0},{"$f":"IF(I49=4,ROUND(HG46,0),0)","v":0},{"$f":"IF(J49=5,ROUND(HH46,0),0)","v":0},null,null,null,null,null,null,"SS","Exclusion (ft)",null,{"$f":"IF(T49=\"\",0,ROUND(HY46,0))","v":0},{"$f":"IF(U49=\"\",0,ROUND(HZ46,0))","v":0},{"$f":"IF(V49=\"\",0,ROUND(IA46,0))","v":0},{"$f":"IF(W49=\"\",0,ROUND(IB46,0))","v":0},{"$f":"IF(X49=\"\",0,ROUND(IC46,0))","v":0}]
[null,null,null,"# of Occurrence",null,{"$f":"IF(F49=1,HD51,0)","v":0},{"$f":"IF(G49=2,HE51,0)","v":0},{"$f":"IF(H49=3,HF51,0)","v":0},{"$f":"IF(I49=4,HG51,0)","v":0},{"$f":"IF(J49=5,HH51,0)","v":0},null,null,null,null,null,null,null,"# of Occurrence",null,{"$f":"IF(T49=\"\",0,HY51)","v":0},{"$f":"IF(U49=\"\",0,HZ51)","v":0},{"$f":"IF(V49=\"\",0,IA51)","v":0},{"$f":"IF(W49=\"\",0,IB51)","v":0},{"$f":"IF(X49=\"\",0,IC51)","v":0}]
[null,null,null,"# of Lots",null,{"$f":"IF(F49=\"\",\"-\",ROUNDUP(F66/52.8,0))","v":0},{"$f":"IF(G49=\"\",\"-\",ROUNDUP(G66/52.8,0))","v":"-"},{"$f":"IF(H49=\"\",\"-\",ROUNDUP(H66/52.8,0))","v":"-"},{"$f":"IF(I49=\"\",\"-\",ROUNDUP(I66/52.8,0))","v":"-"},{"$f":"IF(J49=\"\",\"-\",ROUNDUP(J66/52.8,0))","v":"-"},null,null,null,null,null,null,null,"# of Lots",null,{"$f":"IF(T49=\"\",\"-\",ROUNDUP(T66/52.8,0))","v":0},{"$f":"IF(U49=\"\",\"-\",ROUNDUP(U66/52.8,0))","v":"-"},{"$f":"IF(V49=\"\",\"-\",ROUNDUP(V66/52.8,0))","v":"-"},{"$f":"IF(W49=\"\",\"-\",ROUNDUP(W66/52.8,0))","v":"-"},{"$f":"IF(X49=\"\",\"-\",ROUNDUP(X66/52.8,0))","v":"-"}]
[]
[null,null,"RR","Exclusion (FT)",null,{"$f":"IF(F49=1,ROUND(GO46,0),0)","v":0},{"$f":"IF(G49=2,ROUND(GP46,0),0)","v":0},{"$f":"IF(H49=3,ROUND(GQ46,0),0)","v":0},{"$f":"IF(I49=4,ROUND(GR46,0),0)","v":0},{"$f":"IF(J49=5,ROUND(GS46,0),0)","v":0},null,null,null,null,null,null,"RR","Exclusion (FT)",null,{"$f":"IF(T49=1,ROUND(II46,0),0)","v":0},{"$f":"IF(U49=2,ROUND(IJ46,0),0)","v":0},{"$f":"IF(V49=3,ROUND(IK46,0),0)","v":0},{"$f":"IF(W49=4,ROUND(IL46,0),0)","v":0},{"$f":"IF(X49=5,ROUND(IM46,0),0)","v":0}]
[null,null,null,"# of Occurrence",null,{"$f":"IF(F49=1,GO51,0)","v":0},{"$f":"IF(G49=2,GP51,0)","v":0},{"$f":"IF(H49=3,GQ51,0)","v":0},{"$f":"IF(I49=4,GR51,0)","v":0},{"$f":"IF(J49=5,GS51,0)","v":0},null,null,null,null,null,null,null,"# of Occurrence",null,{"$f":"IF(T49=\"\",0,II51)","v":0},{"$f":"IF(U49=\"\",0,IJ51)","v":0},{"$f":"IF(V49=\"\",0,IK51)","v":0},{"$f":"IF(W49=\"\",0,IL51)","v":0},{"$f":"IF(X49=\"\",0,IM51)","v":0}]
[null,null,null,"# of Lots",null,{"$f":"IF(F$49=\"\",\"-\",(ROUNDUP(F70/52.8,0)+0))","v":0},{"$f":"IF(G49=\"\",\"-\",(ROUNDUP(G70/52.8,0)+0))","v":"-"},{"$f":"IF(H49=\"\",\"-\",(ROUNDUP(H70/52.8,0)+0))","v":"-"},{"$f":"IF(I49=\"\",\"-\",(ROUNDUP(I70/52.8,0)+0))","v":"-"},{"$f":"IF(J49=\"\",\"-\",(ROUNDUP(J70/52.8,0)+0))","v":"-"},null,null,null,null,null,null,null,"# of Lots",null,{"$f":"IF(T$49=\"\",\"-\",(ROUNDUP(T70/52.8,0)+0))","v":0},{"$f":"IF(U49=\"\",\"-\",(ROUNDUP(U70/52.8,0)+0))","v":"-"},{"$f":"IF(V49=\"\",\"-\",(ROUNDUP(V70/52.8,0)+0))","v":"-"},{"$f":"IF(W49=\"\",\"-\",(ROUNDUP(W70/52.8,0)+0))","v":"-"},{"$f":"IF(X49=\"\",\"-\",(ROUNDUP(X70/52.8,0)+0))","v":"-"}]
[null,null,"TOTAL","# of Lots",null,{"$f":"IF(F49=\"\",\"\",F56+F60+F68+F64+F52+F72)","v":1},{"$f":"IF(G49=\"\",\"\",G56+G60+G68+G64+G52+G72)","v":""},{"$f":"IF(H49=\"\",\"\",H56+H60+H68+H64+H52+H72)","v":""},{"$f":"IF(I49=\"\",\"\",I56+I60+I68+I64+I52+I72)","v":""},{"$f":"IF(J49=\"\",\"\",J56+J60+J68+J64+J52+J72)","v":""},null,null,null,null,null,null,"TOTAL","# of Lots",null,{"$f":"IF(T49=\"\",\"\",T56+T60+T68+T64+T52+T72)","v":0},{"$f":"IF(U49=\"\",\"\",U56+U60+U68+U64+U52+U72)","v":""},{"$f":"IF(V49=\"\",\"\",V56+V60+V68+V64+V52+V72)","v":""},{"$f":"IF(W49=\"\",\"\",W56+W60+W68+W64+W52+W72)","v":""},{"$f":"IF(X49=\"\",\"\",X56+X60+X68+X64+X52+X72)","v":""}]
[]
[]
[]
[]
[]
[]
[]
[null,"TJ","Exclusion (FT)",null,{"$f":"SUM(F50:J50)","v":52},null,null,null,null,null,null,null,null,null,null,"TJ","Exclusion (FT)",null,{"$f":"SUM(T50:X50)","v":0}]
[null,null,"# of Occurrence",null,{"$f":"SUM(F51:J51)","v":1},null,null,null,null,null,null,null,null,null,null,null,"# of Occurrence",null,{"$f":"SUM(T51:X51)","v":0}]
[null,null,"# of Lots",null,null,null,null,null,null,null,null,null,null,null,null,null,"# of Lots"]
[]
[null,"IM","Exclusion (FT)",null,{"$f":"SUM(F54:J54)","v":0},null,null,null,null,null,null,null,null,null,null,"IM","Exclusion (FT)",null,{"$f":"SUM(T54:X54)","v":0}]
[null,null,"# of Occurrence",null,{"$f":"SUM(F55:J55)","v":0},null,null,null,null,null,null,null,null,null,null,null,"# of Occurrence",null,{"$f":"SUM(T55:X55)","v":0}]
[null,null,"# of Lots",null,null,null,null,null,null,null,null,null,null,null,null,null,"# of Lots"]
[]
[null,"SR","Exclusion (FT)",null,{"$f":"SUM(F58:J58)","v":0},null,null,null,null,null,null,null,null,null,null,"SR","Exclusion (FT)",null,{"$f":"SUM(T58:X58)","v":0}]
[null,null,"# of Occurrence",null,{"$f":"SUM(F59:J59)","v":0},null,null,null,null,null,null,null,null,null,null,null,"# of Occurrence",null,{"$f":"SUM(T59:X59)","v":0}]
[null,null,"# of Lots",null,null,null,null,null,null,null,null,null,null,null,null,null,"# of Lots"]
[]
[null,{"$f":"C66","v":"SS"},"Exclusion (FT)",null,{"$f":"SUM(F66:J66)","v":0},null,null,null,null,null,null,null,null,null,null,{"$f":"Q66","v":"SS"},"Exclusion (FT)",null,{"$f":"SUM(T66:X66)","v":0}]
[null,null,"# of Occurrence",null,{"$f":"SUM(F67:J67)","v":0},null,null,null,null,null,null,null,null,null,null,null,"# of Occurrence",null,{"$f":"SUM(T67:X67)","v":0}]
[null,null,"# of Lots",null,null,null,null,null,null,null,null,null,null,null,null,null,"# of Lots"]
[]
[null,{"$f":"C70","v":"RR"},"Exclusion (FT)",null,{"$f":"SUM(F70:J70)","v":0},null,null,null,null,null,null,null,null,null,null,{"$f":"Q70","v":"RR"},"Exclusion (FT)",null,{"$f":"SUM(T70:X70)","v":0}]
[null,null,"# of Occurrence",null,{"$f":"SUM(F71:J71)","v":0},null,null,null,null,null,null,null,null,null,null,null,"# of Occurrence",null,{"$f":"SUM(T71:X71)","v":0}]
[null,null,"# of Lots",null,null,null,null,null,null,null,null,null,null,null,null,null,"# of Lots"]
[]
[]
[]
[]
[107,null,"Error"]
["Primary=",106,{"$f":"IF(A107-(B105+1)<1,0,CONCATENATE(A107-B105-1,\" Errors\"))","v":0}]
["NB",null,{"$f":"IF(B107-(B106+1)<1,0,CONCATENATE(B107-B106-1,\" Errors\"))","v":0}]
[]
[]
[]
[]
[null,null,null,null,null,null,null,null,null,null,null,null,null,null,null,null,null,null,null,null,null,null,null,null,null,null,{"$f":"SUM(T62:X62)","v":0}]
[]
[null,null,null,null,null,null,null,null,null,null,null,null,null,null,null,null,null,null,null,null,null,null,null,null,null,null,null,null,null,null,null,null,null,null,null,null,null,null,null,null,null,null,null,null,null,null,null,null,null,null,null,null,null,null,null,null,null,null,null,null,null,null,null,null,null,null,null,null,null,null,null,null,null,null,null,null,null,null,null,null,null,null,null,null,null,null,null,null,null,null,null,null,null,null,null,null,null,null,null,null,null,null,null,null,null,null,null,null,null,null,null,null,null,null,null,null,null,null,null,null,null,null,null,null,null,null,null,null,null,null,null,null,null,null,null,null,null,null,null,null,null,null,null,null,null,null,null,null,null,null,null,null,null,null,null,null,null,null,null,null,null,null,null,null,null,null,null,null,null,null,null,null,null,null,null,null,null,null,null,null,null,null,null,null,null,null,null,null,null,null,null,null,null,null,null,null,null,null,null,null,null,null,null,null,null,null,null,null,null,null,null,null,null,null,null,null,null,null,null,null,null,null,1,2,3,4,5,1,2,3,4,5,1,2,3,4,5]
[]
[]
[]
[]
[]
[]
[]
[]
[]
[]
[]
[]
[null,null,null,null,null,null,"ERROR"]

{"sheet":"Error Check","index":4,"n_rows":516,"n_cols":20,"rows_kept":516,"cut":false,"hidden":true,"merged":[]}
["Error Report",null,null,null,null,null,null,null,null,null,null,null,null,null,"Cal Sheet",0]
["Calculation Sheet",null,null,null,null,null,null,null,null,null,null,null,null,null,"Localized",1]
[{"$f":"IF(P1=1,\"\",\"No Error Check Run.\")","v":"No Error Check Run."}]
[null,null,null,null,null,null,null,null,null,null,null,null,null,null,"Errors"]
[null,null,null,null,null,null,null,null,null,null,null,null,null,null,{"$f":"'Localized Factor Worksheet'!A109","v":0},{"$f":"'Localized Factor Worksheet'!C105","v":0}]
[null,null,null,null,null,null,null,null,null,null,null,null,null,null,{"$f":"'Localized Factor Worksheet'!A138","v":0},{"$f":"'Localized Factor Worksheet'!C106","v":0}]
[null,null,null,null,null,null,null,null,null,null,null,null,null,null,null,null,null,null,null,"Errors in Localized Sheet"]
["Localized Factor Worksheet",null,null,null,null,null,null,null,null,null,null,null,null,null,{"$f":"CONCATENATE(\"No errors found in \",O5,\" direction\")","v":"No errors found in 0 direction"},null,null,null,null,{"$f":"'Localized Factor Worksheet'!A109","v":0}]
[{"$f":"IF(P5=0,IF(P6=0,\"No error found in both directions\",O11),IF(P6>0,O12,O8))","v":"No error found in both directions"},null,null,null,null,null,null,null,null,null,null,null,null,null,{"$f":"CONCATENATE(\"No errors found in \",O6,\" direction\")","v":"No errors found in 0 direction"},null,null,null,null,{"$f":"'Localized Factor Worksheet'!A110","v":0}]
[null,null,null,null,null,null,null,null,null,null,null,null,null,null,{"$f":"CONCATENATE(P5,\" errors found in \",O5,\" direction\")","v":"0 errors found in 0 direction"},null,null,null,null,{"$f":"'Localized Factor Worksheet'!A111","v":0}]
[null,null,null,null,null,null,null,null,null,null,null,null,null,null,{"$f":"CONCATENATE(P6,\" errors found in \",O6,\" direction\")","v":"0 errors found in 0 direction"},null,null,null,null,{"$f":"'Localized Factor Worksheet'!A112","v":0}]
[null,null,null,null,null,null,null,null,null,null,null,null,null,null,null,null,null,null,null,{"$f":"'Localized Factor Worksheet'!A113","v":0}]
[null,null,null,null,null,null,null,null,null,null,null,null,null,null,null,null,null,null,null,{"$f":"'Localized Factor Worksheet'!A114","v":0}]
[null,null,null,null,null,null,null,null,null,null,null,null,null,null,null,null,null,null,null,{"$f":"'Localized Factor Worksheet'!A115","v":0}]
[null,null,null,null,null,null,null,null,null,null,null,null,null,null,null,null,null,null,null,{"$f":"'Localized Factor Worksheet'!A116","v":0}]
[null,null,null,null,null,null,null,null,null,null,null,null,null,null,null,null,null,null,null,{"$f":"'Localized Factor Worksheet'!A117","v":0}]
[null,null,null,null,null,null,null,null,null,null,null,null,null,null,null,null,null,null,null,{"$f":"'Localized Factor Worksheet'!A118","v":0}]
[null,null,null,null,null,null,null,null,null,null,null,null,null,null,null,null,null,null,null,{"$f":"'Localized Factor Worksheet'!A119","v":0}]
[null,null,null,null,null,null,null,null,null,null,null,null,null,null,null,null,null,null,null,{"$f":"'Localized Factor Worksheet'!A120","v":0}]
[null,null,null,null,null,null,null,null,null,null,null,null,null,null,null,null,null,null,null,{"$f":"'Localized Factor Worksheet'!A121","v":0}]
[null,null,null,null,null,null,null,null,null,null,null,null,null,null,null,null,null,null,null,{"$f":"'Localized Factor Worksheet'!A122","v":0}]
[null,null,null,null,null,null,null,null,null,null,null,null,null,null,null,null,null,null,null,{"$f":"'Localized Factor Worksheet'!A123","v":0}]
[null,null,null,null,null,null,null,null,null,null,null,null,null,null,null,null,null,null,null,{"$f":"'Localized Factor Worksheet'!A124","v":0}]
[null,null,null,null,null,null,null,null,null,null,null,null,null,null,null,null,null,null,null,{"$f":"'Localized Factor Worksheet'!A125","v":0}]
[null,null,null,null,null,null,null,null,null,null,null,null,null,null,null,null,null,null,null,{"$f":"'Localized Factor Worksheet'!A126","v":0}]
[null,null,null,null,null,null,null,null,null,null,null,null,null,null,null,null,null,null,null,{"$f":"'Localized Factor Worksheet'!A127","v":0}]
[null,null,null,null,null,null,null,null,null,null,null,null,null,null,null,null,null,null,null,{"$f":"'Localized Factor Worksheet'!A128","v":0}]
[null,null,null,null,null,null,null,null,null,null,null,null,null,null,null,null,null,null,null,{"$f":"'Localized Factor Worksheet'!A129","v":0}]
[null,null,null,null,null,null,null,null,null,null,null,null,null,null,null,null,null,null,null,{"$f":"'Localized Factor Worksheet'!A130","v":0}]
[null,null,null,null,null,null,null,null,null,null,null,null,null,null,null,null,null,null,null,{"$f":"'Localized Factor Worksheet'!A131","v":0}]
[null,null,null,null,null,null,null,null,null,null,null,null,null,null,null,null,null,null,null,{"$f":"'Localized Factor Worksheet'!A132","v":0}]
[null,null,null,null,null,null,null,null,null,null,null,null,null,null,null,null,null,null,null,{"$f":"'Localized Factor Worksheet'!A133","v":0}]
[null,null,null,null,null,null,null,null,null,null,null,null,null,null,null,null,null,null,null,{"$f":"'Localized Factor Worksheet'!A134","v":0}]
[null,null,null,null,null,null,null,null,null,null,null,null,null,null,null,null,null,null,null,{"$f":"'Localized Factor Worksheet'!A135","v":0}]
[null,null,null,null,null,null,null,null,null,null,null,null,null,null,null,null,null,null,null,{"$f":"'Localized Factor Worksheet'!A136","v":0}]
[null,null,null,null,null,null,null,null,null,null,null,null,null,null,null,null,null,null,null,{"$f":"'Localized Factor Worksheet'!A137","v":0}]
[null,null,null,null,null,null,null,null,null,null,null,null,null,null,null,null,null,null,null,{"$f":"'Localized Factor Worksheet'!A138","v":0}]
[null,null,null,null,null,null,null,null,null,null,null,null,null,null,null,null,null,null,null,{"$f":"'Localized Factor Worksheet'!A139","v":0}]
[null,null,null,null,null,null,null,null,null,null,null,null,null,null,null,null,null,null,null,{"$f":"'Localized Factor Worksheet'!A140","v":0}]
[null,null,null,null,null,null,null,null,null,null,null,null,null,null,null,null,null,null,null,{"$f":"'Localized Factor Worksheet'!A141","v":0}]
[null,null,null,null,null,null,null,null,null,null,null,null,null,null,null,null,null,null,null,{"$f":"'Localized Factor Worksheet'!A142","v":0}]
[null,null,null,null,null,null,null,null,null,null,null,null,null,null,null,null,null,null,null,{"$f":"'Localized Factor Worksheet'!A143","v":0}]
[null,null,null,null,null,null,null,null,null,null,null,null,null,null,null,null,null,null,null,{"$f":"'Localized Factor Worksheet'!A144","v":0}]
[null,null,null,null,null,null,null,null,null,null,null,null,null,null,null,null,null,null,null,{"$f":"'Localized Factor Worksheet'!A145","v":0}]
[null,null,null,null,null,null,null,null,null,null,null,null,null,null,null,null,null,null,null,{"$f":"'Localized Factor Worksheet'!A146","v":0}]
[null,null,null,null,null,null,null,null,null,null,null,null,null,null,null,null,null,null,null,{"$f":"'Localized Factor Worksheet'!A147","v":0}]
[null,null,null,null,null,null,null,null,null,null,null,null,null,null,null,null,null,null,null,{"$f":"'Localized Factor Worksheet'!A148","v":0}]
[null,null,null,null,null,null,null,null,null,null,null,null,null,null,null,null,null,null,null,{"$f":"'Localized Factor Worksheet'!A149","v":0}]
[null,null,null,null,null,null,null,null,null,null,null,null,null,null,null,null,null,null,null,{"$f":"'Localized Factor Worksheet'!A150","v":0}]
[null,null,null,null,null,null,null,null,null,null,null,null,null,null,null,null,null,null,null,{"$f":"'Localized Factor Worksheet'!A151","v":0}]
[null,null,null,null,null,null,null,null,null,null,null,null,null,null,null,null,null,null,null,{"$f":"'Localized Factor Worksheet'!A152","v":0}]
[null,null,null,null,null,null,null,null,null,null,null,null,null,null,null,null,null,null,null,{"$f":"'Localized Factor Worksheet'!A153","v":0}]
[null,null,null,null,null,null,null,null,null,null,null,null,null,null,null,null,null,null,null,{"$f":"'Localized Factor Worksheet'!A154","v":0}]
[null,null,null,null,null,null,null,null,null,null,null,null,null,null,null,null,null,null,null,{"$f":"'Localized Factor Worksheet'!A155","v":0}]
[null,null,null,null,null,null,null,null,null,null,null,null,null,null,null,null,null,null,null,{"$f":"'Localized Factor Worksheet'!A156","v":0}]
[null,null,null,null,null,null,null,null,null,null,null,null,null,null,null,null,null,null,null,{"$f":"'Localized Factor Worksheet'!A157","v":0}]
[null,null,null,null,null,null,null,null,null,null,null,null,null,null,null,null,null,null,null,{"$f":"'Localized Factor Worksheet'!A158","v":0}]
[null,null,null,null,null,null,null,null,null,null,null,null,null,null,null,null,null,null,null,{"$f":"'Localized Factor Worksheet'!A159","v":0}]
[null,null,null,null,null,null,null,null,null,null,null,null,null,null,null,null,null,null,null,{"$f":"'Localized Factor Worksheet'!A160","v":0}]
[null,null,null,null,null,null,null,null,null,null,null,null,null,null,null,null,null,null,null,{"$f":"'Localized Factor Worksheet'!A161","v":0}]
[null,null,null,null,null,null,null,null,null,null,null,null,null,null,null,null,null,null,null,{"$f":"'Localized Factor Worksheet'!A162","v":0}]
[null,null,null,null,null,null,null,null,null,null,null,null,null,null,null,null,null,null,null,{"$f":"'Localized Factor Worksheet'!A163","v":0}]
[null,null,null,null,null,null,null,null,null,null,null,null,null,null,null,null,null,null,null,{"$f":"'Localized Factor Worksheet'!A164","v":0}]
[null,null,null,null,null,null,null,null,null,null,null,null,null,null,null,null,null,null,null,{"$f":"'Localized Factor Worksheet'!A165","v":0}]
[null,null,null,null,null,null,null,null,null,null,null,null,null,null,null,null,null,null,null,{"$f":"'Localized Factor Worksheet'!A166","v":0}]
[null,null,null,null,null,null,null,null,null,null,null,null,null,null,null,null,null,null,null,{"$f":"'Localized Factor Worksheet'!A167","v":0}]
[null,null,null,null,null,null,null,null,null,null,null,null,null,null,null,null,null,null,null,{"$f":"'Localized Factor Worksheet'!A168","v":0}]
[null,null,null,null,null,null,null,null,null,null,null,null,null,null,null,null,null,null,null,{"$f":"'Localized Factor Worksheet'!A169","v":0}]
[null,null,null,null,null,null,null,null,null,null,null,null,null,null,null,null,null,null,null,{"$f":"'Localized Factor Worksheet'!A170","v":0}]
[null,null,null,null,null,null,null,null,null,null,null,null,null,null,null,null,null,null,null,{"$f":"'Localized Factor Worksheet'!A171","v":0}]
[null,null,null,null,null,null,null,null,null,null,null,null,null,null,null,null,null,null,null,{"$f":"'Localized Factor Worksheet'!A172","v":0}]
[null,null,null,null,null,null,null,null,null,null,null,null,null,null,null,null,null,null,null,{"$f":"'Localized Factor Worksheet'!A173","v":0}]
[null,null,null,null,null,null,null,null,null,null,null,null,null,null,null,null,null,null,null,{"$f":"'Localized Factor Worksheet'!A174","v":0}]
[null,null,null,null,null,null,null,null,null,null,null,null,null,null,null,null,null,null,null,{"$f":"'Localized Factor Worksheet'!A175","v":0}]
[null,null,null,null,null,null,null,null,null,null,null,null,null,null,null,null,null,null,null,{"$f":"'Localized Factor Worksheet'!A176","v":0}]
[null,null,null,null,null,null,null,null,null,null,null,null,null,null,null,null,null,null,null,{"$f":"'Localized Factor Worksheet'!A177","v":0}]
[null,null,null,null,null,null,null,null,null,null,null,null,null,null,null,null,null,null,null,{"$f":"'Localized Factor Worksheet'!A178","v":0}]
[null,null,null,null,null,null,null,null,null,null,null,null,null,null,null,null,null,null,null,{"$f":"'Localized Factor Worksheet'!A179","v":0}]
[null,null,null,null,null,null,null,null,null,null,null,null,null,null,null,null,null,null,null,{"$f":"'Localized Factor Worksheet'!A180","v":0}]
[null,null,null,null,null,null,null,null,null,null,null,null,null,null,null,null,null,null,null,{"$f":"'Localized Factor Worksheet'!A181","v":0}]
[null,null,null,null,null,null,null,null,null,null,null,null,null,null,null,null,null,null,null,{"$f":"'Localized Factor Worksheet'!A182","v":0}]
[null,null,null,null,null,null,null,null,null,null,null,null,null,null,null,null,null,null,null,{"$f":"'Localized Factor Worksheet'!A183","v":0}]
[null,null,null,null,null,null,null,null,null,null,null,null,null,null,null,null,null,null,null,{"$f":"'Localized Factor Worksheet'!A184","v":0}]
[null,null,null,null,null,null,null,null,null,null,null,null,null,null,null,null,null,null,null,{"$f":"'Localized Factor Worksheet'!A185","v":0}]
[null,null,null,null,null,null,null,null,null,null,null,null,null,null,null,null,null,null,null,{"$f":"'Localized Factor Worksheet'!A186","v":0}]
[null,null,null,null,null,null,null,null,null,null,null,null,null,null,null,null,null,null,null,{"$f":"'Localized Factor Worksheet'!A187","v":0}]
[null,null,null,null,null,null,null,null,null,null,null,null,null,null,null,null,null,null,null,{"$f":"'Localized Factor Worksheet'!A188","v":0}]
[null,null,null,null,null,null,null,null,null,null,null,null,null,null,null,null,null,null,null,{"$f":"'Localized Factor Worksheet'!A189","v":0}]
[null,null,null,null,null,null,null,null,null,null,null,null,null,null,null,null,null,null,null,{"$f":"'Localized Factor Worksheet'!A190","v":0}]
[null,null,null,null,null,null,null,null,null,null,null,null,null,null,null,null,null,null,null,{"$f":"'Localized Factor Worksheet'!A191","v":0}]
[null,null,null,null,null,null,null,null,null,null,null,null,null,null,null,null,null,null,null,{"$f":"'Localized Factor Worksheet'!A192","v":0}]
[null,null,null,null,null,null,null,null,null,null,null,null,null,null,null,null,null,null,null,{"$f":"'Localized Factor Worksheet'!A193","v":0}]
[null,null,null,null,null,null,null,null,null,null,null,null,null,null,null,null,null,null,null,{"$f":"'Localized Factor Worksheet'!A194","v":0}]
[null,null,null,null,null,null,null,null,null,null,null,null,null,null,null,null,null,null,null,{"$f":"'Localized Factor Worksheet'!A195","v":0}]
[null,null,null,null,null,null,null,null,null,null,null,null,null,null,null,null,null,null,null,{"$f":"'Localized Factor Worksheet'!A196","v":0}]
[null,null,null,null,null,null,null,null,null,null,null,null,null,null,null,null,null,null,null,{"$f":"'Localized Factor Worksheet'!A197","v":0}]
[null,null,null,null,null,null,null,null,null,null,null,null,null,null,null,null,null,null,null,{"$f":"'Localized Factor Worksheet'!A198","v":0}]
[null,null,null,null,null,null,null,null,null,null,null,null,null,null,null,null,null,null,null,{"$f":"'Localized Factor Worksheet'!A199","v":0}]
[null,null,null,null,null,null,null,null,null,null,null,null,null,null,null,null,null,null,null,{"$f":"'Localized Factor Worksheet'!A200","v":0}]
[null,null,null,null,null,null,null,null,null,null,null,null,null,null,null,null,null,null,null,{"$f":"'Localized Factor Worksheet'!A201","v":0}]
[null,null,null,null,null,null,null,null,null,null,null,null,null,null,null,null,null,null,null,{"$f":"'Localized Factor Worksheet'!A202","v":0}]
[null,null,null,null,null,null,null,null,null,null,null,null,null,null,null,null,null,null,null,{"$f":"'Localized Factor Worksheet'!A203","v":0}]
[null,null,null,null,null,null,null,null,null,null,null,null,null,null,null,null,null,null,null,{"$f":"'Localized Factor Worksheet'!A204","v":0}]
[null,null,null,null,null,null,null,null,null,null,null,null,null,null,null,null,null,null,null,{"$f":"'Localized Factor Worksheet'!A205","v":0}]
[null,null,null,null,null,null,null,null,null,null,null,null,null,null,null,null,null,null,null,{"$f":"'Localized Factor Worksheet'!A206","v":0}]
[null,null,null,null,null,null,null,null,null,null,null,null,null,null,null,null,null,null,null,{"$f":"'Localized Factor Worksheet'!A207","v":0}]
[null,null,null,null,null,null,null,null,null,null,null,null,null,null,null,null,null,null,null,{"$f":"'Localized Factor Worksheet'!A208","v":0}]
[null,null,null,null,null,null,null,null,null,null,null,null,null,null,null,null,null,null,null,{"$f":"'Localized Factor Worksheet'!A209","v":0}]
[null,null,null,null,null,null,null,null,null,null,null,null,null,null,null,null,null,null,null,{"$f":"'Localized Factor Worksheet'!A210","v":0}]
[null,null,null,null,null,null,null,null,null,null,null,null,null,null,null,null,null,null,null,{"$f":"'Localized Factor Worksheet'!A211","v":0}]
[null,null,null,null,null,null,null,null,null,null,null,null,null,null,null,null,null,null,null,{"$f":"'Localized Factor Worksheet'!A212","v":0}]
[null,null,null,null,null,null,null,null,null,null,null,null,null,null,null,null,null,null,null,{"$f":"'Localized Factor Worksheet'!A213","v":0}]
[null,null,null,null,null,null,null,null,null,null,null,null,null,null,null,null,null,null,null,{"$f":"'Localized Factor Worksheet'!A214","v":0}]
[null,null,null,null,null,null,null,null,null,null,null,null,null,null,null,null,null,null,null,{"$f":"'Localized Factor Worksheet'!A215","v":0}]
[null,null,null,null,null,null,null,null,null,null,null,null,null,null,null,null,null,null,null,{"$f":"'Localized Factor Worksheet'!A216","v":0}]
[null,null,null,null,null,null,null,null,null,null,null,null,null,null,null,null,null,null,null,{"$f":"'Localized Factor Worksheet'!A217","v":0}]
[null,null,null,null,null,null,null,null,null,null,null,null,null,null,null,null,null,null,null,{"$f":"'Localized Factor Worksheet'!A218","v":0}]
[null,null,null,null,null,null,null,null,null,null,null,null,null,null,null,null,null,null,null,{"$f":"'Localized Factor Worksheet'!A219","v":0}]
[null,null,null,null,null,null,null,null,null,null,null,null,null,null,null,null,null,null,null,{"$f":"'Localized Factor Worksheet'!A220","v":0}]
[null,null,null,null,null,null,null,null,null,null,null,null,null,null,null,null,null,null,null,{"$f":"'Localized Factor Worksheet'!A221","v":0}]
[null,null,null,null,null,null,null,null,null,null,null,null,null,null,null,null,null,null,null,{"$f":"'Localized Factor Worksheet'!A222","v":0}]
[null,null,null,null,null,null,null,null,null,null,null,null,null,null,null,null,null,null,null,{"$f":"'Localized Factor Worksheet'!A223","v":0}]
[null,null,null,null,null,null,null,null,null,null,null,null,null,null,null,null,null,null,null,{"$f":"'Localized Factor Worksheet'!A224","v":0}]
[null,null,null,null,null,null,null,null,null,null,null,null,null,null,null,null,null,null,null,{"$f":"'Localized Factor Worksheet'!A225","v":0}]
[null,null,null,null,null,null,null,null,null,null,null,null,null,null,null,null,null,null,null,{"$f":"'Localized Factor Worksheet'!A226","v":0}]
[null,null,null,null,null,null,null,null,null,null,null,null,null,null,null,null,null,null,null,{"$f":"'Localized Factor Worksheet'!A227","v":0}]
[null,null,null,null,null,null,null,null,null,null,null,null,null,null,null,null,null,null,null,{"$f":"'Localized Factor Worksheet'!A228","v":0}]
[null,null,null,null,null,null,null,null,null,null,null,null,null,null,null,null,null,null,null,{"$f":"'Localized Factor Worksheet'!A229","v":0}]
[null,null,null,null,null,null,null,null,null,null,null,null,null,null,null,null,null,null,null,{"$f":"'Localized Factor Worksheet'!A230","v":0}]
[null,null,null,null,null,null,null,null,null,null,null,null,null,null,null,null,null,null,null,{"$f":"'Localized Factor Worksheet'!A231","v":0}]
[null,null,null,null,null,null,null,null,null,null,null,null,null,null,null,null,null,null,null,{"$f":"'Localized Factor Worksheet'!A232","v":0}]
[null,null,null,null,null,null,null,null,null,null,null,null,null,null,null,null,null,null,null,{"$f":"'Localized Factor Worksheet'!A233","v":0}]
[null,null,null,null,null,null,null,null,null,null,null,null,null,null,null,null,null,null,null,{"$f":"'Localized Factor Worksheet'!A234","v":0}]
[null,null,null,null,null,null,null,null,null,null,null,null,null,null,null,null,null,null,null,{"$f":"'Localized Factor Worksheet'!A235","v":0}]
[null,null,null,null,null,null,null,null,null,null,null,null,null,null,null,null,null,null,null,{"$f":"'Localized Factor Worksheet'!A236","v":0}]
[null,null,null,null,null,null,null,null,null,null,null,null,null,null,null,null,null,null,null,{"$f":"'Localized Factor Worksheet'!A237","v":0}]
[null,null,null,null,null,null,null,null,null,null,null,null,null,null,null,null,null,null,null,{"$f":"'Localized Factor Worksheet'!A238","v":0}]
[null,null,null,null,null,null,null,null,null,null,null,null,null,null,null,null,null,null,null,{"$f":"'Localized Factor Worksheet'!A239","v":0}]
[null,null,null,null,null,null,null,null,null,null,null,null,null,null,null,null,null,null,null,{"$f":"'Localized Factor Worksheet'!A240","v":0}]
[null,null,null,null,null,null,null,null,null,null,null,null,null,null,null,null,null,null,null,{"$f":"'Localized Factor Worksheet'!A241","v":0}]
[null,null,null,null,null,null,null,null,null,null,null,null,null,null,null,null,null,null,null,{"$f":"'Localized Factor Worksheet'!A242","v":0}]
[null,null,null,null,null,null,null,null,null,null,null,null,null,null,null,null,null,null,null,{"$f":"'Localized Factor Worksheet'!A243","v":0}]
[null,null,null,null,null,null,null,null,null,null,null,null,null,null,null,null,null,null,null,{"$f":"'Localized Factor Worksheet'!A244","v":0}]
[null,null,null,null,null,null,null,null,null,null,null,null,null,null,null,null,null,null,null,{"$f":"'Localized Factor Worksheet'!A245","v":0}]
[null,null,null,null,null,null,null,null,null,null,null,null,null,null,null,null,null,null,null,{"$f":"'Localized Factor Worksheet'!A246","v":0}]
[null,null,null,null,null,null,null,null,null,null,null,null,null,null,null,null,null,null,null,{"$f":"'Localized Factor Worksheet'!A247","v":0}]
[null,null,null,null,null,null,null,null,null,null,null,null,null,null,null,null,null,null,null,{"$f":"'Localized Factor Worksheet'!A248","v":0}]
[null,null,null,null,null,null,null,null,null,null,null,null,null,null,null,null,null,null,null,{"$f":"'Localized Factor Worksheet'!A249","v":0}]
[null,null,null,null,null,null,null,null,null,null,null,null,null,null,null,null,null,null,null,{"$f":"'Localized Factor Worksheet'!A250","v":0}]
[null,null,null,null,null,null,null,null,null,null,null,null,null,null,null,null,null,null,null,{"$f":"'Localized Factor Worksheet'!A251","v":0}]
[null,null,null,null,null,null,null,null,null,null,null,null,null,null,null,null,null,null,null,{"$f":"'Localized Factor Worksheet'!A252","v":0}]
[null,null,null,null,null,null,null,null,null,null,null,null,null,null,null,null,null,null,null,{"$f":"'Localized Factor Worksheet'!A253","v":0}]
[null,null,null,null,null,null,null,null,null,null,null,null,null,null,null,null,null,null,null,{"$f":"'Localized Factor Worksheet'!A254","v":0}]
[null,null,null,null,null,null,null,null,null,null,null,null,null,null,null,null,null,null,null,{"$f":"'Localized Factor Worksheet'!A255","v":0}]
[null,null,null,null,null,null,null,null,null,null,null,null,null,null,null,null,null,null,null,{"$f":"'Localized Factor Worksheet'!A256","v":0}]
[null,null,null,null,null,null,null,null,null,null,null,null,null,null,null,null,null,null,null,{"$f":"'Localized Factor Worksheet'!A257","v":0}]
[null,null,null,null,null,null,null,null,null,null,null,null,null,null,null,null,null,null,null,{"$f":"'Localized Factor Worksheet'!A258","v":0}]
[null,null,null,null,null,null,null,null,null,null,null,null,null,null,null,null,null,null,null,{"$f":"'Localized Factor Worksheet'!A259","v":0}]
[null,null,null,null,null,null,null,null,null,null,null,null,null,null,null,null,null,null,null,{"$f":"'Localized Factor Worksheet'!A260","v":0}]
[null,null,null,null,null,null,null,null,null,null,null,null,null,null,null,null,null,null,null,{"$f":"'Localized Factor Worksheet'!A261","v":0}]
[null,null,null,null,null,null,null,null,null,null,null,null,null,null,null,null,null,null,null,{"$f":"'Localized Factor Worksheet'!A262","v":0}]
[null,null,null,null,null,null,null,null,null,null,null,null,null,null,null,null,null,null,null,{"$f":"'Localized Factor Worksheet'!A263","v":0}]
[null,null,null,null,null,null,null,null,null,null,null,null,null,null,null,null,null,null,null,{"$f":"'Localized Factor Worksheet'!A264","v":0}]
[null,null,null,null,null,null,null,null,null,null,null,null,null,null,null,null,null,null,null,{"$f":"'Localized Factor Worksheet'!A265","v":0}]
[null,null,null,null,null,null,null,null,null,null,null,null,null,null,null,null,null,null,null,{"$f":"'Localized Factor Worksheet'!A266","v":0}]
[null,null,null,null,null,null,null,null,null,null,null,null,null,null,null,null,null,null,null,{"$f":"'Localized Factor Worksheet'!A267","v":0}]
[null,null,null,null,null,null,null,null,null,null,null,null,null,null,null,null,null,null,null,{"$f":"'Localized Factor Worksheet'!A268","v":0}]
[null,null,null,null,null,null,null,null,null,null,null,null,null,null,null,null,null,null,null,{"$f":"'Localized Factor Worksheet'!A269","v":0}]
[null,null,null,null,null,null,null,null,null,null,null,null,null,null,null,null,null,null,null,{"$f":"'Localized Factor Worksheet'!A270","v":0}]
[null,null,null,null,null,null,null,null,null,null,null,null,null,null,null,null,null,null,null,{"$f":"'Localized Factor Worksheet'!A271","v":0}]
[null,null,null,null,null,null,null,null,null,null,null,null,null,null,null,null,null,null,null,{"$f":"'Localized Factor Worksheet'!A272","v":0}]
[null,null,null,null,null,null,null,null,null,null,null,null,null,null,null,null,null,null,null,{"$f":"'Localized Factor Worksheet'!A273","v":0}]
[null,null,null,null,null,null,null,null,null,null,null,null,null,null,null,null,null,null,null,{"$f":"'Localized Factor Worksheet'!A274","v":0}]
[null,null,null,null,null,null,null,null,null,null,null,null,null,null,null,null,null,null,null,{"$f":"'Localized Factor Worksheet'!A275","v":0}]
[null,null,null,null,null,null,null,null,null,null,null,null,null,null,null,null,null,null,null,{"$f":"'Localized Factor Worksheet'!A276","v":0}]
[null,null,null,null,null,null,null,null,null,null,null,null,null,null,null,null,null,null,null,{"$f":"'Localized Factor Worksheet'!A277","v":0}]
[null,null,null,null,null,null,null,null,null,null,null,null,null,null,null,null,null,null,null,{"$f":"'Localized Factor Worksheet'!A278","v":0}]
[null,null,null,null,null,null,null,null,null,null,null,null,null,null,null,null,null,null,null,{"$f":"'Localized Factor Worksheet'!A279","v":0}]
[null,null,null,null,null,null,null,null,null,null,null,null,null,null,null,null,null,null,null,{"$f":"'Localized Factor Worksheet'!A280","v":0}]
[null,null,null,null,null,null,null,null,null,null,null,null,null,null,null,null,null,null,null,{"$f":"'Localized Factor Worksheet'!A281","v":0}]
[null,null,null,null,null,null,null,null,null,null,null,null,null,null,null,null,null,null,null,{"$f":"'Localized Factor Worksheet'!A282","v":0}]
[null,null,null,null,null,null,null,null,null,null,null,null,null,null,null,null,null,null,null,{"$f":"'Localized Factor Worksheet'!A283","v":0}]
[null,null,null,null,null,null,null,null,null,null,null,null,null,null,null,null,null,null,null,{"$f":"'Localized Factor Worksheet'!A284","v":0}]
[null,null,null,null,null,null,null,null,null,null,null,null,null,null,null,null,null,null,null,{"$f":"'Localized Factor Worksheet'!A285","v":0}]
[null,null,null,null,null,null,null,null,null,null,null,null,null,null,null,null,null,null,null,{"$f":"'Localized Factor Worksheet'!A286","v":0}]
[null,null,null,null,null,null,null,null,null,null,null,null,null,null,null,null,null,null,null,{"$f":"'Localized Factor Worksheet'!A287","v":0}]
[null,null,null,null,null,null,null,null,null,null,null,null,null,null,null,null,null,null,null,{"$f":"'Localized Factor Worksheet'!A288","v":0}]
[null,null,null,null,null,null,null,null,null,null,null,null,null,null,null,null,null,null,null,{"$f":"'Localized Factor Worksheet'!A289","v":0}]
[null,null,null,null,null,null,null,null,null,null,null,null,null,null,null,null,null,null,null,{"$f":"'Localized Factor Worksheet'!A290","v":0}]
[null,null,null,null,null,null,null,null,null,null,null,null,null,null,null,null,null,null,null,{"$f":"'Localized Factor Worksheet'!A291","v":0}]
[null,null,null,null,null,null,null,null,null,null,null,null,null,null,null,null,null,null,null,{"$f":"'Localized Factor Worksheet'!A292","v":0}]
[null,null,null,null,null,null,null,null,null,null,null,null,null,null,null,null,null,null,null,{"$f":"'Localized Factor Worksheet'!A293","v":0}]
[null,null,null,null,null,null,null,null,null,null,null,null,null,null,null,null,null,null,null,{"$f":"'Localized Factor Worksheet'!A294","v":0}]
[null,null,null,null,null,null,null,null,null,null,null,null,null,null,null,null,null,null,null,{"$f":"'Localized Factor Worksheet'!A295","v":0}]
[null,null,null,null,null,null,null,null,null,null,null,null,null,null,null,null,null,null,null,{"$f":"'Localized Factor Worksheet'!A296","v":0}]
[null,null,null,null,null,null,null,null,null,null,null,null,null,null,null,null,null,null,null,{"$f":"'Localized Factor Worksheet'!A297","v":0}]
[null,null,null,null,null,null,null,null,null,null,null,null,null,null,null,null,null,null,null,{"$f":"'Localized Factor Worksheet'!A298","v":0}]
[null,null,null,null,null,null,null,null,null,null,null,null,null,null,null,null,null,null,null,{"$f":"'Localized Factor Worksheet'!A299","v":0}]
[null,null,null,null,null,null,null,null,null,null,null,null,null,null,null,null,null,null,null,{"$f":"'Localized Factor Worksheet'!A300","v":0}]
[null,null,null,null,null,null,null,null,null,null,null,null,null,null,null,null,null,null,null,{"$f":"'Localized Factor Worksheet'!A301","v":0}]
[null,null,null,null,null,null,null,null,null,null,null,null,null,null,null,null,null,null,null,{"$f":"'Localized Factor Worksheet'!A302","v":0}]
[null,null,null,null,null,null,null,null,null,null,null,null,null,null,null,null,null,null,null,{"$f":"'Localized Factor Worksheet'!A303","v":0}]
[null,null,null,null,null,null,null,null,null,null,null,null,null,null,null,null,null,null,null,{"$f":"'Localized Factor Worksheet'!A304","v":0}]
[null,null,null,null,null,null,null,null,null,null,null,null,null,null,null,null,null,null,null,{"$f":"'Localized Factor Worksheet'!A305","v":0}]
[null,null,null,null,null,null,null,null,null,null,null,null,null,null,null,null,null,null,null,{"$f":"'Localized Factor Worksheet'!A306","v":0}]
[null,null,null,null,null,null,null,null,null,null,null,null,null,null,null,null,null,null,null,{"$f":"'Localized Factor Worksheet'!A307","v":0}]
[null,null,null,null,null,null,null,null,null,null,null,null,null,null,null,null,null,null,null,{"$f":"'Localized Factor Worksheet'!A308","v":0}]
[null,null,null,null,null,null,null,null,null,null,null,null,null,null,null,null,null,null,null,{"$f":"'Localized Factor Worksheet'!A309","v":0}]
[null,null,null,null,null,null,null,null,null,null,null,null,null,null,null,null,null,null,null,{"$f":"'Localized Factor Worksheet'!A310","v":0}]
[null,null,null,null,null,null,null,null,null,null,null,null,null,null,null,null,null,null,null,{"$f":"'Localized Factor Worksheet'!A311","v":0}]
[null,null,null,null,null,null,null,null,null,null,null,null,null,null,null,null,null,null,null,{"$f":"'Localized Factor Worksheet'!A312","v":0}]
[null,null,null,null,null,null,null,null,null,null,null,null,null,null,null,null,null,null,null,{"$f":"'Localized Factor Worksheet'!A313","v":0}]
[null,null,null,null,null,null,null,null,null,null,null,null,null,null,null,null,null,null,null,{"$f":"'Localized Factor Worksheet'!A314","v":0}]
[null,null,null,null,null,null,null,null,null,null,null,null,null,null,null,null,null,null,null,{"$f":"'Localized Factor Worksheet'!A315","v":0}]
[null,null,null,null,null,null,null,null,null,null,null,null,null,null,null,null,null,null,null,{"$f":"'Localized Factor Worksheet'!A316","v":0}]
[null,null,null,null,null,null,null,null,null,null,null,null,null,null,null,null,null,null,null,{"$f":"'Localized Factor Worksheet'!A317","v":0}]
[null,null,null,null,null,null,null,null,null,null,null,null,null,null,null,null,null,null,null,{"$f":"'Localized Factor Worksheet'!A318","v":0}]
[null,null,null,null,null,null,null,null,null,null,null,null,null,null,null,null,null,null,null,{"$f":"'Localized Factor Worksheet'!A319","v":0}]
[null,null,null,null,null,null,null,null,null,null,null,null,null,null,null,null,null,null,null,{"$f":"'Localized Factor Worksheet'!A320","v":0}]
[null,null,null,null,null,null,null,null,null,null,null,null,null,null,null,null,null,null,null,{"$f":"'Localized Factor Worksheet'!A321","v":0}]
[null,null,null,null,null,null,null,null,null,null,null,null,null,null,null,null,null,null,null,{"$f":"'Localized Factor Worksheet'!A322","v":0}]
[null,null,null,null,null,null,null,null,null,null,null,null,null,null,null,null,null,null,null,{"$f":"'Localized Factor Worksheet'!A323","v":0}]
[null,null,null,null,null,null,null,null,null,null,null,null,null,null,null,null,null,null,null,{"$f":"'Localized Factor Worksheet'!A324","v":0}]
[null,null,null,null,null,null,null,null,null,null,null,null,null,null,null,null,null,null,null,{"$f":"'Localized Factor Worksheet'!A325","v":0}]
[null,null,null,null,null,null,null,null,null,null,null,null,null,null,null,null,null,null,null,{"$f":"'Localized Factor Worksheet'!A326","v":0}]
[null,null,null,null,null,null,null,null,null,null,null,null,null,null,null,null,null,null,null,{"$f":"'Localized Factor Worksheet'!A327","v":0}]
[null,null,null,null,null,null,null,null,null,null,null,null,null,null,null,null,null,null,null,{"$f":"'Localized Factor Worksheet'!A328","v":0}]
[null,null,null,null,null,null,null,null,null,null,null,null,null,null,null,null,null,null,null,{"$f":"'Localized Factor Worksheet'!A329","v":0}]
[null,null,null,null,null,null,null,null,null,null,null,null,null,null,null,null,null,null,null,{"$f":"'Localized Factor Worksheet'!A330","v":0}]
[null,null,null,null,null,null,null,null,null,null,null,null,null,null,null,null,null,null,null,{"$f":"'Localized Factor Worksheet'!A331","v":0}]
[null,null,null,null,null,null,null,null,null,null,null,null,null,null,null,null,null,null,null,{"$f":"'Localized Factor Worksheet'!A332","v":0}]
[null,null,null,null,null,null,null,null,null,null,null,null,null,null,null,null,null,null,null,{"$f":"'Localized Factor Worksheet'!A333","v":0}]
[null,null,null,null,null,null,null,null,null,null,null,null,null,null,null,null,null,null,null,{"$f":"'Localized Factor Worksheet'!A334","v":0}]
[null,null,null,null,null,null,null,null,null,null,null,null,null,null,null,null,null,null,null,{"$f":"'Localized Factor Worksheet'!A335","v":0}]
[null,null,null,null,null,null,null,null,null,null,null,null,null,null,null,null,null,null,null,{"$f":"'Localized Factor Worksheet'!A336","v":0}]
[null,null,null,null,null,null,null,null,null,null,null,null,null,null,null,null,null,null,null,{"$f":"'Localized Factor Worksheet'!A337","v":0}]
[null,null,null,null,null,null,null,null,null,null,null,null,null,null,null,null,null,null,null,{"$f":"'Localized Factor Worksheet'!A338","v":0}]
[null,null,null,null,null,null,null,null,null,null,null,null,null,null,null,null,null,null,null,{"$f":"'Localized Factor Worksheet'!A339","v":0}]
[null,null,null,null,null,null,null,null,null,null,null,null,null,null,null,null,null,null,null,{"$f":"'Localized Factor Worksheet'!A340","v":0}]
[null,null,null,null,null,null,null,null,null,null,null,null,null,null,null,null,null,null,null,{"$f":"'Localized Factor Worksheet'!A341","v":0}]
[null,null,null,null,null,null,null,null,null,null,null,null,null,null,null,null,null,null,null,{"$f":"'Localized Factor Worksheet'!A342","v":0}]
[null,null,null,null,null,null,null,null,null,null,null,null,null,null,null,null,null,null,null,{"$f":"'Localized Factor Worksheet'!A343","v":0}]
[null,null,null,null,null,null,null,null,null,null,null,null,null,null,null,null,null,null,null,{"$f":"'Localized Factor Worksheet'!A344","v":0}]
[null,null,null,null,null,null,null,null,null,null,null,null,null,null,null,null,null,null,null,{"$f":"'Localized Factor Worksheet'!A345","v":0}]
[null,null,null,null,null,null,null,null,null,null,null,null,null,null,null,null,null,null,null,{"$f":"'Localized Factor Worksheet'!A346","v":0}]
[null,null,null,null,null,null,null,null,null,null,null,null,null,null,null,null,null,null,null,{"$f":"'Localized Factor Worksheet'!A347","v":0}]
[null,null,null,null,null,null,null,null,null,null,null,null,null,null,null,null,null,null,null,{"$f":"'Localized Factor Worksheet'!A348","v":0}]
[null,null,null,null,null,null,null,null,null,null,null,null,null,null,null,null,null,null,null,{"$f":"'Localized Factor Worksheet'!A349","v":0}]
[null,null,null,null,null,null,null,null,null,null,null,null,null,null,null,null,null,null,null,{"$f":"'Localized Factor Worksheet'!A350","v":0}]
[null,null,null,null,null,null,null,null,null,null,null,null,null,null,null,null,null,null,null,{"$f":"'Localized Factor Worksheet'!A351","v":0}]
[null,null,null,null,null,null,null,null,null,null,null,null,null,null,null,null,null,null,null,{"$f":"'Localized Factor Worksheet'!A352","v":0}]
[null,null,null,null,null,null,null,null,null,null,null,null,null,null,null,null,null,null,null,{"$f":"'Localized Factor Worksheet'!A353","v":0}]
[null,null,null,null,null,null,null,null,null,null,null,null,null,null,null,null,null,null,null,{"$f":"'Localized Factor Worksheet'!A354","v":0}]
[null,null,null,null,null,null,null,null,null,null,null,null,null,null,null,null,null,null,null,{"$f":"'Localized Factor Worksheet'!A355","v":0}]
[null,null,null,null,null,null,null,null,null,null,null,null,null,null,null,null,null,null,null,{"$f":"'Localized Factor Worksheet'!A356","v":0}]
[null,null,null,null,null,null,null,null,null,null,null,null,null,null,null,null,null,null,null,{"$f":"'Localized Factor Worksheet'!A357","v":0}]
[null,null,null,null,null,null,null,null,null,null,null,null,null,null,null,null,null,null,null,{"$f":"'Localized Factor Worksheet'!A358","v":0}]
[null,null,null,null,null,null,null,null,null,null,null,null,null,null,null,null,null,null,null,{"$f":"'Localized Factor Worksheet'!A359","v":0}]
[null,null,null,null,null,null,null,null,null,null,null,null,null,null,null,null,null,null,null,{"$f":"'Localized Factor Worksheet'!A360","v":0}]
[null,null,null,null,null,null,null,null,null,null,null,null,null,null,null,null,null,null,null,{"$f":"'Localized Factor Worksheet'!A361","v":0}]
[null,null,null,null,null,null,null,null,null,null,null,null,null,null,null,null,null,null,null,{"$f":"'Localized Factor Worksheet'!A362","v":0}]
[null,null,null,null,null,null,null,null,null,null,null,null,null,null,null,null,null,null,null,{"$f":"'Localized Factor Worksheet'!A363","v":0}]
[null,null,null,null,null,null,null,null,null,null,null,null,null,null,null,null,null,null,null,{"$f":"'Localized Factor Worksheet'!A364","v":0}]
[null,null,null,null,null,null,null,null,null,null,null,null,null,null,null,null,null,null,null,{"$f":"'Localized Factor Worksheet'!A365","v":0}]
[null,null,null,null,null,null,null,null,null,null,null,null,null,null,null,null,null,null,null,{"$f":"'Localized Factor Worksheet'!A366","v":0}]
[null,null,null,null,null,null,null,null,null,null,null,null,null,null,null,null,null,null,null,{"$f":"'Localized Factor Worksheet'!A367","v":0}]
[null,null,null,null,null,null,null,null,null,null,null,null,null,null,null,null,null,null,null,{"$f":"'Localized Factor Worksheet'!A368","v":0}]
[null,null,null,null,null,null,null,null,null,null,null,null,null,null,null,null,null,null,null,{"$f":"'Localized Factor Worksheet'!A369","v":0}]
[null,null,null,null,null,null,null,null,null,null,null,null,null,null,null,null,null,null,null,{"$f":"'Localized Factor Worksheet'!A370","v":0}]
[null,null,null,null,null,null,null,null,null,null,null,null,null,null,null,null,null,null,null,{"$f":"'Localized Factor Worksheet'!A371","v":0}]
[null,null,null,null,null,null,null,null,null,null,null,null,null,null,null,null,null,null,null,{"$f":"'Localized Factor Worksheet'!A372","v":0}]
[null,null,null,null,null,null,null,null,null,null,null,null,null,null,null,null,null,null,null,{"$f":"'Localized Factor Worksheet'!A373","v":0}]
[null,null,null,null,null,null,null,null,null,null,null,null,null,null,null,null,null,null,null,{"$f":"'Localized Factor Worksheet'!A374","v":0}]
[null,null,null,null,null,null,null,null,null,null,null,null,null,null,null,null,null,null,null,{"$f":"'Localized Factor Worksheet'!A375","v":0}]
[null,null,null,null,null,null,null,null,null,null,null,null,null,null,null,null,null,null,null,{"$f":"'Localized Factor Worksheet'!A376","v":0}]
[null,null,null,null,null,null,null,null,null,null,null,null,null,null,null,null,null,null,null,{"$f":"'Localized Factor Worksheet'!A377","v":0}]
[null,null,null,null,null,null,null,null,null,null,null,null,null,null,null,null,null,null,null,{"$f":"'Localized Factor Worksheet'!A378","v":0}]
[null,null,null,null,null,null,null,null,null,null,null,null,null,null,null,null,null,null,null,{"$f":"'Localized Factor Worksheet'!A379","v":0}]
[null,null,null,null,null,null,null,null,null,null,null,null,null,null,null,null,null,null,null,{"$f":"'Localized Factor Worksheet'!A380","v":0}]
[null,null,null,null,null,null,null,null,null,null,null,null,null,null,null,null,null,null,null,{"$f":"'Localized Factor Worksheet'!A381","v":0}]
[null,null,null,null,null,null,null,null,null,null,null,null,null,null,null,null,null,null,null,{"$f":"'Localized Factor Worksheet'!A382","v":0}]
[null,null,null,null,null,null,null,null,null,null,null,null,null,null,null,null,null,null,null,{"$f":"'Localized Factor Worksheet'!A383","v":0}]
[null,null,null,null,null,null,null,null,null,null,null,null,null,null,null,null,null,null,null,{"$f":"'Localized Factor Worksheet'!A384","v":0}]
[null,null,null,null,null,null,null,null,null,null,null,null,null,null,null,null,null,null,null,{"$f":"'Localized Factor Worksheet'!A385","v":0}]
[null,null,null,null,null,null,null,null,null,null,null,null,null,null,null,null,null,null,null,{"$f":"'Localized Factor Worksheet'!A386","v":0}]
[null,null,null,null,null,null,null,null,null,null,null,null,null,null,null,null,null,null,null,{"$f":"'Localized Factor Worksheet'!A387","v":0}]
[null,null,null,null,null,null,null,null,null,null,null,null,null,null,null,null,null,null,null,{"$f":"'Localized Factor Worksheet'!A388","v":0}]
[null,null,null,null,null,null,null,null,null,null,null,null,null,null,null,null,null,null,null,{"$f":"'Localized Factor Worksheet'!A389","v":0}]
[null,null,null,null,null,null,null,null,null,null,null,null,null,null,null,null,null,null,null,{"$f":"'Localized Factor Worksheet'!A390","v":0}]
[null,null,null,null,null,null,null,null,null,null,null,null,null,null,null,null,null,null,null,{"$f":"'Localized Factor Worksheet'!A391","v":0}]
[null,null,null,null,null,null,null,null,null,null,null,null,null,null,null,null,null,null,null,{"$f":"'Localized Factor Worksheet'!A392","v":0}]
[null,null,null,null,null,null,null,null,null,null,null,null,null,null,null,null,null,null,null,{"$f":"'Localized Factor Worksheet'!A393","v":0}]
[null,null,null,null,null,null,null,null,null,null,null,null,null,null,null,null,null,null,null,{"$f":"'Localized Factor Worksheet'!A394","v":0}]
[null,null,null,null,null,null,null,null,null,null,null,null,null,null,null,null,null,null,null,{"$f":"'Localized Factor Worksheet'!A395","v":0}]
[null,null,null,null,null,null,null,null,null,null,null,null,null,null,null,null,null,null,null,{"$f":"'Localized Factor Worksheet'!A396","v":0}]
[null,null,null,null,null,null,null,null,null,null,null,null,null,null,null,null,null,null,null,{"$f":"'Localized Factor Worksheet'!A397","v":0}]
[null,null,null,null,null,null,null,null,null,null,null,null,null,null,null,null,null,null,null,{"$f":"'Localized Factor Worksheet'!A398","v":0}]
[null,null,null,null,null,null,null,null,null,null,null,null,null,null,null,null,null,null,null,{"$f":"'Localized Factor Worksheet'!A399","v":0}]
[null,null,null,null,null,null,null,null,null,null,null,null,null,null,null,null,null,null,null,{"$f":"'Localized Factor Worksheet'!A400","v":0}]
[null,null,null,null,null,null,null,null,null,null,null,null,null,null,null,null,null,null,null,{"$f":"'Localized Factor Worksheet'!A401","v":0}]
[null,null,null,null,null,null,null,null,null,null,null,null,null,null,null,null,null,null,null,{"$f":"'Localized Factor Worksheet'!A402","v":0}]
[null,null,null,null,null,null,null,null,null,null,null,null,null,null,null,null,null,null,null,{"$f":"'Localized Factor Worksheet'!A403","v":0}]
[null,null,null,null,null,null,null,null,null,null,null,null,null,null,null,null,null,null,null,{"$f":"'Localized Factor Worksheet'!A404","v":0}]
[null,null,null,null,null,null,null,null,null,null,null,null,null,null,null,null,null,null,null,{"$f":"'Localized Factor Worksheet'!A405","v":0}]
[null,null,null,null,null,null,null,null,null,null,null,null,null,null,null,null,null,null,null,{"$f":"'Localized Factor Worksheet'!A406","v":0}]
[null,null,null,null,null,null,null,null,null,null,null,null,null,null,null,null,null,null,null,{"$f":"'Localized Factor Worksheet'!A407","v":0}]
[null,null,null,null,null,null,null,null,null,null,null,null,null,null,null,null,null,null,null,{"$f":"'Localized Factor Worksheet'!A408","v":0}]
[null,null,null,null,null,null,null,null,null,null,null,null,null,null,null,null,null,null,null,{"$f":"'Localized Factor Worksheet'!A409","v":0}]
[null,null,null,null,null,null,null,null,null,null,null,null,null,null,null,null,null,null,null,{"$f":"'Localized Factor Worksheet'!A410","v":0}]
[null,null,null,null,null,null,null,null,null,null,null,null,null,null,null,null,null,null,null,{"$f":"'Localized Factor Worksheet'!A411","v":0}]
[null,null,null,null,null,null,null,null,null,null,null,null,null,null,null,null,null,null,null,{"$f":"'Localized Factor Worksheet'!A412","v":0}]
[null,null,null,null,null,null,null,null,null,null,null,null,null,null,null,null,null,null,null,{"$f":"'Localized Factor Worksheet'!A413","v":0}]
[null,null,null,null,null,null,null,null,null,null,null,null,null,null,null,null,null,null,null,{"$f":"'Localized Factor Worksheet'!A414","v":0}]
[null,null,null,null,null,null,null,null,null,null,null,null,null,null,null,null,null,null,null,{"$f":"'Localized Factor Worksheet'!A415","v":0}]
[null,null,null,null,null,null,null,null,null,null,null,null,null,null,null,null,null,null,null,{"$f":"'Localized Factor Worksheet'!A416","v":0}]
[null,null,null,null,null,null,null,null,null,null,null,null,null,null,null,null,null,null,null,{"$f":"'Localized Factor Worksheet'!A417","v":0}]
[null,null,null,null,null,null,null,null,null,null,null,null,null,null,null,null,null,null,null,{"$f":"'Localized Factor Worksheet'!A418","v":0}]
[null,null,null,null,null,null,null,null,null,null,null,null,null,null,null,null,null,null,null,{"$f":"'Localized Factor Worksheet'!A419","v":0}]
[null,null,null,null,null,null,null,null,null,null,null,null,null,null,null,null,null,null,null,{"$f":"'Localized Factor Worksheet'!A420","v":0}]
[null,null,null,null,null,null,null,null,null,null,null,null,null,null,null,null,null,null,null,{"$f":"'Localized Factor Worksheet'!A421","v":0}]
[null,null,null,null,null,null,null,null,null,null,null,null,null,null,null,null,null,null,null,{"$f":"'Localized Factor Worksheet'!A422","v":0}]
[null,null,null,null,null,null,null,null,null,null,null,null,null,null,null,null,null,null,null,{"$f":"'Localized Factor Worksheet'!A423","v":0}]
[null,null,null,null,null,null,null,null,null,null,null,null,null,null,null,null,null,null,null,{"$f":"'Localized Factor Worksheet'!A424","v":0}]
[null,null,null,null,null,null,null,null,null,null,null,null,null,null,null,null,null,null,null,{"$f":"'Localized Factor Worksheet'!A425","v":0}]
[null,null,null,null,null,null,null,null,null,null,null,null,null,null,null,null,null,null,null,{"$f":"'Localized Factor Worksheet'!A426","v":0}]
[null,null,null,null,null,null,null,null,null,null,null,null,null,null,null,null,null,null,null,{"$f":"'Localized Factor Worksheet'!A427","v":0}]
[null,null,null,null,null,null,null,null,null,null,null,null,null,null,null,null,null,null,null,{"$f":"'Localized Factor Worksheet'!A428","v":0}]
[null,null,null,null,null,null,null,null,null,null,null,null,null,null,null,null,null,null,null,{"$f":"'Localized Factor Worksheet'!A429","v":0}]
[null,null,null,null,null,null,null,null,null,null,null,null,null,null,null,null,null,null,null,{"$f":"'Localized Factor Worksheet'!A430","v":0}]
[null,null,null,null,null,null,null,null,null,null,null,null,null,null,null,null,null,null,null,{"$f":"'Localized Factor Worksheet'!A431","v":0}]
[null,null,null,null,null,null,null,null,null,null,null,null,null,null,null,null,null,null,null,{"$f":"'Localized Factor Worksheet'!A432","v":0}]
[null,null,null,null,null,null,null,null,null,null,null,null,null,null,null,null,null,null,null,{"$f":"'Localized Factor Worksheet'!A433","v":0}]
[null,null,null,null,null,null,null,null,null,null,null,null,null,null,null,null,null,null,null,{"$f":"'Localized Factor Worksheet'!A434","v":0}]
[null,null,null,null,null,null,null,null,null,null,null,null,null,null,null,null,null,null,null,{"$f":"'Localized Factor Worksheet'!A435","v":0}]
[null,null,null,null,null,null,null,null,null,null,null,null,null,null,null,null,null,null,null,{"$f":"'Localized Factor Worksheet'!A436","v":0}]
[null,null,null,null,null,null,null,null,null,null,null,null,null,null,null,null,null,null,null,{"$f":"'Localized Factor Worksheet'!A437","v":0}]
[null,null,null,null,null,null,null,null,null,null,null,null,null,null,null,null,null,null,null,{"$f":"'Localized Factor Worksheet'!A438","v":0}]
[null,null,null,null,null,null,null,null,null,null,null,null,null,null,null,null,null,null,null,{"$f":"'Localized Factor Worksheet'!A439","v":0}]
[null,null,null,null,null,null,null,null,null,null,null,null,null,null,null,null,null,null,null,{"$f":"'Localized Factor Worksheet'!A440","v":0}]
[null,null,null,null,null,null,null,null,null,null,null,null,null,null,null,null,null,null,null,{"$f":"'Localized Factor Worksheet'!A441","v":0}]
[null,null,null,null,null,null,null,null,null,null,null,null,null,null,null,null,null,null,null,{"$f":"'Localized Factor Worksheet'!A442","v":0}]
[null,null,null,null,null,null,null,null,null,null,null,null,null,null,null,null,null,null,null,{"$f":"'Localized Factor Worksheet'!A443","v":0}]
[null,null,null,null,null,null,null,null,null,null,null,null,null,null,null,null,null,null,null,{"$f":"'Localized Factor Worksheet'!A444","v":0}]
[null,null,null,null,null,null,null,null,null,null,null,null,null,null,null,null,null,null,null,{"$f":"'Localized Factor Worksheet'!A445","v":0}]
[null,null,null,null,null,null,null,null,null,null,null,null,null,null,null,null,null,null,null,{"$f":"'Localized Factor Worksheet'!A446","v":0}]
[null,null,null,null,null,null,null,null,null,null,null,null,null,null,null,null,null,null,null,{"$f":"'Localized Factor Worksheet'!A447","v":0}]
[null,null,null,null,null,null,null,null,null,null,null,null,null,null,null,null,null,null,null,{"$f":"'Localized Factor Worksheet'!A448","v":0}]
[null,null,null,null,null,null,null,null,null,null,null,null,null,null,null,null,null,null,null,{"$f":"'Localized Factor Worksheet'!A449","v":0}]
[null,null,null,null,null,null,null,null,null,null,null,null,null,null,null,null,null,null,null,{"$f":"'Localized Factor Worksheet'!A450","v":0}]
[null,null,null,null,null,null,null,null,null,null,null,null,null,null,null,null,null,null,null,{"$f":"'Localized Factor Worksheet'!A451","v":0}]
[null,null,null,null,null,null,null,null,null,null,null,null,null,null,null,null,null,null,null,{"$f":"'Localized Factor Worksheet'!A452","v":0}]
[null,null,null,null,null,null,null,null,null,null,null,null,null,null,null,null,null,null,null,{"$f":"'Localized Factor Worksheet'!A453","v":0}]
[null,null,null,null,null,null,null,null,null,null,null,null,null,null,null,null,null,null,null,{"$f":"'Localized Factor Worksheet'!A454","v":0}]
[null,null,null,null,null,null,null,null,null,null,null,null,null,null,null,null,null,null,null,{"$f":"'Localized Factor Worksheet'!A455","v":0}]
[null,null,null,null,null,null,null,null,null,null,null,null,null,null,null,null,null,null,null,{"$f":"'Localized Factor Worksheet'!A456","v":0}]
[null,null,null,null,null,null,null,null,null,null,null,null,null,null,null,null,null,null,null,{"$f":"'Localized Factor Worksheet'!A457","v":0}]
[null,null,null,null,null,null,null,null,null,null,null,null,null,null,null,null,null,null,null,{"$f":"'Localized Factor Worksheet'!A458","v":0}]
[null,null,null,null,null,null,null,null,null,null,null,null,null,null,null,null,null,null,null,{"$f":"'Localized Factor Worksheet'!A459","v":0}]
[null,null,null,null,null,null,null,null,null,null,null,null,null,null,null,null,null,null,null,{"$f":"'Localized Factor Worksheet'!A460","v":0}]
[null,null,null,null,null,null,null,null,null,null,null,null,null,null,null,null,null,null,null,{"$f":"'Localized Factor Worksheet'!A461","v":0}]
[null,null,null,null,null,null,null,null,null,null,null,null,null,null,null,null,null,null,null,{"$f":"'Localized Factor Worksheet'!A462","v":0}]
[null,null,null,null,null,null,null,null,null,null,null,null,null,null,null,null,null,null,null,{"$f":"'Localized Factor Worksheet'!A463","v":0}]
[null,null,null,null,null,null,null,null,null,null,null,null,null,null,null,null,null,null,null,{"$f":"'Localized Factor Worksheet'!A464","v":0}]
[null,null,null,null,null,null,null,null,null,null,null,null,null,null,null,null,null,null,null,{"$f":"'Localized Factor Worksheet'!A465","v":0}]
[null,null,null,null,null,null,null,null,null,null,null,null,null,null,null,null,null,null,null,{"$f":"'Localized Factor Worksheet'!A466","v":0}]
[null,null,null,null,null,null,null,null,null,null,null,null,null,null,null,null,null,null,null,{"$f":"'Localized Factor Worksheet'!A467","v":0}]
[null,null,null,null,null,null,null,null,null,null,null,null,null,null,null,null,null,null,null,{"$f":"'Localized Factor Worksheet'!A468","v":0}]
[null,null,null,null,null,null,null,null,null,null,null,null,null,null,null,null,null,null,null,{"$f":"'Localized Factor Worksheet'!A469","v":0}]
[null,null,null,null,null,null,null,null,null,null,null,null,null,null,null,null,null,null,null,{"$f":"'Localized Factor Worksheet'!A470","v":0}]
[null,null,null,null,null,null,null,null,null,null,null,null,null,null,null,null,null,null,null,{"$f":"'Localized Factor Worksheet'!A471","v":0}]
[null,null,null,null,null,null,null,null,null,null,null,null,null,null,null,null,null,null,null,{"$f":"'Localized Factor Worksheet'!A472","v":0}]
[null,null,null,null,null,null,null,null,null,null,null,null,null,null,null,null,null,null,null,{"$f":"'Localized Factor Worksheet'!A473","v":0}]
[null,null,null,null,null,null,null,null,null,null,null,null,null,null,null,null,null,null,null,{"$f":"'Localized Factor Worksheet'!A474","v":0}]
[null,null,null,null,null,null,null,null,null,null,null,null,null,null,null,null,null,null,null,{"$f":"'Localized Factor Worksheet'!A475","v":0}]
[null,null,null,null,null,null,null,null,null,null,null,null,null,null,null,null,null,null,null,{"$f":"'Localized Factor Worksheet'!A476","v":0}]
[null,null,null,null,null,null,null,null,null,null,null,null,null,null,null,null,null,null,null,{"$f":"'Localized Factor Worksheet'!A477","v":0}]
[null,null,null,null,null,null,null,null,null,null,null,null,null,null,null,null,null,null,null,{"$f":"'Localized Factor Worksheet'!A478","v":0}]
[null,null,null,null,null,null,null,null,null,null,null,null,null,null,null,null,null,null,null,{"$f":"'Localized Factor Worksheet'!A479","v":0}]
[null,null,null,null,null,null,null,null,null,null,null,null,null,null,null,null,null,null,null,{"$f":"'Localized Factor Worksheet'!A480","v":0}]
[null,null,null,null,null,null,null,null,null,null,null,null,null,null,null,null,null,null,null,{"$f":"'Localized Factor Worksheet'!A481","v":0}]
[null,null,null,null,null,null,null,null,null,null,null,null,null,null,null,null,null,null,null,{"$f":"'Localized Factor Worksheet'!A482","v":0}]
[null,null,null,null,null,null,null,null,null,null,null,null,null,null,null,null,null,null,null,{"$f":"'Localized Factor Worksheet'!A483","v":0}]
[null,null,null,null,null,null,null,null,null,null,null,null,null,null,null,null,null,null,null,{"$f":"'Localized Factor Worksheet'!A484","v":0}]
[null,null,null,null,null,null,null,null,null,null,null,null,null,null,null,null,null,null,null,{"$f":"'Localized Factor Worksheet'!A485","v":0}]
[null,null,null,null,null,null,null,null,null,null,null,null,null,null,null,null,null,null,null,{"$f":"'Localized Factor Worksheet'!A486","v":0}]
[null,null,null,null,null,null,null,null,null,null,null,null,null,null,null,null,null,null,null,{"$f":"'Localized Factor Worksheet'!A487","v":0}]
[null,null,null,null,null,null,null,null,null,null,null,null,null,null,null,null,null,null,null,{"$f":"'Localized Factor Worksheet'!A488","v":0}]
[null,null,null,null,null,null,null,null,null,null,null,null,null,null,null,null,null,null,null,{"$f":"'Localized Factor Worksheet'!A489","v":0}]
[null,null,null,null,null,null,null,null,null,null,null,null,null,null,null,null,null,null,null,{"$f":"'Localized Factor Worksheet'!A490","v":0}]
[null,null,null,null,null,null,null,null,null,null,null,null,null,null,null,null,null,null,null,{"$f":"'Localized Factor Worksheet'!A491","v":0}]
[null,null,null,null,null,null,null,null,null,null,null,null,null,null,null,null,null,null,null,{"$f":"'Localized Factor Worksheet'!A492","v":0}]
[null,null,null,null,null,null,null,null,null,null,null,null,null,null,null,null,null,null,null,{"$f":"'Localized Factor Worksheet'!A493","v":0}]
[null,null,null,null,null,null,null,null,null,null,null,null,null,null,null,null,null,null,null,{"$f":"'Localized Factor Worksheet'!A494","v":0}]
[null,null,null,null,null,null,null,null,null,null,null,null,null,null,null,null,null,null,null,{"$f":"'Localized Factor Worksheet'!A495","v":0}]
[null,null,null,null,null,null,null,null,null,null,null,null,null,null,null,null,null,null,null,{"$f":"'Localized Factor Worksheet'!A496","v":0}]
[null,null,null,null,null,null,null,null,null,null,null,null,null,null,null,null,null,null,null,{"$f":"'Localized Factor Worksheet'!A497","v":0}]
[null,null,null,null,null,null,null,null,null,null,null,null,null,null,null,null,null,null,null,{"$f":"'Localized Factor Worksheet'!A498","v":0}]
[null,null,null,null,null,null,null,null,null,null,null,null,null,null,null,null,null,null,null,{"$f":"'Localized Factor Worksheet'!A499","v":0}]
[null,null,null,null,null,null,null,null,null,null,null,null,null,null,null,null,null,null,null,{"$f":"'Localized Factor Worksheet'!A500","v":0}]
[null,null,null,null,null,null,null,null,null,null,null,null,null,null,null,null,null,null,null,{"$f":"'Localized Factor Worksheet'!A501","v":0}]
[null,null,null,null,null,null,null,null,null,null,null,null,null,null,null,null,null,null,null,{"$f":"'Localized Factor Worksheet'!A502","v":0}]
[null,null,null,null,null,null,null,null,null,null,null,null,null,null,null,null,null,null,null,{"$f":"'Localized Factor Worksheet'!A503","v":0}]
[null,null,null,null,null,null,null,null,null,null,null,null,null,null,null,null,null,null,null,{"$f":"'Localized Factor Worksheet'!A504","v":0}]
[null,null,null,null,null,null,null,null,null,null,null,null,null,null,null,null,null,null,null,{"$f":"'Localized Factor Worksheet'!A505","v":0}]
[null,null,null,null,null,null,null,null,null,null,null,null,null,null,null,null,null,null,null,{"$f":"'Localized Factor Worksheet'!A506","v":0}]
[null,null,null,null,null,null,null,null,null,null,null,null,null,null,null,null,null,null,null,{"$f":"'Localized Factor Worksheet'!A507","v":0}]
[null,null,null,null,null,null,null,null,null,null,null,null,null,null,null,null,null,null,null,{"$f":"'Localized Factor Worksheet'!A508","v":0}]
[null,null,null,null,null,null,null,null,null,null,null,null,null,null,null,null,null,null,null,{"$f":"'Localized Factor Worksheet'!A509","v":0}]
[null,null,null,null,null,null,null,null,null,null,null,null,null,null,null,null,null,null,null,{"$f":"'Localized Factor Worksheet'!A510","v":0}]
[null,null,null,null,null,null,null,null,null,null,null,null,null,null,null,null,null,null,null,{"$f":"'Localized Factor Worksheet'!A511","v":0}]
[null,null,null,null,null,null,null,null,null,null,null,null,null,null,null,null,null,null,null,{"$f":"'Localized Factor Worksheet'!A512","v":0}]
[null,null,null,null,null,null,null,null,null,null,null,null,null,null,null,null,null,null,null,{"$f":"'Localized Factor Worksheet'!A513","v":0}]
[null,null,null,null,null,null,null,null,null,null,null,null,null,null,null,null,null,null,null,{"$f":"'Localized Factor Worksheet'!A514","v":0}]
[null,null,null,null,null,null,null,null,null,null,null,null,null,null,null,null,null,null,null,{"$f":"'Localized Factor Worksheet'!A515","v":0}]
[null,null,null,null,null,null,null,null,null,null,null,null,null,null,null,null,null,null,null,{"$f":"'Localized Factor Worksheet'!A516","v":0}]
[null,null,null,null,null,null,null,null,null,null,null,null,null,null,null,null,null,null,null,{"$f":"'Localized Factor Worksheet'!A517","v":0}]
[null,null,null,null,null,null,null,null,null,null,null,null,null,null,null,null,null,null,null,{"$f":"'Localized Factor Worksheet'!A518","v":0}]
[null,null,null,null,null,null,null,null,null,null,null,null,null,null,null,null,null,null,null,{"$f":"'Localized Factor Worksheet'!A519","v":0}]
[null,null,null,null,null,null,null,null,null,null,null,null,null,null,null,null,null,null,null,{"$f":"'Localized Factor Worksheet'!A520","v":0}]
[null,null,null,null,null,null,null,null,null,null,null,null,null,null,null,null,null,null,null,{"$f":"'Localized Factor Worksheet'!A521","v":0}]
[null,null,null,null,null,null,null,null,null,null,null,null,null,null,null,null,null,null,null,{"$f":"'Localized Factor Worksheet'!A522","v":0}]
[null,null,null,null,null,null,null,null,null,null,null,null,null,null,null,null,null,null,null,{"$f":"'Localized Factor Worksheet'!A523","v":0}]
[null,null,null,null,null,null,null,null,null,null,null,null,null,null,null,null,null,null,null,{"$f":"'Localized Factor Worksheet'!A524","v":0}]
[null,null,null,null,null,null,null,null,null,null,null,null,null,null,null,null,null,null,null,{"$f":"'Localized Factor Worksheet'!A525","v":0}]
[null,null,null,null,null,null,null,null,null,null,null,null,null,null,null,null,null,null,null,{"$f":"'Localized Factor Worksheet'!A526","v":0}]
[null,null,null,null,null,null,null,null,null,null,null,null,null,null,null,null,null,null,null,{"$f":"'Localized Factor Worksheet'!A527","v":0}]
[null,null,null,null,null,null,null,null,null,null,null,null,null,null,null,null,null,null,null,{"$f":"'Localized Factor Worksheet'!A528","v":0}]
[null,null,null,null,null,null,null,null,null,null,null,null,null,null,null,null,null,null,null,{"$f":"'Localized Factor Worksheet'!A529","v":0}]
[null,null,null,null,null,null,null,null,null,null,null,null,null,null,null,null,null,null,null,{"$f":"'Localized Factor Worksheet'!A530","v":0}]
[null,null,null,null,null,null,null,null,null,null,null,null,null,null,null,null,null,null,null,{"$f":"'Localized Factor Worksheet'!A531","v":0}]
[null,null,null,null,null,null,null,null,null,null,null,null,null,null,null,null,null,null,null,{"$f":"'Localized Factor Worksheet'!A532","v":0}]
[null,null,null,null,null,null,null,null,null,null,null,null,null,null,null,null,null,null,null,{"$f":"'Localized Factor Worksheet'!A533","v":0}]
[null,null,null,null,null,null,null,null,null,null,null,null,null,null,null,null,null,null,null,{"$f":"'Localized Factor Worksheet'!A534","v":0}]
[null,null,null,null,null,null,null,null,null,null,null,null,null,null,null,null,null,null,null,{"$f":"'Localized Factor Worksheet'!A535","v":0}]
[null,null,null,null,null,null,null,null,null,null,null,null,null,null,null,null,null,null,null,{"$f":"'Localized Factor Worksheet'!A536","v":0}]
[null,null,null,null,null,null,null,null,null,null,null,null,null,null,null,null,null,null,null,{"$f":"'Localized Factor Worksheet'!A537","v":0}]
[null,null,null,null,null,null,null,null,null,null,null,null,null,null,null,null,null,null,null,{"$f":"'Localized Factor Worksheet'!A538","v":0}]
[null,null,null,null,null,null,null,null,null,null,null,null,null,null,null,null,null,null,null,{"$f":"'Localized Factor Worksheet'!A539","v":0}]
[null,null,null,null,null,null,null,null,null,null,null,null,null,null,null,null,null,null,null,{"$f":"'Localized Factor Worksheet'!A540","v":0}]
[null,null,null,null,null,null,null,null,null,null,null,null,null,null,null,null,null,null,null,{"$f":"'Localized Factor Worksheet'!A541","v":0}]
[null,null,null,null,null,null,null,null,null,null,null,null,null,null,null,null,null,null,null,{"$f":"'Localized Factor Worksheet'!A542","v":0}]
[null,null,null,null,null,null,null,null,null,null,null,null,null,null,null,null,null,null,null,{"$f":"'Localized Factor Worksheet'!A543","v":0}]
[null,null,null,null,null,null,null,null,null,null,null,null,null,null,null,null,null,null,null,{"$f":"'Localized Factor Worksheet'!A544","v":0}]
[null,null,null,null,null,null,null,null,null,null,null,null,null,null,null,null,null,null,null,{"$f":"'Localized Factor Worksheet'!A545","v":0}]
[null,null,null,null,null,null,null,null,null,null,null,null,null,null,null,null,null,null,null,{"$f":"'Localized Factor Worksheet'!A546","v":0}]
[null,null,null,null,null,null,null,null,null,null,null,null,null,null,null,null,null,null,null,{"$f":"'Localized Factor Worksheet'!A547","v":0}]
[null,null,null,null,null,null,null,null,null,null,null,null,null,null,null,null,null,null,null,{"$f":"'Localized Factor Worksheet'!A548","v":0}]
[null,null,null,null,null,null,null,null,null,null,null,null,null,null,null,null,null,null,null,{"$f":"'Localized Factor Worksheet'!A549","v":0}]
[null,null,null,null,null,null,null,null,null,null,null,null,null,null,null,null,null,null,null,{"$f":"'Localized Factor Worksheet'!A550","v":0}]
[null,null,null,null,null,null,null,null,null,null,null,null,null,null,null,null,null,null,null,{"$f":"'Localized Factor Worksheet'!A551","v":0}]
[null,null,null,null,null,null,null,null,null,null,null,null,null,null,null,null,null,null,null,{"$f":"'Localized Factor Worksheet'!A552","v":0}]
[null,null,null,null,null,null,null,null,null,null,null,null,null,null,null,null,null,null,null,{"$f":"'Localized Factor Worksheet'!A553","v":0}]
[null,null,null,null,null,null,null,null,null,null,null,null,null,null,null,null,null,null,null,{"$f":"'Localized Factor Worksheet'!A554","v":0}]
[null,null,null,null,null,null,null,null,null,null,null,null,null,null,null,null,null,null,null,{"$f":"'Localized Factor Worksheet'!A555","v":0}]
[null,null,null,null,null,null,null,null,null,null,null,null,null,null,null,null,null,null,null,{"$f":"'Localized Factor Worksheet'!A556","v":0}]
[null,null,null,null,null,null,null,null,null,null,null,null,null,null,null,null,null,null,null,{"$f":"'Localized Factor Worksheet'!A557","v":0}]
[null,null,null,null,null,null,null,null,null,null,null,null,null,null,null,null,null,null,null,{"$f":"'Localized Factor Worksheet'!A558","v":0}]
[null,null,null,null,null,null,null,null,null,null,null,null,null,null,null,null,null,null,null,{"$f":"'Localized Factor Worksheet'!A559","v":0}]
[null,null,null,null,null,null,null,null,null,null,null,null,null,null,null,null,null,null,null,{"$f":"'Localized Factor Worksheet'!A560","v":0}]
[null,null,null,null,null,null,null,null,null,null,null,null,null,null,null,null,null,null,null,{"$f":"'Localized Factor Worksheet'!A561","v":0}]
[null,null,null,null,null,null,null,null,null,null,null,null,null,null,null,null,null,null,null,{"$f":"'Localized Factor Worksheet'!A562","v":0}]
[null,null,null,null,null,null,null,null,null,null,null,null,null,null,null,null,null,null,null,{"$f":"'Localized Factor Worksheet'!A563","v":0}]
[null,null,null,null,null,null,null,null,null,null,null,null,null,null,null,null,null,null,null,{"$f":"'Localized Factor Worksheet'!A564","v":0}]
[null,null,null,null,null,null,null,null,null,null,null,null,null,null,null,null,null,null,null,{"$f":"'Localized Factor Worksheet'!A565","v":0}]
[null,null,null,null,null,null,null,null,null,null,null,null,null,null,null,null,null,null,null,{"$f":"'Localized Factor Worksheet'!A566","v":0}]
[null,null,null,null,null,null,null,null,null,null,null,null,null,null,null,null,null,null,null,{"$f":"'Localized Factor Worksheet'!A567","v":0}]
[null,null,null,null,null,null,null,null,null,null,null,null,null,null,null,null,null,null,null,{"$f":"'Localized Factor Worksheet'!A568","v":0}]
[null,null,null,null,null,null,null,null,null,null,null,null,null,null,null,null,null,null,null,{"$f":"'Localized Factor Worksheet'!A569","v":0}]
[null,null,null,null,null,null,null,null,null,null,null,null,null,null,null,null,null,null,null,{"$f":"'Localized Factor Worksheet'!A570","v":0}]
[null,null,null,null,null,null,null,null,null,null,null,null,null,null,null,null,null,null,null,{"$f":"'Localized Factor Worksheet'!A571","v":0}]
[null,null,null,null,null,null,null,null,null,null,null,null,null,null,null,null,null,null,null,{"$f":"'Localized Factor Worksheet'!A572","v":0}]
[null,null,null,null,null,null,null,null,null,null,null,null,null,null,null,null,null,null,null,{"$f":"'Localized Factor Worksheet'!A573","v":0}]
[null,null,null,null,null,null,null,null,null,null,null,null,null,null,null,null,null,null,null,{"$f":"'Localized Factor Worksheet'!A574","v":0}]
[null,null,null,null,null,null,null,null,null,null,null,null,null,null,null,null,null,null,null,{"$f":"'Localized Factor Worksheet'!A575","v":0}]
[null,null,null,null,null,null,null,null,null,null,null,null,null,null,null,null,null,null,null,{"$f":"'Localized Factor Worksheet'!A576","v":0}]
[null,null,null,null,null,null,null,null,null,null,null,null,null,null,null,null,null,null,null,{"$f":"'Localized Factor Worksheet'!A577","v":0}]
[null,null,null,null,null,null,null,null,null,null,null,null,null,null,null,null,null,null,null,{"$f":"'Localized Factor Worksheet'!A578","v":0}]
[null,null,null,null,null,null,null,null,null,null,null,null,null,null,null,null,null,null,null,{"$f":"'Localized Factor Worksheet'!A579","v":0}]
[null,null,null,null,null,null,null,null,null,null,null,null,null,null,null,null,null,null,null,{"$f":"'Localized Factor Worksheet'!A580","v":0}]
[null,null,null,null,null,null,null,null,null,null,null,null,null,null,null,null,null,null,null,{"$f":"'Localized Factor Worksheet'!A581","v":0}]
[null,null,null,null,null,null,null,null,null,null,null,null,null,null,null,null,null,null,null,{"$f":"'Localized Factor Worksheet'!A582","v":0}]
[null,null,null,null,null,null,null,null,null,null,null,null,null,null,null,null,null,null,null,{"$f":"'Localized Factor Worksheet'!A583","v":0}]
[null,null,null,null,null,null,null,null,null,null,null,null,null,null,null,null,null,null,null,{"$f":"'Localized Factor Worksheet'!A584","v":0}]
[null,null,null,null,null,null,null,null,null,null,null,null,null,null,null,null,null,null,null,{"$f":"'Localized Factor Worksheet'!A585","v":0}]
[null,null,null,null,null,null,null,null,null,null,null,null,null,null,null,null,null,null,null,{"$f":"'Localized Factor Worksheet'!A586","v":0}]
[null,null,null,null,null,null,null,null,null,null,null,null,null,null,null,null,null,null,null,{"$f":"'Localized Factor Worksheet'!A587","v":0}]
[null,null,null,null,null,null,null,null,null,null,null,null,null,null,null,null,null,null,null,{"$f":"'Localized Factor Worksheet'!A588","v":0}]
[null,null,null,null,null,null,null,null,null,null,null,null,null,null,null,null,null,null,null,{"$f":"'Localized Factor Worksheet'!A589","v":0}]
[null,null,null,null,null,null,null,null,null,null,null,null,null,null,null,null,null,null,null,{"$f":"'Localized Factor Worksheet'!A590","v":0}]
[null,null,null,null,null,null,null,null,null,null,null,null,null,null,null,null,null,null,null,{"$f":"'Localized Factor Worksheet'!A591","v":0}]
[null,null,null,null,null,null,null,null,null,null,null,null,null,null,null,null,null,null,null,{"$f":"'Localized Factor Worksheet'!A592","v":0}]
[null,null,null,null,null,null,null,null,null,null,null,null,null,null,null,null,null,null,null,{"$f":"'Localized Factor Worksheet'!A593","v":0}]
[null,null,null,null,null,null,null,null,null,null,null,null,null,null,null,null,null,null,null,{"$f":"'Localized Factor Worksheet'!A594","v":0}]
[null,null,null,null,null,null,null,null,null,null,null,null,null,null,null,null,null,null,null,{"$f":"'Localized Factor Worksheet'!A595","v":0}]
[null,null,null,null,null,null,null,null,null,null,null,null,null,null,null,null,null,null,null,{"$f":"'Localized Factor Worksheet'!A596","v":0}]
[null,null,null,null,null,null,null,null,null,null,null,null,null,null,null,null,null,null,null,{"$f":"'Localized Factor Worksheet'!A597","v":0}]
[null,null,null,null,null,null,null,null,null,null,null,null,null,null,null,null,null,null,null,{"$f":"'Localized Factor Worksheet'!A598","v":0}]
[null,null,null,null,null,null,null,null,null,null,null,null,null,null,null,null,null,null,null,{"$f":"'Localized Factor Worksheet'!A599","v":0}]
[null,null,null,null,null,null,null,null,null,null,null,null,null,null,null,null,null,null,null,{"$f":"'Localized Factor Worksheet'!A600","v":0}]
[null,null,null,null,null,null,null,null,null,null,null,null,null,null,null,null,null,null,null,{"$f":"'Localized Factor Worksheet'!A601","v":0}]
[null,null,null,null,null,null,null,null,null,null,null,null,null,null,null,null,null,null,null,{"$f":"'Localized Factor Worksheet'!A602","v":0}]
[null,null,null,null,null,null,null,null,null,null,null,null,null,null,null,null,null,null,null,{"$f":"'Localized Factor Worksheet'!A603","v":0}]
[null,null,null,null,null,null,null,null,null,null,null,null,null,null,null,null,null,null,null,{"$f":"'Localized Factor Worksheet'!A604","v":0}]
[null,null,null,null,null,null,null,null,null,null,null,null,null,null,null,null,null,null,null,{"$f":"'Localized Factor Worksheet'!A605","v":0}]
[null,null,null,null,null,null,null,null,null,null,null,null,null,null,null,null,null,null,null,{"$f":"'Localized Factor Worksheet'!A606","v":0}]
[null,null,null,null,null,null,null,null,null,null,null,null,null,null,null,null,null,null,null,{"$f":"'Localized Factor Worksheet'!A607","v":0}]
[null,null,null,null,null,null,null,null,null,null,null,null,null,null,null,null,null,null,null,{"$f":"'Localized Factor Worksheet'!A608","v":0}]
[null,null,null,null,null,null,null,null,null,null,null,null,null,null,null,null,null,null,null,{"$f":"'Localized Factor Worksheet'!A609","v":0}]
[null,null,null,null,null,null,null,null,null,null,null,null,null,null,null,null,null,null,null,{"$f":"'Localized Factor Worksheet'!A610","v":0}]
[null,null,null,null,null,null,null,null,null,null,null,null,null,null,null,null,null,null,null,{"$f":"'Localized Factor Worksheet'!A611","v":0}]
[null,null,null,null,null,null,null,null,null,null,null,null,null,null,null,null,null,null,null,{"$f":"'Localized Factor Worksheet'!A612","v":0}]
[null,null,null,null,null,null,null,null,null,null,null,null,null,null,null,null,null,null,null,{"$f":"'Localized Factor Worksheet'!A613","v":0}]
[null,null,null,null,null,null,null,null,null,null,null,null,null,null,null,null,null,null,null,{"$f":"'Localized Factor Worksheet'!A614","v":0}]
[null,null,null,null,null,null,null,null,null,null,null,null,null,null,null,null,null,null,null,{"$f":"'Localized Factor Worksheet'!A615","v":0}]
[null,null,null,null,null,null,null,null,null,null,null,null,null,null,null,null,null,null,null,{"$f":"'Localized Factor Worksheet'!A616","v":0}]
[null,null,null,null,null,null,null,null,null,null,null,null,null,null,null,null,null,null,null,{"$f":"'Localized Factor Worksheet'!A617","v":0}]

{"sheet":"Macro","index":5,"n_rows":102,"n_cols":12,"rows_kept":102,"cut":false,"hidden":false,"merged":[[4,0,4,11],[5,0,5,11],[6,0,6,11],[7,0,7,11],[21,0,21,11]]}
[]
[]
[]
[]
["PAVEMENT DESIGN"]
[{"$f":"[1]Instructions!A2","v":"RIDE QUALITY REQUIREMENTS (RQR) SOFTWARE"}]
[{"$f":"Instructions!$A$3","v":"Version: 3.00W"}]
[{"$f":"Instructions!$A$4","v":"Information last updated on: April 30, 2014"}]
[]
[]
[]
[]
[]
[]
[]
[]
[]
[]
[]
[]
[]
["How to enable MACRO?"]
[]
[]
["For any question, send email to RQSPECSUPPORT@DOT.STATE.NJ.US"]
[]
[]
[]
[]
[]
[]
[]
[]
[]
[]
[]
[]
[]
[]
[]
[]
[]
[]
[]
[]
[]
[]
[]
[]
[]
[]
[]
[]
["PREVIOUS",null,null,null,null,null,null,null,null,null,null,"NEXT"]
[]
[]
[]
[]
[]
[]
[]
[]
[]
[]
[]
[]
[]
[]
[]
[]
[]
[]
[]
[]
[]
[]
["PREVIOUS",null,null,null,null,null,null,null,null,null,null,"NEXT"]
[]
[]
[]
[]
[]
[]
[]
[]
[]
[]
[]
[]
[]
[]
[]
[]
[]
[]
[]
[]
[]
[]
[]
[]
["PREVIOUS"]

{"sheet":"Ai factors","index":6,"n_rows":1463,"n_cols":47,"rows_kept":1463,"cut":false,"hidden":true,"merged":[[0,44,1,46],[2,25,3,25],[23,8,23,9],[25,7,25,9],[34,7,35,8],[31,7,31,12],[32,7,32,11],[28,11,28,12],[25,11,25,12],[26,11,26,12],[27,11,27,12],[0,26,1,38],[2,26,2,29],[2,30,2,33],[2,34,2,38],[0,40,1,42],[36,7,36,11],[37,7,37,11],[33,7,33,11],[34,9,34,11],[35,9,35,11],[2,0,3,5],[4,0,5,1],[4,2,4,5],[6,0,11,0],[22,8,22,9],[19,8,19,9],[20,8,20,9],[21,8,21,9],[17,0,18,0],[17,1,17,4],[18,7,18,9],[10,7,10,9],[4,7,4,8],[5,7,5,8],[6,7,6,8],[11,7,11,9]]}
["Version-",null,"3.00W",null,null,null,null,null,null,null,null,null,null,null,null,null,null,null,null,null,null,null,null,null,null,"HMA 401-03-03-8",null,null,null,null,null,null,null,null,null,null,null,null,null,null,"Microsurfacing & Slurry Sill",null,null,null,"Diamond Grading"]
["Last Updated on-",null,"2018-09-14"]
["AE . AL Factor",null,null,null,null,null,null,null,null,null,null,null,null,null,null,null,null,null,null,null,null,"Freeways/Limited Access Highways","Highways Other Than Freeways /Limited Access (Speed Limit below 35 MPH)","Highways Other Than Freeways /Limited Access (Speed Limit 35 MPH or above)",null,"IRI","Freeways/Limited Access Highways",null,null,null,"Highways Other Than Freeways /Limited Access (Speed Limit below 35 MPH)",null,null,null,"Highways Other Than Freeways /Limited Access (Speed Limit 35 MPH or above)",null,null,null,null,null,"Freeways/Limited Access Highways","Highways Other Than Freeways /Limited Access (Speed Limit below 35 MPH)","Highways Other Than Freeways /Limited Access (Speed Limit 35 MPH or above)",null,"Freeways/Limited Access Highways","Highways Other Than Freeways /Limited Access (Speed Limit below 35 MPH)","Highways Other Than Freeways /Limited Access (Speed Limit 35 MPH or above)"]
[null,null,null,null,null,null,null,null,null,null,null,null,null,null,null,null,null,null,null,null,null,50,null,60,70,null,1,2,3,4,1,2,3,4,1,2,3,4,null,null,"Target IRI","Target IRI","Target IRI",null,"Target IRI","Target IRI","Target IRI"]
[null,null,"# of Operations",null,null,null,null,"Composite?",null,"AC",null,null,null,null,null,null,null,null,null,null,null,null,null,null,null,20,50,50,50,50,60,60,60,60,70,70,70,70,null,null,50,60,70,null,{"$f":"IF(Z5*0.45<$V$4,$V$4,ROUND(0.45*Z5,0))","v":50},{"$f":"IF(Z5*0.5<$X$4,$X$4,ROUND(0.5*Z5,0))","v":60},{"$f":"IF(Z5*0.6<$Y$4,$Y$4,ROUND(0.6*Z5,0))","v":70}]
[null,null,1,2,3,4,null,"No",null,1,null,null,null,null,null,null,null,null,null,null,null,null,null,null,null,21,50,50,50,50,60,60,60,60,70,70,70,70,null,null,50,60,70,null,{"$f":"IF(Z6*0.45<$V$4,$V$4,ROUND(0.45*Z6,0))","v":50},{"$f":"IF(Z6*0.5<$X$4,$X$4,ROUND(0.5*Z6,0))","v":60},{"$f":"IF(Z6*0.6<$Y$4,$Y$4,ROUND(0.6*Z6,0))","v":70}]
["initial IRI","< 60",1,1,1,1,null,"Yes",null,1.05,null,null,null,null,null,null,null,null,null,null,null,null,null,null,null,22,50,50,50,50,60,60,60,60,70,70,70,70,null,null,50,60,70,null,50,60,70]
[null,"60 to <95",1.05,1,1,1,null,null,null,null,null,null,null,null,null,null,null,null,null,null,null,null,null,null,null,23,50,50,50,50,60,60,60,60,70,70,70,70,null,null,50,60,70,null,50,60,70]
[null,"95 to <170",1.1000000000000001,1.05,1,1,null,null,null,null,null,null,null,null,null,null,null,null,null,null,null,null,null,null,null,24,50,50,50,50,60,60,60,60,70,70,70,70,null,null,50,60,70,null,50,60,70]
[null,"170 to <200",1.1499999999999999,1.1000000000000001,1.05,1,null,null,null,null,null,null,null,null,null,null,null,null,null,null,null,null,null,null,null,25,50,50,50,50,60,60,60,60,70,70,70,70,null,null,50,60,70,null,50,60,70]
[null,"200  to <285",1.2,1.1499999999999999,1.1000000000000001,1,null,"Limits for Exclusions",null,null,null,null,null,null,null,null,null,null,null,null,null,null,null,null,null,26,50,50,50,50,60,60,60,60,70,70,70,70,null,null,50,60,70,null,50,60,70]
[null,">285",1.25,1.2,1.1499999999999999,1.05,null,0.2,null,null,null,null,null,null,null,null,null,null,null,null,null,null,null,null,null,27,50,50,50,50,60,60,60,60,70,70,70,70,null,null,50,60,70,null,50,60,70]
[null,null,null,null,null,null,null,null,null,null,null,null,null,null,null,null,null,null,null,null,null,null,null,null,null,28,50,50,50,50,60,60,60,60,70,70,70,70,null,null,50,60,70,null,50,60,70]
[null,null,null,null,null,null,null,null,null,null,null,null,null,null,null,null,null,null,null,null,null,null,null,null,null,29,50,50,50,50,60,60,60,60,70,70,70,70,null,null,50,60,70,null,50,60,70]
[null,null,null,null,null,null,null,null,null,null,null,null,null,null,null,null,null,null,null,null,null,null,null,null,null,30,50,50,50,50,60,60,60,60,70,70,70,70,null,null,50,60,70,null,50,60,70]
[null,null,null,null,null,null,null,null,null,null,null,null,null,null,null,null,null,null,null,null,null,null,null,null,null,31,50,50,50,50,60,60,60,60,70,70,70,70,null,null,50,60,70,null,50,60,70]
[null,null,null,null,null,null,null,null,null,null,null,null,null,null,null,null,null,null,null,null,null,null,null,null,null,32,50,50,50,50,60,60,60,60,70,70,70,70,null,null,50,60,70,null,50,60,70]
["IRI","Number of Lifts",null,null,null,null,null,null,null,null,null,null,null,null,null,null,null,null,null,null,null,null,null,null,null,33,50,50,50,50,60,60,60,60,70,70,70,70,null,null,50,60,70,null,50,60,70]
[null,1,2,3,4,null,null,"Exclusion threshold value",null,null,null,null,null,null,null,null,null,null,null,null,null,null,null,null,null,34,50,50,50,50,60,60,60,60,70,70,70,70,null,null,50,60,70,null,50,60,70]
[0,1,1,1,1,null,null,"IM",50,null,null,null,null,null,null,null,null,null,null,null,null,null,null,null,null,35,50,50,50,50,60,60,60,60,70,70,70,70,null,null,50,60,70,null,50,60,70]
[1,1,1,1,1,null,null,"SS",25,null,null,null,null,null,null,null,null,null,null,null,null,null,null,null,null,36,50,50,50,50,60,60,60,60,70,70,70,70,null,null,50,60,70,null,50,60,70]
[2,1,1,1,1,null,null,"SR",100,null,null,null,null,null,null,null,null,null,null,null,null,null,null,null,null,37,50,50,50,50,60,60,60,60,70,70,70,70,null,null,50,60,70,null,50,60,70]
[3,1,1,1,1,null,null,"RR",25,null,null,null,null,null,null,null,null,null,null,null,null,null,null,null,null,38,50,50,50,50,60,60,60,60,70,70,70,70,null,null,50,60,70,null,50,60,70]
[4,1,1,1,1,null,null,"TJ",52,null,null,null,null,null,null,null,null,null,null,null,null,null,null,null,null,39,50,50,50,50,60,60,60,60,70,70,70,70,null,null,50,60,70,null,50,60,70]
[5,1,1,1,1,null,null,"BASE IRI",null,null,null,null,null,null,null,null,null,null,null,null,null,null,null,null,null,40,50,50,50,50,60,60,60,60,70,70,70,70,null,null,50,60,70,null,50,60,70]
[6,1,1,1,1,null,null,"Classification",null,null,"Base IRI, Inch/Mile","Max Limit for Traget IRI",null,null,null,null,null,null,null,null,null,null,null,null,null,41,50,50,50,50,60,60,60,60,70,70,70,70,null,null,50,60,70,null,50,60,70]
[7,1,1,1,1,null,null,"Freeways/Limited Access Highways",null,null,50,63,null,null,null,null,null,null,null,null,null,null,null,null,null,42,50,50,50,50,60,60,60,60,70,70,70,70,null,null,50,60,70,null,50,60,70]
[8,1,1,1,1,null,null,"Highways Other Than Freeways /Limited Access (Speed Limit 35 MPH or above)",null,null,60,90,null,null,null,null,null,null,null,null,null,null,null,null,null,43,50,50,50,50,60,60,60,60,70,70,70,70,null,null,50,60,70,null,50,60,70]
[9,1,1,1,1,null,null,"Highways Other Than Freeways /Limited Access (Speed Limit below 35 MPH)",null,null,70,100,null,null,null,null,null,null,null,null,null,null,null,null,null,44,50,50,50,50,60,60,60,60,70,70,70,70,null,null,50,60,70,null,50,60,70]
[10,1,1,1,1,null,null,null,null,null,null,null,null,null,null,null,null,null,null,null,null,null,null,null,null,45,50,50,50,50,60,60,60,60,70,70,70,70,null,null,50,60,70,null,50,60,70]
[11,1,1,1,1,null,null,null,null,null,null,null,null,null,null,null,null,null,null,null,null,null,null,null,null,46,50,50,50,50,60,60,60,60,70,70,70,70,null,null,50,60,70,null,50,60,70]
[12,1,1,1,1,null,null,"Pay Adjustment DEFAULT FACTORS",null,null,null,null,null,null,null,null,null,null,null,null,null,null,null,null,null,47,50,50,50,50,60,60,60,60,70,70,70,70,null,null,50,60,70,null,50,60,70]
[13,1,1,1,1,null,null,"Maximum +ve Pay Adjustment(D0)",null,null,null,null,50,null,null,null,null,null,null,null,null,null,null,null,null,48,50,50,50,50,60,60,60,60,70,70,70,70,null,null,50,60,70,null,50,60,70]
[14,1,1,1,1,null,null,"IRI difference between lower limit of zero band and max +ve PA",null,null,null,null,20,null,null,null,null,null,null,null,null,null,null,null,null,49,50,50,50,50,60,60,60,60,70,70,70,70,null,null,50,60,70,null,50,60,70]
[15,1,1,1,1,null,null,"Zero Band",null,"L1",null,null,5,null,null,null,null,null,null,null,null,null,null,null,null,50,50,50,50,50,60,60,60,60,70,70,70,70,null,null,50,60,70,null,50,60,70]
[16,1,1,1,1,null,null,null,null,"L2",null,null,5,null,null,null,null,null,null,null,null,null,null,null,null,51,50,50,50,50,60,60,60,60,70,70,70,70,null,null,51,60,70,null,50,60,70]
[17,1,1,1,1,null,null,"IRI difference between upper limit of zero band and max -ve PA",null,null,null,null,70,null,null,null,null,null,null,null,null,null,null,null,null,52,50,50,50,50,60,60,60,60,70,70,70,70,null,null,52,60,70,null,50,60,70]
[18,1,1,1,1,null,null,"Maximum -Ve Pay Adjustment",null,null,null,null,-500,null,null,null,null,null,null,null,null,null,null,null,null,53,50,50,50,50,60,60,60,60,70,70,70,70,null,null,53,60,70,null,50,60,70]
[19,1,1,1,1,null,null,null,null,null,null,null,null,null,null,null,null,null,null,null,null,null,null,null,null,54,50,50,50,50,60,60,60,60,70,70,70,70,null,null,54,60,70,null,50,60,70]
[20,1,1,1,1,null,null,null,null,null,null,null,null,null,null,null,null,null,null,null,null,null,null,null,null,55,50,50,50,50,60,60,60,60,70,70,70,70,null,null,55,60,70,null,50,60,70]
[21,1,1,1,1,null,null,null,null,null,null,null,null,null,null,null,null,null,null,null,null,null,null,null,null,56,50,50,50,50,60,60,60,60,70,70,70,70,null,null,56,60,70,null,50,60,70]
[22,1,1,1,1,null,null,null,null,null,null,null,null,null,null,null,null,null,null,null,null,null,null,null,null,57,50,50,50,50,60,60,60,60,70,70,70,70,null,null,57,60,70,null,50,60,70]
[23,1,1,1,1,null,null,null,null,null,null,null,null,null,null,null,null,null,null,null,null,null,null,null,null,58,50,50,50,50,60,60,60,60,70,70,70,70,null,null,58,60,70,null,50,60,70]
[24,1,1,1,1,null,null,null,null,null,null,null,null,null,null,null,null,null,null,null,null,null,null,null,null,59,50,50,50,50,60,60,60,60,70,70,70,70,null,null,59,60,70,null,50,60,70]
[25,1,1,1,1,null,null,null,null,null,null,null,null,null,null,null,null,null,null,null,null,null,null,null,null,60,50,50,50,50,60,60,60,60,70,70,70,70,null,null,60,60,70,null,50,60,70]
[26,1,1,1,1,null,null,null,null,null,null,null,null,null,null,null,null,null,null,null,null,null,null,null,null,61,53,50,50,50,63,60,60,60,74,70,70,70,null,null,61,61,70,null,50,60,70]
[27,1,1,1,1,null,null,null,null,null,null,null,null,null,null,null,null,null,null,null,null,null,null,null,null,62,53,50,50,50,63,60,60,60,74,70,70,70,null,null,62,62,70,null,50,60,70]
[28,1,1,1,1,null,null,null,null,null,null,null,null,null,null,null,null,null,null,null,null,null,null,null,null,63,53,50,50,50,63,60,60,60,74,70,70,70,null,null,63,63,70,null,50,60,70]
[29,1,1,1,1,null,null,null,null,null,null,null,null,null,null,null,null,null,null,null,null,null,null,null,null,64,53,50,50,50,63,60,60,60,74,70,70,70,null,null,64,64,70,null,50,60,70]
[30,1,1,1,1,null,null,null,null,null,null,null,null,null,null,null,null,null,null,null,null,null,null,null,null,65,53,50,50,50,63,60,60,60,74,70,70,70,null,null,65,65,70,null,50,60,70]
[31,1,1,1,1,null,null,null,null,null,null,null,null,null,null,null,null,null,null,null,null,null,null,null,null,66,53,50,50,50,63,60,60,60,74,70,70,70,null,null,66,66,70,null,50,60,70]
[32,1,1,1,1,null,null,null,null,null,null,null,null,null,null,null,null,null,null,null,null,null,null,null,null,67,53,50,50,50,63,60,60,60,74,70,70,70,null,null,67,67,70,null,50,60,70]
[33,1,1,1,1,null,null,null,null,null,null,null,null,null,null,null,null,null,null,null,null,null,null,null,null,68,53,50,50,50,63,60,60,60,74,70,70,70,null,null,68,68,70,null,50,60,70]
[34,1,1,1,1,null,null,null,null,null,null,null,null,null,null,null,null,null,null,null,null,null,null,null,null,69,53,50,50,50,63,60,60,60,74,70,70,70,null,null,69,69,70,null,50,60,70]
[35,1,1,1,1,null,null,null,null,null,null,null,null,null,null,null,null,null,null,null,null,null,null,null,null,70,53,50,50,50,63,60,60,60,74,70,70,70,null,null,70,70,70,null,50,60,70]
[36,1,1,1,1,null,null,null,null,null,null,null,null,null,null,null,null,null,null,null,null,null,null,null,null,71,53,50,50,50,63,60,60,60,74,70,70,70,null,null,71,71,71,null,50,60,70]
[37,1,1,1,1,null,null,null,null,null,null,null,null,null,null,null,null,null,null,null,null,null,null,null,null,72,53,50,50,50,63,60,60,60,74,70,70,70,null,null,72,72,72,null,50,60,70]
[38,1,1,1,1,null,null,null,null,null,null,null,null,null,null,null,null,null,null,null,null,null,null,null,null,73,53,50,50,50,63,60,60,60,74,70,70,70,null,null,73,73,73,null,50,60,70]
[39,1,1,1,1,null,null,"Projects for Standard Specification",null,null,null,null,null,null,null,null,null,null,null,null,null,null,null,null,null,74,53,50,50,50,63,60,60,60,74,70,70,70,null,null,74,74,74,null,50,60,70]
[40,1,1,1,1,null,null,"All construction, reconstruction and resurfacing projects",null,null,null,null,null,null,null,null,null,null,null,null,null,null,null,null,null,75,53,50,50,50,63,60,60,60,74,70,70,70,null,null,75,75,75,null,50,60,70]
[41,1,1,1,1,null,null,null,null,null,null,null,null,null,null,null,null,null,null,null,null,null,null,null,null,76,53,50,50,50,63,60,60,60,74,70,70,70,null,null,76,76,76,null,50,60,70]
[42,1,1,1,1,null,null,"Projects for Percentage project",null,null,null,null,null,null,null,null,null,null,null,null,null,null,null,null,null,77,53,50,50,50,63,60,60,60,74,70,70,70,null,null,77,77,77,null,50,60,70]
[43,1,1,1,1,null,null,null,null,null,null,null,null,null,null,null,null,null,null,null,null,null,null,null,null,78,53,50,50,50,63,60,60,60,74,70,70,70,null,null,78,78,78,null,50,60,70]
[44,1,1,1,1,null,null,null,null,null,null,null,null,null,null,null,null,null,null,null,null,null,null,null,null,79,53,50,50,50,63,60,60,60,74,70,70,70,null,null,79,79,79,null,50,60,70]
[45,1,1,1,1,null,null,null,null,null,null,null,null,null,null,null,null,null,null,null,null,null,null,null,null,80,53,50,50,50,63,60,60,60,74,70,70,70,null,null,80,80,80,null,50,60,70]
[46,1,1,1,1,null,null,null,null,null,null,null,null,null,null,null,null,null,null,null,null,null,null,null,null,81,53,50,50,50,63,60,60,60,74,70,70,70,null,null,81,81,81,null,50,60,70]
[47,1,1,1,1,null,null,null,null,null,null,null,null,null,null,null,null,null,null,null,null,null,null,null,null,82,53,50,50,50,63,60,60,60,74,70,70,70,null,null,82,82,82,null,50,60,70]
[48,1,1,1,1,null,null,null,null,null,null,null,null,null,null,null,null,null,null,null,null,null,null,null,null,83,53,50,50,50,63,60,60,60,74,70,70,70,null,null,83,83,83,null,50,60,70]
[49,1,1,1,1,null,null,null,null,null,null,null,null,null,null,null,null,null,null,null,null,null,null,null,null,84,53,50,50,50,63,60,60,60,74,70,70,70,null,null,84,84,84,null,50,60,70]
[50,1,1,1,1,null,null,null,null,null,null,null,null,null,null,null,null,null,null,null,null,null,null,null,null,85,53,50,50,50,63,60,60,60,74,70,70,70,null,null,85,85,85,null,{"$f":"IF(Z70*0.45<$V$4,$V$4,ROUND(0.45*Z70,0))","v":50},{"$f":"IF(Z70*0.5<$X$4,$X$4,ROUND(0.5*Z70,0))","v":60},{"$f":"IF(Z70*0.6<$Y$4,$Y$4,ROUND(0.6*Z70,0))","v":70}]
[51,1,1,1,1,null,null,null,null,null,null,null,null,null,null,null,null,null,null,null,null,null,null,null,null,86,53,50,50,50,63,60,60,60,74,70,70,70,null,null,86,86,86,null,50,60,70]
[52,1,1,1,1,null,null,null,null,null,null,null,null,null,null,null,null,null,null,null,null,null,null,null,null,87,53,50,50,50,63,60,60,60,74,70,70,70,null,null,87,87,87,null,50,60,70]
[53,1,1,1,1,null,null,null,null,null,null,null,null,null,null,null,null,null,null,null,null,null,null,null,null,88,53,50,50,50,63,60,60,60,74,70,70,70,null,null,88,88,88,null,50,60,70]
[54,1,1,1,1,null,null,null,null,null,null,null,null,null,null,null,null,null,null,null,null,null,null,null,null,89,53,50,50,50,63,60,60,60,74,70,70,70,null,null,89,89,89,null,50,60,70]
[55,1,1,1,1,null,null,null,null,null,null,null,null,null,null,null,null,null,null,null,null,null,null,null,null,90,53,50,50,50,63,60,60,60,74,70,70,70,null,null,90,90,90,null,50,60,70]
[56,1,1,1,1,null,null,null,null,null,null,null,null,null,null,null,null,null,null,null,null,null,null,null,null,91,53,50,50,50,63,60,60,60,74,70,70,70,null,null,91,91,91,null,50,60,70]
[57,1,1,1,1,null,null,null,null,null,null,null,null,null,null,null,null,null,null,null,null,null,null,null,null,92,53,50,50,50,63,60,60,60,74,70,70,70,null,null,92,92,92,null,50,60,70]
[58,1,1,1,1,null,null,null,null,null,null,null,null,null,null,null,null,null,null,null,null,null,null,null,null,93,53,50,50,50,63,60,60,60,74,70,70,70,null,null,93,93,93,null,50,60,70]
[59,1,1,1,1,null,null,null,null,null,null,null,null,null,null,null,null,null,null,null,null,null,null,null,null,94,53,50,50,50,63,60,60,60,74,70,70,70,null,null,94,94,94,null,50,60,70]
[60,1.05,1,1,1,null,null,null,null,null,null,null,null,null,null,null,null,null,null,null,null,null,null,null,null,95,53,50,50,50,63,60,60,60,74,70,70,70,null,null,95,95,95,null,50,60,70]
[61,1.05,1,1,1,null,null,null,null,null,null,null,null,null,null,null,null,null,null,null,null,null,null,null,null,96,55,53,50,50,66,63,60,60,77,74,70,70,null,null,96,96,96,null,50,60,70]
[62,1.05,1,1,1,null,null,null,null,null,null,null,null,null,null,null,null,null,null,null,null,null,null,null,null,97,55,53,50,50,66,63,60,60,77,74,70,70,null,null,97,97,97,null,50,60,70]
[63,1.05,1,1,1,null,null,null,null,null,null,null,null,null,null,null,null,null,null,null,null,null,null,null,null,98,55,53,50,50,66,63,60,60,77,74,70,70,null,null,98,98,98,null,50,60,70]
[64,1.05,1,1,1,null,null,null,null,null,null,null,null,null,null,null,null,null,null,null,null,null,null,null,null,99,55,53,50,50,66,63,60,60,77,74,70,70,null,null,99,99,99,null,50,60,70]
[65,1.05,1,1,1,null,null,null,null,null,null,null,null,null,null,null,null,null,null,null,null,null,null,null,null,100,55,53,50,50,66,63,60,60,77,74,70,70,null,null,100,100,100,null,50,60,70]
[66,1.05,1,1,1,null,null,null,null,null,null,null,null,null,null,null,null,null,null,null,null,null,null,null,null,101,55,53,50,50,66,63,60,60,77,74,70,70,null,null,101,101,101,null,50,60,70]
[67,1.05,1,1,1,null,null,null,null,null,null,null,null,null,null,null,null,null,null,null,null,null,null,null,null,102,55,53,50,50,66,63,60,60,77,74,70,70,null,null,102,102,102,null,50,60,70]
[68,1.05,1,1,1,null,null,null,null,null,null,null,null,null,null,null,null,null,null,null,null,null,null,null,null,103,55,53,50,50,66,63,60,60,77,74,70,70,null,null,103,103,103,null,50,60,70]
[69,1.05,1,1,1,null,null,null,null,null,null,null,null,null,null,null,null,null,null,null,null,null,null,null,null,104,55,53,50,50,66,63,60,60,77,74,70,70,null,null,104,104,104,null,50,60,70]
[70,1.05,1,1,1,null,null,null,null,null,null,null,null,null,null,null,null,null,null,null,null,null,null,null,null,105,55,53,50,50,66,63,60,60,77,74,70,70,null,null,105,105,105,null,50,60,70]
[71,1.05,1,1,1,null,null,null,null,null,null,null,null,null,null,null,null,null,null,null,null,null,null,null,null,106,55,53,50,50,66,63,60,60,77,74,70,70,null,null,106,106,106,null,50,60,70]
[72,1.05,1,1,1,null,null,null,null,null,null,null,null,null,null,null,null,null,null,null,null,null,null,null,null,107,55,53,50,50,66,63,60,60,77,74,70,70,null,null,107,107,107,null,50,60,70]
[73,1.05,1,1,1,null,null,null,null,null,null,null,null,null,null,null,null,null,null,null,null,null,null,null,null,108,55,53,50,50,66,63,60,60,77,74,70,70,null,null,108,108,108,null,50,60,70]
[74,1.05,1,1,1,null,null,null,null,null,null,null,null,null,null,null,null,null,null,null,null,null,null,null,null,109,55,53,50,50,66,63,60,60,77,74,70,70,null,null,109,109,109,null,50,60,70]
[75,1.05,1,1,1,null,null,null,null,null,null,null,null,null,null,null,null,null,null,null,null,null,null,null,null,110,55,53,50,50,66,63,60,60,77,74,70,70,null,null,110,110,110,null,50,60,70]
[76,1.05,1,1,1,null,null,null,null,null,null,null,null,null,null,null,null,null,null,null,null,null,null,null,null,111,55,53,50,50,66,63,60,60,77,74,70,70,null,null,111,111,111,null,50,60,70]
[77,1.05,1,1,1,null,null,null,null,null,null,null,null,null,null,null,null,null,null,null,null,null,null,null,null,112,55,53,50,50,66,63,60,60,77,74,70,70,null,null,112,112,112,null,50,60,70]
[78,1.05,1,1,1,null,null,null,null,null,null,null,null,null,null,null,null,null,null,null,null,null,null,null,null,113,55,53,50,50,66,63,60,60,77,74,70,70,null,null,113,113,113,null,51,60,70]
[79,1.05,1,1,1,null,null,null,null,null,null,null,null,null,null,null,null,null,null,null,null,null,null,null,null,114,55,53,50,50,66,63,60,60,77,74,70,70,null,null,114,114,114,null,51,60,70]
[80,1.05,1,1,1,null,null,null,null,null,null,null,null,null,null,null,null,null,null,null,null,null,null,null,null,115,55,53,50,50,66,63,60,60,77,74,70,70,null,null,115,115,115,null,52,60,70]
[81,1.05,1,1,1,null,null,null,null,null,null,null,null,null,null,null,null,null,null,null,null,null,null,null,null,116,55,53,50,50,66,63,60,60,77,74,70,70,null,null,116,116,116,null,52,60,70]
[82,1.05,1,1,1,null,null,null,null,null,null,null,null,null,null,null,null,null,null,null,null,null,null,null,null,117,55,53,50,50,66,63,60,60,77,74,70,70,null,null,117,117,117,null,53,60,70]
[83,1.05,1,1,1,null,null,null,null,null,null,null,null,null,null,null,null,null,null,null,null,null,null,null,null,118,55,53,50,50,66,63,60,60,77,74,70,70,null,null,118,118,118,null,53,60,71]
[84,1.05,1,1,1,null,null,null,null,null,null,null,null,null,null,null,null,null,null,null,null,null,null,null,null,119,55,53,50,50,66,63,60,60,77,74,70,70,null,null,119,119,119,null,54,60,71]
[85,1.05,1,1,1,null,null,null,null,null,null,null,null,null,null,null,null,null,null,null,null,null,null,null,null,120,55,53,50,50,66,63,60,60,77,74,70,70,null,null,120,120,120,null,54,60,72]
[86,1.05,1,1,1,null,null,null,null,null,null,null,null,null,null,null,null,null,null,null,null,null,null,null,null,121,55,53,50,50,66,63,60,60,77,74,70,70,null,null,121,121,121,null,54,61,73]
[87,1.05,1,1,1,null,null,null,null,null,null,null,null,null,null,null,null,null,null,null,null,null,null,null,null,122,55,53,50,50,66,63,60,60,77,74,70,70,null,null,122,122,122,null,55,61,73]
[88,1.05,1,1,1,null,null,null,null,null,null,null,null,null,null,null,null,null,null,null,null,null,null,null,null,123,55,53,50,50,66,63,60,60,77,74,70,70,null,null,123,123,123,null,55,62,74]
[89,1.05,1,1,1,null,null,null,null,null,null,null,null,null,null,null,null,null,null,null,null,null,null,null,null,124,55,53,50,50,66,63,60,60,77,74,70,70,null,null,124,124,124,null,56,62,74]
[90,1.05,1,1,1,null,null,null,null,null,null,null,null,null,null,null,null,null,null,null,null,null,null,null,null,125,55,53,50,50,66,63,60,60,77,74,70,70,null,null,125,125,125,null,56,63,75]
[91,1.05,1,1,1,null,null,null,null,null,null,null,null,null,null,null,null,null,null,null,null,null,null,null,null,126,55,53,50,50,66,63,60,60,77,74,70,70,null,null,126,126,126,null,57,63,76]
[92,1.05,1,1,1,null,null,null,null,null,null,null,null,null,null,null,null,null,null,null,null,null,null,null,null,127,55,53,50,50,66,63,60,60,77,74,70,70,null,null,127,127,127,null,57,64,76]
[93,1.05,1,1,1,null,null,null,null,null,null,null,null,null,null,null,null,null,null,null,null,null,null,null,null,128,55,53,50,50,66,63,60,60,77,74,70,70,null,null,128,128,128,null,58,64,77]
[94,1.05,1,1,1,null,null,null,null,null,null,null,null,null,null,null,null,null,null,null,null,null,null,null,null,129,55,53,50,50,66,63,60,60,77,74,70,70,null,null,129,129,129,null,58,65,77]
[95,1.1000000000000001,1.05,1,1,null,null,null,null,null,null,null,null,null,null,null,null,null,null,null,null,null,null,null,null,130,55,53,50,50,66,63,60,60,77,74,70,70,null,null,130,130,130,null,59,65,78]
[96,1.1000000000000001,1.05,1,1,null,null,null,null,null,null,null,null,null,null,null,null,null,null,null,null,null,null,null,null,131,55,53,50,50,66,63,60,60,77,74,70,70,null,null,131,131,131,null,59,66,79]
[97,1.1000000000000001,1.05,1,1,null,null,null,null,null,null,null,null,null,null,null,null,null,null,null,null,null,null,null,null,132,55,53,50,50,66,63,60,60,77,74,70,70,null,null,132,132,132,null,59,66,79]
[98,1.1000000000000001,1.05,1,1,null,null,null,null,null,null,null,null,null,null,null,null,null,null,null,null,null,null,null,null,133,55,53,50,50,66,63,60,60,77,74,70,70,null,null,133,133,133,null,60,67,80]
[99,1.1000000000000001,1.05,1,1,null,null,null,null,null,null,null,null,null,null,null,null,null,null,null,null,null,null,null,null,134,55,53,50,50,66,63,60,60,77,74,70,70,null,null,134,134,134,null,60,67,80]
[100,1.1000000000000001,1.05,1,1,null,null,null,null,null,null,null,null,null,null,null,null,null,null,null,null,null,null,null,null,135,55,53,50,50,66,63,60,60,77,74,70,70,null,null,135,135,135,null,61,68,81]
[101,1.1000000000000001,1.05,1,1,null,null,null,null,null,null,null,null,null,null,null,null,null,null,null,null,null,null,null,null,136,55,53,50,50,66,63,60,60,77,74,70,70,null,null,136,136,136,null,61,68,82]
[102,1.1000000000000001,1.05,1,1,null,null,null,null,null,null,null,null,null,null,null,null,null,null,null,null,null,null,null,null,137,55,53,50,50,66,63,60,60,77,74,70,70,null,null,137,137,137,null,62,69,82]
[103,1.1000000000000001,1.05,1,1,null,null,null,null,null,null,null,null,null,null,null,null,null,null,null,null,null,null,null,null,138,55,53,50,50,66,63,60,60,77,74,70,70,null,null,138,138,138,null,62,69,83]
[104,1.1000000000000001,1.05,1,1,null,null,null,null,null,null,null,null,null,null,null,null,null,null,null,null,null,null,null,null,139,55,53,50,50,66,63,60,60,77,74,70,70,null,null,139,139,139,null,63,70,83]
[105,1.1000000000000001,1.05,1,1,null,null,null,null,null,null,null,null,null,null,null,null,null,null,null,null,null,null,null,null,140,55,53,50,50,66,63,60,60,77,74,70,70,null,null,140,140,140,null,63,70,84]
[106,1.1000000000000001,1.05,1,1,null,null,null,null,null,null,null,null,null,null,null,null,null,null,null,null,null,null,null,null,141,55,53,50,50,66,63,60,60,77,74,70,70,null,null,141,141,141,null,63,71,85]
[107,1.1000000000000001,1.05,1,1,null,null,null,null,null,null,null,null,null,null,null,null,null,null,null,null,null,null,null,null,142,55,53,50,50,66,63,60,60,77,74,70,70,null,null,142,142,142,null,64,71,85]
[108,1.1000000000000001,1.05,1,1,null,null,null,null,null,null,null,null,null,null,null,null,null,null,null,null,null,null,null,null,143,55,53,50,50,66,63,60,60,77,74,70,70,null,null,143,143,143,null,64,72,86]
[109,1.1000000000000001,1.05,1,1,null,null,null,null,null,null,null,null,null,null,null,null,null,null,null,null,null,null,null,null,144,55,53,50,50,66,63,60,60,77,74,70,70,null,null,144,144,144,null,65,72,86]
[110,1.1000000000000001,1.05,1,1,null,null,null,null,null,null,null,null,null,null,null,null,null,null,null,null,null,null,null,null,145,55,53,50,50,66,63,60,60,77,74,70,70,null,null,145,145,145,null,65,73,87]
[111,1.1000000000000001,1.05,1,1,null,null,null,null,null,null,null,null,null,null,null,null,null,null,null,null,null,null,null,null,146,55,53,50,50,66,63,60,60,77,74,70,70,null,null,146,146,146,null,66,73,88]
[112,1.1000000000000001,1.05,1,1,null,null,null,null,null,null,null,null,null,null,null,null,null,null,null,null,null,null,null,null,147,55,53,50,50,66,63,60,60,77,74,70,70,null,null,147,147,147,null,66,74,88]
[113,1.1000000000000001,1.05,1,1,null,null,null,null,null,null,null,null,null,null,null,null,null,null,null,null,null,null,null,null,148,55,53,50,50,66,63,60,60,77,74,70,70,null,null,148,148,148,null,67,74,89]
[114,1.1000000000000001,1.05,1,1,null,null,null,null,null,null,null,null,null,null,null,null,null,null,null,null,null,null,null,null,149,55,53,50,50,66,63,60,60,77,74,70,70,null,null,149,149,149,null,{"$f":"IF(Z134*0.45<$V$4,$V$4,ROUND(0.45*Z134,0))","v":67},{"$f":"IF(Z134*0.5<$X$4,$X$4,ROUND(0.5*Z134,0))","v":75},{"$f":"IF(Z134*0.6<$Y$4,$Y$4,ROUND(0.6*Z134,0))","v":89}]
[115,1.1000000000000001,1.05,1,1,null,null,null,null,null,null,null,null,null,null,null,null,null,null,null,null,null,null,null,null,150,55,53,50,50,66,63,60,60,77,74,70,70,null,null,150,150,150,null,68,75,90]
[116,1.1000000000000001,1.05,1,1,null,null,null,null,null,null,null,null,null,null,null,null,null,null,null,null,null,null,null,null,151,55,53,50,50,66,63,60,60,77,74,70,70,null,null,151,151,151,null,68,76,91]
[117,1.1000000000000001,1.05,1,1,null,null,null,null,null,null,null,null,null,null,null,null,null,null,null,null,null,null,null,null,152,55,53,50,50,66,63,60,60,77,74,70,70,null,null,152,152,152,null,68,76,91]
[118,1.1000000000000001,1.05,1,1,null,null,null,null,null,null,null,null,null,null,null,null,null,null,null,null,null,null,null,null,153,55,53,50,50,66,63,60,60,77,74,70,70,null,null,153,153,153,null,69,77,92]
[119,1.1000000000000001,1.05,1,1,null,null,null,null,null,null,null,null,null,null,null,null,null,null,null,null,null,null,null,null,154,55,53,50,50,66,63,60,60,77,74,70,70,null,null,154,154,154,null,69,77,92]
[120,1.1000000000000001,1.05,1,1,null,null,null,null,null,null,null,null,null,null,null,null,null,null,null,null,null,null,null,null,155,55,53,50,50,66,63,60,60,77,74,70,70,null,null,155,155,155,null,70,78,93]
[121,1.1000000000000001,1.05,1,1,null,null,null,null,null,null,null,null,null,null,null,null,null,null,null,null,null,null,null,null,156,55,53,50,50,66,63,60,60,77,74,70,70,null,null,156,156,156,null,70,78,94]
[122,1.1000000000000001,1.05,1,1,null,null,null,null,null,null,null,null,null,null,null,null,null,null,null,null,null,null,null,null,157,55,53,50,50,66,63,60,60,77,74,70,70,null,null,157,157,157,null,71,79,94]
[123,1.1000000000000001,1.05,1,1,null,null,null,null,null,null,null,null,null,null,null,null,null,null,null,null,null,null,null,null,158,55,53,50,50,66,63,60,60,77,74,70,70,null,null,158,158,158,null,71,79,95]
[124,1.1000000000000001,1.05,1,1,null,null,null,null,null,null,null,null,null,null,null,null,null,null,null,null,null,null,null,null,159,55,53,50,50,66,63,60,60,77,74,70,70,null,null,159,159,159,null,72,80,95]
[125,1.1000000000000001,1.05,1,1,null,null,null,null,null,null,null,null,null,null,null,null,null,null,null,null,null,null,null,null,160,55,53,50,50,66,63,60,60,77,74,70,70,null,null,160,160,160,null,72,80,96]
[126,1.1000000000000001,1.05,1,1,null,null,null,null,null,null,null,null,null,null,null,null,null,null,null,null,null,null,null,null,161,55,53,50,50,66,63,60,60,77,74,70,70,null,null,161,161,161,null,72,81,97]
[127,1.1000000000000001,1.05,1,1,null,null,null,null,null,null,null,null,null,null,null,null,null,null,null,null,null,null,null,null,162,55,53,50,50,66,63,60,60,77,74,70,70,null,null,162,162,162,null,73,81,97]
[128,1.1000000000000001,1.05,1,1,null,null,null,null,null,null,null,null,null,null,null,null,null,null,null,null,null,null,null,null,163,55,53,50,50,66,63,60,60,77,74,70,70,null,null,163,163,163,null,73,82,98]
[129,1.1000000000000001,1.05,1,1,null,null,null,null,null,null,null,null,null,null,null,null,null,null,null,null,null,null,null,null,164,55,53,50,50,66,63,60,60,77,74,70,70,null,null,164,164,164,null,74,82,98]
[130,1.1000000000000001,1.05,1,1,null,null,null,null,null,null,null,null,null,null,null,null,null,null,null,null,null,null,null,null,165,55,53,50,50,66,63,60,60,77,74,70,70,null,null,165,165,165,null,74,83,99]
[131,1.1000000000000001,1.05,1,1,null,null,null,null,null,null,null,null,null,null,null,null,null,null,null,null,null,null,null,null,166,55,53,50,50,66,63,60,60,77,74,70,70,null,null,166,166,166,null,75,83,100]
[132,1.1000000000000001,1.05,1,1,null,null,null,null,null,null,null,null,null,null,null,null,null,null,null,null,null,null,null,null,167,55,53,50,50,66,63,60,60,77,74,70,70,null,null,167,167,167,null,75,84,100]
[133,1.1000000000000001,1.05,1,1,null,null,null,null,null,null,null,null,null,null,null,null,null,null,null,null,null,null,null,null,168,55,53,50,50,66,63,60,60,77,74,70,70,null,null,168,168,168,null,76,84,101]
[134,1.1000000000000001,1.05,1,1,null,null,null,null,null,null,null,null,null,null,null,null,null,null,null,null,null,null,null,null,169,55,53,50,50,66,63,60,60,77,74,70,70,null,null,169,169,169,null,76,85,101]
[135,1.1000000000000001,1.05,1,1,null,null,null,null,null,null,null,null,null,null,null,null,null,null,null,null,null,null,null,null,170,55,53,50,50,66,63,60,60,77,74,70,70,null,null,170,170,170,null,77,85,102]
[136,1.1000000000000001,1.05,1,1,null,null,null,null,null,null,null,null,null,null,null,null,null,null,null,null,null,null,null,null,171,109,55,53,50,109,66,63,60,109,77,74,70,null,null,171,171,171,null,77,86,103]
[137,1.1000000000000001,1.05,1,1,null,null,null,null,null,null,null,null,null,null,null,null,null,null,null,null,null,null,null,null,172,110,55,53,50,110,66,63,60,110,77,74,70,null,null,172,172,172,null,77,86,103]
[138,1.1000000000000001,1.05,1,1,null,null,null,null,null,null,null,null,null,null,null,null,null,null,null,null,null,null,null,null,173,111,55,53,50,111,66,63,60,111,77,74,70,null,null,173,173,173,null,78,87,104]
[139,1.1000000000000001,1.05,1,1,null,null,null,null,null,null,null,null,null,null,null,null,null,null,null,null,null,null,null,null,174,111,55,53,50,111,66,63,60,111,77,74,70,null,null,174,174,174,null,78,87,104]
[140,1.1000000000000001,1.05,1,1,null,null,null,null,null,null,null,null,null,null,null,null,null,null,null,null,null,null,null,null,175,112,55,53,50,112,66,63,60,112,77,74,70,null,null,175,175,175,null,79,88,105]
[141,1.1000000000000001,1.05,1,1,null,null,null,null,null,null,null,null,null,null,null,null,null,null,null,null,null,null,null,null,176,113,55,53,50,113,66,63,60,113,77,74,70,null,null,176,176,176,null,79,88,106]
[142,1.1000000000000001,1.05,1,1,null,null,null,null,null,null,null,null,null,null,null,null,null,null,null,null,null,null,null,null,177,113,55,53,50,113,66,63,60,113,77,74,70,null,null,177,177,177,null,80,89,106]
[143,1.1000000000000001,1.05,1,1,null,null,null,null,null,null,null,null,null,null,null,null,null,null,null,null,null,null,null,null,178,114,55,53,50,114,66,63,60,114,77,74,70,null,null,178,178,178,null,80,89,107]
[144,1.1000000000000001,1.05,1,1,null,null,null,null,null,null,null,null,null,null,null,null,null,null,null,null,null,null,null,null,179,115,55,53,50,115,66,63,60,115,77,74,70,null,null,179,179,179,null,81,90,107]
[145,1.1000000000000001,1.05,1,1,null,null,null,null,null,null,null,null,null,null,null,null,null,null,null,null,null,null,null,null,180,115,55,53,50,115,66,63,60,115,77,74,70,null,null,180,180,180,null,81,90,108]
[146,1.1000000000000001,1.05,1,1,null,null,null,null,null,null,null,null,null,null,null,null,null,null,null,null,null,null,null,null,181,116,55,53,50,116,66,63,60,116,77,74,70,null,null,181,181,181,null,81,91,109]
[147,1.1000000000000001,1.05,1,1,null,null,null,null,null,null,null,null,null,null,null,null,null,null,null,null,null,null,null,null,182,116,55,53,50,116,66,63,60,116,77,74,70,null,null,182,182,182,null,82,91,109]
[148,1.1000000000000001,1.05,1,1,null,null,null,null,null,null,null,null,null,null,null,null,null,null,null,null,null,null,null,null,183,117,55,53,50,117,66,63,60,117,77,74,70,null,null,183,183,183,null,82,92,110]
[149,1.1000000000000001,1.05,1,1,null,null,null,null,null,null,null,null,null,null,null,null,null,null,null,null,null,null,null,null,184,118,55,53,50,118,66,63,60,118,77,74,70,null,null,184,184,184,null,83,92,110]
[150,1.1000000000000001,1.05,1,1,null,null,null,null,null,null,null,null,null,null,null,null,null,null,null,null,null,null,null,null,185,118,55,53,50,118,66,63,60,118,77,74,70,null,null,185,185,185,null,83,93,111]
[151,1.1000000000000001,1.05,1,1,null,null,null,null,null,null,null,null,null,null,null,null,null,null,null,null,null,null,null,null,186,119,55,53,50,119,66,63,60,119,77,74,70,null,null,186,186,186,null,84,93,112]
[152,1.1000000000000001,1.05,1,1,null,null,null,null,null,null,null,null,null,null,null,null,null,null,null,null,null,null,null,null,187,120,55,53,50,120,66,63,60,120,77,74,70,null,null,187,187,187,null,84,94,112]
[153,1.1000000000000001,1.05,1,1,null,null,null,null,null,null,null,null,null,null,null,null,null,null,null,null,null,null,null,null,188,120,55,53,50,120,66,63,60,120,77,74,70,null,null,188,188,188,null,85,94,113]
[154,1.1000000000000001,1.05,1,1,null,null,null,null,null,null,null,null,null,null,null,null,null,null,null,null,null,null,null,null,189,121,55,53,50,121,66,63,60,121,77,74,70,null,null,189,189,189,null,85,95,113]
[155,1.1000000000000001,1.05,1,1,null,null,null,null,null,null,null,null,null,null,null,null,null,null,null,null,null,null,null,null,190,122,55,53,50,122,66,63,60,122,77,74,70,null,null,190,190,190,null,86,95,114]
[156,1.1000000000000001,1.05,1,1,null,null,null,null,null,null,null,null,null,null,null,null,null,null,null,null,null,null,null,null,191,122,55,53,50,122,66,63,60,122,77,74,70,null,null,191,191,191,null,86,96,115]
[157,1.1000000000000001,1.05,1,1,null,null,null,null,null,null,null,null,null,null,null,null,null,null,null,null,null,null,null,null,192,123,55,53,50,123,66,63,60,123,77,74,70,null,null,192,192,192,null,86,96,115]
[158,1.1000000000000001,1.05,1,1,null,null,null,null,null,null,null,null,null,null,null,null,null,null,null,null,null,null,null,null,193,124,55,53,50,124,66,63,60,124,77,74,70,null,null,193,193,193,null,87,97,116]
[159,1.1000000000000001,1.05,1,1,null,null,null,null,null,null,null,null,null,null,null,null,null,null,null,null,null,null,null,null,194,124,55,53,50,124,66,63,60,124,77,74,70,null,null,194,194,194,null,87,97,116]
[160,1.1000000000000001,1.05,1,1,null,null,null,null,null,null,null,null,null,null,null,null,null,null,null,null,null,null,null,null,195,125,55,53,50,125,66,63,60,125,77,74,70,null,null,195,195,195,null,88,98,117]
[161,1.1000000000000001,1.05,1,1,null,null,null,null,null,null,null,null,null,null,null,null,null,null,null,null,null,null,null,null,196,125,55,53,50,125,66,63,60,125,77,74,70,null,null,196,196,196,null,88,98,118]
[162,1.1000000000000001,1.05,1,1,null,null,null,null,null,null,null,null,null,null,null,null,null,null,null,null,null,null,null,null,197,126,55,53,50,126,66,63,60,126,77,74,70,null,null,197,197,197,null,89,99,118]
[163,1.1000000000000001,1.05,1,1,null,null,null,null,null,null,null,null,null,null,null,null,null,null,null,null,null,null,null,null,198,127,55,53,50,127,66,63,60,127,77,74,70,null,null,198,198,198,null,89,99,119]
[164,1.1000000000000001,1.05,1,1,null,null,null,null,null,null,null,null,null,null,null,null,null,null,null,null,null,null,null,null,199,127,55,53,50,127,66,63,60,127,77,74,70,null,null,199,199,199,null,90,100,119]
[165,1.1000000000000001,1.05,1,1,null,null,null,null,null,null,null,null,null,null,null,null,null,null,null,null,null,null,null,null,200,128,55,53,50,128,66,63,60,128,77,74,70,null,null,200,200,200,null,90,100,120]
[166,1.1000000000000001,1.05,1,1,null,null,null,null,null,null,null,null,null,null,null,null,null,null,null,null,null,null,null,null,201,{"$f":"ROUND(Z186*0.64,0)","v":129},58,55,50,129,69,66,60,129,81,77,70,null,null,201,201,201,null,90,101,121]
[167,1.1000000000000001,1.05,1,1,null,null,null,null,null,null,null,null,null,null,null,null,null,null,null,null,null,null,null,null,202,{"$f":"ROUND(Z187*0.64,0)","v":129},58,55,50,129,69,66,60,129,81,77,70,null,null,202,202,202,null,91,101,121]
[168,1.1000000000000001,1.05,1,1,null,null,null,null,null,null,null,null,null,null,null,null,null,null,null,null,null,null,null,null,203,130,58,55,50,130,69,66,60,130,81,77,70,null,null,203,203,203,null,91,102,122]
[169,1.1000000000000001,1.05,1,1,null,null,null,null,null,null,null,null,null,null,null,null,null,null,null,null,null,null,null,null,204,131,58,55,50,131,69,66,60,131,81,77,70,null,null,204,204,204,null,92,102,122]
[170,1.1499999999999999,1.1000000000000001,1.05,1,null,null,null,null,null,null,null,null,null,null,null,null,null,null,null,null,null,null,null,null,205,131,58,55,50,131,69,66,60,131,81,77,70,null,null,205,205,205,null,92,103,123]
[171,1.1499999999999999,1.1000000000000001,1.05,1,null,null,null,null,null,null,null,null,null,null,null,null,null,null,null,null,null,null,null,null,206,132,58,55,50,132,69,66,60,132,81,77,70,null,null,206,206,206,null,93,103,124]
[172,1.1499999999999999,1.1000000000000001,1.05,1,null,null,null,null,null,null,null,null,null,null,null,null,null,null,null,null,null,null,null,null,207,132,58,55,50,132,69,66,60,132,81,77,70,null,null,207,207,207,null,93,104,124]
[173,1.1499999999999999,1.1000000000000001,1.05,1,null,null,null,null,null,null,null,null,null,null,null,null,null,null,null,null,null,null,null,null,208,133,58,55,50,133,69,66,60,133,81,77,70,null,null,208,208,208,null,94,104,125]
[174,1.1499999999999999,1.1000000000000001,1.05,1,null,null,null,null,null,null,null,null,null,null,null,null,null,null,null,null,null,null,null,null,209,134,58,55,50,134,69,66,60,134,81,77,70,null,null,209,209,209,null,94,105,125]
[175,1.1499999999999999,1.1000000000000001,1.05,1,null,null,null,null,null,null,null,null,null,null,null,null,null,null,null,null,null,null,null,null,210,134,58,55,50,134,69,66,60,134,81,77,70,null,null,210,210,210,null,95,105,126]
[176,1.1499999999999999,1.1000000000000001,1.05,1,null,null,null,null,null,null,null,null,null,null,null,null,null,null,null,null,null,null,null,null,211,135,58,55,50,135,69,66,60,135,81,77,70,null,null,211,211,211,null,95,106,127]
[177,1.1499999999999999,1.1000000000000001,1.05,1,null,null,null,null,null,null,null,null,null,null,null,null,null,null,null,null,null,null,null,null,212,136,58,55,50,136,69,66,60,136,81,77,70,null,null,212,212,212,null,95,106,127]
[178,1.1499999999999999,1.1000000000000001,1.05,1,null,null,null,null,null,null,null,null,null,null,null,null,null,null,null,null,null,null,null,null,213,136,58,55,50,136,69,66,60,136,81,77,70,null,null,213,213,213,null,{"$f":"IF(Z198*0.45<$V$4,$V$4,ROUND(0.45*Z198,0))","v":96},{"$f":"IF(Z198*0.5<$X$4,$X$4,ROUND(0.5*Z198,0))","v":107},{"$f":"IF(Z198*0.6<$Y$4,$Y$4,ROUND(0.6*Z198,0))","v":128}]
[179,1.1499999999999999,1.1000000000000001,1.05,1,null,null,null,null,null,null,null,null,null,null,null,null,null,null,null,null,null,null,null,null,214,137,58,55,50,137,69,66,60,137,81,77,70,null,null,214,214,214,null,96,107,128]
[180,1.1499999999999999,1.1000000000000001,1.05,1,null,null,null,null,null,null,null,null,null,null,null,null,null,null,null,null,null,null,null,null,215,138,58,55,50,138,69,66,60,138,81,77,70,null,null,215,215,215,null,97,108,129]
[181,1.1499999999999999,1.1000000000000001,1.05,1,null,null,null,null,null,null,null,null,null,null,null,null,null,null,null,null,null,null,null,null,216,138,58,55,50,138,69,66,60,138,81,77,70,null,null,216,216,216,null,97,108,130]
[182,1.1499999999999999,1.1000000000000001,1.05,1,null,null,null,null,null,null,null,null,null,null,null,null,null,null,null,null,null,null,null,null,217,139,58,55,50,139,69,66,60,139,81,77,70,null,null,217,217,217,null,98,109,130]
[183,1.1499999999999999,1.1000000000000001,1.05,1,null,null,null,null,null,null,null,null,null,null,null,null,null,null,null,null,null,null,null,null,218,140,58,55,50,140,69,66,60,140,81,77,70,null,null,218,218,218,null,98,109,131]
[184,1.1499999999999999,1.1000000000000001,1.05,1,null,null,null,null,null,null,null,null,null,null,null,null,null,null,null,null,null,null,null,null,219,140,58,55,50,140,69,66,60,140,81,77,70,null,null,219,219,219,null,99,110,131]
[185,1.1499999999999999,1.1000000000000001,1.05,1,null,null,null,null,null,null,null,null,null,null,null,null,null,null,null,null,null,null,null,null,220,141,58,55,50,141,69,66,60,141,81,77,70,null,null,220,220,220,null,99,110,132]
[186,1.1499999999999999,1.1000000000000001,1.05,1,null,null,null,null,null,null,null,null,null,null,null,null,null,null,null,null,null,null,null,null,221,141,58,55,50,141,69,66,60,141,81,77,70,null,null,221,221,221,null,99,111,133]
[187,1.1499999999999999,1.1000000000000001,1.05,1,null,null,null,null,null,null,null,null,null,null,null,null,null,null,null,null,null,null,null,null,222,142,58,55,50,142,69,66,60,142,81,77,70,null,null,222,222,222,null,100,111,133]
[188,1.1499999999999999,1.1000000000000001,1.05,1,null,null,null,null,null,null,null,null,null,null,null,null,null,null,null,null,null,null,null,null,223,143,58,55,50,143,69,66,60,143,81,77,70,null,null,223,223,223,null,100,112,134]
[189,1.1499999999999999,1.1000000000000001,1.05,1,null,null,null,null,null,null,null,null,null,null,null,null,null,null,null,null,null,null,null,null,224,143,58,55,50,143,69,66,60,143,81,77,70,null,null,224,224,224,null,101,112,134]
[190,1.1499999999999999,1.1000000000000001,1.05,1,null,null,null,null,null,null,null,null,null,null,null,null,null,null,null,null,null,null,null,null,225,144,58,55,50,144,69,66,60,144,81,77,70,null,null,225,225,225,null,101,113,135]
[191,1.1499999999999999,1.1000000000000001,1.05,1,null,null,null,null,null,null,null,null,null,null,null,null,null,null,null,null,null,null,null,null,226,145,58,55,50,145,69,66,60,145,81,77,70,null,null,226,226,226,null,102,113,136]
[192,1.1499999999999999,1.1000000000000001,1.05,1,null,null,null,null,null,null,null,null,null,null,null,null,null,null,null,null,null,null,null,null,227,145,58,55,50,145,69,66,60,145,81,77,70,null,null,227,227,227,null,102,114,136]
[193,1.1499999999999999,1.1000000000000001,1.05,1,null,null,null,null,null,null,null,null,null,null,null,null,null,null,null,null,null,null,null,null,228,146,58,55,50,146,69,66,60,146,81,77,70,null,null,228,228,228,null,103,114,137]
[194,1.1499999999999999,1.1000000000000001,1.05,1,null,null,null,null,null,null,null,null,null,null,null,null,null,null,null,null,null,null,null,null,229,147,58,55,50,147,69,66,60,147,81,77,70,null,null,229,229,229,null,103,115,137]
[195,1.1499999999999999,1.1000000000000001,1.05,1,null,null,null,null,null,null,null,null,null,null,null,null,null,null,null,null,null,null,null,null,230,147,58,55,50,147,69,66,60,147,81,77,70,null,null,230,230,230,null,104,115,138]
[196,1.1499999999999999,1.1000000000000001,1.05,1,null,null,null,null,null,null,null,null,null,null,null,null,null,null,null,null,null,null,null,null,231,148,58,55,50,148,69,66,60,148,81,77,70,null,null,231,231,231,null,104,116,139]
[197,1.1499999999999999,1.1000000000000001,1.05,1,null,null,null,null,null,null,null,null,null,null,null,null,null,null,null,null,null,null,null,null,232,148,58,55,50,148,69,66,60,148,81,77,70,null,null,232,232,232,null,104,116,139]
[198,1.1499999999999999,1.1000000000000001,1.05,1,null,null,null,null,null,null,null,null,null,null,null,null,null,null,null,null,null,null,null,null,233,149,58,55,50,149,69,66,60,149,81,77,70,null,null,233,233,233,null,105,117,140]
[199,1.1499999999999999,1.1000000000000001,1.05,1,null,null,null,null,null,null,null,null,null,null,null,null,null,null,null,null,null,null,null,null,234,150,58,55,50,150,69,66,60,150,81,77,70,null,null,234,234,234,null,105,117,140]
[200,1.2,1.1499999999999999,1.1000000000000001,1,null,null,null,null,null,null,null,null,null,null,null,null,null,null,null,null,null,null,null,null,235,150,58,55,50,150,69,66,60,150,81,77,70,null,null,235,235,235,null,106,118,141]
[201,1.2,1.1499999999999999,1.1000000000000001,1,null,null,null,null,null,null,null,null,null,null,null,null,null,null,null,null,null,null,null,null,236,151,58,55,50,151,69,66,60,151,81,77,70,null,null,236,236,236,null,106,118,142]
[202,1.2,1.1499999999999999,1.1000000000000001,1,null,null,null,null,null,null,null,null,null,null,null,null,null,null,null,null,null,null,null,null,237,152,58,55,50,152,69,66,60,152,81,77,70,null,null,237,237,237,null,107,119,142]
[203,1.2,1.1499999999999999,1.1000000000000001,1,null,null,null,null,null,null,null,null,null,null,null,null,null,null,null,null,null,null,null,null,238,152,58,55,50,152,69,66,60,152,81,77,70,null,null,238,238,238,null,107,119,143]
[204,1.2,1.1499999999999999,1.1000000000000001,1,null,null,null,null,null,null,null,null,null,null,null,null,null,null,null,null,null,null,null,null,239,153,58,55,50,153,69,66,60,153,81,77,70,null,null,239,239,239,null,108,120,143]
[205,1.2,1.1499999999999999,1.1000000000000001,1,null,null,null,null,null,null,null,null,null,null,null,null,null,null,null,null,null,null,null,null,240,154,58,55,50,154,69,66,60,154,81,77,70,null,null,240,240,240,null,108,120,144]
[206,1.2,1.1499999999999999,1.1000000000000001,1,null,null,null,null,null,null,null,null,null,null,null,null,null,null,null,null,null,null,null,null,241,154,58,55,50,154,69,66,60,154,81,77,70,null,null,241,241,241,null,108,121,145]
[207,1.2,1.1499999999999999,1.1000000000000001,1,null,null,null,null,null,null,null,null,null,null,null,null,null,null,null,null,null,null,null,null,242,155,58,55,50,155,69,66,60,155,81,77,70,null,null,242,242,242,null,109,121,145]
[208,1.2,1.1499999999999999,1.1000000000000001,1,null,null,null,null,null,null,null,null,null,null,null,null,null,null,null,null,null,null,null,null,243,156,58,55,50,156,69,66,60,156,81,77,70,null,null,243,243,243,null,109,122,146]
[209,1.2,1.1499999999999999,1.1000000000000001,1,null,null,null,null,null,null,null,null,null,null,null,null,null,null,null,null,null,null,null,null,244,156,58,55,50,156,69,66,60,156,81,77,70,null,null,244,244,244,null,110,122,146]
[210,1.2,1.1499999999999999,1.1000000000000001,1,null,null,null,null,null,null,null,null,null,null,null,null,null,null,null,null,null,null,null,null,245,157,58,55,50,157,69,66,60,157,81,77,70,null,null,245,245,245,null,110,123,147]
[211,1.2,1.1499999999999999,1.1000000000000001,1,null,null,null,null,null,null,null,null,null,null,null,null,null,null,null,null,null,null,null,null,246,157,58,55,50,157,69,66,60,157,81,77,70,null,null,246,246,246,null,111,123,148]
[212,1.2,1.1499999999999999,1.1000000000000001,1,null,null,null,null,null,null,null,null,null,null,null,null,null,null,null,null,null,null,null,null,247,158,58,55,50,158,69,66,60,158,81,77,70,null,null,247,247,247,null,111,124,148]
[213,1.2,1.1499999999999999,1.1000000000000001,1,null,null,null,null,null,null,null,null,null,null,null,null,null,null,null,null,null,null,null,null,248,159,58,55,50,159,69,66,60,159,81,77,70,null,null,248,248,248,null,112,124,149]
[214,1.2,1.1499999999999999,1.1000000000000001,1,null,null,null,null,null,null,null,null,null,null,null,null,null,null,null,null,null,null,null,null,249,159,58,55,50,159,69,66,60,159,81,77,70,null,null,249,249,249,null,112,125,149]
[215,1.2,1.1499999999999999,1.1000000000000001,1,null,null,null,null,null,null,null,null,null,null,null,null,null,null,null,null,null,null,null,null,250,160,58,55,50,160,69,66,60,160,81,77,70,null,null,250,250,250,null,113,125,150]
[216,1.2,1.1499999999999999,1.1000000000000001,1,null,null,null,null,null,null,null,null,null,null,null,null,null,null,null,null,null,null,null,null,251,161,58,55,50,161,69,66,60,161,81,77,70,null,null,251,251,251,null,113,126,151]
[217,1.2,1.1499999999999999,1.1000000000000001,1,null,null,null,null,null,null,null,null,null,null,null,null,null,null,null,null,null,null,null,null,252,161,58,55,50,161,69,66,60,161,81,77,70,null,null,252,252,252,null,113,126,151]
[218,1.2,1.1499999999999999,1.1000000000000001,1,null,null,null,null,null,null,null,null,null,null,null,null,null,null,null,null,null,null,null,null,253,162,58,55,50,162,69,66,60,162,81,77,70,null,null,253,253,253,null,114,127,152]
[219,1.2,1.1499999999999999,1.1000000000000001,1,null,null,null,null,null,null,null,null,null,null,null,null,null,null,null,null,null,null,null,null,254,163,58,55,50,163,69,66,60,163,81,77,70,null,null,254,254,254,null,114,127,152]
[220,1.2,1.1499999999999999,1.1000000000000001,1,null,null,null,null,null,null,null,null,null,null,null,null,null,null,null,null,null,null,null,null,255,163,58,55,50,163,69,66,60,163,81,77,70,null,null,255,255,255,null,115,128,153]
[221,1.2,1.1499999999999999,1.1000000000000001,1,null,null,null,null,null,null,null,null,null,null,null,null,null,null,null,null,null,null,null,null,256,164,58,55,50,164,69,66,60,164,81,77,70,null,null,256,256,256,null,115,128,154]
[222,1.2,1.1499999999999999,1.1000000000000001,1,null,null,null,null,null,null,null,null,null,null,null,null,null,null,null,null,null,null,null,null,257,164,58,55,50,164,69,66,60,164,81,77,70,null,null,257,257,257,null,116,129,154]
[223,1.2,1.1499999999999999,1.1000000000000001,1,null,null,null,null,null,null,null,null,null,null,null,null,null,null,null,null,null,null,null,null,258,165,58,55,50,165,69,66,60,165,81,77,70,null,null,258,258,258,null,116,129,155]
[224,1.2,1.1499999999999999,1.1000000000000001,1,null,null,null,null,null,null,null,null,null,null,null,null,null,null,null,null,null,null,null,null,259,166,58,55,50,166,69,66,60,166,81,77,70,null,null,259,259,259,null,117,130,155]
[225,1.2,1.1499999999999999,1.1000000000000001,1,null,null,null,null,null,null,null,null,null,null,null,null,null,null,null,null,null,null,null,null,260,166,58,55,50,166,69,66,60,166,81,77,70,null,null,260,260,260,null,117,130,156]
[226,1.2,1.1499999999999999,1.1000000000000001,1,null,null,null,null,null,null,null,null,null,null,null,null,null,null,null,null,null,null,null,null,261,167,58,55,50,167,69,66,60,167,81,77,70,null,null,261,261,261,null,117,131,157]
[227,1.2,1.1499999999999999,1.1000000000000001,1,null,null,null,null,null,null,null,null,null,null,null,null,null,null,null,null,null,null,null,null,262,168,58,55,50,168,69,66,60,168,81,77,70,null,null,262,262,262,null,118,131,157]
[228,1.2,1.1499999999999999,1.1000000000000001,1,null,null,null,null,null,null,null,null,null,null,null,null,null,null,null,null,null,null,null,null,263,168,58,55,50,168,69,66,60,168,81,77,70,null,null,263,263,263,null,118,132,158]
[229,1.2,1.1499999999999999,1.1000000000000001,1,null,null,null,null,null,null,null,null,null,null,null,null,null,null,null,null,null,null,null,null,264,169,58,55,50,169,69,66,60,169,81,77,70,null,null,264,264,264,null,119,132,158]
[230,1.2,1.1499999999999999,1.1000000000000001,1,null,null,null,null,null,null,null,null,null,null,null,null,null,null,null,null,null,null,null,null,265,170,58,55,50,170,69,66,60,170,81,77,70,null,null,265,265,265,null,119,133,159]
[231,1.2,1.1499999999999999,1.1000000000000001,1,null,null,null,null,null,null,null,null,null,null,null,null,null,null,null,null,null,null,null,null,266,170,58,55,50,170,69,66,60,170,81,77,70,null,null,266,266,266,null,120,133,160]
[232,1.2,1.1499999999999999,1.1000000000000001,1,null,null,null,null,null,null,null,null,null,null,null,null,null,null,null,null,null,null,null,null,267,171,58,55,50,171,69,66,60,171,81,77,70,null,null,267,267,267,null,120,134,160]
[233,1.2,1.1499999999999999,1.1000000000000001,1,null,null,null,null,null,null,null,null,null,null,null,null,null,null,null,null,null,null,null,null,268,172,58,55,50,172,69,66,60,172,81,77,70,null,null,268,268,268,null,121,134,161]
[234,1.2,1.1499999999999999,1.1000000000000001,1,null,null,null,null,null,null,null,null,null,null,null,null,null,null,null,null,null,null,null,null,269,172,58,55,50,172,69,66,60,172,81,77,70,null,null,269,269,269,null,121,135,161]
[235,1.2,1.1499999999999999,1.1000000000000001,1,null,null,null,null,null,null,null,null,null,null,null,null,null,null,null,null,null,null,null,null,270,173,58,55,50,173,69,66,60,173,81,77,70,null,null,270,270,270,null,122,135,162]
[236,1.2,1.1499999999999999,1.1000000000000001,1,null,null,null,null,null,null,null,null,null,null,null,null,null,null,null,null,null,null,null,null,271,173,58,55,50,173,69,66,60,173,81,77,70,null,null,271,271,271,null,122,136,163]
[237,1.2,1.1499999999999999,1.1000000000000001,1,null,null,null,null,null,null,null,null,null,null,null,null,null,null,null,null,null,null,null,null,272,174,58,55,50,174,69,66,60,174,81,77,70,null,null,272,272,272,null,122,136,163]
[238,1.2,1.1499999999999999,1.1000000000000001,1,null,null,null,null,null,null,null,null,null,null,null,null,null,null,null,null,null,null,null,null,273,175,58,55,50,175,69,66,60,175,81,77,70,null,null,273,273,273,null,123,137,164]
[239,1.2,1.1499999999999999,1.1000000000000001,1,null,null,null,null,null,null,null,null,null,null,null,null,null,null,null,null,null,null,null,null,274,175,58,55,50,175,69,66,60,175,81,77,70,null,null,274,274,274,null,123,137,164]
[240,1.2,1.1499999999999999,1.1000000000000001,1,null,null,null,null,null,null,null,null,null,null,null,null,null,null,null,null,null,null,null,null,275,176,58,55,50,176,69,66,60,176,81,77,70,null,null,275,275,275,null,124,138,165]
[241,1.2,1.1499999999999999,1.1000000000000001,1,null,null,null,null,null,null,null,null,null,null,null,null,null,null,null,null,null,null,null,null,276,177,58,55,50,177,69,66,60,177,81,77,70,null,null,276,276,276,null,124,138,166]
[242,1.2,1.1499999999999999,1.1000000000000001,1,null,null,null,null,null,null,null,null,null,null,null,null,null,null,null,null,null,null,null,null,277,177,58,55,50,177,69,66,60,177,81,77,70,null,null,277,277,277,null,{"$f":"IF(Z262*0.45<$V$4,$V$4,ROUND(0.45*Z262,0))","v":125},{"$f":"IF(Z262*0.5<$X$4,$X$4,ROUND(0.5*Z262,0))","v":139},{"$f":"IF(Z262*0.6<$Y$4,$Y$4,ROUND(0.6*Z262,0))","v":166}]
[243,1.2,1.1499999999999999,1.1000000000000001,1,null,null,null,null,null,null,null,null,null,null,null,null,null,null,null,null,null,null,null,null,278,178,58,55,50,178,69,66,60,178,81,77,70,null,null,278,278,278,null,125,139,167]
[244,1.2,1.1499999999999999,1.1000000000000001,1,null,null,null,null,null,null,null,null,null,null,null,null,null,null,null,null,null,null,null,null,279,179,58,55,50,179,69,66,60,179,81,77,70,null,null,279,279,279,null,126,140,167]
[245,1.2,1.1499999999999999,1.1000000000000001,1,null,null,null,null,null,null,null,null,null,null,null,null,null,null,null,null,null,null,null,null,280,179,58,55,50,179,69,66,60,179,81,77,70,null,null,280,280,280,null,126,140,168]
[246,1.2,1.1499999999999999,1.1000000000000001,1,null,null,null,null,null,null,null,null,null,null,null,null,null,null,null,null,null,null,null,null,281,180,58,55,50,180,69,66,60,180,81,77,70,null,null,281,281,281,null,126,141,169]
[247,1.2,1.1499999999999999,1.1000000000000001,1,null,null,null,null,null,null,null,null,null,null,null,null,null,null,null,null,null,null,null,null,282,180,58,55,50,180,69,66,60,180,81,77,70,null,null,282,282,282,null,127,141,169]
[248,1.2,1.1499999999999999,1.1000000000000001,1,null,null,null,null,null,null,null,null,null,null,null,null,null,null,null,null,null,null,null,null,283,181,58,55,50,181,69,66,60,181,81,77,70,null,null,283,283,283,null,127,142,170]
[249,1.2,1.1499999999999999,1.1000000000000001,1,null,null,null,null,null,null,null,null,null,null,null,null,null,null,null,null,null,null,null,null,284,182,58,55,50,182,69,66,60,182,81,77,70,null,null,284,284,284,null,128,142,170]
[250,1.2,1.1499999999999999,1.1000000000000001,1,null,null,null,null,null,null,null,null,null,null,null,null,null,null,null,null,null,null,null,null,285,182,58,55,50,182,69,66,60,182,81,77,70,null,null,285,285,285,null,128,143,171]
[251,1.2,1.1499999999999999,1.1000000000000001,1,null,null,null,null,null,null,null,null,null,null,null,null,null,null,null,null,null,null,null,null,286,183,60,58,53,183,72,69,63,183,84,81,74,null,null,286,286,286,null,129,143,172]
[252,1.2,1.1499999999999999,1.1000000000000001,1,null,null,null,null,null,null,null,null,null,null,null,null,null,null,null,null,null,null,null,null,287,184,60,58,53,184,72,69,63,184,84,81,74,null,null,287,287,287,null,129,144,172]
[253,1.2,1.1499999999999999,1.1000000000000001,1,null,null,null,null,null,null,null,null,null,null,null,null,null,null,null,null,null,null,null,null,288,184,60,58,53,184,72,69,63,184,84,81,74,null,null,288,288,288,null,130,144,173]
[254,1.2,1.1499999999999999,1.1000000000000001,1,null,null,null,null,null,null,null,null,null,null,null,null,null,null,null,null,null,null,null,null,289,185,60,58,53,185,72,69,63,185,84,81,74,null,null,289,289,289,null,130,145,173]
[255,1.2,1.1499999999999999,1.1000000000000001,1,null,null,null,null,null,null,null,null,null,null,null,null,null,null,null,null,null,null,null,null,290,186,60,58,53,186,72,69,63,186,84,81,74,null,null,290,290,290,null,131,145,174]
[256,1.2,1.1499999999999999,1.1000000000000001,1,null,null,null,null,null,null,null,null,null,null,null,null,null,null,null,null,null,null,null,null,291,186,60,58,53,186,72,69,63,186,84,81,74,null,null,291,291,291,null,131,146,175]
[257,1.2,1.1499999999999999,1.1000000000000001,1,null,null,null,null,null,null,null,null,null,null,null,null,null,null,null,null,null,null,null,null,292,187,60,58,53,187,72,69,63,187,84,81,74,null,null,292,292,292,null,131,146,175]
[258,1.2,1.1499999999999999,1.1000000000000001,1,null,null,null,null,null,null,null,null,null,null,null,null,null,null,null,null,null,null,null,null,293,188,60,58,53,188,72,69,63,188,84,81,74,null,null,293,293,293,null,132,147,176]
[259,1.2,1.1499999999999999,1.1000000000000001,1,null,null,null,null,null,null,null,null,null,null,null,null,null,null,null,null,null,null,null,null,294,188,60,58,53,188,72,69,63,188,84,81,74,null,null,294,294,294,null,132,147,176]
[260,1.2,1.1499999999999999,1.1000000000000001,1,null,null,null,null,null,null,null,null,null,null,null,null,null,null,null,null,null,null,null,null,295,189,60,58,53,189,72,69,63,189,84,81,74,null,null,295,295,295,null,133,148,177]
[261,1.2,1.1499999999999999,1.1000000000000001,1,null,null,null,null,null,null,null,null,null,null,null,null,null,null,null,null,null,null,null,null,296,189,60,58,53,189,72,69,63,189,84,81,74,null,null,296,296,296,null,133,148,178]
[262,1.2,1.1499999999999999,1.1000000000000001,1,null,null,null,null,null,null,null,null,null,null,null,null,null,null,null,null,null,null,null,null,297,190,60,58,53,190,72,69,63,190,84,81,74,null,null,297,297,297,null,134,149,178]
[263,1.2,1.1499999999999999,1.1000000000000001,1,null,null,null,null,null,null,null,null,null,null,null,null,null,null,null,null,null,null,null,null,298,191,60,58,53,191,72,69,63,191,84,81,74,null,null,298,298,298,null,134,149,179]
[264,1.2,1.1499999999999999,1.1000000000000001,1,null,null,null,null,null,null,null,null,null,null,null,null,null,null,null,null,null,null,null,null,299,191,60,58,53,191,72,69,63,191,84,81,74,null,null,299,299,299,null,135,150,179]
[265,1.2,1.1499999999999999,1.1000000000000001,1,null,null,null,null,null,null,null,null,null,null,null,null,null,null,null,null,null,null,null,null,300,192,60,58,53,192,72,69,63,192,84,81,74,null,null,300,300,300,null,135,150,180]
[266,1.2,1.1499999999999999,1.1000000000000001,1,null,null,null,null,null,null,null,null,null,null,null,null,null,null,null,null,null,null,null,null,301,193,60,58,53,193,72,69,63,193,84,81,74,null,null,301,301,301,null,135,151,181]
[267,1.2,1.1499999999999999,1.1000000000000001,1,null,null,null,null,null,null,null,null,null,null,null,null,null,null,null,null,null,null,null,null,302,193,60,58,53,193,72,69,63,193,84,81,74,null,null,302,302,302,null,136,151,181]
[268,1.2,1.1499999999999999,1.1000000000000001,1,null,null,null,null,null,null,null,null,null,null,null,null,null,null,null,null,null,null,null,null,303,194,60,58,53,194,72,69,63,194,84,81,74,null,null,303,303,303,null,136,152,182]
[269,1.2,1.1499999999999999,1.1000000000000001,1,null,null,null,null,null,null,null,null,null,null,null,null,null,null,null,null,null,null,null,null,304,195,60,58,53,195,72,69,63,195,84,81,74,null,null,304,304,304,null,137,152,182]
[270,1.2,1.1499999999999999,1.1000000000000001,1,null,null,null,null,null,null,null,null,null,null,null,null,null,null,null,null,null,null,null,null,305,195,60,58,53,195,72,69,63,195,84,81,74,null,null,305,305,305,null,137,153,183]
[271,1.2,1.1499999999999999,1.1000000000000001,1,null,null,null,null,null,null,null,null,null,null,null,null,null,null,null,null,null,null,null,null,306,196,60,58,53,196,72,69,63,196,84,81,74,null,null,306,306,306,null,138,153,184]
[272,1.2,1.1499999999999999,1.1000000000000001,1,null,null,null,null,null,null,null,null,null,null,null,null,null,null,null,null,null,null,null,null,307,196,60,58,53,196,72,69,63,196,84,81,74,null,null,307,307,307,null,138,154,184]
[273,1.2,1.1499999999999999,1.1000000000000001,1,null,null,null,null,null,null,null,null,null,null,null,null,null,null,null,null,null,null,null,null,308,197,60,58,53,197,72,69,63,197,84,81,74,null,null,308,308,308,null,139,154,185]
[274,1.2,1.1499999999999999,1.1000000000000001,1,null,null,null,null,null,null,null,null,null,null,null,null,null,null,null,null,null,null,null,null,309,198,60,58,53,198,72,69,63,198,84,81,74,null,null,309,309,309,null,139,155,185]
[275,1.2,1.1499999999999999,1.1000000000000001,1,null,null,null,null,null,null,null,null,null,null,null,null,null,null,null,null,null,null,null,null,310,198,60,58,53,198,72,69,63,198,84,81,74,null,null,310,310,310,null,140,155,186]
[276,1.2,1.1499999999999999,1.1000000000000001,1,null,null,null,null,null,null,null,null,null,null,null,null,null,null,null,null,null,null,null,null,311,199,60,58,53,199,72,69,63,199,84,81,74,null,null,311,311,311,null,140,156,187]
[277,1.2,1.1499999999999999,1.1000000000000001,1,null,null,null,null,null,null,null,null,null,null,null,null,null,null,null,null,null,null,null,null,312,200,60,58,53,200,72,69,63,200,84,81,74,null,null,312,312,312,null,140,156,187]
[278,1.2,1.1499999999999999,1.1000000000000001,1,null,null,null,null,null,null,null,null,null,null,null,null,null,null,null,null,null,null,null,null,313,200,60,58,53,200,72,69,63,200,84,81,74,null,null,313,313,313,null,141,157,188]
[279,1.2,1.1499999999999999,1.1000000000000001,1,null,null,null,null,null,null,null,null,null,null,null,null,null,null,null,null,null,null,null,null,314,201,60,58,53,201,72,69,63,201,84,81,74,null,null,314,314,314,null,141,157,188]
[280,1.2,1.1499999999999999,1.1000000000000001,1,null,null,null,null,null,null,null,null,null,null,null,null,null,null,null,null,null,null,null,null,315,202,60,58,53,202,72,69,63,202,84,81,74,null,null,315,315,315,null,142,158,189]
[281,1.2,1.1499999999999999,1.1000000000000001,1,null,null,null,null,null,null,null,null,null,null,null,null,null,null,null,null,null,null,null,null,316,202,60,58,53,202,72,69,63,202,84,81,74,null,null,316,316,316,null,142,158,190]
[282,1.2,1.1499999999999999,1.1000000000000001,1,null,null,null,null,null,null,null,null,null,null,null,null,null,null,null,null,null,null,null,null,317,203,60,58,53,203,72,69,63,203,84,81,74,null,null,317,317,317,null,143,159,190]
[283,1.2,1.1499999999999999,1.1000000000000001,1,null,null,null,null,null,null,null,null,null,null,null,null,null,null,null,null,null,null,null,null,318,204,60,58,53,204,72,69,63,204,84,81,74,null,null,318,318,318,null,143,159,191]
[284,1.2,1.1499999999999999,1.1000000000000001,1,null,null,null,null,null,null,null,null,null,null,null,null,null,null,null,null,null,null,null,null,319,204,60,58,53,204,72,69,63,204,84,81,74,null,null,319,319,319,null,144,160,191]
[285,1.25,1.2,1.1499999999999999,1.05,null,null,null,null,null,null,null,null,null,null,null,null,null,null,null,null,null,null,null,null,320,205,60,58,53,205,72,69,63,205,84,81,74,null,null,320,320,320,null,144,160,192]
[286,1.25,1.2,1.1499999999999999,1.05,null,null,null,null,null,null,null,null,null,null,null,null,null,null,null,null,null,null,null,null,321,205,60,58,53,205,72,69,63,205,84,81,74,null,null,321,321,321,null,144,161,193]
[287,1.25,1.2,1.1499999999999999,1.05,null,null,null,null,null,null,null,null,null,null,null,null,null,null,null,null,null,null,null,null,322,206,60,58,53,206,72,69,63,206,84,81,74,null,null,322,322,322,null,145,161,193]
[288,1.25,1.2,1.1499999999999999,1.05,null,null,null,null,null,null,null,null,null,null,null,null,null,null,null,null,null,null,null,null,323,207,60,58,53,207,72,69,63,207,84,81,74,null,null,323,323,323,null,145,162,194]
[289,1.25,1.2,1.1499999999999999,1.05,null,null,null,null,null,null,null,null,null,null,null,null,null,null,null,null,null,null,null,null,324,207,60,58,53,207,72,69,63,207,84,81,74,null,null,324,324,324,null,146,162,194]
[290,1.25,1.2,1.1499999999999999,1.05,null,null,null,null,null,null,null,null,null,null,null,null,null,null,null,null,null,null,null,null,325,208,60,58,53,208,72,69,63,208,84,81,74,null,null,325,325,325,null,146,163,195]
[291,1.25,1.2,1.1499999999999999,1.05,null,null,null,null,null,null,null,null,null,null,null,null,null,null,null,null,null,null,null,null,326,209,60,58,53,209,72,69,63,209,84,81,74,null,null,326,326,326,null,147,163,196]
[292,1.25,1.2,1.1499999999999999,1.05,null,null,null,null,null,null,null,null,null,null,null,null,null,null,null,null,null,null,null,null,327,209,60,58,53,209,72,69,63,209,84,81,74,null,null,327,327,327,null,147,164,196]
[293,1.25,1.2,1.1499999999999999,1.05,null,null,null,null,null,null,null,null,null,null,null,null,null,null,null,null,null,null,null,null,328,210,60,58,53,210,72,69,63,210,84,81,74,null,null,328,328,328,null,148,164,197]
[294,1.25,1.2,1.1499999999999999,1.05,null,null,null,null,null,null,null,null,null,null,null,null,null,null,null,null,null,null,null,null,329,211,60,58,53,211,72,69,63,211,84,81,74,null,null,329,329,329,null,148,165,197]
[295,1.25,1.2,1.1499999999999999,1.05,null,null,null,null,null,null,null,null,null,null,null,null,null,null,null,null,null,null,null,null,330,211,60,58,53,211,72,69,63,211,84,81,74,null,null,330,330,330,null,149,165,198]
[296,1.25,1.2,1.1499999999999999,1.05,null,null,null,null,null,null,null,null,null,null,null,null,null,null,null,null,null,null,null,null,331,212,60,58,53,212,72,69,63,212,84,81,74,null,null,331,331,331,null,149,166,199]
[297,1.25,1.2,1.1499999999999999,1.05,null,null,null,null,null,null,null,null,null,null,null,null,null,null,null,null,null,null,null,null,332,212,60,58,53,212,72,69,63,212,84,81,74,null,null,332,332,332,null,149,166,199]
[298,1.25,1.2,1.1499999999999999,1.05,null,null,null,null,null,null,null,null,null,null,null,null,null,null,null,null,null,null,null,null,333,213,60,58,53,213,72,69,63,213,84,81,74,null,null,333,333,333,null,150,167,200]
[299,1.25,1.2,1.1499999999999999,1.05,null,null,null,null,null,null,null,null,null,null,null,null,null,null,null,null,null,null,null,null,334,214,60,58,53,214,72,69,63,214,84,81,74,null,null,334,334,334,null,150,167,200]
[300,1.25,1.2,1.1499999999999999,1.05,null,null,null,null,null,null,null,null,null,null,null,null,null,null,null,null,null,null,null,null,335,214,60,58,53,214,72,69,63,214,84,81,74,null,null,335,335,335,null,151,168,201]
[301,1.25,1.2,1.1499999999999999,1.05,null,null,null,null,null,null,null,null,null,null,null,null,null,null,null,null,null,null,null,null,336,215,60,58,53,215,72,69,63,215,84,81,74,null,null,336,336,336,null,151,168,202]
[302,1.25,1.2,1.1499999999999999,1.05,null,null,null,null,null,null,null,null,null,null,null,null,null,null,null,null,null,null,null,null,337,216,60,58,53,216,72,69,63,216,84,81,74,null,null,337,337,337,null,152,169,202]
[303,1.25,1.2,1.1499999999999999,1.05,null,null,null,null,null,null,null,null,null,null,null,null,null,null,null,null,null,null,null,null,338,216,60,58,53,216,72,69,63,216,84,81,74,null,null,338,338,338,null,152,169,203]
[304,1.25,1.2,1.1499999999999999,1.05,null,null,null,null,null,null,null,null,null,null,null,null,null,null,null,null,null,null,null,null,339,217,60,58,53,217,72,69,63,217,84,81,74,null,null,339,339,339,null,153,170,203]
[305,1.25,1.2,1.1499999999999999,1.05,null,null,null,null,null,null,null,null,null,null,null,null,null,null,null,null,null,null,null,null,340,218,60,58,53,218,72,69,63,218,84,81,74,null,null,340,340,340,null,153,170,204]
[306,1.25,1.2,1.1499999999999999,1.05,null,null,null,null,null,null,null,null,null,null,null,null,null,null,null,null,null,null,null,null,341,218,60,58,53,218,72,69,63,218,84,81,74,null,null,341,341,341,null,{"$f":"IF(Z326*0.45<$V$4,$V$4,ROUND(0.45*Z326,0))","v":153},{"$f":"IF(Z326*0.5<$X$4,$X$4,ROUND(0.5*Z326,0))","v":171},{"$f":"IF(Z326*0.6<$Y$4,$Y$4,ROUND(0.6*Z326,0))","v":205}]
[307,1.25,1.2,1.1499999999999999,1.05,null,null,null,null,null,null,null,null,null,null,null,null,null,null,null,null,null,null,null,null,342,219,60,58,53,219,72,69,63,219,84,81,74,null,null,342,342,342,null,154,171,205]
[308,1.25,1.2,1.1499999999999999,1.05,null,null,null,null,null,null,null,null,null,null,null,null,null,null,null,null,null,null,null,null,343,220,60,58,53,220,72,69,63,220,84,81,74,null,null,343,343,343,null,154,172,206]
[309,1.25,1.2,1.1499999999999999,1.05,null,null,null,null,null,null,null,null,null,null,null,null,null,null,null,null,null,null,null,null,344,220,60,58,53,220,72,69,63,220,84,81,74,null,null,344,344,344,null,155,172,206]
[310,1.25,1.2,1.1499999999999999,1.05,null,null,null,null,null,null,null,null,null,null,null,null,null,null,null,null,null,null,null,null,345,221,60,58,53,221,72,69,63,221,84,81,74,null,null,345,345,345,null,155,173,207]
[311,1.25,1.2,1.1499999999999999,1.05,null,null,null,null,null,null,null,null,null,null,null,null,null,null,null,null,null,null,null,null,346,221,60,58,53,221,72,69,63,221,84,81,74,null,null,346,346,346,null,156,173,208]
[312,1.25,1.2,1.1499999999999999,1.05,null,null,null,null,null,null,null,null,null,null,null,null,null,null,null,null,null,null,null,null,347,222,60,58,53,222,72,69,63,222,84,81,74,null,null,347,347,347,null,156,174,208]
[313,1.25,1.2,1.1499999999999999,1.05,null,null,null,null,null,null,null,null,null,null,null,null,null,null,null,null,null,null,null,null,348,223,60,58,53,223,72,69,63,223,84,81,74,null,null,348,348,348,null,157,174,209]
[314,1.25,1.2,1.1499999999999999,1.05,null,null,null,null,null,null,null,null,null,null,null,null,null,null,null,null,null,null,null,null,349,223,60,58,53,223,72,69,63,223,84,81,74,null,null,349,349,349,null,157,175,209]
[315,1.25,1.2,1.1499999999999999,1.05,null,null,null,null,null,null,null,null,null,null,null,null,null,null,null,null,null,null,null,null,350,224,60,58,53,224,72,69,63,224,84,81,74,null,null,350,350,350,null,158,175,210]
[316,1.25,1.2,1.1499999999999999,1.05,null,null,null,null,null,null,null,null,null,null,null,null,null,null,null,null,null,null,null,null,351,225,60,58,53,225,72,69,63,225,84,81,74,null,null,351,351,351,null,158,176,211]
[317,1.25,1.2,1.1499999999999999,1.05,null,null,null,null,null,null,null,null,null,null,null,null,null,null,null,null,null,null,null,null,352,225,60,58,53,225,72,69,63,225,84,81,74,null,null,352,352,352,null,158,176,211]
[318,1.25,1.2,1.1499999999999999,1.05,null,null,null,null,null,null,null,null,null,null,null,null,null,null,null,null,null,null,null,null,353,226,60,58,53,226,72,69,63,226,84,81,74,null,null,353,353,353,null,159,177,212]
[319,1.25,1.2,1.1499999999999999,1.05,null,null,null,null,null,null,null,null,null,null,null,null,null,null,null,null,null,null,null,null,354,227,60,58,53,227,72,69,63,227,84,81,74,null,null,354,354,354,null,159,177,212]
[320,1.25,1.2,1.1499999999999999,1.05,null,null,null,null,null,null,null,null,null,null,null,null,null,null,null,null,null,null,null,null,355,227,60,58,53,227,72,69,63,227,84,81,74,null,null,355,355,355,null,160,178,213]
[321,1.25,1.2,1.1499999999999999,1.05,null,null,null,null,null,null,null,null,null,null,null,null,null,null,null,null,null,null,null,null,356,228,60,58,53,228,72,69,63,228,84,81,74,null,null,356,356,356,null,160,178,214]
[322,1.25,1.2,1.1499999999999999,1.05,null,null,null,null,null,null,null,null,null,null,null,null,null,null,null,null,null,null,null,null,357,228,60,58,53,228,72,69,63,228,84,81,74,null,null,357,357,357,null,161,179,214]
[323,1.25,1.2,1.1499999999999999,1.05,null,null,null,null,null,null,null,null,null,null,null,null,null,null,null,null,null,null,null,null,358,229,60,58,53,229,72,69,63,229,84,81,74,null,null,358,358,358,null,161,179,215]
[324,1.25,1.2,1.1499999999999999,1.05,null,null,null,null,null,null,null,null,null,null,null,null,null,null,null,null,null,null,null,null,359,230,60,58,53,230,72,69,63,230,84,81,74,null,null,359,359,359,null,162,180,215]
[325,1.25,1.2,1.1499999999999999,1.05,null,null,null,null,null,null,null,null,null,null,null,null,null,null,null,null,null,null,null,null,360,230,60,58,53,230,72,69,63,230,84,81,74,null,null,360,360,360,null,162,180,216]
[326,1.25,1.2,1.1499999999999999,1.05,null,null,null,null,null,null,null,null,null,null,null,null,null,null,null,null,null,null,null,null,361,231,60,58,53,231,72,69,63,231,84,81,74,null,null,361,361,361,null,162,181,217]
[327,1.25,1.2,1.1499999999999999,1.05,null,null,null,null,null,null,null,null,null,null,null,null,null,null,null,null,null,null,null,null,362,232,60,58,53,232,72,69,63,232,84,81,74,null,null,362,362,362,null,163,181,217]
[328,1.25,1.2,1.1499999999999999,1.05,null,null,null,null,null,null,null,null,null,null,null,null,null,null,null,null,null,null,null,null,363,232,60,58,53,232,72,69,63,232,84,81,74,null,null,363,363,363,null,163,182,218]
[329,1.25,1.2,1.1499999999999999,1.05,null,null,null,null,null,null,null,null,null,null,null,null,null,null,null,null,null,null,null,null,364,233,60,58,53,233,72,69,63,233,84,81,74,null,null,364,364,364,null,164,182,218]
[330,1.25,1.2,1.1499999999999999,1.05,null,null,null,null,null,null,null,null,null,null,null,null,null,null,null,null,null,null,null,null,365,234,60,58,53,234,72,69,63,234,84,81,74,null,null,365,365,365,null,164,183,219]
[331,1.25,1.2,1.1499999999999999,1.05,null,null,null,null,null,null,null,null,null,null,null,null,null,null,null,null,null,null,null,null,366,234,60,58,53,234,72,69,63,234,84,81,74,null,null,366,366,366,null,165,183,220]
[332,1.25,1.2,1.1499999999999999,1.05,null,null,null,null,null,null,null,null,null,null,null,null,null,null,null,null,null,null,null,null,367,235,60,58,53,235,72,69,63,235,84,81,74,null,null,367,367,367,null,165,184,220]
[333,1.25,1.2,1.1499999999999999,1.05,null,null,null,null,null,null,null,null,null,null,null,null,null,null,null,null,null,null,null,null,368,236,60,58,53,236,72,69,63,236,84,81,74,null,null,368,368,368,null,166,184,221]
[334,1.25,1.2,1.1499999999999999,1.05,null,null,null,null,null,null,null,null,null,null,null,null,null,null,null,null,null,null,null,null,369,236,60,58,53,236,72,69,63,236,84,81,74,null,null,369,369,369,null,166,185,221]
[335,1.25,1.2,1.1499999999999999,1.05,null,null,null,null,null,null,null,null,null,null,null,null,null,null,null,null,null,null,null,null,370,237,60,58,53,237,72,69,63,237,84,81,74,null,null,370,370,370,null,167,185,222]
[336,1.25,1.2,1.1499999999999999,1.05,null,null,null,null,null,null,null,null,null,null,null,null,null,null,null,null,null,null,null,null,371,237,60,58,53,237,72,69,63,237,84,81,74,null,null,371,371,371,null,167,186,223]
[337,1.25,1.2,1.1499999999999999,1.05,null,null,null,null,null,null,null,null,null,null,null,null,null,null,null,null,null,null,null,null,372,238,60,58,53,238,72,69,63,238,84,81,74,null,null,372,372,372,null,167,186,223]
[338,1.25,1.2,1.1499999999999999,1.05,null,null,null,null,null,null,null,null,null,null,null,null,null,null,null,null,null,null,null,null,373,239,60,58,53,239,72,69,63,239,84,81,74,null,null,373,373,373,null,168,187,224]
[339,1.25,1.2,1.1499999999999999,1.05,null,null,null,null,null,null,null,null,null,null,null,null,null,null,null,null,null,null,null,null,374,239,60,58,53,239,72,69,63,239,84,81,74,null,null,374,374,374,null,168,187,224]
[340,1.25,1.2,1.1499999999999999,1.05,null,null,null,null,null,null,null,null,null,null,null,null,null,null,null,null,null,null,null,null,375,240,60,58,53,240,72,69,63,240,84,81,74,null,null,375,375,375,null,169,188,225]
[341,1.25,1.2,1.1499999999999999,1.05,null,null,null,null,null,null,null,null,null,null,null,null,null,null,null,null,null,null,null,null,376,241,60,58,53,241,72,69,63,241,84,81,74,null,null,376,376,376,null,169,188,226]
[342,1.25,1.2,1.1499999999999999,1.05,null,null,null,null,null,null,null,null,null,null,null,null,null,null,null,null,null,null,null,null,377,241,60,58,53,241,72,69,63,241,84,81,74,null,null,377,377,377,null,170,189,226]
[343,1.25,1.2,1.1499999999999999,1.05,null,null,null,null,null,null,null,null,null,null,null,null,null,null,null,null,null,null,null,null,378,242,60,58,53,242,72,69,63,242,84,81,74,null,null,378,378,378,null,170,189,227]
[344,1.25,1.2,1.1499999999999999,1.05,null,null,null,null,null,null,null,null,null,null,null,null,null,null,null,null,null,null,null,null,379,243,60,58,53,243,72,69,63,243,84,81,74,null,null,379,379,379,null,171,190,227]
[345,1.25,1.2,1.1499999999999999,1.05,null,null,null,null,null,null,null,null,null,null,null,null,null,null,null,null,null,null,null,null,380,243,60,58,53,243,72,69,63,243,84,81,74,null,null,380,380,380,null,171,190,228]
[346,1.25,1.2,1.1499999999999999,1.05,null,null,null,null,null,null,null,null,null,null,null,null,null,null,null,null,null,null,null,null,381,244,60,58,53,244,72,69,63,244,84,81,74,null,null,381,381,381,null,171,191,229]
[347,1.25,1.2,1.1499999999999999,1.05,null,null,null,null,null,null,null,null,null,null,null,null,null,null,null,null,null,null,null,null,382,244,60,58,53,244,72,69,63,244,84,81,74,null,null,382,382,382,null,172,191,229]
[348,1.25,1.2,1.1499999999999999,1.05,null,null,null,null,null,null,null,null,null,null,null,null,null,null,null,null,null,null,null,null,383,245,60,58,53,245,72,69,63,245,84,81,74,null,null,383,383,383,null,172,192,230]
[349,1.25,1.2,1.1499999999999999,1.05,null,null,null,null,null,null,null,null,null,null,null,null,null,null,null,null,null,null,null,null,384,246,60,58,53,246,72,69,63,246,84,81,74,null,null,384,384,384,null,173,192,230]
[350,1.25,1.2,1.1499999999999999,1.05,null,null,null,null,null,null,null,null,null,null,null,null,null,null,null,null,null,null,null,null,385,246,60,58,53,246,72,69,63,246,84,81,74,null,null,385,385,385,null,173,193,231]
[351,1.25,1.2,1.1499999999999999,1.05,null,null,null,null,null,null,null,null,null,null,null,null,null,null,null,null,null,null,null,null,386,247,60,58,53,247,72,69,63,247,84,81,74,null,null,386,386,386,null,174,193,232]
[352,1.25,1.2,1.1499999999999999,1.05,null,null,null,null,null,null,null,null,null,null,null,null,null,null,null,null,null,null,null,null,387,248,60,58,53,248,72,69,63,248,84,81,74,null,null,387,387,387,null,174,194,232]
[353,1.25,1.2,1.1499999999999999,1.05,null,null,null,null,null,null,null,null,null,null,null,null,null,null,null,null,null,null,null,null,388,248,60,58,53,248,72,69,63,248,84,81,74,null,null,388,388,388,null,175,194,233]
[354,1.25,1.2,1.1499999999999999,1.05,null,null,null,null,null,null,null,null,null,null,null,null,null,null,null,null,null,null,null,null,389,249,60,58,53,249,72,69,63,249,84,81,74,null,null,389,389,389,null,175,195,233]
[355,1.25,1.2,1.1499999999999999,1.05,null,null,null,null,null,null,null,null,null,null,null,null,null,null,null,null,null,null,null,null,390,250,60,58,53,250,72,69,63,250,84,81,74,null,null,390,390,390,null,176,195,234]
[356,1.25,1.2,1.1499999999999999,1.05,null,null,null,null,null,null,null,null,null,null,null,null,null,null,null,null,null,null,null,null,391,250,60,58,53,250,72,69,63,250,84,81,74,null,null,391,391,391,null,176,196,235]
[357,1.25,1.2,1.1499999999999999,1.05,null,null,null,null,null,null,null,null,null,null,null,null,null,null,null,null,null,null,null,null,392,251,60,58,53,251,72,69,63,251,84,81,74,null,null,392,392,392,null,176,196,235]
[358,1.25,1.2,1.1499999999999999,1.05,null,null,null,null,null,null,null,null,null,null,null,null,null,null,null,null,null,null,null,null,393,252,60,58,53,252,72,69,63,252,84,81,74,null,null,393,393,393,null,177,197,236]
[359,1.25,1.2,1.1499999999999999,1.05,null,null,null,null,null,null,null,null,null,null,null,null,null,null,null,null,null,null,null,null,394,252,60,58,53,252,72,69,63,252,84,81,74,null,null,394,394,394,null,177,197,236]
[360,1.25,1.2,1.1499999999999999,1.05,null,null,null,null,null,null,null,null,null,null,null,null,null,null,null,null,null,null,null,null,395,253,60,58,53,253,72,69,63,253,84,81,74,null,null,395,395,395,null,178,198,237]
[361,1.25,1.2,1.1499999999999999,1.05,null,null,null,null,null,null,null,null,null,null,null,null,null,null,null,null,null,null,null,null,396,253,60,58,53,253,72,69,63,253,84,81,74,null,null,396,396,396,null,178,198,238]
[362,1.25,1.2,1.1499999999999999,1.05,null,null,null,null,null,null,null,null,null,null,null,null,null,null,null,null,null,null,null,null,397,254,60,58,53,254,72,69,63,254,84,81,74,null,null,397,397,397,null,179,199,238]
[363,1.25,1.2,1.1499999999999999,1.05,null,null,null,null,null,null,null,null,null,null,null,null,null,null,null,null,null,null,null,null,398,255,60,58,53,255,72,69,63,255,84,81,74,null,null,398,398,398,null,179,199,239]
[364,1.25,1.2,1.1499999999999999,1.05,null,null,null,null,null,null,null,null,null,null,null,null,null,null,null,null,null,null,null,null,399,255,60,58,53,255,72,69,63,255,84,81,74,null,null,399,399,399,null,180,200,239]
[365,1.25,1.2,1.1499999999999999,1.05,null,null,null,null,null,null,null,null,null,null,null,null,null,null,null,null,null,null,null,null,400,256,60,58,53,256,72,69,63,256,84,81,74,null,null,400,400,400,null,180,200,240]
[366,1.25,1.2,1.1499999999999999,1.05,null,null,null,null,null,null,null,null,null,null,null,null,null,null,null,null,null,null,null,null,401,257,60,58,53,257,72,69,63,257,84,81,74,null,null,401,401,401,null,180,201,241]
[367,1.25,1.2,1.1499999999999999,1.05,null,null,null,null,null,null,null,null,null,null,null,null,null,null,null,null,null,null,null,null,402,257,60,58,53,257,72,69,63,257,84,81,74,null,null,402,402,402,null,181,201,241]
[368,1.25,1.2,1.1499999999999999,1.05,null,null,null,null,null,null,null,null,null,null,null,null,null,null,null,null,null,null,null,null,403,258,60,58,53,258,72,69,63,258,84,81,74,null,null,403,403,403,null,181,202,242]
[369,1.25,1.2,1.1499999999999999,1.05,null,null,null,null,null,null,null,null,null,null,null,null,null,null,null,null,null,null,null,null,404,259,60,58,53,259,72,69,63,259,84,81,74,null,null,404,404,404,null,182,202,242]
[370,1.25,1.2,1.1499999999999999,1.05,null,null,null,null,null,null,null,null,null,null,null,null,null,null,null,null,null,null,null,null,405,259,60,58,53,259,72,69,63,259,84,81,74,null,null,405,405,405,null,{"$f":"IF(Z390*0.45<$V$4,$V$4,ROUND(0.45*Z390,0))","v":182},{"$f":"IF(Z390*0.5<$X$4,$X$4,ROUND(0.5*Z390,0))","v":203},{"$f":"IF(Z390*0.6<$Y$4,$Y$4,ROUND(0.6*Z390,0))","v":243}]
[371,1.25,1.2,1.1499999999999999,1.05,null,null,null,null,null,null,null,null,null,null,null,null,null,null,null,null,null,null,null,null,406,260,60,58,53,260,72,69,63,260,84,81,74,null,null,406,406,406,null,183,203,244]
[372,1.25,1.2,1.1499999999999999,1.05,null,null,null,null,null,null,null,null,null,null,null,null,null,null,null,null,null,null,null,null,407,260,60,58,53,260,72,69,63,260,84,81,74,null,null,407,407,407,null,183,204,244]
[373,1.25,1.2,1.1499999999999999,1.05,null,null,null,null,null,null,null,null,null,null,null,null,null,null,null,null,null,null,null,null,408,261,60,58,53,261,72,69,63,261,84,81,74,null,null,408,408,408,null,184,204,245]
[374,1.25,1.2,1.1499999999999999,1.05,null,null,null,null,null,null,null,null,null,null,null,null,null,null,null,null,null,null,null,null,409,262,60,58,53,262,72,69,63,262,84,81,74,null,null,409,409,409,null,184,205,245]
[375,1.25,1.2,1.1499999999999999,1.05,null,null,null,null,null,null,null,null,null,null,null,null,null,null,null,null,null,null,null,null,410,262,60,58,53,262,72,69,63,262,84,81,74,null,null,410,410,410,null,185,205,246]
[376,1.25,1.2,1.1499999999999999,1.05,null,null,null,null,null,null,null,null,null,null,null,null,null,null,null,null,null,null,null,null,411,263,60,58,53,263,72,69,63,263,84,81,74,null,null,411,411,411,null,185,206,247]
[377,1.25,1.2,1.1499999999999999,1.05,null,null,null,null,null,null,null,null,null,null,null,null,null,null,null,null,null,null,null,null,412,264,60,58,53,264,72,69,63,264,84,81,74,null,null,412,412,412,null,185,206,247]
[378,1.25,1.2,1.1499999999999999,1.05,null,null,null,null,null,null,null,null,null,null,null,null,null,null,null,null,null,null,null,null,413,264,60,58,53,264,72,69,63,264,84,81,74,null,null,413,413,413,null,186,207,248]
[379,1.25,1.2,1.1499999999999999,1.05,null,null,null,null,null,null,null,null,null,null,null,null,null,null,null,null,null,null,null,null,414,265,60,58,53,265,72,69,63,265,84,81,74,null,null,414,414,414,null,186,207,248]
[380,1.25,1.2,1.1499999999999999,1.05,null,null,null,null,null,null,null,null,null,null,null,null,null,null,null,null,null,null,null,null,415,266,60,58,53,266,72,69,63,266,84,81,74,null,null,415,415,415,null,187,208,249]
[381,1.25,1.2,1.1499999999999999,1.05,null,null,null,null,null,null,null,null,null,null,null,null,null,null,null,null,null,null,null,null,416,266,60,58,53,266,72,69,63,266,84,81,74,null,null,416,416,416,null,187,208,250]
[382,1.25,1.2,1.1499999999999999,1.05,null,null,null,null,null,null,null,null,null,null,null,null,null,null,null,null,null,null,null,null,417,267,60,58,53,267,72,69,63,267,84,81,74,null,null,417,417,417,null,188,209,250]
[383,1.25,1.2,1.1499999999999999,1.05,null,null,null,null,null,null,null,null,null,null,null,null,null,null,null,null,null,null,null,null,418,268,60,58,53,268,72,69,63,268,84,81,74,null,null,418,418,418,null,188,209,251]
[384,1.25,1.2,1.1499999999999999,1.05,null,null,null,null,null,null,null,null,null,null,null,null,null,null,null,null,null,null,null,null,419,268,60,58,53,268,72,69,63,268,84,81,74,null,null,419,419,419,null,189,210,251]
[385,1.25,1.2,1.1499999999999999,1.05,null,null,null,null,null,null,null,null,null,null,null,null,null,null,null,null,null,null,null,null,420,269,60,58,53,269,72,69,63,269,84,81,74,null,null,420,420,420,null,189,210,252]
[386,1.25,1.2,1.1499999999999999,1.05,null,null,null,null,null,null,null,null,null,null,null,null,null,null,null,null,null,null,null,null,421,269,60,58,53,269,72,69,63,269,84,81,74,null,null,421,421,421,null,189,211,253]
[387,1.25,1.2,1.1499999999999999,1.05,null,null,null,null,null,null,null,null,null,null,null,null,null,null,null,null,null,null,null,null,422,270,60,58,53,270,72,69,63,270,84,81,74,null,null,422,422,422,null,190,211,253]
[388,1.25,1.2,1.1499999999999999,1.05,null,null,null,null,null,null,null,null,null,null,null,null,null,null,null,null,null,null,null,null,423,271,60,58,53,271,72,69,63,271,84,81,74,null,null,423,423,423,null,190,212,254]
[389,1.25,1.2,1.1499999999999999,1.05,null,null,null,null,null,null,null,null,null,null,null,null,null,null,null,null,null,null,null,null,424,271,60,58,53,271,72,69,63,271,84,81,74,null,null,424,424,424,null,191,212,254]
[390,1.25,1.2,1.1499999999999999,1.05,null,null,null,null,null,null,null,null,null,null,null,null,null,null,null,null,null,null,null,null,425,272,60,58,53,272,72,69,63,272,84,81,74,null,null,425,425,425,null,191,213,255]
[391,1.25,1.2,1.1499999999999999,1.05,null,null,null,null,null,null,null,null,null,null,null,null,null,null,null,null,null,null,null,null,426,273,60,58,53,273,72,69,63,273,84,81,74,null,null,426,426,426,null,192,213,256]
[392,1.25,1.2,1.1499999999999999,1.05,null,null,null,null,null,null,null,null,null,null,null,null,null,null,null,null,null,null,null,null,427,273,60,58,53,273,72,69,63,273,84,81,74,null,null,427,427,427,null,192,214,256]
[393,1.25,1.2,1.1499999999999999,1.05,null,null,null,null,null,null,null,null,null,null,null,null,null,null,null,null,null,null,null,null,428,274,60,58,53,274,72,69,63,274,84,81,74,null,null,428,428,428,null,193,214,257]
[394,1.25,1.2,1.1499999999999999,1.05,null,null,null,null,null,null,null,null,null,null,null,null,null,null,null,null,null,null,null,null,429,275,60,58,53,275,72,69,63,275,84,81,74,null,null,429,429,429,null,193,215,257]
[395,1.25,1.2,1.1499999999999999,1.05,null,null,null,null,null,null,null,null,null,null,null,null,null,null,null,null,null,null,null,null,430,275,60,58,53,275,72,69,63,275,84,81,74,null,null,430,430,430,null,194,215,258]
[396,1.25,1.2,1.1499999999999999,1.05,null,null,null,null,null,null,null,null,null,null,null,null,null,null,null,null,null,null,null,null,431,276,60,58,53,276,72,69,63,276,84,81,74,null,null,431,431,431,null,194,216,259]
[397,1.25,1.2,1.1499999999999999,1.05,null,null,null,null,null,null,null,null,null,null,null,null,null,null,null,null,null,null,null,null,432,276,60,58,53,276,72,69,63,276,84,81,74,null,null,432,432,432,null,194,216,259]
[398,1.25,1.2,1.1499999999999999,1.05,null,null,null,null,null,null,null,null,null,null,null,null,null,null,null,null,null,null,null,null,433,277,60,58,53,277,72,69,63,277,84,81,74,null,null,433,433,433,null,195,217,260]
[399,1.25,1.2,1.1499999999999999,1.05,null,null,null,null,null,null,null,null,null,null,null,null,null,null,null,null,null,null,null,null,434,278,60,58,53,278,72,69,63,278,84,81,74,null,null,434,434,434,null,195,217,260]
[400,1.25,1.2,1.1499999999999999,1.05,null,null,null,null,null,null,null,null,null,null,null,null,null,null,null,null,null,null,null,null,435,278,60,58,53,278,72,69,63,278,84,81,74,null,null,435,435,435,null,196,218,261]
[401,1.25,1.2,1.1499999999999999,1.05,null,null,null,null,null,null,null,null,null,null,null,null,null,null,null,null,null,null,null,null,436,279,60,58,53,279,72,69,63,279,84,81,74,null,null,436,436,436,null,196,218,262]
[402,1.25,1.2,1.1499999999999999,1.05,null,null,null,null,null,null,null,null,null,null,null,null,null,null,null,null,null,null,null,null,437,280,60,58,53,280,72,69,63,280,84,81,74,null,null,437,437,437,null,197,219,262]
[403,1.25,1.2,1.1499999999999999,1.05,null,null,null,null,null,null,null,null,null,null,null,null,null,null,null,null,null,null,null,null,438,280,60,58,53,280,72,69,63,280,84,81,74,null,null,438,438,438,null,197,219,263]
[404,1.25,1.2,1.1499999999999999,1.05,null,null,null,null,null,null,null,null,null,null,null,null,null,null,null,null,null,null,null,null,439,281,60,58,53,281,72,69,63,281,84,81,74,null,null,439,439,439,null,198,220,263]
[405,1.25,1.2,1.1499999999999999,1.05,null,null,null,null,null,null,null,null,null,null,null,null,null,null,null,null,null,null,null,null,440,282,60,58,53,282,72,69,63,282,84,81,74,null,null,440,440,440,null,198,220,264]
[406,1.25,1.2,1.1499999999999999,1.05,null,null,null,null,null,null,null,null,null,null,null,null,null,null,null,null,null,null,null,null,441,282,60,58,53,282,72,69,63,282,84,81,74,null,null,441,441,441,null,198,221,265]
[407,1.25,1.2,1.1499999999999999,1.05,null,null,null,null,null,null,null,null,null,null,null,null,null,null,null,null,null,null,null,null,442,283,60,58,53,283,72,69,63,283,84,81,74,null,null,442,442,442,null,199,221,265]
[408,1.25,1.2,1.1499999999999999,1.05,null,null,null,null,null,null,null,null,null,null,null,null,null,null,null,null,null,null,null,null,443,284,60,58,53,284,72,69,63,284,84,81,74,null,null,443,443,443,null,199,222,266]
[409,1.25,1.2,1.1499999999999999,1.05,null,null,null,null,null,null,null,null,null,null,null,null,null,null,null,null,null,null,null,null,444,284,60,58,53,284,72,69,63,284,84,81,74,null,null,444,444,444,null,200,222,266]
[410,1.25,1.2,1.1499999999999999,1.05,null,null,null,null,null,null,null,null,null,null,null,null,null,null,null,null,null,null,null,null,445,285,60,58,53,285,72,69,63,285,84,81,74,null,null,445,445,445,null,200,223,267]
[411,1.25,1.2,1.1499999999999999,1.05,null,null,null,null,null,null,null,null,null,null,null,null,null,null,null,null,null,null,null,null,446,285,60,58,53,285,72,69,63,285,84,81,74,null,null,446,446,446,null,201,223,268]
[412,1.25,1.2,1.1499999999999999,1.05,null,null,null,null,null,null,null,null,null,null,null,null,null,null,null,null,null,null,null,null,447,286,60,58,53,286,72,69,63,286,84,81,74,null,null,447,447,447,null,201,224,268]
[413,1.25,1.2,1.1499999999999999,1.05,null,null,null,null,null,null,null,null,null,null,null,null,null,null,null,null,null,null,null,null,448,287,60,58,53,287,72,69,63,287,84,81,74,null,null,448,448,448,null,202,224,269]
[414,1.25,1.2,1.1499999999999999,1.05,null,null,null,null,null,null,null,null,null,null,null,null,null,null,null,null,null,null,null,null,449,287,60,58,53,287,72,69,63,287,84,81,74,null,null,449,449,449,null,202,225,269]
[415,1.25,1.2,1.1499999999999999,1.05,null,null,null,null,null,null,null,null,null,null,null,null,null,null,null,null,null,null,null,null,450,288,60,58,53,288,72,69,63,288,84,81,74,null,null,450,450,450,null,203,225,270]
[416,1.25,1.2,1.1499999999999999,1.05,null,null,null,null,null,null,null,null,null,null,null,null,null,null,null,null,null,null,null,null,451,289,60,58,53,289,72,69,63,289,84,81,74,null,null,451,451,451,null,203,226,271]
[417,1.25,1.2,1.1499999999999999,1.05,null,null,null,null,null,null,null,null,null,null,null,null,null,null,null,null,null,null,null,null,452,289,60,58,53,289,72,69,63,289,84,81,74,null,null,452,452,452,null,203,226,271]
[418,1.25,1.2,1.1499999999999999,1.05,null,null,null,null,null,null,null,null,null,null,null,null,null,null,null,null,null,null,null,null,453,290,60,58,53,290,72,69,63,290,84,81,74,null,null,453,453,453,null,204,227,272]
[419,1.25,1.2,1.1499999999999999,1.05,null,null,null,null,null,null,null,null,null,null,null,null,null,null,null,null,null,null,null,null,454,291,60,58,53,291,72,69,63,291,84,81,74,null,null,454,454,454,null,204,227,272]
[420,1.25,1.2,1.1499999999999999,1.05,null,null,null,null,null,null,null,null,null,null,null,null,null,null,null,null,null,null,null,null,455,291,60,58,53,291,72,69,63,291,84,81,74,null,null,455,455,455,null,205,228,273]
[421,1.25,1.2,1.1499999999999999,1.05,null,null,null,null,null,null,null,null,null,null,null,null,null,null,null,null,null,null,null,null,456,292,60,58,53,292,72,69,63,292,84,81,74,null,null,456,456,456,null,205,228,274]
[422,1.25,1.2,1.1499999999999999,1.05,null,null,null,null,null,null,null,null,null,null,null,null,null,null,null,null,null,null,null,null,457,292,60,58,53,292,72,69,63,292,84,81,74,null,null,457,457,457,null,206,229,274]
[423,1.25,1.2,1.1499999999999999,1.05,null,null,null,null,null,null,null,null,null,null,null,null,null,null,null,null,null,null,null,null,458,293,60,58,53,293,72,69,63,293,84,81,74,null,null,458,458,458,null,206,229,275]
[424,1.25,1.2,1.1499999999999999,1.05,null,null,null,null,null,null,null,null,null,null,null,null,null,null,null,null,null,null,null,null,459,294,60,58,53,294,72,69,63,294,84,81,74,null,null,459,459,459,null,207,230,275]
[425,1.25,1.2,1.1499999999999999,1.05,null,null,null,null,null,null,null,null,null,null,null,null,null,null,null,null,null,null,null,null,460,294,60,58,53,294,72,69,63,294,84,81,74,null,null,460,460,460,null,207,230,276]
[426,1.25,1.2,1.1499999999999999,1.05,null,null,null,null,null,null,null,null,null,null,null,null,null,null,null,null,null,null,null,null,461,295,60,58,53,295,72,69,63,295,84,81,74,null,null,461,461,461,null,207,231,277]
[427,1.25,1.2,1.1499999999999999,1.05,null,null,null,null,null,null,null,null,null,null,null,null,null,null,null,null,null,null,null,null,462,296,60,58,53,296,72,69,63,296,84,81,74,null,null,462,462,462,null,208,231,277]
[428,1.25,1.2,1.1499999999999999,1.05,null,null,null,null,null,null,null,null,null,null,null,null,null,null,null,null,null,null,null,null,463,296,60,58,53,296,72,69,63,296,84,81,74,null,null,463,463,463,null,208,232,278]
[429,1.25,1.2,1.1499999999999999,1.05,null,null,null,null,null,null,null,null,null,null,null,null,null,null,null,null,null,null,null,null,464,297,60,58,53,297,72,69,63,297,84,81,74,null,null,464,464,464,null,209,232,278]
[430,1.25,1.2,1.1499999999999999,1.05,null,null,null,null,null,null,null,null,null,null,null,null,null,null,null,null,null,null,null,null,465,298,60,58,53,298,72,69,63,298,84,81,74,null,null,465,465,465,null,209,233,279]
[431,1.25,1.2,1.1499999999999999,1.05,null,null,null,null,null,null,null,null,null,null,null,null,null,null,null,null,null,null,null,null,466,298,60,58,53,298,72,69,63,298,84,81,74,null,null,466,466,466,null,210,233,280]
[432,1.25,1.2,1.1499999999999999,1.05,null,null,null,null,null,null,null,null,null,null,null,null,null,null,null,null,null,null,null,null,467,299,60,58,53,299,72,69,63,299,84,81,74,null,null,467,467,467,null,210,234,280]
[433,1.25,1.2,1.1499999999999999,1.05,null,null,null,null,null,null,null,null,null,null,null,null,null,null,null,null,null,null,null,null,468,300,60,58,53,300,72,69,63,300,84,81,74,null,null,468,468,468,null,211,234,281]
[434,1.25,1.2,1.1499999999999999,1.05,null,null,null,null,null,null,null,null,null,null,null,null,null,null,null,null,null,null,null,null,469,300,60,58,53,300,72,69,63,300,84,81,74,null,null,469,469,469,null,{"$f":"IF(Z454*0.45<$V$4,$V$4,ROUND(0.45*Z454,0))","v":211},{"$f":"IF(Z454*0.5<$X$4,$X$4,ROUND(0.5*Z454,0))","v":235},{"$f":"IF(Z454*0.6<$Y$4,$Y$4,ROUND(0.6*Z454,0))","v":281}]
[435,1.25,1.2,1.1499999999999999,1.05,null,null,null,null,null,null,null,null,null,null,null,null,null,null,null,null,null,null,null,null,470,301,60,58,53,301,72,69,63,301,84,81,74,null,null,470,470,470,null,212,235,282]
[436,1.25,1.2,1.1499999999999999,1.05,null,null,null,null,null,null,null,null,null,null,null,null,null,null,null,null,null,null,null,null,471,301,60,58,53,301,72,69,63,301,84,81,74,null,null,471,471,471,null,212,236,283]
[437,1.25,1.2,1.1499999999999999,1.05,null,null,null,null,null,null,null,null,null,null,null,null,null,null,null,null,null,null,null,null,472,302,60,58,53,302,72,69,63,302,84,81,74,null,null,472,472,472,null,212,236,283]
[438,1.25,1.2,1.1499999999999999,1.05,null,null,null,null,null,null,null,null,null,null,null,null,null,null,null,null,null,null,null,null,473,303,60,58,53,303,72,69,63,303,84,81,74,null,null,473,473,473,null,213,237,284]
[439,1.25,1.2,1.1499999999999999,1.05,null,null,null,null,null,null,null,null,null,null,null,null,null,null,null,null,null,null,null,null,474,303,60,58,53,303,72,69,63,303,84,81,74,null,null,474,474,474,null,213,237,284]
[440,1.25,1.2,1.1499999999999999,1.05,null,null,null,null,null,null,null,null,null,null,null,null,null,null,null,null,null,null,null,null,475,304,60,58,53,304,72,69,63,304,84,81,74,null,null,475,475,475,null,214,238,285]
[441,1.25,1.2,1.1499999999999999,1.05,null,null,null,null,null,null,null,null,null,null,null,null,null,null,null,null,null,null,null,null,476,305,60,58,53,305,72,69,63,305,84,81,74,null,null,476,476,476,null,214,238,286]
[442,1.25,1.2,1.1499999999999999,1.05,null,null,null,null,null,null,null,null,null,null,null,null,null,null,null,null,null,null,null,null,477,305,60,58,53,305,72,69,63,305,84,81,74,null,null,477,477,477,null,215,239,286]
[443,1.25,1.2,1.1499999999999999,1.05,null,null,null,null,null,null,null,null,null,null,null,null,null,null,null,null,null,null,null,null,478,306,60,58,53,306,72,69,63,306,84,81,74,null,null,478,478,478,null,215,239,287]
[444,1.25,1.2,1.1499999999999999,1.05,null,null,null,null,null,null,null,null,null,null,null,null,null,null,null,null,null,null,null,null,479,307,60,58,53,307,72,69,63,307,84,81,74,null,null,479,479,479,null,216,240,287]
[445,1.25,1.2,1.1499999999999999,1.05,null,null,null,null,null,null,null,null,null,null,null,null,null,null,null,null,null,null,null,null,480,307,60,58,53,307,72,69,63,307,84,81,74,null,null,480,480,480,null,216,240,288]
[446,1.25,1.2,1.1499999999999999,1.05,null,null,null,null,null,null,null,null,null,null,null,null,null,null,null,null,null,null,null,null,481,308,60,58,53,308,72,69,63,308,84,81,74,null,null,481,481,481,null,216,241,289]
[447,1.25,1.2,1.1499999999999999,1.05,null,null,null,null,null,null,null,null,null,null,null,null,null,null,null,null,null,null,null,null,482,308,60,58,53,308,72,69,63,308,84,81,74,null,null,482,482,482,null,217,241,289]
[448,1.25,1.2,1.1499999999999999,1.05,null,null,null,null,null,null,null,null,null,null,null,null,null,null,null,null,null,null,null,null,483,309,60,58,53,309,72,69,63,309,84,81,74,null,null,483,483,483,null,217,242,290]
[449,1.25,1.2,1.1499999999999999,1.05,null,null,null,null,null,null,null,null,null,null,null,null,null,null,null,null,null,null,null,null,484,310,60,58,53,310,72,69,63,310,84,81,74,null,null,484,484,484,null,218,242,290]
[450,1.25,1.2,1.1499999999999999,1.05,null,null,null,null,null,null,null,null,null,null,null,null,null,null,null,null,null,null,null,null,485,310,60,58,53,310,72,69,63,310,84,81,74,null,null,485,485,485,null,218,243,291]
[451,1.25,1.2,1.1499999999999999,1.05,null,null,null,null,null,null,null,null,null,null,null,null,null,null,null,null,null,null,null,null,486,311,60,58,53,311,72,69,63,311,84,81,74,null,null,486,486,486,null,219,243,292]
[452,1.25,1.2,1.1499999999999999,1.05,null,null,null,null,null,null,null,null,null,null,null,null,null,null,null,null,null,null,null,null,487,312,60,58,53,312,72,69,63,312,84,81,74,null,null,487,487,487,null,219,244,292]
[453,1.25,1.2,1.1499999999999999,1.05,null,null,null,null,null,null,null,null,null,null,null,null,null,null,null,null,null,null,null,null,488,312,60,58,53,312,72,69,63,312,84,81,74,null,null,488,488,488,null,220,244,293]
[454,1.25,1.2,1.1499999999999999,1.05,null,null,null,null,null,null,null,null,null,null,null,null,null,null,null,null,null,null,null,null,489,313,60,58,53,313,72,69,63,313,84,81,74,null,null,489,489,489,null,220,245,293]
[455,1.25,1.2,1.1499999999999999,1.05,null,null,null,null,null,null,null,null,null,null,null,null,null,null,null,null,null,null,null,null,490,314,60,58,53,314,72,69,63,314,84,81,74,null,null,490,490,490,null,221,245,294]
[456,1.25,1.2,1.1499999999999999,1.05,null,null,null,null,null,null,null,null,null,null,null,null,null,null,null,null,null,null,null,null,491,314,60,58,53,314,72,69,63,314,84,81,74,null,null,491,491,491,null,221,246,295]
[457,1.25,1.2,1.1499999999999999,1.05,null,null,null,null,null,null,null,null,null,null,null,null,null,null,null,null,null,null,null,null,492,315,60,58,53,315,72,69,63,315,84,81,74,null,null,492,492,492,null,221,246,295]
[458,1.25,1.2,1.1499999999999999,1.05,null,null,null,null,null,null,null,null,null,null,null,null,null,null,null,null,null,null,null,null,493,316,60,58,53,316,72,69,63,316,84,81,74,null,null,493,493,493,null,222,247,296]
[459,1.25,1.2,1.1499999999999999,1.05,null,null,null,null,null,null,null,null,null,null,null,null,null,null,null,null,null,null,null,null,494,316,60,58,53,316,72,69,63,316,84,81,74,null,null,494,494,494,null,222,247,296]
[460,1.25,1.2,1.1499999999999999,1.05,null,null,null,null,null,null,null,null,null,null,null,null,null,null,null,null,null,null,null,null,495,317,60,58,53,317,72,69,63,317,84,81,74,null,null,495,495,495,null,223,248,297]
[461,1.25,1.2,1.1499999999999999,1.05,null,null,null,null,null,null,null,null,null,null,null,null,null,null,null,null,null,null,null,null,496,317,60,58,53,317,72,69,63,317,84,81,74,null,null,496,496,496,null,223,248,298]
[462,1.25,1.2,1.1499999999999999,1.05,null,null,null,null,null,null,null,null,null,null,null,null,null,null,null,null,null,null,null,null,497,318,60,58,53,318,72,69,63,318,84,81,74,null,null,497,497,497,null,224,249,298]
[463,1.25,1.2,1.1499999999999999,1.05,null,null,null,null,null,null,null,null,null,null,null,null,null,null,null,null,null,null,null,null,498,319,60,58,53,319,72,69,63,319,84,81,74,null,null,498,498,498,null,224,249,299]
[464,1.25,1.2,1.1499999999999999,1.05,null,null,null,null,null,null,null,null,null,null,null,null,null,null,null,null,null,null,null,null,499,319,60,58,53,319,72,69,63,319,84,81,74,null,null,499,499,499,null,225,250,299]
[465,1.25,1.2,1.1499999999999999,1.05,null,null,null,null,null,null,null,null,null,null,null,null,null,null,null,null,null,null,null,null,500,320,60,58,53,320,72,69,63,320,84,81,74,null,null,500,500,500,null,225,250,300]
[466,1.25,1.2,1.1499999999999999,1.05,null,null,null,null,null,null,null,null,null,null,null,null,null,null,null,null,null,null,null,null,501,321,60,58,53,321,72,69,63,321,84,81,74,null,null,501,501,501,null,225,251,301]
[467,1.25,1.2,1.1499999999999999,1.05,null,null,null,null,null,null,null,null,null,null,null,null,null,null,null,null,null,null,null,null,502,321,60,58,53,321,72,69,63,321,84,81,74,null,null,502,502,502,null,226,251,301]
[468,1.25,1.2,1.1499999999999999,1.05,null,null,null,null,null,null,null,null,null,null,null,null,null,null,null,null,null,null,null,null,503,322,60,58,53,322,72,69,63,322,84,81,74,null,null,503,503,503,null,226,252,302]
[469,1.25,1.2,1.1499999999999999,1.05,null,null,null,null,null,null,null,null,null,null,null,null,null,null,null,null,null,null,null,null,504,323,60,58,53,323,72,69,63,323,84,81,74,null,null,504,504,504,null,227,252,302]
[470,1.25,1.2,1.1499999999999999,1.05,null,null,null,null,null,null,null,null,null,null,null,null,null,null,null,null,null,null,null,null,505,323,60,58,53,323,72,69,63,323,84,81,74,null,null,505,505,505,null,227,253,303]
[471,1.25,1.2,1.1499999999999999,1.05,null,null,null,null,null,null,null,null,null,null,null,null,null,null,null,null,null,null,null,null,506,324,60,58,53,324,72,69,63,324,84,81,74,null,null,506,506,506,null,228,253,304]
[472,1.25,1.2,1.1499999999999999,1.05,null,null,null,null,null,null,null,null,null,null,null,null,null,null,null,null,null,null,null,null,507,324,60,58,53,324,72,69,63,324,84,81,74,null,null,507,507,507,null,228,254,304]
[473,1.25,1.2,1.1499999999999999,1.05,null,null,null,null,null,null,null,null,null,null,null,null,null,null,null,null,null,null,null,null,508,325,60,58,53,325,72,69,63,325,84,81,74,null,null,508,508,508,null,229,254,305]
[474,1.25,1.2,1.1499999999999999,1.05,null,null,null,null,null,null,null,null,null,null,null,null,null,null,null,null,null,null,null,null,509,326,60,58,53,326,72,69,63,326,84,81,74,null,null,509,509,509,null,229,255,305]
[475,1.25,1.2,1.1499999999999999,1.05,null,null,null,null,null,null,null,null,null,null,null,null,null,null,null,null,null,null,null,null,510,326,60,58,53,326,72,69,63,326,84,81,74,null,null,510,510,510,null,230,255,306]
[476,1.25,1.2,1.1499999999999999,1.05,null,null,null,null,null,null,null,null,null,null,null,null,null,null,null,null,null,null,null,null,511,327,60,58,53,327,72,69,63,327,84,81,74,null,null,511,511,511,null,230,256,307]
[477,1.25,1.2,1.1499999999999999,1.05,null,null,null,null,null,null,null,null,null,null,null,null,null,null,null,null,null,null,null,null,512,328,60,58,53,328,72,69,63,328,84,81,74,null,null,512,512,512,null,230,256,307]
[478,1.25,1.2,1.1499999999999999,1.05,null,null,null,null,null,null,null,null,null,null,null,null,null,null,null,null,null,null,null,null,513,328,60,58,53,328,72,69,63,328,84,81,74,null,null,513,513,513,null,231,257,308]
[479,1.25,1.2,1.1499999999999999,1.05,null,null,null,null,null,null,null,null,null,null,null,null,null,null,null,null,null,null,null,null,514,329,60,58,53,329,72,69,63,329,84,81,74,null,null,514,514,514,null,231,257,308]
[480,1.25,1.2,1.1499999999999999,1.05,null,null,null,null,null,null,null,null,null,null,null,null,null,null,null,null,null,null,null,null,515,330,60,58,53,330,72,69,63,330,84,81,74,null,null,515,515,515,null,232,258,309]
[481,1.25,1.2,1.1499999999999999,1.05,null,null,null,null,null,null,null,null,null,null,null,null,null,null,null,null,null,null,null,null,516,330,60,58,53,330,72,69,63,330,84,81,74,null,null,516,516,516,null,232,258,310]
[482,1.25,1.2,1.1499999999999999,1.05,null,null,null,null,null,null,null,null,null,null,null,null,null,null,null,null,null,null,null,null,517,331,60,58,53,331,72,69,63,331,84,81,74,null,null,517,517,517,null,233,259,310]
[483,1.25,1.2,1.1499999999999999,1.05,null,null,null,null,null,null,null,null,null,null,null,null,null,null,null,null,null,null,null,null,518,332,60,58,53,332,72,69,63,332,84,81,74,null,null,518,518,518,null,233,259,311]
[484,1.25,1.2,1.1499999999999999,1.05,null,null,null,null,null,null,null,null,null,null,null,null,null,null,null,null,null,null,null,null,519,332,60,58,53,332,72,69,63,332,84,81,74,null,null,519,519,519,null,234,260,311]
[485,1.25,1.2,1.1499999999999999,1.05,null,null,null,null,null,null,null,null,null,null,null,null,null,null,null,null,null,null,null,null,520,333,60,58,53,333,72,69,63,333,84,81,74,null,null,520,520,520,null,234,260,312]
[486,1.25,1.2,1.1499999999999999,1.05,null,null,null,null,null,null,null,null,null,null,null,null,null,null,null,null,null,null,null,null,521,333,60,58,53,333,72,69,63,333,84,81,74,null,null,521,521,521,null,234,261,313]
[487,1.25,1.2,1.1499999999999999,1.05,null,null,null,null,null,null,null,null,null,null,null,null,null,null,null,null,null,null,null,null,522,334,60,58,53,334,72,69,63,334,84,81,74,null,null,522,522,522,null,235,261,313]
[488,1.25,1.2,1.1499999999999999,1.05,null,null,null,null,null,null,null,null,null,null,null,null,null,null,null,null,null,null,null,null,523,335,60,58,53,335,72,69,63,335,84,81,74,null,null,523,523,523,null,235,262,314]
[489,1.25,1.2,1.1499999999999999,1.05,null,null,null,null,null,null,null,null,null,null,null,null,null,null,null,null,null,null,null,null,524,335,60,58,53,335,72,69,63,335,84,81,74,null,null,524,524,524,null,236,262,314]
[490,1.25,1.2,1.1499999999999999,1.05,null,null,null,null,null,null,null,null,null,null,null,null,null,null,null,null,null,null,null,null,525,336,60,58,53,336,72,69,63,336,84,81,74,null,null,525,525,525,null,236,263,315]
[491,1.25,1.2,1.1499999999999999,1.05,null,null,null,null,null,null,null,null,null,null,null,null,null,null,null,null,null,null,null,null,526,337,60,58,53,337,72,69,63,337,84,81,74,null,null,526,526,526,null,237,263,316]
[492,1.25,1.2,1.1499999999999999,1.05,null,null,null,null,null,null,null,null,null,null,null,null,null,null,null,null,null,null,null,null,527,337,60,58,53,337,72,69,63,337,84,81,74,null,null,527,527,527,null,237,264,316]
[493,1.25,1.2,1.1499999999999999,1.05,null,null,null,null,null,null,null,null,null,null,null,null,null,null,null,null,null,null,null,null,528,338,60,58,53,338,72,69,63,338,84,81,74,null,null,528,528,528,null,238,264,317]
[494,1.25,1.2,1.1499999999999999,1.05,null,null,null,null,null,null,null,null,null,null,null,null,null,null,null,null,null,null,null,null,529,339,60,58,53,339,72,69,63,339,84,81,74,null,null,529,529,529,null,238,265,317]
[495,1.25,1.2,1.1499999999999999,1.05,null,null,null,null,null,null,null,null,null,null,null,null,null,null,null,null,null,null,null,null,530,339,60,58,53,339,72,69,63,339,84,81,74,null,null,530,530,530,null,239,265,318]
[496,1.25,1.2,1.1499999999999999,1.05,null,null,null,null,null,null,null,null,null,null,null,null,null,null,null,null,null,null,null,null,531,340,60,58,53,340,72,69,63,340,84,81,74,null,null,531,531,531,null,239,266,319]
[497,1.25,1.2,1.1499999999999999,1.05,null,null,null,null,null,null,null,null,null,null,null,null,null,null,null,null,null,null,null,null,532,340,60,58,53,340,72,69,63,340,84,81,74,null,null,532,532,532,null,239,266,319]
[498,1.25,1.2,1.1499999999999999,1.05,null,null,null,null,null,null,null,null,null,null,null,null,null,null,null,null,null,null,null,null,533,341,60,58,53,341,72,69,63,341,84,81,74,null,null,533,533,533,null,{"$f":"IF(Z518*0.45<$V$4,$V$4,ROUND(0.45*Z518,0))","v":240},{"$f":"IF(Z518*0.5<$X$4,$X$4,ROUND(0.5*Z518,0))","v":267},{"$f":"IF(Z518*0.6<$Y$4,$Y$4,ROUND(0.6*Z518,0))","v":320}]
[499,1.25,1.2,1.1499999999999999,1.05,null,null,null,null,null,null,null,null,null,null,null,null,null,null,null,null,null,null,null,null,534,342,60,58,53,342,72,69,63,342,84,81,74,null,null,534,534,534,null,240,267,320]
[500,1.25,1.2,1.1499999999999999,1.05,null,null,null,null,null,null,null,null,null,null,null,null,null,null,null,null,null,null,null,null,535,342,60,58,53,342,72,69,63,342,84,81,74,null,null,535,535,535,null,241,268,321]
[501,1.25,1.2,1.1499999999999999,1.05,null,null,null,null,null,null,null,null,null,null,null,null,null,null,null,null,null,null,null,null,536,343,60,58,53,343,72,69,63,343,84,81,74,null,null,536,536,536,null,241,268,322]
[502,1.25,1.2,1.1499999999999999,1.05,null,null,null,null,null,null,null,null,null,null,null,null,null,null,null,null,null,null,null,null,537,344,60,58,53,344,72,69,63,344,84,81,74,null,null,537,537,537,null,242,269,322]
[503,1.25,1.2,1.1499999999999999,1.05,null,null,null,null,null,null,null,null,null,null,null,null,null,null,null,null,null,null,null,null,538,344,60,58,53,344,72,69,63,344,84,81,74,null,null,538,538,538,null,242,269,323]
[504,1.25,1.2,1.1499999999999999,1.05,null,null,null,null,null,null,null,null,null,null,null,null,null,null,null,null,null,null,null,null,539,345,60,58,53,345,72,69,63,345,84,81,74,null,null,539,539,539,null,243,270,323]
[505,1.25,1.2,1.1499999999999999,1.05,null,null,null,null,null,null,null,null,null,null,null,null,null,null,null,null,null,null,null,null,540,346,60,58,53,346,72,69,63,346,84,81,74,null,null,540,540,540,null,243,270,324]
[506,1.25,1.2,1.1499999999999999,1.05,null,null,null,null,null,null,null,null,null,null,null,null,null,null,null,null,null,null,null,null,541,346,60,58,53,346,72,69,63,346,84,81,74,null,null,541,541,541,null,243,271,325]
[507,1.25,1.2,1.1499999999999999,1.05,null,null,null,null,null,null,null,null,null,null,null,null,null,null,null,null,null,null,null,null,542,347,60,58,53,347,72,69,63,347,84,81,74,null,null,542,542,542,null,244,271,325]
[508,1.25,1.2,1.1499999999999999,1.05,null,null,null,null,null,null,null,null,null,null,null,null,null,null,null,null,null,null,null,null,543,348,60,58,53,348,72,69,63,348,84,81,74,null,null,543,543,543,null,244,272,326]
[509,1.25,1.2,1.1499999999999999,1.05,null,null,null,null,null,null,null,null,null,null,null,null,null,null,null,null,null,null,null,null,544,348,60,58,53,348,72,69,63,348,84,81,74,null,null,544,544,544,null,245,272,326]
[510,1.25,1.2,1.1499999999999999,1.05,null,null,null,null,null,null,null,null,null,null,null,null,null,null,null,null,null,null,null,null,545,349,60,58,53,349,72,69,63,349,84,81,74,null,null,545,545,545,null,245,273,327]
[511,1.25,1.2,1.1499999999999999,1.05,null,null,null,null,null,null,null,null,null,null,null,null,null,null,null,null,null,null,null,null,546,349,60,58,53,349,72,69,63,349,84,81,74,null,null,546,546,546,null,246,273,328]
[512,1.25,1.2,1.1499999999999999,1.05,null,null,null,null,null,null,null,null,null,null,null,null,null,null,null,null,null,null,null,null,547,350,60,58,53,350,72,69,63,350,84,81,74,null,null,547,547,547,null,246,274,328]
[513,1.25,1.2,1.1499999999999999,1.05,null,null,null,null,null,null,null,null,null,null,null,null,null,null,null,null,null,null,null,null,548,351,60,58,53,351,72,69,63,351,84,81,74,null,null,548,548,548,null,247,274,329]
[514,1.25,1.2,1.1499999999999999,1.05,null,null,null,null,null,null,null,null,null,null,null,null,null,null,null,null,null,null,null,null,549,351,60,58,53,351,72,69,63,351,84,81,74,null,null,549,549,549,null,247,275,329]
[515,1.25,1.2,1.1499999999999999,1.05,null,null,null,null,null,null,null,null,null,null,null,null,null,null,null,null,null,null,null,null,550,352,60,58,53,352,72,69,63,352,84,81,74,null,null,550,550,550,null,248,275,330]
[516,1.25,1.2,1.1499999999999999,1.05,null,null,null,null,null,null,null,null,null,null,null,null,null,null,null,null,null,null,null,null,551,353,60,58,53,353,72,69,63,353,84,81,74,null,null,551,551,551,null,248,276,331]
[517,1.25,1.2,1.1499999999999999,1.05,null,null,null,null,null,null,null,null,null,null,null,null,null,null,null,null,null,null,null,null,552,353,60,58,53,353,72,69,63,353,84,81,74,null,null,552,552,552,null,248,276,331]
[518,1.25,1.2,1.1499999999999999,1.05,null,null,null,null,null,null,null,null,null,null,null,null,null,null,null,null,null,null,null,null,553,354,60,58,53,354,72,69,63,354,84,81,74,null,null,553,553,553,null,249,277,332]
[519,1.25,1.2,1.1499999999999999,1.05,null,null,null,null,null,null,null,null,null,null,null,null,null,null,null,null,null,null,null,null,554,355,60,58,53,355,72,69,63,355,84,81,74,null,null,554,554,554,null,249,277,332]
[520,1.25,1.2,1.1499999999999999,1.05,null,null,null,null,null,null,null,null,null,null,null,null,null,null,null,null,null,null,null,null,555,355,60,58,53,355,72,69,63,355,84,81,74,null,null,555,555,555,null,250,278,333]
[521,1.25,1.2,1.1499999999999999,1.05,null,null,null,null,null,null,null,null,null,null,null,null,null,null,null,null,null,null,null,null,556,356,60,58,53,356,72,69,63,356,84,81,74,null,null,556,556,556,null,250,278,334]
[522,1.25,1.2,1.1499999999999999,1.05,null,null,null,null,null,null,null,null,null,null,null,null,null,null,null,null,null,null,null,null,557,356,60,58,53,356,72,69,63,356,84,81,74,null,null,557,557,557,null,251,279,334]
[523,1.25,1.2,1.1499999999999999,1.05,null,null,null,null,null,null,null,null,null,null,null,null,null,null,null,null,null,null,null,null,558,357,60,58,53,357,72,69,63,357,84,81,74,null,null,558,558,558,null,251,279,335]
[524,1.25,1.2,1.1499999999999999,1.05,null,null,null,null,null,null,null,null,null,null,null,null,null,null,null,null,null,null,null,null,559,358,60,58,53,358,72,69,63,358,84,81,74,null,null,559,559,559,null,252,280,335]
[525,1.25,1.2,1.1499999999999999,1.05,null,null,null,null,null,null,null,null,null,null,null,null,null,null,null,null,null,null,null,null,560,358,60,58,53,358,72,69,63,358,84,81,74,null,null,560,560,560,null,252,280,336]
[526,1.25,1.2,1.1499999999999999,1.05,null,null,null,null,null,null,null,null,null,null,null,null,null,null,null,null,null,null,null,null,561,359,60,58,53,359,72,69,63,359,84,81,74,null,null,561,561,561,null,252,281,337]
[527,1.25,1.2,1.1499999999999999,1.05,null,null,null,null,null,null,null,null,null,null,null,null,null,null,null,null,null,null,null,null,562,360,60,58,53,360,72,69,63,360,84,81,74,null,null,562,562,562,null,253,281,337]
[528,1.25,1.2,1.1499999999999999,1.05,null,null,null,null,null,null,null,null,null,null,null,null,null,null,null,null,null,null,null,null,563,360,60,58,53,360,72,69,63,360,84,81,74,null,null,563,563,563,null,253,282,338]
[529,1.25,1.2,1.1499999999999999,1.05,null,null,null,null,null,null,null,null,null,null,null,null,null,null,null,null,null,null,null,null,564,361,60,58,53,361,72,69,63,361,84,81,74,null,null,564,564,564,null,254,282,338]
[530,1.25,1.2,1.1499999999999999,1.05,null,null,null,null,null,null,null,null,null,null,null,null,null,null,null,null,null,null,null,null,565,362,60,58,53,362,72,69,63,362,84,81,74,null,null,565,565,565,null,254,283,339]
[531,1.25,1.2,1.1499999999999999,1.05,null,null,null,null,null,null,null,null,null,null,null,null,null,null,null,null,null,null,null,null,566,362,60,58,53,362,72,69,63,362,84,81,74,null,null,566,566,566,null,255,283,340]
[532,1.25,1.2,1.1499999999999999,1.05,null,null,null,null,null,null,null,null,null,null,null,null,null,null,null,null,null,null,null,null,567,363,60,58,53,363,72,69,63,363,84,81,74,null,null,567,567,567,null,255,284,340]
[533,1.25,1.2,1.1499999999999999,1.05,null,null,null,null,null,null,null,null,null,null,null,null,null,null,null,null,null,null,null,null,568,364,60,58,53,364,72,69,63,364,84,81,74,null,null,568,568,568,null,256,284,341]
[534,1.25,1.2,1.1499999999999999,1.05,null,null,null,null,null,null,null,null,null,null,null,null,null,null,null,null,null,null,null,null,569,364,60,58,53,364,72,69,63,364,84,81,74,null,null,569,569,569,null,256,285,341]
[535,1.25,1.2,1.1499999999999999,1.05,null,null,null,null,null,null,null,null,null,null,null,null,null,null,null,null,null,null,null,null,570,365,60,58,53,365,72,69,63,365,84,81,74,null,null,570,570,570,null,257,285,342]
[536,1.25,1.2,1.1499999999999999,1.05,null,null,null,null,null,null,null,null,null,null,null,null,null,null,null,null,null,null,null,null,571,365,60,58,53,365,72,69,63,365,84,81,74,null,null,571,571,571,null,257,286,343]
[537,1.25,1.2,1.1499999999999999,1.05,null,null,null,null,null,null,null,null,null,null,null,null,null,null,null,null,null,null,null,null,572,366,60,58,53,366,72,69,63,366,84,81,74,null,null,572,572,572,null,257,286,343]
[538,1.25,1.2,1.1499999999999999,1.05,null,null,null,null,null,null,null,null,null,null,null,null,null,null,null,null,null,null,null,null,573,367,60,58,53,367,72,69,63,367,84,81,74,null,null,573,573,573,null,258,287,344]
[539,1.25,1.2,1.1499999999999999,1.05,null,null,null,null,null,null,null,null,null,null,null,null,null,null,null,null,null,null,null,null,574,367,60,58,53,367,72,69,63,367,84,81,74,null,null,574,574,574,null,258,287,344]
[540,1.25,1.2,1.1499999999999999,1.05,null,null,null,null,null,null,null,null,null,null,null,null,null,null,null,null,null,null,null,null,575,368,60,58,53,368,72,69,63,368,84,81,74,null,null,575,575,575,null,259,288,345]
[541,1.25,1.2,1.1499999999999999,1.05,null,null,null,null,null,null,null,null,null,null,null,null,null,null,null,null,null,null,null,null,576,369,60,58,53,369,72,69,63,369,84,81,74,null,null,576,576,576,null,259,288,346]
[542,1.25,1.2,1.1499999999999999,1.05,null,null,null,null,null,null,null,null,null,null,null,null,null,null,null,null,null,null,null,null,577,369,60,58,53,369,72,69,63,369,84,81,74,null,null,577,577,577,null,260,289,346]
[543,1.25,1.2,1.1499999999999999,1.05,null,null,null,null,null,null,null,null,null,null,null,null,null,null,null,null,null,null,null,null,578,370,60,58,53,370,72,69,63,370,84,81,74,null,null,578,578,578,null,260,289,347]
[544,1.25,1.2,1.1499999999999999,1.05,null,null,null,null,null,null,null,null,null,null,null,null,null,null,null,null,null,null,null,null,579,371,60,58,53,371,72,69,63,371,84,81,74,null,null,579,579,579,null,261,290,347]
[545,1.25,1.2,1.1499999999999999,1.05,null,null,null,null,null,null,null,null,null,null,null,null,null,null,null,null,null,null,null,null,580,371,60,58,53,371,72,69,63,371,84,81,74,null,null,580,580,580,null,261,290,348]
[546,1.25,1.2,1.1499999999999999,1.05,null,null,null,null,null,null,null,null,null,null,null,null,null,null,null,null,null,null,null,null,581,372,60,58,53,372,72,69,63,372,84,81,74,null,null,581,581,581,null,261,291,349]
[547,1.25,1.2,1.1499999999999999,1.05,null,null,null,null,null,null,null,null,null,null,null,null,null,null,null,null,null,null,null,null,582,372,60,58,53,372,72,69,63,372,84,81,74,null,null,582,582,582,null,262,291,349]
[548,1.25,1.2,1.1499999999999999,1.05,null,null,null,null,null,null,null,null,null,null,null,null,null,null,null,null,null,null,null,null,583,373,60,58,53,373,72,69,63,373,84,81,74,null,null,583,583,583,null,262,292,350]
[549,1.25,1.2,1.1499999999999999,1.05,null,null,null,null,null,null,null,null,null,null,null,null,null,null,null,null,null,null,null,null,584,374,60,58,53,374,72,69,63,374,84,81,74,null,null,584,584,584,null,263,292,350]
[550,1.25,1.2,1.1499999999999999,1.05,null,null,null,null,null,null,null,null,null,null,null,null,null,null,null,null,null,null,null,null,585,374,60,58,53,374,72,69,63,374,84,81,74,null,null,585,585,585,null,263,293,351]
[551,1.25,1.2,1.1499999999999999,1.05,null,null,null,null,null,null,null,null,null,null,null,null,null,null,null,null,null,null,null,null,586,375,60,58,53,375,72,69,63,375,84,81,74,null,null,586,586,586,null,264,293,352]
[552,1.25,1.2,1.1499999999999999,1.05,null,null,null,null,null,null,null,null,null,null,null,null,null,null,null,null,null,null,null,null,587,376,60,58,53,376,72,69,63,376,84,81,74,null,null,587,587,587,null,264,294,352]
[553,1.25,1.2,1.1499999999999999,1.05,null,null,null,null,null,null,null,null,null,null,null,null,null,null,null,null,null,null,null,null,588,376,60,58,53,376,72,69,63,376,84,81,74,null,null,588,588,588,null,265,294,353]
[554,1.25,1.2,1.1499999999999999,1.05,null,null,null,null,null,null,null,null,null,null,null,null,null,null,null,null,null,null,null,null,589,377,60,58,53,377,72,69,63,377,84,81,74,null,null,589,589,589,null,265,295,353]
[555,1.25,1.2,1.1499999999999999,1.05,null,null,null,null,null,null,null,null,null,null,null,null,null,null,null,null,null,null,null,null,590,378,60,58,53,378,72,69,63,378,84,81,74,null,null,590,590,590,null,266,295,354]
[556,1.25,1.2,1.1499999999999999,1.05,null,null,null,null,null,null,null,null,null,null,null,null,null,null,null,null,null,null,null,null,591,378,60,58,53,378,72,69,63,378,84,81,74,null,null,591,591,591,null,266,296,355]
[557,1.25,1.2,1.1499999999999999,1.05,null,null,null,null,null,null,null,null,null,null,null,null,null,null,null,null,null,null,null,null,592,379,60,58,53,379,72,69,63,379,84,81,74,null,null,592,592,592,null,266,296,355]
[558,1.25,1.2,1.1499999999999999,1.05,null,null,null,null,null,null,null,null,null,null,null,null,null,null,null,null,null,null,null,null,593,380,60,58,53,380,72,69,63,380,84,81,74,null,null,593,593,593,null,267,297,356]
[559,1.25,1.2,1.1499999999999999,1.05,null,null,null,null,null,null,null,null,null,null,null,null,null,null,null,null,null,null,null,null,594,380,60,58,53,380,72,69,63,380,84,81,74,null,null,594,594,594,null,267,297,356]
[560,1.25,1.2,1.1499999999999999,1.05,null,null,null,null,null,null,null,null,null,null,null,null,null,null,null,null,null,null,null,null,595,381,60,58,53,381,72,69,63,381,84,81,74,null,null,595,595,595,null,268,298,357]
[561,1.25,1.2,1.1499999999999999,1.05,null,null,null,null,null,null,null,null,null,null,null,null,null,null,null,null,null,null,null,null,596,381,60,58,53,381,72,69,63,381,84,81,74,null,null,596,596,596,null,268,298,358]
[562,1.25,1.2,1.1499999999999999,1.05,null,null,null,null,null,null,null,null,null,null,null,null,null,null,null,null,null,null,null,null,597,382,60,58,53,382,72,69,63,382,84,81,74,null,null,597,597,597,null,{"$f":"IF(Z582*0.45<$V$4,$V$4,ROUND(0.45*Z582,0))","v":269},{"$f":"IF(Z582*0.5<$X$4,$X$4,ROUND(0.5*Z582,0))","v":299},{"$f":"IF(Z582*0.6<$Y$4,$Y$4,ROUND(0.6*Z582,0))","v":358}]
[563,1.25,1.2,1.1499999999999999,1.05,null,null,null,null,null,null,null,null,null,null,null,null,null,null,null,null,null,null,null,null,598,383,60,58,53,383,72,69,63,383,84,81,74,null,null,598,598,598,null,269,299,359]
[564,1.25,1.2,1.1499999999999999,1.05,null,null,null,null,null,null,null,null,null,null,null,null,null,null,null,null,null,null,null,null,599,383,60,58,53,383,72,69,63,383,84,81,74,null,null,599,599,599,null,270,300,359]
[565,1.25,1.2,1.1499999999999999,1.05,null,null,null,null,null,null,null,null,null,null,null,null,null,null,null,null,null,null,null,null,600,384,60,58,53,384,72,69,63,384,84,81,74,null,null,600,600,600,null,270,300,360]
[566,1.25,1.2,1.1499999999999999,1.05,null,null,null,null,null,null,null,null,null,null,null,null,null,null,null,null,null,null,null,null,601,385,60,58,53,385,72,69,63,385,84,81,74,null,null,601,601,601,null,270,301,361]
[567,1.25,1.2,1.1499999999999999,1.05,null,null,null,null,null,null,null,null,null,null,null,null,null,null,null,null,null,null,null,null,602,385,60,58,53,385,72,69,63,385,84,81,74,null,null,602,602,602,null,271,301,361]
[568,1.25,1.2,1.1499999999999999,1.05,null,null,null,null,null,null,null,null,null,null,null,null,null,null,null,null,null,null,null,null,603,386,60,58,53,386,72,69,63,386,84,81,74,null,null,603,603,603,null,271,302,362]
[569,1.25,1.2,1.1499999999999999,1.05,null,null,null,null,null,null,null,null,null,null,null,null,null,null,null,null,null,null,null,null,604,387,60,58,53,387,72,69,63,387,84,81,74,null,null,604,604,604,null,272,302,362]
[570,1.25,1.2,1.1499999999999999,1.05,null,null,null,null,null,null,null,null,null,null,null,null,null,null,null,null,null,null,null,null,605,387,60,58,53,387,72,69,63,387,84,81,74,null,null,605,605,605,null,272,303,363]
[571,1.25,1.2,1.1499999999999999,1.05,null,null,null,null,null,null,null,null,null,null,null,null,null,null,null,null,null,null,null,null,606,388,60,58,53,388,72,69,63,388,84,81,74,null,null,606,606,606,null,273,303,364]
[572,1.25,1.2,1.1499999999999999,1.05,null,null,null,null,null,null,null,null,null,null,null,null,null,null,null,null,null,null,null,null,607,388,60,58,53,388,72,69,63,388,84,81,74,null,null,607,607,607,null,273,304,364]
[573,1.25,1.2,1.1499999999999999,1.05,null,null,null,null,null,null,null,null,null,null,null,null,null,null,null,null,null,null,null,null,608,389,60,58,53,389,72,69,63,389,84,81,74,null,null,608,608,608,null,274,304,365]
[574,1.25,1.2,1.1499999999999999,1.05,null,null,null,null,null,null,null,null,null,null,null,null,null,null,null,null,null,null,null,null,609,390,60,58,53,390,72,69,63,390,84,81,74,null,null,609,609,609,null,274,305,365]
[575,1.25,1.2,1.1499999999999999,1.05,null,null,null,null,null,null,null,null,null,null,null,null,null,null,null,null,null,null,null,null,610,390,60,58,53,390,72,69,63,390,84,81,74,null,null,610,610,610,null,275,305,366]
[576,1.25,1.2,1.1499999999999999,1.05,null,null,null,null,null,null,null,null,null,null,null,null,null,null,null,null,null,null,null,null,611,391,60,58,53,391,72,69,63,391,84,81,74,null,null,611,611,611,null,275,306,367]
[577,1.25,1.2,1.1499999999999999,1.05,null,null,null,null,null,null,null,null,null,null,null,null,null,null,null,null,null,null,null,null,612,392,60,58,53,392,72,69,63,392,84,81,74,null,null,612,612,612,null,275,306,367]
[578,1.25,1.2,1.1499999999999999,1.05,null,null,null,null,null,null,null,null,null,null,null,null,null,null,null,null,null,null,null,null,613,392,60,58,53,392,72,69,63,392,84,81,74,null,null,613,613,613,null,276,307,368]
[579,1.25,1.2,1.1499999999999999,1.05,null,null,null,null,null,null,null,null,null,null,null,null,null,null,null,null,null,null,null,null,614,393,60,58,53,393,72,69,63,393,84,81,74,null,null,614,614,614,null,276,307,368]
[580,1.25,1.2,1.1499999999999999,1.05,null,null,null,null,null,null,null,null,null,null,null,null,null,null,null,null,null,null,null,null,615,394,60,58,53,394,72,69,63,394,84,81,74,null,null,615,615,615,null,277,308,369]
[581,1.25,1.2,1.1499999999999999,1.05,null,null,null,null,null,null,null,null,null,null,null,null,null,null,null,null,null,null,null,null,616,394,60,58,53,394,72,69,63,394,84,81,74,null,null,616,616,616,null,277,308,370]
[582,1.25,1.2,1.1499999999999999,1.05,null,null,null,null,null,null,null,null,null,null,null,null,null,null,null,null,null,null,null,null,617,395,60,58,53,395,72,69,63,395,84,81,74,null,null,617,617,617,null,278,309,370]
[583,1.25,1.2,1.1499999999999999,1.05,null,null,null,null,null,null,null,null,null,null,null,null,null,null,null,null,null,null,null,null,618,396,60,58,53,396,72,69,63,396,84,81,74,null,null,618,618,618,null,278,309,371]
[584,1.25,1.2,1.1499999999999999,1.05,null,null,null,null,null,null,null,null,null,null,null,null,null,null,null,null,null,null,null,null,619,396,60,58,53,396,72,69,63,396,84,81,74,null,null,619,619,619,null,279,310,371]
[585,1.25,1.2,1.1499999999999999,1.05,null,null,null,null,null,null,null,null,null,null,null,null,null,null,null,null,null,null,null,null,620,397,60,58,53,397,72,69,63,397,84,81,74,null,null,620,620,620,null,279,310,372]
[586,1.25,1.2,1.1499999999999999,1.05,null,null,null,null,null,null,null,null,null,null,null,null,null,null,null,null,null,null,null,null,621,397,60,58,53,397,72,69,63,397,84,81,74,null,null,621,621,621,null,279,311,373]
[587,1.25,1.2,1.1499999999999999,1.05,null,null,null,null,null,null,null,null,null,null,null,null,null,null,null,null,null,null,null,null,622,398,60,58,53,398,72,69,63,398,84,81,74,null,null,622,622,622,null,280,311,373]
[588,1.25,1.2,1.1499999999999999,1.05,null,null,null,null,null,null,null,null,null,null,null,null,null,null,null,null,null,null,null,null,623,399,60,58,53,399,72,69,63,399,84,81,74,null,null,623,623,623,null,280,312,374]
[589,1.25,1.2,1.1499999999999999,1.05,null,null,null,null,null,null,null,null,null,null,null,null,null,null,null,null,null,null,null,null,624,399,60,58,53,399,72,69,63,399,84,81,74,null,null,624,624,624,null,281,312,374]
[590,1.25,1.2,1.1499999999999999,1.05,null,null,null,null,null,null,null,null,null,null,null,null,null,null,null,null,null,null,null,null,625,400,60,58,53,400,72,69,63,400,84,81,74,null,null,625,625,625,null,281,313,375]
[591,1.25,1.2,1.1499999999999999,1.05,null,null,null,null,null,null,null,null,null,null,null,null,null,null,null,null,null,null,null,null,626,401,60,58,53,401,72,69,63,401,84,81,74,null,null,626,626,626,null,282,313,376]
[592,1.25,1.2,1.1499999999999999,1.05,null,null,null,null,null,null,null,null,null,null,null,null,null,null,null,null,null,null,null,null,627,401,60,58,53,401,72,69,63,401,84,81,74,null,null,627,627,627,null,282,314,376]
[593,1.25,1.2,1.1499999999999999,1.05,null,null,null,null,null,null,null,null,null,null,null,null,null,null,null,null,null,null,null,null,628,402,60,58,53,402,72,69,63,402,84,81,74,null,null,628,628,628,null,283,314,377]
[594,1.25,1.2,1.1499999999999999,1.05,null,null,null,null,null,null,null,null,null,null,null,null,null,null,null,null,null,null,null,null,629,403,60,58,53,403,72,69,63,403,84,81,74,null,null,629,629,629,null,283,315,377]
[595,1.25,1.2,1.1499999999999999,1.05,null,null,null,null,null,null,null,null,null,null,null,null,null,null,null,null,null,null,null,null,630,403,60,58,53,403,72,69,63,403,84,81,74,null,null,630,630,630,null,284,315,378]
[596,1.25,1.2,1.1499999999999999,1.05,null,null,null,null,null,null,null,null,null,null,null,null,null,null,null,null,null,null,null,null,631,404,60,58,53,404,72,69,63,404,84,81,74,null,null,631,631,631,null,284,316,379]
[597,1.25,1.2,1.1499999999999999,1.05,null,null,null,null,null,null,null,null,null,null,null,null,null,null,null,null,null,null,null,null,632,404,60,58,53,404,72,69,63,404,84,81,74,null,null,632,632,632,null,284,316,379]
[598,1.25,1.2,1.1499999999999999,1.05,null,null,null,null,null,null,null,null,null,null,null,null,null,null,null,null,null,null,null,null,633,405,60,58,53,405,72,69,63,405,84,81,74,null,null,633,633,633,null,285,317,380]
[599,1.25,1.2,1.1499999999999999,1.05,null,null,null,null,null,null,null,null,null,null,null,null,null,null,null,null,null,null,null,null,634,406,60,58,53,406,72,69,63,406,84,81,74,null,null,634,634,634,null,285,317,380]
[600,1.25,1.2,1.1499999999999999,1.05,null,null,null,null,null,null,null,null,null,null,null,null,null,null,null,null,null,null,null,null,635,406,60,58,53,406,72,69,63,406,84,81,74,null,null,635,635,635,null,286,318,381]
[601,1.25,1.2,1.1499999999999999,1.05,null,null,null,null,null,null,null,null,null,null,null,null,null,null,null,null,null,null,null,null,636,407,60,58,53,407,72,69,63,407,84,81,74,null,null,636,636,636,null,286,318,382]
[602,1.25,1.2,1.1499999999999999,1.05,null,null,null,null,null,null,null,null,null,null,null,null,null,null,null,null,null,null,null,null,637,408,60,58,53,408,72,69,63,408,84,81,74,null,null,637,637,637,null,287,319,382]
[603,1.25,1.2,1.1499999999999999,1.05,null,null,null,null,null,null,null,null,null,null,null,null,null,null,null,null,null,null,null,null,638,408,60,58,53,408,72,69,63,408,84,81,74,null,null,638,638,638,null,287,319,383]
[604,1.25,1.2,1.1499999999999999,1.05,null,null,null,null,null,null,null,null,null,null,null,null,null,null,null,null,null,null,null,null,639,409,60,58,53,409,72,69,63,409,84,81,74,null,null,639,639,639,null,288,320,383]
[605,1.25,1.2,1.1499999999999999,1.05,null,null,null,null,null,null,null,null,null,null,null,null,null,null,null,null,null,null,null,null,640,410,60,58,53,410,72,69,63,410,84,81,74,null,null,640,640,640,null,288,320,384]
[606,1.25,1.2,1.1499999999999999,1.05,null,null,null,null,null,null,null,null,null,null,null,null,null,null,null,null,null,null,null,null,641,410,60,58,53,410,72,69,63,410,84,81,74,null,null,641,641,641,null,288,321,385]
[607,1.25,1.2,1.1499999999999999,1.05,null,null,null,null,null,null,null,null,null,null,null,null,null,null,null,null,null,null,null,null,642,411,60,58,53,411,72,69,63,411,84,81,74,null,null,642,642,642,null,289,321,385]
[608,1.25,1.2,1.1499999999999999,1.05,null,null,null,null,null,null,null,null,null,null,null,null,null,null,null,null,null,null,null,null,643,412,60,58,53,412,72,69,63,412,84,81,74,null,null,643,643,643,null,289,322,386]
[609,1.25,1.2,1.1499999999999999,1.05,null,null,null,null,null,null,null,null,null,null,null,null,null,null,null,null,null,null,null,null,644,412,60,58,53,412,72,69,63,412,84,81,74,null,null,644,644,644,null,290,322,386]
[610,1.25,1.2,1.1499999999999999,1.05,null,null,null,null,null,null,null,null,null,null,null,null,null,null,null,null,null,null,null,null,645,413,60,58,53,413,72,69,63,413,84,81,74,null,null,645,645,645,null,290,323,387]
[611,1.25,1.2,1.1499999999999999,1.05,null,null,null,null,null,null,null,null,null,null,null,null,null,null,null,null,null,null,null,null,646,413,60,58,53,413,72,69,63,413,84,81,74,null,null,646,646,646,null,291,323,388]
[612,1.25,1.2,1.1499999999999999,1.05,null,null,null,null,null,null,null,null,null,null,null,null,null,null,null,null,null,null,null,null,647,414,60,58,53,414,72,69,63,414,84,81,74,null,null,647,647,647,null,291,324,388]
[613,1.25,1.2,1.1499999999999999,1.05,null,null,null,null,null,null,null,null,null,null,null,null,null,null,null,null,null,null,null,null,648,415,60,58,53,415,72,69,63,415,84,81,74,null,null,648,648,648,null,292,324,389]
[614,1.25,1.2,1.1499999999999999,1.05,null,null,null,null,null,null,null,null,null,null,null,null,null,null,null,null,null,null,null,null,649,415,60,58,53,415,72,69,63,415,84,81,74,null,null,649,649,649,null,292,325,389]
[615,1.25,1.2,1.1499999999999999,1.05,null,null,null,null,null,null,null,null,null,null,null,null,null,null,null,null,null,null,null,null,650,416,60,58,53,416,72,69,63,416,84,81,74,null,null,650,650,650,null,293,325,390]
[616,1.25,1.2,1.1499999999999999,1.05,null,null,null,null,null,null,null,null,null,null,null,null,null,null,null,null,null,null,null,null,651,417,60,58,53,417,72,69,63,417,84,81,74,null,null,651,651,651,null,293,326,391]
[617,1.25,1.2,1.1499999999999999,1.05,null,null,null,null,null,null,null,null,null,null,null,null,null,null,null,null,null,null,null,null,652,417,60,58,53,417,72,69,63,417,84,81,74,null,null,652,652,652,null,293,326,391]
[618,1.25,1.2,1.1499999999999999,1.05,null,null,null,null,null,null,null,null,null,null,null,null,null,null,null,null,null,null,null,null,653,418,60,58,53,418,72,69,63,418,84,81,74,null,null,653,653,653,null,294,327,392]
[619,1.25,1.2,1.1499999999999999,1.05,null,null,null,null,null,null,null,null,null,null,null,null,null,null,null,null,null,null,null,null,654,419,60,58,53,419,72,69,63,419,84,81,74,null,null,654,654,654,null,294,327,392]
[620,1.25,1.2,1.1499999999999999,1.05,null,null,null,null,null,null,null,null,null,null,null,null,null,null,null,null,null,null,null,null,655,419,60,58,53,419,72,69,63,419,84,81,74,null,null,655,655,655,null,295,328,393]
[621,1.25,1.2,1.1499999999999999,1.05,null,null,null,null,null,null,null,null,null,null,null,null,null,null,null,null,null,null,null,null,656,420,60,58,53,420,72,69,63,420,84,81,74,null,null,656,656,656,null,295,328,394]
[622,1.25,1.2,1.1499999999999999,1.05,null,null,null,null,null,null,null,null,null,null,null,null,null,null,null,null,null,null,null,null,657,420,60,58,53,420,72,69,63,420,84,81,74,null,null,657,657,657,null,296,329,394]
[623,1.25,1.2,1.1499999999999999,1.05,null,null,null,null,null,null,null,null,null,null,null,null,null,null,null,null,null,null,null,null,658,421,60,58,53,421,72,69,63,421,84,81,74,null,null,658,658,658,null,296,329,395]
[624,1.25,1.2,1.1499999999999999,1.05,null,null,null,null,null,null,null,null,null,null,null,null,null,null,null,null,null,null,null,null,659,422,60,58,53,422,72,69,63,422,84,81,74,null,null,659,659,659,null,297,330,395]
[625,1.25,1.2,1.1499999999999999,1.05,null,null,null,null,null,null,null,null,null,null,null,null,null,null,null,null,null,null,null,null,660,422,60,58,53,422,72,69,63,422,84,81,74,null,null,660,660,660,null,297,330,396]
[626,1.25,1.2,1.1499999999999999,1.05,null,null,null,null,null,null,null,null,null,null,null,null,null,null,null,null,null,null,null,null,661,423,60,58,53,423,72,69,63,423,84,81,74,null,null,661,661,661,null,{"$f":"IF(Z646*0.45<$V$4,$V$4,ROUND(0.45*Z646,0))","v":297},{"$f":"IF(Z646*0.5<$X$4,$X$4,ROUND(0.5*Z646,0))","v":331},{"$f":"IF(Z646*0.6<$Y$4,$Y$4,ROUND(0.6*Z646,0))","v":397}]
[627,1.25,1.2,1.1499999999999999,1.05,null,null,null,null,null,null,null,null,null,null,null,null,null,null,null,null,null,null,null,null,662,424,60,58,53,424,72,69,63,424,84,81,74,null,null,662,662,662,null,298,331,397]
[628,1.25,1.2,1.1499999999999999,1.05,null,null,null,null,null,null,null,null,null,null,null,null,null,null,null,null,null,null,null,null,663,424,60,58,53,424,72,69,63,424,84,81,74,null,null,663,663,663,null,298,332,398]
[629,1.25,1.2,1.1499999999999999,1.05,null,null,null,null,null,null,null,null,null,null,null,null,null,null,null,null,null,null,null,null,664,425,60,58,53,425,72,69,63,425,84,81,74,null,null,664,664,664,null,299,332,398]
[630,1.25,1.2,1.1499999999999999,1.05,null,null,null,null,null,null,null,null,null,null,null,null,null,null,null,null,null,null,null,null,665,426,60,58,53,426,72,69,63,426,84,81,74,null,null,665,665,665,null,299,333,399]
[631,1.25,1.2,1.1499999999999999,1.05,null,null,null,null,null,null,null,null,null,null,null,null,null,null,null,null,null,null,null,null,666,426,60,58,53,426,72,69,63,426,84,81,74,null,null,666,666,666,null,300,333,400]
[632,1.25,1.2,1.1499999999999999,1.05,null,null,null,null,null,null,null,null,null,null,null,null,null,null,null,null,null,null,null,null,667,427,60,58,53,427,72,69,63,427,84,81,74,null,null,667,667,667,null,300,334,400]
[633,1.25,1.2,1.1499999999999999,1.05,null,null,null,null,null,null,null,null,null,null,null,null,null,null,null,null,null,null,null,null,668,428,60,58,53,428,72,69,63,428,84,81,74,null,null,668,668,668,null,301,334,401]
[634,1.25,1.2,1.1499999999999999,1.05,null,null,null,null,null,null,null,null,null,null,null,null,null,null,null,null,null,null,null,null,669,428,60,58,53,428,72,69,63,428,84,81,74,null,null,669,669,669,null,301,335,401]
[635,1.25,1.2,1.1499999999999999,1.05,null,null,null,null,null,null,null,null,null,null,null,null,null,null,null,null,null,null,null,null,670,429,60,58,53,429,72,69,63,429,84,81,74,null,null,670,670,670,null,302,335,402]
[636,1.25,1.2,1.1499999999999999,1.05,null,null,null,null,null,null,null,null,null,null,null,null,null,null,null,null,null,null,null,null,671,429,60,58,53,429,72,69,63,429,84,81,74,null,null,671,671,671,null,302,336,403]
[637,1.25,1.2,1.1499999999999999,1.05,null,null,null,null,null,null,null,null,null,null,null,null,null,null,null,null,null,null,null,null,672,430,60,58,53,430,72,69,63,430,84,81,74,null,null,672,672,672,null,302,336,403]
[638,1.25,1.2,1.1499999999999999,1.05,null,null,null,null,null,null,null,null,null,null,null,null,null,null,null,null,null,null,null,null,673,431,60,58,53,431,72,69,63,431,84,81,74,null,null,673,673,673,null,303,337,404]
[639,1.25,1.2,1.1499999999999999,1.05,null,null,null,null,null,null,null,null,null,null,null,null,null,null,null,null,null,null,null,null,674,431,60,58,53,431,72,69,63,431,84,81,74,null,null,674,674,674,null,303,337,404]
[640,1.25,1.2,1.1499999999999999,1.05,null,null,null,null,null,null,null,null,null,null,null,null,null,null,null,null,null,null,null,null,675,432,60,58,53,432,72,69,63,432,84,81,74,null,null,675,675,675,null,304,338,405]
[641,1.25,1.2,1.1499999999999999,1.05,null,null,null,null,null,null,null,null,null,null,null,null,null,null,null,null,null,null,null,null,676,433,60,58,53,433,72,69,63,433,84,81,74,null,null,676,676,676,null,304,338,406]
[642,1.25,1.2,1.1499999999999999,1.05,null,null,null,null,null,null,null,null,null,null,null,null,null,null,null,null,null,null,null,null,677,433,60,58,53,433,72,69,63,433,84,81,74,null,null,677,677,677,null,305,339,406]
[643,1.25,1.2,1.1499999999999999,1.05,null,null,null,null,null,null,null,null,null,null,null,null,null,null,null,null,null,null,null,null,678,434,60,58,53,434,72,69,63,434,84,81,74,null,null,678,678,678,null,305,339,407]
[644,1.25,1.2,1.1499999999999999,1.05,null,null,null,null,null,null,null,null,null,null,null,null,null,null,null,null,null,null,null,null,679,435,60,58,53,435,72,69,63,435,84,81,74,null,null,679,679,679,null,306,340,407]
[645,1.25,1.2,1.1499999999999999,1.05,null,null,null,null,null,null,null,null,null,null,null,null,null,null,null,null,null,null,null,null,680,435,60,58,53,435,72,69,63,435,84,81,74,null,null,680,680,680,null,306,340,408]
[646,1.25,1.2,1.1499999999999999,1.05,null,null,null,null,null,null,null,null,null,null,null,null,null,null,null,null,null,null,null,null,681,436,60,58,53,436,72,69,63,436,84,81,74,null,null,681,681,681,null,306,341,409]
[647,1.25,1.2,1.1499999999999999,1.05,null,null,null,null,null,null,null,null,null,null,null,null,null,null,null,null,null,null,null,null,682,436,60,58,53,436,72,69,63,436,84,81,74,null,null,682,682,682,null,307,341,409]
[648,1.25,1.2,1.1499999999999999,1.05,null,null,null,null,null,null,null,null,null,null,null,null,null,null,null,null,null,null,null,null,683,437,60,58,53,437,72,69,63,437,84,81,74,null,null,683,683,683,null,307,342,410]
[649,1.25,1.2,1.1499999999999999,1.05,null,null,null,null,null,null,null,null,null,null,null,null,null,null,null,null,null,null,null,null,684,438,60,58,53,438,72,69,63,438,84,81,74,null,null,684,684,684,null,308,342,410]
[650,1.25,1.2,1.1499999999999999,1.05,null,null,null,null,null,null,null,null,null,null,null,null,null,null,null,null,null,null,null,null,685,438,60,58,53,438,72,69,63,438,84,81,74,null,null,685,685,685,null,308,343,411]
[651,1.25,1.2,1.1499999999999999,1.05,null,null,null,null,null,null,null,null,null,null,null,null,null,null,null,null,null,null,null,null,686,439,60,58,53,439,72,69,63,439,84,81,74,null,null,686,686,686,null,309,343,412]
[652,1.25,1.2,1.1499999999999999,1.05,null,null,null,null,null,null,null,null,null,null,null,null,null,null,null,null,null,null,null,null,687,440,60,58,53,440,72,69,63,440,84,81,74,null,null,687,687,687,null,309,344,412]
[653,1.25,1.2,1.1499999999999999,1.05,null,null,null,null,null,null,null,null,null,null,null,null,null,null,null,null,null,null,null,null,688,440,60,58,53,440,72,69,63,440,84,81,74,null,null,688,688,688,null,310,344,413]
[654,1.25,1.2,1.1499999999999999,1.05,null,null,null,null,null,null,null,null,null,null,null,null,null,null,null,null,null,null,null,null,689,441,60,58,53,441,72,69,63,441,84,81,74,null,null,689,689,689,null,310,345,413]
[655,1.25,1.2,1.1499999999999999,1.05,null,null,null,null,null,null,null,null,null,null,null,null,null,null,null,null,null,null,null,null,690,442,60,58,53,442,72,69,63,442,84,81,74,null,null,690,690,690,null,311,345,414]
[656,1.25,1.2,1.1499999999999999,1.05,null,null,null,null,null,null,null,null,null,null,null,null,null,null,null,null,null,null,null,null,691,442,60,58,53,442,72,69,63,442,84,81,74,null,null,691,691,691,null,311,346,415]
[657,1.25,1.2,1.1499999999999999,1.05,null,null,null,null,null,null,null,null,null,null,null,null,null,null,null,null,null,null,null,null,692,443,60,58,53,443,72,69,63,443,84,81,74,null,null,692,692,692,null,311,346,415]
[658,1.25,1.2,1.1499999999999999,1.05,null,null,null,null,null,null,null,null,null,null,null,null,null,null,null,null,null,null,null,null,693,444,60,58,53,444,72,69,63,444,84,81,74,null,null,693,693,693,null,312,347,416]
[659,1.25,1.2,1.1499999999999999,1.05,null,null,null,null,null,null,null,null,null,null,null,null,null,null,null,null,null,null,null,null,694,444,60,58,53,444,72,69,63,444,84,81,74,null,null,694,694,694,null,312,347,416]
[660,1.25,1.2,1.1499999999999999,1.05,null,null,null,null,null,null,null,null,null,null,null,null,null,null,null,null,null,null,null,null,695,445,60,58,53,445,72,69,63,445,84,81,74,null,null,695,695,695,null,313,348,417]
[661,1.25,1.2,1.1499999999999999,1.05,null,null,null,null,null,null,null,null,null,null,null,null,null,null,null,null,null,null,null,null,696,445,60,58,53,445,72,69,63,445,84,81,74,null,null,696,696,696,null,313,348,418]
[662,1.25,1.2,1.1499999999999999,1.05,null,null,null,null,null,null,null,null,null,null,null,null,null,null,null,null,null,null,null,null,697,446,60,58,53,446,72,69,63,446,84,81,74,null,null,697,697,697,null,314,349,418]
[663,1.25,1.2,1.1499999999999999,1.05,null,null,null,null,null,null,null,null,null,null,null,null,null,null,null,null,null,null,null,null,698,447,60,58,53,447,72,69,63,447,84,81,74,null,null,698,698,698,null,314,349,419]
[664,1.25,1.2,1.1499999999999999,1.05,null,null,null,null,null,null,null,null,null,null,null,null,null,null,null,null,null,null,null,null,699,447,60,58,53,447,72,69,63,447,84,81,74,null,null,699,699,699,null,315,350,419]
[665,1.25,1.2,1.1499999999999999,1.05,null,null,null,null,null,null,null,null,null,null,null,null,null,null,null,null,null,null,null,null,700,448,60,58,53,448,72,69,63,448,84,81,74,null,null,700,700,700,null,315,350,420]
[666,1.25,1.2,1.1499999999999999,1.05]
[667,1.25,1.2,1.1499999999999999,1.05]
[668,1.25,1.2,1.1499999999999999,1.05]
[669,1.25,1.2,1.1499999999999999,1.05]
[670,1.25,1.2,1.1499999999999999,1.05]
[671,1.25,1.2,1.1499999999999999,1.05]
[672,1.25,1.2,1.1499999999999999,1.05]
[673,1.25,1.2,1.1499999999999999,1.05]
[674,1.25,1.2,1.1499999999999999,1.05]
[675,1.25,1.2,1.1499999999999999,1.05]
[676,1.25,1.2,1.1499999999999999,1.05]
[677,1.25,1.2,1.1499999999999999,1.05]
[678,1.25,1.2,1.1499999999999999,1.05]
[679,1.25,1.2,1.1499999999999999,1.05]
[680,1.25,1.2,1.1499999999999999,1.05]
[681,1.25,1.2,1.1499999999999999,1.05]
[682,1.25,1.2,1.1499999999999999,1.05]
[683,1.25,1.2,1.1499999999999999,1.05]
[684,1.25,1.2,1.1499999999999999,1.05]
[685,1.25,1.2,1.1499999999999999,1.05]
[686,1.25,1.2,1.1499999999999999,1.05]
[687,1.25,1.2,1.1499999999999999,1.05]
[688,1.25,1.2,1.1499999999999999,1.05]
[689,1.25,1.2,1.1499999999999999,1.05]
[690,1.25,1.2,1.1499999999999999,1.05]
[691,1.25,1.2,1.1499999999999999,1.05]
[692,1.25,1.2,1.1499999999999999,1.05]
[693,1.25,1.2,1.1499999999999999,1.05]
[694,1.25,1.2,1.1499999999999999,1.05]
[695,1.25,1.2,1.1499999999999999,1.05]
[696,1.25,1.2,1.1499999999999999,1.05]
[697,1.25,1.2,1.1499999999999999,1.05]
[698,1.25,1.2,1.1499999999999999,1.05]
[699,1.25,1.2,1.1499999999999999,1.05]
[700,1.25,1.2,1.1499999999999999,1.05]
[701,1.25,1.2,1.1499999999999999,1.05]
[702,1.25,1.2,1.1499999999999999,1.05]
[703,1.25,1.2,1.1499999999999999,1.05]
[704,1.25,1.2,1.1499999999999999,1.05]
[705,1.25,1.2,1.1499999999999999,1.05]
[706,1.25,1.2,1.1499999999999999,1.05]
[707,1.25,1.2,1.1499999999999999,1.05]
[708,1.25,1.2,1.1499999999999999,1.05]
[709,1.25,1.2,1.1499999999999999,1.05]
[710,1.25,1.2,1.1499999999999999,1.05]
[711,1.25,1.2,1.1499999999999999,1.05]
[712,1.25,1.2,1.1499999999999999,1.05]
[713,1.25,1.2,1.1499999999999999,1.05]
[714,1.25,1.2,1.1499999999999999,1.05]
[715,1.25,1.2,1.1499999999999999,1.05]
[716,1.25,1.2,1.1499999999999999,1.05]
[717,1.25,1.2,1.1499999999999999,1.05]
[718,1.25,1.2,1.1499999999999999,1.05]
[719,1.25,1.2,1.1499999999999999,1.05]
[720,1.25,1.2,1.1499999999999999,1.05]
[721,1.25,1.2,1.1499999999999999,1.05]
[722,1.25,1.2,1.1499999999999999,1.05]
[723,1.25,1.2,1.1499999999999999,1.05]
[724,1.25,1.2,1.1499999999999999,1.05]
[725,1.25,1.2,1.1499999999999999,1.05]
[726,1.25,1.2,1.1499999999999999,1.05]
[727,1.25,1.2,1.1499999999999999,1.05]
[728,1.25,1.2,1.1499999999999999,1.05]
[729,1.25,1.2,1.1499999999999999,1.05]
[730,1.25,1.2,1.1499999999999999,1.05]
[731,1.25,1.2,1.1499999999999999,1.05]
[732,1.25,1.2,1.1499999999999999,1.05]
[733,1.25,1.2,1.1499999999999999,1.05]
[734,1.25,1.2,1.1499999999999999,1.05]
[735,1.25,1.2,1.1499999999999999,1.05]
[736,1.25,1.2,1.1499999999999999,1.05]
[737,1.25,1.2,1.1499999999999999,1.05]
[738,1.25,1.2,1.1499999999999999,1.05]
[739,1.25,1.2,1.1499999999999999,1.05]
[740,1.25,1.2,1.1499999999999999,1.05]
[741,1.25,1.2,1.1499999999999999,1.05]
[742,1.25,1.2,1.1499999999999999,1.05]
[743,1.25,1.2,1.1499999999999999,1.05]
[744,1.25,1.2,1.1499999999999999,1.05]
[745,1.25,1.2,1.1499999999999999,1.05]
[746,1.25,1.2,1.1499999999999999,1.05]
[747,1.25,1.2,1.1499999999999999,1.05]
[748,1.25,1.2,1.1499999999999999,1.05]
[749,1.25,1.2,1.1499999999999999,1.05]
[750,1.25,1.2,1.1499999999999999,1.05]
[751,1.25,1.2,1.1499999999999999,1.05]
[752,1.25,1.2,1.1499999999999999,1.05]
[753,1.25,1.2,1.1499999999999999,1.05]
[754,1.25,1.2,1.1499999999999999,1.05]
[755,1.25,1.2,1.1499999999999999,1.05]
[756,1.25,1.2,1.1499999999999999,1.05]
[757,1.25,1.2,1.1499999999999999,1.05]
[758,1.25,1.2,1.1499999999999999,1.05]
[759,1.25,1.2,1.1499999999999999,1.05]
[760,1.25,1.2,1.1499999999999999,1.05]
[761,1.25,1.2,1.1499999999999999,1.05]
[762,1.25,1.2,1.1499999999999999,1.05]
[763,1.25,1.2,1.1499999999999999,1.05]
[764,1.25,1.2,1.1499999999999999,1.05]
[765,1.25,1.2,1.1499999999999999,1.05]
[766,1.25,1.2,1.1499999999999999,1.05]
[767,1.25,1.2,1.1499999999999999,1.05]
[768,1.25,1.2,1.1499999999999999,1.05]
[769,1.25,1.2,1.1499999999999999,1.05]
[770,1.25,1.2,1.1499999999999999,1.05]
[771,1.25,1.2,1.1499999999999999,1.05]
[772,1.25,1.2,1.1499999999999999,1.05]
[773,1.25,1.2,1.1499999999999999,1.05]
[774,1.25,1.2,1.1499999999999999,1.05]
[775,1.25,1.2,1.1499999999999999,1.05]
[776,1.25,1.2,1.1499999999999999,1.05]
[777,1.25,1.2,1.1499999999999999,1.05]
[778,1.25,1.2,1.1499999999999999,1.05]
[779,1.25,1.2,1.1499999999999999,1.05]
[780,1.25,1.2,1.1499999999999999,1.05]
[781,1.25,1.2,1.1499999999999999,1.05]
[782,1.25,1.2,1.1499999999999999,1.05]
[783,1.25,1.2,1.1499999999999999,1.05]
[784,1.25,1.2,1.1499999999999999,1.05]
[785,1.25,1.2,1.1499999999999999,1.05]
[786,1.25,1.2,1.1499999999999999,1.05]
[787,1.25,1.2,1.1499999999999999,1.05]
[788,1.25,1.2,1.1499999999999999,1.05]
[789,1.25,1.2,1.1499999999999999,1.05]
[790,1.25,1.2,1.1499999999999999,1.05]
[791,1.25,1.2,1.1499999999999999,1.05]
[792,1.25,1.2,1.1499999999999999,1.05]
[793,1.25,1.2,1.1499999999999999,1.05]
[794,1.25,1.2,1.1499999999999999,1.05]
[795,1.25,1.2,1.1499999999999999,1.05]
[796,1.25,1.2,1.1499999999999999,1.05]
[797,1.25,1.2,1.1499999999999999,1.05]
[798,1.25,1.2,1.1499999999999999,1.05]
[799,1.25,1.2,1.1499999999999999,1.05]
[800,1.25,1.2,1.1499999999999999,1.05]
[801,1.25,1.2,1.1499999999999999,1.05]
[802,1.25,1.2,1.1499999999999999,1.05]
[803,1.25,1.2,1.1499999999999999,1.05]
[804,1.25,1.2,1.1499999999999999,1.05]
[805,1.25,1.2,1.1499999999999999,1.05]
[806,1.25,1.2,1.1499999999999999,1.05]
[807,1.25,1.2,1.1499999999999999,1.05]
[808,1.25,1.2,1.1499999999999999,1.05]
[809,1.25,1.2,1.1499999999999999,1.05]
[810,1.25,1.2,1.1499999999999999,1.05]
[811,1.25,1.2,1.1499999999999999,1.05]
[812,1.25,1.2,1.1499999999999999,1.05]
[813,1.25,1.2,1.1499999999999999,1.05]
[814,1.25,1.2,1.1499999999999999,1.05]
[815,1.25,1.2,1.1499999999999999,1.05]
[816,1.25,1.2,1.1499999999999999,1.05]
[817,1.25,1.2,1.1499999999999999,1.05]
[818,1.25,1.2,1.1499999999999999,1.05]
[819,1.25,1.2,1.1499999999999999,1.05]
[820,1.25,1.2,1.1499999999999999,1.05]
[821,1.25,1.2,1.1499999999999999,1.05]
[822,1.25,1.2,1.1499999999999999,1.05]
[823,1.25,1.2,1.1499999999999999,1.05]
[824,1.25,1.2,1.1499999999999999,1.05]
[825,1.25,1.2,1.1499999999999999,1.05]
[826,1.25,1.2,1.1499999999999999,1.05]
[827,1.25,1.2,1.1499999999999999,1.05]
[828,1.25,1.2,1.1499999999999999,1.05]
[829,1.25,1.2,1.1499999999999999,1.05]
[830,1.25,1.2,1.1499999999999999,1.05]
[831,1.25,1.2,1.1499999999999999,1.05]
[832,1.25,1.2,1.1499999999999999,1.05]
[833,1.25,1.2,1.1499999999999999,1.05]
[834,1.25,1.2,1.1499999999999999,1.05]
[835,1.25,1.2,1.1499999999999999,1.05]
[836,1.25,1.2,1.1499999999999999,1.05]
[837,1.25,1.2,1.1499999999999999,1.05]
[838,1.25,1.2,1.1499999999999999,1.05]
[839,1.25,1.2,1.1499999999999999,1.05]
[840,1.25,1.2,1.1499999999999999,1.05]
[841,1.25,1.2,1.1499999999999999,1.05]
[842,1.25,1.2,1.1499999999999999,1.05]
[843,1.25,1.2,1.1499999999999999,1.05]
[844,1.25,1.2,1.1499999999999999,1.05]
[845,1.25,1.2,1.1499999999999999,1.05]
[846,1.25,1.2,1.1499999999999999,1.05]
[847,1.25,1.2,1.1499999999999999,1.05]
[848,1.25,1.2,1.1499999999999999,1.05]
[849,1.25,1.2,1.1499999999999999,1.05]
[850,1.25,1.2,1.1499999999999999,1.05]
[851,1.25,1.2,1.1499999999999999,1.05]
[852,1.25,1.2,1.1499999999999999,1.05]
[853,1.25,1.2,1.1499999999999999,1.05]
[854,1.25,1.2,1.1499999999999999,1.05]
[855,1.25,1.2,1.1499999999999999,1.05]
[856,1.25,1.2,1.1499999999999999,1.05]
[857,1.25,1.2,1.1499999999999999,1.05]
[858,1.25,1.2,1.1499999999999999,1.05]
[859,1.25,1.2,1.1499999999999999,1.05]
[860,1.25,1.2,1.1499999999999999,1.05]
[861,1.25,1.2,1.1499999999999999,1.05]
[862,1.25,1.2,1.1499999999999999,1.05]
[863,1.25,1.2,1.1499999999999999,1.05]
[864,1.25,1.2,1.1499999999999999,1.05]
[865,1.25,1.2,1.1499999999999999,1.05]
[866,1.25,1.2,1.1499999999999999,1.05]
[867,1.25,1.2,1.1499999999999999,1.05]
[868,1.25,1.2,1.1499999999999999,1.05]
[869,1.25,1.2,1.1499999999999999,1.05]
[870,1.25,1.2,1.1499999999999999,1.05]
[871,1.25,1.2,1.1499999999999999,1.05]
[872,1.25,1.2,1.1499999999999999,1.05]
[873,1.25,1.2,1.1499999999999999,1.05]
[874,1.25,1.2,1.1499999999999999,1.05]
[875,1.25,1.2,1.1499999999999999,1.05]
[876,1.25,1.2,1.1499999999999999,1.05]
[877,1.25,1.2,1.1499999999999999,1.05]
[878,1.25,1.2,1.1499999999999999,1.05]
[879,1.25,1.2,1.1499999999999999,1.05]
[880,1.25,1.2,1.1499999999999999,1.05]
[881,1.25,1.2,1.1499999999999999,1.05]
[882,1.25,1.2,1.1499999999999999,1.05]
[883,1.25,1.2,1.1499999999999999,1.05]
[884,1.25,1.2,1.1499999999999999,1.05]
[885,1.25,1.2,1.1499999999999999,1.05]
[886,1.25,1.2,1.1499999999999999,1.05]
[887,1.25,1.2,1.1499999999999999,1.05]
[888,1.25,1.2,1.1499999999999999,1.05]
[889,1.25,1.2,1.1499999999999999,1.05]
[890,1.25,1.2,1.1499999999999999,1.05]
[891,1.25,1.2,1.1499999999999999,1.05]
[892,1.25,1.2,1.1499999999999999,1.05]
[893,1.25,1.2,1.1499999999999999,1.05]
[894,1.25,1.2,1.1499999999999999,1.05]
[895,1.25,1.2,1.1499999999999999,1.05]
[896,1.25,1.2,1.1499999999999999,1.05]
[897,1.25,1.2,1.1499999999999999,1.05]
[898,1.25,1.2,1.1499999999999999,1.05]
[899,1.25,1.2,1.1499999999999999,1.05]
[900,1.25,1.2,1.1499999999999999,1.05]
[901,1.25,1.2,1.1499999999999999,1.05]
[902,1.25,1.2,1.1499999999999999,1.05]
[903,1.25,1.2,1.1499999999999999,1.05]
[904,1.25,1.2,1.1499999999999999,1.05]
[905,1.25,1.2,1.1499999999999999,1.05]
[906,1.25,1.2,1.1499999999999999,1.05]
[907,1.25,1.2,1.1499999999999999,1.05]
[908,1.25,1.2,1.1499999999999999,1.05]
[909,1.25,1.2,1.1499999999999999,1.05]
[910,1.25,1.2,1.1499999999999999,1.05]
[911,1.25,1.2,1.1499999999999999,1.05]
[912,1.25,1.2,1.1499999999999999,1.05]
[913,1.25,1.2,1.1499999999999999,1.05]
[914,1.25,1.2,1.1499999999999999,1.05]
[915,1.25,1.2,1.1499999999999999,1.05]
[916,1.25,1.2,1.1499999999999999,1.05]
[917,1.25,1.2,1.1499999999999999,1.05]
[918,1.25,1.2,1.1499999999999999,1.05]
[919,1.25,1.2,1.1499999999999999,1.05]
[920,1.25,1.2,1.1499999999999999,1.05]
[921,1.25,1.2,1.1499999999999999,1.05]
[922,1.25,1.2,1.1499999999999999,1.05]
[923,1.25,1.2,1.1499999999999999,1.05]
[924,1.25,1.2,1.1499999999999999,1.05]
[925,1.25,1.2,1.1499999999999999,1.05]
[926,1.25,1.2,1.1499999999999999,1.05]
[927,1.25,1.2,1.1499999999999999,1.05]
[928,1.25,1.2,1.1499999999999999,1.05]
[929,1.25,1.2,1.1499999999999999,1.05]
[930,1.25,1.2,1.1499999999999999,1.05]
[931,1.25,1.2,1.1499999999999999,1.05]
[932,1.25,1.2,1.1499999999999999,1.05]
[933,1.25,1.2,1.1499999999999999,1.05]
[934,1.25,1.2,1.1499999999999999,1.05]
[935,1.25,1.2,1.1499999999999999,1.05]
[936,1.25,1.2,1.1499999999999999,1.05]
[937,1.25,1.2,1.1499999999999999,1.05]
[938,1.25,1.2,1.1499999999999999,1.05]
[939,1.25,1.2,1.1499999999999999,1.05]
[940,1.25,1.2,1.1499999999999999,1.05]
[941,1.25,1.2,1.1499999999999999,1.05]
[942,1.25,1.2,1.1499999999999999,1.05]
[943,1.25,1.2,1.1499999999999999,1.05]
[944,1.25,1.2,1.1499999999999999,1.05]
[945,1.25,1.2,1.1499999999999999,1.05]
[946,1.25,1.2,1.1499999999999999,1.05]
[947,1.25,1.2,1.1499999999999999,1.05]
[948,1.25,1.2,1.1499999999999999,1.05]
[949,1.25,1.2,1.1499999999999999,1.05]
[950,1.25,1.2,1.1499999999999999,1.05]
[951,1.25,1.2,1.1499999999999999,1.05]
[952,1.25,1.2,1.1499999999999999,1.05]
[953,1.25,1.2,1.1499999999999999,1.05]
[954,1.25,1.2,1.1499999999999999,1.05]
[955,1.25,1.2,1.1499999999999999,1.05]
[956,1.25,1.2,1.1499999999999999,1.05]
[957,1.25,1.2,1.1499999999999999,1.05]
[958,1.25,1.2,1.1499999999999999,1.05]
[959,1.25,1.2,1.1499999999999999,1.05]
[960,1.25,1.2,1.1499999999999999,1.05]
[961,1.25,1.2,1.1499999999999999,1.05]
[962,1.25,1.2,1.1499999999999999,1.05]
[963,1.25,1.2,1.1499999999999999,1.05]
[964,1.25,1.2,1.1499999999999999,1.05]
[965,1.25,1.2,1.1499999999999999,1.05]
[966,1.25,1.2,1.1499999999999999,1.05]
[967,1.25,1.2,1.1499999999999999,1.05]
[968,1.25,1.2,1.1499999999999999,1.05]
[969,1.25,1.2,1.1499999999999999,1.05]
[970,1.25,1.2,1.1499999999999999,1.05]
[971,1.25,1.2,1.1499999999999999,1.05]
[972,1.25,1.2,1.1499999999999999,1.05]
[973,1.25,1.2,1.1499999999999999,1.05]
[974,1.25,1.2,1.1499999999999999,1.05]
[975,1.25,1.2,1.1499999999999999,1.05]
[976,1.25,1.2,1.1499999999999999,1.05]
[977,1.25,1.2,1.1499999999999999,1.05]
[978,1.25,1.2,1.1499999999999999,1.05]
[979,1.25,1.2,1.1499999999999999,1.05]
[980,1.25,1.2,1.1499999999999999,1.05]
[981,1.25,1.2,1.1499999999999999,1.05]
[982,1.25,1.2,1.1499999999999999,1.05]
[983,1.25,1.2,1.1499999999999999,1.05]
[984,1.25,1.2,1.1499999999999999,1.05]
[985,1.25,1.2,1.1499999999999999,1.05]
[986,1.25,1.2,1.1499999999999999,1.05]
[987,1.25,1.2,1.1499999999999999,1.05]
[988,1.25,1.2,1.1499999999999999,1.05]
[989,1.25,1.2,1.1499999999999999,1.05]
[990,1.25,1.2,1.1499999999999999,1.05]
[991,1.25,1.2,1.1499999999999999,1.05]
[992,1.25,1.2,1.1499999999999999,1.05]
[993,1.25,1.2,1.1499999999999999,1.05]
[994,1.25,1.2,1.1499999999999999,1.05]
[995,1.25,1.2,1.1499999999999999,1.05]
[996,1.25,1.2,1.1499999999999999,1.05]
[997,1.25,1.2,1.1499999999999999,1.05]
[998,1.25,1.2,1.1499999999999999,1.05]
[999,1.25,1.2,1.1499999999999999,1.05]
[1000,1.25,1.2,1.1499999999999999,1.05]
[1001,1.25,1.2,1.1499999999999999,1.05]
[1002,1.25,1.2,1.1499999999999999,1.05]
[1003,1.25,1.2,1.1499999999999999,1.05]
[1004,1.25,1.2,1.1499999999999999,1.05]
[1005,1.25,1.2,1.1499999999999999,1.05]
[1006,1.25,1.2,1.1499999999999999,1.05]
[1007,1.25,1.2,1.1499999999999999,1.05]
[1008,1.25,1.2,1.1499999999999999,1.05]
[1009,1.25,1.2,1.1499999999999999,1.05]
[1010,1.25,1.2,1.1499999999999999,1.05]
[1011,1.25,1.2,1.1499999999999999,1.05]
[1012,1.25,1.2,1.1499999999999999,1.05]
[1013,1.25,1.2,1.1499999999999999,1.05]
[1014,1.25,1.2,1.1499999999999999,1.05]
[1015,1.25,1.2,1.1499999999999999,1.05]
[1016,1.25,1.2,1.1499999999999999,1.05]
[1017,1.25,1.2,1.1499999999999999,1.05]
[1018,1.25,1.2,1.1499999999999999,1.05]
[1019,1.25,1.2,1.1499999999999999,1.05]
[1020,1.25,1.2,1.1499999999999999,1.05]
[1021,1.25,1.2,1.1499999999999999,1.05]
[1022,1.25,1.2,1.1499999999999999,1.05]
[1023,1.25,1.2,1.1499999999999999,1.05]
[1024,1.25,1.2,1.1499999999999999,1.05]
[1025,1.25,1.2,1.1499999999999999,1.05]
[1026,1.25,1.2,1.1499999999999999,1.05]
[1027,1.25,1.2,1.1499999999999999,1.05]
[1028,1.25,1.2,1.1499999999999999,1.05]
[1029,1.25,1.2,1.1499999999999999,1.05]
[1030,1.25,1.2,1.1499999999999999,1.05]
[1031,1.25,1.2,1.1499999999999999,1.05]
[1032,1.25,1.2,1.1499999999999999,1.05]
[1033,1.25,1.2,1.1499999999999999,1.05]
[1034,1.25,1.2,1.1499999999999999,1.05]
[1035,1.25,1.2,1.1499999999999999,1.05]
[1036,1.25,1.2,1.1499999999999999,1.05]
[1037,1.25,1.2,1.1499999999999999,1.05]
[1038,1.25,1.2,1.1499999999999999,1.05]
[1039,1.25,1.2,1.1499999999999999,1.05]
[1040,1.25,1.2,1.1499999999999999,1.05]
[1041,1.25,1.2,1.1499999999999999,1.05]
[1042,1.25,1.2,1.1499999999999999,1.05]
[1043,1.25,1.2,1.1499999999999999,1.05]
[1044,1.25,1.2,1.1499999999999999,1.05]
[1045,1.25,1.2,1.1499999999999999,1.05]
[1046,1.25,1.2,1.1499999999999999,1.05]
[1047,1.25,1.2,1.1499999999999999,1.05]
[1048,1.25,1.2,1.1499999999999999,1.05]
[1049,1.25,1.2,1.1499999999999999,1.05]
[1050,1.25,1.2,1.1499999999999999,1.05]
[1051,1.25,1.2,1.1499999999999999,1.05]
[1052,1.25,1.2,1.1499999999999999,1.05]
[1053,1.25,1.2,1.1499999999999999,1.05]
[1054,1.25,1.2,1.1499999999999999,1.05]
[1055,1.25,1.2,1.1499999999999999,1.05]
[1056,1.25,1.2,1.1499999999999999,1.05]
[1057,1.25,1.2,1.1499999999999999,1.05]
[1058,1.25,1.2,1.1499999999999999,1.05]
[1059,1.25,1.2,1.1499999999999999,1.05]
[1060,1.25,1.2,1.1499999999999999,1.05]
[1061,1.25,1.2,1.1499999999999999,1.05]
[1062,1.25,1.2,1.1499999999999999,1.05]
[1063,1.25,1.2,1.1499999999999999,1.05]
[1064,1.25,1.2,1.1499999999999999,1.05]
[1065,1.25,1.2,1.1499999999999999,1.05]
[1066,1.25,1.2,1.1499999999999999,1.05]
[1067,1.25,1.2,1.1499999999999999,1.05]
[1068,1.25,1.2,1.1499999999999999,1.05]
[1069,1.25,1.2,1.1499999999999999,1.05]
[1070,1.25,1.2,1.1499999999999999,1.05]
[1071,1.25,1.2,1.1499999999999999,1.05]
[1072,1.25,1.2,1.1499999999999999,1.05]
[1073,1.25,1.2,1.1499999999999999,1.05]
[1074,1.25,1.2,1.1499999999999999,1.05]
[1075,1.25,1.2,1.1499999999999999,1.05]
[1076,1.25,1.2,1.1499999999999999,1.05]
[1077,1.25,1.2,1.1499999999999999,1.05]
[1078,1.25,1.2,1.1499999999999999,1.05]
[1079,1.25,1.2,1.1499999999999999,1.05]
[1080,1.25,1.2,1.1499999999999999,1.05]
[1081,1.25,1.2,1.1499999999999999,1.05]
[1082,1.25,1.2,1.1499999999999999,1.05]
[1083,1.25,1.2,1.1499999999999999,1.05]
[1084,1.25,1.2,1.1499999999999999,1.05]
[1085,1.25,1.2,1.1499999999999999,1.05]
[1086,1.25,1.2,1.1499999999999999,1.05]
[1087,1.25,1.2,1.1499999999999999,1.05]
[1088,1.25,1.2,1.1499999999999999,1.05]
[1089,1.25,1.2,1.1499999999999999,1.05]
[1090,1.25,1.2,1.1499999999999999,1.05]
[1091,1.25,1.2,1.1499999999999999,1.05]
[1092,1.25,1.2,1.1499999999999999,1.05]
[1093,1.25,1.2,1.1499999999999999,1.05]
[1094,1.25,1.2,1.1499999999999999,1.05]
[1095,1.25,1.2,1.1499999999999999,1.05]
[1096,1.25,1.2,1.1499999999999999,1.05]
[1097,1.25,1.2,1.1499999999999999,1.05]
[1098,1.25,1.2,1.1499999999999999,1.05]
[1099,1.25,1.2,1.1499999999999999,1.05]
[1100,1.25,1.2,1.1499999999999999,1.05]
[1101,1.25,1.2,1.1499999999999999,1.05]
[1102,1.25,1.2,1.1499999999999999,1.05]
[1103,1.25,1.2,1.1499999999999999,1.05]
[1104,1.25,1.2,1.1499999999999999,1.05]
[1105,1.25,1.2,1.1499999999999999,1.05]
[1106,1.25,1.2,1.1499999999999999,1.05]
[1107,1.25,1.2,1.1499999999999999,1.05]
[1108,1.25,1.2,1.1499999999999999,1.05]
[1109,1.25,1.2,1.1499999999999999,1.05]
[1110,1.25,1.2,1.1499999999999999,1.05]
[1111,1.25,1.2,1.1499999999999999,1.05]
[1112,1.25,1.2,1.1499999999999999,1.05]
[1113,1.25,1.2,1.1499999999999999,1.05]
[1114,1.25,1.2,1.1499999999999999,1.05]
[1115,1.25,1.2,1.1499999999999999,1.05]
[1116,1.25,1.2,1.1499999999999999,1.05]
[1117,1.25,1.2,1.1499999999999999,1.05]
[1118,1.25,1.2,1.1499999999999999,1.05]
[1119,1.25,1.2,1.1499999999999999,1.05]
[1120,1.25,1.2,1.1499999999999999,1.05]
[1121,1.25,1.2,1.1499999999999999,1.05]
[1122,1.25,1.2,1.1499999999999999,1.05]
[1123,1.25,1.2,1.1499999999999999,1.05]
[1124,1.25,1.2,1.1499999999999999,1.05]
[1125,1.25,1.2,1.1499999999999999,1.05]
[1126,1.25,1.2,1.1499999999999999,1.05]
[1127,1.25,1.2,1.1499999999999999,1.05]
[1128,1.25,1.2,1.1499999999999999,1.05]
[1129,1.25,1.2,1.1499999999999999,1.05]
[1130,1.25,1.2,1.1499999999999999,1.05]
[1131,1.25,1.2,1.1499999999999999,1.05]
[1132,1.25,1.2,1.1499999999999999,1.05]
[1133,1.25,1.2,1.1499999999999999,1.05]
[1134,1.25,1.2,1.1499999999999999,1.05]
[1135,1.25,1.2,1.1499999999999999,1.05]
[1136,1.25,1.2,1.1499999999999999,1.05]
[1137,1.25,1.2,1.1499999999999999,1.05]
[1138,1.25,1.2,1.1499999999999999,1.05]
[1139,1.25,1.2,1.1499999999999999,1.05]
[1140,1.25,1.2,1.1499999999999999,1.05]
[1141,1.25,1.2,1.1499999999999999,1.05]
[1142,1.25,1.2,1.1499999999999999,1.05]
[1143,1.25,1.2,1.1499999999999999,1.05]
[1144,1.25,1.2,1.1499999999999999,1.05]
[1145,1.25,1.2,1.1499999999999999,1.05]
[1146,1.25,1.2,1.1499999999999999,1.05]
[1147,1.25,1.2,1.1499999999999999,1.05]
[1148,1.25,1.2,1.1499999999999999,1.05]
[1149,1.25,1.2,1.1499999999999999,1.05]
[1150,1.25,1.2,1.1499999999999999,1.05]
[1151,1.25,1.2,1.1499999999999999,1.05]
[1152,1.25,1.2,1.1499999999999999,1.05]
[1153,1.25,1.2,1.1499999999999999,1.05]
[1154,1.25,1.2,1.1499999999999999,1.05]
[1155,1.25,1.2,1.1499999999999999,1.05]
[1156,1.25,1.2,1.1499999999999999,1.05]
[1157,1.25,1.2,1.1499999999999999,1.05]
[1158,1.25,1.2,1.1499999999999999,1.05]
[1159,1.25,1.2,1.1499999999999999,1.05]
[1160,1.25,1.2,1.1499999999999999,1.05]
[1161,1.25,1.2,1.1499999999999999,1.05]
[1162,1.25,1.2,1.1499999999999999,1.05]
[1163,1.25,1.2,1.1499999999999999,1.05]
[1164,1.25,1.2,1.1499999999999999,1.05]
[1165,1.25,1.2,1.1499999999999999,1.05]
[1166,1.25,1.2,1.1499999999999999,1.05]
[1167,1.25,1.2,1.1499999999999999,1.05]
[1168,1.25,1.2,1.1499999999999999,1.05]
[1169,1.25,1.2,1.1499999999999999,1.05]
[1170,1.25,1.2,1.1499999999999999,1.05]
[1171,1.25,1.2,1.1499999999999999,1.05]
[1172,1.25,1.2,1.1499999999999999,1.05]
[1173,1.25,1.2,1.1499999999999999,1.05]
[1174,1.25,1.2,1.1499999999999999,1.05]
[1175,1.25,1.2,1.1499999999999999,1.05]
[1176,1.25,1.2,1.1499999999999999,1.05]
[1177,1.25,1.2,1.1499999999999999,1.05]
[1178,1.25,1.2,1.1499999999999999,1.05]
[1179,1.25,1.2,1.1499999999999999,1.05]
[1180,1.25,1.2,1.1499999999999999,1.05]
[1181,1.25,1.2,1.1499999999999999,1.05]
[1182,1.25,1.2,1.1499999999999999,1.05]
[1183,1.25,1.2,1.1499999999999999,1.05]
[1184,1.25,1.2,1.1499999999999999,1.05]
[1185,1.25,1.2,1.1499999999999999,1.05]
[1186,1.25,1.2,1.1499999999999999,1.05]
[1187,1.25,1.2,1.1499999999999999,1.05]
[1188,1.25,1.2,1.1499999999999999,1.05]
[1189,1.25,1.2,1.1499999999999999,1.05]
[1190,1.25,1.2,1.1499999999999999,1.05]
[1191,1.25,1.2,1.1499999999999999,1.05]
[1192,1.25,1.2,1.1499999999999999,1.05]
[1193,1.25,1.2,1.1499999999999999,1.05]
[1194,1.25,1.2,1.1499999999999999,1.05]
[1195,1.25,1.2,1.1499999999999999,1.05]
[1196,1.25,1.2,1.1499999999999999,1.05]
[1197,1.25,1.2,1.1499999999999999,1.05]
[1198,1.25,1.2,1.1499999999999999,1.05]
[1199,1.25,1.2,1.1499999999999999,1.05]
[1200,1.25,1.2,1.1499999999999999,1.05]
[1201,1.25,1.2,1.1499999999999999,1.05]
[1202,1.25,1.2,1.1499999999999999,1.05]
[1203,1.25,1.2,1.1499999999999999,1.05]
[1204,1.25,1.2,1.1499999999999999,1.05]
[1205,1.25,1.2,1.1499999999999999,1.05]
[1206,1.25,1.2,1.1499999999999999,1.05]
[1207,1.25,1.2,1.1499999999999999,1.05]
[1208,1.25,1.2,1.1499999999999999,1.05]
[1209,1.25,1.2,1.1499999999999999,1.05]
[1210,1.25,1.2,1.1499999999999999,1.05]
[1211,1.25,1.2,1.1499999999999999,1.05]
[1212,1.25,1.2,1.1499999999999999,1.05]
[1213,1.25,1.2,1.1499999999999999,1.05]
[1214,1.25,1.2,1.1499999999999999,1.05]
[1215,1.25,1.2,1.1499999999999999,1.05]
[1216,1.25,1.2,1.1499999999999999,1.05]
[1217,1.25,1.2,1.1499999999999999,1.05]
[1218,1.25,1.2,1.1499999999999999,1.05]
[1219,1.25,1.2,1.1499999999999999,1.05]
[1220,1.25,1.2,1.1499999999999999,1.05]
[1221,1.25,1.2,1.1499999999999999,1.05]
[1222,1.25,1.2,1.1499999999999999,1.05]
[1223,1.25,1.2,1.1499999999999999,1.05]
[1224,1.25,1.2,1.1499999999999999,1.05]
[1225,1.25,1.2,1.1499999999999999,1.05]
[1226,1.25,1.2,1.1499999999999999,1.05]
[1227,1.25,1.2,1.1499999999999999,1.05]
[1228,1.25,1.2,1.1499999999999999,1.05]
[1229,1.25,1.2,1.1499999999999999,1.05]
[1230,1.25,1.2,1.1499999999999999,1.05]
[1231,1.25,1.2,1.1499999999999999,1.05]
[1232,1.25,1.2,1.1499999999999999,1.05]
[1233,1.25,1.2,1.1499999999999999,1.05]
[1234,1.25,1.2,1.1499999999999999,1.05]
[1235,1.25,1.2,1.1499999999999999,1.05]
[1236,1.25,1.2,1.1499999999999999,1.05]
[1237,1.25,1.2,1.1499999999999999,1.05]
[1238,1.25,1.2,1.1499999999999999,1.05]
[1239,1.25,1.2,1.1499999999999999,1.05]
[1240,1.25,1.2,1.1499999999999999,1.05]
[1241,1.25,1.2,1.1499999999999999,1.05]
[1242,1.25,1.2,1.1499999999999999,1.05]
[1243,1.25,1.2,1.1499999999999999,1.05]
[1244,1.25,1.2,1.1499999999999999,1.05]
[1245,1.25,1.2,1.1499999999999999,1.05]
[1246,1.25,1.2,1.1499999999999999,1.05]
[1247,1.25,1.2,1.1499999999999999,1.05]
[1248,1.25,1.2,1.1499999999999999,1.05]
[1249,1.25,1.2,1.1499999999999999,1.05]
[1250,1.25,1.2,1.1499999999999999,1.05]
[1251,1.25,1.2,1.1499999999999999,1.05]
[1252,1.25,1.2,1.1499999999999999,1.05]
[1253,1.25,1.2,1.1499999999999999,1.05]
[1254,1.25,1.2,1.1499999999999999,1.05]
[1255,1.25,1.2,1.1499999999999999,1.05]
[1256,1.25,1.2,1.1499999999999999,1.05]
[1257,1.25,1.2,1.1499999999999999,1.05]
[1258,1.25,1.2,1.1499999999999999,1.05]
[1259,1.25,1.2,1.1499999999999999,1.05]
[1260,1.25,1.2,1.1499999999999999,1.05]
[1261,1.25,1.2,1.1499999999999999,1.05]
[1262,1.25,1.2,1.1499999999999999,1.05]
[1263,1.25,1.2,1.1499999999999999,1.05]
[1264,1.25,1.2,1.1499999999999999,1.05]
[1265,1.25,1.2,1.1499999999999999,1.05]
[1266,1.25,1.2,1.1499999999999999,1.05]
[1267,1.25,1.2,1.1499999999999999,1.05]
[1268,1.25,1.2,1.1499999999999999,1.05]
[1269,1.25,1.2,1.1499999999999999,1.05]
[1270,1.25,1.2,1.1499999999999999,1.05]
[1271,1.25,1.2,1.1499999999999999,1.05]
[1272,1.25,1.2,1.1499999999999999,1.05]
[1273,1.25,1.2,1.1499999999999999,1.05]
[1274,1.25,1.2,1.1499999999999999,1.05]
[1275,1.25,1.2,1.1499999999999999,1.05]
[1276,1.25,1.2,1.1499999999999999,1.05]
[1277,1.25,1.2,1.1499999999999999,1.05]
[1278,1.25,1.2,1.1499999999999999,1.05]
[1279,1.25,1.2,1.1499999999999999,1.05]
[1280,1.25,1.2,1.1499999999999999,1.05]
[1281,1.25,1.2,1.1499999999999999,1.05]
[1282,1.25,1.2,1.1499999999999999,1.05]
[1283,1.25,1.2,1.1499999999999999,1.05]
[1284,1.25,1.2,1.1499999999999999,1.05]
[1285,1.25,1.2,1.1499999999999999,1.05]
[1286,1.25,1.2,1.1499999999999999,1.05]
[1287,1.25,1.2,1.1499999999999999,1.05]
[1288,1.25,1.2,1.1499999999999999,1.05]
[1289,1.25,1.2,1.1499999999999999,1.05]
[1290,1.25,1.2,1.1499999999999999,1.05]
[1291,1.25,1.2,1.1499999999999999,1.05]
[1292,1.25,1.2,1.1499999999999999,1.05]
[1293,1.25,1.2,1.1499999999999999,1.05]
[1294,1.25,1.2,1.1499999999999999,1.05]
[1295,1.25,1.2,1.1499999999999999,1.05]
[1296,1.25,1.2,1.1499999999999999,1.05]
[1297,1.25,1.2,1.1499999999999999,1.05]
[1298,1.25,1.2,1.1499999999999999,1.05]
[1299,1.25,1.2,1.1499999999999999,1.05]
[1300,1.25,1.2,1.1499999999999999,1.05]
[1301,1.25,1.2,1.1499999999999999,1.05]
[1302,1.25,1.2,1.1499999999999999,1.05]
[1303,1.25,1.2,1.1499999999999999,1.05]
[1304,1.25,1.2,1.1499999999999999,1.05]
[1305,1.25,1.2,1.1499999999999999,1.05]
[1306,1.25,1.2,1.1499999999999999,1.05]
[1307,1.25,1.2,1.1499999999999999,1.05]
[1308,1.25,1.2,1.1499999999999999,1.05]
[1309,1.25,1.2,1.1499999999999999,1.05]
[1310,1.25,1.2,1.1499999999999999,1.05]
[1311,1.25,1.2,1.1499999999999999,1.05]
[1312,1.25,1.2,1.1499999999999999,1.05]
[1313,1.25,1.2,1.1499999999999999,1.05]
[1314,1.25,1.2,1.1499999999999999,1.05]
[1315,1.25,1.2,1.1499999999999999,1.05]
[1316,1.25,1.2,1.1499999999999999,1.05]
[1317,1.25,1.2,1.1499999999999999,1.05]
[1318,1.25,1.2,1.1499999999999999,1.05]
[1319,1.25,1.2,1.1499999999999999,1.05]
[1320,1.25,1.2,1.1499999999999999,1.05]
[1321,1.25,1.2,1.1499999999999999,1.05]
[1322,1.25,1.2,1.1499999999999999,1.05]
[1323,1.25,1.2,1.1499999999999999,1.05]
[1324,1.25,1.2,1.1499999999999999,1.05]
[1325,1.25,1.2,1.1499999999999999,1.05]
[1326,1.25,1.2,1.1499999999999999,1.05]
[1327,1.25,1.2,1.1499999999999999,1.05]
[1328,1.25,1.2,1.1499999999999999,1.05]
[1329,1.25,1.2,1.1499999999999999,1.05]
[1330,1.25,1.2,1.1499999999999999,1.05]
[1331,1.25,1.2,1.1499999999999999,1.05]
[1332,1.25,1.2,1.1499999999999999,1.05]
[1333,1.25,1.2,1.1499999999999999,1.05]
[1334,1.25,1.2,1.1499999999999999,1.05]
[1335,1.25,1.2,1.1499999999999999,1.05]
[1336,1.25,1.2,1.1499999999999999,1.05]
[1337,1.25,1.2,1.1499999999999999,1.05]
[1338,1.25,1.2,1.1499999999999999,1.05]
[1339,1.25,1.2,1.1499999999999999,1.05]
[1340,1.25,1.2,1.1499999999999999,1.05]
[1341,1.25,1.2,1.1499999999999999,1.05]
[1342,1.25,1.2,1.1499999999999999,1.05]
[1343,1.25,1.2,1.1499999999999999,1.05]
[1344,1.25,1.2,1.1499999999999999,1.05]
[1345,1.25,1.2,1.1499999999999999,1.05]
[1346,1.25,1.2,1.1499999999999999,1.05]
[1347,1.25,1.2,1.1499999999999999,1.05]
[1348,1.25,1.2,1.1499999999999999,1.05]
[1349,1.25,1.2,1.1499999999999999,1.05]
[1350,1.25,1.2,1.1499999999999999,1.05]
[1351,1.25,1.2,1.1499999999999999,1.05]
[1352,1.25,1.2,1.1499999999999999,1.05]
[1353,1.25,1.2,1.1499999999999999,1.05]
[1354,1.25,1.2,1.1499999999999999,1.05]
[1355,1.25,1.2,1.1499999999999999,1.05]
[1356,1.25,1.2,1.1499999999999999,1.05]
[1357,1.25,1.2,1.1499999999999999,1.05]
[1358,1.25,1.2,1.1499999999999999,1.05]
[1359,1.25,1.2,1.1499999999999999,1.05]
[1360,1.25,1.2,1.1499999999999999,1.05]
[1361,1.25,1.2,1.1499999999999999,1.05]
[1362,1.25,1.2,1.1499999999999999,1.05]
[1363,1.25,1.2,1.1499999999999999,1.05]
[1364,1.25,1.2,1.1499999999999999,1.05]
[1365,1.25,1.2,1.1499999999999999,1.05]
[1366,1.25,1.2,1.1499999999999999,1.05]
[1367,1.25,1.2,1.1499999999999999,1.05]
[1368,1.25,1.2,1.1499999999999999,1.05]
[1369,1.25,1.2,1.1499999999999999,1.05]
[1370,1.25,1.2,1.1499999999999999,1.05]
[1371,1.25,1.2,1.1499999999999999,1.05]
[1372,1.25,1.2,1.1499999999999999,1.05]
[1373,1.25,1.2,1.1499999999999999,1.05]
[1374,1.25,1.2,1.1499999999999999,1.05]
[1375,1.25,1.2,1.1499999999999999,1.05]
[1376,1.25,1.2,1.1499999999999999,1.05]
[1377,1.25,1.2,1.1499999999999999,1.05]
[1378,1.25,1.2,1.1499999999999999,1.05]
[1379,1.25,1.2,1.1499999999999999,1.05]
[1380,1.25,1.2,1.1499999999999999,1.05]
[1381,1.25,1.2,1.1499999999999999,1.05]
[1382,1.25,1.2,1.1499999999999999,1.05]
[1383,1.25,1.2,1.1499999999999999,1.05]
[1384,1.25,1.2,1.1499999999999999,1.05]
[1385,1.25,1.2,1.1499999999999999,1.05]
[1386,1.25,1.2,1.1499999999999999,1.05]
[1387,1.25,1.2,1.1499999999999999,1.05]
[1388,1.25,1.2,1.1499999999999999,1.05]
[1389,1.25,1.2,1.1499999999999999,1.05]
[1390,1.25,1.2,1.1499999999999999,1.05]
[1391,1.25,1.2,1.1499999999999999,1.05]
[1392,1.25,1.2,1.1499999999999999,1.05]
[1393,1.25,1.2,1.1499999999999999,1.05]
[1394,1.25,1.2,1.1499999999999999,1.05]
[1395,1.25,1.2,1.1499999999999999,1.05]
[1396,1.25,1.2,1.1499999999999999,1.05]
[1397,1.25,1.2,1.1499999999999999,1.05]
[1398,1.25,1.2,1.1499999999999999,1.05]
[1399,1.25,1.2,1.1499999999999999,1.05]
[1400,1.25,1.2,1.1499999999999999,1.05]
[1401,1.25,1.2,1.1499999999999999,1.05]
[1402,1.25,1.2,1.1499999999999999,1.05]
[1403,1.25,1.2,1.1499999999999999,1.05]
[1404,1.25,1.2,1.1499999999999999,1.05]
[1405,1.25,1.2,1.1499999999999999,1.05]
[1406,1.25,1.2,1.1499999999999999,1.05]
[1407,1.25,1.2,1.1499999999999999,1.05]
[1408,1.25,1.2,1.1499999999999999,1.05]
[1409,1.25,1.2,1.1499999999999999,1.05]
[1410,1.25,1.2,1.1499999999999999,1.05]
[1411,1.25,1.2,1.1499999999999999,1.05]
[1412,1.25,1.2,1.1499999999999999,1.05]
[1413,1.25,1.2,1.1499999999999999,1.05]
[1414,1.25,1.2,1.1499999999999999,1.05]
[1415,1.25,1.2,1.1499999999999999,1.05]
[1416,1.25,1.2,1.1499999999999999,1.05]
[1417,1.25,1.2,1.1499999999999999,1.05]
[1418,1.25,1.2,1.1499999999999999,1.05]
[1419,1.25,1.2,1.1499999999999999,1.05]
[1420,1.25,1.2,1.1499999999999999,1.05]
[1421,1.25,1.2,1.1499999999999999,1.05]
[1422,1.25,1.2,1.1499999999999999,1.05]
[1423,1.25,1.2,1.1499999999999999,1.05]
[1424,1.25,1.2,1.1499999999999999,1.05]
[1425,1.25,1.2,1.1499999999999999,1.05]
[1426,1.25,1.2,1.1499999999999999,1.05]
[1427,1.25,1.2,1.1499999999999999,1.05]
[1428,1.25,1.2,1.1499999999999999,1.05]
[1429,1.25,1.2,1.1499999999999999,1.05]
[1430,1.25,1.2,1.1499999999999999,1.05]
[1431,1.25,1.2,1.1499999999999999,1.05]
[1432,1.25,1.2,1.1499999999999999,1.05]
[1433,1.25,1.2,1.1499999999999999,1.05]
[1434,1.25,1.2,1.1499999999999999,1.05]
[1435,1.25,1.2,1.1499999999999999,1.05]
[1436,1.25,1.2,1.1499999999999999,1.05]
[1437,1.25,1.2,1.1499999999999999,1.05]
[1438,1.25,1.2,1.1499999999999999,1.05]
[1439,1.25,1.2,1.1499999999999999,1.05]
[1440,1.25,1.2,1.1499999999999999,1.05]
[1441,1.25,1.2,1.1499999999999999,1.05]
[1442,1.25,1.2,1.1499999999999999,1.05]
[1443,1.25,1.2,1.1499999999999999,1.05]

{"sheet":"HiddenData","index":7,"n_rows":3,"n_cols":9,"rows_kept":3,"cut":false,"hidden":true,"merged":[]}
["Ending Row Number in table NB under Localized Factor Worksheet",null,null,null,null,null,null," = ",15]
["Starting Row Number in table NB under Localized Factor Worksheet",null,null,null,null,null,null," = ",37]
["Scroll Limit",null,null,null,null,null,null,null,{"$f":"I2+36","v":73}]

{"sheet":"Blank","index":8,"n_rows":0,"n_cols":0,"rows_kept":0,"cut":false,"hidden":true,"merged":[]}

{"sheet":"BLANK EXCLUSION SHEET","index":9,"n_rows":4,"n_cols":10,"rows_kept":4,"cut":false,"hidden":true,"merged":[[0,0,1,4],[0,5,1,9],[3,6,4,6],[3,7,4,7],[3,8,4,8],[3,9,4,9],[2,0,2,4],[2,5,2,9],[3,0,4,0],[3,1,4,1],[3,2,4,2],[3,3,4,3],[3,4,4,4],[3,5,4,5]]}
[{"$f":"'Calculation sheet'!AO19","v":"  from MP  To MP  and  from MP  To MP "},null,null,null,null,{"$f":"A1","v":"  from MP  To MP  and  from MP  To MP "}]
[]
[{"$f":"'Calculation sheet'!C8","v":0},null,null,null,null,{"$f":"'Calculation sheet'!E8","v":0}]
["Localized Factor","From","To","Lane","Remarks","Localized Factor","From","To","Lane","Remarks"]

{"sheet":"Sample Input","index":10,"n_rows":115,"n_cols":1,"rows_kept":115,"cut":false,"hidden":true,"merged":[[0,0,0,8],[1,0,1,8],[2,0,2,8],[3,0,3,8],[4,0,4,8]]}
["NEW JERSEY DEPARTMENT OF TRANSPORTATION"]
["SAMPLE LOCALIZED FACTORS INPUT IN RQR SOFTWARE"]
[{"$f":"Instructions!A3","v":"Version: 3.00W"}]
[{"$f":"Instructions!A4","v":"Information last updated on: April 30, 2014"}]
[]
["Impediments (IM):"]
[]
["Enter approximate location of Impediment (Mile post or Station)."]
[]
[]
[]
[]
[]
[]
[]
[]
[]
[]
[]
[]
[]
[]
[]
[]
[]
[]
[]
[]
[]
[]
[]
[]
["Short Section (SS)"]
[]
[]
[]
[]
[]
[]
[]
[]
[]
[]
[]
[]
[]
[]
[]
[]
[]
[]
[]
["Structure (SR):"]
[]
[]
[]
[]
[]
[]
[]
[]
[]
[]
[]
[]
[]
[]
[]
[]
[]
[]
[]
[]
[]
[]
[]
["Transverse Joint (TJ):"]
[]
[]
[]
[]
[]
[]
[]
[]
[]
[]
[]
[]
[]
[]
[]
[]
[]
[]
[]
[]
[]
["Rail Road (RR):"]
[]
[]
[]
[]
[]
[]
[]
[]
[]
[]
[]
[]
[]
[]
[]
["For any question, send email to RQSPECSUPPORT@DOT.STATE.NJ.US"]

{"sheet":"Localized Factors Summary","index":11,"n_rows":40,"n_cols":18,"rows_kept":40,"cut":false,"hidden":true,"merged":[[39,0,39,2],[39,9,39,11],[29,0,29,7],[29,9,29,16],[30,0,30,2],[30,9,30,11],[31,9,31,11],[31,0,32,0],[31,1,31,2],[32,1,32,2],[33,0,34,0],[33,1,33,2],[34,1,34,2],[35,0,36,0],[35,1,35,2],[36,1,36,2],[19,9,20,9],[19,10,19,11],[20,10,20,11],[21,9,22,9],[33,9,33,11],[19,0,20,0],[21,0,22,0],[23,0,24,0],[19,1,19,2],[20,1,20,2],[21,1,21,2],[22,1,22,2],[23,1,23,2],[24,1,24,2],[15,9,15,16],[16,0,16,2],[16,9,16,11],[17,0,18,0],[17,1,17,2],[18,1,18,2],[17,9,18,9],[17,10,17,11],[18,10,18,11],[4,9,5,9],[4,10,4,11],[5,10,5,11],[6,9,7,9],[6,10,6,11],[7,10,7,11],[12,9,12,11],[14,0,14,7],[14,9,14,16],[9,1,9,2],[11,1,11,2],[8,9,9,9],[8,10,8,11],[9,10,9,11],[10,9,11,9],[10,10,10,11],[11,10,11,11],[12,0,12,2],[1,9,1,16],[2,0,2,7],[2,9,2,16],[3,0,3,2],[3,9,3,11],[0,0,0,7],[13,0,13,7],[27,0,27,7],[4,0,5,0],[6,0,7,0],[8,0,9,0],[10,0,11,0],[4,1,4,2],[5,1,5,2],[6,1,6,2],[8,1,8,2],[10,1,10,2],[1,0,1,7],[15,0,15,7],[7,1,7,2],[25,0,25,2],[37,0,38,0],[37,1,37,2],[38,1,38,2],[21,10,21,11],[22,10,22,11],[23,9,24,9],[23,10,23,11],[24,10,24,11],[25,9,25,11],[28,0,28,7],[28,9,28,16]]}
["FROM LOCALIZED FACTOR WORKSHEET"]
["TOTAL EXCLUSIONS",null,null,null,null,null,null,null,null,"TOTAL EXCLUSIONS"]
[{"$f":"'Localized Factor Worksheet'!B12","v":0},null,null,null,null,null,null,null,null,{"$f":"'Localized Factor Worksheet'!Q12","v":0}]
["Lane No. from left in the dir of traffic",null,null,{"$f":"'Localized Factor Worksheet'!F49","v":1},{"$f":"'Localized Factor Worksheet'!G49","v":""},{"$f":"'Localized Factor Worksheet'!H49","v":""},{"$f":"'Localized Factor Worksheet'!I49","v":""},{"$f":"'Localized Factor Worksheet'!J49","v":""},null,"Lane No. from left in the dir of traffic",null,null,{"$f":"'Localized Factor Worksheet'!T49","v":1},{"$f":"'Localized Factor Worksheet'!U49","v":""},{"$f":"'Localized Factor Worksheet'!V49","v":""},{"$f":"'Localized Factor Worksheet'!W49","v":""},{"$f":"'Localized Factor Worksheet'!X49","v":""}]
["IM (Manholes, Inlets)","No. of Occurances",null,{"$f":"'Localized Factor Worksheet'!F55","v":0},{"$f":"'Localized Factor Worksheet'!G55","v":0},{"$f":"'Localized Factor Worksheet'!H55","v":0},{"$f":"'Localized Factor Worksheet'!I55","v":0},{"$f":"'Localized Factor Worksheet'!J55","v":0},null,"IM (Manholes, Inlets)","No. of Occurances",null,{"$f":"'Localized Factor Worksheet'!T55","v":0},{"$f":"'Localized Factor Worksheet'!U55","v":0},{"$f":"'Localized Factor Worksheet'!V55","v":0},{"$f":"'Localized Factor Worksheet'!W55","v":0},{"$f":"'Localized Factor Worksheet'!X55","v":0}]
[null,"No. of Exclusions",null,{"$f":"'Localized Factor Worksheet'!F56","v":0},{"$f":"'Localized Factor Worksheet'!G56","v":"-"},{"$f":"'Localized Factor Worksheet'!H56","v":"-"},{"$f":"'Localized Factor Worksheet'!I56","v":"-"},{"$f":"'Localized Factor Worksheet'!J56","v":"-"},null,null,"No. of Exclusions",null,{"$f":"'Localized Factor Worksheet'!T56","v":0},{"$f":"'Localized Factor Worksheet'!U56","v":"-"},{"$f":"'Localized Factor Worksheet'!V56","v":"-"},{"$f":"'Localized Factor Worksheet'!W56","v":"-"},{"$f":"'Localized Factor Worksheet'!X56","v":"-"}]
["SS (Short Sections)","No. of Occurances",null,{"$f":"'Localized Factor Worksheet'!F67","v":0},{"$f":"'Localized Factor Worksheet'!G67","v":0},{"$f":"'Localized Factor Worksheet'!H67","v":0},{"$f":"'Localized Factor Worksheet'!I67","v":0},{"$f":"'Localized Factor Worksheet'!J67","v":0},null,"SS (Short Sections)","No. of Occurances",null,{"$f":"'Localized Factor Worksheet'!T67","v":0},{"$f":"'Localized Factor Worksheet'!U67","v":0},{"$f":"'Localized Factor Worksheet'!V67","v":0},{"$f":"'Localized Factor Worksheet'!W67","v":0},{"$f":"'Localized Factor Worksheet'!X67","v":0}]
[null,"No. of Exclusions",null,{"$f":"'Localized Factor Worksheet'!F68","v":0},{"$f":"'Localized Factor Worksheet'!G68","v":"-"},{"$f":"'Localized Factor Worksheet'!H68","v":"-"},{"$f":"'Localized Factor Worksheet'!I68","v":"-"},{"$f":"'Localized Factor Worksheet'!J68","v":"-"},null,null,"No. of Exclusions",null,{"$f":"'Localized Factor Worksheet'!T68","v":0},{"$f":"'Localized Factor Worksheet'!U68","v":"-"},{"$f":"'Localized Factor Worksheet'!V68","v":"-"},{"$f":"'Localized Factor Worksheet'!W68","v":"-"},{"$f":"'Localized Factor Worksheet'!X68","v":"-"}]
["SR (Structure)","No. of Occurances",null,{"$f":"'Localized Factor Worksheet'!F59","v":0},{"$f":"'Localized Factor Worksheet'!G59","v":0},{"$f":"'Localized Factor Worksheet'!H59","v":0},{"$f":"'Localized Factor Worksheet'!I59","v":0},{"$f":"'Localized Factor Worksheet'!J59","v":0},null,"SR (Structure)","No. of Occurances",null,{"$f":"'Localized Factor Worksheet'!T59","v":0},{"$f":"'Localized Factor Worksheet'!U59","v":0},{"$f":"'Localized Factor Worksheet'!V59","v":0},{"$f":"'Localized Factor Worksheet'!W59","v":0},{"$f":"'Localized Factor Worksheet'!X59","v":0}]
[null,"No. of Exclusions",null,{"$f":"'Localized Factor Worksheet'!F60","v":0},{"$f":"'Localized Factor Worksheet'!G60","v":"-"},{"$f":"'Localized Factor Worksheet'!H60","v":"-"},{"$f":"'Localized Factor Worksheet'!I60","v":"-"},{"$f":"'Localized Factor Worksheet'!J60","v":"-"},null,null,"No. of Exclusions",null,{"$f":"'Localized Factor Worksheet'!T60","v":0},{"$f":"'Localized Factor Worksheet'!U60","v":"-"},{"$f":"'Localized Factor Worksheet'!V60","v":"-"},{"$f":"'Localized Factor Worksheet'!W60","v":"-"},{"$f":"'Localized Factor Worksheet'!X60","v":"-"}]
["BDO (Bridge Deck Overlay)","No. of Occurances",null,{"$f":"'Localized Factor Worksheet'!F62","v":0},{"$f":"'Localized Factor Worksheet'!G62","v":0},{"$f":"'Localized Factor Worksheet'!H62","v":0},{"$f":"'Localized Factor Worksheet'!I62","v":0},{"$f":"'Localized Factor Worksheet'!J64","v":0},null,"BDO (Bridge Deck Overlay)","No. of Occurances",null,{"$f":"'Localized Factor Worksheet'!T62","v":0},{"$f":"'Localized Factor Worksheet'!U62","v":0},{"$f":"'Localized Factor Worksheet'!V62","v":0},{"$f":"'Localized Factor Worksheet'!W62","v":0},{"$f":"'Localized Factor Worksheet'!X62","v":0}]
[null,"No. of Exclusions",null,{"$f":"'Localized Factor Worksheet'!F63","v":0},{"$f":"'Localized Factor Worksheet'!G63","v":0},{"$f":"'Localized Factor Worksheet'!H63","v":0},{"$f":"'Localized Factor Worksheet'!I63","v":0},{"$f":"'Localized Factor Worksheet'!J63","v":0},null,null,"No. of Exclusions",null,{"$f":"'Localized Factor Worksheet'!T63","v":0},{"$f":"'Localized Factor Worksheet'!U63","v":0},{"$f":"'Localized Factor Worksheet'!V63","v":0},{"$f":"'Localized Factor Worksheet'!W63","v":0},{"$f":"'Localized Factor Worksheet'!X63","v":0}]
["TOTAL EXCLUSIONS",null,null,{"$f":"'Localized Factor Worksheet'!F73","v":1},{"$f":"'Localized Factor Worksheet'!G73","v":""},{"$f":"'Localized Factor Worksheet'!H73","v":""},{"$f":"'Localized Factor Worksheet'!I73","v":""},{"$f":"'Localized Factor Worksheet'!J73","v":""},null,"TOTAL EXCLUSIONS",null,null,{"$f":"'Localized Factor Worksheet'!T73","v":0},{"$f":"'Localized Factor Worksheet'!U73","v":""},{"$f":"'Localized Factor Worksheet'!V73","v":""},{"$f":"'Localized Factor Worksheet'!W73","v":""},{"$f":"'Localized Factor Worksheet'!X73","v":""}]
["FROM IMPEDIMENTS"]
["TOTAL EXCLUSIONS",null,null,null,null,null,null,null,null,"TOTAL EXCLUSIONS"]
[{"$f":"A3","v":0},null,null,null,null,null,null,null,null,{"$f":"J3","v":0}]
["Lane No. from left in the dir of traffic",null,null,{"$f":"Impediments!D37","v":1},{"$f":"Impediments!E37","v":""},{"$f":"Impediments!F37","v":""},{"$f":"Impediments!G37","v":""},{"$f":"Impediments!H37","v":""},null,"Lane No. from left in the dir of traffic",null,null,{"$f":"Impediments!M37","v":1},{"$f":"Impediments!N37","v":""},{"$f":"Impediments!O37","v":""},{"$f":"Impediments!P37","v":""},{"$f":"Impediments!Q37","v":""}]
["IM (Manholes, Inlets)","No. of Occurances",null,{"$f":"Impediments!D38","v":0},{"$f":"Impediments!E38","v":"-"},{"$f":"Impediments!F38","v":"-"},{"$f":"Impediments!G38","v":"-"},{"$f":"Impediments!H38","v":"-"},null,"IM (Manholes, Inlets)","No. of Occurances",null,{"$f":"Impediments!M38","v":0},{"$f":"Impediments!N38","v":"-"},{"$f":"Impediments!O38","v":"-"},{"$f":"Impediments!P38","v":""},{"$f":"Impediments!Q38","v":"-"}]
[null,"No. of Exclusions",null,{"$f":"Impediments!D39","v":0},{"$f":"Impediments!E39","v":"-"},{"$f":"Impediments!F39","v":"-"},{"$f":"Impediments!G39","v":"-"},{"$f":"Impediments!H39","v":"-"},null,null,"No. of Exclusions",null,{"$f":"Impediments!M39","v":0},{"$f":"Impediments!N39","v":"-"},{"$f":"Impediments!O39","v":"-"},{"$f":"Impediments!P39","v":"-"},{"$f":"Impediments!Q39","v":"-"}]
["SS (Short Sections)","No. of Occurances",null,{"$f":"Impediments!D40","v":0},{"$f":"Impediments!E40","v":"-"},{"$f":"Impediments!F40","v":"-"},{"$f":"Impediments!G40","v":"-"},{"$f":"Impediments!H40","v":"-"},null,"SS (Short Sections)","No. of Occurances",null,{"$f":"Impediments!M40","v":0},{"$f":"Impediments!N40","v":"-"},{"$f":"Impediments!O40","v":"-"},{"$f":"Impediments!P40","v":"-"},{"$f":"Impediments!Q40","v":"-"}]
[null,"No. of Exclusions",null,{"$f":"Impediments!D41","v":0},{"$f":"Impediments!E41","v":"-"},{"$f":"Impediments!F41","v":"-"},{"$f":"Impediments!G41","v":"-"},{"$f":"Impediments!H41","v":"-"},null,null,"No. of Exclusions",null,{"$f":"Impediments!M41","v":0},{"$f":"Impediments!N41","v":"-"},{"$f":"Impediments!O41","v":"-"},{"$f":"Impediments!P41","v":"-"},{"$f":"Impediments!Q41","v":"-"}]
["SR(Structure)","No. of Occurances",null,{"$f":"Impediments!D42","v":0},{"$f":"Impediments!E42","v":"-"},{"$f":"Impediments!F42","v":"-"},{"$f":"Impediments!G42","v":"-"},{"$f":"Impediments!H42","v":"-"},null,"SR(Structure)","No. of Occurances",null,{"$f":"Impediments!M42","v":0},{"$f":"Impediments!N42","v":"-"},{"$f":"Impediments!O42","v":"-"},{"$f":"Impediments!P42","v":"-"},{"$f":"Impediments!Q42","v":"-"}]
[null,"No. of Exclusions",null,{"$f":"Impediments!D43","v":0},{"$f":"Impediments!E43","v":"-"},{"$f":"Impediments!F43","v":"-"},{"$f":"Impediments!G43","v":"-"},{"$f":"Impediments!H43","v":"-"},null,null,"No. of Exclusions",null,{"$f":"Impediments!M43","v":0},{"$f":"Impediments!N43","v":"-"},{"$f":"Impediments!O43","v":"-"},{"$f":"Impediments!P43","v":"-"},{"$f":"Impediments!Q43","v":"-"}]
["BDO (Bridge Deck Overlay)","No. of Occurances",null,{"$f":"Impediments!D44","v":0},{"$f":"Impediments!E44","v":""},{"$f":"Impediments!F44","v":""},{"$f":"Impediments!G44","v":""},{"$f":"Impediments!H44","v":""},null,"BDO (Bridge Deck Overlay)","No. of Occurances",null,{"$f":"Impediments!M44","v":0},{"$f":"Impediments!N44","v":""},{"$f":"Impediments!O44","v":""},{"$f":"Impediments!P44","v":""},{"$f":"Impediments!Q44","v":""}]
[null,"No. of Exclusions",null,{"$f":"Impediments!D45","v":0},{"$f":"Impediments!E45","v":"-"},{"$f":"Impediments!F45","v":"-"},{"$f":"Impediments!G45","v":"-"},{"$f":"Impediments!H45","v":"-"},null,null,"No. of Exclusions",null,{"$f":"Impediments!M45","v":0},{"$f":"Impediments!N45","v":"-"},{"$f":"Impediments!O45","v":""},{"$f":"Impediments!P45","v":""},{"$f":"Impediments!Q45","v":""}]
["TOTAL EXCLUSIONS",null,null,{"$f":"Impediments!D46","v":1},{"$f":"Impediments!E46","v":"-"},{"$f":"Impediments!F46","v":"-"},{"$f":"Impediments!G46","v":"-"},{"$f":"Impediments!H46","v":"-"},null,"TOTAL EXCLUSIONS",null,null,{"$f":"Impediments!M46","v":1},{"$f":"Impediments!N46","v":"-"},{"$f":"Impediments!O46","v":"-"},{"$f":"Impediments!P46","v":"-"},{"$f":"Impediments!Q46","v":"-"}]
[]
["SUMMARY"]
[{"$f":"'Localized Factor Worksheet'!C48","v":"Exclusion Distribution in Lanes"},null,null,null,null,null,null,null,null,{"$f":"'Localized Factor Worksheet'!Q48","v":"Exclusion Distribution in Lanes"}]
[{"$f":"A16","v":0},null,null,null,null,null,null,null,null,{"$f":"J16","v":0}]
["Lane No. from left in the dir of traffic",null,null,1,"","","","",null,"Lane No. from left in the dir of traffic",null,null,1,"","","",""]
["IM (Manholes, Inlets)","No. of Occurances",null,0,"-","-","-","-",{"$f":"SUM(D32:H32)+1","v":1},"IM",null,null,0,"-","-","","-",{"$f":"SUM(M32:Q32)+1","v":1}]
[null,"No. of Exclusions",null,0,"-","-","-","-",{"$f":"ROUND((SUM(D33:H33)+1)*52.8,0)","v":53},null,null,null,0,"-","-","-","-",{"$f":"ROUND((SUM(M33:Q33)+1)*52.8,0)","v":53}]
["SS (Short Sections)","No. of Occurances",null,0,"-","-","-","-",{"$f":"SUM(D34:H34)","v":0},"SS",null,null,0,"-","-","-","-",{"$f":"SUM(M34:Q34)","v":0}]
[null,"No. of Exclusions",null,0,"-","-","-","-",{"$f":"ROUND((SUM(D35:H35)+0)*52.8,0)","v":0},null,null,null,0,"-","-","-","-",{"$f":"ROUND((SUM(M35:Q35)+0)*52.8,0)","v":0}]
["SR(Structure)","No. of Occurances",null,0,"-","-","-","-",{"$f":"SUM(D36:H36)","v":0},"SR",null,null,0,"-","-","-","-",{"$f":"SUM(M36:Q36)","v":0}]
[null,"No. of Exclusions",null,0,"-","-","-","-",{"$f":"ROUND((SUM(D37:H37)+0)*52.8,0)","v":0},null,null,null,0,"-","-","-","-",{"$f":"ROUND((SUM(M37:Q37)+0)*52.8,0)","v":0}]
["BDO (Bridge Deck Overlay)","No. of Occurances",null,0,"","","","",{"$f":"SUM(D38:H38)","v":0},"BDO",null,null,0,"","","","",{"$f":"SUM(M38:Q38)","v":0}]
[null,"No. of Exclusions",null,0,"-","-","-","-",{"$f":"ROUND((SUM(D39:H39)+0)*52.8,0)","v":0},null,null,null,0,"-","","","",{"$f":"ROUND((SUM(M39:Q39)+0)*52.8,0)","v":0}]
["TOTAL EXCLUSIONS",null,null,1,"-","-","-","-",null,"TOTAL EXCLUSIONS",null,null,1,"-","-","-","-"]

{"sheet":"Instructions","index":12,"n_rows":46,"n_cols":14,"rows_kept":46,"cut":false,"hidden":true,"merged":[[43,1,44,10],[30,1,30,10],[32,1,32,10],[40,1,40,10],[41,1,41,10],[42,1,42,10],[38,0,38,10],[39,1,39,10],[35,1,35,10],[4,0,4,10],[0,0,0,10],[3,0,3,10],[24,1,24,10],[1,0,1,10],[2,0,2,10],[10,1,10,10],[16,1,16,10],[14,1,14,10],[5,0,5,10],[13,1,13,10],[7,1,7,10],[15,1,15,10],[6,1,6,10],[8,1,8,10],[9,1,9,10],[12,1,12,10],[26,1,26,10],[29,0,29,10],[31,1,31,10],[34,1,34,10],[33,1,33,10],[27,1,27,10],[20,0,20,10],[22,1,22,10],[21,1,21,10],[25,1,25,10],[23,1,23,10]]}
["  NEW JERSEY DEPARTMENT OF TRANSPORTATION"]
["RIDE QUALITY REQUIREMENTS (RQR) SOFTWARE"]
[{"$f":"'Calculation sheet'!B158","v":"Version: 3.00W"}]
[{"$f":"'Calculation sheet'!B159","v":"Information last updated on: April 30, 2014"}]
["GUIDELINES FOR ENTERING LOCALIZED FACTORS"]
["IMPEDIMENTS (IM)"]
[1,"IM are utility covers, manholes, catch basins, inlets,   and any other features.",null,null,null,null,null,null,null,null,null,null,"a"]
[2,"Enter approximate location of center of IM.  Length/diameter of the manhole/inlet/utility covers is not required. RQR will add appropriate threshold length for each entered IM. (See sample input for IM). "]
[3,"All potential IM should be counted irrespective of the distance between two IMs.  For example: If there are one manhole, one utility valve, and one inlet at one location (say Sta. 110+00 or MP 100.00), enter  location i.e. Sta 110+00 or MP 100.00 for each one of them. (See figure 1, 3 & 5 of Localized Factors)."]
[4,"If shoulders (marked or unmarked) or parking lane will be paved with the travel lane in one paving operation, all IMs located in shoulder or parking lane should be included as exclusion in adjacent lane. (See figure 1 of Localized Factors)."]
[5,"If shoulders (marked or unmarked) will not be paved with the travel lane in one paving operation, all IMs located in shoulder should not be included as exclusion in adjacent lane. (See figure 3 of Localized Factors)."]
[7,"See Examples on Sheet 1 & 2 of Localized Factors."]
[null,"Note:-Unmarked shoulder is additional area adjacent to travel way i.e. 12 ft wide avaiable for parking etc and not seperated from travel lane by striping. "]
[null,"SHORT SECTION (SS)"]
[1,"SS are any segment within the continuous section of paved lane that are excluded from rest of the project due to difficulties associated with achieving target International Roughness Index (IRI). For example :- Intersections, L-turn Lanes (See figure 4 of Localized Factors)."]
[2,"Unpaved section should not be counted as an exclusion because pay equations will only be used for the tested paved pavement within the project. Unpaved section of pavement will not be tested."]
[3,"Enter actual limits of short sections to be considered for exclusion.  RQR will add the threshold length of SS to this exclusion length of the short section.",null,null,null,null,null,null,null,null,null,null,null,"See Examples on Sheet 1 & 2 of Localized Factors."]
[4,"See Examples on Sheet 1 & 2 (Figures 2 & 4) of Localized Factors."]
[5,"See sample input for \"SS\"."]
[]
["STRUCTURE (SR) "]
[1,"SR is concrete deck. "]
[2,"Enter approximate locations of SR."]
[3,"RQR will add the threshold length for each entered structure.  If deck carries multiple lanes, enter location for each lane separately so that exclusion for each lane can be calculated."]
[4,"Actual limits of concrete deck length not paved will be determined by the department during pay adjustment by video view."]
[5,"For Bridge Deck with proposed HMA, do not enter any exclusion since the pay equations in table \"401.03.03-7\" of the specifications for bridge deck overlay will be used for pay adjustments calculation.  Actual length of bridge deck will be determined during pay adjustment by video view."]
[6,"If there is any structure with existing HMA overlay and will not be paved in this project, enter approximate location of that structure as an \"SR\" exclusions."]
[7,"If approaches of any structure with existing HMA overlay will not be paved in this project, do not enter any exclusion for \"SR\".  However, enter \"TJ\" for break in continue paving operation."]
[]
["TRANSEVERSE JOINT (TJ)"]
[1,"Transverse Joints (TJ) are break in continue paving operation for FINAL RIDING SURFACE due to change in surface course thickness/mix or due to feature not counted as any other exclusion. "]
[2,"Enter \"TJ\" for every break in paving operation. RQR will add the threshold length for each entered transverse Joint."]
[3,"Do not enter \"TJ\" for construction joint at the end of a day paving operation."]
[4,"Do not enter \"TJ\" for the joint at the beginning of project because Joint at the beginning and end of the section is already added at the first row of the table.  "]
[3,"If any approach of a bridge deck is not being paved and causing break in continue paving operation, enter \"TJ\" at the beginning and end of the structure.  Do not enter \"TJ\", if exclusion as \"SR\" is already counted for this structure.  "]
[5,"Enter \"TJ\" for change in surface course thickness or mix."]
[6,"Do not enter \"TJ\" for change in milling depth."]
[]
["RAIL ROAD (RR)"]
[1,"RR is any Rail Road crossing in transverse direction that are excluded from rest of the project due to difficulties asociated with achieving target IRI or cause break in continue operation."]
[2,"Enter actual limits of rail road segment for exclusion i.e. location of first and last rail road .  Program will add the threshold length of RR to this exclusion length. Software will add the threshold for a segment."]
[3,"Enter \"RR\" for each lane seperately.  For Example: If any project has three lanes at location of RR crossing, enter \"RR\" for Lane 1, Lane 2 and Lane 3 seperately."]
[4,"Do not enter \"RR\", if the rail road is not being paved or rail raod segment is excluded from paving. Pay adjustment will be calculated only for paved area.  But, enter \"TJ\" for break in paving  operation due to rail road."]
[null,"NOTE:- If you prefer to enter localized factors based on number of counts, use above guide lines to determine number of impediments, structures and length of short sections.  You are advised to save survey sheet for future review."]
[]
[null,"For any question, send email to RQSPECSUPPORT@DOT.STATE.NJ.US"]

{"sheet":"Lane","index":13,"n_rows":103,"n_cols":61,"rows_kept":103,"cut":false,"hidden":true,"merged":[[4,0,4,3],[5,2,5,3],[6,2,6,3],[0,2,0,3],[2,2,2,3],[1,0,1,3],[3,2,3,3],[77,8,77,9],[78,8,78,9],[62,8,62,9],[63,8,63,9],[64,8,64,9],[65,8,65,9],[66,8,66,9],[57,8,57,9],[58,8,58,9],[59,8,59,9],[60,8,60,9],[61,8,61,9],[52,8,52,9],[53,8,53,9],[54,8,54,9],[55,8,55,9],[56,8,56,9],[79,8,79,9],[80,8,80,9],[81,8,81,9],[72,8,72,9],[73,8,73,9],[74,8,74,9],[75,8,75,9],[76,8,76,9],[67,8,67,9],[68,8,68,9],[69,8,69,9],[70,8,70,9],[71,8,71,9],[47,8,47,9],[48,8,48,9],[49,8,49,9],[50,8,50,9],[51,8,51,9],[42,8,42,9],[43,8,43,9],[44,8,44,9],[45,8,45,9],[46,8,46,9],[37,8,37,9],[38,8,38,9],[39,8,39,9],[40,8,40,9],[41,8,41,9],[32,8,32,9],[33,8,33,9],[34,8,34,9],[35,8,35,9],[36,8,36,9],[27,8,27,9],[28,8,28,9],[29,8,29,9],[30,8,30,9],[31,8,31,9],[22,8,22,9],[23,8,23,9],[24,8,24,9],[25,8,25,9],[26,8,26,9],[78,0,78,1],[79,0,79,1],[80,0,80,1],[81,0,81,1],[10,8,10,9],[11,8,11,9],[12,8,12,9],[13,8,13,9],[14,8,14,9],[15,8,15,9],[16,8,16,9],[17,8,17,9],[18,8,18,9],[19,8,19,9],[20,8,20,9],[21,8,21,9],[73,0,73,1],[74,0,74,1],[75,0,75,1],[76,0,76,1],[77,0,77,1],[68,0,68,1],[69,0,69,1],[70,0,70,1],[71,0,71,1],[72,0,72,1],[63,0,63,1],[64,0,64,1],[65,0,65,1],[66,0,66,1],[67,0,67,1],[58,0,58,1],[59,0,59,1],[60,0,60,1],[61,0,61,1],[62,0,62,1],[53,0,53,1],[54,0,54,1],[55,0,55,1],[56,0,56,1],[57,0,57,1],[48,0,48,1],[49,0,49,1],[50,0,50,1],[51,0,51,1],[52,0,52,1],[43,0,43,1],[44,0,44,1],[45,0,45,1],[46,0,46,1],[47,0,47,1],[38,0,38,1],[39,0,39,1],[40,0,40,1],[41,0,41,1],[42,0,42,1],[22,0,22,1],[33,0,33,1],[34,0,34,1],[35,0,35,1],[36,0,36,1],[37,0,37,1],[28,0,28,1],[29,0,29,1],[30,0,30,1],[31,0,31,1],[32,0,32,1],[94,10,94,11],[94,3,94,4],[94,5,94,6],[94,0,94,1],[94,8,94,9],[7,49,7,52],[7,53,7,56],[7,57,7,60],[6,41,6,60],[7,21,7,24],[7,33,7,36],[7,25,7,28],[7,29,7,32],[7,37,7,40],[6,21,6,40],[7,41,7,44],[7,45,7,48],[91,29,91,30],[94,15,94,16],[94,17,94,18],[94,19,94,20],[94,21,94,22],[94,23,94,24],[8,0,8,6],[91,21,91,22],[91,23,91,24],[91,25,91,26],[91,27,91,28],[8,8,8,14],[9,0,9,1],[9,8,9,9],[10,0,10,1],[11,0,11,1],[12,0,12,1],[13,0,13,1],[14,0,14,1],[15,0,15,1],[16,0,16,1],[17,0,17,1],[23,0,23,1],[24,0,24,1],[25,0,25,1],[26,0,26,1],[27,0,27,1],[18,0,18,1],[19,0,19,1],[20,0,20,1],[21,0,21,1]]}
[null,{"$f":"'Calculation sheet'!C8","v":0},{"$f":"'Calculation sheet'!E8","v":0},null,"Lane",1,2,3,4,5,null,"Lane",1,2,3,4,5,null,null,null,null,null,null,"Search for (Do not Move)",null,null,null,null,"start",null,null,null,null,null,null,null,null,null,null,null,null,null,null,null,null,null,null,null,null,null,null,null,null,null,null,"Calculation Sheet"]
["Project Limits",null,null,null,"Count Start",{"$f":"COUNTIF(C11:C82, \"start\")","v":0},{"$f":"COUNTIF(D11:D82, \"start\")","v":0},{"$f":"COUNTIF(E11:E82, \"start\")","v":0},{"$f":"COUNTIF(F11:F82, \"start\")","v":0},{"$f":"COUNTIF(G11:G82, \"start\")","v":0},null,"Count Start",{"$f":"COUNTIF(K11:K82, \"start\")","v":0},{"$f":"COUNTIF(L11:L82, \"start\")","v":0},{"$f":"COUNTIF(M11:M82, \"start\")","v":0},{"$f":"COUNTIF(N11:N82, \"start\")","v":0},{"$f":"COUNTIF(O11:O82, \"start\")","v":0},null,null,null,null,null,null,null,null,null,null,null,"cont"]
["Project Begin",{"$f":"'Calculation sheet'!C9","v":0},{"$f":"'Calculation sheet'!E9","v":0},null,"Count End",{"$f":"COUNTIF(C12:C82, \"end\")","v":0},{"$f":"COUNTIF(D12:D82, \"end\")","v":0},{"$f":"COUNTIF(E12:E82, \"end\")","v":0},{"$f":"COUNTIF(F12:F82, \"end\")","v":0},{"$f":"COUNTIF(G12:G82, \"end\")","v":0},null,"Count End",{"$f":"COUNTIF(K11:K82, \"end\")","v":0},{"$f":"COUNTIF(L11:L82, \"end\")","v":0},{"$f":"COUNTIF(M11:M82, \"end\")","v":0},{"$f":"COUNTIF(N11:N82, \"end\")","v":0},{"$f":"COUNTIF(O11:O82, \"end\")","v":0},null,null,null,null,null,null,"Search for (Do not move)",null,null,null,null,"end"]
["Project End",{"$f":"'Calculation sheet'!C10","v":0},{"$f":"'Calculation sheet'!E10","v":0},null,"Count cont",{"$f":"COUNTIF(C12:C82, \"cont\")","v":0},{"$f":"COUNTIF(D12:D82, \"cont\")","v":0},{"$f":"COUNTIF(E12:E82, \"cont\")","v":0},{"$f":"COUNTIF(F12:F82, \"cont\")","v":0},{"$f":"COUNTIF(G12:G82, \"cont\")","v":0},null,"Count cont",{"$f":"COUNTIF(K11:K82, \"cont\")","v":0},{"$f":"COUNTIF(L11:L82, \"cont\")","v":0},{"$f":"COUNTIF(M11:M82, \"cont\")","v":0},{"$f":"COUNTIF(N11:N82, \"cont\")","v":0},{"$f":"COUNTIF(O11:O82, \"cont\")","v":0},null,null,null,null,null,null,null,null,null,null,null,"None",null,null,null,null,null,null,null,null,"Lane 5",null,null,null,null,null,null,null,null,null,null,null,null,null,"Lane 5"]
["RQ Limits",null,null,null,"Total",{"$f":"SUM(F2:F4)+COUNTIF(C11:C82, \"None\")","v":0},{"$f":"SUM(G2:G4)+COUNTIF(D11:D82, \"None\")","v":0},{"$f":"SUM(H2:H4)+COUNTIF(E11:E82, \"None\")","v":0},{"$f":"SUM(I2:I4)+COUNTIF(F11:F82, \"None\")","v":0},{"$f":"SUM(J2:J4)+COUNTIF(G11:G82, \"None\")","v":0},null,"Total",{"$f":"SUM(M2:M4)+COUNTIF(K11:K82, \"None\")","v":0},{"$f":"SUM(N2:N4)+COUNTIF(L11:L82, \"None\")","v":0},{"$f":"SUM(O2:O4)+COUNTIF(M11:M82, \"None\")","v":0},{"$f":"SUM(P2:P4)+COUNTIF(N11:N82, \"None\")","v":0},{"$f":"SUM(Q2:Q4)+COUNTIF(O11:O82, \"None\")","v":0},null,null,null,null,null,null,"Lane length no to be tested",null,null,null,{"$f":"1000*0.99/5280","v":0.1875}]
["Project Begin",{"$f":"A11","v":0},{"$f":"I11","v":0},null,"first start",16,null,15,16,15,null,"first start",16,15,15,16,15,null,null,null,null,22,23,24,25,26,27,28,29,30,31,32,33,34,35,36,37,38,39,40,41,42,43,44,45,46,47,5,{"$f":"1000*0.99/5280","v":0.1875},50,51,52,53,54,55,56,57,58,59,60,61]
["Project End",{"$f":"IF(MAX(A11:B82)=I11,I11,MAX(A11:B82))","v":0},{"$f":"IF(MAX(I11:J82)=I11,I11,MAX(I11:J82))","v":0},null,"first end",2,null,null,null,null,null,"first end",13,null,null,null,null,null,null,null,null,{"$f":"A9","v":0},null,null,null,null,null,null,null,null,null,null,null,null,null,null,null,null,null,null,null,{"$f":"I9","v":0}]
[1,null,null,null,"# of cycle",2,0,0,0,0,null,"# of cycle",0,0,0,0,0,null,null,null,null,"Lane 1",null,null,null,"Lane 2",null,null,null,"Lane 3",null,null,null,"Lane 4",null,null,null,"Lane 5",null,null,null,"Lane 1",null,null,null,"Lane 2",null,null,null,"Lane 3",null,null,null,"Lane 4",null,null,null,"Lane 5"]
[{"$f":"'Calculation sheet'!C8","v":0},null,null,null,null,null,null,null,{"$f":"'Calculation sheet'!E8","v":0},null,null,null,null,null,null,{"$f":"CONCATENATE(P10,\"  \",P11,\"  \",P12,\"  \",P13)","v":"Please enter mile post limit, where number of lanes is changing.  Select \"Start\" where the lane begin.  If lane continue at the eneterd milepost, select \"continue\".  select \"End\" at the milepost where lane stops.  If a lane begin, should also have end to stop that lane."},null,null,null,null,null,"Begin MP","Ending MP","Mile",null,"Begin MP","Ending MP","Mile",null,"Begin MP","Ending MP","Mile",null,"Begin MP","Ending MP","Mile",null,"Begin MP","Ending MP","Mile",null,"Begin MP","Ending MP","Mile",null,"Begin MP","Ending MP","Mile",null,"Begin MP","Ending MP","Mile",null,"Begin MP","Ending MP","Mile",null,"Begin MP","Ending MP","Mile"]
["MP ",null,"Lane 1","Lane 2","Lane 3","Lane 4","Lane 5",null,"MP ",null,"Lane 1","Lane 2","Lane 3","Lane 4","Lane 5","Please enter mile post limit, where number of lanes is changing.",null,null,null,null,null,{"$f":"IF(A96=\"\",\"\",A96)","v":0.75},{"$f":"IF(B96=\"\",\"\",B96)","v":1.5},{"$f":"IF(V10=\"\",\"\",ROUND(ABS(V10-W10),2))","v":0.75},{"$f":"CONCATENATE(\"MP \",V10,\" - \",\"MP \",W10)","v":"MP 0.75 - MP 1.5"},{"$f":"IF(D96=\"\",\"\",D96)","v":0.79400000000000004},{"$f":"IF(E96=\"\",\"\",E96)","v":4},{"$f":"IF(Z10=\"\",\"\",ROUND(ABS(Z10-AA10),2))","v":3.21},{"$f":"CONCATENATE(\"MP \",Z10,\" - \",\"MP \",AA10)","v":"MP 0.794 - MP 4"},{"$f":"IF(F96=\"\",\"\",F96)","v":0.75},{"$f":"IF(G96=\"\",\"\",G96)","v":0.79400000000000004},{"$f":"IF(AD10=\"\",\"\",ROUND(ABS(AD10-AE10),2))","v":0.04},{"$f":"CONCATENATE(\"MP \",AD10,\" - \",\"MP \",AE10)","v":"MP 0.75 - MP 0.794"},{"$f":"IF(I96=\"\",\"\",I96)","v":0.79400000000000004},{"$f":"IF(J96=\"\",\"\",J96)","v":4},{"$f":"IF(AH10=\"\",\"\",ROUND(ABS(AH10-AI10),2))","v":3.21},{"$f":"CONCATENATE(\"MP \",AH10,\" - \",\"MP \",AI10)","v":"MP 0.794 - MP 4"},{"$f":"IF(K96=\"\",\"\",K96)","v":0.75},{"$f":"IF(L96=\"\",\"\",L96)","v":3.6},{"$f":"IF(AL10=\"\",\"\",ROUND(ABS(AL10-AM10),2))","v":2.85},{"$f":"CONCATENATE(\"MP \",AL10,\" - \",\"MP \",AM10)","v":"MP 0.75 - MP 3.6"},{"$f":"IF(P96=\"\",\"\",P96)","v":0.75},{"$f":"IF(Q96=\"\",\"\",Q96)","v":1.5},{"$f":"IF(AP10=\"\",\"\",ROUND(ABS(AP10-AQ10),2))","v":0.75},{"$f":"CONCATENATE(\"MP \",AP10,\" - \",\"MP \",AQ10)","v":"MP 0.75 - MP 1.5"},{"$f":"IF(R96=\"\",\"\",R96)","v":0.79400000000000004},{"$f":"IF(S96=\"\",\"\",S96)","v":3.6},{"$f":"IF(AT10=\"\",\"\",ROUND(ABS(AT10-AU10),2))","v":2.81},{"$f":"CONCATENATE(\"MP \",AT10,\" - \",\"MP \",AU10)","v":"MP 0.794 - MP 3.6"},{"$f":"IF(T96=\"\",\"\",T96)","v":0.75},{"$f":"IF(U96=\"\",\"\",U96)","v":0.79400000000000004},{"$f":"IF(AX10=\"\",\"\",ROUND(ABS(AX10-AY10),2))","v":0.04},{"$f":"CONCATENATE(\"MP \",AX10,\" - \",\"MP \",AY10)","v":"MP 0.75 - MP 0.794"},{"$f":"IF(V96=\"\",\"\",V96)","v":0.79400000000000004},{"$f":"IF(W96=\"\",\"\",W96)","v":4},{"$f":"IF(BB10=\"\",\"\",ROUND(ABS(BB10-BC10),2))","v":3.21},{"$f":"CONCATENATE(\"MP \",BB10,\" - \",\"MP \",BC10)","v":"MP 0.794 - MP 4"},{"$f":"IF(X96=\"\",\"\",X96)","v":0.75},{"$f":"IF(Y96=\"\",\"\",Y96)","v":3.6},{"$f":"IF(BF10=\"\",\"\",ROUND(ABS(BF10-BG10),2))","v":2.85},{"$f":"CONCATENATE(\"MP \",BF10,\" - \",\"MP \",BG10)","v":"MP 0.75 - MP 3.6"}]
[null,null,null,null,null,null,null,null,null,null,null,null,null,null,null,"Select \"Start\" where the lane begin.  If lane continue at the eneterd milepost, select \"continue\".",null,null,null,null,null,{"$f":"IF(A97=\"\",\"\",A97)","v":3.6},{"$f":"IF(B97=\"\",\"\",B97)","v":4},{"$f":"IF(V11=\"\",\"\",ROUND(ABS(V11-W11),2))","v":0.4},{"$f":"CONCATENATE(\"MP \",V11,\" - \",\"MP \",W11)","v":"MP 3.6 - MP 4"},{"$f":"IF(D97=\"\",\"\",D97)","v":""},"",{"$f":"IF(Z11=\"\",\"\",ROUND(ABS(Z11-AA11),2))","v":""},{"$f":"CONCATENATE(\"MP \",Z11,\" - \",\"MP \",AA11)","v":"MP  - MP "},{"$f":"IF(F97=\"\",\"\",F97)","v":3.3490000000000002},3.6,{"$f":"IF(AD11=\"\",\"\",ROUND(ABS(AD11-AE11),2))","v":0.25},{"$f":"CONCATENATE(\"MP \",AD11,\" - \",\"MP \",AE11)","v":"MP 3.349 - MP 3.6"},{"$f":"IF(I97=\"\",\"\",I97)","v":""},"",{"$f":"IF(AH11=\"\",\"\",ROUND(ABS(AH11-AI11),2))","v":""},{"$f":"CONCATENATE(\"MP \",AH11,\" - \",\"MP \",AI11)","v":"MP  - MP "},{"$f":"IF(K97=\"\",\"\",K97)","v":""},"",{"$f":"IF(AL11=\"\",\"\",ROUND(ABS(AL11-AM11),2))","v":""},{"$f":"CONCATENATE(\"MP \",AL11,\" - \",\"MP \",AM11)","v":"MP  - MP "},{"$f":"IF(P97=\"\",\"\",P97)","v":3.6},4,{"$f":"IF(AP11=\"\",\"\",ROUND(ABS(AP11-AQ11),2))","v":0.4},{"$f":"CONCATENATE(\"MP \",AP11,\" - \",\"MP \",AQ11)","v":"MP 3.6 - MP 4"},{"$f":"IF(R97=\"\",\"\",R97)","v":""},"",{"$f":"IF(AT11=\"\",\"\",ROUND(ABS(AT11-AU11),2))","v":""},{"$f":"CONCATENATE(\"MP \",AT11,\" - \",\"MP \",AU11)","v":"MP  - MP "},{"$f":"IF(T97=\"\",\"\",T97)","v":3.3490000000000002},3.6,{"$f":"IF(AX11=\"\",\"\",ROUND(ABS(AX11-AY11),2))","v":0.25},{"$f":"CONCATENATE(\"MP \",AX11,\" - \",\"MP \",AY11)","v":"MP 3.349 - MP 3.6"},{"$f":"IF(V97=\"\",\"\",V97)","v":""},"",{"$f":"IF(BB11=\"\",\"\",ROUND(ABS(BB11-BC11),2))","v":""},{"$f":"CONCATENATE(\"MP \",BB11,\" - \",\"MP \",BC11)","v":"MP  - MP "},{"$f":"IF(X97=\"\",\"\",X97)","v":""},"",{"$f":"IF(BF11=\"\",\"\",ROUND(ABS(BF11-BG11),2))","v":""},{"$f":"CONCATENATE(\"MP \",BF11,\" - \",\"MP \",BG11)","v":"MP  - MP "}]
[null,null,null,null,null,null,null,null,null,null,null,null,null,null,null,"select \"End\" at the milepost where lane stops.",null,null,null,null,null,"","","",{"$f":"CONCATENATE(\"MP \",V12,\" - \",\"MP \",W12)","v":"MP  - MP "},{"$f":"IF(D98=\"\",\"\",D98)","v":""},"","","MP  - MP ",{"$f":"IF(F98=\"\",\"\",F98)","v":""},"","","MP  - MP ",{"$f":"IF(I98=\"\",\"\",I98)","v":""},"","","MP  - MP ",{"$f":"IF(K98=\"\",\"\",K98)","v":""},"","","MP  - MP ",{"$f":"IF(P98=\"\",\"\",P98)","v":""},"","","MP  - MP ",{"$f":"IF(R98=\"\",\"\",R98)","v":""},"","","MP  - MP ",{"$f":"IF(T98=\"\",\"\",T98)","v":""},"","","MP  - MP ",{"$f":"IF(V98=\"\",\"\",V98)","v":""},"","","MP  - MP ",{"$f":"IF(X98=\"\",\"\",X98)","v":""},"","","MP  - MP "]
[null,null,null,null,null,null,null,null,null,null,null,null,null,null,null,"If a lane begin, should also have end to stop that lane.",null,null,null,null,null,"","","","MP  - MP ",{"$f":"IF(D99=\"\",\"\",D99)","v":""},"","","MP  - MP ",{"$f":"IF(F99=\"\",\"\",F99)","v":""},"","","MP  - MP ",{"$f":"IF(I99=\"\",\"\",I99)","v":""},"","","MP  - MP ",{"$f":"IF(K99=\"\",\"\",K99)","v":""},"","","MP  - MP ",{"$f":"IF(P99=\"\",\"\",P99)","v":""},"","","MP  - MP ",{"$f":"IF(R99=\"\",\"\",R99)","v":""},"","","MP  - MP ",{"$f":"IF(T99=\"\",\"\",T99)","v":""},"","","MP  - MP ",{"$f":"IF(V99=\"\",\"\",V99)","v":""},"","","MP  - MP ",{"$f":"IF(X99=\"\",\"\",X99)","v":""},"","","MP  - MP "]
[null,null,null,null,null,null,null,null,null,null,null,null,null,null,null,null,null,null,null,null,null,"","","","MP  - MP ",{"$f":"IF(D100=\"\",\"\",D100)","v":""},"","","MP  - MP ",{"$f":"IF(F100=\"\",\"\",F100)","v":""},"","","MP  - MP ",{"$f":"IF(I100=\"\",\"\",I100)","v":""},"","","MP  - MP ",{"$f":"IF(K100=\"\",\"\",K100)","v":""},"","","MP  - MP ",{"$f":"IF(P100=\"\",\"\",P100)","v":""},"","","MP  - MP ",{"$f":"IF(R100=\"\",\"\",R100)","v":""},"","","MP  - MP ",{"$f":"IF(T100=\"\",\"\",T100)","v":""},"","","MP  - MP ",{"$f":"IF(V100=\"\",\"\",V100)","v":""},"","","MP  - MP ",{"$f":"IF(X100=\"\",\"\",X100)","v":""},"","","MP  - MP "]
[null,null,null,null,null,null,null,null,null,null,null,null,null,null,null,"To Check Maximum number of lanes",null,null,null,null,null,"","","","MP  - MP ",{"$f":"IF(D101=\"\",\"\",D101)","v":""},"","","MP  - MP ",{"$f":"IF(F101=\"\",\"\",F101)","v":""},"","","MP  - MP ",{"$f":"IF(I101=\"\",\"\",I101)","v":""},"","","MP  - MP ",{"$f":"IF(K101=\"\",\"\",K101)","v":""},"","","MP  - MP ",{"$f":"IF(P101=\"\",\"\",P101)","v":""},"","","MP  - MP ",{"$f":"IF(R101=\"\",\"\",R101)","v":""},"","","MP  - MP ",{"$f":"IF(T101=\"\",\"\",T101)","v":""},"","","MP  - MP ",{"$f":"IF(V101=\"\",\"\",V101)","v":""},"","","MP  - MP ",{"$f":"IF(X101=\"\",\"\",X101)","v":""},"","","MP  - MP "]
[null,null,null,null,null,null,null,null,null,null,null,null,null,null,null,{"$f":"A9","v":0},{"$f":"IF(AN91>0,5,(IF(AJ91>0,4,(IF(AF91>0,3,(IF(AB91>0,2,1)))))))","v":5},null,null,null,null,"","","","MP  - MP ",{"$f":"IF(D102=\"\",\"\",D102)","v":""},"","","MP  - MP ",{"$f":"IF(F102=\"\",\"\",F102)","v":""},"","","MP  - MP ",{"$f":"IF(I102=\"\",\"\",I102)","v":""},"","","MP  - MP ",{"$f":"IF(K102=\"\",\"\",K102)","v":""},"","","MP  - MP ",{"$f":"IF(P102=\"\",\"\",P102)","v":""},"","","MP  - MP ",{"$f":"IF(R102=\"\",\"\",R102)","v":""},"","","MP  - MP ",{"$f":"IF(T102=\"\",\"\",T102)","v":""},"","","MP  - MP ",{"$f":"IF(V102=\"\",\"\",V102)","v":""},"","","MP  - MP ",{"$f":"IF(X102=\"\",\"\",X102)","v":""},"","","MP  - MP "]
[null,null,null,null,null,null,null,null,null,null,null,null,null,null,null,{"$f":"I9","v":0},{"$f":"IF(BH91>0,5,(IF(BD91>0,4,(IF(AZ91>0,3,(IF(AV91>0,2,1)))))))","v":5},null,null,null,null,"","","","MP  - MP ",{"$f":"IF(D103=\"\",\"\",D103)","v":""},"","","MP  - MP ",{"$f":"IF(F103=\"\",\"\",F103)","v":""},"","","MP  - MP ",{"$f":"IF(I103=\"\",\"\",I103)","v":""},"","","MP  - MP ",{"$f":"IF(K103=\"\",\"\",K103)","v":""},"","","MP  - MP ",{"$f":"IF(P103=\"\",\"\",P103)","v":""},"","","MP  - MP ",{"$f":"IF(R103=\"\",\"\",R103)","v":""},"","","MP  - MP ",{"$f":"IF(T103=\"\",\"\",T103)","v":""},"","","MP  - MP ",{"$f":"IF(V103=\"\",\"\",V103)","v":""},"","","MP  - MP ",{"$f":"IF(X103=\"\",\"\",X103)","v":""},"","","MP  - MP "]
[null,null,null,null,null,null,null,null,null,null,null,null,null,null,null,null,null,null,null,null,null,"","","","MP  - MP ",{"$f":"IF(D104=\"\",\"\",D104)","v":""},"","","MP  - MP ",{"$f":"IF(F104=\"\",\"\",F104)","v":""},"","","MP  - MP ",{"$f":"IF(I104=\"\",\"\",I104)","v":""},"","","MP  - MP ",{"$f":"IF(K104=\"\",\"\",K104)","v":""},"","","MP  - MP ",{"$f":"IF(P104=\"\",\"\",P104)","v":""},"","","MP  - MP ",{"$f":"IF(R104=\"\",\"\",R104)","v":""},"","","MP  - MP ",{"$f":"IF(T104=\"\",\"\",T104)","v":""},"","","MP  - MP ",{"$f":"IF(V104=\"\",\"\",V104)","v":""},"","","MP  - MP ",{"$f":"IF(X104=\"\",\"\",X104)","v":""},"","","MP  - MP "]
[null,null,null,null,null,null,null,null,null,null,null,null,null,null,null,null,null,null,null,null,null,"","","","MP  - MP ",{"$f":"IF(D105=\"\",\"\",D105)","v":""},"","","MP  - MP ",{"$f":"IF(F105=\"\",\"\",F105)","v":""},"","","MP  - MP ",{"$f":"IF(I105=\"\",\"\",I105)","v":""},"","","MP  - MP ",{"$f":"IF(K105=\"\",\"\",K105)","v":""},"","","MP  - MP ",{"$f":"IF(P105=\"\",\"\",P105)","v":""},"","","MP  - MP ",{"$f":"IF(R105=\"\",\"\",R105)","v":""},"","","MP  - MP ",{"$f":"IF(T105=\"\",\"\",T105)","v":""},"","","MP  - MP ",{"$f":"IF(V105=\"\",\"\",V105)","v":""},"","","MP  - MP ",{"$f":"IF(X105=\"\",\"\",X105)","v":""},"","","MP  - MP "]
[null,null,null,null,null,null,null,null,null,null,null,null,null,null,null,null,null,null,null,null,null,"","","","MP  - MP ",{"$f":"IF(D106=\"\",\"\",D106)","v":""},"","","MP  - MP ",{"$f":"IF(F106=\"\",\"\",F106)","v":""},"","","MP  - MP ",{"$f":"IF(I106=\"\",\"\",I106)","v":""},"","","MP  - MP ",{"$f":"IF(K106=\"\",\"\",K106)","v":""},"","","MP  - MP ",{"$f":"IF(P106=\"\",\"\",P106)","v":""},"","","MP  - MP ",{"$f":"IF(R106=\"\",\"\",R106)","v":""},"","","MP  - MP ",{"$f":"IF(T106=\"\",\"\",T106)","v":""},"","","MP  - MP ",{"$f":"IF(V106=\"\",\"\",V106)","v":""},"","","MP  - MP ",{"$f":"IF(X106=\"\",\"\",X106)","v":""},"","","MP  - MP "]
[null,null,null,null,null,null,null,null,null,null,null,null,null,null,null,null,null,null,null,null,null,"","","","MP  - MP ",{"$f":"IF(D107=\"\",\"\",D107)","v":""},"","","MP  - MP ",{"$f":"IF(F107=\"\",\"\",F107)","v":""},"","","MP  - MP ",{"$f":"IF(I107=\"\",\"\",I107)","v":""},"","","MP  - MP ",{"$f":"IF(K107=\"\",\"\",K107)","v":""},"","","MP  - MP ",{"$f":"IF(P107=\"\",\"\",P107)","v":""},"","","MP  - MP ",{"$f":"IF(R107=\"\",\"\",R107)","v":""},"","","MP  - MP ",{"$f":"IF(T107=\"\",\"\",T107)","v":""},"","","MP  - MP ",{"$f":"IF(V107=\"\",\"\",V107)","v":""},"","","MP  - MP ",{"$f":"IF(X107=\"\",\"\",X107)","v":""},"","","MP  - MP "]
[null,null,null,null,null,null,null,null,null,null,null,null,null,null,null,null,null,null,null,null,null,"","","","MP  - MP ",{"$f":"IF(D108=\"\",\"\",D108)","v":""},"","","MP  - MP ",{"$f":"IF(F108=\"\",\"\",F108)","v":""},"","","MP  - MP ",{"$f":"IF(I108=\"\",\"\",I108)","v":""},"","","MP  - MP ",{"$f":"IF(K108=\"\",\"\",K108)","v":""},"","","MP  - MP ",{"$f":"IF(P108=\"\",\"\",P108)","v":""},"","","MP  - MP ",{"$f":"IF(R108=\"\",\"\",R108)","v":""},"","","MP  - MP ",{"$f":"IF(T108=\"\",\"\",T108)","v":""},"","","MP  - MP ",{"$f":"IF(V108=\"\",\"\",V108)","v":""},"","","MP  - MP ",{"$f":"IF(X108=\"\",\"\",X108)","v":""},"","","MP  - MP "]
[null,null,null,null,null,null,null,null,null,null,null,null,null,null,null,null,null,null,null,null,null,"","","","MP  - MP ",{"$f":"IF(D109=\"\",\"\",D109)","v":""},"","","MP  - MP ",{"$f":"IF(F109=\"\",\"\",F109)","v":""},"","","MP  - MP ",{"$f":"IF(I109=\"\",\"\",I109)","v":""},"","","MP  - MP ",{"$f":"IF(K109=\"\",\"\",K109)","v":""},"","","MP  - MP ",{"$f":"IF(P109=\"\",\"\",P109)","v":""},"","","MP  - MP ",{"$f":"IF(R109=\"\",\"\",R109)","v":""},"","","MP  - MP ",{"$f":"IF(T109=\"\",\"\",T109)","v":""},"","","MP  - MP ",{"$f":"IF(V109=\"\",\"\",V109)","v":""},"","","MP  - MP ",{"$f":"IF(X109=\"\",\"\",X109)","v":""},"","","MP  - MP "]
[null,null,null,null,null,null,null,null,null,null,null,null,null,null,null,null,null,null,null,null,null,"","","","MP  - MP ",{"$f":"IF(D110=\"\",\"\",D110)","v":""},"","","MP  - MP ",{"$f":"IF(F110=\"\",\"\",F110)","v":""},"","","MP  - MP ",{"$f":"IF(I110=\"\",\"\",I110)","v":""},"","","MP  - MP ",{"$f":"IF(K110=\"\",\"\",K110)","v":""},"","","MP  - MP ",{"$f":"IF(P110=\"\",\"\",P110)","v":""},"","","MP  - MP ",{"$f":"IF(R110=\"\",\"\",R110)","v":""},"","","MP  - MP ",{"$f":"IF(T110=\"\",\"\",T110)","v":""},"","","MP  - MP ",{"$f":"IF(V110=\"\",\"\",V110)","v":""},"","","MP  - MP ",{"$f":"IF(X110=\"\",\"\",X110)","v":""},"","","MP  - MP "]
[null,null,null,null,null,null,null,null,null,null,null,null,null,null,null,null,null,null,null,null,null,"","","","MP  - MP ",{"$f":"IF(D111=\"\",\"\",D111)","v":""},"","","MP  - MP ",{"$f":"IF(F111=\"\",\"\",F111)","v":""},"","","MP  - MP ",{"$f":"IF(I111=\"\",\"\",I111)","v":""},"","","MP  - MP ",{"$f":"IF(K111=\"\",\"\",K111)","v":""},"","","MP  - MP ",{"$f":"IF(P111=\"\",\"\",P111)","v":""},"","","MP  - MP ",{"$f":"IF(R111=\"\",\"\",R111)","v":""},"","","MP  - MP ",{"$f":"IF(T111=\"\",\"\",T111)","v":""},"","","MP  - MP ",{"$f":"IF(V111=\"\",\"\",V111)","v":""},"","","MP  - MP ",{"$f":"IF(X111=\"\",\"\",X111)","v":""},"","","MP  - MP "]
[null,null,null,null,null,null,null,null,null,null,null,null,null,null,null,null,null,null,null,null,null,"","","","MP  - MP ",{"$f":"IF(D112=\"\",\"\",D112)","v":""},"","","MP  - MP ",{"$f":"IF(F112=\"\",\"\",F112)","v":""},"","","MP  - MP ",{"$f":"IF(I112=\"\",\"\",I112)","v":""},"","","MP  - MP ",{"$f":"IF(K112=\"\",\"\",K112)","v":""},"","","MP  - MP ",{"$f":"IF(P112=\"\",\"\",P112)","v":""},"","","MP  - MP ",{"$f":"IF(R112=\"\",\"\",R112)","v":""},"","","MP  - MP ",{"$f":"IF(T112=\"\",\"\",T112)","v":""},"","","MP  - MP ",{"$f":"IF(V112=\"\",\"\",V112)","v":""},"","","MP  - MP ",{"$f":"IF(X112=\"\",\"\",X112)","v":""},"","","MP  - MP "]
[null,null,null,null,null,null,null,null,null,null,null,null,null,null,null,null,null,null,null,null,null,"","","","MP  - MP ",{"$f":"IF(D113=\"\",\"\",D113)","v":""},"","","MP  - MP ",{"$f":"IF(F113=\"\",\"\",F113)","v":""},"","","MP  - MP ",{"$f":"IF(I113=\"\",\"\",I113)","v":""},"","","MP  - MP ",{"$f":"IF(K113=\"\",\"\",K113)","v":""},"","","MP  - MP ",{"$f":"IF(P113=\"\",\"\",P113)","v":""},"","","MP  - MP ",{"$f":"IF(R113=\"\",\"\",R113)","v":""},"","","MP  - MP ",{"$f":"IF(T113=\"\",\"\",T113)","v":""},"","","MP  - MP ",{"$f":"IF(V113=\"\",\"\",V113)","v":""},"","","MP  - MP ",{"$f":"IF(X113=\"\",\"\",X113)","v":""},"","","MP  - MP "]
[null,null,null,null,null,null,null,null,null,null,null,null,null,null,null,null,null,null,null,null,null,"","","","MP  - MP ",{"$f":"IF(D114=\"\",\"\",D114)","v":""},"","","MP  - MP ",{"$f":"IF(F114=\"\",\"\",F114)","v":""},"","","MP  - MP ",{"$f":"IF(I114=\"\",\"\",I114)","v":""},"","","MP  - MP ",{"$f":"IF(K114=\"\",\"\",K114)","v":""},"","","MP  - MP ",{"$f":"IF(P114=\"\",\"\",P114)","v":""},"","","MP  - MP ",{"$f":"IF(R114=\"\",\"\",R114)","v":""},"","","MP  - MP ",{"$f":"IF(T114=\"\",\"\",T114)","v":""},"","","MP  - MP ",{"$f":"IF(V114=\"\",\"\",V114)","v":""},"","","MP  - MP ",{"$f":"IF(X114=\"\",\"\",X114)","v":""},"","","MP  - MP "]
[null,null,null,null,null,null,null,null,null,null,null,null,null,null,null,null,null,null,null,null,null,"","","","MP  - MP ",{"$f":"IF(D115=\"\",\"\",D115)","v":""},"","","MP  - MP ",{"$f":"IF(F115=\"\",\"\",F115)","v":""},"","","MP  - MP ",{"$f":"IF(I115=\"\",\"\",I115)","v":""},"","","MP  - MP ",{"$f":"IF(K115=\"\",\"\",K115)","v":""},"","","MP  - MP ",{"$f":"IF(P115=\"\",\"\",P115)","v":""},"","","MP  - MP ",{"$f":"IF(R115=\"\",\"\",R115)","v":""},"","","MP  - MP ",{"$f":"IF(T115=\"\",\"\",T115)","v":""},"","","MP  - MP ",{"$f":"IF(V115=\"\",\"\",V115)","v":""},"","","MP  - MP ",{"$f":"IF(X115=\"\",\"\",X115)","v":""},"","","MP  - MP "]
[null,null,null,null,null,null,null,null,null,null,null,null,null,null,null,null,null,null,null,null,null,"","","","MP  - MP ",{"$f":"IF(D116=\"\",\"\",D116)","v":""},"","","MP  - MP ",{"$f":"IF(F116=\"\",\"\",F116)","v":""},"","","MP  - MP ",{"$f":"IF(I116=\"\",\"\",I116)","v":""},"","","MP  - MP ",{"$f":"IF(K116=\"\",\"\",K116)","v":""},"","","MP  - MP ",{"$f":"IF(P116=\"\",\"\",P116)","v":""},"","","MP  - MP ",{"$f":"IF(R116=\"\",\"\",R116)","v":""},"","","MP  - MP ",{"$f":"IF(T116=\"\",\"\",T116)","v":""},"","","MP  - MP ",{"$f":"IF(V116=\"\",\"\",V116)","v":""},"","","MP  - MP ",{"$f":"IF(X116=\"\",\"\",X116)","v":""},"","","MP  - MP "]
[null,null,null,null,null,null,null,null,null,null,null,null,null,null,null,null,null,null,null,null,null,"","","","MP  - MP ",{"$f":"IF(D117=\"\",\"\",D117)","v":""},"","","MP  - MP ",{"$f":"IF(F117=\"\",\"\",F117)","v":""},"","","MP  - MP ",{"$f":"IF(I117=\"\",\"\",I117)","v":""},"","","MP  - MP ",{"$f":"IF(K117=\"\",\"\",K117)","v":""},"","","MP  - MP ",{"$f":"IF(P117=\"\",\"\",P117)","v":""},"","","MP  - MP ",{"$f":"IF(R117=\"\",\"\",R117)","v":""},"","","MP  - MP ",{"$f":"IF(T117=\"\",\"\",T117)","v":""},"","","MP  - MP ",{"$f":"IF(V117=\"\",\"\",V117)","v":""},"","","MP  - MP ",{"$f":"IF(X117=\"\",\"\",X117)","v":""},"","","MP  - MP "]
[null,null,null,null,null,null,null,null,{"$f":"J31","v":0},null,null,null,null,null,null,null,null,null,null,null,null,"","","","MP  - MP ",{"$f":"IF(D118=\"\",\"\",D118)","v":""},"","","MP  - MP ",{"$f":"IF(F118=\"\",\"\",F118)","v":""},"","","MP  - MP ",{"$f":"IF(I118=\"\",\"\",I118)","v":""},"","","MP  - MP ",{"$f":"IF(K118=\"\",\"\",K118)","v":""},"","","MP  - MP ",{"$f":"IF(P118=\"\",\"\",P118)","v":""},"","","MP  - MP ",{"$f":"IF(R118=\"\",\"\",R118)","v":""},"","","MP  - MP ",{"$f":"IF(T118=\"\",\"\",T118)","v":""},"","","MP  - MP ",{"$f":"IF(V118=\"\",\"\",V118)","v":""},"","","MP  - MP ",{"$f":"IF(X118=\"\",\"\",X118)","v":""},"","","MP  - MP "]
[null,null,null,null,null,null,null,null,0,null,null,null,null,null,null,null,null,null,null,null,null,"","","","MP  - MP ",{"$f":"IF(D119=\"\",\"\",D119)","v":""},"","","MP  - MP ",{"$f":"IF(F119=\"\",\"\",F119)","v":""},"","","MP  - MP ",{"$f":"IF(I119=\"\",\"\",I119)","v":""},"","","MP  - MP ",{"$f":"IF(K119=\"\",\"\",K119)","v":""},"","","MP  - MP ",{"$f":"IF(P119=\"\",\"\",P119)","v":""},"","","MP  - MP ",{"$f":"IF(R119=\"\",\"\",R119)","v":""},"","","MP  - MP ",{"$f":"IF(T119=\"\",\"\",T119)","v":""},"","","MP  - MP ",{"$f":"IF(V119=\"\",\"\",V119)","v":""},"","","MP  - MP ",{"$f":"IF(X119=\"\",\"\",X119)","v":""},"","","MP  - MP "]
[null,null,null,null,null,null,null,null,0,null,null,null,null,null,null,null,null,null,null,null,null,"","","","MP  - MP ",{"$f":"IF(D120=\"\",\"\",D120)","v":""},"","","MP  - MP ",{"$f":"IF(F120=\"\",\"\",F120)","v":""},"","","MP  - MP ",{"$f":"IF(I120=\"\",\"\",I120)","v":""},"","","MP  - MP ",{"$f":"IF(K120=\"\",\"\",K120)","v":""},"","","MP  - MP ",{"$f":"IF(P120=\"\",\"\",P120)","v":""},"","","MP  - MP ",{"$f":"IF(R120=\"\",\"\",R120)","v":""},"","","MP  - MP ",{"$f":"IF(T120=\"\",\"\",T120)","v":""},"","","MP  - MP ",{"$f":"IF(V120=\"\",\"\",V120)","v":""},"","","MP  - MP ",{"$f":"IF(X120=\"\",\"\",X120)","v":""},"","","MP  - MP "]
[null,null,null,null,null,null,null,null,0,null,null,null,null,null,null,null,null,null,null,null,null,"","","","MP  - MP ",{"$f":"IF(D121=\"\",\"\",D121)","v":""},"","","MP  - MP ",{"$f":"IF(F121=\"\",\"\",F121)","v":""},"","","MP  - MP ",{"$f":"IF(I121=\"\",\"\",I121)","v":""},"","","MP  - MP ",{"$f":"IF(K121=\"\",\"\",K121)","v":""},"","","MP  - MP ",{"$f":"IF(P121=\"\",\"\",P121)","v":""},"","","MP  - MP ",{"$f":"IF(R121=\"\",\"\",R121)","v":""},"","","MP  - MP ",{"$f":"IF(T121=\"\",\"\",T121)","v":""},"","","MP  - MP ",{"$f":"IF(V121=\"\",\"\",V121)","v":""},"","","MP  - MP ",{"$f":"IF(X121=\"\",\"\",X121)","v":""},"","","MP  - MP "]
[null,null,null,null,null,null,null,null,0,null,null,null,null,null,null,null,null,null,null,null,null,"","","","MP  - MP ",{"$f":"IF(D122=\"\",\"\",D122)","v":""},"","","MP  - MP ",{"$f":"IF(F122=\"\",\"\",F122)","v":""},"","","MP  - MP ",{"$f":"IF(I122=\"\",\"\",I122)","v":""},"","","MP  - MP ",{"$f":"IF(K122=\"\",\"\",K122)","v":""},"","","MP  - MP ",{"$f":"IF(P122=\"\",\"\",P122)","v":""},"","","MP  - MP ",{"$f":"IF(R122=\"\",\"\",R122)","v":""},"","","MP  - MP ",{"$f":"IF(T122=\"\",\"\",T122)","v":""},"","","MP  - MP ",{"$f":"IF(V122=\"\",\"\",V122)","v":""},"","","MP  - MP ",{"$f":"IF(X122=\"\",\"\",X122)","v":""},"","","MP  - MP "]
[null,null,null,null,null,null,null,null,0,null,null,null,null,null,null,null,null,null,null,null,null,"","","","MP  - MP ",{"$f":"IF(D123=\"\",\"\",D123)","v":""},"","","MP  - MP ",{"$f":"IF(F123=\"\",\"\",F123)","v":""},"","","MP  - MP ",{"$f":"IF(I123=\"\",\"\",I123)","v":""},"","","MP  - MP ",{"$f":"IF(K123=\"\",\"\",K123)","v":""},"","","MP  - MP ",{"$f":"IF(P123=\"\",\"\",P123)","v":""},"","","MP  - MP ",{"$f":"IF(R123=\"\",\"\",R123)","v":""},"","","MP  - MP ",{"$f":"IF(T123=\"\",\"\",T123)","v":""},"","","MP  - MP ",{"$f":"IF(V123=\"\",\"\",V123)","v":""},"","","MP  - MP ",{"$f":"IF(X123=\"\",\"\",X123)","v":""},"","","MP  - MP "]
[null,null,null,null,null,null,null,null,0,null,null,null,null,null,null,null,null,null,null,null,null,"","","","MP  - MP ",{"$f":"IF(D124=\"\",\"\",D124)","v":""},"","","MP  - MP ",{"$f":"IF(F124=\"\",\"\",F124)","v":""},"","","MP  - MP ",{"$f":"IF(I124=\"\",\"\",I124)","v":""},"","","MP  - MP ",{"$f":"IF(K124=\"\",\"\",K124)","v":""},"","","MP  - MP ",{"$f":"IF(P124=\"\",\"\",P124)","v":""},"","","MP  - MP ",{"$f":"IF(R124=\"\",\"\",R124)","v":""},"","","MP  - MP ",{"$f":"IF(T124=\"\",\"\",T124)","v":""},"","","MP  - MP ",{"$f":"IF(V124=\"\",\"\",V124)","v":""},"","","MP  - MP ",{"$f":"IF(X124=\"\",\"\",X124)","v":""},"","","MP  - MP "]
[null,null,null,null,null,null,null,null,0,null,null,null,null,null,null,null,null,null,null,null,null,"","","","MP  - MP ",{"$f":"IF(D125=\"\",\"\",D125)","v":""},"","","MP  - MP ",{"$f":"IF(F125=\"\",\"\",F125)","v":""},"","","MP  - MP ",{"$f":"IF(I125=\"\",\"\",I125)","v":""},"","","MP  - MP ",{"$f":"IF(K125=\"\",\"\",K125)","v":""},"","","MP  - MP ",{"$f":"IF(P125=\"\",\"\",P125)","v":""},"","","MP  - MP ",{"$f":"IF(R125=\"\",\"\",R125)","v":""},"","","MP  - MP ",{"$f":"IF(T125=\"\",\"\",T125)","v":""},"","","MP  - MP ",{"$f":"IF(V125=\"\",\"\",V125)","v":""},"","","MP  - MP ",{"$f":"IF(X125=\"\",\"\",X125)","v":""},"","","MP  - MP "]
[null,null,null,null,null,null,null,null,0,null,null,null,null,null,null,null,null,null,null,null,null,"","","","MP  - MP ",{"$f":"IF(D126=\"\",\"\",D126)","v":""},"","","MP  - MP ",{"$f":"IF(F126=\"\",\"\",F126)","v":""},"","","MP  - MP ",{"$f":"IF(I126=\"\",\"\",I126)","v":""},"","","MP  - MP ",{"$f":"IF(K126=\"\",\"\",K126)","v":""},"","","MP  - MP ",{"$f":"IF(P126=\"\",\"\",P126)","v":""},"","","MP  - MP ",{"$f":"IF(R126=\"\",\"\",R126)","v":""},"","","MP  - MP ",{"$f":"IF(T126=\"\",\"\",T126)","v":""},"","","MP  - MP ",{"$f":"IF(V126=\"\",\"\",V126)","v":""},"","","MP  - MP ",{"$f":"IF(X126=\"\",\"\",X126)","v":""},"","","MP  - MP "]
[null,null,null,null,null,null,null,null,0,null,null,null,null,null,null,null,null,null,null,null,null,"","","","MP  - MP ",{"$f":"IF(D127=\"\",\"\",D127)","v":""},"","","MP  - MP ",{"$f":"IF(F127=\"\",\"\",F127)","v":""},"","","MP  - MP ",{"$f":"IF(I127=\"\",\"\",I127)","v":""},"","","MP  - MP ",{"$f":"IF(K127=\"\",\"\",K127)","v":""},"","","MP  - MP ",{"$f":"IF(P127=\"\",\"\",P127)","v":""},"","","MP  - MP ",{"$f":"IF(R127=\"\",\"\",R127)","v":""},"","","MP  - MP ",{"$f":"IF(T127=\"\",\"\",T127)","v":""},"","","MP  - MP ",{"$f":"IF(V127=\"\",\"\",V127)","v":""},"","","MP  - MP ",{"$f":"IF(X127=\"\",\"\",X127)","v":""},"","","MP  - MP "]
[null,null,null,null,null,null,null,null,0,null,null,null,null,null,null,null,null,null,null,null,null,"","","","MP  - MP ",{"$f":"IF(D128=\"\",\"\",D128)","v":""},"","","MP  - MP ",{"$f":"IF(F128=\"\",\"\",F128)","v":""},"","","MP  - MP ",{"$f":"IF(I128=\"\",\"\",I128)","v":""},"","","MP  - MP ",{"$f":"IF(K128=\"\",\"\",K128)","v":""},"","","MP  - MP ",{"$f":"IF(P128=\"\",\"\",P128)","v":""},"","","MP  - MP ",{"$f":"IF(R128=\"\",\"\",R128)","v":""},"","","MP  - MP ",{"$f":"IF(T128=\"\",\"\",T128)","v":""},"","","MP  - MP ",{"$f":"IF(V128=\"\",\"\",V128)","v":""},"","","MP  - MP ",{"$f":"IF(X128=\"\",\"\",X128)","v":""},"","","MP  - MP "]
[null,null,null,null,null,null,null,null,0,null,null,null,null,null,null,null,null,null,null,null,null,"","","","MP  - MP ",{"$f":"IF(D129=\"\",\"\",D129)","v":""},"","","MP  - MP ",{"$f":"IF(F129=\"\",\"\",F129)","v":""},"","","MP  - MP ",{"$f":"IF(I129=\"\",\"\",I129)","v":""},"","","MP  - MP ",{"$f":"IF(K129=\"\",\"\",K129)","v":""},"","","MP  - MP ",{"$f":"IF(P129=\"\",\"\",P129)","v":""},"","","MP  - MP ",{"$f":"IF(R129=\"\",\"\",R129)","v":""},"","","MP  - MP ",{"$f":"IF(T129=\"\",\"\",T129)","v":""},"","","MP  - MP ",{"$f":"IF(V129=\"\",\"\",V129)","v":""},"","","MP  - MP ",{"$f":"IF(X129=\"\",\"\",X129)","v":""},"","","MP  - MP "]
[null,null,null,null,null,null,null,null,0,null,null,null,null,null,null,null,null,null,null,null,null,"","","","MP  - MP ",{"$f":"IF(D130=\"\",\"\",D130)","v":""},"","","MP  - MP ",{"$f":"IF(F130=\"\",\"\",F130)","v":""},"","","MP  - MP ",{"$f":"IF(I130=\"\",\"\",I130)","v":""},"","","MP  - MP ",{"$f":"IF(K130=\"\",\"\",K130)","v":""},"","","MP  - MP ",{"$f":"IF(P130=\"\",\"\",P130)","v":""},"","","MP  - MP ",{"$f":"IF(R130=\"\",\"\",R130)","v":""},"","","MP  - MP ",{"$f":"IF(T130=\"\",\"\",T130)","v":""},"","","MP  - MP ",{"$f":"IF(V130=\"\",\"\",V130)","v":""},"","","MP  - MP ",{"$f":"IF(X130=\"\",\"\",X130)","v":""},"","","MP  - MP "]
[null,null,null,null,null,null,null,null,0,null,null,null,null,null,null,null,null,null,null,null,null,"","","","MP  - MP ",{"$f":"IF(D131=\"\",\"\",D131)","v":""},"","","MP  - MP ",{"$f":"IF(F131=\"\",\"\",F131)","v":""},"","","MP  - MP ",{"$f":"IF(I131=\"\",\"\",I131)","v":""},"","","MP  - MP ",{"$f":"IF(K131=\"\",\"\",K131)","v":""},"","","MP  - MP ",{"$f":"IF(P131=\"\",\"\",P131)","v":""},"","","MP  - MP ",{"$f":"IF(R131=\"\",\"\",R131)","v":""},"","","MP  - MP ",{"$f":"IF(T131=\"\",\"\",T131)","v":""},"","","MP  - MP ",{"$f":"IF(V131=\"\",\"\",V131)","v":""},"","","MP  - MP ",{"$f":"IF(X131=\"\",\"\",X131)","v":""},"","","MP  - MP "]
[null,null,null,null,null,null,null,null,0,null,null,null,null,null,null,null,null,null,null,null,null,"","","","MP  - MP ",{"$f":"IF(D132=\"\",\"\",D132)","v":""},"","","MP  - MP ",{"$f":"IF(F132=\"\",\"\",F132)","v":""},"","","MP  - MP ",{"$f":"IF(I132=\"\",\"\",I132)","v":""},"","","MP  - MP ",{"$f":"IF(K132=\"\",\"\",K132)","v":""},"","","MP  - MP ",{"$f":"IF(P132=\"\",\"\",P132)","v":""},"","","MP  - MP ",{"$f":"IF(R132=\"\",\"\",R132)","v":""},"","","MP  - MP ",{"$f":"IF(T132=\"\",\"\",T132)","v":""},"","","MP  - MP ",{"$f":"IF(V132=\"\",\"\",V132)","v":""},"","","MP  - MP ",{"$f":"IF(X132=\"\",\"\",X132)","v":""},"","","MP  - MP "]
[null,null,null,null,null,null,null,null,0,null,null,null,null,null,null,null,null,null,null,null,null,"","","","MP  - MP ",{"$f":"IF(D133=\"\",\"\",D133)","v":""},"","","MP  - MP ",{"$f":"IF(F133=\"\",\"\",F133)","v":""},"","","MP  - MP ",{"$f":"IF(I133=\"\",\"\",I133)","v":""},"","","MP  - MP ",{"$f":"IF(K133=\"\",\"\",K133)","v":""},"","","MP  - MP ",{"$f":"IF(P133=\"\",\"\",P133)","v":""},"","","MP  - MP ",{"$f":"IF(R133=\"\",\"\",R133)","v":""},"","","MP  - MP ",{"$f":"IF(T133=\"\",\"\",T133)","v":""},"","","MP  - MP ",{"$f":"IF(V133=\"\",\"\",V133)","v":""},"","","MP  - MP ",{"$f":"IF(X133=\"\",\"\",X133)","v":""},"","","MP  - MP "]
[null,null,null,null,null,null,null,null,0,null,null,null,null,null,null,null,null,null,null,null,null,"","","","MP  - MP ",{"$f":"IF(D134=\"\",\"\",D134)","v":""},"","","MP  - MP ",{"$f":"IF(F134=\"\",\"\",F134)","v":""},"","","MP  - MP ",{"$f":"IF(I134=\"\",\"\",I134)","v":""},"","","MP  - MP ",{"$f":"IF(K134=\"\",\"\",K134)","v":""},"","","MP  - MP ",{"$f":"IF(P134=\"\",\"\",P134)","v":""},"","","MP  - MP ",{"$f":"IF(R134=\"\",\"\",R134)","v":""},"","","MP  - MP ",{"$f":"IF(T134=\"\",\"\",T134)","v":""},"","","MP  - MP ",{"$f":"IF(V134=\"\",\"\",V134)","v":""},"","","MP  - MP ",{"$f":"IF(X134=\"\",\"\",X134)","v":""},"","","MP  - MP "]
[null,null,null,null,null,null,null,null,0,null,null,null,null,null,null,null,null,null,null,null,null,"","","","MP  - MP ",{"$f":"IF(D135=\"\",\"\",D135)","v":""},"","","MP  - MP ",{"$f":"IF(F135=\"\",\"\",F135)","v":""},"","","MP  - MP ",{"$f":"IF(I135=\"\",\"\",I135)","v":""},"","","MP  - MP ",{"$f":"IF(K135=\"\",\"\",K135)","v":""},"","","MP  - MP ",{"$f":"IF(P135=\"\",\"\",P135)","v":""},"","","MP  - MP ",{"$f":"IF(R135=\"\",\"\",R135)","v":""},"","","MP  - MP ",{"$f":"IF(T135=\"\",\"\",T135)","v":""},"","","MP  - MP ",{"$f":"IF(V135=\"\",\"\",V135)","v":""},"","","MP  - MP ",{"$f":"IF(X135=\"\",\"\",X135)","v":""},"","","MP  - MP "]
[null,null,null,null,null,null,null,null,0,null,null,null,null,null,null,null,null,null,null,null,null,"","","","MP  - MP ",{"$f":"IF(D136=\"\",\"\",D136)","v":""},"","","MP  - MP ",{"$f":"IF(F136=\"\",\"\",F136)","v":""},"","","MP  - MP ",{"$f":"IF(I136=\"\",\"\",I136)","v":""},"","","MP  - MP ",{"$f":"IF(K136=\"\",\"\",K136)","v":""},"","",{"$f":"CONCATENATE(\"MP \",AL50,\" - \",\"MP \",AM50)","v":"MP  - MP "},{"$f":"IF(P136=\"\",\"\",P136)","v":""},"","",{"$f":"CONCATENATE(\"MP \",AP50,\" - \",\"MP \",AQ50)","v":"MP  - MP "},{"$f":"IF(R136=\"\",\"\",R136)","v":""},"","",{"$f":"CONCATENATE(\"MP \",AT50,\" - \",\"MP \",AU50)","v":"MP  - MP "},{"$f":"IF(T136=\"\",\"\",T136)","v":""},"","",{"$f":"CONCATENATE(\"MP \",AX50,\" - \",\"MP \",AY50)","v":"MP  - MP "},{"$f":"IF(V136=\"\",\"\",V136)","v":""},"","",{"$f":"CONCATENATE(\"MP \",BB50,\" - \",\"MP \",BC50)","v":"MP  - MP "},{"$f":"IF(X136=\"\",\"\",X136)","v":""},"","",{"$f":"CONCATENATE(\"MP \",BF50,\" - \",\"MP \",BG50)","v":"MP  - MP "}]
[null,null,null,null,null,null,null,null,0,null,null,null,null,null,null,null,null,null,null,null,null,"","","","MP  - MP ",{"$f":"IF(D137=\"\",\"\",D137)","v":""},"","","MP  - MP ",{"$f":"IF(F137=\"\",\"\",F137)","v":""},"","","MP  - MP ",{"$f":"IF(I137=\"\",\"\",I137)","v":""},"","","MP  - MP ",{"$f":"IF(K137=\"\",\"\",K137)","v":""},"","",{"$f":"CONCATENATE(\"MP \",AL51,\" - \",\"MP \",AM51)","v":"MP  - MP "},{"$f":"IF(P137=\"\",\"\",P137)","v":""},"","",{"$f":"CONCATENATE(\"MP \",AP51,\" - \",\"MP \",AQ51)","v":"MP  - MP "},{"$f":"IF(R137=\"\",\"\",R137)","v":""},"","",{"$f":"CONCATENATE(\"MP \",AT51,\" - \",\"MP \",AU51)","v":"MP  - MP "},{"$f":"IF(T137=\"\",\"\",T137)","v":""},"","",{"$f":"CONCATENATE(\"MP \",AX51,\" - \",\"MP \",AY51)","v":"MP  - MP "},{"$f":"IF(V137=\"\",\"\",V137)","v":""},"","",{"$f":"CONCATENATE(\"MP \",BB51,\" - \",\"MP \",BC51)","v":"MP  - MP "},{"$f":"IF(X137=\"\",\"\",X137)","v":""},"","",{"$f":"CONCATENATE(\"MP \",BF51,\" - \",\"MP \",BG51)","v":"MP  - MP "}]
[null,null,null,null,null,null,null,null,0,null,null,null,null,null,null,null,null,null,null,null,null,"","","","MP  - MP ",{"$f":"IF(D138=\"\",\"\",D138)","v":""},"","","MP  - MP ",{"$f":"IF(F138=\"\",\"\",F138)","v":""},"","","MP  - MP ",{"$f":"IF(I138=\"\",\"\",I138)","v":""},"","","MP  - MP ",{"$f":"IF(K138=\"\",\"\",K138)","v":""},"","","MP  - MP ",{"$f":"IF(P138=\"\",\"\",P138)","v":""},"","","MP  - MP ",{"$f":"IF(R138=\"\",\"\",R138)","v":""},"","","MP  - MP ",{"$f":"IF(T138=\"\",\"\",T138)","v":""},"","","MP  - MP ",{"$f":"IF(V138=\"\",\"\",V138)","v":""},"","","MP  - MP ",{"$f":"IF(X138=\"\",\"\",X138)","v":""},"","","MP  - MP "]
[null,null,null,null,null,null,null,null,0,null,null,null,null,null,null,null,null,null,null,null,null,"","","","MP  - MP ",{"$f":"IF(D139=\"\",\"\",D139)","v":""},"","","MP  - MP ",{"$f":"IF(F139=\"\",\"\",F139)","v":""},"","","MP  - MP ",{"$f":"IF(I139=\"\",\"\",I139)","v":""},"","","MP  - MP ",{"$f":"IF(K139=\"\",\"\",K139)","v":""},"","","MP  - MP ",{"$f":"IF(P139=\"\",\"\",P139)","v":""},"","","MP  - MP ",{"$f":"IF(R139=\"\",\"\",R139)","v":""},"","","MP  - MP ",{"$f":"IF(T139=\"\",\"\",T139)","v":""},"","","MP  - MP ",{"$f":"IF(V139=\"\",\"\",V139)","v":""},"","","MP  - MP ",{"$f":"IF(X139=\"\",\"\",X139)","v":""},"","","MP  - MP "]
[null,null,null,null,null,null,null,null,0,null,null,null,null,null,null,null,null,null,null,null,null,"","","","MP  - MP ",{"$f":"IF(D140=\"\",\"\",D140)","v":""},"","","MP  - MP ",{"$f":"IF(F140=\"\",\"\",F140)","v":""},"","","MP  - MP ",{"$f":"IF(I140=\"\",\"\",I140)","v":""},"","","MP  - MP ",{"$f":"IF(K140=\"\",\"\",K140)","v":""},"","","MP  - MP ",{"$f":"IF(P140=\"\",\"\",P140)","v":""},"","","MP  - MP ",{"$f":"IF(R140=\"\",\"\",R140)","v":""},"","","MP  - MP ",{"$f":"IF(T140=\"\",\"\",T140)","v":""},"","","MP  - MP ",{"$f":"IF(V140=\"\",\"\",V140)","v":""},"","","MP  - MP ",{"$f":"IF(X140=\"\",\"\",X140)","v":""},"","","MP  - MP "]
[null,null,null,null,null,null,null,null,0,null,null,null,null,null,null,null,null,null,null,null,null,"","","","MP  - MP ",{"$f":"IF(D141=\"\",\"\",D141)","v":""},"","","MP  - MP ",{"$f":"IF(F141=\"\",\"\",F141)","v":""},"","","MP  - MP ",{"$f":"IF(I141=\"\",\"\",I141)","v":""},"","","MP  - MP ",{"$f":"IF(K141=\"\",\"\",K141)","v":""},"","","MP  - MP ",{"$f":"IF(P141=\"\",\"\",P141)","v":""},"","","MP  - MP ",{"$f":"IF(R141=\"\",\"\",R141)","v":""},"","","MP  - MP ",{"$f":"IF(T141=\"\",\"\",T141)","v":""},"","","MP  - MP ",{"$f":"IF(V141=\"\",\"\",V141)","v":""},"","","MP  - MP ",{"$f":"IF(X141=\"\",\"\",X141)","v":""},"","","MP  - MP "]
[null,null,null,null,null,null,null,null,0,null,null,null,null,null,null,null,null,null,null,null,null,"","","","MP  - MP ",{"$f":"IF(D142=\"\",\"\",D142)","v":""},"","","MP  - MP ",{"$f":"IF(F142=\"\",\"\",F142)","v":""},"","","MP  - MP ",{"$f":"IF(I142=\"\",\"\",I142)","v":""},"","","MP  - MP ",{"$f":"IF(K142=\"\",\"\",K142)","v":""},"","","MP  - MP ",{"$f":"IF(P142=\"\",\"\",P142)","v":""},"","","MP  - MP ",{"$f":"IF(R142=\"\",\"\",R142)","v":""},"","","MP  - MP ",{"$f":"IF(T142=\"\",\"\",T142)","v":""},"","","MP  - MP ",{"$f":"IF(V142=\"\",\"\",V142)","v":""},"","","MP  - MP ",{"$f":"IF(X142=\"\",\"\",X142)","v":""},"","","MP  - MP "]
[null,null,null,null,null,null,null,null,0,null,null,null,null,null,null,null,null,null,null,null,null,"","","","MP  - MP ",{"$f":"IF(D143=\"\",\"\",D143)","v":""},"","","MP  - MP ",{"$f":"IF(F143=\"\",\"\",F143)","v":""},"","","MP  - MP ",{"$f":"IF(I143=\"\",\"\",I143)","v":""},"","","MP  - MP ",{"$f":"IF(K143=\"\",\"\",K143)","v":""},"","","MP  - MP ",{"$f":"IF(P143=\"\",\"\",P143)","v":""},"","","MP  - MP ",{"$f":"IF(R143=\"\",\"\",R143)","v":""},"","","MP  - MP ",{"$f":"IF(T143=\"\",\"\",T143)","v":""},"","","MP  - MP ",{"$f":"IF(V143=\"\",\"\",V143)","v":""},"","","MP  - MP ",{"$f":"IF(X143=\"\",\"\",X143)","v":""},"","","MP  - MP "]
[null,null,null,null,null,null,null,null,0,null,null,null,null,null,null,null,null,null,null,null,null,"","","","MP  - MP ",{"$f":"IF(D144=\"\",\"\",D144)","v":""},"","","MP  - MP ",{"$f":"IF(F144=\"\",\"\",F144)","v":""},"","","MP  - MP ",{"$f":"IF(I144=\"\",\"\",I144)","v":""},"","","MP  - MP ",{"$f":"IF(K144=\"\",\"\",K144)","v":""},"","","MP  - MP ",{"$f":"IF(P144=\"\",\"\",P144)","v":""},"","","MP  - MP ",{"$f":"IF(R144=\"\",\"\",R144)","v":""},"","","MP  - MP ",{"$f":"IF(T144=\"\",\"\",T144)","v":""},"","","MP  - MP ",{"$f":"IF(V144=\"\",\"\",V144)","v":""},"","","MP  - MP ",{"$f":"IF(X144=\"\",\"\",X144)","v":""},"","","MP  - MP "]
[null,null,null,null,null,null,null,null,0,null,null,null,null,null,null,null,null,null,null,null,null,"","","","MP  - MP ",{"$f":"IF(D145=\"\",\"\",D145)","v":""},"","","MP  - MP ",{"$f":"IF(F145=\"\",\"\",F145)","v":""},"","","MP  - MP ",{"$f":"IF(I145=\"\",\"\",I145)","v":""},"","","MP  - MP ",{"$f":"IF(K145=\"\",\"\",K145)","v":""},"","","MP  - MP ",{"$f":"IF(P145=\"\",\"\",P145)","v":""},"","","MP  - MP ",{"$f":"IF(R145=\"\",\"\",R145)","v":""},"","","MP  - MP ",{"$f":"IF(T145=\"\",\"\",T145)","v":""},"","","MP  - MP ",{"$f":"IF(V145=\"\",\"\",V145)","v":""},"","","MP  - MP ",{"$f":"IF(X145=\"\",\"\",X145)","v":""},"","","MP  - MP "]
[null,null,null,null,null,null,null,null,0,null,null,null,null,null,null,null,null,null,null,null,null,"","","","MP  - MP ",{"$f":"IF(D146=\"\",\"\",D146)","v":""},"","","MP  - MP ",{"$f":"IF(F146=\"\",\"\",F146)","v":""},"","","MP  - MP ",{"$f":"IF(I146=\"\",\"\",I146)","v":""},"","","MP  - MP ",{"$f":"IF(K146=\"\",\"\",K146)","v":""},"","","MP  - MP ",{"$f":"IF(P146=\"\",\"\",P146)","v":""},"","","MP  - MP ",{"$f":"IF(R146=\"\",\"\",R146)","v":""},"","","MP  - MP ",{"$f":"IF(T146=\"\",\"\",T146)","v":""},"","","MP  - MP ",{"$f":"IF(V146=\"\",\"\",V146)","v":""},"","","MP  - MP ",{"$f":"IF(X146=\"\",\"\",X146)","v":""},"","","MP  - MP "]
[null,null,null,null,null,null,null,null,0,null,null,null,null,null,null,null,null,null,null,null,null,"","","","MP  - MP ",{"$f":"IF(D147=\"\",\"\",D147)","v":""},"","","MP  - MP ",{"$f":"IF(F147=\"\",\"\",F147)","v":""},"","","MP  - MP ",{"$f":"IF(I147=\"\",\"\",I147)","v":""},"","","MP  - MP ",{"$f":"IF(K147=\"\",\"\",K147)","v":""},"","","MP  - MP ",{"$f":"IF(P147=\"\",\"\",P147)","v":""},"","","MP  - MP ",{"$f":"IF(R147=\"\",\"\",R147)","v":""},"","","MP  - MP ",{"$f":"IF(T147=\"\",\"\",T147)","v":""},"","","MP  - MP ",{"$f":"IF(V147=\"\",\"\",V147)","v":""},"","","MP  - MP ",{"$f":"IF(X147=\"\",\"\",X147)","v":""},"","","MP  - MP "]
[null,null,null,null,null,null,null,null,0,null,null,null,null,null,null,null,null,null,null,null,null,"","","","MP  - MP ",{"$f":"IF(D148=\"\",\"\",D148)","v":""},"","","MP  - MP ",{"$f":"IF(F148=\"\",\"\",F148)","v":""},"","","MP  - MP ",{"$f":"IF(I148=\"\",\"\",I148)","v":""},"","","MP  - MP ",{"$f":"IF(K148=\"\",\"\",K148)","v":""},"","","MP  - MP ",{"$f":"IF(P148=\"\",\"\",P148)","v":""},"","","MP  - MP ",{"$f":"IF(R148=\"\",\"\",R148)","v":""},"","","MP  - MP ",{"$f":"IF(T148=\"\",\"\",T148)","v":""},"","","MP  - MP ",{"$f":"IF(V148=\"\",\"\",V148)","v":""},"","","MP  - MP ",{"$f":"IF(X148=\"\",\"\",X148)","v":""},"","","MP  - MP "]
[null,null,null,null,null,null,null,null,0,null,null,null,null,null,null,null,null,null,null,null,null,"","","","MP  - MP ",{"$f":"IF(D149=\"\",\"\",D149)","v":""},"","","MP  - MP ",{"$f":"IF(F149=\"\",\"\",F149)","v":""},"","","MP  - MP ",{"$f":"IF(I149=\"\",\"\",I149)","v":""},"","","MP  - MP ",{"$f":"IF(K149=\"\",\"\",K149)","v":""},"","","MP  - MP ",{"$f":"IF(P149=\"\",\"\",P149)","v":""},"","","MP  - MP ",{"$f":"IF(R149=\"\",\"\",R149)","v":""},"","","MP  - MP ",{"$f":"IF(T149=\"\",\"\",T149)","v":""},"","","MP  - MP ",{"$f":"IF(V149=\"\",\"\",V149)","v":""},"","","MP  - MP ",{"$f":"IF(X149=\"\",\"\",X149)","v":""},"","","MP  - MP "]
[null,null,null,null,null,null,null,null,0,null,null,null,null,null,null,null,null,null,null,null,null,"","","","MP  - MP ",{"$f":"IF(D150=\"\",\"\",D150)","v":""},"","","MP  - MP ",{"$f":"IF(F150=\"\",\"\",F150)","v":""},"","","MP  - MP ",{"$f":"IF(I150=\"\",\"\",I150)","v":""},"","","MP  - MP ",{"$f":"IF(K150=\"\",\"\",K150)","v":""},"","","MP  - MP ",{"$f":"IF(P150=\"\",\"\",P150)","v":""},"","","MP  - MP ",{"$f":"IF(R150=\"\",\"\",R150)","v":""},"","","MP  - MP ",{"$f":"IF(T150=\"\",\"\",T150)","v":""},"","","MP  - MP ",{"$f":"IF(V150=\"\",\"\",V150)","v":""},"","","MP  - MP ",{"$f":"IF(X150=\"\",\"\",X150)","v":""},"","","MP  - MP "]
[null,null,null,null,null,null,null,null,0,null,null,null,null,null,null,null,null,null,null,null,null,"","","","MP  - MP ",{"$f":"IF(D151=\"\",\"\",D151)","v":""},"","","MP  - MP ",{"$f":"IF(F151=\"\",\"\",F151)","v":""},"","","MP  - MP ",{"$f":"IF(I151=\"\",\"\",I151)","v":""},"","","MP  - MP ",{"$f":"IF(K151=\"\",\"\",K151)","v":""},"","","MP  - MP ",{"$f":"IF(P151=\"\",\"\",P151)","v":""},"","","MP  - MP ",{"$f":"IF(R151=\"\",\"\",R151)","v":""},"","","MP  - MP ",{"$f":"IF(T151=\"\",\"\",T151)","v":""},"","","MP  - MP ",{"$f":"IF(V151=\"\",\"\",V151)","v":""},"","","MP  - MP ",{"$f":"IF(X151=\"\",\"\",X151)","v":""},"","","MP  - MP "]
[null,null,null,null,null,null,null,null,0,null,null,null,null,null,null,null,null,null,null,null,null,"","","","MP  - MP ",{"$f":"IF(D152=\"\",\"\",D152)","v":""},"","","MP  - MP ",{"$f":"IF(F152=\"\",\"\",F152)","v":""},"","","MP  - MP ",{"$f":"IF(I152=\"\",\"\",I152)","v":""},"","","MP  - MP ",{"$f":"IF(K152=\"\",\"\",K152)","v":""},"","","MP  - MP ",{"$f":"IF(P152=\"\",\"\",P152)","v":""},"","","MP  - MP ",{"$f":"IF(R152=\"\",\"\",R152)","v":""},"","","MP  - MP ",{"$f":"IF(T152=\"\",\"\",T152)","v":""},"","","MP  - MP ",{"$f":"IF(V152=\"\",\"\",V152)","v":""},"","","MP  - MP ",{"$f":"IF(X152=\"\",\"\",X152)","v":""},"","","MP  - MP "]
[null,null,null,null,null,null,null,null,0,null,null,null,null,null,null,null,null,null,null,null,null,"","","","MP  - MP ",{"$f":"IF(D153=\"\",\"\",D153)","v":""},"","","MP  - MP ",{"$f":"IF(F153=\"\",\"\",F153)","v":""},"","","MP  - MP ",{"$f":"IF(I153=\"\",\"\",I153)","v":""},"","","MP  - MP ",{"$f":"IF(K153=\"\",\"\",K153)","v":""},"","","MP  - MP ",{"$f":"IF(P153=\"\",\"\",P153)","v":""},"","","MP  - MP ",{"$f":"IF(R153=\"\",\"\",R153)","v":""},"","","MP  - MP ",{"$f":"IF(T153=\"\",\"\",T153)","v":""},"","","MP  - MP ",{"$f":"IF(V153=\"\",\"\",V153)","v":""},"","","MP  - MP ",{"$f":"IF(X153=\"\",\"\",X153)","v":""},"","","MP  - MP "]
[null,null,null,null,null,null,null,null,0,null,null,null,null,null,null,null,null,null,null,null,null,"","","","MP  - MP ",{"$f":"IF(D154=\"\",\"\",D154)","v":""},"","","MP  - MP ",{"$f":"IF(F154=\"\",\"\",F154)","v":""},"","","MP  - MP ",{"$f":"IF(I154=\"\",\"\",I154)","v":""},"","","MP  - MP ",{"$f":"IF(K154=\"\",\"\",K154)","v":""},"","","MP  - MP ",{"$f":"IF(P154=\"\",\"\",P154)","v":""},"","","MP  - MP ",{"$f":"IF(R154=\"\",\"\",R154)","v":""},"","","MP  - MP ",{"$f":"IF(T154=\"\",\"\",T154)","v":""},"","","MP  - MP ",{"$f":"IF(V154=\"\",\"\",V154)","v":""},"","","MP  - MP ",{"$f":"IF(X154=\"\",\"\",X154)","v":""},"","","MP  - MP "]
[null,null,null,null,null,null,null,null,0,null,null,null,null,null,null,null,null,null,null,null,null,"","","","MP  - MP ",{"$f":"IF(D155=\"\",\"\",D155)","v":""},"","","MP  - MP ",{"$f":"IF(F155=\"\",\"\",F155)","v":""},"","","MP  - MP ",{"$f":"IF(I155=\"\",\"\",I155)","v":""},"","","MP  - MP ",{"$f":"IF(K155=\"\",\"\",K155)","v":""},"","","MP  - MP ",{"$f":"IF(P155=\"\",\"\",P155)","v":""},"","","MP  - MP ",{"$f":"IF(R155=\"\",\"\",R155)","v":""},"","","MP  - MP ",{"$f":"IF(T155=\"\",\"\",T155)","v":""},"","","MP  - MP ",{"$f":"IF(V155=\"\",\"\",V155)","v":""},"","","MP  - MP ",{"$f":"IF(X155=\"\",\"\",X155)","v":""},"","","MP  - MP "]
[null,null,null,null,null,null,null,null,0,null,null,null,null,null,null,null,null,null,null,null,null,"","","","MP  - MP ",{"$f":"IF(D156=\"\",\"\",D156)","v":""},"","","MP  - MP ",{"$f":"IF(F156=\"\",\"\",F156)","v":""},"","","MP  - MP ",{"$f":"IF(I156=\"\",\"\",I156)","v":""},"","","MP  - MP ",{"$f":"IF(K156=\"\",\"\",K156)","v":""},"","","MP  - MP ",{"$f":"IF(P156=\"\",\"\",P156)","v":""},"","","MP  - MP ",{"$f":"IF(R156=\"\",\"\",R156)","v":""},"","","MP  - MP ",{"$f":"IF(T156=\"\",\"\",T156)","v":""},"","","MP  - MP ",{"$f":"IF(V156=\"\",\"\",V156)","v":""},"","","MP  - MP ",{"$f":"IF(X156=\"\",\"\",X156)","v":""},"","","MP  - MP "]
[null,null,null,null,null,null,null,null,0,null,null,null,null,null,null,null,null,null,null,null,null,"","","","MP  - MP ",{"$f":"IF(D157=\"\",\"\",D157)","v":""},"","","MP  - MP ",{"$f":"IF(F157=\"\",\"\",F157)","v":""},"","","MP  - MP ",{"$f":"IF(I157=\"\",\"\",I157)","v":""},"","","MP  - MP ",{"$f":"IF(K157=\"\",\"\",K157)","v":""},"","","MP  - MP ",{"$f":"IF(P157=\"\",\"\",P157)","v":""},"","","MP  - MP ",{"$f":"IF(R157=\"\",\"\",R157)","v":""},"","","MP  - MP ",{"$f":"IF(T157=\"\",\"\",T157)","v":""},"","","MP  - MP ",{"$f":"IF(V157=\"\",\"\",V157)","v":""},"","","MP  - MP ",{"$f":"IF(X157=\"\",\"\",X157)","v":""},"","","MP  - MP "]
[null,null,null,null,null,null,null,null,0,null,null,null,null,null,null,null,null,null,null,null,null,"","","","MP  - MP ",{"$f":"IF(D158=\"\",\"\",D158)","v":""},"","","MP  - MP ",{"$f":"IF(F158=\"\",\"\",F158)","v":""},"","","MP  - MP ",{"$f":"IF(I158=\"\",\"\",I158)","v":""},"","","MP  - MP ",{"$f":"IF(K158=\"\",\"\",K158)","v":""},"","","MP  - MP ",{"$f":"IF(P158=\"\",\"\",P158)","v":""},"","","MP  - MP ",{"$f":"IF(R158=\"\",\"\",R158)","v":""},"","","MP  - MP ",{"$f":"IF(T158=\"\",\"\",T158)","v":""},"","","MP  - MP ",{"$f":"IF(V158=\"\",\"\",V158)","v":""},"","","MP  - MP ",{"$f":"IF(X158=\"\",\"\",X158)","v":""},"","","MP  - MP "]
[null,null,null,null,null,null,null,null,0,null,null,null,null,null,null,null,null,null,null,null,null,"","","","MP  - MP ",{"$f":"IF(D159=\"\",\"\",D159)","v":""},"","","MP  - MP ",{"$f":"IF(F159=\"\",\"\",F159)","v":""},"","","MP  - MP ",{"$f":"IF(I159=\"\",\"\",I159)","v":""},"","","MP  - MP ",{"$f":"IF(K159=\"\",\"\",K159)","v":""},"","","MP  - MP ",{"$f":"IF(P159=\"\",\"\",P159)","v":""},"","","MP  - MP ",{"$f":"IF(R159=\"\",\"\",R159)","v":""},"","","MP  - MP ",{"$f":"IF(T159=\"\",\"\",T159)","v":""},"","","MP  - MP ",{"$f":"IF(V159=\"\",\"\",V159)","v":""},"","","MP  - MP ",{"$f":"IF(X159=\"\",\"\",X159)","v":""},"","","MP  - MP "]
[null,null,null,null,null,null,null,null,0,null,null,null,null,null,null,null,null,null,null,null,null,"","","","MP  - MP ",{"$f":"IF(D160=\"\",\"\",D160)","v":""},"","","MP  - MP ",{"$f":"IF(F160=\"\",\"\",F160)","v":""},"","","MP  - MP ",{"$f":"IF(I160=\"\",\"\",I160)","v":""},"","","MP  - MP ",{"$f":"IF(K160=\"\",\"\",K160)","v":""},"","","MP  - MP ",{"$f":"IF(P160=\"\",\"\",P160)","v":""},"","","MP  - MP ",{"$f":"IF(R160=\"\",\"\",R160)","v":""},"","","MP  - MP ",{"$f":"IF(T160=\"\",\"\",T160)","v":""},"","","MP  - MP ",{"$f":"IF(V160=\"\",\"\",V160)","v":""},"","","MP  - MP ",{"$f":"IF(X160=\"\",\"\",X160)","v":""},"","","MP  - MP "]
[null,null,null,null,null,null,null,null,0,null,null,null,null,null,null,null,null,null,null,null,null,{"$f":"IF(A161=\"\",\"\",A161)","v":""},{"$f":"IF(B161=\"\",\"\",B161)","v":""},{"$f":"IF(V75=\"\",\"\",ROUND(ABS(V75-W75),2))","v":""},{"$f":"CONCATENATE(\"MP \",V75,\" - \",\"MP \",W75)","v":"MP  - MP "},{"$f":"IF(D161=\"\",\"\",D161)","v":""},"",{"$f":"IF(Z75=\"\",\"\",ROUND(ABS(Z75-AA75),2))","v":""},{"$f":"CONCATENATE(\"MP \",Z75,\" - \",\"MP \",AA75)","v":"MP  - MP "},{"$f":"IF(F161=\"\",\"\",F161)","v":""},"",{"$f":"IF(AD75=\"\",\"\",ROUND(ABS(AD75-AE75),2))","v":""},{"$f":"CONCATENATE(\"MP \",AD75,\" - \",\"MP \",AE75)","v":"MP  - MP "},{"$f":"IF(I161=\"\",\"\",I161)","v":""},"",{"$f":"IF(AH75=\"\",\"\",ROUND(ABS(AH75-AI75),2))","v":""},{"$f":"CONCATENATE(\"MP \",AH75,\" - \",\"MP \",AI75)","v":"MP  - MP "},{"$f":"IF(K161=\"\",\"\",K161)","v":""},"",{"$f":"IF(AL75=\"\",\"\",ROUND(ABS(AL75-AM75),2))","v":""},{"$f":"CONCATENATE(\"MP \",AL75,\" - \",\"MP \",AM75)","v":"MP  - MP "},{"$f":"IF(P161=\"\",\"\",P161)","v":""},"",{"$f":"IF(AP75=\"\",\"\",ROUND(ABS(AP75-AQ75),2))","v":""},{"$f":"CONCATENATE(\"MP \",AP75,\" - \",\"MP \",AQ75)","v":"MP  - MP "},{"$f":"IF(R161=\"\",\"\",R161)","v":""},"",{"$f":"IF(AT75=\"\",\"\",ROUND(ABS(AT75-AU75),2))","v":""},{"$f":"CONCATENATE(\"MP \",AT75,\" - \",\"MP \",AU75)","v":"MP  - MP "},{"$f":"IF(T161=\"\",\"\",T161)","v":""},"",{"$f":"IF(AX75=\"\",\"\",ROUND(ABS(AX75-AY75),2))","v":""},{"$f":"CONCATENATE(\"MP \",AX75,\" - \",\"MP \",AY75)","v":"MP  - MP "},{"$f":"IF(V161=\"\",\"\",V161)","v":""},"",{"$f":"IF(BB75=\"\",\"\",ROUND(ABS(BB75-BC75),2))","v":""},{"$f":"CONCATENATE(\"MP \",BB75,\" - \",\"MP \",BC75)","v":"MP  - MP "},{"$f":"IF(X161=\"\",\"\",X161)","v":""},"",{"$f":"IF(BF75=\"\",\"\",ROUND(ABS(BF75-BG75),2))","v":""},{"$f":"CONCATENATE(\"MP \",BF75,\" - \",\"MP \",BG75)","v":"MP  - MP "}]
[null,null,null,null,null,null,null,null,0,null,null,null,null,null,null,null,null,null,null,null,null,"","","","MP  - MP ",{"$f":"IF(D162=\"\",\"\",D162)","v":""},"","","MP  - MP ",{"$f":"IF(F162=\"\",\"\",F162)","v":""},"","","MP  - MP ",{"$f":"IF(I162=\"\",\"\",I162)","v":""},"","","MP  - MP ",{"$f":"IF(K162=\"\",\"\",K162)","v":""},"","","MP  - MP ",{"$f":"IF(P162=\"\",\"\",P162)","v":""},"","","MP  - MP ",{"$f":"IF(R162=\"\",\"\",R162)","v":""},"","","MP  - MP ",{"$f":"IF(T162=\"\",\"\",T162)","v":""},"","","MP  - MP ",{"$f":"IF(V162=\"\",\"\",V162)","v":""},"","","MP  - MP ",{"$f":"IF(X162=\"\",\"\",X162)","v":""},"","","MP  - MP "]
[null,null,null,null,null,null,null,null,{"$f":"J76","v":0},null,null,null,null,null,null,null,null,null,null,null,null,"","","","MP  - MP ",{"$f":"IF(D163=\"\",\"\",D163)","v":""},"","","MP  - MP ",{"$f":"IF(F163=\"\",\"\",F163)","v":""},"","","MP  - MP ",{"$f":"IF(I163=\"\",\"\",I163)","v":""},"","","MP  - MP ",{"$f":"IF(K163=\"\",\"\",K163)","v":""},"","","MP  - MP ",{"$f":"IF(P163=\"\",\"\",P163)","v":""},"","","MP  - MP ",{"$f":"IF(R163=\"\",\"\",R163)","v":""},"","","MP  - MP ",{"$f":"IF(T163=\"\",\"\",T163)","v":""},"","","MP  - MP ",{"$f":"IF(V163=\"\",\"\",V163)","v":""},"","","MP  - MP ",{"$f":"IF(X163=\"\",\"\",X163)","v":""},"","","MP  - MP "]
[null,null,null,null,null,null,null,null,0,null,null,null,null,null,null,null,null,null,null,null,null,"","","","MP  - MP ",{"$f":"IF(D164=\"\",\"\",D164)","v":""},"","","MP  - MP ",{"$f":"IF(F164=\"\",\"\",F164)","v":""},"","","MP  - MP ",{"$f":"IF(I164=\"\",\"\",I164)","v":""},"","","MP  - MP ",{"$f":"IF(K164=\"\",\"\",K164)","v":""},"","","MP  - MP ",{"$f":"IF(P164=\"\",\"\",P164)","v":""},"","","MP  - MP ",{"$f":"IF(R164=\"\",\"\",R164)","v":""},"","","MP  - MP ",{"$f":"IF(T164=\"\",\"\",T164)","v":""},"","","MP  - MP ",{"$f":"IF(V164=\"\",\"\",V164)","v":""},"","","MP  - MP ",{"$f":"IF(X164=\"\",\"\",X164)","v":""},"","","MP  - MP "]
[null,null,null,null,null,null,null,null,0,null,null,null,null,null,null,null,null,null,null,null,null,"","","","MP  - MP ",{"$f":"IF(D165=\"\",\"\",D165)","v":""},"","","MP  - MP ",{"$f":"IF(F165=\"\",\"\",F165)","v":""},"","","MP  - MP ",{"$f":"IF(I165=\"\",\"\",I165)","v":""},"","","MP  - MP ",{"$f":"IF(K165=\"\",\"\",K165)","v":""},"","","MP  - MP ",{"$f":"IF(P165=\"\",\"\",P165)","v":""},"","","MP  - MP ",{"$f":"IF(R165=\"\",\"\",R165)","v":""},"","","MP  - MP ",{"$f":"IF(T165=\"\",\"\",T165)","v":""},"","","MP  - MP ",{"$f":"IF(V165=\"\",\"\",V165)","v":""},"","","MP  - MP ",{"$f":"IF(X165=\"\",\"\",X165)","v":""},"","","MP  - MP "]
[null,null,null,null,null,null,null,null,0,null,null,null,null,null,null,null,null,null,null,null,null,"","","","MP  - MP ",{"$f":"IF(D166=\"\",\"\",D166)","v":""},"","","MP  - MP ",{"$f":"IF(F166=\"\",\"\",F166)","v":""},"","","MP  - MP ",{"$f":"IF(I166=\"\",\"\",I166)","v":""},"","","MP  - MP ",{"$f":"IF(K166=\"\",\"\",K166)","v":""},"","","MP  - MP ",{"$f":"IF(P166=\"\",\"\",P166)","v":""},"","","MP  - MP ",{"$f":"IF(R166=\"\",\"\",R166)","v":""},"","","MP  - MP ",{"$f":"IF(T166=\"\",\"\",T166)","v":""},"","","MP  - MP ",{"$f":"IF(V166=\"\",\"\",V166)","v":""},"","","MP  - MP ",{"$f":"IF(X166=\"\",\"\",X166)","v":""},"","","MP  - MP "]
[null,null,null,null,null,null,null,null,0,null,null,null,null,null,null,null,null,null,null,null,null,"","","","MP  - MP ",{"$f":"IF(D167=\"\",\"\",D167)","v":""},"","","MP  - MP ",{"$f":"IF(F167=\"\",\"\",F167)","v":""},"","","MP  - MP ",{"$f":"IF(I167=\"\",\"\",I167)","v":""},"","","MP  - MP ",{"$f":"IF(K167=\"\",\"\",K167)","v":""},"","","MP  - MP ",{"$f":"IF(P167=\"\",\"\",P167)","v":""},"","","MP  - MP ",{"$f":"IF(R167=\"\",\"\",R167)","v":""},"","","MP  - MP ",{"$f":"IF(T167=\"\",\"\",T167)","v":""},"","","MP  - MP ",{"$f":"IF(V167=\"\",\"\",V167)","v":""},"","","MP  - MP ",{"$f":"IF(X167=\"\",\"\",X167)","v":""},"","","MP  - MP "]
[null,null,null,null,null,null,null,null,0,null,null,null,null,null,null,null,null,null,null,null,null,"","","","MP  - MP ",{"$f":"IF(D168=\"\",\"\",D168)","v":""},"","","MP  - MP ",{"$f":"IF(F168=\"\",\"\",F168)","v":""},"","","MP  - MP ",{"$f":"IF(I168=\"\",\"\",I168)","v":""},"","","MP  - MP ",{"$f":"IF(K168=\"\",\"\",K168)","v":""},"","","MP  - MP ",{"$f":"IF(P168=\"\",\"\",P168)","v":""},"","","MP  - MP ",{"$f":"IF(R168=\"\",\"\",R168)","v":""},"","","MP  - MP ",{"$f":"IF(T168=\"\",\"\",T168)","v":""},"","","MP  - MP ",{"$f":"IF(V168=\"\",\"\",V168)","v":""},"","","MP  - MP ",{"$f":"IF(X168=\"\",\"\",X168)","v":""},"","","MP  - MP "]
[null,null,null,null,null,null,null,null,null,null,null,null,null,null,null,null,null,null,null,null,null,"","","","MP  - MP ",{"$f":"IF(D169=\"\",\"\",D169)","v":""},"","","MP  - MP ",{"$f":"IF(F169=\"\",\"\",F169)","v":""},"","","MP  - MP ",{"$f":"IF(I169=\"\",\"\",I169)","v":""},"","","MP  - MP ",{"$f":"IF(K169=\"\",\"\",K169)","v":""},"","","MP  - MP ",{"$f":"IF(P169=\"\",\"\",P169)","v":""},"","","MP  - MP ",{"$f":"IF(R169=\"\",\"\",R169)","v":""},"","","MP  - MP ",{"$f":"IF(T169=\"\",\"\",T169)","v":""},"","","MP  - MP ",{"$f":"IF(V169=\"\",\"\",V169)","v":""},"","","MP  - MP ",{"$f":"IF(X169=\"\",\"\",X169)","v":""},"","","MP  - MP "]
[null,null,null,null,null,null,null,null,null,null,null,null,null,null,null,null,null,null,null,null,null,"","","","MP  - MP ",{"$f":"IF(D170=\"\",\"\",D170)","v":""},"","","MP  - MP ",{"$f":"IF(F170=\"\",\"\",F170)","v":""},"","","MP  - MP ",{"$f":"IF(I170=\"\",\"\",I170)","v":""},"","","MP  - MP ",{"$f":"IF(K170=\"\",\"\",K170)","v":""},"","","MP  - MP ",{"$f":"IF(P170=\"\",\"\",P170)","v":""},"","","MP  - MP ",{"$f":"IF(R170=\"\",\"\",R170)","v":""},"","","MP  - MP ",{"$f":"IF(T170=\"\",\"\",T170)","v":""},"","","MP  - MP ",{"$f":"IF(V170=\"\",\"\",V170)","v":""},"","","MP  - MP ",{"$f":"IF(X170=\"\",\"\",X170)","v":""},"","","MP  - MP "]
[null,null,null,null,null,null,null,null,null,null,null,null,null,null,null,null,null,null,null,null,null,"","","","MP  - MP ",{"$f":"IF(D171=\"\",\"\",D171)","v":""},"","","MP  - MP ",{"$f":"IF(F171=\"\",\"\",F171)","v":""},"","","MP  - MP ",{"$f":"IF(I171=\"\",\"\",I171)","v":""},"","","MP  - MP ",{"$f":"IF(K171=\"\",\"\",K171)","v":""},"","","MP  - MP ",{"$f":"IF(P171=\"\",\"\",P171)","v":""},"","","MP  - MP ",{"$f":"IF(R171=\"\",\"\",R171)","v":""},"","","MP  - MP ",{"$f":"IF(T171=\"\",\"\",T171)","v":""},"","","MP  - MP ",{"$f":"IF(V171=\"\",\"\",V171)","v":""},"","","MP  - MP ",{"$f":"IF(X171=\"\",\"\",X171)","v":""},"","","MP  - MP "]
[null,null,null,null,null,null,null,null,null,null,null,null,null,null,null,null,null,null,null,null,null,"","","","MP  - MP ",{"$f":"IF(D172=\"\",\"\",D172)","v":""},"","","MP  - MP ",{"$f":"IF(F172=\"\",\"\",F172)","v":""},"","","MP  - MP ",{"$f":"IF(I172=\"\",\"\",I172)","v":""},"","","MP  - MP ",{"$f":"IF(K172=\"\",\"\",K172)","v":""},"","","MP  - MP ",{"$f":"IF(P172=\"\",\"\",P172)","v":""},"","","MP  - MP ",{"$f":"IF(R172=\"\",\"\",R172)","v":""},"","","MP  - MP ",{"$f":"IF(T172=\"\",\"\",T172)","v":""},"","","MP  - MP ",{"$f":"IF(V172=\"\",\"\",V172)","v":""},"","","MP  - MP ",{"$f":"IF(X172=\"\",\"\",X172)","v":""},"","","MP  - MP "]
[null,null,null,null,null,null,null,null,null,null,null,null,null,null,null,null,null,null,null,null,null,"","","","MP  - MP ",{"$f":"IF(D173=\"\",\"\",D173)","v":""},"","","MP  - MP ",{"$f":"IF(F173=\"\",\"\",F173)","v":""},"","","MP  - MP ",{"$f":"IF(I173=\"\",\"\",I173)","v":""},"","","MP  - MP ",{"$f":"IF(K173=\"\",\"\",K173)","v":""},"","","MP  - MP ",{"$f":"IF(P173=\"\",\"\",P173)","v":""},"","","MP  - MP ",{"$f":"IF(R173=\"\",\"\",R173)","v":""},"","","MP  - MP ",{"$f":"IF(T173=\"\",\"\",T173)","v":""},"","","MP  - MP ",{"$f":"IF(V173=\"\",\"\",V173)","v":""},"","","MP  - MP ",{"$f":"IF(X173=\"\",\"\",X173)","v":""},"","","MP  - MP "]
[null,null,null,null,null,null,null,null,null,null,null,null,null,null,null,null,null,null,null,null,null,"","","","MP  - MP ",{"$f":"IF(D174=\"\",\"\",D174)","v":""},"","","MP  - MP ",{"$f":"IF(F174=\"\",\"\",F174)","v":""},"","","MP  - MP ",{"$f":"IF(I174=\"\",\"\",I174)","v":""},"","","MP  - MP ",{"$f":"IF(K174=\"\",\"\",K174)","v":""},"","","MP  - MP ",{"$f":"IF(P174=\"\",\"\",P174)","v":""},"","","MP  - MP ",{"$f":"IF(R174=\"\",\"\",R174)","v":""},"","","MP  - MP ",{"$f":"IF(T174=\"\",\"\",T174)","v":""},"","","MP  - MP ",{"$f":"IF(V174=\"\",\"\",V174)","v":""},"","","MP  - MP ",{"$f":"IF(X174=\"\",\"\",X174)","v":""},"","","MP  - MP "]
[null,null,null,null,null,null,null,null,null,null,null,null,null,null,null,null,null,null,null,null,null,"","","","MP  - MP ",{"$f":"IF(D175=\"\",\"\",D175)","v":""},"","","MP  - MP ",{"$f":"IF(F175=\"\",\"\",F175)","v":""},"","","MP  - MP ",{"$f":"IF(I175=\"\",\"\",I175)","v":""},"","","MP  - MP ",{"$f":"IF(K175=\"\",\"\",K175)","v":""},"","","MP  - MP ",{"$f":"IF(P175=\"\",\"\",P175)","v":""},"","","MP  - MP ",{"$f":"IF(R175=\"\",\"\",R175)","v":""},"","","MP  - MP ",{"$f":"IF(T175=\"\",\"\",T175)","v":""},"","","MP  - MP ",{"$f":"IF(V175=\"\",\"\",V175)","v":""},"","","MP  - MP ",{"$f":"IF(X175=\"\",\"\",X175)","v":""},"","","MP  - MP "]
[null,null,null,null,null,null,null,null,null,null,null,null,null,null,null,null,null,null,null,null,null,"","","",{"$f":"CONCATENATE(\"MP \",V90,\" - \",\"MP \",W90)","v":"MP  - MP "},{"$f":"IF(D176=\"\",\"\",D176)","v":""},"","",{"$f":"CONCATENATE(\"MP \",Z90,\" - \",\"MP \",AA90)","v":"MP  - MP "},{"$f":"IF(F176=\"\",\"\",F176)","v":""},"","",{"$f":"CONCATENATE(\"MP \",AD90,\" - \",\"MP \",AE90)","v":"MP  - MP "},{"$f":"IF(I176=\"\",\"\",I176)","v":""},"","",{"$f":"CONCATENATE(\"MP \",AH90,\" - \",\"MP \",AI90)","v":"MP  - MP "},{"$f":"IF(K176=\"\",\"\",K176)","v":""},"","",{"$f":"CONCATENATE(\"MP \",AL90,\" - \",\"MP \",AM90)","v":"MP  - MP "},{"$f":"IF(P176=\"\",\"\",P176)","v":""},"","",{"$f":"CONCATENATE(\"MP \",AP90,\" - \",\"MP \",AQ90)","v":"MP  - MP "},{"$f":"IF(R176=\"\",\"\",R176)","v":""},"","",{"$f":"CONCATENATE(\"MP \",AT90,\" - \",\"MP \",AU90)","v":"MP  - MP "},{"$f":"IF(T176=\"\",\"\",T176)","v":""},"","",{"$f":"CONCATENATE(\"MP \",AX90,\" - \",\"MP \",AY90)","v":"MP  - MP "},{"$f":"IF(V176=\"\",\"\",V176)","v":""},"","",{"$f":"CONCATENATE(\"MP \",BB90,\" - \",\"MP \",BC90)","v":"MP  - MP "},{"$f":"IF(X176=\"\",\"\",X176)","v":""},"","",{"$f":"CONCATENATE(\"MP \",BF90,\" - \",\"MP \",BG90)","v":"MP  - MP "}]
[null,null,null,null,null,null,null,null,null,null,null,null,null,null,null,null,null,null,null,null,null,null,null,{"$f":"(COUNTIF(X10:X90,\">0\"))+0","v":2},null,null,null,{"$f":"(COUNTIF(AB10:AB90,\">0\"))+0","v":1},null,null,null,{"$f":"(COUNTIF(AF10:AF90,\">0\"))+0","v":2},null,null,null,{"$f":"(COUNTIF(AJ10:AJ90,\">0\"))+0","v":1},null,null,null,{"$f":"(COUNTIF(AN10:AN90,\">0\"))+0","v":1},null,null,null,{"$f":"(COUNTIF(AR10:AR90,\">0\"))+0","v":2},null,null,null,{"$f":"(COUNTIF(AV10:AV90,\">0\"))+0","v":1},null,null,null,{"$f":"(COUNTIF(AZ10:AZ90,\">0\"))+0","v":2},null,null,null,{"$f":"(COUNTIF(BD10:BD90,\">0\"))+0","v":1},null,null,null,{"$f":"(COUNTIF(BH10:BH90,\">0\"))+0","v":1}]
[null,null,96,null,null,null,null,null,null,null,null,null,null,null,null,null,null,null,null,null,null,"Lane 1",null,"Lane 2",null,"Lane 3",null,"Lane 4",null,"Lane 5"]
["Summary table start at =",null,null,96,null,null,null,null,null,null,null,null,null,null,null,null,null,null,null,null,null,null,null,null,null,"Begin","End","Begin","End","Begin","End"]
[1,2,null,4,5,6,7,null,9,10,11,12,null,null,null,16,17,18,19,20,21,22,23,24,25]
["Lane 1",null,null,"Lane2",null,"Lane 3",null,null,"Lane 4",null,"Lane 5",null,null,null,null,"Lane 1",null,"Lane 2",null,"Lane 3",null,"Lane 4",null,"Lane5",null,null,null,null,null,"Primary","Sec",null,{"$f":"COUNT((X91,AB91,AF91,AN91,AJ91))","v":5},{"$f":"MAX(AG95:AG96)","v":5}]
[0.75,1.5,null,0.79400000000000004,4,0.75,0.79400000000000004,null,0.79400000000000004,4,0.75,3.6,null,null,null,0.75,1.5,0.79400000000000004,3.6,0.75,0.79400000000000004,0.79400000000000004,4,0.75,3.6,null,null,null,null,{"$f":"COUNTIF(X10:X90,\">.1875\")","v":2},{"$f":"COUNTIF(AR10:AR90,\">0.1875\")","v":2},null,{"$f":"COUNT(AR91,AV91,AZ91,BD91,BH91)","v":5}]
[3.6,4,null,null,null,3.3490000000000002,3.6,null,null,null,null,null,null,null,null,3.6,4,null,null,3.3490000000000002,3.6,null,null,null,null,null,null,null,null,{"$f":"COUNTIF(AB10:AB90,\">.1875\")","v":1},{"$f":"COUNTIF(AV10:AV90,\">0.1875\")","v":1}]
[null,null,null,null,null,null,null,null,null,null,null,null,null,null,null,null,null,null,null,null,null,null,null,null,null,null,null,null,null,{"$f":"COUNTIF(AF10:AF90,\">.1875\")","v":1},{"$f":"COUNTIF(AZ10:AZ90,\">0.1875\")","v":1}]
[null,null,null,null,null,null,null,null,null,null,null,null,null,null,null,null,null,null,null,null,null,null,null,null,null,null,null,null,null,{"$f":"COUNTIF(AJ10:AJ90,\">.1875\")","v":1},{"$f":"COUNTIF(BD10:BD90,\">0.1875\")","v":1}]
[null,null,null,null,null,null,null,null,null,null,null,null,null,null,null,null,null,null,null,null,null,null,null,null,null,null,null,null,null,{"$f":"COUNTIF(AN10:AN90,\">.1875\")","v":1},{"$f":"COUNTIF(BH10:BH90,\">0.1875\")","v":1}]
[null,null,null,null,null,null,null,null,null,null,null,null,null,null,null,null,null,null,null,null,null,null,null,null,null,null,null,null,"Total Counts Rows",{"$f":"MAX(AD96:AD100)","v":2},{"$f":"MAX(AE96:AE100)","v":2},{"$f":"SUM(AD101+AE101)","v":4}]
[null,null,null,null,null,null,null,null,null,null,null,null,null,null,null,null,null,null,null,null,null,null,null,null,null,null,null,null,"# of Col",{"$f":"COUNTIF(AD96:AD100,\">0\")","v":5},{"$f":"COUNTIF(AE96:AE100,\">0\")","v":5}]
[null,null,null,null,null,null,null,null,null,null,null,null,null,null,null,null,null,null,null,null,null,null,null,null,null,null,null,null,"Maximum Lanes",{"$f":"MAX(AD102:AE102)","v":5}]

{"sheet":"LaneExample","index":14,"n_rows":0,"n_cols":0,"rows_kept":0,"cut":false,"hidden":true,"merged":[]}

{"sheet":"Table_Calculation","index":15,"n_rows":1190,"n_cols":50,"rows_kept":1190,"cut":false,"hidden":true,"merged":[[37,9,37,10],[37,11,37,12],[37,13,37,14],[34,0,36,4],[37,0,39,4],[41,0,41,14],[42,0,42,14],[34,9,34,10],[34,11,34,12],[34,13,34,14],[35,5,35,6],[35,13,35,14],[35,9,35,10],[35,11,35,12],[35,7,35,8],[34,5,34,6],[40,11,40,12],[40,13,40,14],[38,5,38,6],[38,7,38,8],[38,9,38,10],[38,11,38,12],[38,13,38,14],[36,5,36,6],[10,0,10,4],[17,0,17,14],[18,0,18,14],[14,6,14,8],[10,7,10,9],[10,10,10,11],[10,5,10,6],[11,7,11,9],[12,7,12,9],[11,10,11,11],[12,10,12,11],[11,5,11,6],[15,0,15,5],[16,0,16,5],[15,7,15,8],[16,7,16,8],[12,5,12,6],[33,5,33,6],[33,7,33,8],[33,9,33,10],[33,11,33,12],[33,13,33,14],[21,45,21,46],[24,45,24,49],[25,45,25,46],[11,0,11,4],[12,0,12,4],[20,45,20,46],[20,7,20,14],[19,0,19,14],[20,4,20,6],[22,9,22,12],[24,0,25,3],[24,4,25,6],[24,9,24,12],[25,9,25,12],[31,0,31,14],[29,0,29,1],[24,8,25,8],[0,45,0,46],[6,45,6,49],[7,45,7,46],[22,8,23,8],[28,19,28,23],[30,19,30,23],[22,45,22,46],[9,45,9,46],[10,45,10,46],[12,45,12,49],[14,45,14,49],[15,45,15,46],[15,47,15,49],[17,45,17,49],[18,45,18,46],[19,45,19,46],[0,47,0,49],[1,45,1,46],[1,47,1,49],[2,45,2,46],[3,45,3,46],[3,47,3,49],[4,45,4,46],[21,7,21,14],[4,48,4,49],[5,45,5,49],[47,11,47,12],[201,0,201,3],[43,5,43,6],[43,11,43,12],[43,13,43,14],[82,6,82,7],[43,9,43,10],[8,45,8,46],[43,7,43,8],[47,13,47,14],[34,7,34,8],[33,0,33,4],[21,4,23,6],[21,0,23,3],[39,5,39,6],[39,7,39,8],[39,9,39,10],[39,11,39,12],[39,13,39,14],[40,5,40,6],[40,7,40,8],[40,9,40,10],[36,7,36,8],[36,9,36,10],[36,11,36,12],[36,13,36,14],[37,5,37,6],[37,7,37,8],[202,0,202,3],[44,5,44,6],[44,7,44,8],[44,9,44,10],[44,11,44,12],[44,13,44,14],[45,5,45,6],[45,7,45,8],[45,9,45,10],[45,11,45,12],[45,13,45,14],[46,5,46,6],[46,7,46,8],[46,9,46,10],[46,11,46,12],[46,13,46,14],[47,7,47,8],[47,9,47,10]]}
[null,null,null,null,null,null,null,null,null,null,null,null,null,null,null,null,null,null,null,null,null,null,null,null,null,null,null,null,null,null,null,null,null,null,null,null,null,null,null,null,null,null,null,null,null,"Route",null,{"$f":"IF('Calculation sheet'!C1=\"\",\"\",'Calculation sheet'!C1)","v":""}]
[null,null,null,null,null,null,null,null,null,null,null,null,null,null,null,null,null,null,null,null,null,null,null,null,null,null,null,null,null,null,null,null,null,null,null,null,null,null,null,null,null,null,null,null,null,"County:",null,{"$f":"IF('Calculation sheet'!C2=\"\",\"\",'Calculation sheet'!C2)","v":""}]
[null,null,null,null,null,null,null,null,null,null,null,null,null,null,null,null,null,null,null,null,null,null,null,null,null,null,null,null,null,null,null,null,null,null,null,null,null,null,null,null,null,null,null,null,null,"Township",null,{"$f":"'Calculation sheet'!C3","v":0}]
[null,null,null,null,null,null,null,null,null,null,null,null,null,null,null,null,null,null,null,null,null,null,null,null,null,null,null,null,null,null,null,null,null,null,null,null,null,null,null,null,null,null,null,null,null,"Highway Classification",null,{"$f":"'Calculation sheet'!C4","v":"Freeways/Limited Access Highways"}]
[null,null,null,null,null,null,null,null,null,null,null,null,null,null,null,null,null,null,null,null,null,null,null,null,null,null,null,null,null,null,null,null,null,null,null,null,null,null,null,null,null,null,null,null,null,"Designer's Initial",null,{"$f":"'Calculation sheet'!C5","v":0}]
[null,null,null,null,null,null,null,null,null,null,null,null,null,null,null,null,null,null,null,null,null,null,null,null,null,null,null,null,null,null,null,null,null,null,null,null,null,null,null,null,null,null,null,null,null,"PROJECT DATA"]
["INPUT",null,null,null,null,null,null,null,null,null,null,null,null,null,null,null,null,null,null,null,null,null,null,null,null,null,null,null,null,null,null,null,null,null,null,null,null,null,null,null,null,null,null,null,null,"INPUT"]
["Name of Project -",null,null,null,null,{"$f":"CONCATENATE(\"Route \",AV1,\", \",AV2,\" County, \",AV3,\" Township, \")","v":"Route ,  County, 0 Township, "},null,null,null,null,null,null,null,null,null,null,null,null,null,null,null,null,null,null,null,null,null,null,null,null,null,null,null,null,null,null,null,null,null,null,null,null,null,null,null,"Direction",null,{"$f":"'Calculation sheet'!C8","v":0},null,{"$f":"'Calculation sheet'!E8","v":0}]
["Base IRI Classification -",null,null,null,null,{"$f":"AV4","v":"Freeways/Limited Access Highways"},null,null,null,null,null,null,null,null,null,null,null,null,null,null,null,null,null,null,null,null,null,null,null,null,null,null,null,null,null,null,null,null,null,null,null,null,null,null,null,"MP Begin",null,{"$f":"'Calculation sheet'!C9","v":0},null,{"$f":"'Calculation sheet'!E9","v":0}]
["Type of Project -",null,null,null,null,{"$f":"AV16","v":"Re-surfacing"},null,null,null,null,null,null,null,null,null,null,null,null,null,null,null,null,null,null,null,null,null,null,null,null,null,null,null,null,null,null,null,null,null,null,null,null,null,null,null,"MP End",null,{"$f":"'Calculation sheet'!C10","v":0},null,{"$f":"'Calculation sheet'!E10","v":0}]
[null,null,null,null,null,"Existing IRI",null,"Type of Pavement",null,null,"HMA>8-inch",null,null,null,null,null,null,null,null,null,null,null,null,null,null,null,null,null,null,null,null,null,null,null,null,null,null,null,null,null,null,null,null,null,null,"No. of Lanes",null,{"$f":"'Calculation sheet'!C11","v":0},null,{"$f":"'Calculation sheet'!E11","v":0}]
[{"$f":"CONCATENATE(\"Route \",AV1,\" \",AV8,\" from MP \",AV9,\" to MP \",AV10)","v":"Route  0 from MP 0 to MP 0"},null,null,null,null,{"$f":"'Calculation sheet'!$C$19","v":0},null,{"$f":"IF('Calculation sheet'!$C$22=\"Yes\", \"Composite\",\"Flexible\")","v":"Flexible"},null,null,{"$f":"'Calculation sheet'!C23","v":0}]
[{"$f":"CONCATENATE(\"Route \",AV1,\" \",AX8,\" from MP \",AX9,\" to MP \",AX10)","v":"Route  0 from MP 0 to MP 0"},null,null,null,null,{"$f":"'Calculation sheet'!$E$19","v":0},null,{"$f":"IF('Calculation sheet'!$E$22=\"Yes\", \"Composite\",\"Flexible\")","v":"Flexible"},null,null,{"$f":"'Calculation sheet'!E22","v":0},null,null,null,null,null,null,null,null,null,null,null,null,null,null,null,null,null,null,null,null,null,null,null,null,null,null,null,null,null,null,null,null,null,null,"GENERALIZED FACTORS"]
["Output"]
[null,null,null,null,null,null,"Target IRI",null,null,null,null,null,null,null,null,null,null,null,null,null,null,null,null,null,null,null,null,null,null,null,null,null,null,null,null,null,null,null,null,null,null,null,null,null,null,"INPUT"]
[{"$f":"A12","v":"Route  0 from MP 0 to MP 0"},null,null,null,null,null,{"$f":"AV27","v":{"$error":"#N/A"}},"Inch/Mile",null,null,null,null,null,null,null,null,null,null,null,null,null,null,null,null,null,null,null,null,null,null,null,null,null,null,null,null,null,null,null,null,null,null,null,null,null,"Type of Project",null,"Re-surfacing"]
[{"$f":"A13","v":"Route  0 from MP 0 to MP 0"},null,null,null,null,null,{"$f":"AX27","v":{"$error":"#N/A"}},"Inch/Mile",null,null,null,null,null,null,null,null,null,null,null,null,null,null,null,null,null,null,null,null,null,null,null,null,null,null,null,null,null,null,null,null,null,null,null,null,null,"Direction",null,{"$f":"'Calculation sheet'!C17","v":0},null,{"$f":"'Calculation sheet'!E17","v":0}]
[{"$f":"IF('Calculation sheet'!P14>0,(CONCATENATE('Calculation sheet'!G6,\" has either error in input or Percentage of Exclusions is greater than threshold value.\")),\"\")","v":"NB has either error in input or Percentage of Exclusions is greater than threshold value."},null,null,null,null,null,null,null,null,null,null,null,null,null,null,null,null,null,null,null,null,null,null,null,null,null,null,null,null,null,null,null,null,null,null,null,null,null,null,null,null,null,null,null,null,{"$f":"'Calculation sheet'!A18","v":"Pre-Construction"}]
[{"$f":"IF('Calculation sheet'!Q14>0,(CONCATENATE('Calculation sheet'!K6,\" has either error in input or Percentage of Exclusions is greater than threshold value.\")),\"\")","v":"SB has either error in input or Percentage of Exclusions is greater than threshold value."},null,null,null,null,null,null,null,null,null,null,null,null,null,null,null,null,null,null,null,null,null,null,null,null,null,null,null,null,null,null,null,null,null,null,null,null,null,null,null,null,null,null,null,null,"Existing IRI",null,{"$f":"'Calculation sheet'!C19","v":0},null,{"$f":"'Calculation sheet'!E19","v":0}]
["Table 401.03.03-7",null,null,null,null,null,null,null,null,null,null,null,null,null,null,null,null,null,null,null,null,null,null,null,null,null,null,null,null,null,null,null,null,null,null,null,null,null,null,null,null,null,null,null,null,"Milling Proposed",null,{"$f":"'Calculation sheet'!C20","v":0},null,{"$f":"'Calculation sheet'!E20","v":0}]
[null,null,null,null,"Excluded Lots",null,null,"Pay Equation(s)",null,null,null,null,null,null,null,null,null,null,null,null,null,null,null,null,null,null,null,null,null,null,null,null,null,null,null,null,null,null,null,null,null,null,null,null,null,"Number of Lifts ",null,{"$f":"'Calculation sheet'!C21","v":0},null,{"$f":"'Calculation sheet'!E21","v":0}]
[{"$f":"'Calculation sheet'!A33","v":"Route   from MP  to MP "},null,null,null,{"$f":"'Calculation sheet'!B33","v":"Lane 1- 1"},null,null,"PA on Lots of 0.01 mile length",null,null,null,null,null,null,null,null,null,null,null,null,null,null,null,null,null,null,null,null,null,null,null,null,null,null,null,null,null,null,null,null,null,null,null,null,null,"Composite?",null,{"$f":"'Calculation sheet'!C22","v":0},null,{"$f":"'Calculation sheet'!E22","v":0}]
[null,null,null,null,null,null,null,"A"," +","A",null,null,null,null,null,null,null,null,null,null,null,null,null,null,null,null,null,null,null,null,null,null,null,null,null,null,null,null,null,null,null,null,null,null,null,"Will the composite pavement have final HMA thickness >=8\" AND joints sealed AND joints stabilized?",null,{"$f":"'Calculation sheet'!C23","v":0},null,{"$f":"'Calculation sheet'!E23","v":0}]
[null,null,null,null,null,null,null,38.452300000000008,null,"-37.75347*Ln(IRI)+194.87",null,null,null,null,null,null,null,{"$f":"B189","v":5},{"$f":"C189","v":5}]
[{"$f":"'Calculation sheet'!A37","v":"Route   from MP  to MP "},null,null,null,{"$f":"'Calculation sheet'!B37","v":"Lane 1- 0"},null,null,"A"," +","A",null,null,null,null,null,null,null,{"$f":"B190","v":5},null,null,null,null,null,null,null,null,null,null,null,null,null,null,null,null,null,null,null,null,null,null,null,null,null,null,null,"OUTPUT"]
[null,null,null,null,null,null,null,35.017799999999994,null,"-37.75347*Ln(IRI)+194.87",null,null,null,null,null,null,null,null,null,null,null,null,null,null,null,null,null,null,null,null,null,null,null,null,null,null,null,null,null,null,null,null,null,null,null,"Direction",null,{"$f":"'Calculation sheet'!C28","v":0},null,{"$f":"'Calculation sheet'!E28","v":0}]
[null,null,null,null,"M= Bide Price of Milling, SY",null,null,null,null,null,null,null,null,null,null,null,null,null,null,null,null,null,null,null,null,null,null,null,null,null,null,null,null,null,null,null,null,null,null,null,null,null,null,null,null,"IRISpecified",null,{"$f":"'Calculation sheet'!C29","v":{"$error":"#N/A"}},null,{"$f":"'Calculation sheet'!E29","v":{"$error":"#N/A"}}]
[null,null,null,null,"N= Bid Price of last lift of the pavement structure to be evaluated, Ton.",null,null,null,null,null,null,null,null,null,null,null,null,null,200,{"$f":"A200","v":38},{"$f":"B200","v":37},{"$f":"C200","v":37},{"$f":"D200","v":37},{"$f":"E200","v":37}]
[null,null,null,null,"D= Average thickness of last lift to be evaluated, Inch",null,null,null,null,null,null,null,null,null,null,null,null,null,202,{"$f":"A202","v":38}]
[null,null,null,null,null,null,null,null,null,null,null,null,null,null,null,null,null,null,201,{"$f":"A201","v":41},{"$f":"B201","v":40},{"$f":"C201","v":40},{"$f":"D201","v":40},{"$f":"E201","v":40}]
[null,null,null,null,null,null,null,null,null,null,null,null,null,null,null,null,null,null,203,{"$f":"A203","v":41}]
["LIMITS OF EXCLUSION CALCULATIONS"]
[]
[null,null,null,null,null,"Lane 1",null,"Lane 2",null,"Lane 3",null,"Lane 4",null,"Lane 5"]
["Route Rt 1 SB from MP 9 to MP 7",null,null,null,null,"MP 0.75 - MP 1.5",null,"MP 0.794 - MP 4",null,"MP 3.349 - MP 3.6",null,"MP 0.794 - MP 4",null,"MP 0.75 - MP 3.6"]
[null,null,null,null,null,"MP 3.6 - MP 4",null,"MP  - MP ",null,"MP  - MP ",null,"MP  - MP ",null,"MP  - MP "]
[null,null,null,null,null,"MP  - MP "]
[null,null,null,null,null,"MP 0.75 - MP 1.5",null,"MP 0.794 - MP 3.6",null,"MP 3.349 - MP 3.6",null,"MP 0.794 - MP 4",null,"MP 0.75 - MP 3.6"]
[null,null,null,null,null,"MP 3.6 - MP 4",null,"MP  - MP ",null,"MP  - MP ",null,"MP  - MP ",null,"MP  - MP "]
[null,null,null,null,null,"MP  - MP "]
[]
["Note:- If any lane greater than 1000 feet within the ride quality requirements limits is not shown above, will be tested and  appropriate pay equation specified ",null,null,null,null,null,null,null,null,null,null,null,null,null,null,null,null,null,"Note:- If any lane greater than 1000 feet within the ride quality requirements limits is not shown above, will be tested and  appropriate pay equation specified "]
["in the Special Provisions will be applied for pay adjustment.",null,null,null,null,null,null,null,null,null,null,null,null,null,null,null,null,null,"in the Special Provisions will be applied for pay adjustment."]
[]
[]
[]
[]
[]
[]
[]
[]
[]
[]
[]
[]
[]
[]
[]
[]
[]
[]
[]
[]
[]
[]
[]
[]
[]
[]
[]
[]
[]
[]
[]
[]
[]
[]
[]
[]
[]
[null,null,null,null,"Total # of Rows","Primary",{"$f":"Lane!AD101","v":2},{"$f":"Lane!AE101","v":2},{"$f":"G81+H81","v":4}]
[null,null,null,null,"# of Col",null,{"$f":"Lane!AD102","v":5},{"$f":"Lane!AE102","v":5}]
["Max Rows",null,null,null,"Total Columns",null,{"$f":"Lane!AD103","v":5}]
[]
[]
[]
[]
[]
[]
[]
[]
[]
[]
[]
[]
[]
[]
[]
[]
[]
[]
[]
[]
[]
[]
[]
[]
[]
[]
[]
[]
[]
[]
[]
[]
[]
[]
[]
[]
[]
[]
[]
[]
[]
[]
[]
[]
[]
[]
[]
[]
[]
[]
[]
[]
[]
[]
[]
[]
[]
[]
[]
[]
[]
[]
[]
[]
[]
[]
[]
[]
[]
[]
[]
[]
[]
[]
[]
[]
[]
[]
[]
[]
[]
[]
[]
[]
[]
[]
[]
[]
[]
[]
[]
[]
[]
[]
[]
[]
[]
[]
[]
[]
[]
[]
[]
[]
[null,"Row"]
[null,5,{"$f":"MAX(B189:B190)","v":5}]
[null,5]
[]
[]
[]
[]
[]
[]
[]
[]
["Lane1","Lane2","Lane3","Lane4","Lane5"]
[38,37,37,37,37]
[41,40,40,40,40]
[{"$f":"MAX(A200:E200)","v":38}]
[{"$f":"MAX(A201:E201)","v":41}]
[]
[]
[]
[]
[]
[]
[]
[]
[]
[]
[]
[]
[]
[]
[]
[]
[]
[]
[]
[]
[]
[]
[]
[]
[]
[]
[]
[]
[]
[]
[]
[]
[]
[]
[]
[]
[]
[]
[]
[]
[]
[]
[]
[]
[]
[]
[]
[]
[]
[]
[]
[]
[]
[]
[]
[]
[]
[]
[]
[]
[]
[]
[]
[]
[]
[]
[]
[]
[]
[]
[]
[]
[]
[]
[]
[]
[]
[]
[]
[]
[]
[]
[]
[]
[]
[]
[]
[]
[]
[]
[]
[]
[]
[]
[]
[]
[]
[]
[]
[]
[]
[]
[]
[]
[]
[]
[]
[]
[]
[]
[]
[]
[]
[]
[]
[]
[]
[]
[]
[]
[]
[]
[]
[]
[]
[]
[]
[]
[]
[]
[]
[]
[]
[]
[]
[]
[]
[]
[]
[]
[]
[]
[]
[]
[]
[]
[]
[]
[]
[]
[]
[]
[]
[]
[]
[]
[]
[]
[]
[]
[]
[]
[]
[]
[]
[]
[]
[]
[]
[]
[]
[]
[]
[]
[]
[]
[]
[]
[]
[]
[]
[]
[]
[]
[]
[]
[]
[]
[]
[]
[]
[]
[]
[]
[]
[]
[]
[]
[]
[]
[]
[]
[]
[]
[]
[]
[]
[]
[]
[]
[]
[]
[]
[]
[]
[]
[]
[]
[]
[]
[]
[]
[]
[]
[]
[]
[]
[]
[]
[]
[]
[]
[]
[]
[]
[]
[]
[]
[]
[]
[]
[]
[]
[]
[]
[]
[]
[]
[]
[]
[]
[]
[]
[]
[]
[]
[]
[]
[]
[]
[]
[]
[]
[]
[]
[]
[]
[]
[]
[]
[]
[]
[]
[]
[]
[]
[]
[]
[]
[]
[]
[]
[]
[]
[]
[]
[]
[]
[]
[]
[]
[]
[]
[]
[]
[]
[]
[]
[]
[]
[]
[]
[]
[]
[]
[]
[]
[]
[]
[]
[]
[]
[]
[]
[]
[]
[]
[]
[]
[]
[]
[]
[]
[]
[]
[]
[]
[]
[]
[]
[]
[]
[]
[]
[]
[]
[]
[]
[]
[]
[]
[]
[]
[]
[]
[]
[]
[]
[]
[]
[]
[]
[]
[]
[]
[]
[]
[]
[]
[]
[]
[]
[]
[]
[]
[]
[]
[]
[]
[]
[]
[]
[]
[]
[]
[]
[]
[]
[]
[]
[]
[]
[]
[]
[]
[]
[]
[]
[]
[]
[]
[]
[]
[]
[]
[]
[]
[]
[]
[]
[]
[]
[]
[]
[]
[]
[]
[]
[]
[]
[]
[]
[]
[]
[]
[]
[]
[]
[]
[]
[]
[]
[]
[]
[]
[]
[]
[]
[]
[]
[]
[]
[]
[]
[]
[]
[]
[]
[]
[]
[]
[]
[]
[]
[]
[]
[]
[]
[]
[]
[]
[]
[]
[]
[]
[]
[]
[]
[]
[]
[]
[]
[]
[]
[]
[]
[]
[]
[]
[]
[]
[]
[]
[]
[]
[]
[]
[]
[]
[]
[]
[]
[]
[]
[]
[]
[]
[]
[]
[]
[]
[]
[]
[]
[]
[]
[]
[]
[]
[]
[]
[]
[]
[]
[]
[]
[]
[]
[]
[]
[]
[]
[]
[]
[]
[]
[]
[]
[]
[]
[]
[]
[]
[]
[]
[]
[]
[]
[]
[]
[]
[]
[]
[]
[]
[]
[]
[]
[]
[]
[]
[]
[]
[]
[]
[]
[]
[]
[]
[]
[]
[]
[]
[]
[]
[]
[]
[]
[]
[]
[]
[]
[]
[]
[]
[]
[]
[]
[]
[]
[]
[]
[]
[]
[]
[]
[]
[]
[]
[]
[]
[]
[]
[]
[]
[]
[]
[]
[]
[]
[]
[]
[]
[]
[]
[]
[]
[]
[]
[]
[]
[]
[]
[]
[]
[]
[]
[]
[]
[]
[]
[]
[]
[]
[]
[]
[]
[]
[]
[]
[]
[]
[]
[]
[]
[]
[]
[]
[]
[]
[]
[]
[]
[]
[]
[]
[]
[]
[]
[]
[]
[]
[]
[]
[]
[]
[]
[]
[]
[]
[]
[]
[]
[]
[]
[]
[]
[]
[]
[]
[]
[]
[]
[]
[]
[]
[]
[]
[]
[]
[]
[]
[]
[]
[]
[]
[]
[]
[]
[]
[]
[]
[]
[]
[]
[]
[]
[]
[]
[]
[]
[]
[]
[]
[]
[]
[]
[]
[]
[]
[]
[]
[]
[]
[]
[]
[]
[]
[]
[]
[]
[]
[]
[]
[]
[]
[]
[]
[]
[]
[]
[]
[]
[]
[]
[]
[]
[]
[]
[]
[]
[]
[]
[]
[]
[]
[]
[]
[]
[]
[]
[]
[]
[]
[]
[]
[]
[]
[]
[]
[]
[]
[]
[]
[]
[]
[]
[]
[]
[]
[]
[]
[]
[]
[]
[]
[]
[]
[]
[]
[]
[]
[]
[]
[]
[]
[]
[]
[]
[]
[]
[]
[]
[]
[]
[]
[]
[]
[]
[]
[]
[]
[]
[]
[]
[]
[]
[]
[]
[]
[]
[]
[]
[]
[]
[]
[]
[]
[]
[]
[]
[]
[]
[]
[]
[]
[]
[]
[]
[]
[]
[]
[]
[]
[]
[]
[]
[]
[]
[]
[]
[]
[]
[]
[]
[]
[]
[]
[]
[]
[]
[]
[]
[]
[]
[]
[]
[]
[]
[]
[]
[]
[]
[]
[]
[]
[]
[]
[]
[]
[]
[]
[]
[]
[]
[]
[]
[]
[]
[]
[]
[]
[]
[]
[]
[]
[]
[]
[]
[]
[]
[]
[]
[]
[]
[]
[]
[]
[]
[]
[]
[]
[]
[]
[]
[]
[]
[]
[]
[]
[]
[]
[]
[]
[]
[]
[]
[]
[]
[]
[]
[]
[]
[]
[]
[]
[]
[]
[]
[]
[]
[]
[]
[]
[]
[]
[]
[]
[]
[]
[]
[]
[]
[]
[]
[]
[]
[]
[]
[]
[]
[]
[]
[]
[]
[]
[]
[]
[]
[]
[]
[]
[]
[]
[]
[]
[]
[]
[]
[]
[]
[]
[]
[]
[]
[]
[]
[]
[]
[]
[]
[]
[]
[]
[]
[]
[]
[]
[]
[]
[]
[]
[]
[]
[]
[]
[null,5]

{"sheet":"Table_Calculation(Percentage)","index":16,"n_rows":1190,"n_cols":50,"rows_kept":1190,"cut":false,"hidden":true,"merged":[[27,7,27,9],[28,7,28,9],[21,10,21,14],[22,10,22,14],[23,10,23,14],[24,10,24,14],[26,10,26,14],[21,7,21,9],[22,7,22,9],[38,0,38,14],[40,5,40,6],[40,7,40,8],[40,9,40,10],[40,11,40,12],[40,13,40,14],[39,13,39,14],[36,13,36,14],[37,5,37,6],[37,7,37,8],[37,9,37,10],[37,11,37,12],[37,13,37,14],[35,0,36,4],[35,5,35,6],[35,7,35,8],[35,9,35,10],[35,11,35,12],[35,13,35,14],[36,5,36,6],[36,7,36,8],[36,9,36,10],[36,11,36,12],[202,0,202,3],[39,5,39,6],[39,7,39,8],[39,9,39,10],[39,11,39,12],[47,7,47,8],[47,9,47,10],[47,11,47,12],[43,5,43,6],[43,7,43,8],[43,9,43,10],[43,11,43,12],[47,13,47,14],[82,6,82,7],[201,0,201,3],[45,5,45,6],[45,7,45,8],[45,9,45,10],[45,11,45,12],[45,13,45,14],[46,5,46,6],[46,7,46,8],[46,9,46,10],[46,11,46,12],[46,13,46,14],[43,13,43,14],[44,5,44,6],[44,7,44,8],[44,9,44,10],[44,11,44,12],[44,13,44,14],[41,5,41,6],[41,7,41,8],[41,9,41,10],[41,11,41,12],[41,13,41,14],[42,5,42,6],[42,7,42,8],[42,9,42,10],[42,11,42,12],[34,0,34,4],[34,5,34,6],[34,7,34,8],[34,9,34,10],[34,11,34,12],[34,13,34,14],[28,19,28,23],[30,19,30,23],[33,0,33,4],[33,5,33,6],[33,7,33,8],[33,9,33,10],[33,11,33,12],[33,13,33,14],[26,0,30,3],[29,7,29,9],[26,4,30,6],[30,7,30,9],[29,10,29,14],[32,0,32,14],[30,10,30,14],[27,10,27,14],[28,10,28,14],[26,7,26,9],[22,45,22,46],[24,45,24,49],[25,45,25,46],[19,0,19,14],[19,45,19,46],[20,4,20,6],[20,7,20,14],[20,45,20,46],[21,45,21,46],[23,7,23,9],[24,7,24,9],[20,0,20,3],[21,4,25,6],[21,0,25,3],[25,7,25,9],[25,10,25,14],[16,0,16,5],[16,7,16,8],[17,0,17,14],[17,45,17,49],[18,0,18,14],[18,45,18,46],[12,45,12,49],[14,6,14,8],[14,45,14,49],[15,0,15,5],[15,7,15,8],[15,45,15,46],[15,47,15,49],[11,0,11,4],[11,5,11,6],[11,7,11,9],[11,10,11,11],[12,0,12,4],[12,5,12,6],[12,7,12,9],[12,10,12,11],[9,45,9,46],[10,0,10,4],[10,5,10,6],[10,7,10,9],[10,10,10,11],[10,45,10,46],[4,45,4,46],[4,48,4,49],[5,45,5,49],[6,45,6,49],[7,45,7,46],[8,45,8,46],[0,45,0,46],[0,47,0,49],[1,45,1,46],[1,47,1,49],[2,45,2,46],[3,45,3,46],[3,47,3,49]]}
[null,null,null,null,null,null,null,null,null,null,null,null,null,null,null,null,null,null,null,null,null,null,null,null,null,null,null,null,null,null,null,null,null,null,null,null,null,null,null,null,null,null,null,null,null,"Route",null,{"$f":"IF('Calculation sheet'!C1=\"\",\"\",'Calculation sheet'!C1)","v":""}]
[null,null,null,null,null,null,null,null,null,null,null,null,null,null,null,null,null,null,null,null,null,null,null,null,null,null,null,null,null,null,null,null,null,null,null,null,null,null,null,null,null,null,null,null,null,"County:",null,{"$f":"IF('Calculation sheet'!C2=\"\",\"\",'Calculation sheet'!C2)","v":""}]
[null,null,null,null,null,null,null,null,null,null,null,null,null,null,null,null,null,null,null,null,null,null,null,null,null,null,null,null,null,null,null,null,null,null,null,null,null,null,null,null,null,null,null,null,null,"Township",null,{"$f":"'Calculation sheet'!C3","v":0}]
[null,null,null,null,null,null,null,null,null,null,null,null,null,null,null,null,null,null,null,null,null,null,null,null,null,null,null,null,null,null,null,null,null,null,null,null,null,null,null,null,null,null,null,null,null,"Highway Classification",null,{"$f":"'Calculation sheet'!C4","v":"Freeways/Limited Access Highways"}]
[null,null,null,null,null,null,null,null,null,null,null,null,null,null,null,null,null,null,null,null,null,null,null,null,null,null,null,null,null,null,null,null,null,null,null,null,null,null,null,null,null,null,null,null,null,"Designer's Initial",null,{"$f":"'Calculation sheet'!C5","v":0}]
[null,null,null,null,null,null,null,null,null,null,null,null,null,null,null,null,null,null,null,null,null,null,null,null,null,null,null,null,null,null,null,null,null,null,null,null,null,null,null,null,null,null,null,null,null,"PROJECT DATA"]
["INPUT",null,null,null,null,null,null,null,null,null,null,null,null,null,null,null,null,null,null,null,null,null,null,null,null,null,null,null,null,null,null,null,null,null,null,null,null,null,null,null,null,null,null,null,null,"INPUT"]
["Name of Project -",null,null,null,null,{"$f":"CONCATENATE(\"Route \",AV1,\", \",AV2,\" County, \",AV3,\" Township, \")","v":"Route ,  County, 0 Township, "},null,null,null,null,null,null,null,null,null,null,null,null,null,null,null,null,null,null,null,null,null,null,null,null,null,null,null,null,null,null,null,null,null,null,null,null,null,null,null,"Direction",null,{"$f":"'Calculation sheet'!C8","v":0},null,{"$f":"'Calculation sheet'!E8","v":0}]
["Base IRI Classification -",null,null,null,null,{"$f":"AV4","v":"Freeways/Limited Access Highways"},null,null,null,null,null,null,null,null,null,null,null,null,null,null,null,null,null,null,null,null,null,null,null,null,null,null,null,null,null,null,null,null,null,null,null,null,null,null,null,"MP Begin",null,{"$f":"'Calculation sheet'!C9","v":0},null,{"$f":"'Calculation sheet'!E9","v":0}]
["Type of Project -",null,null,null,null,{"$f":"AV16","v":"Re-surfacing"},null,null,null,null,null,null,null,null,null,null,null,null,null,null,null,null,null,null,null,null,null,null,null,null,null,null,null,null,null,null,null,null,null,null,null,null,null,null,null,"MP End",null,{"$f":"'Calculation sheet'!C10","v":0},null,{"$f":"'Calculation sheet'!E10","v":0}]
[null,null,null,null,null,"Existing IRI",null,"Type of Pavement",null,null,"HMA>8-inch",null,null,null,null,null,null,null,null,null,null,null,null,null,null,null,null,null,null,null,null,null,null,null,null,null,null,null,null,null,null,null,null,null,null,"No. of Lanes",null,{"$f":"'Calculation sheet'!C11","v":0},null,{"$f":"'Calculation sheet'!E11","v":0}]
[{"$f":"CONCATENATE(\"Route \",AV1,\" \",AV8,\" from MP \",AV9,\" to MP \",AV10)","v":"Route  0 from MP 0 to MP 0"},null,null,null,null,{"$f":"'Calculation sheet'!$C$19","v":0},null,{"$f":"IF('Calculation sheet'!$C$22=\"Yes\", \"Composite\",\"Flexible\")","v":"Flexible"},null,null,{"$f":"'Calculation sheet'!C23","v":0}]
[{"$f":"CONCATENATE(\"Route \",AV1,\" \",AX8,\" from MP \",AX9,\" to MP \",AX10)","v":"Route  0 from MP 0 to MP 0"},null,null,null,null,{"$f":"'Calculation sheet'!$E$19","v":0},null,{"$f":"IF('Calculation sheet'!$E$22=\"Yes\", \"Composite\",\"Flexible\")","v":"Flexible"},null,null,{"$f":"'Calculation sheet'!E22","v":0},null,null,null,null,null,null,null,null,null,null,null,null,null,null,null,null,null,null,null,null,null,null,null,null,null,null,null,null,null,null,null,null,null,null,"GENERALIZED FACTORS"]
["Output"]
[null,null,null,null,null,null,"Target IRI",null,null,null,null,null,null,null,null,null,null,null,null,null,null,null,null,null,null,null,null,null,null,null,null,null,null,null,null,null,null,null,null,null,null,null,null,null,null,"INPUT"]
[{"$f":"A12","v":"Route  0 from MP 0 to MP 0"},null,null,null,null,null,{"$f":"AV27","v":{"$error":"#N/A"}},"Inch/Mile",null,null,null,null,null,null,null,null,null,null,null,null,null,null,null,null,null,null,null,null,null,null,null,null,null,null,null,null,null,null,null,null,null,null,null,null,null,"Type of Project",null,"Re-surfacing"]
[{"$f":"A13","v":"Route  0 from MP 0 to MP 0"},null,null,null,null,null,{"$f":"AX27","v":{"$error":"#N/A"}},"Inch/Mile",null,null,null,null,null,null,null,null,null,null,null,null,null,null,null,null,null,null,null,null,null,null,null,null,null,null,null,null,null,null,null,null,null,null,null,null,null,"Direction",null,{"$f":"'Calculation sheet'!C17","v":0},null,{"$f":"'Calculation sheet'!E17","v":0}]
[{"$f":"IF('Calculation sheet'!P14>0,(CONCATENATE('Calculation sheet'!G6,\" has either error in input or Percentage of Exclusions is greater than threshold value.\")),\"\")","v":"NB has either error in input or Percentage of Exclusions is greater than threshold value."},null,null,null,null,null,null,null,null,null,null,null,null,null,null,null,null,null,null,null,null,null,null,null,null,null,null,null,null,null,null,null,null,null,null,null,null,null,null,null,null,null,null,null,null,{"$f":"'Calculation sheet'!A18","v":"Pre-Construction"}]
[{"$f":"IF('Calculation sheet'!Q14>0,(CONCATENATE('Calculation sheet'!K6,\" has either error in input or Percentage of Exclusions is greater than threshold value.\")),\"\")","v":"SB has either error in input or Percentage of Exclusions is greater than threshold value."},null,null,null,null,null,null,null,null,null,null,null,null,null,null,null,null,null,null,null,null,null,null,null,null,null,null,null,null,null,null,null,null,null,null,null,null,null,null,null,null,null,null,null,null,"Existing IRI",null,{"$f":"'Calculation sheet'!C19","v":0},null,{"$f":"'Calculation sheet'!E19","v":0}]
["Table 401.03.03-7",null,null,null,null,null,null,null,null,null,null,null,null,null,null,null,null,null,null,null,null,null,null,null,null,null,null,null,null,null,null,null,null,null,null,null,null,null,null,null,null,null,null,null,null,"Milling Proposed",null,{"$f":"'Calculation sheet'!C20","v":0},null,{"$f":"'Calculation sheet'!E20","v":0}]
[null,null,null,null,"Excluded Lots",null,null,"Pay Equation(s) -PA on lots of .01 mile length",null,null,null,null,null,null,null,null,null,null,null,null,null,null,null,null,null,null,null,null,null,null,null,null,null,null,null,null,null,null,null,null,null,null,null,null,null,"Number of Lifts ",null,{"$f":"'Calculation sheet'!C21","v":0},null,{"$f":"'Calculation sheet'!E21","v":0}]
[{"$f":"'Cal Sheet-Percentage Impr'!Q37","v":"Route 29 NB! from MP 1 to MP 2"},null,null,null,{"$f":"'Calculation sheet'!B33","v":"Lane 1- 1"},null,null,{"$f":"'Cal Sheet-Percentage Impr'!A35","v":"IRI <68"},null,null,{"$f":"'Cal Sheet-Percentage Impr'!B35","v":"PA = 10"},null,null,null,null,null,null,null,null,null,null,null,null,null,null,null,null,null,null,null,null,null,null,null,null,null,null,null,null,null,null,null,null,null,null,"Composite?",null,{"$f":"'Calculation sheet'!C22","v":0},null,{"$f":"'Calculation sheet'!E22","v":0}]
[null,null,null,null,null,null,null,{"$f":"'Cal Sheet-Percentage Impr'!A36","v":"68<= IRI < 88"},null,null,{"$f":"'Cal Sheet-Percentage Impr'!B36","v":"PA = 44 - (0.5 X  IRI)"},null,null,null,null,null,null,null,null,null,null,null,null,null,null,null,null,null,null,null,null,null,null,null,null,null,null,null,null,null,null,null,null,null,null,"Will the composite pavement have final HMA thickness >=8\" AND joints sealed AND joints stabilized?",null,{"$f":"'Calculation sheet'!C23","v":0},null,{"$f":"'Calculation sheet'!E23","v":0}]
[null,null,null,null,null,null,null,{"$f":"'Cal Sheet-Percentage Impr'!A37","v":"88 <= IRI <= 98"},null,null,{"$f":"'Cal Sheet-Percentage Impr'!B37","v":"PA= $0"},null,null,null,null,null,null,{"$f":"B189","v":5},{"$f":"C189","v":5}]
[null,null,null,null,null,null,null,{"$f":"'Cal Sheet-Percentage Impr'!A38","v":"98 < IRI <= 168"},null,null,{"$f":"'Cal Sheet-Percentage Impr'!B38","v":"PA = ( IRI - 98 ) X (-1.4286)"},null,null,null,null,null,null,{"$f":"B190","v":5},null,null,null,null,null,null,null,null,null,null,null,null,null,null,null,null,null,null,null,null,null,null,null,null,null,null,null,"OUTPUT"]
[null,null,null,null,null,null,null,{"$f":"'Cal Sheet-Percentage Impr'!A39","v":"IRI > 168"},null,null,{"$f":"'Cal Sheet-Percentage Impr'!B39","v":"Remove & Replace"},null,null,null,null,null,null,null,null,null,null,null,null,null,null,null,null,null,null,null,null,null,null,null,null,null,null,null,null,null,null,null,null,null,null,"Direction",null,{"$f":"'Calculation sheet'!C28","v":0},null,{"$f":"'Calculation sheet'!E28","v":0}]
[{"$f":"'Cal Sheet-Percentage Impr'!R37","v":"Route  SB! from MP  to MP "},null,null,null,{"$f":"'Calculation sheet'!B37","v":"Lane 1- 0"},null,null,{"$f":"'Cal Sheet-Percentage Impr'!C35","v":"IRI <95"},null,null,{"$f":"'Cal Sheet-Percentage Impr'!D35","v":"PA = 50"},null,null,null,null,null,null,null,null,null,null,null,null,null,null,null,null,null,null,null,null,null,null,null,null,null,null,null,null,null,null,null,null,null,null,"IRISpecified",null,{"$f":"'Calculation sheet'!C29","v":{"$error":"#N/A"}},null,{"$f":"'Calculation sheet'!E29","v":{"$error":"#N/A"}}]
[null,null,null,null,null,null,null,{"$f":"'Cal Sheet-Percentage Impr'!C36","v":"95<= IRI < 115"},null,null,{"$f":"'Cal Sheet-Percentage Impr'!D36","v":"PA = 287.5 - (2.5 X  IRI)"},null,null,null,null,null,null,null,200,{"$f":"A200","v":36},{"$f":"B200","v":36},{"$f":"C200","v":34},{"$f":"D200","v":34},{"$f":"E200","v":34}]
[null,null,null,null,null,null,null,{"$f":"'Cal Sheet-Percentage Impr'!C37","v":"115 <= IRI <= 125"},null,null,{"$f":"'Cal Sheet-Percentage Impr'!D37","v":"PA= $0"},null,null,null,null,null,null,null,202,{"$f":"A202","v":36}]
[null,null,null,null,null,null,null,{"$f":"'Cal Sheet-Percentage Impr'!C38","v":"125 < IRI <= 195"},null,null,{"$f":"'Cal Sheet-Percentage Impr'!D38","v":"PA = ( IRI - 125 ) X (-7.1429)"},null,null,null,null,null,null,null,201,{"$f":"A201","v":38},{"$f":"B201","v":36},{"$f":"C201","v":36},{"$f":"D201","v":36},{"$f":"E201","v":36}]
[null,null,null,null,null,null,null,{"$f":"'Cal Sheet-Percentage Impr'!C39","v":"IRI > 195"},null,null,{"$f":"'Cal Sheet-Percentage Impr'!D39","v":"Remove & Replace"},null,null,null,null,null,null,null,203,{"$f":"A203","v":38}]
[]
["SCHEDULE FOR LANE TESTING"]
[null,null,null,null,null,"Lane 1",null,"Lane 2"]
["Route 29 SB from MP 2 to MP 3",null,null,null,null,"MP 6.63 - MP 8",null,"MP 0 - MP 2.086"]
["NB has either error in input or Percentage of Exclusions is greater than threshold value.",null,null,null,null,"MP 3.1 - MP 0.553"]
[null,null,null,null,null,"MP 1 - MP 3"]
[]
["Note:- If any lane greater than 1000 feet within the ride quality requirements limits is not shown above, will be tested and  appropriate pay equation specified "]
[]
[]
[null,null,null,null,null,null,null,null,null,null,null,null,null,null,null,null,null,null,"Note:- If any lane greater than 1000 feet within the ride quality requirements limits is not shown above, will be tested and  appropriate pay equation specified "]
[null,null,null,null,null,null,null,null,null,null,null,null,null,null,null,null,null,null,"in the Special Provisions will be applied for pay adjustment."]
[]
[]
[]
[]
[]
[]
[]
[]
[]
[]
[]
[]
[]
[]
[]
[]
[]
[]
[]
[]
[]
[]
[]
[]
[]
[]
[]
[]
[]
[]
[]
[]
[]
[]
[]
[]
[]
[null,null,null,null,"Total # of Rows","Primary",{"$f":"Lane!AD101","v":2},{"$f":"Lane!AE101","v":2},{"$f":"G81+H81","v":4}]
[null,null,null,null,"# of Col",null,{"$f":"Lane!AD102","v":5},{"$f":"Lane!AE102","v":5}]
["Max Rows",null,null,null,"Total Columns",null,{"$f":"Lane!AD103","v":5}]
[]
[]
[]
[]
[]
[]
[]
[]
[]
[]
[]
[]
[]
[]
[]
[]
[]
[]
[]
[]
[]
[]
[]
[]
[]
[]
[]
[]
[]
[]
[]
[]
[]
[]
[]
[]
[]
[]
[]
[]
[]
[]
[]
[]
[]
[]
[]
[]
[]
[]
[]
[]
[]
[]
[]
[]
[]
[]
[]
[]
[]
[]
[]
[]
[]
[]
[]
[]
[]
[]
[]
[]
[]
[]
[]
[]
[]
[]
[]
[]
[]
[]
[]
[]
[]
[]
[]
[]
[]
[]
[]
[]
[]
[]
[]
[]
[]
[]
[]
[]
[]
[]
[]
[]
[null,"Row"]
[null,5,{"$f":"MAX(B189:B190)","v":5}]
[null,5]
[]
[]
[]
[]
[]
[]
[]
[]
["Lane1","Lane2","Lane3","Lane4","Lane5"]
[36,36,34,34,34]
[38,36,36,36,36]
[{"$f":"MAX(A200:E200)","v":36}]
[{"$f":"MAX(A201:E201)","v":38}]
[]
[]
[]
[]
[]
[]
[]
[]
[]
[]
[]
[]
[]
[]
[]
[]
[]
[]
[]
[]
[]
[]
[]
[]
[]
[]
[]
[]
[]
[]
[]
[]
[]
[]
[]
[]
[]
[]
[]
[]
[]
[]
[]
[]
[]
[]
[]
[]
[]
[]
[]
[]
[]
[]
[]
[]
[]
[]
[]
[]
[]
[]
[]
[]
[]
[]
[]
[]
[]
[]
[]
[]
[]
[]
[]
[]
[]
[]
[]
[]
[]
[]
[]
[]
[]
[]
[]
[]
[]
[]
[]
[]
[]
[]
[]
[]
[]
[]
[]
[]
[]
[]
[]
[]
[]
[]
[]
[]
[]
[]
[]
[]
[]
[]
[]
[]
[]
[]
[]
[]
[]
[]
[]
[]
[]
[]
[]
[]
[]
[]
[]
[]
[]
[]
[]
[]
[]
[]
[]
[]
[]
[]
[]
[]
[]
[]
[]
[]
[]
[]
[]
[]
[]
[]
[]
[]
[]
[]
[]
[]
[]
[]
[]
[]
[]
[]
[]
[]
[]
[]
[]
[]
[]
[]
[]
[]
[]
[]
[]
[]
[]
[]
[]
[]
[]
[]
[]
[]
[]
[]
[]
[]
[]
[]
[]
[]
[]
[]
[]
[]
[]
[]
[]
[]
[]
[]
[]
[]
[]
[]
[]
[]
[]
[]
[]
[]
[]
[]
[]
[]
[]
[]
[]
[]
[]
[]
[]
[]
[]
[]
[]
[]
[]
[]
[]
[]
[]
[]
[]
[]
[]
[]
[]
[]
[]
[]
[]
[]
[]
[]
[]
[]
[]
[]
[]
[]
[]
[]
[]
[]
[]
[]
[]
[]
[]
[]
[]
[]
[]
[]
[]
[]
[]
[]
[]
[]
[]
[]
[]
[]
[]
[]
[]
[]
[]
[]
[]
[]
[]
[]
[]
[]
[]
[]
[]
[]
[]
[]
[]
[]
[]
[]
[]
[]
[]
[]
[]
[]
[]
[]
[]
[]
[]
[]
[]
[]
[]
[]
[]
[]
[]
[]
[]
[]
[]
[]
[]
[]
[]
[]
[]
[]
[]
[]
[]
[]
[]
[]
[]
[]
[]
[]
[]
[]
[]
[]
[]
[]
[]
[]
[]
[]
[]
[]
[]
[]
[]
[]
[]
[]
[]
[]
[]
[]
[]
[]
[]
[]
[]
[]
[]
[]
[]
[]
[]
[]
[]
[]
[]
[]
[]
[]
[]
[]
[]
[]
[]
[]
[]
[]
[]
[]
[]
[]
[]
[]
[]
[]
[]
[]
[]
[]
[]
[]
[]
[]
[]
[]
[]
[]
[]
[]
[]
[]
[]
[]
[]
[]
[]
[]
[]
[]
[]
[]
[]
[]
[]
[]
[]
[]
[]
[]
[]
[]
[]
[]
[]
[]
[]
[]
[]
[]
[]
[]
[]
[]
[]
[]
[]
[]
[]
[]
[]
[]
[]
[]
[]
[]
[]
[]
[]
[]
[]
[]
[]
[]
[]
[]
[]
[]
[]
[]
[]
[]
[]
[]
[]
[]
[]
[]
[]
[]
[]
[]
[]
[]
[]
[]
[]
[]
[]
[]
[]
[]
[]
[]
[]
[]
[]
[]
[]
[]
[]
[]
[]
[]
[]
[]
[]
[]
[]
[]
[]
[]
[]
[]
[]
[]
[]
[]
[]
[]
[]
[]
[]
[]
[]
[]
[]
[]
[]
[]
[]
[]
[]
[]
[]
[]
[]
[]
[]
[]
[]
[]
[]
[]
[]
[]
[]
[]
[]
[]
[]
[]
[]
[]
[]
[]
[]
[]
[]
[]
[]
[]
[]
[]
[]
[]
[]
[]
[]
[]
[]
[]
[]
[]
[]
[]
[]
[]
[]
[]
[]
[]
[]
[]
[]
[]
[]
[]
[]
[]
[]
[]
[]
[]
[]
[]
[]
[]
[]
[]
[]
[]
[]
[]
[]
[]
[]
[]
[]
[]
[]
[]
[]
[]
[]
[]
[]
[]
[]
[]
[]
[]
[]
[]
[]
[]
[]
[]
[]
[]
[]
[]
[]
[]
[]
[]
[]
[]
[]
[]
[]
[]
[]
[]
[]
[]
[]
[]
[]
[]
[]
[]
[]
[]
[]
[]
[]
[]
[]
[]
[]
[]
[]
[]
[]
[]
[]
[]
[]
[]
[]
[]
[]
[]
[]
[]
[]
[]
[]
[]
[]
[]
[]
[]
[]
[]
[]
[]
[]
[]
[]
[]
[]
[]
[]
[]
[]
[]
[]
[]
[]
[]
[]
[]
[]
[]
[]
[]
[]
[]
[]
[]
[]
[]
[]
[]
[]
[]
[]
[]
[]
[]
[]
[]
[]
[]
[]
[]
[]
[]
[]
[]
[]
[]
[]
[]
[]
[]
[]
[]
[]
[]
[]
[]
[]
[]
[]
[]
[]
[]
[]
[]
[]
[]
[]
[]
[]
[]
[]
[]
[]
[]
[]
[]
[]
[]
[]
[]
[]
[]
[]
[]
[]
[]
[]
[]
[]
[]
[]
[]
[]
[]
[]
[]
[]
[]
[]
[]
[]
[]
[]
[]
[]
[]
[]
[]
[]
[]
[]
[]
[]
[]
[]
[]
[]
[]
[]
[]
[]
[]
[]
[]
[]
[]
[]
[]
[]
[]
[]
[]
[]
[]
[]
[]
[]
[]
[]
[]
[]
[]
[]
[]
[]
[]
[]
[]
[]
[]
[]
[]
[]
[]
[]
[]
[]
[]
[]
[]
[]
[]
[]
[]
[]
[]
[]
[]
[]
[]
[]
[]
[]
[]
[]
[]
[]
[]
[]
[]
[]
[]
[]
[]
[]
[]
[]
[]
[]
[]
[]
[]
[]
[]
[]
[]
[]
[]
[]
[]
[]
[]
[]
[]
[]
[]
[]
[]
[]
[]
[]
[]
[]
[]
[]
[]
[]
[]
[]
[]
[]
[]
[]
[]
[]
[]
[]
[]
[]
[]
[]
[]
[]
[]
[]
[]
[]
[]
[]
[]
[]
[]
[]
[]
[]
[]
[]
[]
[]
[]
[]
[]
[]
[]
[]
[]
[]
[]
[]
[]
[]
[]
[]
[]
[]
[]
[]
[]
[]
[]
[]
[]
[]
[]
[]
[]
[]
[]
[]
[]
[]
[]
[]
[]
[]
[]
[]
[]
[]
[]
[]
[]
[]
[]
[]
[]
[null,5]

{"sheet":"LaneSketch","index":17,"n_rows":817,"n_cols":104,"rows_kept":817,"cut":false,"hidden":true,"merged":[[0,0,0,44],[1,0,1,43],[2,0,2,44],[25,2,25,44],[3,0,3,44],[24,2,24,44],[4,0,4,44],[2,73,2,74],[1,73,1,82],[1,84,1,92],[2,83,2,84],[2,85,2,86],[2,87,2,88],[2,89,2,90],[2,91,2,92],[2,79,2,80],[2,81,2,82],[2,75,2,76],[2,69,2,70],[2,59,2,60],[2,61,2,62],[2,63,2,64],[2,65,2,66],[2,67,2,68],[1,61,1,70],[1,94,1,98],[1,99,1,103],[10,48,10,49],[11,48,11,49],[2,57,2,58],[4,48,4,49],[5,48,5,49],[8,48,8,49],[9,48,9,49],[6,48,6,49],[1,51,1,60],[2,77,2,78],[2,51,2,52],[2,53,2,54],[2,55,2,56]]}
["NEW JERSEY DEPARTMENT OF TRANSPORTATION",null,null,null,null,null,null,null,null,null,null,null,null,null,null,null,null,null,null,null,null,null,null,null,null,null,null,null,null,null,null,null,null,null,null,null,null,null,null,null,null,null,null,null,null,46,47,48,49,50,51,52,53,54,55,56,57,58,59,60,61,62,63,64,65,66,67,68,69,70,71,72,73,74,75,76,77,78,79,80,81,82,83,84,85,86,87,88,89,90,91,92,93,94,95,96,97,98,99,100,101,102,103,104]
["RIDE QUALITY REQUIREMENTS Version 2.00",null,null,null,null,null,null,null,null,null,null,null,null,null,null,null,null,null,null,null,null,null,null,null,null,null,null,null,null,null,null,null,null,null,null,null,null,null,null,null,null,null,null,null,null,null,null,null,{"$f":"Lane!A9","v":0},{"$f":"Lane!I9","v":0},null,{"$f":"BV2","v":0},null,null,null,null,null,null,null,null,null,{"$f":"CG2","v":0},null,null,null,null,null,null,null,null,null,null,null,{"$f":"AW2","v":0},null,null,null,null,null,null,null,null,null,null,{"$f":"AX2","v":0},null,null,null,null,null,null,null,null,null,{"$f":"BV2","v":0},null,null,null,null,{"$f":"CG2","v":0}]
["SKETCH SHOWING LANE DESIGNATION FOR EXCLUSION CALCULATION",null,null,null,null,null,null,null,null,null,null,null,null,null,null,null,null,null,null,null,null,null,null,null,null,null,null,null,null,null,null,null,null,null,null,null,null,null,null,null,null,null,null,null,null,"Beginning MP",null,null,{"$f":"MIN(BV5:CE85)","v":0.75},{"$f":"MIN(CF5:CO84)","v":0.75},null,"Lane 1",null,"Lane 2",null,"Lane 3",null,"Lane 4",null,"Lane 5",null,"Lane 1",null,"Lane 2",null,"Lane 3",null,"Lane 4",null,"Lane 5",null,null,null,"Lane 1",null,"Lane 2",null,"Lane 3",null,"Lane 4",null,"Lane 5",null,"Lane 1",null,"Lane 2",null,"Lane 3",null,"Lane 4",null,"Lane 5",null,null,"Lane 1","Lane 2","Lane 3","Lane 4","Lane 5","Lane 1","Lane 2","Lane 3","Lane 4","Lane 5"]
[{"$f":"CONCATENATE('Calculation sheet'!C1,\" from MilePost \",'Calculation sheet'!C9,\" to Milepost \",'Calculation sheet'!C10,\" \",'Calculation sheet'!C8,\" , from MilePost \",'Calculation sheet'!E9,\"  to milePost \",'Calculation sheet'!E10,\" \",'Calculation sheet'!E8,\"  \",\"Designer - \",IF('Calculation sheet'!C5=\"\",\" Not Avaiable\",'Calculation sheet'!C5))","v":" from MilePost  to Milepost   , from MilePost   to milePost    Designer -  Not Avaiable"},null,null,null,null,null,null,null,null,null,null,null,null,null,null,null,null,null,null,null,null,null,null,null,null,null,null,null,null,null,null,null,null,null,null,null,null,null,null,null,null,null,null,null,null,"End MP",null,null,{"$f":"MAX(BV5:CE85)","v":4},{"$f":"MAX(CF5:CO84)","v":4},null,"Begin","End","Begin","End","Begin","End","Begin","End","Begin","End","Begin","End","Begin","End","Begin","End","Begin","End","Begin","End",null,null,"Begin","End","Begin","End","Begin","End","Begin","End","Begin","End","Begin","End","Begin","End","Begin","End","Begin","End","Begin","End"]
[{"$f":"AT17","v":0},null,null,null,null,null,null,null,null,null,null,null,null,null,null,null,null,null,null,null,null,null,null,null,null,null,null,null,null,null,null,null,null,null,null,null,null,null,null,null,null,null,null,null,null,"Minimum, MP",null,null,{"$f":"MIN(BV5:CO85)","v":0.75},null,null,{"$f":"IF(BV5=\"\",\"\",ROUNDUP($AW$11+((BV5-$AW$13)/$AW$9),0))","v":2},{"$f":"IF(BW5=\"\",\"\",IF(ROUNDUP($AW$11-1+((BW5-$AW$13)/$AW$9),0)<AZ5,AZ5,ROUNDUP($AW$11-1+((BW5-$AW$13)/$AW$9),0)))","v":11},{"$f":"IF(BX5=\"\",\"\",ROUNDUP($AW$11+((BX5-$AW$13)/$AW$9),0))","v":3},{"$f":"IF(BY5=\"\",\"\",IF(ROUNDUP($AW$11-1+((BY5-$AW$13)/$AW$9),0)<BB5,BB5,ROUNDUP($AW$11-1+((BY5-$AW$13)/$AW$9),0)))","v":42},{"$f":"IF(BZ5=\"\",\"\",ROUNDUP($AW$11+((BZ5-$AW$13)/$AW$9),0))","v":2},{"$f":"IF(CA5=\"\",\"\",IF(ROUNDUP($AW$11-1+((CA5-$AW$13)/$AW$9),0)<BD5,BD5,ROUNDUP($AW$11-1+((CA5-$AW$13)/$AW$9),0)))","v":2},{"$f":"IF(CB5=\"\",\"\",ROUNDUP($AW$11+((CB5-$AW$13)/$AW$9),0))","v":3},{"$f":"IF(CC5=\"\",\"\",IF(ROUNDUP($AW$11-1+((CC5-$AW$13)/$AW$9),0)<BF5,BF5,ROUNDUP($AW$11-1+((CC5-$AW$13)/$AW$9),0)))","v":42},{"$f":"IF(CD5=\"\",\"\",ROUNDUP($AW$11+((CD5-$AW$13)/$AW$9),0))","v":2},{"$f":"IF(CE5=\"\",\"\",IF(ROUNDUP($AW$11-1+((CE5-$AW$13)/$AW$9),0)<BH5,BH5,ROUNDUP($AW$11-1+((CE5-$AW$13)/$AW$9),0)))","v":37},{"$f":"IF(CF5=\"\",\"\",ROUNDUP($AW$11+((CF5-$AW$13)/$AW$9),0))","v":2},{"$f":"IF(CG5=\"\",\"\",IF(ROUNDUP($AW$11-1+((CG5-$AW$13)/$AW$9),0)<BJ5,BJ5,ROUNDUP($AW$11-1+((CG5-$AW$13)/$AW$9),0)))","v":11},{"$f":"IF(CH5=\"\",\"\",ROUNDUP($AW$11+((CH5-$AW$13)/$AW$9),0))","v":3},{"$f":"IF(CI5=\"\",\"\",IF(ROUNDUP($AW$11-1+((CI5-$AW$13)/$AW$9),0)<BL5,BL5,ROUNDUP($AW$11-1+((CI5-$AW$13)/$AW$9),0)))","v":37},{"$f":"IF(CJ5=\"\",\"\",ROUNDUP($AW$11+((CJ5-$AW$13)/$AW$9),0))","v":2},{"$f":"IF(CK5=\"\",\"\",IF(ROUNDUP($AW$11-1+((CK5-$AW$13)/$AW$9),0)<BN5,BN5,ROUNDUP($AW$11-1+((CK5-$AW$13)/$AW$9),0)))","v":2},{"$f":"IF(CL5=\"\",\"\",ROUNDUP($AW$11+((CL5-$AW$13)/$AW$9),0))","v":3},{"$f":"IF(CM5=\"\",\"\",IF(ROUNDUP($AW$11-1+((CM5-$AW$13)/$AW$9),0)<BP5,BP5,ROUNDUP($AW$11-1+((CM5-$AW$13)/$AW$9),0)))","v":42},{"$f":"IF(CN5=\"\",\"\",ROUNDUP($AW$11+((CN5-$AW$13)/$AW$9),0))","v":2},{"$f":"IF(CO5=\"\",\"\",IF(ROUNDUP($AW$11-1+((CO5-$AW$13)/$AW$9),0)<BR5,BR5,ROUNDUP($AW$11-1+((CO5-$AW$13)/$AW$9),0)))","v":37},null,null,{"$f":"Lane!V10","v":0.75},{"$f":"Lane!W10","v":1.5},{"$f":"Lane!Z10","v":0.79400000000000004},{"$f":"Lane!AA10","v":4},{"$f":"Lane!AD10","v":0.75},{"$f":"Lane!AE10","v":0.79400000000000004},{"$f":"Lane!AH10","v":0.79400000000000004},{"$f":"Lane!AI10","v":4},{"$f":"Lane!AL10","v":0.75},{"$f":"Lane!AM10","v":3.6},{"$f":"Lane!AP10","v":0.75},{"$f":"Lane!AQ10","v":1.5},{"$f":"Lane!AT10","v":0.79400000000000004},{"$f":"Lane!AU10","v":3.6},{"$f":"Lane!AX10","v":0.75},{"$f":"Lane!AY10","v":0.79400000000000004},{"$f":"Lane!BB10","v":0.79400000000000004},{"$f":"Lane!BC10","v":4},{"$f":"Lane!BF10","v":0.75},{"$f":"Lane!BG10","v":3.6},null,{"$f":"ABS(BW5-BV5)","v":0.75},{"$f":"ABS(BY5-BX5)","v":3.206},{"$f":"ABS(BZ5-CA5)","v":4.4000000000000039E-2},{"$f":"ABS(CB5-CC5)","v":3.206},{"$f":"ABS(CD5-CE5)","v":2.85},{"$f":"ABS(CF5-CG5)","v":0.75},{"$f":"ABS(CH5-CI5)","v":2.806},{"$f":"ABS(CJ5-CK5)","v":4.4000000000000039E-2},{"$f":"ABS(CL5-CM5)","v":3.206},{"$f":"ABS(CN5-CO5)","v":2.85}]
["Lane-1",0.75,null,null,null,null,null,null,null,null,1.5,null,null,null,null,null,null,null,null,null,null,null,null,null,null,null,null,null,null,null,null,null,null,null,null,null,null,3.6,null,null,null,4,null,null,null,"Max MP",null,null,{"$f":"MAX(BV5:CO85)","v":4},null,null,{"$f":"IF(BV6=\"\",\"\",ROUNDUP($AW$11+((BV6-$AW$13)/$AW$9),0))","v":38},{"$f":"IF(BW6=\"\",\"\",IF(ROUNDUP($AW$11-1+((BW6-$AW$13)/$AW$9),0)<AZ6,AZ6,ROUNDUP($AW$11-1+((BW6-$AW$13)/$AW$9),0)))","v":42},{"$f":"IF(BX6=\"\",\"\",ROUNDUP($AW$11+((BX6-$AW$13)/$AW$9),0))","v":""},{"$f":"IF(BY6=\"\",\"\",IF(ROUNDUP($AW$11-1+((BY6-$AW$13)/$AW$9),0)<BB6,BB6,ROUNDUP($AW$11-1+((BY6-$AW$13)/$AW$9),0)))","v":""},{"$f":"IF(BZ6=\"\",\"\",ROUNDUP($AW$11+((BZ6-$AW$13)/$AW$9),0))","v":35},{"$f":"IF(CA6=\"\",\"\",IF(ROUNDUP($AW$11-1+((CA6-$AW$13)/$AW$9),0)<BD6,BD6,ROUNDUP($AW$11-1+((CA6-$AW$13)/$AW$9),0)))","v":37},{"$f":"IF(CB6=\"\",\"\",ROUNDUP($AW$11+((CB6-$AW$13)/$AW$9),0))","v":""},{"$f":"IF(CC6=\"\",\"\",IF(ROUNDUP($AW$11-1+((CC6-$AW$13)/$AW$9),0)<BF6,BF6,ROUNDUP($AW$11-1+((CC6-$AW$13)/$AW$9),0)))","v":""},{"$f":"IF(CD6=\"\",\"\",ROUNDUP($AW$11+((CD6-$AW$13)/$AW$9),0))","v":""},{"$f":"IF(CE6=\"\",\"\",IF(ROUNDUP($AW$11-1+((CE6-$AW$13)/$AW$9),0)<BH6,BH6,ROUNDUP($AW$11-1+((CE6-$AW$13)/$AW$9),0)))","v":""},{"$f":"IF(CF6=\"\",\"\",ROUNDUP($AW$11+((CF6-$AW$13)/$AW$9),0))","v":38},{"$f":"IF(CG6=\"\",\"\",IF(ROUNDUP($AW$11-1+((CG6-$AW$13)/$AW$9),0)<BJ6,BJ6,ROUNDUP($AW$11-1+((CG6-$AW$13)/$AW$9),0)))","v":42},{"$f":"IF(CH6=\"\",\"\",ROUNDUP($AW$11+((CH6-$AW$13)/$AW$9),0))","v":""},{"$f":"IF(CI6=\"\",\"\",IF(ROUNDUP($AW$11-1+((CI6-$AW$13)/$AW$9),0)<BL6,BL6,ROUNDUP($AW$11-1+((CI6-$AW$13)/$AW$9),0)))","v":""},{"$f":"IF(CJ6=\"\",\"\",ROUNDUP($AW$11+((CJ6-$AW$13)/$AW$9),0))","v":35},{"$f":"IF(CK6=\"\",\"\",IF(ROUNDUP($AW$11-1+((CK6-$AW$13)/$AW$9),0)<BN6,BN6,ROUNDUP($AW$11-1+((CK6-$AW$13)/$AW$9),0)))","v":37},{"$f":"IF(CL6=\"\",\"\",ROUNDUP($AW$11+((CL6-$AW$13)/$AW$9),0))","v":""},{"$f":"IF(CM6=\"\",\"\",IF(ROUNDUP($AW$11-1+((CM6-$AW$13)/$AW$9),0)<BP6,BP6,ROUNDUP($AW$11-1+((CM6-$AW$13)/$AW$9),0)))","v":""},{"$f":"IF(CN6=\"\",\"\",ROUNDUP($AW$11+((CN6-$AW$13)/$AW$9),0))","v":""},{"$f":"IF(CO6=\"\",\"\",IF(ROUNDUP($AW$11-1+((CO6-$AW$13)/$AW$9),0)<BR6,BR6,ROUNDUP($AW$11-1+((CO6-$AW$13)/$AW$9),0)))","v":""},null,null,{"$f":"Lane!V11","v":3.6},{"$f":"Lane!W11","v":4},{"$f":"Lane!Z11","v":""},{"$f":"Lane!AA11","v":""},{"$f":"Lane!AD11","v":3.3490000000000002},{"$f":"Lane!AE11","v":3.6},{"$f":"Lane!AH11","v":""},{"$f":"Lane!AI11","v":""},{"$f":"Lane!AL11","v":""},{"$f":"Lane!AM11","v":""},{"$f":"Lane!AP11","v":3.6},{"$f":"Lane!AQ11","v":4},{"$f":"Lane!AT11","v":""},{"$f":"Lane!AU11","v":""},{"$f":"Lane!AX11","v":3.3490000000000002},{"$f":"Lane!AY11","v":3.6},{"$f":"Lane!BB11","v":""},{"$f":"Lane!BC11","v":""},{"$f":"Lane!BF11","v":""},{"$f":"Lane!BG11","v":""},null,{"$f":"ABS(BW6-BV6)","v":0.39999999999999991},{"$f":"ABS(BY6-BX6)","v":{"$error":"#VALUE!"}},{"$f":"ABS(BZ6-CA6)","v":0.25099999999999989},{"$f":"ABS(CB6-CC6)","v":{"$error":"#VALUE!"}},{"$f":"ABS(CD6-CE6)","v":{"$error":"#VALUE!"}},{"$f":"ABS(CF6-CG6)","v":0.39999999999999991},{"$f":"ABS(CH6-CI6)","v":{"$error":"#VALUE!"}},{"$f":"ABS(CJ6-CK6)","v":0.25099999999999989},{"$f":"ABS(CL6-CM6)","v":{"$error":"#VALUE!"}},{"$f":"ABS(CN6-CO6)","v":{"$error":"#VALUE!"}}]
["Lane-2",null,0.79400000000000004,null,null,null,null,null,null,null,null,null,null,null,null,null,null,null,null,null,null,null,null,null,null,null,null,null,null,null,null,null,null,null,null,null,null,null,null,null,null,4,null,null,null,"Total lentgh (Miles)",null,null,{"$f":"ABS(AW6-AW5)","v":3.25},null,null,"","","","","","","","","","","","","","","","","","","","",null,null,{"$f":"Lane!V12","v":""},{"$f":"Lane!W12","v":""},{"$f":"Lane!Z12","v":""},{"$f":"Lane!AA12","v":""},{"$f":"Lane!AD12","v":""},{"$f":"Lane!AE12","v":""},{"$f":"Lane!AH12","v":""},{"$f":"Lane!AI12","v":""},{"$f":"Lane!AL12","v":""},{"$f":"Lane!AM12","v":""},{"$f":"Lane!AP12","v":""},{"$f":"Lane!AQ12","v":""},{"$f":"Lane!AT12","v":""},{"$f":"Lane!AU12","v":""},{"$f":"Lane!AX12","v":""},{"$f":"Lane!AY12","v":""},{"$f":"Lane!BB12","v":""},{"$f":"Lane!BC12","v":""},{"$f":"Lane!BF12","v":""},{"$f":"Lane!BG12","v":""},null,{"$error":"#VALUE!"},{"$f":"ABS(BY7-BX7)","v":{"$error":"#VALUE!"}},{"$error":"#VALUE!"},{"$error":"#VALUE!"},{"$error":"#VALUE!"},{"$error":"#VALUE!"},{"$error":"#VALUE!"},{"$error":"#VALUE!"},{"$error":"#VALUE!"},{"$error":"#VALUE!"}]
["Lane-3",0.75,0.79400000000000004,null,null,null,null,null,null,null,null,null,null,null,null,null,null,null,null,null,null,null,null,null,null,null,null,null,null,null,null,null,null,null,3.3490000000000002,null,3.6,null,null,null,null,null,null,null,null,null,null,null,null,null,null,"","","","","","","","","","","","","","","","","","","","",null,null,{"$f":"Lane!V13","v":""},{"$f":"Lane!W13","v":""},{"$f":"Lane!Z13","v":""},{"$f":"Lane!AA13","v":""},{"$f":"Lane!AD13","v":""},{"$f":"Lane!AE13","v":""},{"$f":"Lane!AH13","v":""},{"$f":"Lane!AI13","v":""},{"$f":"Lane!AL13","v":""},{"$f":"Lane!AM13","v":""},{"$f":"Lane!AP13","v":""},{"$f":"Lane!AQ13","v":""},{"$f":"Lane!AT13","v":""},{"$f":"Lane!AU13","v":""},{"$f":"Lane!AX13","v":""},{"$f":"Lane!AY13","v":""},{"$f":"Lane!BB13","v":""},{"$f":"Lane!BC13","v":""},{"$f":"Lane!BF13","v":""},{"$f":"Lane!BG13","v":""},null,{"$error":"#VALUE!"},{"$error":"#VALUE!"},{"$error":"#VALUE!"},{"$error":"#VALUE!"},{"$error":"#VALUE!"},{"$error":"#VALUE!"},{"$error":"#VALUE!"},{"$error":"#VALUE!"},{"$error":"#VALUE!"},{"$error":"#VALUE!"}]
["Lane-4",null,0.79400000000000004,null,null,null,null,null,null,null,null,null,null,null,null,null,null,null,null,null,null,null,null,null,null,null,null,null,null,null,null,null,null,null,null,null,null,null,null,null,null,4,null,null,null,"Each Cell =",null,null,{"$f":"ROUNDDOWN((AW6-AW5)/40,2)","v":0.08},null,"Miles","","","","","","","","","","","","","","","","","","","","",null,null,{"$f":"Lane!V14","v":""},{"$f":"Lane!W14","v":""},{"$f":"Lane!Z14","v":""},{"$f":"Lane!AA14","v":""},{"$f":"Lane!AD14","v":""},{"$f":"Lane!AE14","v":""},{"$f":"Lane!AH14","v":""},{"$f":"Lane!AI14","v":""},{"$f":"Lane!AL14","v":""},{"$f":"Lane!AM14","v":""},{"$f":"Lane!AP14","v":""},{"$f":"Lane!AQ14","v":""},{"$f":"Lane!AT14","v":""},{"$f":"Lane!AU14","v":""},{"$f":"Lane!AX14","v":""},{"$f":"Lane!AY14","v":""},{"$f":"Lane!BB14","v":""},{"$f":"Lane!BC14","v":""},{"$f":"Lane!BF14","v":""},{"$f":"Lane!BG14","v":""},null,{"$error":"#VALUE!"},{"$error":"#VALUE!"},{"$error":"#VALUE!"},{"$error":"#VALUE!"},{"$error":"#VALUE!"},{"$error":"#VALUE!"},{"$error":"#VALUE!"},{"$error":"#VALUE!"},{"$error":"#VALUE!"},{"$error":"#VALUE!"}]
["Lane-5",0.75,null,null,null,null,null,null,null,null,null,null,null,null,null,null,null,null,null,null,null,null,null,null,null,null,null,null,null,null,null,null,null,null,null,null,3.6,null,null,null,null,null,null,null,null,"Total Cell needed",null,null,{"$f":"ROUNDUP(AW7/AW9,0)","v":41},null,null,"","","","","","","","","","","","","","","","","","","","",null,null,{"$f":"Lane!V15","v":""},{"$f":"Lane!W15","v":""},{"$f":"Lane!Z15","v":""},{"$f":"Lane!AA15","v":""},{"$f":"Lane!AD15","v":""},{"$f":"Lane!AE15","v":""},{"$f":"Lane!AH15","v":""},{"$f":"Lane!AI15","v":""},{"$f":"Lane!AL15","v":""},{"$f":"Lane!AM15","v":""},{"$f":"Lane!AP15","v":""},{"$f":"Lane!AQ15","v":""},{"$f":"Lane!AT15","v":""},{"$f":"Lane!AU15","v":""},{"$f":"Lane!AX15","v":""},{"$f":"Lane!AY15","v":""},{"$f":"Lane!BB15","v":""},{"$f":"Lane!BC15","v":""},{"$f":"Lane!BF15","v":""},{"$f":"Lane!BG15","v":""},null,{"$error":"#VALUE!"},{"$error":"#VALUE!"},{"$error":"#VALUE!"},{"$error":"#VALUE!"},{"$error":"#VALUE!"},{"$error":"#VALUE!"},{"$error":"#VALUE!"},{"$error":"#VALUE!"},{"$error":"#VALUE!"},{"$error":"#VALUE!"}]
[null,null,null,null,null,null,null,null,null,null,null,null,null,null,null,null,null,null,null,null,null,null,null,null,null,null,null,null,null,null,null,null,null,null,null,null,null,null,null,null,null,null,null,null,null,"Beginning Cell",null,null,2,null,null,"","","","","","","","","","","","","","","","","","","","",null,null,{"$f":"Lane!V16","v":""},{"$f":"Lane!W16","v":""},{"$f":"Lane!Z16","v":""},{"$f":"Lane!AA16","v":""},{"$f":"Lane!AD16","v":""},{"$f":"Lane!AE16","v":""},{"$f":"Lane!AH16","v":""},{"$f":"Lane!AI16","v":""},{"$f":"Lane!AL16","v":""},{"$f":"Lane!AM16","v":""},{"$f":"Lane!AP16","v":""},{"$f":"Lane!AQ16","v":""},{"$f":"Lane!AT16","v":""},{"$f":"Lane!AU16","v":""},{"$f":"Lane!AX16","v":""},{"$f":"Lane!AY16","v":""},{"$f":"Lane!BB16","v":""},{"$f":"Lane!BC16","v":""},{"$f":"Lane!BF16","v":""},{"$f":"Lane!BG16","v":""},null,{"$error":"#VALUE!"},{"$error":"#VALUE!"},{"$error":"#VALUE!"},{"$error":"#VALUE!"},{"$error":"#VALUE!"},{"$error":"#VALUE!"},{"$error":"#VALUE!"},{"$error":"#VALUE!"},{"$error":"#VALUE!"},{"$error":"#VALUE!"}]
[null,null,null,null,null,null,null,null,null,null,null,null,null,null,null,null,null,null,null,null,null,null,null,null,null,null,null,null,null,null,null,null,null,null,null,null,null,null,null,null,null,null,null,null,null,"Ending Cell",null,null,{"$f":"ROUNDUP(AW7/AW9,0)","v":41},null,null,"","","","","","","","","","","","","","","","","","","","",null,null,{"$f":"Lane!V17","v":""},{"$f":"Lane!W17","v":""},{"$f":"Lane!Z17","v":""},{"$f":"Lane!AA17","v":""},{"$f":"Lane!AD17","v":""},{"$f":"Lane!AE17","v":""},{"$f":"Lane!AH17","v":""},{"$f":"Lane!AI17","v":""},{"$f":"Lane!AL17","v":""},{"$f":"Lane!AM17","v":""},{"$f":"Lane!AP17","v":""},{"$f":"Lane!AQ17","v":""},{"$f":"Lane!AT17","v":""},{"$f":"Lane!AU17","v":""},{"$f":"Lane!AX17","v":""},{"$f":"Lane!AY17","v":""},{"$f":"Lane!BB17","v":""},{"$f":"Lane!BC17","v":""},{"$f":"Lane!BF17","v":""},{"$f":"Lane!BG17","v":""},null,{"$error":"#VALUE!"},{"$error":"#VALUE!"},{"$error":"#VALUE!"},{"$error":"#VALUE!"},{"$error":"#VALUE!"},{"$error":"#VALUE!"},{"$error":"#VALUE!"},{"$error":"#VALUE!"},{"$error":"#VALUE!"},{"$error":"#VALUE!"}]
[null,null,null,null,null,null,null,null,null,null,null,null,null,null,null,null,null,null,null,null,null,null,null,null,null,null,null,null,null,null,null,null,null,null,null,null,null,null,null,null,null,null,null,null,null,"First Cell =",null,null,{"$f":"MIN(BV5:CO85)","v":0.75},null,null,"","","","","","","","","","","","","","","","","","","","",null,null,{"$f":"Lane!V18","v":""},{"$f":"Lane!W18","v":""},{"$f":"Lane!Z18","v":""},{"$f":"Lane!AA18","v":""},{"$f":"Lane!AD18","v":""},{"$f":"Lane!AE18","v":""},{"$f":"Lane!AH18","v":""},{"$f":"Lane!AI18","v":""},{"$f":"Lane!AL18","v":""},{"$f":"Lane!AM18","v":""},{"$f":"Lane!AP18","v":""},{"$f":"Lane!AQ18","v":""},{"$f":"Lane!AT18","v":""},{"$f":"Lane!AU18","v":""},{"$f":"Lane!AX18","v":""},{"$f":"Lane!AY18","v":""},{"$f":"Lane!BB18","v":""},{"$f":"Lane!BC18","v":""},{"$f":"Lane!BF18","v":""},{"$f":"Lane!BG18","v":""},null,{"$error":"#VALUE!"},{"$error":"#VALUE!"},{"$error":"#VALUE!"},{"$error":"#VALUE!"},{"$error":"#VALUE!"},{"$error":"#VALUE!"},{"$error":"#VALUE!"},{"$error":"#VALUE!"},{"$error":"#VALUE!"},{"$error":"#VALUE!"}]
[null,null,null,null,null,null,null,null,null,null,null,null,null,null,null,null,null,null,null,null,null,null,null,null,null,null,null,null,null,null,null,null,null,null,null,null,null,null,null,null,null,null,null,null,null,"Minimum length for testing",null,null,{"$f":"Lane!AB5","v":0.1875},null,null,"","","","","","","","","","","","","","","","","","","","",null,null,{"$f":"Lane!V19","v":""},{"$f":"Lane!W19","v":""},{"$f":"Lane!Z19","v":""},{"$f":"Lane!AA19","v":""},{"$f":"Lane!AD19","v":""},{"$f":"Lane!AE19","v":""},{"$f":"Lane!AH19","v":""},{"$f":"Lane!AI19","v":""},{"$f":"Lane!AL19","v":""},{"$f":"Lane!AM19","v":""},{"$f":"Lane!AP19","v":""},{"$f":"Lane!AQ19","v":""},{"$f":"Lane!AT19","v":""},{"$f":"Lane!AU19","v":""},{"$f":"Lane!AX19","v":""},{"$f":"Lane!AY19","v":""},{"$f":"Lane!BB19","v":""},{"$f":"Lane!BC19","v":""},{"$f":"Lane!BF19","v":""},{"$f":"Lane!BG19","v":""},null,{"$error":"#VALUE!"},{"$error":"#VALUE!"},{"$error":"#VALUE!"},{"$error":"#VALUE!"},{"$error":"#VALUE!"},{"$error":"#VALUE!"},{"$error":"#VALUE!"},{"$error":"#VALUE!"},{"$error":"#VALUE!"},{"$error":"#VALUE!"}]
[null,null,null,null,null,null,null,null,null,null,null,null,null,null,null,null,null,null,null,null,null,null,null,null,null,null,null,null,null,null,null,null,null,null,null,null,null,null,null,null,null,null,null,null,null,null,null,null,null,null,null,"","","","","","","","","","","","","","","","","","","","",null,null,{"$f":"Lane!V20","v":""},{"$f":"Lane!W20","v":""},{"$f":"Lane!Z20","v":""},{"$f":"Lane!AA20","v":""},{"$f":"Lane!AD20","v":""},{"$f":"Lane!AE20","v":""},{"$f":"Lane!AH20","v":""},{"$f":"Lane!AI20","v":""},{"$f":"Lane!AL20","v":""},{"$f":"Lane!AM20","v":""},{"$f":"Lane!AP20","v":""},{"$f":"Lane!AQ20","v":""},{"$f":"Lane!AT20","v":""},{"$f":"Lane!AU20","v":""},{"$f":"Lane!AX20","v":""},{"$f":"Lane!AY20","v":""},{"$f":"Lane!BB20","v":""},{"$f":"Lane!BC20","v":""},{"$f":"Lane!BF20","v":""},{"$f":"Lane!BG20","v":""},null,{"$error":"#VALUE!"},{"$error":"#VALUE!"},{"$error":"#VALUE!"},{"$error":"#VALUE!"},{"$error":"#VALUE!"},{"$error":"#VALUE!"},{"$error":"#VALUE!"},{"$error":"#VALUE!"},{"$error":"#VALUE!"},{"$error":"#VALUE!"}]
[null,null,null,null,null,null,null,null,null,null,null,null,null,null,null,null,null,null,null,null,null,null,null,null,null,null,null,null,null,null,null,null,null,null,null,null,null,null,null,null,null,null,null,null,null,null,null,"Lane 1",null,null,null,"","","","","","","","","","","","","","","","","","","","",null,null,{"$f":"Lane!V21","v":""},{"$f":"Lane!W21","v":""},{"$f":"Lane!Z21","v":""},{"$f":"Lane!AA21","v":""},{"$f":"Lane!AD21","v":""},{"$f":"Lane!AE21","v":""},{"$f":"Lane!AH21","v":""},{"$f":"Lane!AI21","v":""},{"$f":"Lane!AL21","v":""},{"$f":"Lane!AM21","v":""},{"$f":"Lane!AP21","v":""},{"$f":"Lane!AQ21","v":""},{"$f":"Lane!AT21","v":""},{"$f":"Lane!AU21","v":""},{"$f":"Lane!AX21","v":""},{"$f":"Lane!AY21","v":""},{"$f":"Lane!BB21","v":""},{"$f":"Lane!BC21","v":""},{"$f":"Lane!BF21","v":""},{"$f":"Lane!BG21","v":""},null,{"$error":"#VALUE!"},{"$error":"#VALUE!"},{"$error":"#VALUE!"},{"$error":"#VALUE!"},{"$error":"#VALUE!"},{"$error":"#VALUE!"},{"$error":"#VALUE!"},{"$error":"#VALUE!"},{"$error":"#VALUE!"},{"$error":"#VALUE!"}]
[null,null,null,null,null,null,null,null,null,null,null,null,null,null,null,null,null,null,null,null,null,null,null,null,null,null,null,null,null,null,null,null,null,null,null,null,null,null,null,null,null,null,null,null,null,{"$f":"AW2","v":0},11,6,null,null,null,"","","","","","","","","","","","","","","","","","","","",null,null,{"$f":"Lane!V22","v":""},{"$f":"Lane!W22","v":""},{"$f":"Lane!Z22","v":""},{"$f":"Lane!AA22","v":""},{"$f":"Lane!AD22","v":""},{"$f":"Lane!AE22","v":""},{"$f":"Lane!AH22","v":""},{"$f":"Lane!AI22","v":""},{"$f":"Lane!AL22","v":""},{"$f":"Lane!AM22","v":""},{"$f":"Lane!AP22","v":""},{"$f":"Lane!AQ22","v":""},{"$f":"Lane!AT22","v":""},{"$f":"Lane!AU22","v":""},{"$f":"Lane!AX22","v":""},{"$f":"Lane!AY22","v":""},{"$f":"Lane!BB22","v":""},{"$f":"Lane!BC22","v":""},{"$f":"Lane!BF22","v":""},{"$f":"Lane!BG22","v":""},null,{"$error":"#VALUE!"},{"$error":"#VALUE!"},{"$error":"#VALUE!"},{"$error":"#VALUE!"},{"$error":"#VALUE!"},{"$error":"#VALUE!"},{"$error":"#VALUE!"},{"$error":"#VALUE!"},{"$error":"#VALUE!"},{"$error":"#VALUE!"}]
[null,null,null,null,null,null,null,null,null,null,null,null,null,null,null,null,null,null,null,null,null,null,null,null,null,null,null,null,null,null,null,null,null,null,null,null,null,null,null,null,null,null,null,null,null,{"$f":"AX2","v":0},23,19,null,null,null,"","","","","","","","","","","","","","","","","","","","",null,null,{"$f":"Lane!V23","v":""},{"$f":"Lane!W23","v":""},{"$f":"Lane!Z23","v":""},{"$f":"Lane!AA23","v":""},{"$f":"Lane!AD23","v":""},{"$f":"Lane!AE23","v":""},{"$f":"Lane!AH23","v":""},{"$f":"Lane!AI23","v":""},{"$f":"Lane!AL23","v":""},{"$f":"Lane!AM23","v":""},{"$f":"Lane!AP23","v":""},{"$f":"Lane!AQ23","v":""},{"$f":"Lane!AT23","v":""},{"$f":"Lane!AU23","v":""},{"$f":"Lane!AX23","v":""},{"$f":"Lane!AY23","v":""},{"$f":"Lane!BB23","v":""},{"$f":"Lane!BC23","v":""},{"$f":"Lane!BF23","v":""},{"$f":"Lane!BG23","v":""},null,{"$error":"#VALUE!"},{"$error":"#VALUE!"},{"$error":"#VALUE!"},{"$error":"#VALUE!"},{"$error":"#VALUE!"},{"$error":"#VALUE!"},{"$error":"#VALUE!"},{"$error":"#VALUE!"},{"$error":"#VALUE!"},{"$error":"#VALUE!"}]
["Lane-1",0.75,null,null,null,null,null,null,null,null,1.5,null,null,null,null,null,null,null,null,null,null,null,null,null,null,null,null,null,null,null,null,null,null,null,null,null,null,3.6,null,null,null,4,null,null,null,null,null,null,null,null,null,"","","","","","","","","","","","","","","","","","","","",null,null,{"$f":"Lane!V24","v":""},{"$f":"Lane!W24","v":""},{"$f":"Lane!Z24","v":""},{"$f":"Lane!AA24","v":""},{"$f":"Lane!AD24","v":""},{"$f":"Lane!AE24","v":""},{"$f":"Lane!AH24","v":""},{"$f":"Lane!AI24","v":""},{"$f":"Lane!AL24","v":""},{"$f":"Lane!AM24","v":""},{"$f":"Lane!AP24","v":""},{"$f":"Lane!AQ24","v":""},{"$f":"Lane!AT24","v":""},{"$f":"Lane!AU24","v":""},{"$f":"Lane!AX24","v":""},{"$f":"Lane!AY24","v":""},{"$f":"Lane!BB24","v":""},{"$f":"Lane!BC24","v":""},{"$f":"Lane!BF24","v":""},{"$f":"Lane!BG24","v":""},null,{"$error":"#VALUE!"},{"$error":"#VALUE!"},{"$error":"#VALUE!"},{"$error":"#VALUE!"},{"$error":"#VALUE!"},{"$error":"#VALUE!"},{"$error":"#VALUE!"},{"$error":"#VALUE!"},{"$error":"#VALUE!"},{"$error":"#VALUE!"}]
["Lane-2",null,0.79400000000000004,null,null,null,null,null,null,null,null,null,null,null,null,null,null,null,null,null,null,null,null,null,null,null,null,null,null,null,null,null,null,null,null,null,3.6,null,null,null,null,null,null,null,null,null,{"$f":"AT17","v":0},{"$f":"AT18","v":0},"NB","SB",null,"","","","","","","","","","","","","","","","","","","","",null,null,{"$f":"Lane!V25","v":""},{"$f":"Lane!W25","v":""},{"$f":"Lane!Z25","v":""},{"$f":"Lane!AA25","v":""},{"$f":"Lane!AD25","v":""},{"$f":"Lane!AE25","v":""},{"$f":"Lane!AH25","v":""},{"$f":"Lane!AI25","v":""},{"$f":"Lane!AL25","v":""},{"$f":"Lane!AM25","v":""},{"$f":"Lane!AP25","v":""},{"$f":"Lane!AQ25","v":""},{"$f":"Lane!AT25","v":""},{"$f":"Lane!AU25","v":""},{"$f":"Lane!AX25","v":""},{"$f":"Lane!AY25","v":""},{"$f":"Lane!BB25","v":""},{"$f":"Lane!BC25","v":""},{"$f":"Lane!BF25","v":""},{"$f":"Lane!BG25","v":""},null,{"$error":"#VALUE!"},{"$error":"#VALUE!"},{"$error":"#VALUE!"},{"$error":"#VALUE!"},{"$error":"#VALUE!"},{"$error":"#VALUE!"},{"$error":"#VALUE!"},{"$error":"#VALUE!"},{"$error":"#VALUE!"},{"$error":"#VALUE!"}]
["Lane-3",0.75,0.79400000000000004,null,null,null,null,null,null,null,null,null,null,null,null,null,null,null,null,null,null,null,null,null,null,null,null,null,null,null,null,null,null,null,3.3490000000000002,null,3.6,null,null,null,null,null,null,null,null,"Lane 1",{"$f":"AZ86","v":2},{"$f":"BJ86","v":2},{"$f":"IF(AU21>0,1,0)","v":1},{"$f":"IF(AV21>0,1,0)","v":1},null,"","","","","","","","","","","","","","","","","","","","",null,null,{"$f":"Lane!V26","v":""},{"$f":"Lane!W26","v":""},{"$f":"Lane!Z26","v":""},{"$f":"Lane!AA26","v":""},{"$f":"Lane!AD26","v":""},{"$f":"Lane!AE26","v":""},{"$f":"Lane!AH26","v":""},{"$f":"Lane!AI26","v":""},{"$f":"Lane!AL26","v":""},{"$f":"Lane!AM26","v":""},{"$f":"Lane!AP26","v":""},{"$f":"Lane!AQ26","v":""},{"$f":"Lane!AT26","v":""},{"$f":"Lane!AU26","v":""},{"$f":"Lane!AX26","v":""},{"$f":"Lane!AY26","v":""},{"$f":"Lane!BB26","v":""},{"$f":"Lane!BC26","v":""},{"$f":"Lane!BF26","v":""},{"$f":"Lane!BG26","v":""},null,{"$error":"#VALUE!"},{"$error":"#VALUE!"},{"$error":"#VALUE!"},{"$error":"#VALUE!"},{"$error":"#VALUE!"},{"$error":"#VALUE!"},{"$error":"#VALUE!"},{"$error":"#VALUE!"},{"$error":"#VALUE!"},{"$error":"#VALUE!"}]
["Lane-4",null,0.79400000000000004,null,null,null,null,null,null,null,null,null,null,null,null,null,null,null,null,null,null,null,null,null,null,null,null,null,null,null,null,null,null,null,null,null,null,null,null,null,null,4,null,null,null,"Lane 2",{"$f":"BB86","v":1},{"$f":"BL86","v":1},{"$f":"IF(AU22>0,1,0)","v":1},1,null,"","","","","","","","","","","","","","","","","","","","",null,null,{"$f":"Lane!V27","v":""},{"$f":"Lane!W27","v":""},{"$f":"Lane!Z27","v":""},{"$f":"Lane!AA27","v":""},{"$f":"Lane!AD27","v":""},{"$f":"Lane!AE27","v":""},{"$f":"Lane!AH27","v":""},{"$f":"Lane!AI27","v":""},{"$f":"Lane!AL27","v":""},{"$f":"Lane!AM27","v":""},{"$f":"Lane!AP27","v":""},{"$f":"Lane!AQ27","v":""},{"$f":"Lane!AT27","v":""},{"$f":"Lane!AU27","v":""},{"$f":"Lane!AX27","v":""},{"$f":"Lane!AY27","v":""},{"$f":"Lane!BB27","v":""},{"$f":"Lane!BC27","v":""},{"$f":"Lane!BF27","v":""},{"$f":"Lane!BG27","v":""},null,{"$error":"#VALUE!"},{"$error":"#VALUE!"},{"$error":"#VALUE!"},{"$error":"#VALUE!"},{"$error":"#VALUE!"},{"$error":"#VALUE!"},{"$error":"#VALUE!"},{"$error":"#VALUE!"},{"$error":"#VALUE!"},{"$error":"#VALUE!"}]
["Lane-5",0.75,null,null,null,null,null,null,null,null,null,null,null,null,null,null,null,null,null,null,null,null,null,null,null,null,null,null,null,null,null,null,null,null,null,null,3.6,null,null,null,null,null,null,null,null,"Lane 3",{"$f":"BD86","v":2},{"$f":"BN86","v":2},1,1,null,"","","","","","","","","","","","","","","","","","","","",null,null,{"$f":"Lane!V28","v":""},{"$f":"Lane!W28","v":""},{"$f":"Lane!Z28","v":""},{"$f":"Lane!AA28","v":""},{"$f":"Lane!AD28","v":""},{"$f":"Lane!AE28","v":""},{"$f":"Lane!AH28","v":""},{"$f":"Lane!AI28","v":""},{"$f":"Lane!AL28","v":""},{"$f":"Lane!AM28","v":""},{"$f":"Lane!AP28","v":""},{"$f":"Lane!AQ28","v":""},{"$f":"Lane!AT28","v":""},{"$f":"Lane!AU28","v":""},{"$f":"Lane!AX28","v":""},{"$f":"Lane!AY28","v":""},{"$f":"Lane!BB28","v":""},{"$f":"Lane!BC28","v":""},{"$f":"Lane!BF28","v":""},{"$f":"Lane!BG28","v":""},null,{"$error":"#VALUE!"},{"$error":"#VALUE!"},{"$error":"#VALUE!"},{"$error":"#VALUE!"},{"$error":"#VALUE!"},{"$error":"#VALUE!"},{"$error":"#VALUE!"},{"$error":"#VALUE!"},{"$error":"#VALUE!"},{"$error":"#VALUE!"}]
[null,null,null,null,null,null,null,null,null,null,null,null,null,null,null,null,null,null,null,null,null,null,null,null,null,null,null,null,null,null,null,null,null,null,null,null,null,null,null,null,null,null,null,null,null,"Lane 4",{"$f":"BF86","v":1},{"$f":"BP86","v":1},1,1,null,"","","","","","","","","","","","","","","","","","","","",null,null,{"$f":"Lane!V29","v":""},{"$f":"Lane!W29","v":""},{"$f":"Lane!Z29","v":""},{"$f":"Lane!AA29","v":""},{"$f":"Lane!AD29","v":""},{"$f":"Lane!AE29","v":""},{"$f":"Lane!AH29","v":""},{"$f":"Lane!AI29","v":""},{"$f":"Lane!AL29","v":""},{"$f":"Lane!AM29","v":""},{"$f":"Lane!AP29","v":""},{"$f":"Lane!AQ29","v":""},{"$f":"Lane!AT29","v":""},{"$f":"Lane!AU29","v":""},{"$f":"Lane!AX29","v":""},{"$f":"Lane!AY29","v":""},{"$f":"Lane!BB29","v":""},{"$f":"Lane!BC29","v":""},{"$f":"Lane!BF29","v":""},{"$f":"Lane!BG29","v":""},null,{"$error":"#VALUE!"},{"$error":"#VALUE!"},{"$error":"#VALUE!"},{"$error":"#VALUE!"},{"$error":"#VALUE!"},{"$error":"#VALUE!"},{"$error":"#VALUE!"},{"$error":"#VALUE!"},{"$error":"#VALUE!"},{"$error":"#VALUE!"}]
["NOTES:-",1,"Calculate exclusions within the above limits using lane designation shown above. Any lane mark with diagonal lines is a short lane and will not be tested. Do not calculate exclusions within such short lanes.",null,null,null,null,null,null,null,null,null,null,null,null,null,null,null,null,null,null,null,null,null,null,null,null,null,null,null,null,null,null,null,null,null,null,null,null,null,null,null,null,null,null,"Lane 5",{"$f":"BH86","v":1},{"$f":"BR86","v":1},1,1,null,"","","","","","","","","","","","","","","","","","","","",null,null,{"$f":"Lane!V30","v":""},{"$f":"Lane!W30","v":""},{"$f":"Lane!Z30","v":""},{"$f":"Lane!AA30","v":""},{"$f":"Lane!AD30","v":""},{"$f":"Lane!AE30","v":""},{"$f":"Lane!AH30","v":""},{"$f":"Lane!AI30","v":""},{"$f":"Lane!AL30","v":""},{"$f":"Lane!AM30","v":""},{"$f":"Lane!AP30","v":""},{"$f":"Lane!AQ30","v":""},{"$f":"Lane!AT30","v":""},{"$f":"Lane!AU30","v":""},{"$f":"Lane!AX30","v":""},{"$f":"Lane!AY30","v":""},{"$f":"Lane!BB30","v":""},{"$f":"Lane!BC30","v":""},{"$f":"Lane!BF30","v":""},{"$f":"Lane!BG30","v":""},null,{"$error":"#VALUE!"},{"$error":"#VALUE!"},{"$error":"#VALUE!"},{"$error":"#VALUE!"},{"$error":"#VALUE!"},{"$error":"#VALUE!"},{"$error":"#VALUE!"},{"$error":"#VALUE!"},{"$error":"#VALUE!"},{"$error":"#VALUE!"}]
[null,null,null,null,null,null,null,null,null,null,null,null,null,null,null,null,null,null,null,null,null,null,null,null,null,null,null,null,null,null,null,null,null,null,null,null,null,null,null,null,null,null,null,null,null,null,null,null,null,null,null,"","","","","","","","","","","","","","","","","","","","",null,null,{"$f":"Lane!V31","v":""},{"$f":"Lane!W31","v":""},{"$f":"Lane!Z31","v":""},{"$f":"Lane!AA31","v":""},{"$f":"Lane!AD31","v":""},{"$f":"Lane!AE31","v":""},{"$f":"Lane!AH31","v":""},{"$f":"Lane!AI31","v":""},{"$f":"Lane!AL31","v":""},{"$f":"Lane!AM31","v":""},{"$f":"Lane!AP31","v":""},{"$f":"Lane!AQ31","v":""},{"$f":"Lane!AT31","v":""},{"$f":"Lane!AU31","v":""},{"$f":"Lane!AX31","v":""},{"$f":"Lane!AY31","v":""},{"$f":"Lane!BB31","v":""},{"$f":"Lane!BC31","v":""},{"$f":"Lane!BF31","v":""},{"$f":"Lane!BG31","v":""},null,{"$error":"#VALUE!"},{"$error":"#VALUE!"},{"$error":"#VALUE!"},{"$error":"#VALUE!"},{"$error":"#VALUE!"},{"$error":"#VALUE!"},{"$error":"#VALUE!"},{"$error":"#VALUE!"},{"$error":"#VALUE!"},{"$error":"#VALUE!"}]
[null,null,null,null,null,null,null,null,null,null,null,null,null,null,null,null,null,null,null,null,null,null,null,null,null,null,null,null,null,null,null,null,null,null,null,null,null,null,null,null,null,null,null,null,null,null,"max number of lanes",null,null,null,null,"","","","","","","","","","","","","","","","","","","","",null,null,{"$f":"Lane!V32","v":""},{"$f":"Lane!W32","v":""},{"$f":"Lane!Z32","v":""},{"$f":"Lane!AA32","v":""},{"$f":"Lane!AD32","v":""},{"$f":"Lane!AE32","v":""},{"$f":"Lane!AH32","v":""},{"$f":"Lane!AI32","v":""},{"$f":"Lane!AL32","v":""},{"$f":"Lane!AM32","v":""},{"$f":"Lane!AP32","v":""},{"$f":"Lane!AQ32","v":""},{"$f":"Lane!AT32","v":""},{"$f":"Lane!AU32","v":""},{"$f":"Lane!AX32","v":""},{"$f":"Lane!AY32","v":""},{"$f":"Lane!BB32","v":""},{"$f":"Lane!BC32","v":""},{"$f":"Lane!BF32","v":""},{"$f":"Lane!BG32","v":""},null,{"$error":"#VALUE!"},{"$error":"#VALUE!"},{"$error":"#VALUE!"},{"$error":"#VALUE!"},{"$error":"#VALUE!"},{"$error":"#VALUE!"},{"$error":"#VALUE!"},{"$error":"#VALUE!"},{"$error":"#VALUE!"},{"$error":"#VALUE!"}]
[null,null,null,null,null,null,null,null,null,null,null,null,null,null,null,null,null,null,null,null,null,null,null,null,null,null,null,null,null,null,null,null,null,null,null,null,null,null,null,null,null,null,null,null,null,null,{"$f":"'Localized Factor Worksheet'!B12","v":0},{"$f":"'Localized Factor Worksheet'!GU6","v":0},{"$f":"SUM(AW21:AW25)","v":5},null,null,"","","","","","","","","","","","","","","","","","","","",null,null,{"$f":"Lane!V33","v":""},{"$f":"Lane!W33","v":""},{"$f":"Lane!Z33","v":""},{"$f":"Lane!AA33","v":""},{"$f":"Lane!AD33","v":""},{"$f":"Lane!AE33","v":""},{"$f":"Lane!AH33","v":""},{"$f":"Lane!AI33","v":""},{"$f":"Lane!AL33","v":""},{"$f":"Lane!AM33","v":""},{"$f":"Lane!AP33","v":""},{"$f":"Lane!AQ33","v":""},{"$f":"Lane!AT33","v":""},{"$f":"Lane!AU33","v":""},{"$f":"Lane!AX33","v":""},{"$f":"Lane!AY33","v":""},{"$f":"Lane!BB33","v":""},{"$f":"Lane!BC33","v":""},{"$f":"Lane!BF33","v":""},{"$f":"Lane!BG33","v":""},null,{"$error":"#VALUE!"},{"$error":"#VALUE!"},{"$error":"#VALUE!"},{"$error":"#VALUE!"},{"$error":"#VALUE!"},{"$error":"#VALUE!"},{"$error":"#VALUE!"},{"$error":"#VALUE!"},{"$error":"#VALUE!"},{"$error":"#VALUE!"}]
[null,null,null,null,null,null,null,null,null,null,null,null,null,null,null,null,null,null,null,null,null,null,null,null,null,null,null,null,null,null,null,null,null,null,null,null,null,null,null,null,null,null,null,null,null,null,{"$f":"'Localized Factor Worksheet'!Q12","v":0},{"$f":"'Localized Factor Worksheet'!GV6","v":0},{"$f":"SUM(AX21:AX25)","v":5},null,null,"","","","","","","","","","","","","","","","","","","","",null,null,{"$f":"Lane!V34","v":""},{"$f":"Lane!W34","v":""},{"$f":"Lane!Z34","v":""},{"$f":"Lane!AA34","v":""},{"$f":"Lane!AD34","v":""},{"$f":"Lane!AE34","v":""},{"$f":"Lane!AH34","v":""},{"$f":"Lane!AI34","v":""},{"$f":"Lane!AL34","v":""},{"$f":"Lane!AM34","v":""},{"$f":"Lane!AP34","v":""},{"$f":"Lane!AQ34","v":""},{"$f":"Lane!AT34","v":""},{"$f":"Lane!AU34","v":""},{"$f":"Lane!AX34","v":""},{"$f":"Lane!AY34","v":""},{"$f":"Lane!BB34","v":""},{"$f":"Lane!BC34","v":""},{"$f":"Lane!BF34","v":""},{"$f":"Lane!BG34","v":""},null,{"$error":"#VALUE!"},{"$error":"#VALUE!"},{"$error":"#VALUE!"},{"$error":"#VALUE!"},{"$error":"#VALUE!"},{"$error":"#VALUE!"},{"$error":"#VALUE!"},{"$error":"#VALUE!"},{"$error":"#VALUE!"},{"$error":"#VALUE!"}]
[null,null,null,null,null,null,null,null,null,null,null,null,null,null,null,null,null,null,null,null,null,null,null,null,null,null,null,null,null,null,null,null,null,null,null,null,null,null,null,null,null,null,null,null,null,null,null,null,null,null,null,"","","","","","","","","","","","","","","","","","","","",null,null,{"$f":"Lane!V35","v":""},{"$f":"Lane!W35","v":""},{"$f":"Lane!Z35","v":""},{"$f":"Lane!AA35","v":""},{"$f":"Lane!AD35","v":""},{"$f":"Lane!AE35","v":""},{"$f":"Lane!AH35","v":""},{"$f":"Lane!AI35","v":""},{"$f":"Lane!AL35","v":""},{"$f":"Lane!AM35","v":""},{"$f":"Lane!AP35","v":""},{"$f":"Lane!AQ35","v":""},{"$f":"Lane!AT35","v":""},{"$f":"Lane!AU35","v":""},{"$f":"Lane!AX35","v":""},{"$f":"Lane!AY35","v":""},{"$f":"Lane!BB35","v":""},{"$f":"Lane!BC35","v":""},{"$f":"Lane!BF35","v":""},{"$f":"Lane!BG35","v":""},null,{"$error":"#VALUE!"},{"$error":"#VALUE!"},{"$error":"#VALUE!"},{"$error":"#VALUE!"},{"$error":"#VALUE!"},{"$error":"#VALUE!"},{"$error":"#VALUE!"},{"$error":"#VALUE!"},{"$error":"#VALUE!"},{"$error":"#VALUE!"}]
[null,null,null,null,null,null,null,null,null,null,null,null,null,null,null,null,null,null,null,null,null,null,null,null,null,null,null,null,null,null,null,null,null,null,null,null,null,null,null,null,null,null,null,null,null,null,"Find Maximum Numbers of lanes",null,null,null,null,"","","","","","","","","","","","","","","","","","","","",null,null,{"$f":"Lane!V36","v":""},{"$f":"Lane!W36","v":""},{"$f":"Lane!Z36","v":""},{"$f":"Lane!AA36","v":""},{"$f":"Lane!AD36","v":""},{"$f":"Lane!AE36","v":""},{"$f":"Lane!AH36","v":""},{"$f":"Lane!AI36","v":""},{"$f":"Lane!AL36","v":""},{"$f":"Lane!AM36","v":""},{"$f":"Lane!AP36","v":""},{"$f":"Lane!AQ36","v":""},{"$f":"Lane!AT36","v":""},{"$f":"Lane!AU36","v":""},{"$f":"Lane!AX36","v":""},{"$f":"Lane!AY36","v":""},{"$f":"Lane!BB36","v":""},{"$f":"Lane!BC36","v":""},{"$f":"Lane!BF36","v":""},{"$f":"Lane!BG36","v":""},null,{"$error":"#VALUE!"},{"$error":"#VALUE!"},{"$error":"#VALUE!"},{"$error":"#VALUE!"},{"$error":"#VALUE!"},{"$error":"#VALUE!"},{"$error":"#VALUE!"},{"$error":"#VALUE!"},{"$error":"#VALUE!"},{"$error":"#VALUE!"}]
[null,null,null,null,null,null,null,null,null,null,null,null,null,null,null,null,null,null,null,null,null,null,null,null,null,null,null,null,null,null,null,null,null,null,null,null,null,null,null,null,null,null,null,null,null,null,"NB",null,null,null,null,"","","","","","","","","","","","","","","","","","","","",null,null,{"$f":"Lane!V37","v":""},{"$f":"Lane!W37","v":""},{"$f":"Lane!Z37","v":""},{"$f":"Lane!AA37","v":""},{"$f":"Lane!AD37","v":""},{"$f":"Lane!AE37","v":""},{"$f":"Lane!AH37","v":""},{"$f":"Lane!AI37","v":""},{"$f":"Lane!AL37","v":""},{"$f":"Lane!AM37","v":""},{"$f":"Lane!AP37","v":""},{"$f":"Lane!AQ37","v":""},{"$f":"Lane!AT37","v":""},{"$f":"Lane!AU37","v":""},{"$f":"Lane!AX37","v":""},{"$f":"Lane!AY37","v":""},{"$f":"Lane!BB37","v":""},{"$f":"Lane!BC37","v":""},{"$f":"Lane!BF37","v":""},{"$f":"Lane!BG37","v":""},null,{"$error":"#VALUE!"},{"$error":"#VALUE!"},{"$error":"#VALUE!"},{"$error":"#VALUE!"},{"$error":"#VALUE!"},{"$error":"#VALUE!"},{"$error":"#VALUE!"},{"$error":"#VALUE!"},{"$error":"#VALUE!"},{"$error":"#VALUE!"}]
[null,null,null,null,null,null,null,null,null,null,null,null,null,null,null,null,null,null,null,null,null,null,null,null,null,null,null,null,null,null,null,null,null,null,null,null,null,null,null,null,null,null,null,null,null,null,"SB",null,null,null,null,"","","","","","","","","","","","","","","","","","","","",null,null,{"$f":"Lane!V38","v":""},{"$f":"Lane!W38","v":""},{"$f":"Lane!Z38","v":""},{"$f":"Lane!AA38","v":""},{"$f":"Lane!AD38","v":""},{"$f":"Lane!AE38","v":""},{"$f":"Lane!AH38","v":""},{"$f":"Lane!AI38","v":""},{"$f":"Lane!AL38","v":""},{"$f":"Lane!AM38","v":""},{"$f":"Lane!AP38","v":""},{"$f":"Lane!AQ38","v":""},{"$f":"Lane!AT38","v":""},{"$f":"Lane!AU38","v":""},{"$f":"Lane!AX38","v":""},{"$f":"Lane!AY38","v":""},{"$f":"Lane!BB38","v":""},{"$f":"Lane!BC38","v":""},{"$f":"Lane!BF38","v":""},{"$f":"Lane!BG38","v":""},null,{"$error":"#VALUE!"},{"$error":"#VALUE!"},{"$error":"#VALUE!"},{"$error":"#VALUE!"},{"$error":"#VALUE!"},{"$error":"#VALUE!"},{"$error":"#VALUE!"},{"$error":"#VALUE!"},{"$error":"#VALUE!"},{"$error":"#VALUE!"}]
[null,null,null,null,null,null,null,null,null,null,null,null,null,null,null,null,null,null,null,null,null,null,null,null,null,null,null,null,null,null,null,null,null,null,null,null,null,null,null,null,null,null,null,null,null,null,null,null,null,null,null,"","","","","","","","","","","","","","","","","","","","",null,null,{"$f":"Lane!V39","v":""},{"$f":"Lane!W39","v":""},{"$f":"Lane!Z39","v":""},{"$f":"Lane!AA39","v":""},{"$f":"Lane!AD39","v":""},{"$f":"Lane!AE39","v":""},{"$f":"Lane!AH39","v":""},{"$f":"Lane!AI39","v":""},{"$f":"Lane!AL39","v":""},{"$f":"Lane!AM39","v":""},{"$f":"Lane!AP39","v":""},{"$f":"Lane!AQ39","v":""},{"$f":"Lane!AT39","v":""},{"$f":"Lane!AU39","v":""},{"$f":"Lane!AX39","v":""},{"$f":"Lane!AY39","v":""},{"$f":"Lane!BB39","v":""},{"$f":"Lane!BC39","v":""},{"$f":"Lane!BF39","v":""},{"$f":"Lane!BG39","v":""},null,{"$error":"#VALUE!"},{"$error":"#VALUE!"},{"$error":"#VALUE!"},{"$error":"#VALUE!"},{"$error":"#VALUE!"},{"$error":"#VALUE!"},{"$error":"#VALUE!"},{"$error":"#VALUE!"},{"$error":"#VALUE!"},{"$error":"#VALUE!"}]
[null,null,null,null,null,null,null,null,null,null,null,null,null,null,null,null,null,null,null,null,null,null,null,null,null,null,null,null,null,null,null,null,null,null,null,null,null,null,null,null,null,null,null,null,null,null,null,null,null,null,null,"","","","","","","","","","","","","","","","","","","","",null,null,{"$f":"Lane!V40","v":""},{"$f":"Lane!W40","v":""},{"$f":"Lane!Z40","v":""},{"$f":"Lane!AA40","v":""},{"$f":"Lane!AD40","v":""},{"$f":"Lane!AE40","v":""},{"$f":"Lane!AH40","v":""},{"$f":"Lane!AI40","v":""},{"$f":"Lane!AL40","v":""},{"$f":"Lane!AM40","v":""},{"$f":"Lane!AP40","v":""},{"$f":"Lane!AQ40","v":""},{"$f":"Lane!AT40","v":""},{"$f":"Lane!AU40","v":""},{"$f":"Lane!AX40","v":""},{"$f":"Lane!AY40","v":""},{"$f":"Lane!BB40","v":""},{"$f":"Lane!BC40","v":""},{"$f":"Lane!BF40","v":""},{"$f":"Lane!BG40","v":""},null,{"$error":"#VALUE!"},{"$error":"#VALUE!"},{"$error":"#VALUE!"},{"$error":"#VALUE!"},{"$error":"#VALUE!"},{"$error":"#VALUE!"},{"$error":"#VALUE!"},{"$error":"#VALUE!"},{"$error":"#VALUE!"},{"$error":"#VALUE!"}]
[1,2,3,4,5,6,7,8,9,10,11,12,13,14,15,16,17,18,19,20,21,22,23,24,25,26,27,28,29,30,31,32,33,34,35,36,37,38,39,40,41,42,43,44,45,null,null,null,null,null,null,"","","","","","","","","","","","","","","","","","","","",null,null,{"$f":"Lane!V41","v":""},{"$f":"Lane!W41","v":""},{"$f":"Lane!Z41","v":""},{"$f":"Lane!AA41","v":""},{"$f":"Lane!AD41","v":""},{"$f":"Lane!AE41","v":""},{"$f":"Lane!AH41","v":""},{"$f":"Lane!AI41","v":""},{"$f":"Lane!AL41","v":""},{"$f":"Lane!AM41","v":""},{"$f":"Lane!AP41","v":""},{"$f":"Lane!AQ41","v":""},{"$f":"Lane!AT41","v":""},{"$f":"Lane!AU41","v":""},{"$f":"Lane!AX41","v":""},{"$f":"Lane!AY41","v":""},{"$f":"Lane!BB41","v":""},{"$f":"Lane!BC41","v":""},{"$f":"Lane!BF41","v":""},{"$f":"Lane!BG41","v":""},null,{"$error":"#VALUE!"},{"$error":"#VALUE!"},{"$error":"#VALUE!"},{"$error":"#VALUE!"},{"$error":"#VALUE!"},{"$error":"#VALUE!"},{"$error":"#VALUE!"},{"$error":"#VALUE!"},{"$error":"#VALUE!"},{"$error":"#VALUE!"}]
[null,null,null,null,null,null,null,null,null,null,null,null,null,null,null,null,null,null,null,null,null,null,null,null,null,null,null,null,null,null,1,2,3,4,5,6,7,8,9,10,11,12,13,14,15,null,null,null,null,null,null,"","","","","","","","","","","","","","","","","","","","",null,null,{"$f":"Lane!V42","v":""},{"$f":"Lane!W42","v":""},{"$f":"Lane!Z42","v":""},{"$f":"Lane!AA42","v":""},{"$f":"Lane!AD42","v":""},{"$f":"Lane!AE42","v":""},{"$f":"Lane!AH42","v":""},{"$f":"Lane!AI42","v":""},{"$f":"Lane!AL42","v":""},{"$f":"Lane!AM42","v":""},{"$f":"Lane!AP42","v":""},{"$f":"Lane!AQ42","v":""},{"$f":"Lane!AT42","v":""},{"$f":"Lane!AU42","v":""},{"$f":"Lane!AX42","v":""},{"$f":"Lane!AY42","v":""},{"$f":"Lane!BB42","v":""},{"$f":"Lane!BC42","v":""},{"$f":"Lane!BF42","v":""},{"$f":"Lane!BG42","v":""},null,{"$error":"#VALUE!"},{"$error":"#VALUE!"},{"$error":"#VALUE!"},{"$error":"#VALUE!"},{"$error":"#VALUE!"},{"$error":"#VALUE!"},{"$error":"#VALUE!"},{"$error":"#VALUE!"},{"$error":"#VALUE!"},{"$error":"#VALUE!"}]
[null,null,null,null,null,null,null,null,null,null,null,null,null,null,null,null,null,null,null,null,null,null,null,null,null,null,null,null,null,null,null,null,null,null,null,null,null,null,null,null,null,null,null,null,null,null,null,null,null,null,null,"","","","","","","","","","","","","","","","","","","","",null,null,{"$f":"Lane!V43","v":""},{"$f":"Lane!W43","v":""},{"$f":"Lane!Z43","v":""},{"$f":"Lane!AA43","v":""},{"$f":"Lane!AD43","v":""},{"$f":"Lane!AE43","v":""},{"$f":"Lane!AH43","v":""},{"$f":"Lane!AI43","v":""},{"$f":"Lane!AL43","v":""},{"$f":"Lane!AM43","v":""},{"$f":"Lane!AP43","v":""},{"$f":"Lane!AQ43","v":""},{"$f":"Lane!AT43","v":""},{"$f":"Lane!AU43","v":""},{"$f":"Lane!AX43","v":""},{"$f":"Lane!AY43","v":""},{"$f":"Lane!BB43","v":""},{"$f":"Lane!BC43","v":""},{"$f":"Lane!BF43","v":""},{"$f":"Lane!BG43","v":""},null,{"$error":"#VALUE!"},{"$error":"#VALUE!"},{"$error":"#VALUE!"},{"$error":"#VALUE!"},{"$error":"#VALUE!"},{"$error":"#VALUE!"},{"$error":"#VALUE!"},{"$error":"#VALUE!"},{"$error":"#VALUE!"},{"$error":"#VALUE!"}]
[null,null,null,null,null,null,null,null,null,null,null,null,null,null,null,null,null,null,null,null,null,null,null,null,null,null,null,null,null,null,null,null,null,null,null,null,null,null,null,null,null,null,null,null,null,null,null,null,null,null,null,"","","","","","","","","","","","","","","","","","","","",null,null,{"$f":"Lane!V44","v":""},{"$f":"Lane!W44","v":""},{"$f":"Lane!Z44","v":""},{"$f":"Lane!AA44","v":""},{"$f":"Lane!AD44","v":""},{"$f":"Lane!AE44","v":""},{"$f":"Lane!AH44","v":""},{"$f":"Lane!AI44","v":""},{"$f":"Lane!AL44","v":""},{"$f":"Lane!AM44","v":""},{"$f":"Lane!AP44","v":""},{"$f":"Lane!AQ44","v":""},{"$f":"Lane!AT44","v":""},{"$f":"Lane!AU44","v":""},{"$f":"Lane!AX44","v":""},{"$f":"Lane!AY44","v":""},{"$f":"Lane!BB44","v":""},{"$f":"Lane!BC44","v":""},{"$f":"Lane!BF44","v":""},{"$f":"Lane!BG44","v":""},null,{"$error":"#VALUE!"},{"$error":"#VALUE!"},{"$error":"#VALUE!"},{"$error":"#VALUE!"},{"$error":"#VALUE!"},{"$error":"#VALUE!"},{"$error":"#VALUE!"},{"$error":"#VALUE!"},{"$error":"#VALUE!"},{"$error":"#VALUE!"}]
[null,null,null,null,null,null,null,null,null,null,null,null,null,null,null,null,null,null,null,null,null,null,null,null,null,null,null,null,null,null,null,null,null,null,null,null,null,null,null,null,null,null,null,null,null,null,null,null,null,null,null,"","","","","","","","","","","","","","","","","","","","",null,null,{"$f":"Lane!V45","v":""},{"$f":"Lane!W45","v":""},{"$f":"Lane!Z45","v":""},{"$f":"Lane!AA45","v":""},{"$f":"Lane!AD45","v":""},{"$f":"Lane!AE45","v":""},{"$f":"Lane!AH45","v":""},{"$f":"Lane!AI45","v":""},{"$f":"Lane!AL45","v":""},{"$f":"Lane!AM45","v":""},{"$f":"Lane!AP45","v":""},{"$f":"Lane!AQ45","v":""},{"$f":"Lane!AT45","v":""},{"$f":"Lane!AU45","v":""},{"$f":"Lane!AX45","v":""},{"$f":"Lane!AY45","v":""},{"$f":"Lane!BB45","v":""},{"$f":"Lane!BC45","v":""},{"$f":"Lane!BF45","v":""},{"$f":"Lane!BG45","v":""},null,{"$error":"#VALUE!"},{"$error":"#VALUE!"},{"$error":"#VALUE!"},{"$error":"#VALUE!"},{"$error":"#VALUE!"},{"$error":"#VALUE!"},{"$error":"#VALUE!"},{"$error":"#VALUE!"},{"$error":"#VALUE!"},{"$error":"#VALUE!"}]
[null,null,null,null,null,null,null,null,null,null,null,null,null,null,null,null,null,null,null,null,null,null,null,null,null,null,null,null,null,null,null,null,null,null,null,null,null,null,null,null,null,null,null,null,null,null,null,null,null,null,null,"","","","","","","","","","","","","","","","","","","","",null,null,{"$f":"Lane!V46","v":""},{"$f":"Lane!W46","v":""},{"$f":"Lane!Z46","v":""},{"$f":"Lane!AA46","v":""},{"$f":"Lane!AD46","v":""},{"$f":"Lane!AE46","v":""},{"$f":"Lane!AH46","v":""},{"$f":"Lane!AI46","v":""},{"$f":"Lane!AL46","v":""},{"$f":"Lane!AM46","v":""},{"$f":"Lane!AP46","v":""},{"$f":"Lane!AQ46","v":""},{"$f":"Lane!AT46","v":""},{"$f":"Lane!AU46","v":""},{"$f":"Lane!AX46","v":""},{"$f":"Lane!AY46","v":""},{"$f":"Lane!BB46","v":""},{"$f":"Lane!BC46","v":""},{"$f":"Lane!BF46","v":""},{"$f":"Lane!BG46","v":""},null,{"$error":"#VALUE!"},{"$error":"#VALUE!"},{"$error":"#VALUE!"},{"$error":"#VALUE!"},{"$error":"#VALUE!"},{"$error":"#VALUE!"},{"$error":"#VALUE!"},{"$error":"#VALUE!"},{"$error":"#VALUE!"},{"$error":"#VALUE!"}]
[null,null,null,null,null,null,null,null,null,null,null,null,null,null,null,null,null,null,null,null,null,null,null,null,null,null,null,null,null,null,null,null,null,null,null,null,null,null,null,null,null,null,null,null,null,null,null,null,null,null,null,"","","","","","","","","","","","","","","","","","","","",null,null,{"$f":"Lane!V47","v":""},{"$f":"Lane!W47","v":""},{"$f":"Lane!Z47","v":""},{"$f":"Lane!AA47","v":""},{"$f":"Lane!AD47","v":""},{"$f":"Lane!AE47","v":""},{"$f":"Lane!AH47","v":""},{"$f":"Lane!AI47","v":""},{"$f":"Lane!AL47","v":""},{"$f":"Lane!AM47","v":""},{"$f":"Lane!AP47","v":""},{"$f":"Lane!AQ47","v":""},{"$f":"Lane!AT47","v":""},{"$f":"Lane!AU47","v":""},{"$f":"Lane!AX47","v":""},{"$f":"Lane!AY47","v":""},{"$f":"Lane!BB47","v":""},{"$f":"Lane!BC47","v":""},{"$f":"Lane!BF47","v":""},{"$f":"Lane!BG47","v":""},null,{"$error":"#VALUE!"},{"$error":"#VALUE!"},{"$error":"#VALUE!"},{"$error":"#VALUE!"},{"$error":"#VALUE!"},{"$error":"#VALUE!"},{"$error":"#VALUE!"},{"$error":"#VALUE!"},{"$error":"#VALUE!"},{"$error":"#VALUE!"}]
[null,null,null,null,null,null,null,null,null,null,null,null,null,null,null,null,null,null,null,null,null,null,null,null,null,null,null,null,null,null,null,null,null,null,null,null,null,null,null,null,null,null,null,null,null,null,null,null,null,null,null,"","","","","","","","","","","","","","","","","","","","",null,null,{"$f":"Lane!V48","v":""},{"$f":"Lane!W48","v":""},{"$f":"Lane!Z48","v":""},{"$f":"Lane!AA48","v":""},{"$f":"Lane!AD48","v":""},{"$f":"Lane!AE48","v":""},{"$f":"Lane!AH48","v":""},{"$f":"Lane!AI48","v":""},{"$f":"Lane!AL48","v":""},{"$f":"Lane!AM48","v":""},{"$f":"Lane!AP48","v":""},{"$f":"Lane!AQ48","v":""},{"$f":"Lane!AT48","v":""},{"$f":"Lane!AU48","v":""},{"$f":"Lane!AX48","v":""},{"$f":"Lane!AY48","v":""},{"$f":"Lane!BB48","v":""},{"$f":"Lane!BC48","v":""},{"$f":"Lane!BF48","v":""},{"$f":"Lane!BG48","v":""},null,{"$error":"#VALUE!"},{"$error":"#VALUE!"},{"$error":"#VALUE!"},{"$error":"#VALUE!"},{"$error":"#VALUE!"},{"$error":"#VALUE!"},{"$error":"#VALUE!"},{"$error":"#VALUE!"},{"$error":"#VALUE!"},{"$error":"#VALUE!"}]
[null,null,null,null,null,null,null,null,null,null,null,null,null,null,null,null,null,null,null,null,null,null,null,null,null,null,null,null,null,null,null,null,null,null,null,null,null,null,null,null,null,null,null,null,null,null,null,null,null,null,null,"","","","","","","","","","","","","","","","","","","","",null,null,{"$f":"Lane!V49","v":""},{"$f":"Lane!W49","v":""},{"$f":"Lane!Z49","v":""},{"$f":"Lane!AA49","v":""},{"$f":"Lane!AD49","v":""},{"$f":"Lane!AE49","v":""},{"$f":"Lane!AH49","v":""},{"$f":"Lane!AI49","v":""},{"$f":"Lane!AL49","v":""},{"$f":"Lane!AM49","v":""},{"$f":"Lane!AP49","v":""},{"$f":"Lane!AQ49","v":""},{"$f":"Lane!AT49","v":""},{"$f":"Lane!AU49","v":""},{"$f":"Lane!AX49","v":""},{"$f":"Lane!AY49","v":""},{"$f":"Lane!BB49","v":""},{"$f":"Lane!BC49","v":""},{"$f":"Lane!BF49","v":""},{"$f":"Lane!BG49","v":""},null,{"$error":"#VALUE!"},{"$error":"#VALUE!"},{"$error":"#VALUE!"},{"$error":"#VALUE!"},{"$error":"#VALUE!"},{"$error":"#VALUE!"},{"$error":"#VALUE!"},{"$error":"#VALUE!"},{"$error":"#VALUE!"},{"$error":"#VALUE!"}]
[null,null,null,null,null,null,null,null,null,null,null,null,null,null,null,null,null,null,null,null,null,null,null,null,null,null,null,null,null,null,null,null,null,null,null,null,null,null,null,null,null,null,null,null,null,null,null,null,null,null,null,"","","","","","","","","","","","","","","","","","","","",null,null,{"$f":"Lane!V50","v":""},{"$f":"Lane!W50","v":""},{"$f":"Lane!Z50","v":""},{"$f":"Lane!AA50","v":""},{"$f":"Lane!AD50","v":""},{"$f":"Lane!AE50","v":""},{"$f":"Lane!AH50","v":""},{"$f":"Lane!AI50","v":""},{"$f":"Lane!AL50","v":""},{"$f":"Lane!AM50","v":""},{"$f":"Lane!AP50","v":""},{"$f":"Lane!AQ50","v":""},{"$f":"Lane!AT50","v":""},{"$f":"Lane!AU50","v":""},{"$f":"Lane!AX50","v":""},{"$f":"Lane!AY50","v":""},{"$f":"Lane!BB50","v":""},{"$f":"Lane!BC50","v":""},{"$f":"Lane!BF50","v":""},{"$f":"Lane!BG50","v":""},null,{"$error":"#VALUE!"},{"$error":"#VALUE!"},{"$error":"#VALUE!"},{"$error":"#VALUE!"},{"$error":"#VALUE!"},{"$error":"#VALUE!"},{"$error":"#VALUE!"},{"$error":"#VALUE!"},{"$error":"#VALUE!"},{"$error":"#VALUE!"}]
[null,null,null,null,null,null,null,null,null,null,null,null,null,null,null,null,null,null,null,null,null,null,null,null,null,null,null,null,null,null,null,null,null,null,null,null,null,null,null,null,null,null,null,null,null,null,null,null,null,null,null,"","","","","","","","","","","","","","","","","","","","",null,null,{"$f":"Lane!V51","v":""},{"$f":"Lane!W51","v":""},{"$f":"Lane!Z51","v":""},{"$f":"Lane!AA51","v":""},{"$f":"Lane!AD51","v":""},{"$f":"Lane!AE51","v":""},{"$f":"Lane!AH51","v":""},{"$f":"Lane!AI51","v":""},{"$f":"Lane!AL51","v":""},{"$f":"Lane!AM51","v":""},{"$f":"Lane!AP51","v":""},{"$f":"Lane!AQ51","v":""},{"$f":"Lane!AT51","v":""},{"$f":"Lane!AU51","v":""},{"$f":"Lane!AX51","v":""},{"$f":"Lane!AY51","v":""},{"$f":"Lane!BB51","v":""},{"$f":"Lane!BC51","v":""},{"$f":"Lane!BF51","v":""},{"$f":"Lane!BG51","v":""},null,{"$error":"#VALUE!"},{"$error":"#VALUE!"},{"$error":"#VALUE!"},{"$error":"#VALUE!"},{"$error":"#VALUE!"},{"$error":"#VALUE!"},{"$error":"#VALUE!"},{"$error":"#VALUE!"},{"$error":"#VALUE!"},{"$error":"#VALUE!"}]
[null,null,null,null,null,null,null,null,null,null,null,null,null,null,null,null,null,null,null,null,null,null,null,null,null,null,null,null,null,null,null,null,null,null,null,null,null,null,null,null,null,null,null,null,null,null,null,null,null,null,null,"","","","","","","","","","","","","","","","","","","","",null,null,{"$f":"Lane!V52","v":""},{"$f":"Lane!W52","v":""},{"$f":"Lane!Z52","v":""},{"$f":"Lane!AA52","v":""},{"$f":"Lane!AD52","v":""},{"$f":"Lane!AE52","v":""},{"$f":"Lane!AH52","v":""},{"$f":"Lane!AI52","v":""},{"$f":"Lane!AL52","v":""},{"$f":"Lane!AM52","v":""},{"$f":"Lane!AP52","v":""},{"$f":"Lane!AQ52","v":""},{"$f":"Lane!AT52","v":""},{"$f":"Lane!AU52","v":""},{"$f":"Lane!AX52","v":""},{"$f":"Lane!AY52","v":""},{"$f":"Lane!BB52","v":""},{"$f":"Lane!BC52","v":""},{"$f":"Lane!BF52","v":""},{"$f":"Lane!BG52","v":""},null,{"$error":"#VALUE!"},{"$error":"#VALUE!"},{"$error":"#VALUE!"},{"$error":"#VALUE!"},{"$error":"#VALUE!"},{"$error":"#VALUE!"},{"$error":"#VALUE!"},{"$error":"#VALUE!"},{"$error":"#VALUE!"},{"$error":"#VALUE!"}]
[null,null,null,null,null,null,null,null,null,null,null,null,null,null,null,null,null,null,null,null,null,null,null,null,null,null,null,null,null,null,1,null,null,null,null,null,null,null,null,null,null,null,null,null,null,null,null,null,null,null,null,"","","","","","","","","","","","","","","","","","","","",null,null,{"$f":"Lane!V53","v":""},{"$f":"Lane!W53","v":""},{"$f":"Lane!Z53","v":""},{"$f":"Lane!AA53","v":""},{"$f":"Lane!AD53","v":""},{"$f":"Lane!AE53","v":""},{"$f":"Lane!AH53","v":""},{"$f":"Lane!AI53","v":""},{"$f":"Lane!AL53","v":""},{"$f":"Lane!AM53","v":""},{"$f":"Lane!AP53","v":""},{"$f":"Lane!AQ53","v":""},{"$f":"Lane!AT53","v":""},{"$f":"Lane!AU53","v":""},{"$f":"Lane!AX53","v":""},{"$f":"Lane!AY53","v":""},{"$f":"Lane!BB53","v":""},{"$f":"Lane!BC53","v":""},{"$f":"Lane!BF53","v":""},{"$f":"Lane!BG53","v":""},null,{"$error":"#VALUE!"},{"$error":"#VALUE!"},{"$error":"#VALUE!"},{"$error":"#VALUE!"},{"$error":"#VALUE!"},{"$error":"#VALUE!"},{"$error":"#VALUE!"},{"$error":"#VALUE!"},{"$error":"#VALUE!"},{"$error":"#VALUE!"}]
[null,null,null,null,null,null,null,null,null,null,null,null,null,null,null,null,null,null,null,null,null,null,null,null,null,null,null,null,null,null,null,null,null,null,null,null,null,null,null,null,null,null,null,null,null,null,null,null,null,null,null,"","","","","","","","","","","","","","","","","","","","",null,null,{"$f":"Lane!V54","v":""},{"$f":"Lane!W54","v":""},{"$f":"Lane!Z54","v":""},{"$f":"Lane!AA54","v":""},{"$f":"Lane!AD54","v":""},{"$f":"Lane!AE54","v":""},{"$f":"Lane!AH54","v":""},{"$f":"Lane!AI54","v":""},{"$f":"Lane!AL54","v":""},{"$f":"Lane!AM54","v":""},{"$f":"Lane!AP54","v":""},{"$f":"Lane!AQ54","v":""},{"$f":"Lane!AT54","v":""},{"$f":"Lane!AU54","v":""},{"$f":"Lane!AX54","v":""},{"$f":"Lane!AY54","v":""},{"$f":"Lane!BB54","v":""},{"$f":"Lane!BC54","v":""},{"$f":"Lane!BF54","v":""},{"$f":"Lane!BG54","v":""},null,{"$error":"#VALUE!"},{"$error":"#VALUE!"},{"$error":"#VALUE!"},{"$error":"#VALUE!"},{"$error":"#VALUE!"},{"$error":"#VALUE!"},{"$error":"#VALUE!"},{"$error":"#VALUE!"},{"$error":"#VALUE!"},{"$error":"#VALUE!"}]
[null,null,null,null,null,null,null,null,null,null,null,null,null,null,null,null,null,null,null,null,null,null,null,null,null,null,null,null,null,null,null,null,null,null,null,null,null,null,null,null,null,null,null,null,null,null,null,null,null,null,null,"","","","","","","","","","","","","","","","","","","","",null,null,{"$f":"Lane!V55","v":""},{"$f":"Lane!W55","v":""},{"$f":"Lane!Z55","v":""},{"$f":"Lane!AA55","v":""},{"$f":"Lane!AD55","v":""},{"$f":"Lane!AE55","v":""},{"$f":"Lane!AH55","v":""},{"$f":"Lane!AI55","v":""},{"$f":"Lane!AL55","v":""},{"$f":"Lane!AM55","v":""},{"$f":"Lane!AP55","v":""},{"$f":"Lane!AQ55","v":""},{"$f":"Lane!AT55","v":""},{"$f":"Lane!AU55","v":""},{"$f":"Lane!AX55","v":""},{"$f":"Lane!AY55","v":""},{"$f":"Lane!BB55","v":""},{"$f":"Lane!BC55","v":""},{"$f":"Lane!BF55","v":""},{"$f":"Lane!BG55","v":""},null,{"$error":"#VALUE!"},{"$error":"#VALUE!"},{"$error":"#VALUE!"},{"$error":"#VALUE!"},{"$error":"#VALUE!"},{"$error":"#VALUE!"},{"$error":"#VALUE!"},{"$error":"#VALUE!"},{"$error":"#VALUE!"},{"$error":"#VALUE!"}]
[null,null,null,null,null,null,null,null,null,null,null,null,null,null,null,null,null,null,null,null,null,null,null,null,null,null,null,null,null,null,null,null,null,null,null,null,null,null,null,null,null,null,null,null,null,null,null,null,null,null,null,"","","","","","","","","","","","","","","","","","","","",null,null,{"$f":"Lane!V56","v":""},{"$f":"Lane!W56","v":""},{"$f":"Lane!Z56","v":""},{"$f":"Lane!AA56","v":""},{"$f":"Lane!AD56","v":""},{"$f":"Lane!AE56","v":""},{"$f":"Lane!AH56","v":""},{"$f":"Lane!AI56","v":""},{"$f":"Lane!AL56","v":""},{"$f":"Lane!AM56","v":""},{"$f":"Lane!AP56","v":""},{"$f":"Lane!AQ56","v":""},{"$f":"Lane!AT56","v":""},{"$f":"Lane!AU56","v":""},{"$f":"Lane!AX56","v":""},{"$f":"Lane!AY56","v":""},{"$f":"Lane!BB56","v":""},{"$f":"Lane!BC56","v":""},{"$f":"Lane!BF56","v":""},{"$f":"Lane!BG56","v":""},null,{"$error":"#VALUE!"},{"$error":"#VALUE!"},{"$error":"#VALUE!"},{"$error":"#VALUE!"},{"$error":"#VALUE!"},{"$error":"#VALUE!"},{"$error":"#VALUE!"},{"$error":"#VALUE!"},{"$error":"#VALUE!"},{"$error":"#VALUE!"}]
[null,null,null,null,null,null,null,null,null,null,null,null,null,null,null,null,null,null,null,null,null,null,null,null,null,null,null,null,null,null,null,null,null,null,null,null,null,null,null,null,null,null,null,null,null,null,null,null,null,null,null,"","","","","","","","","","","","","","","","","","","","",null,null,{"$f":"Lane!V57","v":""},{"$f":"Lane!W57","v":""},{"$f":"Lane!Z57","v":""},{"$f":"Lane!AA57","v":""},{"$f":"Lane!AD57","v":""},{"$f":"Lane!AE57","v":""},{"$f":"Lane!AH57","v":""},{"$f":"Lane!AI57","v":""},{"$f":"Lane!AL57","v":""},{"$f":"Lane!AM57","v":""},{"$f":"Lane!AP57","v":""},{"$f":"Lane!AQ57","v":""},{"$f":"Lane!AT57","v":""},{"$f":"Lane!AU57","v":""},{"$f":"Lane!AX57","v":""},{"$f":"Lane!AY57","v":""},{"$f":"Lane!BB57","v":""},{"$f":"Lane!BC57","v":""},{"$f":"Lane!BF57","v":""},{"$f":"Lane!BG57","v":""},null,{"$error":"#VALUE!"},{"$error":"#VALUE!"},{"$error":"#VALUE!"},{"$error":"#VALUE!"},{"$error":"#VALUE!"},{"$error":"#VALUE!"},{"$error":"#VALUE!"},{"$error":"#VALUE!"},{"$error":"#VALUE!"},{"$error":"#VALUE!"}]
[null,null,null,null,null,null,null,null,null,null,null,null,null,null,null,null,null,null,null,null,null,null,null,null,null,null,null,null,null,null,null,null,null,null,null,null,null,null,null,null,null,null,null,null,null,null,null,null,null,null,null,"","","","","","","","","","","","","","","","","","","","",null,null,{"$f":"Lane!V58","v":""},{"$f":"Lane!W58","v":""},{"$f":"Lane!Z58","v":""},{"$f":"Lane!AA58","v":""},{"$f":"Lane!AD58","v":""},{"$f":"Lane!AE58","v":""},{"$f":"Lane!AH58","v":""},{"$f":"Lane!AI58","v":""},{"$f":"Lane!AL58","v":""},{"$f":"Lane!AM58","v":""},{"$f":"Lane!AP58","v":""},{"$f":"Lane!AQ58","v":""},{"$f":"Lane!AT58","v":""},{"$f":"Lane!AU58","v":""},{"$f":"Lane!AX58","v":""},{"$f":"Lane!AY58","v":""},{"$f":"Lane!BB58","v":""},{"$f":"Lane!BC58","v":""},{"$f":"Lane!BF58","v":""},{"$f":"Lane!BG58","v":""},null,{"$error":"#VALUE!"},{"$error":"#VALUE!"},{"$error":"#VALUE!"},{"$error":"#VALUE!"},{"$error":"#VALUE!"},{"$error":"#VALUE!"},{"$error":"#VALUE!"},{"$error":"#VALUE!"},{"$error":"#VALUE!"},{"$error":"#VALUE!"}]
[null,null,null,null,null,null,null,null,null,null,null,null,null,null,null,null,null,null,null,null,null,null,null,null,null,null,null,null,null,null,null,null,null,null,null,null,null,null,null,null,null,null,null,null,null,null,null,null,null,null,null,"","","","","","","","","","","","","","","","","","","","",null,null,{"$f":"Lane!V59","v":""},{"$f":"Lane!W59","v":""},{"$f":"Lane!Z59","v":""},{"$f":"Lane!AA59","v":""},{"$f":"Lane!AD59","v":""},{"$f":"Lane!AE59","v":""},{"$f":"Lane!AH59","v":""},{"$f":"Lane!AI59","v":""},{"$f":"Lane!AL59","v":""},{"$f":"Lane!AM59","v":""},{"$f":"Lane!AP59","v":""},{"$f":"Lane!AQ59","v":""},{"$f":"Lane!AT59","v":""},{"$f":"Lane!AU59","v":""},{"$f":"Lane!AX59","v":""},{"$f":"Lane!AY59","v":""},{"$f":"Lane!BB59","v":""},{"$f":"Lane!BC59","v":""},{"$f":"Lane!BF59","v":""},{"$f":"Lane!BG59","v":""},null,{"$error":"#VALUE!"},{"$error":"#VALUE!"},{"$error":"#VALUE!"},{"$error":"#VALUE!"},{"$error":"#VALUE!"},{"$error":"#VALUE!"},{"$error":"#VALUE!"},{"$error":"#VALUE!"},{"$error":"#VALUE!"},{"$error":"#VALUE!"}]
[null,null,null,null,null,null,null,null,null,null,null,null,null,null,null,null,null,null,null,null,null,null,null,null,null,null,null,null,null,null,null,null,null,null,null,null,null,null,null,null,null,null,null,null,null,null,null,null,null,null,null,"","","","","","","","","","","","","","","","","","","","",null,null,{"$f":"Lane!V60","v":""},{"$f":"Lane!W60","v":""},{"$f":"Lane!Z60","v":""},{"$f":"Lane!AA60","v":""},{"$f":"Lane!AD60","v":""},{"$f":"Lane!AE60","v":""},{"$f":"Lane!AH60","v":""},{"$f":"Lane!AI60","v":""},{"$f":"Lane!AL60","v":""},{"$f":"Lane!AM60","v":""},{"$f":"Lane!AP60","v":""},{"$f":"Lane!AQ60","v":""},{"$f":"Lane!AT60","v":""},{"$f":"Lane!AU60","v":""},{"$f":"Lane!AX60","v":""},{"$f":"Lane!AY60","v":""},{"$f":"Lane!BB60","v":""},{"$f":"Lane!BC60","v":""},{"$f":"Lane!BF60","v":""},{"$f":"Lane!BG60","v":""},null,{"$error":"#VALUE!"},{"$error":"#VALUE!"},{"$error":"#VALUE!"},{"$error":"#VALUE!"},{"$error":"#VALUE!"},{"$error":"#VALUE!"},{"$error":"#VALUE!"},{"$error":"#VALUE!"},{"$error":"#VALUE!"},{"$error":"#VALUE!"}]
[null,null,null,null,null,null,null,null,null,null,null,null,null,null,null,null,null,null,null,null,null,null,null,null,null,null,null,null,null,null,null,null,null,null,null,null,null,null,null,null,null,null,null,null,null,null,null,null,null,null,null,"","","","","","","","","","","","","","","","","","","","",null,null,{"$f":"Lane!V61","v":""},{"$f":"Lane!W61","v":""},{"$f":"Lane!Z61","v":""},{"$f":"Lane!AA61","v":""},{"$f":"Lane!AD61","v":""},{"$f":"Lane!AE61","v":""},{"$f":"Lane!AH61","v":""},{"$f":"Lane!AI61","v":""},{"$f":"Lane!AL61","v":""},{"$f":"Lane!AM61","v":""},{"$f":"Lane!AP61","v":""},{"$f":"Lane!AQ61","v":""},{"$f":"Lane!AT61","v":""},{"$f":"Lane!AU61","v":""},{"$f":"Lane!AX61","v":""},{"$f":"Lane!AY61","v":""},{"$f":"Lane!BB61","v":""},{"$f":"Lane!BC61","v":""},{"$f":"Lane!BF61","v":""},{"$f":"Lane!BG61","v":""},null,{"$error":"#VALUE!"},{"$error":"#VALUE!"},{"$error":"#VALUE!"},{"$error":"#VALUE!"},{"$error":"#VALUE!"},{"$error":"#VALUE!"},{"$error":"#VALUE!"},{"$error":"#VALUE!"},{"$error":"#VALUE!"},{"$error":"#VALUE!"}]
[null,null,null,null,null,null,null,null,null,null,null,null,null,null,null,null,null,null,null,null,null,null,null,null,null,null,null,null,null,null,null,null,null,null,null,null,null,null,null,null,null,null,null,null,null,null,null,null,null,null,null,"","","","","","","","","","","","","","","","","","","","",null,null,{"$f":"Lane!V62","v":""},{"$f":"Lane!W62","v":""},{"$f":"Lane!Z62","v":""},{"$f":"Lane!AA62","v":""},{"$f":"Lane!AD62","v":""},{"$f":"Lane!AE62","v":""},{"$f":"Lane!AH62","v":""},{"$f":"Lane!AI62","v":""},{"$f":"Lane!AL62","v":""},{"$f":"Lane!AM62","v":""},{"$f":"Lane!AP62","v":""},{"$f":"Lane!AQ62","v":""},{"$f":"Lane!AT62","v":""},{"$f":"Lane!AU62","v":""},{"$f":"Lane!AX62","v":""},{"$f":"Lane!AY62","v":""},{"$f":"Lane!BB62","v":""},{"$f":"Lane!BC62","v":""},{"$f":"Lane!BF62","v":""},{"$f":"Lane!BG62","v":""},null,{"$error":"#VALUE!"},{"$error":"#VALUE!"},{"$error":"#VALUE!"},{"$error":"#VALUE!"},{"$error":"#VALUE!"},{"$error":"#VALUE!"},{"$error":"#VALUE!"},{"$error":"#VALUE!"},{"$error":"#VALUE!"},{"$error":"#VALUE!"}]
[null,null,null,null,null,null,null,null,null,null,null,null,null,null,null,null,null,null,null,null,null,null,null,null,null,null,null,null,null,null,null,null,null,null,null,null,null,null,null,null,null,null,null,null,null,null,null,null,null,null,null,"","","","","","","","","","","","","","","","","","","","",null,null,{"$f":"Lane!V63","v":""},{"$f":"Lane!W63","v":""},{"$f":"Lane!Z63","v":""},{"$f":"Lane!AA63","v":""},{"$f":"Lane!AD63","v":""},{"$f":"Lane!AE63","v":""},{"$f":"Lane!AH63","v":""},{"$f":"Lane!AI63","v":""},{"$f":"Lane!AL63","v":""},{"$f":"Lane!AM63","v":""},{"$f":"Lane!AP63","v":""},{"$f":"Lane!AQ63","v":""},{"$f":"Lane!AT63","v":""},{"$f":"Lane!AU63","v":""},{"$f":"Lane!AX63","v":""},{"$f":"Lane!AY63","v":""},{"$f":"Lane!BB63","v":""},{"$f":"Lane!BC63","v":""},{"$f":"Lane!BF63","v":""},{"$f":"Lane!BG63","v":""},null,{"$error":"#VALUE!"},{"$error":"#VALUE!"},{"$error":"#VALUE!"},{"$error":"#VALUE!"},{"$error":"#VALUE!"},{"$error":"#VALUE!"},{"$error":"#VALUE!"},{"$error":"#VALUE!"},{"$error":"#VALUE!"},{"$error":"#VALUE!"}]
[null,null,null,null,null,null,null,null,null,null,null,null,null,null,null,null,null,null,null,null,null,null,null,null,null,null,null,null,null,null,null,null,null,null,null,null,null,null,null,null,null,null,null,null,null,null,null,null,null,null,null,"","","","","","","","","","","","","","","","","","","","",null,null,{"$f":"Lane!V64","v":""},{"$f":"Lane!W64","v":""},{"$f":"Lane!Z64","v":""},{"$f":"Lane!AA64","v":""},{"$f":"Lane!AD64","v":""},{"$f":"Lane!AE64","v":""},{"$f":"Lane!AH64","v":""},{"$f":"Lane!AI64","v":""},{"$f":"Lane!AL64","v":""},{"$f":"Lane!AM64","v":""},{"$f":"Lane!AP64","v":""},{"$f":"Lane!AQ64","v":""},{"$f":"Lane!AT64","v":""},{"$f":"Lane!AU64","v":""},{"$f":"Lane!AX64","v":""},{"$f":"Lane!AY64","v":""},{"$f":"Lane!BB64","v":""},{"$f":"Lane!BC64","v":""},{"$f":"Lane!BF64","v":""},{"$f":"Lane!BG64","v":""},null,{"$error":"#VALUE!"},{"$error":"#VALUE!"},{"$error":"#VALUE!"},{"$error":"#VALUE!"},{"$error":"#VALUE!"},{"$error":"#VALUE!"},{"$error":"#VALUE!"},{"$error":"#VALUE!"},{"$error":"#VALUE!"},{"$error":"#VALUE!"}]
[null,null,null,null,null,null,null,null,null,null,null,null,null,null,null,null,null,null,null,null,null,null,null,null,null,null,null,null,null,null,null,null,null,null,null,null,null,null,null,null,null,null,null,null,null,null,null,null,null,null,null,"","","","","","","","","","","","","","","","","","","","",null,null,{"$f":"Lane!V65","v":""},{"$f":"Lane!W65","v":""},{"$f":"Lane!Z65","v":""},{"$f":"Lane!AA65","v":""},{"$f":"Lane!AD65","v":""},{"$f":"Lane!AE65","v":""},{"$f":"Lane!AH65","v":""},{"$f":"Lane!AI65","v":""},{"$f":"Lane!AL65","v":""},{"$f":"Lane!AM65","v":""},{"$f":"Lane!AP65","v":""},{"$f":"Lane!AQ65","v":""},{"$f":"Lane!AT65","v":""},{"$f":"Lane!AU65","v":""},{"$f":"Lane!AX65","v":""},{"$f":"Lane!AY65","v":""},{"$f":"Lane!BB65","v":""},{"$f":"Lane!BC65","v":""},{"$f":"Lane!BF65","v":""},{"$f":"Lane!BG65","v":""},null,{"$error":"#VALUE!"},{"$error":"#VALUE!"},{"$error":"#VALUE!"},{"$error":"#VALUE!"},{"$error":"#VALUE!"},{"$error":"#VALUE!"},{"$error":"#VALUE!"},{"$error":"#VALUE!"},{"$error":"#VALUE!"},{"$error":"#VALUE!"}]
[null,null,null,null,null,null,null,null,null,null,null,null,null,null,null,null,null,null,null,null,null,null,null,null,null,null,null,null,null,null,null,null,null,null,null,null,null,null,null,null,null,null,null,null,null,null,null,null,null,null,null,"","","","","","","","","","","","","","","","","","","","",null,null,{"$f":"Lane!V66","v":""},{"$f":"Lane!W66","v":""},{"$f":"Lane!Z66","v":""},{"$f":"Lane!AA66","v":""},{"$f":"Lane!AD66","v":""},{"$f":"Lane!AE66","v":""},{"$f":"Lane!AH66","v":""},{"$f":"Lane!AI66","v":""},{"$f":"Lane!AL66","v":""},{"$f":"Lane!AM66","v":""},{"$f":"Lane!AP66","v":""},{"$f":"Lane!AQ66","v":""},{"$f":"Lane!AT66","v":""},{"$f":"Lane!AU66","v":""},{"$f":"Lane!AX66","v":""},{"$f":"Lane!AY66","v":""},{"$f":"Lane!BB66","v":""},{"$f":"Lane!BC66","v":""},{"$f":"Lane!BF66","v":""},{"$f":"Lane!BG66","v":""},null,{"$error":"#VALUE!"},{"$error":"#VALUE!"},{"$error":"#VALUE!"},{"$error":"#VALUE!"},{"$error":"#VALUE!"},{"$error":"#VALUE!"},{"$error":"#VALUE!"},{"$error":"#VALUE!"},{"$error":"#VALUE!"},{"$error":"#VALUE!"}]
[null,null,null,null,null,null,null,null,null,null,null,null,null,null,null,null,null,null,null,null,null,null,null,null,null,null,null,null,null,null,null,null,null,null,null,null,null,null,null,null,null,null,null,null,null,null,null,null,null,null,null,"","","","","","","","","","","","","","","","","","","","",null,null,{"$f":"Lane!V67","v":""},{"$f":"Lane!W67","v":""},{"$f":"Lane!Z67","v":""},{"$f":"Lane!AA67","v":""},{"$f":"Lane!AD67","v":""},{"$f":"Lane!AE67","v":""},{"$f":"Lane!AH67","v":""},{"$f":"Lane!AI67","v":""},{"$f":"Lane!AL67","v":""},{"$f":"Lane!AM67","v":""},{"$f":"Lane!AP67","v":""},{"$f":"Lane!AQ67","v":""},{"$f":"Lane!AT67","v":""},{"$f":"Lane!AU67","v":""},{"$f":"Lane!AX67","v":""},{"$f":"Lane!AY67","v":""},{"$f":"Lane!BB67","v":""},{"$f":"Lane!BC67","v":""},{"$f":"Lane!BF67","v":""},{"$f":"Lane!BG67","v":""},null,{"$error":"#VALUE!"},{"$error":"#VALUE!"},{"$error":"#VALUE!"},{"$error":"#VALUE!"},{"$error":"#VALUE!"},{"$error":"#VALUE!"},{"$error":"#VALUE!"},{"$error":"#VALUE!"},{"$error":"#VALUE!"},{"$error":"#VALUE!"}]
[null,null,null,null,null,null,null,null,null,null,null,null,null,null,null,null,null,null,null,null,null,null,null,null,null,null,null,null,null,null,null,null,null,null,null,null,null,null,null,null,null,null,null,null,null,null,null,null,null,null,null,"","","","","","","","","","","","","","","","","","","","",null,null,{"$f":"Lane!V68","v":""},{"$f":"Lane!W68","v":""},{"$f":"Lane!Z68","v":""},{"$f":"Lane!AA68","v":""},{"$f":"Lane!AD68","v":""},{"$f":"Lane!AE68","v":""},{"$f":"Lane!AH68","v":""},{"$f":"Lane!AI68","v":""},{"$f":"Lane!AL68","v":""},{"$f":"Lane!AM68","v":""},{"$f":"Lane!AP68","v":""},{"$f":"Lane!AQ68","v":""},{"$f":"Lane!AT68","v":""},{"$f":"Lane!AU68","v":""},{"$f":"Lane!AX68","v":""},{"$f":"Lane!AY68","v":""},{"$f":"Lane!BB68","v":""},{"$f":"Lane!BC68","v":""},{"$f":"Lane!BF68","v":""},{"$f":"Lane!BG68","v":""},null,{"$error":"#VALUE!"},{"$error":"#VALUE!"},{"$error":"#VALUE!"},{"$error":"#VALUE!"},{"$error":"#VALUE!"},{"$error":"#VALUE!"},{"$error":"#VALUE!"},{"$error":"#VALUE!"},{"$error":"#VALUE!"},{"$error":"#VALUE!"}]
[null,null,null,null,null,null,null,null,null,null,null,null,null,null,null,null,null,null,null,null,null,null,null,null,null,null,null,null,null,null,null,null,null,null,null,null,null,null,null,null,null,null,null,null,null,null,null,null,null,null,null,"","","","","","","","","","","","","","","","","","","","",null,null,{"$f":"Lane!V69","v":""},{"$f":"Lane!W69","v":""},{"$f":"Lane!Z69","v":""},{"$f":"Lane!AA69","v":""},{"$f":"Lane!AD69","v":""},{"$f":"Lane!AE69","v":""},{"$f":"Lane!AH69","v":""},{"$f":"Lane!AI69","v":""},{"$f":"Lane!AL69","v":""},{"$f":"Lane!AM69","v":""},{"$f":"Lane!AP69","v":""},{"$f":"Lane!AQ69","v":""},{"$f":"Lane!AT69","v":""},{"$f":"Lane!AU69","v":""},{"$f":"Lane!AX69","v":""},{"$f":"Lane!AY69","v":""},{"$f":"Lane!BB69","v":""},{"$f":"Lane!BC69","v":""},{"$f":"Lane!BF69","v":""},{"$f":"Lane!BG69","v":""},null,{"$error":"#VALUE!"},{"$error":"#VALUE!"},{"$error":"#VALUE!"},{"$error":"#VALUE!"},{"$error":"#VALUE!"},{"$error":"#VALUE!"},{"$error":"#VALUE!"},{"$error":"#VALUE!"},{"$error":"#VALUE!"},{"$error":"#VALUE!"}]
[null,null,null,null,null,null,null,null,null,null,null,null,null,null,null,null,null,null,null,null,null,null,null,null,null,null,null,null,null,null,null,null,null,null,null,null,null,null,null,null,null,null,null,null,null,null,null,null,null,null,null,"","","","","","","","","","","","","","","","","","","","",null,null,{"$f":"Lane!V70","v":""},{"$f":"Lane!W70","v":""},{"$f":"Lane!Z70","v":""},{"$f":"Lane!AA70","v":""},{"$f":"Lane!AD70","v":""},{"$f":"Lane!AE70","v":""},{"$f":"Lane!AH70","v":""},{"$f":"Lane!AI70","v":""},{"$f":"Lane!AL70","v":""},{"$f":"Lane!AM70","v":""},{"$f":"Lane!AP70","v":""},{"$f":"Lane!AQ70","v":""},{"$f":"Lane!AT70","v":""},{"$f":"Lane!AU70","v":""},{"$f":"Lane!AX70","v":""},{"$f":"Lane!AY70","v":""},{"$f":"Lane!BB70","v":""},{"$f":"Lane!BC70","v":""},{"$f":"Lane!BF70","v":""},{"$f":"Lane!BG70","v":""},null,{"$error":"#VALUE!"},{"$error":"#VALUE!"},{"$error":"#VALUE!"},{"$error":"#VALUE!"},{"$error":"#VALUE!"},{"$error":"#VALUE!"},{"$error":"#VALUE!"},{"$error":"#VALUE!"},{"$error":"#VALUE!"},{"$error":"#VALUE!"}]
[null,null,null,null,null,null,null,null,null,null,null,null,null,null,null,null,null,null,null,null,null,null,null,null,null,null,null,null,null,null,null,null,null,null,null,null,null,null,null,null,null,null,null,null,null,null,null,null,null,null,null,"","","","","","","","","","","","","","","","","","","","",null,null,{"$f":"Lane!V71","v":""},{"$f":"Lane!W71","v":""},{"$f":"Lane!Z71","v":""},{"$f":"Lane!AA71","v":""},{"$f":"Lane!AD71","v":""},{"$f":"Lane!AE71","v":""},{"$f":"Lane!AH71","v":""},{"$f":"Lane!AI71","v":""},{"$f":"Lane!AL71","v":""},{"$f":"Lane!AM71","v":""},{"$f":"Lane!AP71","v":""},{"$f":"Lane!AQ71","v":""},{"$f":"Lane!AT71","v":""},{"$f":"Lane!AU71","v":""},{"$f":"Lane!AX71","v":""},{"$f":"Lane!AY71","v":""},{"$f":"Lane!BB71","v":""},{"$f":"Lane!BC71","v":""},{"$f":"Lane!BF71","v":""},{"$f":"Lane!BG71","v":""},null,{"$error":"#VALUE!"},{"$error":"#VALUE!"},{"$error":"#VALUE!"},{"$error":"#VALUE!"},{"$error":"#VALUE!"},{"$error":"#VALUE!"},{"$error":"#VALUE!"},{"$error":"#VALUE!"},{"$error":"#VALUE!"},{"$error":"#VALUE!"}]
[null,null,null,null,null,null,null,null,null,null,null,null,null,null,null,null,null,null,null,null,null,null,null,null,null,null,null,null,null,null,null,null,null,null,null,null,null,null,null,null,null,null,null,null,null,null,null,null,null,null,null,"","","","","","","","","","","","","","","","","","","","",null,null,{"$f":"Lane!V72","v":""},{"$f":"Lane!W72","v":""},{"$f":"Lane!Z72","v":""},{"$f":"Lane!AA72","v":""},{"$f":"Lane!AD72","v":""},{"$f":"Lane!AE72","v":""},{"$f":"Lane!AH72","v":""},{"$f":"Lane!AI72","v":""},{"$f":"Lane!AL72","v":""},{"$f":"Lane!AM72","v":""},{"$f":"Lane!AP72","v":""},{"$f":"Lane!AQ72","v":""},{"$f":"Lane!AT72","v":""},{"$f":"Lane!AU72","v":""},{"$f":"Lane!AX72","v":""},{"$f":"Lane!AY72","v":""},{"$f":"Lane!BB72","v":""},{"$f":"Lane!BC72","v":""},{"$f":"Lane!BF72","v":""},{"$f":"Lane!BG72","v":""},null,{"$error":"#VALUE!"},{"$error":"#VALUE!"},{"$error":"#VALUE!"},{"$error":"#VALUE!"},{"$error":"#VALUE!"},{"$error":"#VALUE!"},{"$error":"#VALUE!"},{"$error":"#VALUE!"},{"$error":"#VALUE!"},{"$error":"#VALUE!"}]
[null,null,null,null,null,null,null,null,null,null,null,null,null,null,null,null,null,null,null,null,null,null,null,null,null,null,null,null,null,null,null,null,null,null,null,null,null,null,null,null,null,null,null,null,null,null,null,null,null,null,null,"","","","","","","","","","","","","","","","","","","","",null,null,{"$f":"Lane!V73","v":""},{"$f":"Lane!W73","v":""},{"$f":"Lane!Z73","v":""},{"$f":"Lane!AA73","v":""},{"$f":"Lane!AD73","v":""},{"$f":"Lane!AE73","v":""},{"$f":"Lane!AH73","v":""},{"$f":"Lane!AI73","v":""},{"$f":"Lane!AL73","v":""},{"$f":"Lane!AM73","v":""},{"$f":"Lane!AP73","v":""},{"$f":"Lane!AQ73","v":""},{"$f":"Lane!AT73","v":""},{"$f":"Lane!AU73","v":""},{"$f":"Lane!AX73","v":""},{"$f":"Lane!AY73","v":""},{"$f":"Lane!BB73","v":""},{"$f":"Lane!BC73","v":""},{"$f":"Lane!BF73","v":""},{"$f":"Lane!BG73","v":""},null,{"$error":"#VALUE!"},{"$error":"#VALUE!"},{"$error":"#VALUE!"},{"$error":"#VALUE!"},{"$error":"#VALUE!"},{"$error":"#VALUE!"},{"$error":"#VALUE!"},{"$error":"#VALUE!"},{"$error":"#VALUE!"},{"$error":"#VALUE!"}]
[null,null,null,null,null,null,null,null,null,null,null,null,null,null,null,null,null,null,null,null,null,null,null,null,null,null,null,null,null,null,null,null,null,null,null,null,null,null,null,null,null,null,null,null,null,null,null,null,null,null,null,"","","","","","","","","","","","","","","","","","","","",null,null,{"$f":"Lane!V74","v":""},{"$f":"Lane!W74","v":""},{"$f":"Lane!Z74","v":""},{"$f":"Lane!AA74","v":""},{"$f":"Lane!AD74","v":""},{"$f":"Lane!AE74","v":""},{"$f":"Lane!AH74","v":""},{"$f":"Lane!AI74","v":""},{"$f":"Lane!AL74","v":""},{"$f":"Lane!AM74","v":""},{"$f":"Lane!AP74","v":""},{"$f":"Lane!AQ74","v":""},{"$f":"Lane!AT74","v":""},{"$f":"Lane!AU74","v":""},{"$f":"Lane!AX74","v":""},{"$f":"Lane!AY74","v":""},{"$f":"Lane!BB74","v":""},{"$f":"Lane!BC74","v":""},{"$f":"Lane!BF74","v":""},{"$f":"Lane!BG74","v":""},null,{"$error":"#VALUE!"},{"$error":"#VALUE!"},{"$error":"#VALUE!"},{"$error":"#VALUE!"},{"$error":"#VALUE!"},{"$error":"#VALUE!"},{"$error":"#VALUE!"},{"$error":"#VALUE!"},{"$error":"#VALUE!"},{"$error":"#VALUE!"}]
[null,null,null,null,null,null,null,null,null,null,null,null,null,null,null,null,null,null,null,null,null,null,null,null,null,null,null,null,null,null,null,null,null,null,null,null,null,null,null,null,null,null,null,null,null,null,null,null,null,null,null,{"$f":"IF(BV70=\"\",\"\",ROUNDUP($AW$11+((BV70-$AW$13)/$AW$9),0))","v":""},{"$f":"IF(BW70=\"\",\"\",IF(ROUNDUP($AW$11-1+((BW70-$AW$13)/$AW$9),0)<AZ70,AZ70,ROUNDUP($AW$11-1+((BW70-$AW$13)/$AW$9),0)))","v":""},{"$f":"IF(BX70=\"\",\"\",ROUNDUP($AW$11+((BX70-$AW$13)/$AW$9),0))","v":""},{"$f":"IF(BY70=\"\",\"\",IF(ROUNDUP($AW$11-1+((BY70-$AW$13)/$AW$9),0)<BB70,BB70,ROUNDUP($AW$11-1+((BY70-$AW$13)/$AW$9),0)))","v":""},{"$f":"IF(BZ70=\"\",\"\",ROUNDUP($AW$11+((BZ70-$AW$13)/$AW$9),0))","v":""},{"$f":"IF(CA70=\"\",\"\",IF(ROUNDUP($AW$11-1+((CA70-$AW$13)/$AW$9),0)<BD70,BD70,ROUNDUP($AW$11-1+((CA70-$AW$13)/$AW$9),0)))","v":""},{"$f":"IF(CB70=\"\",\"\",ROUNDUP($AW$11+((CB70-$AW$13)/$AW$9),0))","v":""},{"$f":"IF(CC70=\"\",\"\",IF(ROUNDUP($AW$11-1+((CC70-$AW$13)/$AW$9),0)<BF70,BF70,ROUNDUP($AW$11-1+((CC70-$AW$13)/$AW$9),0)))","v":""},{"$f":"IF(CD70=\"\",\"\",ROUNDUP($AW$11+((CD70-$AW$13)/$AW$9),0))","v":""},{"$f":"IF(CE70=\"\",\"\",IF(ROUNDUP($AW$11-1+((CE70-$AW$13)/$AW$9),0)<BH70,BH70,ROUNDUP($AW$11-1+((CE70-$AW$13)/$AW$9),0)))","v":""},{"$f":"IF(CF70=\"\",\"\",ROUNDUP($AW$11+((CF70-$AW$13)/$AW$9),0))","v":""},{"$f":"IF(CG70=\"\",\"\",IF(ROUNDUP($AW$11-1+((CG70-$AW$13)/$AW$9),0)<BJ70,BJ70,ROUNDUP($AW$11-1+((CG70-$AW$13)/$AW$9),0)))","v":""},{"$f":"IF(CH70=\"\",\"\",ROUNDUP($AW$11+((CH70-$AW$13)/$AW$9),0))","v":""},{"$f":"IF(CI70=\"\",\"\",IF(ROUNDUP($AW$11-1+((CI70-$AW$13)/$AW$9),0)<BL70,BL70,ROUNDUP($AW$11-1+((CI70-$AW$13)/$AW$9),0)))","v":""},{"$f":"IF(CJ70=\"\",\"\",ROUNDUP($AW$11+((CJ70-$AW$13)/$AW$9),0))","v":""},{"$f":"IF(CK70=\"\",\"\",IF(ROUNDUP($AW$11-1+((CK70-$AW$13)/$AW$9),0)<BN70,BN70,ROUNDUP($AW$11-1+((CK70-$AW$13)/$AW$9),0)))","v":""},{"$f":"IF(CL70=\"\",\"\",ROUNDUP($AW$11+((CL70-$AW$13)/$AW$9),0))","v":""},{"$f":"IF(CM70=\"\",\"\",IF(ROUNDUP($AW$11-1+((CM70-$AW$13)/$AW$9),0)<BP70,BP70,ROUNDUP($AW$11-1+((CM70-$AW$13)/$AW$9),0)))","v":""},{"$f":"IF(CN70=\"\",\"\",ROUNDUP($AW$11+((CN70-$AW$13)/$AW$9),0))","v":""},{"$f":"IF(CO70=\"\",\"\",IF(ROUNDUP($AW$11-1+((CO70-$AW$13)/$AW$9),0)<BR70,BR70,ROUNDUP($AW$11-1+((CO70-$AW$13)/$AW$9),0)))","v":""},null,null,{"$f":"Lane!V75","v":""},{"$f":"Lane!W75","v":""},{"$f":"Lane!Z75","v":""},{"$f":"Lane!AA75","v":""},{"$f":"Lane!AD75","v":""},{"$f":"Lane!AE75","v":""},{"$f":"Lane!AH75","v":""},{"$f":"Lane!AI75","v":""},{"$f":"Lane!AL75","v":""},{"$f":"Lane!AM75","v":""},{"$f":"Lane!AP75","v":""},{"$f":"Lane!AQ75","v":""},{"$f":"Lane!AT75","v":""},{"$f":"Lane!AU75","v":""},{"$f":"Lane!AX75","v":""},{"$f":"Lane!AY75","v":""},{"$f":"Lane!BB75","v":""},{"$f":"Lane!BC75","v":""},{"$f":"Lane!BF75","v":""},{"$f":"Lane!BG75","v":""},null,{"$f":"ABS(BW70-BV70)","v":{"$error":"#VALUE!"}},{"$f":"ABS(BY70-BX70)","v":{"$error":"#VALUE!"}},{"$f":"ABS(BZ70-CA70)","v":{"$error":"#VALUE!"}},{"$f":"ABS(CB70-CC70)","v":{"$error":"#VALUE!"}},{"$f":"ABS(CD70-CE70)","v":{"$error":"#VALUE!"}},{"$f":"ABS(CF70-CG70)","v":{"$error":"#VALUE!"}},{"$f":"ABS(CH70-CI70)","v":{"$error":"#VALUE!"}},{"$f":"ABS(CJ70-CK70)","v":{"$error":"#VALUE!"}},{"$f":"ABS(CL70-CM70)","v":{"$error":"#VALUE!"}},{"$f":"ABS(CN70-CO70)","v":{"$error":"#VALUE!"}}]
[null,null,null,null,null,null,null,null,null,null,null,null,null,null,null,null,null,null,null,null,null,null,null,null,null,null,null,null,null,null,null,null,null,null,null,null,null,null,null,null,null,null,null,null,null,null,null,null,null,null,null,"","","","","","","","","","","","","","","","","","","","",null,null,{"$f":"Lane!V76","v":""},{"$f":"Lane!W76","v":""},{"$f":"Lane!Z76","v":""},{"$f":"Lane!AA76","v":""},{"$f":"Lane!AD76","v":""},{"$f":"Lane!AE76","v":""},{"$f":"Lane!AH76","v":""},{"$f":"Lane!AI76","v":""},{"$f":"Lane!AL76","v":""},{"$f":"Lane!AM76","v":""},{"$f":"Lane!AP76","v":""},{"$f":"Lane!AQ76","v":""},{"$f":"Lane!AT76","v":""},{"$f":"Lane!AU76","v":""},{"$f":"Lane!AX76","v":""},{"$f":"Lane!AY76","v":""},{"$f":"Lane!BB76","v":""},{"$f":"Lane!BC76","v":""},{"$f":"Lane!BF76","v":""},{"$f":"Lane!BG76","v":""},null,{"$error":"#VALUE!"},{"$error":"#VALUE!"},{"$error":"#VALUE!"},{"$error":"#VALUE!"},{"$error":"#VALUE!"},{"$error":"#VALUE!"},{"$error":"#VALUE!"},{"$error":"#VALUE!"},{"$error":"#VALUE!"},{"$error":"#VALUE!"}]
[null,null,null,null,null,null,null,null,null,null,null,null,null,null,null,null,null,null,null,null,null,null,null,null,null,null,null,null,null,null,null,null,null,null,null,null,null,null,null,null,null,null,null,null,null,null,null,null,null,null,null,"","","","","","","","","","","","","","","","","","","","",null,null,{"$f":"Lane!V77","v":""},{"$f":"Lane!W77","v":""},{"$f":"Lane!Z77","v":""},{"$f":"Lane!AA77","v":""},{"$f":"Lane!AD77","v":""},{"$f":"Lane!AE77","v":""},{"$f":"Lane!AH77","v":""},{"$f":"Lane!AI77","v":""},{"$f":"Lane!AL77","v":""},{"$f":"Lane!AM77","v":""},{"$f":"Lane!AP77","v":""},{"$f":"Lane!AQ77","v":""},{"$f":"Lane!AT77","v":""},{"$f":"Lane!AU77","v":""},{"$f":"Lane!AX77","v":""},{"$f":"Lane!AY77","v":""},{"$f":"Lane!BB77","v":""},{"$f":"Lane!BC77","v":""},{"$f":"Lane!BF77","v":""},{"$f":"Lane!BG77","v":""},null,{"$error":"#VALUE!"},{"$error":"#VALUE!"},{"$error":"#VALUE!"},{"$error":"#VALUE!"},{"$error":"#VALUE!"},{"$error":"#VALUE!"},{"$error":"#VALUE!"},{"$error":"#VALUE!"},{"$error":"#VALUE!"},{"$error":"#VALUE!"}]
[null,null,null,null,null,null,null,null,null,null,null,null,null,null,null,null,null,null,null,null,null,null,null,null,null,null,null,null,null,null,null,null,null,null,null,null,null,null,null,null,null,null,null,null,null,null,null,null,null,null,null,"","","","","","","","","","","","","","","","","","","","",null,null,{"$f":"Lane!V78","v":""},{"$f":"Lane!W78","v":""},{"$f":"Lane!Z78","v":""},{"$f":"Lane!AA78","v":""},{"$f":"Lane!AD78","v":""},{"$f":"Lane!AE78","v":""},{"$f":"Lane!AH78","v":""},{"$f":"Lane!AI78","v":""},{"$f":"Lane!AL78","v":""},{"$f":"Lane!AM78","v":""},{"$f":"Lane!AP78","v":""},{"$f":"Lane!AQ78","v":""},{"$f":"Lane!AT78","v":""},{"$f":"Lane!AU78","v":""},{"$f":"Lane!AX78","v":""},{"$f":"Lane!AY78","v":""},{"$f":"Lane!BB78","v":""},{"$f":"Lane!BC78","v":""},{"$f":"Lane!BF78","v":""},{"$f":"Lane!BG78","v":""},null,{"$error":"#VALUE!"},{"$error":"#VALUE!"},{"$error":"#VALUE!"},{"$error":"#VALUE!"},{"$error":"#VALUE!"},{"$error":"#VALUE!"},{"$error":"#VALUE!"},{"$error":"#VALUE!"},{"$error":"#VALUE!"},{"$error":"#VALUE!"}]
[null,null,null,null,null,null,null,null,null,null,null,null,null,null,null,null,null,null,null,null,null,null,null,null,null,null,null,null,null,null,null,null,null,null,null,null,null,null,null,null,null,null,null,null,null,null,null,null,null,null,null,"","","","","","","","","","","","","","","","","","","","",null,null,{"$f":"Lane!V79","v":""},{"$f":"Lane!W79","v":""},{"$f":"Lane!Z79","v":""},{"$f":"Lane!AA79","v":""},{"$f":"Lane!AD79","v":""},{"$f":"Lane!AE79","v":""},{"$f":"Lane!AH79","v":""},{"$f":"Lane!AI79","v":""},{"$f":"Lane!AL79","v":""},{"$f":"Lane!AM79","v":""},{"$f":"Lane!AP79","v":""},{"$f":"Lane!AQ79","v":""},{"$f":"Lane!AT79","v":""},{"$f":"Lane!AU79","v":""},{"$f":"Lane!AX79","v":""},{"$f":"Lane!AY79","v":""},{"$f":"Lane!BB79","v":""},{"$f":"Lane!BC79","v":""},{"$f":"Lane!BF79","v":""},{"$f":"Lane!BG79","v":""},null,{"$error":"#VALUE!"},{"$error":"#VALUE!"},{"$error":"#VALUE!"},{"$error":"#VALUE!"},{"$error":"#VALUE!"},{"$error":"#VALUE!"},{"$error":"#VALUE!"},{"$error":"#VALUE!"},{"$error":"#VALUE!"},{"$error":"#VALUE!"}]
[null,null,null,null,null,null,null,null,null,null,null,null,null,null,null,null,null,null,null,null,null,null,null,null,null,null,null,null,null,null,null,null,null,null,null,null,null,null,null,null,null,null,null,null,null,null,null,null,null,null,null,"","","","","","","","","","","","","","","","","","","","",null,null,{"$f":"Lane!V80","v":""},{"$f":"Lane!W80","v":""},{"$f":"Lane!Z80","v":""},{"$f":"Lane!AA80","v":""},{"$f":"Lane!AD80","v":""},{"$f":"Lane!AE80","v":""},{"$f":"Lane!AH80","v":""},{"$f":"Lane!AI80","v":""},{"$f":"Lane!AL80","v":""},{"$f":"Lane!AM80","v":""},{"$f":"Lane!AP80","v":""},{"$f":"Lane!AQ80","v":""},{"$f":"Lane!AT80","v":""},{"$f":"Lane!AU80","v":""},{"$f":"Lane!AX80","v":""},{"$f":"Lane!AY80","v":""},{"$f":"Lane!BB80","v":""},{"$f":"Lane!BC80","v":""},{"$f":"Lane!BF80","v":""},{"$f":"Lane!BG80","v":""},null,{"$error":"#VALUE!"},{"$error":"#VALUE!"},{"$error":"#VALUE!"},{"$error":"#VALUE!"},{"$error":"#VALUE!"},{"$error":"#VALUE!"},{"$error":"#VALUE!"},{"$error":"#VALUE!"},{"$error":"#VALUE!"},{"$error":"#VALUE!"}]
[null,null,null,null,null,null,null,null,null,null,null,null,null,null,null,null,null,null,null,null,null,null,null,null,null,null,null,null,null,null,null,null,null,null,null,null,null,null,null,null,null,null,null,null,null,null,null,null,null,null,null,"","","","","","","","","","","","","","","","","","","","",null,null,{"$f":"Lane!V81","v":""},{"$f":"Lane!W81","v":""},{"$f":"Lane!Z81","v":""},{"$f":"Lane!AA81","v":""},{"$f":"Lane!AD81","v":""},{"$f":"Lane!AE81","v":""},{"$f":"Lane!AH81","v":""},{"$f":"Lane!AI81","v":""},{"$f":"Lane!AL81","v":""},{"$f":"Lane!AM81","v":""},{"$f":"Lane!AP81","v":""},{"$f":"Lane!AQ81","v":""},{"$f":"Lane!AT81","v":""},{"$f":"Lane!AU81","v":""},{"$f":"Lane!AX81","v":""},{"$f":"Lane!AY81","v":""},{"$f":"Lane!BB81","v":""},{"$f":"Lane!BC81","v":""},{"$f":"Lane!BF81","v":""},{"$f":"Lane!BG81","v":""},null,{"$error":"#VALUE!"},{"$error":"#VALUE!"},{"$error":"#VALUE!"},{"$error":"#VALUE!"},{"$error":"#VALUE!"},{"$error":"#VALUE!"},{"$error":"#VALUE!"},{"$error":"#VALUE!"},{"$error":"#VALUE!"},{"$error":"#VALUE!"}]
[null,null,null,null,null,null,null,null,null,null,null,null,null,null,null,null,null,null,null,null,null,null,null,null,null,null,null,null,null,null,null,null,null,null,null,null,null,null,null,null,null,null,null,null,null,null,null,null,null,null,null,"","","","","","","","","","","","","","","","","","","","",null,null,{"$f":"Lane!V82","v":""},{"$f":"Lane!W82","v":""},{"$f":"Lane!Z82","v":""},{"$f":"Lane!AA82","v":""},{"$f":"Lane!AD82","v":""},{"$f":"Lane!AE82","v":""},{"$f":"Lane!AH82","v":""},{"$f":"Lane!AI82","v":""},{"$f":"Lane!AL82","v":""},{"$f":"Lane!AM82","v":""},{"$f":"Lane!AP82","v":""},{"$f":"Lane!AQ82","v":""},{"$f":"Lane!AT82","v":""},{"$f":"Lane!AU82","v":""},{"$f":"Lane!AX82","v":""},{"$f":"Lane!AY82","v":""},{"$f":"Lane!BB82","v":""},{"$f":"Lane!BC82","v":""},{"$f":"Lane!BF82","v":""},{"$f":"Lane!BG82","v":""},null,{"$error":"#VALUE!"},{"$error":"#VALUE!"},{"$error":"#VALUE!"},{"$error":"#VALUE!"},{"$error":"#VALUE!"},{"$error":"#VALUE!"},{"$error":"#VALUE!"},{"$error":"#VALUE!"},{"$error":"#VALUE!"},{"$error":"#VALUE!"}]
[null,null,null,null,null,null,null,null,null,null,null,null,null,null,null,null,null,null,null,null,null,null,null,null,null,null,null,null,null,null,null,null,null,null,null,null,null,null,null,null,null,null,null,null,null,null,null,null,null,null,null,"","","","","","","","","","","","","","","","","","","","",null,null,{"$f":"Lane!V83","v":""},{"$f":"Lane!W83","v":""},{"$f":"Lane!Z83","v":""},{"$f":"Lane!AA83","v":""},{"$f":"Lane!AD83","v":""},{"$f":"Lane!AE83","v":""},{"$f":"Lane!AH83","v":""},{"$f":"Lane!AI83","v":""},{"$f":"Lane!AL83","v":""},{"$f":"Lane!AM83","v":""},{"$f":"Lane!AP83","v":""},{"$f":"Lane!AQ83","v":""},{"$f":"Lane!AT83","v":""},{"$f":"Lane!AU83","v":""},{"$f":"Lane!AX83","v":""},{"$f":"Lane!AY83","v":""},{"$f":"Lane!BB83","v":""},{"$f":"Lane!BC83","v":""},{"$f":"Lane!BF83","v":""},{"$f":"Lane!BG83","v":""},null,{"$error":"#VALUE!"},{"$error":"#VALUE!"},{"$error":"#VALUE!"},{"$error":"#VALUE!"},{"$error":"#VALUE!"},{"$error":"#VALUE!"},{"$error":"#VALUE!"},{"$error":"#VALUE!"},{"$error":"#VALUE!"},{"$error":"#VALUE!"}]
[null,null,null,null,null,null,null,null,null,null,null,null,null,null,null,null,null,null,null,null,null,null,null,null,null,null,null,null,null,null,null,null,null,null,null,null,null,null,null,null,null,null,null,null,null,null,null,null,null,null,null,"","","","","","","","","","","","","","","","","","","","",null,null,{"$f":"Lane!V84","v":""},{"$f":"Lane!W84","v":""},{"$f":"Lane!Z84","v":""},{"$f":"Lane!AA84","v":""},{"$f":"Lane!AD84","v":""},{"$f":"Lane!AE84","v":""},{"$f":"Lane!AH84","v":""},{"$f":"Lane!AI84","v":""},{"$f":"Lane!AL84","v":""},{"$f":"Lane!AM84","v":""},{"$f":"Lane!AP84","v":""},{"$f":"Lane!AQ84","v":""},{"$f":"Lane!AT84","v":""},{"$f":"Lane!AU84","v":""},{"$f":"Lane!AX84","v":""},{"$f":"Lane!AY84","v":""},{"$f":"Lane!BB84","v":""},{"$f":"Lane!BC84","v":""},{"$f":"Lane!BF84","v":""},{"$f":"Lane!BG84","v":""},null,{"$error":"#VALUE!"},{"$error":"#VALUE!"},{"$error":"#VALUE!"},{"$error":"#VALUE!"},{"$error":"#VALUE!"},{"$error":"#VALUE!"},{"$error":"#VALUE!"},{"$error":"#VALUE!"},{"$error":"#VALUE!"},{"$error":"#VALUE!"}]
[null,null,null,null,null,null,null,null,null,null,null,null,null,null,null,null,null,null,null,null,null,null,null,null,null,null,null,null,null,null,null,null,null,null,null,null,null,null,null,null,null,null,null,null,null,null,null,null,null,null,null,"","","","","","","","","","","","","","","","","","","","",null,null,{"$f":"Lane!V85","v":""},{"$f":"Lane!W85","v":""},{"$f":"Lane!Z85","v":""},{"$f":"Lane!AA85","v":""},{"$f":"Lane!AD85","v":""},{"$f":"Lane!AE85","v":""},{"$f":"Lane!AH85","v":""},{"$f":"Lane!AI85","v":""},{"$f":"Lane!AL85","v":""},{"$f":"Lane!AM85","v":""},{"$f":"Lane!AP85","v":""},{"$f":"Lane!AQ85","v":""},{"$f":"Lane!AT85","v":""},{"$f":"Lane!AU85","v":""},{"$f":"Lane!AX85","v":""},{"$f":"Lane!AY85","v":""},{"$f":"Lane!BB85","v":""},{"$f":"Lane!BC85","v":""},{"$f":"Lane!BF85","v":""},{"$f":"Lane!BG85","v":""},null,{"$error":"#VALUE!"},{"$error":"#VALUE!"},{"$error":"#VALUE!"},{"$error":"#VALUE!"},{"$error":"#VALUE!"},{"$error":"#VALUE!"},{"$error":"#VALUE!"},{"$error":"#VALUE!"},{"$error":"#VALUE!"},{"$error":"#VALUE!"}]
[null,null,null,null,null,null,null,null,null,null,null,null,null,null,null,null,null,null,null,null,null,null,null,null,null,null,null,null,null,null,null,null,null,null,null,null,null,null,null,null,null,null,null,null,null,null,null,null,null,null,null,"","","","","","","","","","","","","","","","","","","","",null,null,{"$f":"Lane!V86","v":""},{"$f":"Lane!W86","v":""},{"$f":"Lane!Z86","v":""},{"$f":"Lane!AA86","v":""},{"$f":"Lane!AD86","v":""},{"$f":"Lane!AE86","v":""},{"$f":"Lane!AH86","v":""},{"$f":"Lane!AI86","v":""},{"$f":"Lane!AL86","v":""},{"$f":"Lane!AM86","v":""},{"$f":"Lane!AP86","v":""},{"$f":"Lane!AQ86","v":""},{"$f":"Lane!AT86","v":""},{"$f":"Lane!AU86","v":""},{"$f":"Lane!AX86","v":""},{"$f":"Lane!AY86","v":""},{"$f":"Lane!BB86","v":""},{"$f":"Lane!BC86","v":""},{"$f":"Lane!BF86","v":""},{"$f":"Lane!BG86","v":""},null,{"$error":"#VALUE!"},{"$error":"#VALUE!"},{"$error":"#VALUE!"},{"$error":"#VALUE!"},{"$error":"#VALUE!"},{"$error":"#VALUE!"},{"$error":"#VALUE!"},{"$error":"#VALUE!"},{"$error":"#VALUE!"},{"$error":"#VALUE!"}]
[null,null,null,null,null,null,null,null,null,null,null,null,null,null,null,null,null,null,null,null,null,null,null,null,null,null,null,null,null,null,null,null,null,null,null,null,null,null,null,null,null,null,null,null,null,null,null,null,null,null,null,"","","","","","","","","","","","","","","","","","","","",null,null,{"$f":"Lane!V87","v":""},{"$f":"Lane!W87","v":""},{"$f":"Lane!Z87","v":""},{"$f":"Lane!AA87","v":""},{"$f":"Lane!AD87","v":""},{"$f":"Lane!AE87","v":""},{"$f":"Lane!AH87","v":""},{"$f":"Lane!AI87","v":""},{"$f":"Lane!AL87","v":""},{"$f":"Lane!AM87","v":""},{"$f":"Lane!AP87","v":""},{"$f":"Lane!AQ87","v":""},{"$f":"Lane!AT87","v":""},{"$f":"Lane!AU87","v":""},{"$f":"Lane!AX87","v":""},{"$f":"Lane!AY87","v":""},{"$f":"Lane!BB87","v":""},{"$f":"Lane!BC87","v":""},{"$f":"Lane!BF87","v":""},{"$f":"Lane!BG87","v":""},null,{"$error":"#VALUE!"},{"$error":"#VALUE!"},{"$error":"#VALUE!"},{"$error":"#VALUE!"},{"$error":"#VALUE!"},{"$error":"#VALUE!"},{"$error":"#VALUE!"},{"$error":"#VALUE!"},{"$error":"#VALUE!"},{"$error":"#VALUE!"}]
[null,null,null,null,null,null,null,null,null,null,null,null,null,null,null,null,null,null,null,null,null,null,null,null,null,null,null,null,null,null,null,null,null,null,null,null,null,null,null,null,null,null,null,null,null,null,null,null,null,null,null,"","","","","","","","","","","","","","","","","","","","",null,null,{"$f":"Lane!V88","v":""},{"$f":"Lane!W88","v":""},{"$f":"Lane!Z88","v":""},{"$f":"Lane!AA88","v":""},{"$f":"Lane!AD88","v":""},{"$f":"Lane!AE88","v":""},{"$f":"Lane!AH88","v":""},{"$f":"Lane!AI88","v":""},{"$f":"Lane!AL88","v":""},{"$f":"Lane!AM88","v":""},{"$f":"Lane!AP88","v":""},{"$f":"Lane!AQ88","v":""},{"$f":"Lane!AT88","v":""},{"$f":"Lane!AU88","v":""},{"$f":"Lane!AX88","v":""},{"$f":"Lane!AY88","v":""},{"$f":"Lane!BB88","v":""},{"$f":"Lane!BC88","v":""},{"$f":"Lane!BF88","v":""},{"$f":"Lane!BG88","v":""},null,{"$error":"#VALUE!"},{"$error":"#VALUE!"},{"$error":"#VALUE!"},{"$error":"#VALUE!"},{"$error":"#VALUE!"},{"$error":"#VALUE!"},{"$error":"#VALUE!"},{"$error":"#VALUE!"},{"$error":"#VALUE!"},{"$error":"#VALUE!"}]
[null,null,null,null,null,null,null,null,null,null,null,null,null,null,null,null,null,null,null,null,null,null,null,null,null,null,null,null,null,null,null,null,null,null,null,null,null,null,null,null,null,null,null,null,null,null,null,null,null,null,null,"","","","","","","","","","","","","","","","","","","","",null,null,{"$f":"Lane!V89","v":""},{"$f":"Lane!W89","v":""},{"$f":"Lane!Z89","v":""},{"$f":"Lane!AA89","v":""},{"$f":"Lane!AD89","v":""},{"$f":"Lane!AE89","v":""},{"$f":"Lane!AH89","v":""},{"$f":"Lane!AI89","v":""},{"$f":"Lane!AL89","v":""},{"$f":"Lane!AM89","v":""},{"$f":"Lane!AP89","v":""},{"$f":"Lane!AQ89","v":""},{"$f":"Lane!AT89","v":""},{"$f":"Lane!AU89","v":""},{"$f":"Lane!AX89","v":""},{"$f":"Lane!AY89","v":""},{"$f":"Lane!BB89","v":""},{"$f":"Lane!BC89","v":""},{"$f":"Lane!BF89","v":""},{"$f":"Lane!BG89","v":""},null,{"$error":"#VALUE!"},{"$error":"#VALUE!"},{"$error":"#VALUE!"},{"$error":"#VALUE!"},{"$error":"#VALUE!"},{"$error":"#VALUE!"},{"$error":"#VALUE!"},{"$error":"#VALUE!"},{"$error":"#VALUE!"},{"$error":"#VALUE!"}]
[null,null,null,null,null,null,null,null,null,null,null,null,null,null,null,null,null,null,null,null,null,null,null,null,null,null,null,null,null,null,null,null,null,null,null,null,null,null,null,null,null,null,null,null,null,null,null,null,null,null,null,"","","","","","","","","","","","","","","","","","","","",null,null,{"$f":"Lane!V90","v":""},{"$f":"Lane!W90","v":""},{"$f":"Lane!Z90","v":""},{"$f":"Lane!AA90","v":""},{"$f":"Lane!AD90","v":""},{"$f":"Lane!AE90","v":""},{"$f":"Lane!AH90","v":""},{"$f":"Lane!AI90","v":""},{"$f":"Lane!AL90","v":""},{"$f":"Lane!AM90","v":""},{"$f":"Lane!AP90","v":""},{"$f":"Lane!AQ90","v":""},{"$f":"Lane!AT90","v":""},{"$f":"Lane!AU90","v":""},{"$f":"Lane!AX90","v":""},{"$f":"Lane!AY90","v":""},{"$f":"Lane!BB90","v":""},{"$f":"Lane!BC90","v":""},{"$f":"Lane!BF90","v":""},{"$f":"Lane!BG90","v":""},null,{"$error":"#VALUE!"},{"$error":"#VALUE!"},{"$error":"#VALUE!"},{"$error":"#VALUE!"},{"$error":"#VALUE!"},{"$error":"#VALUE!"},{"$error":"#VALUE!"},{"$error":"#VALUE!"},{"$error":"#VALUE!"},{"$error":"#VALUE!"}]
[null,null,null,null,null,null,null,null,null,null,null,null,null,null,null,null,null,null,null,null,null,null,null,null,null,null,null,null,null,null,null,null,null,null,null,null,null,null,null,null,null,null,null,null,null,null,null,null,null,null,null,{"$f":"COUNT(AZ5:AZ85)","v":2},null,{"$f":"COUNT(BB5:BB85)","v":1},null,2,null,1,null,1,null,2,null,1,null,2,null,1,null,1]
[null,null,null,null,null,null,null,null,null,null,null,null,null,null,null,null,null,null,null,null,null,null,null,null,null,null,null,null,null,null,null,null,null,null,null,null,null,null,null,null,null,null,null,null,null,null,null,null,null,null,null,null,null,null,null,null,null,null,null,null,null,null,null,null,null,null,null,null,null,null,null,null,null,1,null,0,null,1,null,0,null,0,null,1,null,0,null,1,null,0,null,0]
[]
[]
[]
[]
[]
[]
[]
[]
[]
[]
[]
[]
[]
[]
[]
[]
[]
[]
[]
[]
[]
[]
[]
[]
[]
[]
[]
[]
[]
[]
[]
[]
[]
[]
[]
[]
[]
[]
[]
[]
[]
[]
[]
[]
[]
[]
[]
[]
[]
[]
[]
[]
[]
[]
[]
[]
[]
[]
[]
[]
[]
[]
[]
[]
[]
[]
[]
[]
[]
[]
[]
[]
[]
[]
[]
[]
[]
[]
[]
[]
[]
[]
[]
[]
[]
[]
[]
[]
[]
[]
[]
[]
[]
[]
[]
[]
[]
[]
[]
[]
[]
[]
[]
[]
[]
[]
[]
[]
[]
[]
[]
[]
[]
[]
[]
[]
[]
[]
[]
[]
[]
[]
[]
[]
[]
[]
[]
[]
[]
[]
[]
[]
[]
[]
[]
[]
[]
[]
[]
[]
[]
[]
[]
[]
[]
[]
[]
[]
[]
[]
[]
[]
[]
[]
[]
[]
[]
[]
[]
[]
[]
[]
[]
[]
[]
[]
[]
[]
[]
[]
[]
[]
[]
[]
[]
[]
[]
[]
[]
[]
[]
[]
[]
[]
[]
[]
[]
[]
[]
[]
[]
[]
[]
[]
[]
[]
[]
[]
[]
[]
[]
[]
[]
[]
[]
[]
[]
[]
[]
[]
[]
[]
[]
[]
[]
[]
[]
[]
[]
[]
[]
[]
[]
[]
[]
[]
[]
[]
[]
[]
[]
[]
[]
[]
[]
[]
[]
[]
[]
[]
[]
[]
[]
[]
[]
[]
[]
[]
[]
[]
[]
[]
[]
[]
[]
[]
[]
[]
[]
[]
[]
[]
[]
[]
[]
[]
[]
[]
[]
[]
[]
[]
[]
[]
[]
[]
[]
[]
[]
[]
[]
[]
[]
[]
[]
[]
[]
[]
[]
[]
[]
[]
[]
[]
[]
[]
[]
[]
[]
[]
[]
[]
[]
[]
[]
[]
[]
[]
[]
[]
[]
[]
[]
[]
[]
[]
[]
[]
[]
[]
[]
[]
[]
[]
[]
[]
[]
[]
[]
[]
[]
[]
[]
[]
[]
[]
[]
[]
[]
[]
[]
[]
[]
[]
[]
[]
[]
[]
[]
[]
[]
[]
[]
[]
[]
[]
[]
[]
[]
[]
[]
[]
[]
[]
[]
[]
[]
[]
[]
[]
[]
[]
[]
[]
[]
[]
[]
[]
[]
[]
[]
[]
[]
[]
[]
[]
[]
[]
[]
[]
[]
[]
[]
[]
[]
[]
[]
[]
[]
[]
[]
[]
[]
[]
[]
[]
[]
[]
[]
[]
[]
[]
[]
[]
[]
[]
[]
[]
[]
[]
[]
[]
[]
[]
[]
[]
[]
[]
[]
[]
[]
[]
[]
[]
[]
[]
[]
[]
[]
[]
[]
[]
[]
[]
[]
[]
[]
[]
[]
[]
[]
[]
[]
[]
[]
[]
[]
[]
[]
[]
[]
[]
[]
[]
[]
[]
[]
[]
[]
[]
[]
[]
[]
[]
[]
[]
[]
[]
[]
[]
[]
[]
[]
[]
[]
[]
[]
[]
[]
[]
[]
[]
[]
[]
[]
[]
[]
[]
[]
[]
[]
[]
[]
[]
[]
[]
[]
[]
[]
[]
[]
[]
[]
[]
[]
[]
[]
[]
[]
[]
[]
[]
[]
[]
[]
[]
[]
[]
[]
[]
[]
[]
[]
[]
[]
[]
[]
[]
[]
[]
[]
[]
[]
[]
[]
[]
[]
[]
[]
[]
[]
[]
[]
[]
[]
[]
[]
[]
[]
[]
[]
[]
[]
[]
[]
[]
[]
[]
[]
[]
[]
[]
[]
[]
[]
[]
[]
[]
[]
[]
[]
[]
[]
[]
[]
[]
[]
[]
[]
[]
[]
[]
[]
[]
[]
[]
[]
[]
[]
[]
[]
[]
[]
[]
[]
[]
[]
[]
[]
[]
[]
[]
[]
[]
[]
[]
[]
[]
[]
[]
[]
[]
[]
[]
[]
[]
[]
[]
[]
[]
[]
[]
[]
[]
[]
[]
[]
[]
[]
[]
[]
[]
[]
[]
[]
[]
[]
[]
[]
[]
[]
[]
[]
[]
[]
[]
[]
[]
[]
[]
[]
[]
[]
[]
[]
[]
[]
[]
[]
[]
[]
[]
[]
[]
[]
[]
[]
[]
[]
[]
[]
[]
[]
[]
[]
[]
[]
[]
[]
[]
[]
[]
[]
[]
[]
[]
[]
[]
[]
[]
[]
[]
[]
[]
[]
[]
[]
[]
[]
[]
[]
[]
[]
[]
[]
[]
[]
[]
[]
[]
[]
[]
[]
[]
[]
[]
[]
[]
[]
[24]